Workbook
Name ANNEE: BD!$C$2:$C$33
Name ETATPROJ: BD!$D$2:$D$6
Name LISTEPERSO: BD!$A$2:$A$51

Sheet BD
A1: Liste de personnel | B1: Evènement | C1: ANNEE | D1: ETAT POJET | F1: PROJET | G1: ELEMENT | H1: LIBELLE | I1: N°CMD CLIENT | J1: DOSSIER | K1: ETAT | L1: SERVICE EDF | M1: Travaillées | N1: Prévus | O1: Sous traités
A2: Personnel 01 | B2: Greve | C2: 43466 | D2: ACTIF | F2: Projet 01 | H2: Libellé 01 | K2: ACTIF
A3: Personnel 02 | B3: Visite médical | C3: 43831 | D3: ACTIF ANNUEL | F3: Projet 02 | H3: Libellé 02 | K3: ACTIF
A4: Personnel 03 | B4: Arrêt maladie | C4: 44197 | D4: TERMINEE | F4: Projet 03 | H4: Libellé 03 | K4: ACTIF
A5: Personnel 04 | B5: RCR | C5: 44562 | D5: PREVISIONNEL | F5: Projet 04 | H5: Libellé 04 | K5: ACTIF
A6: Personnel 05 | B6: Congés payés | C6: 44927 | D6: 0 | F6: Projet 05 | H6: Libellé 05 | K6: ACTIF
A7: Personnel 06 | B7: Formation | C7: 45292 | F7: Projet 06 | H7: Libellé 06 | K7: ACTIF
A8: Personnel 07 | C8: 45658 | F8: Projet 07 | H8: Libellé 07 | K8: ACTIF
A9: Personnel 08 | C9: 46023 | F9: Projet 08 | H9: Libellé 08 | K9: ACTIF
A10: Personnel 09 | C10: 46388 | F10: Projet 09 | H10: Libellé 09 | K10: ACTIF
A11: Personnel 10 | C11: 46753 | F11: Projet 10 | H11: Libellé 10 | K11: ACTIF
A12: Personnel 11 | C12: 47119 | F12: Projet 11 | H12: Libellé 11 | K12: ACTIF
A13: Personnel 12 | C13: 47484 | F13: Projet 12 | H13: Libellé 12 | K13: ACTIF
A14: Personnel 13 | C14: 47849 | F14: Projet 13 | H14: Libellé 13 | K14: ACTIF
A15: Personnel 14 | C15: 48214 | F15: Projet 14 | H15: Libellé 14 | K15: ACTIF
A16: Personnel 15 | C16: 48580 | F16: Projet 15 | H16: Libellé 15 | K16: ACTIF
A17: Personnel 16 | C17: 48945 | F17: Projet 16 | H17: Libellé 16 | K17: ACTIF
A18: Personnel 17 | C18: 49310 | F18: Projet 17 | H18: Libellé 17 | K18: ACTIF
A19: Personnel 18 | C19: 49675 | F19: Projet 18 | H19: Libellé 18 | K19: ACTIF
... A26: Personnel 25 | C26: 52232 | F26: Projet 25 | H26: Libellé 25 | K26: ACTIF
A27: Personnel 26 | C27: 52597
A28: Personnel 27 | C28: 52963
A29: Personnel 28 | C29: 53328
A30: Personnel 29 | C30: 53693
A31: Personnel 30 | C31: 54058
A32: Personnel 31 | C32: 54424
A33: Personnel 32 | C33: 54789
A34: Personnel 33
A35: Personnel 34
A36: Personnel 35
A37: Personnel 36
A38: Personnel 37
A39: Personnel 38
A40: Personnel 39
A41: Personnel 40
A42: Personnel 41
A43: Personnel 42
A44: Personnel 43
A45: Personnel 44
... A51: Personnel 50

Sheet Feuil2
A1: 43466 | B1: TOTAL Heure projet et hebdomadaire | C1: =BD!A2 -> Personnel 01 | D1: =BD!A3 -> Personnel 02 | E1: =BD!A4 -> Personnel 03 | F1: =BD!A5 -> Personnel 04 | G1: =BD!A6 -> Personnel 05 | H1: =BD!A7 -> Personnel 06 | I1: =BD!A8 -> Personnel 07 | J1: =BD!A9 -> Personnel 08 | K1: =BD!A10 -> Personnel 09 | L1: =BD!A11 -> Personnel 10 | M1: =BD!A12 -> Personnel 11 | N1: =BD!A13 -> Personnel 12 | O1: =BD!A14 -> Personnel 13 | P1: =BD!A15 -> Personnel 14 | Q1: =BD!A16 -> Personnel 15 | R1: =BD!A17 -> Personnel 16 | S1: =BD!A18 -> Personnel 17 | T1: =BD!A19 -> Personnel 18 | U1: =BD!A20 -> Personnel 19 | V1: =BD!A21 -> Personnel 20 | W1: =BD!A22 -> Personnel 21 | X1: =BD!A23 -> Personnel 22 | Y1: =BD!A24 -> Personnel 23 | Z1: =BD!A25 -> Personnel 24 | AA1: =BD!A26 -> Personnel 25 | AB1: =BD!A27 -> Personnel 26 | AC1: =BD!A28 -> Personnel 27 | AD1: =BD!A29 -> Personnel 28 | AE1: =BD!A30 -> Personnel 29 | AF1: =BD!A31 -> Personnel 30 | AG1: =BD!A32 -> Personnel 31 | AH1: =BD!A33 -> Personnel 32 | AI1: =BD!A34 -> Personnel 33 | AJ1: =BD!A35 -> Personnel 34 | AK1: =BD!A36 -> Personnel 35 | AL1: =BD!A37 -> Personnel 36 | AM1: =BD!A38 -> Personnel 37 | AN1: =BD!A39 -> Personnel 38 | AO1: =BD!A40 -> Personnel 39 | AP1: =BD!A41 -> Personnel 40 | AQ1: =BD!A42 -> Personnel 41 | AR1: =BD!A43 -> Personnel 42 | AS1: =BD!A44 -> Personnel 43 | AT1: =BD!A45 -> Personnel 44 | AU1: =BD!A46 -> Personnel 45 | AV1: =BD!A47 -> Personnel 46 | AW1: =BD!A48 -> Personnel 47 | AX1: =BD!A49 -> Personnel 48 | AY1: =BD!A50 -> Personnel 49 | AZ1: =BD!A51 -> Personnel 50
A2: TOTAL heure Personnel
A3: ="S"&WEEKNUM(A$1) -> S1
A4: =BD!B2 -> Greve
A5: =BD!B3 -> Visite médical
A6: =BD!B4 -> Arrêt maladie
A7: =BD!B5 -> RCR
A8: =BD!B6 -> Congés payés
A9: =BD!B7 -> Formation
A10: =BD!F2 -> Projet 01
A11: =BD!F3 -> Projet 02
A12: =BD!F4 -> Projet 03
A13: =BD!F5 -> Projet 04
A14: =BD!F6 -> Projet 05
A15: =BD!F7 -> Projet 06
A16: =BD!F8 -> Projet 07
A17: =BD!F9 -> Projet 08
A18: =BD!F10 -> Projet 09
A19: =BD!F11 -> Projet 10
A20: =BD!F12 -> Projet 11
A21: =BD!F13 -> Projet 12
... A34: =BD!F26 -> Projet 25
A35: ="S"&WEEKNUM(A$1+7) -> S2
A36: =A4 -> Greve
A37: =A5 -> Visite médical
A38: =A6 -> Arrêt maladie
A39: =A7 -> RCR
A40: =A8 -> Congés payés
A41: =A9 -> Formation
A42: =A10 -> Projet 01
A43: =A11 -> Projet 02
A44: =A12 -> Projet 03
A45: =A13 -> Projet 04
A46: =A14 -> Projet 05
A47: =A15 -> Projet 06
... A66: =A34 -> Projet 25
A67: ="S"&WEEKNUM(A$1+(7*2)) -> S3
A68: =A4 -> Greve
A69: =A5 -> Visite médical
A70: =A6 -> Arrêt maladie
...

Sheet Feuil3
