Workbook

Sheet Heures
A3: BILAN 1
B5: P.U. | E5: 26 | F5: 26 | G5: 26 | H5: 26 | J5: =H5 -> 26 | L5: =IFERROR(L6/L11,"") -> 61.071908 | M5: =IFERROR(J5-L5,"") -> -35.071908 | O5: =H5 -> 26 | Q5: =IFERROR(Q6/Q11,"") | R5: =IFERROR(O5-Q5,"") | T5: 29 | V5: =IFERROR(V6/V11,"") -> 57.624575 | W5: =IFERROR(H5-V5,"") -> -31.624575 | AD5: 21.5 | AF5: 19.915831 | AG5: 1.5841686
B6: MONTANT | E6: =IFERROR(E5*E11,"") -> 2232620 | F6: =IFERROR(F5*F11,"") -> 0 | G6: =IFERROR(G5*G11,"") -> 0 | H6: =IFERROR(H5*H11,"") -> 2232620 | J6: =IFERROR(J5*J11,"") -> 11909.274 | L6: 8611139 | M6: =IFERROR(J6-L6,"") -> -8599229.7 | O6: =IFERROR(O5*O11,"") -> -3219934.6 | R6: =IFERROR(O6-Q6,"") -> -3219934.6 | T6: =IFERROR(T5*T11,"") -> 492449 | V6: =IFERROR(L6+T6,"") -> 9103588 | W6: =IFERROR(H6-V6,"") -> -6870968 | AD6: 7409008.5 | AF6: 7687252 | AG6: -278243.47
J7: xxxxxxx | K7: xxxxxxx | P7: xxxxxxx | AD7: xxxxxxx | AE7: xxxxxxx
E8: BUDG. Réf. | F8: Trsf. +/- | G8: TS | H8: BUDG. Réf. | J8: CUMUL A FIN DECEMBRE-2017 | O8: MOIS DE DECEMBRE-2017 | T8: RAD | V8: CUMUL FDC | AD8: CUMUL A FIN NOVEMBRE-2017
A9: Code | B9: Libellé | C9: . | D9: Unité | E9: Qté | F9: Qté | G9: Qté | H9: Qté | I9: . | J9: Budget Avancé | L9: Dépenses | M9: Ecart | N9: . | O9: Budget Avancé | Q9: Dépenses | R9: Ecart | S9: . | T9: Qtés | U9: . | V9: Dépenses | W9: Ecarts | AD9: Budget Avancé | AF9: Dépenses | AG9: Ecart
D10: Res. | J10: Qté | K10: % | L10: Qté | M10: Qté | O10: Qté | P10: % | Q10: Qté | R10: Qté | V10: Qté | W10: Qté | AD10: Qté | AE10: % | AF10: Qté | AG10: Qté
B11: PART PROPRE | D11: H | E11: =E12+E24+E35+E38 -> 85870 | F11: =F12+F24+F35+F38 -> 0 | G11: =G12+G24+G35+G38 -> 0 | H11: =H12+H24+H35+H38 -> 85870 | J11: =J12+J24+J35+J38 -> 458.049 | K11: =IFERROR(J11/H11,"") -> 0.0053342145 | L11: =L12+L24+L35+L38 -> 141000 | M11: =M12+M24+M35+M38 -> -140541.95 | O11: =O12+O24+O35+O38 -> -123843.64 | P11: =IFERROR(O11/H11,"") -> -1.4422224 | Q11: =Q12+Q24+Q35+Q38 -> 0 | R11: =R12+R24+R35+R38 -> -123843.64 | T11: =T12+T24+T35+T38 -> 16981 | V11: =V12+V24+V35+V38 -> 157981 | W11: =W12+W24+W35+W38 -> -72111 | AD11: 124301.69 | AE11: 0.3778904 | AF11: 150244 | AG11: -25942.312
B12: FOND - T1 | D12: H | E12: =SUM(E13:E23) -> 11487 | F12: =SUM(F13:F23) -> 0 | G12: =SUM(G13:G23) -> 0 | H12: =SUM(H13:H23) -> 11487 | J12: =SUM(J13:J23) -> 79.6175 | K12: =IFERROR(J12/H12,"") -> 0.006931096 | L12: =SUM(L13:L23) -> 8366 | M12: =SUM(M13:M23) -> -8286.3825 | O12: =SUM(O13:O23) -> -8635.4383 | P12: =IFERROR(O12/H12,"") -> -0.75175749 | Q12: =SUM(Q13:Q23) -> 0 | R12: =SUM(R13:R23) -> -8635.4383 | T12: =SUM(T13:T23) -> 431 | V12: =SUM(V13:V23) -> 8797 | W12: =SUM(W13:W23) -> 2690 | AD12: 8715.0558 | AE12: 0.98100731 | AF12: 8366 | AG12: 349.05578
B13: T1-1 | D13: H | E13: 234 | H13: =SUM(E13:G13) -> 234 | J13: =H13*K13/100 -> 2.1528 | K13: =Ciment!K13 -> 0.92 | L13: =Q13+AF13 -> 483 | M13: =J13-L13 -> -480.8472 | O13: =J13-AD13 -> -396.3232 | P13: =IFERROR(O13/H13,0) -> -1.6936889 | R13: =O13-Q13 -> -396.3232 | T13: 14 | V13: =L13+T13 -> 497 | W13: =H13-V13 -> -263 | AD13: 398.476 | AE13: 97 | AF13: 483 | AG13: -84.524
B14: T1-2 | D14: H | E14: 643 | H14: =SUM(E14:G14) -> 643 | J14: =H14*K14/100 -> 5.3369 | K14: =Ciment!K14 -> 0.83 | L14: =Q14+AF14 -> 1 | M14: =J14-L14 -> 4.3369 | O14: =J14-AD14 -> -298.8631 | P14: =IFERROR(O14/H14,0) -> -0.46479487 | R14: =O14-Q14 -> -298.8631 | T14: 0 | V14: =L14+T14 -> 1 | W14: =H14-V14 -> 642 | AD14: 304.2 | AE14: 100 | AF14: 1 | AG14: 303.2
B15: T1-3 | D15: H | E15: 453 | H15: =SUM(E15:G15) -> 453 | J15: =H15*K15/100 -> 0 | K15: =Ciment!K15 -> 0 | L15: =Q15+AF15 -> 342 | M15: =J15-L15 -> -342 | O15: =J15-AD15 -> 0 | P15: =IFERROR(O15/H15,0) -> 0 | R15: =O15-Q15 -> 0 | T15: 0 | V15: =L15+T15 -> 342 | W15: =H15-V15 -> 111 | AD15: 0 | AE15: 0 | AF15: 342 | AG15: -342
B16: T1-4 | D16: H | E16: 4535 | H16: =SUM(E16:G16) -> 4535 | J16: =H16*K16/100 -> 35.373 | K16: =Ciment!K16 -> 0.78 | L16: =Q16+AF16 -> 140 | M16: =J16-L16 -> -104.627 | O16: =J16-AD16 -> -605.098 | P16: =IFERROR(O16/H16,0) -> -0.13342845 | R16: =O16-Q16 -> -605.098 | T16: 33 | V16: =L16+T16 -> 173 | W16: =H16-V16 -> 4362 | AD16: 640.471 | AE16: 95 | AF16: 140 | AG16: 500.471
B17: T1-5 | D17: H | E17: 3343 | H17: =SUM(E17:G17) -> 3343 | J17: =H17*K17/100 -> 22.0638 | K17: =Ciment!K17 -> 0.66 | L17: =Q17+AF17 -> 1210 | M17: =J17-L17 -> -1187.9362 | O17: =J17-AD17 -> -2441.9801 | P17: =IFERROR(O17/H17,0) -> -0.73047564 | R17: =O17-Q17 -> -2441.9801 | T17: 53 | V17: =L17+T17 -> 1263 | W17: =H17-V17 -> 2080 | AD17: 2464.0439 | AE17: 99 | AF17: 1210 | AG17: 1254.0439
B18: T1-6 | D18: H | E18: 534 | H18: =SUM(E18:G18) -> 534 | J18: =H18*K18/100 -> 3.9516 | K18: =Ciment!K18 -> 0.74 | L18: =Q18+AF18 -> 1307 | M18: =J18-L18 -> -1303.0484 | O18: =J18-AD18 -> -1358.2092 | P18: =IFERROR(O18/H18,0) -> -2.5434629 | R18: =O18-Q18 -> -1358.2092 | T18: 63 | V18: =L18+T18 -> 1370 | W18: =H18-V18 -> -836 | AD18: 1362.1608 | AE18: 98 | AF18: 1307 | AG18: 55.1608
B19: T1-7 | D19: H | E19: 643 | H19: =SUM(E19:G19) -> 643 | J19: =H19*K19/100 -> 2.3791 | K19: =Ciment!K19 -> 0.37 | L19: =Q19+AF19 -> 956 | M19: =J19-L19 -> -953.6209 | O19: =J19-AD19 -> -468.4913 | P19: =IFERROR(O19/H19,0) -> -0.72860233 | R19: =O19-Q19 -> -468.4913 | V19: =L19+T19 -> 956 | W19: =H19-V19 -> -313 | AD19: 470.8704 | AE19: 98 | AF19: 956 | AG19: -485.1296
B20: T1-8 | D20: H | E20: 345 | H20: =SUM(E20:G20) -> 345 | J20: =H20*K20/100 -> 2.1735 | K20: =Ciment!K20 -> 0.63 | L20: =Q20+AF20 -> 1320 | M20: =J20-L20 -> -1317.8265 | O20: =J20-AD20 -> -2208.1082 | P20: =IFERROR(O20/H20,0) -> -6.4003137 | R20: =O20-Q20 -> -2208.1082 | T20: 214 | V20: =L20+T20 -> 1534 | W20: =H20-V20 -> -1189 | AD20: 2210.2817 | AE20: 98 | AF20: 1320 | AG20: 890.28171
B21: T1-9 | D21: H | E21: 532 | H21: =SUM(E21:G21) -> 532 | J21: =H21*K21/100 -> 3.9368 | K21: =Ciment!K21 -> 0.74 | L21: =Q21+AF21 -> 1269 | M21: =J21-L21 -> -1265.0632 | O21: =J21-AD21 -> -745.1752 | P21: =IFERROR(O21/H21,0) -> -1.4007053 | R21: =O21-Q21 -> -745.1752 | T21: 22 | V21: =L21+T21 -> 1291 | W21: =H21-V21 -> -759 | AD21: 749.112 | AE21: 98 | AF21: 1269 | AG21: -519.888
B22: T1-10 | D22: H | E22: 225 | H22: =SUM(E22:G22) -> 225 | J22: =H22*K22/100 -> 2.25 | K22: =Ciment!K22 -> 1 | L22: =Q22+AF22 -> 1338 | M22: =J22-L22 -> -1335.75 | O22: =J22-AD22 -> -113.19 | P22: =IFERROR(O22/H22,0) -> -0.50306667 | R22: =O22-Q22 -> -113.19 | T22: 32 | V22: =L22+T22 -> 1370 | W22: =H22-V22 -> -1145 | AD22: 115.44 | AE22: 100 | AF22: 1338 | AG22: -1222.56
B23: T1-11 | D23: H | E23: 0 | H23: =SUM(E23:G23) -> 0 | J23: =H23*K23/100 -> 0 | K23: =Ciment!K23 -> 0 | L23: =Q23+AF23 -> 0 | M23: =J23-L23 -> 0 | O23: =J23-AD23 -> 0 | P23: =IFERROR(O23/H23,0) -> 0 | R23: =O23-Q23 -> 0 | T23: 0 | V23: =L23+T23 -> 0 | W23: =H23-V23 -> 0 | AD23: 0 | AE23: 0 | AF23: 0 | AG23: 0
B24: SUP - T1 | D24: H | E24: =SUM(E25:E34) -> 63627 | F24: =SUM(F25:F34) -> 0 | G24: =SUM(G25:G34) -> 0 | H24: =SUM(H25:H34) -> 63627 | J24: =SUM(J25:J34) -> 300.256 | K24: =IFERROR(J24/H24,"") -> 0.0047190029 | L24: =SUM(L25:L34) -> 115077.5 | M24: =SUM(M25:M34) -> -114777.24 | O24: =SUM(O25:O34) -> -107441.46 | P24: =IFERROR(O24/H24,"") -> -1.6886143 | Q24: =SUM(Q25:Q34) -> 0 | R24: =SUM(R25:R34) -> -107441.46 | T24: =SUM(T25:T34) -> 13568 | V24: =SUM(V25:V34) -> 128645.5 | W24: =SUM(W25:W34) -> -65018.5 | AD24: 107741.72 | AE24: 0.70923344 | AF24: 115077.5 | AG24: -7335.7798
B25: T1-11 | D25: H | E25: 2352 | H25: =SUM(E25:G25) -> 2352 | J25: =H25*K25/100 -> 17.4048 | K25: =Ciment!K25 -> 0.74 | L25: =Q25+AF25 -> 4442 | M25: =J25-L25 -> -4424.5952 | O25: =J25-AD25 -> -6153.1015 | P25: =IFERROR(O25/H25,0) -> -2.6161146 | R25: =O25-Q25 -> -6153.1015 | T25: 43 | V25: =L25+T25 -> 4485 | W25: =H25-V25 -> -2133 | AD25: 6170.5063 | AE25: 98 | AF25: 4442 | AG25: 1728.5063
B26: T1-22 | D26: H | E26: 3425 | H26: =SUM(E26:G26) -> 3425 | J26: =H26*K26/100 -> 11.3025 | K26: =Ciment!K26 -> 0.33 | L26: =Q26+AF26 -> 31170.5 | M26: =J26-L26 -> -31159.197 | O26: =J26-AD26 -> -25342.363 | P26: =IFERROR(O26/H26,0) -> -7.3992302 | R26: =O26-Q26 -> -25342.363 | T26: 3422 | V26: =L26+T26 -> 34592.5 | W26: =H26-V26 -> -31167.5 | AD26: 25353.666 | AE26: 97 | AF26: 31170.5 | AG26: -5816.834
B27: T1-33 | D27: H | E27: 252 | H27: =SUM(E27:G27) -> 252 | J27: =H27*K27/100 -> 1.9404 | K27: =Ciment!K27 -> 0.77 | L27: =Q27+AF27 -> 2129 | M27: =J27-L27 -> -2127.0596 | O27: =J27-AD27 -> -5815.1475 | P27: =IFERROR(O27/H27,0) -> -23.075982 | R27: =O27-Q27 -> -5815.1475 | T27: 6435 | V27: =L27+T27 -> 8564 | W27: =H27-V27 -> -8312 | AD27: 5817.0879 | AE27: 45 | AF27: 2129 | AG27: 3688.0879
B28: T1-44 | D28: H | E28: 25235 | H28: =SUM(E28:G28) -> 25235 | J28: =H28*K28/100 -> 239.7325 | K28: =Ciment!K28 -> 0.95 | L28: =Q28+AF28 -> 3901 | M28: =J28-L28 -> -3661.2675 | O28: =J28-AD28 -> -53943.943 | P28: =IFERROR(O28/H28,0) -> -2.1376637 | R28: =O28-Q28 -> -53943.943 | T28: 244 | V28: =L28+T28 -> 4145 | W28: =H28-V28 -> 21090 | AD28: 54183.675 | AE28: 85 | AF28: 3901 | AG28: 50282.675
B29: T1-55 | D29: H | E29: 3434 | H29: =SUM(E29:G29) -> 3434 | J29: =H29*K29/100 -> 29.8758 | K29: =Ciment!K29 -> 0.87 | L29: =Q29+AF29 -> 73435 | M29: =J29-L29 -> -73405.124 | O29: =J29-AD29 -> -16186.909 | P29: =IFERROR(O29/H29,0) -> -4.7137185 | R29: =O29-Q29 -> -16186.909 | T29: 3424 | V29: =L29+T29 -> 76859 | W29: =H29-V29 -> -73425 | AD29: 16216.785 | AE29: 95 | AF29: 73435 | AG29: -57218.215
B30: T1-66 | D30: H | E30: 25225 | H30: =SUM(E30:G30) -> 25225 | J30: =H30*K30/100 -> 0 | K30: =Ciment!K30 -> 0 | L30: =Q30+AF30 -> 0 | M30: =J30-L30 -> 0 | O30: =J30-AD30 -> 0 | P30: =IFERROR(O30/H30,0) -> 0 | R30: =O30-Q30 -> 0 | V30: =L30+T30 -> 0 | W30: =H30-V30 -> 25225 | AD30: 0 | AE30: 0 | AF30: 0 | AG30: 0
B31: T1-77 | D31: H | E31: 3324 | H31: =SUM(E31:G31) -> 3324 | J31: =H31*K31/100 -> 0 | K31: =Ciment!K31 -> 0 | L31: =Q31+AF31 -> 0 | M31: =J31-L31 -> 0 | O31: =J31-AD31 -> 0 | P31: =IFERROR(O31/H31,0) -> 0 | R31: =O31-Q31 -> 0 | V31: =L31+T31 -> 0 | W31: =H31-V31 -> 3324 | AD31: 0 | AE31: 0 | AF31: 0 | AG31: 0
B32: T1-88 | D32: H | E32: 345 | H32: =SUM(E32:G32) -> 345 | J32: =H32*K32/100 -> 0 | K32: =Ciment!K32 -> 0 | L32: =Q32+AF32 -> 0 | M32: =J32-L32 -> 0 | O32: =J32-AD32 -> 0 | P32: =IFERROR(O32/H32,0) -> 0 | R32: =O32-Q32 -> 0 | V32: =L32+T32 -> 0 | W32: =H32-V32 -> 345 | AD32: 0 | AE32: 0 | AF32: 0 | AG32: 0
B33: T1-99 | D33: H | E33: 0 | H33: =SUM(E33:G33) -> 0 | J33: =H33*K33/100 -> 0 | K33: =Ciment!K33 -> 0 | L33: =Q33+AF33 -> 0 | M33: =J33-L33 -> 0 | O33: =J33-AD33 -> 0 | P33: =IFERROR(O33/H33,0) -> 0 | R33: =O33-Q33 -> 0 | V33: =L33+T33 -> 0 | W33: =H33-V33 -> 0 | AD33: 0 | AE33: 0 | AF33: 0 | AG33: 0
B34: T1-110 | D34: H | E34: 35 | H34: =SUM(E34:G34) -> 35 | J34: =H34*K34/100 -> 0 | K34: =Ciment!K34 -> 0 | L34: =Q34+AF34 -> 0 | M34: =J34-L34 -> 0 | O34: =J34-AD34 -> 0 | P34: =IFERROR(O34/H34,0) -> 0 | R34: =O34-Q34 -> 0 | V34: =L34+T34 -> 0 | W34: =H34-V34 -> 35 | AD34: 0 | AE34: 0 | AF34: 0 | AG34: 0
B35: INFRA + SUPER - T1 | D35: H | E35: =SUM(E36:E37) -> 3778 | F35: =SUM(F36:F37) -> 0 | G35: =SUM(G36:G37) -> 0 | H35: =SUM(H36:H37) -> 3778 | J35: =SUM(J36:J37) -> 16.9766 | K35: =IFERROR(J35/H35,"") -> 0.0044935416 | L35: =SUM(L36:L37) -> 10332.5 | M35: =SUM(M36:M37) -> -10315.523 | O35: =SUM(O36:O37) -> -4264.2224 | P35: =IFERROR(O35/H35,"") -> -1.1286984 | Q35: =SUM(Q36:Q37) -> 0 | R35: =SUM(R36:R37) -> -4264.2224 | T35: =SUM(T36:T37) -> 2443 | V35: =SUM(V36:V37) -> 12775.5 | W35: =SUM(W36:W37) -> -8997.5 | AD35: 4281.199 | AE35: 0.5138005 | AF35: 10332.5 | AG35: -6051.301
B36: T1-A | D36: H | E36: 3453 | H36: =SUM(E36:G36) -> 3453 | J36: =H36*K36/100 -> 16.2291 | K36: =Ciment!K36 -> 0.47 | L36: =Q36+AF36 -> 9974.5 | M36: =J36-L36 -> -9958.2709 | O36: =J36-AD36 -> -3905.8449 | P36: =IFERROR(O36/H36,0) -> -1.1311454 | R36: =O36-Q36 -> -3905.8449 | T36: 2443 | V36: =L36+T36 -> 12417.5 | W36: =H36-V36 -> -8964.5 | AD36: 3922.074 | AE36: 60 | AF36: 9974.5 | AG36: -6052.426
B37: T1-B | D37: H | E37: 325 | H37: =SUM(E37:G37) -> 325 | J37: =H37*K37/100 -> 0.7475 | K37: =Ciment!K37 -> 0.23 | L37: =Q37+AF37 -> 358 | M37: =J37-L37 -> -357.2525 | O37: =J37-AD37 -> -358.3775 | P37: =IFERROR(O37/H37,0) -> -1.1027 | R37: =O37-Q37 -> -358.3775 | V37: =L37+T37 -> 358 | W37: =H37-V37 -> -33 | AD37: 359.125 | AE37: 20 | AF37: 358 | AG37: 1.125
B38: ESC - T1 | D38: H | E38: =SUM(E39:E40) -> 6978 | F38: =SUM(F39:F40) -> 0 | G38: =SUM(G39:G40) -> 0 | H38: =SUM(H39:H40) -> 6978 | J38: =SUM(J39:J40) -> 61.1989 | K38: =IFERROR(J38/H38,"") -> 0.0087702637 | L38: =SUM(L39:L40) -> 7224 | M38: =SUM(M39:M40) -> -7162.8011 | O38: =SUM(O39:O40) -> -3502.5139 | P38: =IFERROR(O38/H38,"") -> -0.50193664 | Q38: =SUM(Q39:Q40) -> 0 | R38: =SUM(R39:R40) -> -3502.5139 | T38: =SUM(T39:T40) -> 539 | V38: =SUM(V39:V40) -> 7763 | W38: =SUM(W39:W40) -> -785 | AD38: 3563.7128 | AE38: 0.81702332 | AF38: 7224 | AG38: -3660.2872
B39: T1-S | D39: H | E39: 4435 | H39: =SUM(E39:G39) -> 4435 | J39: =H39*K39/100 -> 43.9065 | K39: =Ciment!K39 -> 0.99 | L39: =Q39+AF39 -> 6058 | M39: =J39-L39 -> -6014.0935 | O39: =J39-AD39 -> -2077.3913 | P39: =IFERROR(O39/H39,0) -> -0.4684084 | R39: =O39-Q39 -> -2077.3913 | T39: 324 | V39: =L39+T39 -> 6382 | W39: =H39-V39 -> -1947 | AD39: 2121.2978 | AE39: 99 | AF39: 6058 | AG39: -3936.7022
B40: T1-C | D40: H | E40: 2543 | H40: =SUM(E40:G40) -> 2543 | J40: =H40*K40/100 -> 17.2924 | K40: =Ciment!K40 -> 0.68 | L40: =Q40+AF40 -> 1166 | M40: =J40-L40 -> -1148.7076 | O40: =J40-AD40 -> -1425.1226 | P40: =IFERROR(O40/H40,0) -> -0.56040999 | R40: =O40-Q40 -> -1425.1226 | T40: 215 | V40: =L40+T40 -> 1381 | W40: =H40-V40 -> 1162 | AD40: 1442.415 | AE40: 65 | AF40: 1166 | AG40: 276.415
B46: PART PROPRE | D46: H | E46: =E47+E59 -> 211981.08 | F46: =F47+F59 -> 0 | G46: =G47+G59 -> 0 | H46: =H47+H59 -> 211981.08 | J46: =J47+J59 -> 137503.08 | K46: =IFERROR(J46/H46,"") -> 0.64865732 | L46: =L47+L59 -> 169161 | M46: =M47+M59 -> -31657.92 | O46: =O47+O59 -> -116456.78 | P46: =IFERROR(O46/H46,"") -> -0.54937344 | Q46: =Q47+Q59 -> 0 | R46: =R47+R59 -> -116456.78 | T46: =T47+T59 -> 11259 | V46: =V47+V59 -> 134702.5 | W46: =W47+W59 -> -60224.5 | AD46: 124301.69 | AE46: 0.3778904 | AF46: 150244 | AG46: -25942.312
B47: FOND - T2 | D47: H | E47: =SUM(E48:E58) -> 11487 | F47: =SUM(F48:F58) -> 0 | G47: =SUM(G48:G58) -> 0 | H47: =SUM(H48:H58) -> 11487 | J47: =SUM(J48:J58) -> 0 | K47: =IFERROR(J47/H47,"") -> 0 | L47: =SUM(L48:L58) -> 8366 | M47: =SUM(M48:M58) -> -8366 | O47: =SUM(O48:O58) -> -8715.0558 | P47: =IFERROR(O47/H47,"") -> -0.75868859 | Q47: =SUM(Q48:Q58) -> 0 | R47: =SUM(R48:R58) -> -8715.0558 | T47: =SUM(T48:T58) -> 431 | V47: =SUM(V48:V58) -> 8797 | W47: =SUM(W48:W58) -> 2690 | AD47: 8715.0558 | AE47: 0.98100731 | AF47: 8366 | AG47: 349.05578
B48: T2-1 | D48: H | E48: 234 | H48: =SUM(E48:G48) -> 234 | J48: =H48*K48/100 -> 0 | K48: =Ciment!K72 -> 0 | L48: =Q48+AF48 -> 483 | M48: =J48-L48 -> -483 | O48: =J48-AD48 -> -398.476 | P48: =IFERROR(O48/H48,0) -> -1.7028889 | R48: =O48-Q48 -> -398.476 | T48: 14 | V48: =L48+T48 -> 497 | W48: =H48-V48 -> -263 | AD48: 398.476 | AE48: 97 | AF48: 483 | AG48: -84.524
...

Sheet Ciment
A3: BILAN 2
B5: P.U. | E5: 695 | F5: 695 | G5: 695 | H5: 695 | J5: =H5 -> 695 | L5: =IFERROR(L6/L11,"") -> 1752.5691 | M5: =IFERROR(J5-L5,"") -> -1057.5691 | O5: =H5 -> 695 | Q5: =IFERROR(Q6/Q11,"") | R5: =IFERROR(O5-Q5,"") | T5: =H5 -> 695 | V5: =IFERROR(V6/V11,"") -> 1691.6458 | W5: =IFERROR(H5-V5,"") -> -996.64583 | AD5: 695 | AF5: 645.11088 | AG5: 49.889118
B6: MONTANT | E6: =IFERROR(E5*E11,"") -> 6726905 | F6: =IFERROR(F5*F11,"") -> 0 | G6: =IFERROR(G5*G11,"") -> 0 | H6: =IFERROR(H5*H11,"") -> 6726905 | J6: =IFERROR(J5*J11,"") -> 38353.783 | L6: 18463689 | M6: =IFERROR(J6-L6,"") -> -18425335 | O6: =IFERROR(O5*(O11+#REF!),"") | R6: =IFERROR(O6-Q6,"") | T6: =IFERROR(T5*T11,"") -> 447580 | V6: =IFERROR(L6+T6,"") -> 18911269 | W6: =IFERROR(H6-V6,"") -> -12184364 | AD6: 12564667 | AF6: 17541888 | AG6: -4977221.2
J7: xxxxxxx | AD7: xxxxxxx
E8: BUDG. Réf. | F8: Trsf. +/- | G8: TS | H8: Total | J8: CUMUL A FIN DECEMBRE-2017 | O8: MOIS DE DECEMBRE-2017 | T8: RAD | V8: CUMUL FDC | AD8: CUMUL A FIN NOVEMBRE-2017
A9: Code | B9: Libellé | C9: . | D9: Unité | E9: Qté | F9: Qté | G9: Qté | H9: Qté | I9: . | J9: Budget Avancé | L9: Dépenses | M9: Ecart | N9: . | O9: Budget Avancé | Q9: Dépenses | R9: Ecart | S9: . | T9: Qtés | U9: . | V9: Dépenses | W9: Ecarts | AD9: Budget Avancé | AF9: Dépenses | AG9: Ecart
D10: Res. | J10: Qté | K10: % | L10: Qté | M10: Qté | O10: Qté | P10: % | Q10: Qté | R10: Qté | V10: Qté | W10: Qté | AD10: Qté | AE10: % | AF10: Qté | AG10: Qté
B11: PART PROPRE | D11: M3 | E11: =E12+E24+E35+E38 -> 9679 | F11: =F12+F24+F35+F38 -> 0 | G11: =G12+G24+G35+G38 -> 0 | H11: =H12+H24+H35+H38 -> 9679 | J11: =J12+J24+J35+J38 -> 55.1853 | K11: =IFERROR(J11/H11,"") -> 0.0057015497 | L11: =L12+L24+L35+L38 -> 10535.213 | M11: =M12+M24+M35+M38 -> -10480.028 | O11: =O12+O24+O35+O38 -> -7683.0499 | P11: =IFERROR(O11/H11,"") -> -0.7937855 | Q11: =Q12+Q24+Q35+Q38 -> 0 | R11: =R12+R24+R35+R38 -> -7683.0499 | T11: =T12+T24+T35+T38 -> 644 | V11: =V12+V24+V35+V38 -> 11179.213 | W11: =W12+W24+W35+W38 -> -1500.213 | AD11: 7738.2352 | AE11: 0.71972998 | AF11: 10535.213 | AG11: -2796.9778
B12: FOND - T1 | D12: M3 | E12: =SUM(E13:E23) -> 7062 | F12: =SUM(F13:F23) -> 0 | G12: =SUM(G13:G23) -> 0 | H12: =SUM(H13:H23) -> 7062 | J12: =SUM(J13:J23) -> 42.2214 | K12: =IFERROR(J12/H12,"") -> 0.0059786746 | L12: =SUM(L13:L23) -> 2518.613 | M12: =SUM(M13:M23) -> -2476.3916 | O12: =SUM(O13:O23) -> -2267.7313 | P12: =IFERROR(O12/H12,"") -> -0.32111743 | Q12: =SUM(Q13:Q23) -> 0 | R12: =SUM(R13:R23) -> -2267.7313 | T12: =SUM(T13:T23) -> 108 | V12: =SUM(V13:V23) -> 2626.613 | W12: =SUM(W13:W23) -> 4435.387 | AD12: 2309.9527 | AE12: 0.98522251 | AF12: 2518.613 | AG12: -208.6603
B13: T1-1 | D13: M3 | E13: 456 | H13: =SUM(E13:G13) -> 456 | J13: =H13*K13/100 -> 4.1952 | K13: 0.92 | L13: =Q13+AF13 -> 201.07 | M13: =J13-L13 -> -196.8748 | O13: =J13-AD13 -> -149.0648 | P13: =IFERROR(O13/H13,"") -> -0.32689649 | R13: =O13-Q13 -> -149.0648 | T13: 2 | V13: =+L13+T13 -> 203.07 | W13: =H13-V13 -> 252.93 | AD13: 153.26 | AE13: 97 | AF13: 201.07 | AG13: -47.81
B14: T1-2 | D14: M3 | E14: 546 | H14: =SUM(E14:G14) -> 546 | J14: =H14*K14/100 -> 4.5318 | K14: 0.83 | L14: =Q14+AF14 -> 1.5 | M14: =J14-L14 -> 3.0318 | O14: =J14-AD14 -> -385.4682 | P14: =IFERROR(O14/H14,"") -> -0.70598571 | R14: =O14-Q14 -> -385.4682 | T14: 5 | V14: =+L14+T14 -> 6.5 | W14: =H14-V14 -> 539.5 | AD14: 390 | AE14: 100 | AF14: 1.5 | AG14: 388.5
B15: T1-3 | D15: M3 | E15: 678 | H15: =SUM(E15:G15) -> 678 | J15: =H15*K15/100 -> 0 | K15: 0 | L15: =Q15+AF15 -> 108 | M15: =J15-L15 -> -108 | O15: =J15-AD15 -> 0 | P15: =IFERROR(O15/H15,"") -> 0 | R15: =O15-Q15 -> 0 | V15: =+L15+T15 -> 108 | W15: =H15-V15 -> 570 | AD15: 0 | AE15: 0 | AF15: 108 | AG15: -108
B16: T1-4 | D16: M3 | E16: 810 | H16: =SUM(E16:G16) -> 810 | J16: =H16*K16/100 -> 6.318 | K16: 0.78 | L16: =Q16+AF16 -> 38 | M16: =J16-L16 -> -31.682 | O16: =J16-AD16 -> -186.532 | P16: =IFERROR(O16/H16,"") -> -0.23028642 | R16: =O16-Q16 -> -186.532 | T16: 13 | V16: =+L16+T16 -> 51 | W16: =H16-V16 -> 759 | AD16: 192.85 | AE16: 95 | AF16: 38 | AG16: 154.85
B17: T1-5 | D17: M3 | E17: 942 | H17: =SUM(E17:G17) -> 942 | J17: =H17*K17/100 -> 6.2172 | K17: 0.66 | L17: =Q17+AF17 -> 387.73 | M17: =J17-L17 -> -381.5128 | O17: =J17-AD17 -> -1046.6181 | P17: =IFERROR(O17/H17,"") -> -1.1110596 | R17: =O17-Q17 -> -1046.6181 | T17: 22 | V17: =+L17+T17 -> 409.73 | W17: =H17-V17 -> 532.27 | AD17: 1052.8353 | AE17: 99 | AF17: 387.73 | AG17: 665.1053
B18: T1-6 | D18: M3 | E18: 1074 | H18: =SUM(E18:G18) -> 1074 | J18: =H18*K18/100 -> 7.9476 | K18: 0.74 | L18: =Q18+AF18 -> 98.713 | M18: =J18-L18 -> -90.7654 | O18: =J18-AD18 -> -71.4324 | P18: =IFERROR(O18/H18,"") -> -0.066510615 | R18: =O18-Q18 -> -71.4324 | T18: 6 | V18: =+L18+T18 -> 104.713 | W18: =H18-V18 -> 969.287 | AD18: 79.38 | AE18: 98 | AF18: 98.713 | AG18: -19.333
B19: T1-7 | D19: M3 | E19: 1206 | H19: =SUM(E19:G19) -> 1206 | J19: =H19*K19/100 -> 4.4622 | K19: 0.37 | L19: =Q19+AF19 -> 27.12 | M19: =J19-L19 -> -22.6578 | O19: =J19-AD19 -> -6.5138 | P19: =IFERROR(O19/H19,"") -> -0.0054011609 | R19: =O19-Q19 -> -6.5138 | T19: 3 | V19: =+L19+T19 -> 30.12 | W19: =H19-V19 -> 1175.88 | AD19: 10.976 | AE19: 98 | AF19: 27.12 | AG19: -16.144
B20: T1-8 | D20: M3 | E20: 1338 | H20: =SUM(E20:G20) -> 1338 | J20: =H20*K20/100 -> 8.4294 | K20: 0.63 | L20: =Q20+AF20 -> 93 | M20: =J20-L20 -> -84.5706 | O20: =J20-AD20 -> -101.262 | P20: =IFERROR(O20/H20,"") -> -0.075681614 | R20: =O20-Q20 -> -101.262 | T20: 17 | V20: =+L20+T20 -> 110 | W20: =H20-V20 -> 1228 | AD20: 109.6914 | AE20: 98 | AF20: 93 | AG20: 16.6914
B21: T1-9 | D21: M3 | E21: 0 | H21: =SUM(E21:G21) -> 0 | J21: =H21*K21/100 -> 0 | K21: 0.74 | L21: =Q21+AF21 -> 353.5 | M21: =J21-L21 -> -353.5 | O21: =J21-AD21 -> -246.96 | P21: =IFERROR(O21/H21,"") | R21: =O21-Q21 -> -246.96 | T21: 40 | V21: =+L21+T21 -> 393.5 | W21: =H21-V21 -> -393.5 | AD21: 246.96 | AE21: 98 | AF21: 353.5 | AG21: -106.54
B22: T1-10 | D22: M3 | E22: 12 | H22: =SUM(E22:G22) -> 12 | J22: =H22*K22/100 -> 0.12 | K22: 1 | L22: =Q22+AF22 -> 1209.98 | M22: =J22-L22 -> -1209.86 | O22: =J22-AD22 -> -73.88 | P22: =IFERROR(O22/H22,"") -> -6.1566667 | R22: =O22-Q22 -> -73.88 | T22: 0 | V22: =+L22+T22 -> 1209.98 | W22: =H22-V22 -> -1197.98 | AD22: 74 | AE22: 100 | AF22: 1209.98 | AG22: -1135.98
B23: T1-11 | D23: M3 | E23: 0 | H23: =SUM(E23:G23) -> 0 | J23: =H23*K23/100 -> 0 | K23: 0 | L23: =Q23+AF23 -> 0 | M23: =J23-L23 -> 0 | O23: =J23-AD23 -> 0 | P23: =IFERROR(O23/H23,"") | R23: =O23-Q23 -> 0 | V23: =+L23+T23 -> 0 | W23: =H23-V23 -> 0 | AD23: 0 | AE23: 0 | AF23: 0 | AG23: 0
B24: SUP - T1 | D24: M3 | E24: =SUM(E25:E34) -> 2532 | F24: =SUM(F25:F34) -> 0 | G24: =SUM(G25:G34) -> 0 | H24: =SUM(H25:H34) -> 2532 | J24: =SUM(J25:J34) -> 12.4614 | K24: =IFERROR(J24/H24,"") -> 0.004921564 | L24: =SUM(L25:L34) -> 7841.1 | M24: =SUM(M25:M34) -> -7828.6386 | O24: =SUM(O25:O34) -> -5223.4971 | P24: =IFERROR(O24/H24,"") -> -2.0629925 | Q24: =SUM(Q25:Q34) -> 0 | R24: =SUM(R25:R34) -> -5223.4971 | T24: =SUM(T25:T34) -> 433 | V24: =SUM(V25:V34) -> 8274.1 | W24: =SUM(W25:W34) -> -5742.1 | AD24: 5235.9585 | AE24: 0.65868645 | AF24: 7841.1 | AG24: -2605.1415
B25: T1-11 | D25: M3 | E25: 215 | H25: =SUM(E25:G25) -> 215 | J25: =+H25*K25/100 -> 1.591 | K25: 0.74 | L25: =Q25+AF25 -> 304.45 | M25: =J25-L25 -> -302.859 | O25: =J25-AD25 -> -385.656 | P25: =IFERROR(O25/H25,"") -> -1.7937488 | R25: =O25-Q25 -> -385.656 | T25: 12 | V25: =+L25+T25 -> 316.45 | W25: =H25-V25 -> -101.45 | AD25: 387.247 | AE25: 98 | AF25: 304.45 | AG25: 82.797
B26: T1-22 | D26: M3 | E26: 356 | H26: =SUM(E26:G26) -> 356 | J26: =+H26*K26/100 -> 1.1748 | K26: 0.33 | L26: =Q26+AF26 -> 2717.6 | M26: =J26-L26 -> -2716.4252 | O26: =J26-AD26 -> -2109.5452 | P26: =IFERROR(O26/H26,"") -> -5.9256888 | R26: =O26-Q26 -> -2109.5452 | T26: 34 | V26: =+L26+T26 -> 2751.6 | W26: =H26-V26 -> -2395.6 | AD26: 2110.72 | AE26: 97 | AF26: 2717.6 | AG26: -606.88
B27: T1-33 | D27: M3 | E27: 365 | H27: =SUM(E27:G27) -> 365 | J27: =+H27*K27/100 -> 2.8105 | K27: 0.77 | L27: =Q27+AF27 -> 64.7 | M27: =J27-L27 -> -61.8895 | O27: =J27-AD27 -> -164.531 | P27: =IFERROR(O27/H27,"") -> -0.45076986 | R27: =O27-Q27 -> -164.531 | T27: 99 | V27: =+L27+T27 -> 163.7 | W27: =H27-V27 -> 201.3 | AD27: 167.3415 | AE27: 45 | AF27: 64.7 | AG27: 102.6415
B28: T1-44 | D28: M3 | E28: 374 | H28: =SUM(E28:G28) -> 374 | J28: =+H28*K28/100 -> 3.553 | K28: 0.95 | L28: =Q28+AF28 -> 150.2 | M28: =J28-L28 -> -146.647 | O28: =J28-AD28 -> -1280.797 | P28: =IFERROR(O28/H28,"") -> -3.4245909 | R28: =O28-Q28 -> -1280.797 | T28: 23 | V28: =+L28+T28 -> 173.2 | W28: =H28-V28 -> 200.8 | AD28: 1284.35 | AE28: 85 | AF28: 150.2 | AG28: 1134.15
B29: T1-55 | D29: M3 | E29: 383 | H29: =SUM(E29:G29) -> 383 | J29: =+H29*K29/100 -> 3.3321 | K29: 0.87 | L29: =Q29+AF29 -> 4604.15 | M29: =J29-L29 -> -4600.8179 | O29: =J29-AD29 -> -1282.9679 | P29: =IFERROR(O29/H29,"") -> -3.3497856 | R29: =O29-Q29 -> -1282.9679 | T29: 265 | V29: =+L29+T29 -> 4869.15 | W29: =H29-V29 -> -4486.15 | AD29: 1286.3 | AE29: 95 | AF29: 4604.15 | AG29: -3317.85
B30: T1-66 | D30: M3 | E30: 392 | H30: =SUM(E30:G30) -> 392 | J30: =+H30*K30/100 -> 0 | K30: 0 | L30: =Q30+AF30 -> 0 | M30: =J30-L30 -> 0 | O30: =J30-AD30 -> 0 | P30: =IFERROR(O30/H30,"") -> 0 | R30: =O30-Q30 -> 0 | V30: =+L30+T30 -> 0 | W30: =H30-V30 -> 392 | AD30: 0 | AE30: 0 | AF30: 0 | AG30: 0
B31: T1-77 | D31: M3 | E31: 401 | H31: =SUM(E31:G31) -> 401 | J31: =+H31*K31/100 -> 0 | K31: 0 | L31: =Q31+AF31 -> 0 | M31: =J31-L31 -> 0 | O31: =J31-AD31 -> 0 | P31: =IFERROR(O31/H31,"") -> 0 | R31: =O31-Q31 -> 0 | V31: =+L31+T31 -> 0 | W31: =H31-V31 -> 401 | AD31: 0 | AE31: 0 | AF31: 0 | AG31: 0
B32: T1-88 | D32: M3 | E32: 0 | H32: =SUM(E32:G32) -> 0 | J32: =+H32*K32/100 -> 0 | K32: 0 | L32: =Q32+AF32 -> 0 | M32: =J32-L32 -> 0 | O32: =J32-AD32 -> 0 | P32: =IFERROR(O32/H32,"") | R32: =O32-Q32 -> 0 | V32: =+L32+T32 -> 0 | W32: =H32-V32 -> 0 | AD32: 0 | AE32: 0 | AF32: 0 | AG32: 0
B33: T1-99 | D33: M3 | E33: 35 | H33: =SUM(E33:G33) -> 35 | J33: =+H33*K33/100 -> 0 | K33: 0 | L33: =Q33+AF33 -> 0 | M33: =J33-L33 -> 0 | O33: =J33-AD33 -> 0 | P33: =IFERROR(O33/H33,"") -> 0 | R33: =O33-Q33 -> 0 | V33: =+L33+T33 -> 0 | W33: =H33-V33 -> 35 | AD33: 0 | AE33: 0 | AF33: 0 | AG33: 0
B34: T1-110 | D34: M3 | E34: 11 | H34: =SUM(E34:G34) -> 11 | J34: =+H34*K34/100 -> 0 | K34: 0 | L34: =Q34+AF34 -> 0 | M34: =J34-L34 -> 0 | O34: =J34-AD34 -> 0 | P34: =IFERROR(O34/H34,"") -> 0 | R34: =O34-Q34 -> 0 | V34: =+L34+T34 -> 0 | W34: =H34-V34 -> 11 | AD34: 0 | AE34: 0 | AF34: 0 | AG34: 0
B35: INFRA + SUPER - T1 | D35: M3 | E35: =SUM(E36:E37) -> 47 | F35: =SUM(F36:F37) -> 0 | G35: =SUM(G36:G37) -> 0 | H35: =SUM(H36:H37) -> 47 | J35: =SUM(J36:J37) -> 0.1945 | K35: =IFERROR(J35/H35,"") -> 0.0041382979 | L35: =SUM(L36:L37) -> 22.5 | M35: =SUM(M36:M37) -> -22.3055 | O35: =SUM(O36:O37) -> -71.2695 | P35: =IFERROR(O35/H35,"") -> -1.5163723 | Q35: =SUM(Q36:Q37) -> 0 | R35: =SUM(R36:R37) -> -71.2695 | T35: =SUM(T36:T37) -> 87 | V35: =SUM(V36:V37) -> 109.5 | W35: =SUM(W36:W37) -> -62.5 | AD35: 71.464 | AE35: 0.53395099 | AF35: 22.5 | AG35: 48.964
B36: T1-A | D36: M3 | E36: 36 | H36: =SUM(E36:G36) -> 36 | J36: =+H36*K36/100 -> 0.1692 | K36: 0.47 | L36: =Q36+AF36 -> 18 | M36: =J36-L36 -> -17.8308 | O36: =J36-AD36 -> -66.8748 | P36: =IFERROR(O36/H36,"") -> -1.8576333 | R36: =O36-Q36 -> -66.8748 | T36: 87 | V36: =+L36+T36 -> 105 | W36: =H36-V36 -> -69 | AD36: 67.044 | AE36: 60 | AF36: 18 | AG36: 49.044
B37: T1-B | D37: M3 | E37: 11 | H37: =SUM(E37:G37) -> 11 | J37: =+H37*K37/100 -> 0.0253 | K37: 0.23 | L37: =Q37+AF37 -> 4.5 | M37: =J37-L37 -> -4.4747 | O37: =J37-AD37 -> -4.3947 | P37: =IFERROR(O37/H37,"") -> -0.39951818 | R37: =O37-Q37 -> -4.3947 | V37: =+L37+T37 -> 4.5 | W37: =H37-V37 -> 6.5 | AD37: 4.42 | AE37: 20 | AF37: 4.5 | AG37: -0.08
B38: ESC - T1 | D38: M3 | E38: =SUM(E39:E40) -> 38 | F38: =SUM(F39:F40) -> 0 | G38: =SUM(G39:G40) -> 0 | H38: =SUM(H39:H40) -> 38 | J38: =SUM(J39:J40) -> 0.308 | K38: =IFERROR(J38/H38,"") -> 0.0081052632 | L38: =SUM(L39:L40) -> 153 | M38: =SUM(M39:M40) -> -152.692 | O38: =SUM(O39:O40) -> -120.552 | P38: =IFERROR(O38/H38,"") -> -3.1724211 | Q38: =SUM(Q39:Q40) -> 0 | R38: =SUM(R39:R40) -> -120.552 | T38: =SUM(T39:T40) -> 16 | V38: =SUM(V39:V40) -> 169 | W38: =SUM(W39:W40) -> -131 | AD38: 120.86 | AE38: 0.85112676 | AF38: 153 | AG38: -32.14
B39: T1-S | D39: M3 | E39: 16 | H39: =SUM(E39:G39) -> 16 | J39: =+H39*K39/100 -> 0.1584 | K39: 0.99 | L39: =Q39+AF39 -> 120 | M39: =J39-L39 -> -119.8416 | O39: =J39-AD39 -> -83.0016 | P39: =IFERROR(O39/H39,"") -> -5.1876 | R39: =O39-Q39 -> -83.0016 | T39: 0 | V39: =+L39+T39 -> 120 | W39: =H39-V39 -> -104 | AD39: 83.16 | AE39: 99 | AF39: 120 | AG39: -36.84
B40: T1-C | D40: M3 | E40: 22 | H40: =SUM(E40:G40) -> 22 | J40: =+H40*K40/100 -> 0.1496 | K40: 0.68 | L40: =Q40+AF40 -> 33 | M40: =J40-L40 -> -32.8504 | O40: =J40-AD40 -> -37.5504 | P40: =IFERROR(O40/H40,"") -> -1.7068364 | R40: =O40-Q40 -> -37.5504 | T40: 16 | V40: =+L40+T40 -> 49 | W40: =H40-V40 -> -27 | AD40: 37.7 | AE40: 65 | AF40: 33 | AG40: 4.7
B46: PART PROPRE | D46: M3 | E46: =E47+E59 -> 10000 | F46: =F47+F59 -> 0 | G46: =G47+G59 -> 0 | H46: =H47+H59 -> 10000 | J46: =J47+J59 -> 62.9941 | K46: =IFERROR(J46/H46,"") -> 0.00629941 | L46: =L47+L59 -> 123975.41 | M46: =M47+M59 -> -123912.42 | O46: =O47+O59 -> -116393.78 | P46: =IFERROR(O46/H46,"") -> -11.639378 | Q46: =Q47+Q59 -> 0 | R46: =R47+R59 -> -116393.78 | T46: =T47+T59 -> 418 | V46: =V47+V59 -> 123861.5 | W46: =W47+W59 -> -113861.5 | AD46: 124301.69 | AE46: 0.3778904 | AF46: 150244 | AG46: -25942.312
B47: FOND - T2 | D47: M3 | E47: =SUM(E48:E58) -> 4051 | F47: =SUM(F48:F58) -> 0 | G47: =SUM(G48:G58) -> 0 | H47: =SUM(H48:H58) -> 4051 | J47: =SUM(J48:J58) -> 27.1788 | K47: =IFERROR(J47/H47,"") -> 0.0067091582 | L47: =SUM(L48:L58) -> 8366 | M47: =SUM(M48:M58) -> -8338.8212 | O47: =SUM(O48:O58) -> -8687.877 | P47: =IFERROR(O47/H47,"") -> -2.1446253 | Q47: =SUM(Q48:Q58) -> 0 | R47: =SUM(R48:R58) -> -8687.877 | T47: =SUM(T48:T58) -> 163 | V47: =SUM(V48:V58) -> 8529 | W47: =SUM(W48:W58) -> -4478 | AD47: 8715.0558 | AE47: 0.98100731 | AF47: 8366 | AG47: 349.05578
B48: T2-1 | D48: M3 | E48: 15 | H48: =SUM(E48:G48) -> 15 | J48: =H48*K48/100 -> 0.138 | K48: 0.92 | L48: =Q48+AF48 -> 483 | M48: =J48-L48 -> -482.862 | O48: =J48-AD48 -> -398.338 | P48: =IFERROR(O48/H48,0) -> -26.555867 | R48: =O48-Q48 -> -398.338 | T48: 11 | V48: =L48+T48 -> 494 | W48: =H48-V48 -> -479 | AD48: 398.476 | AE48: 97 | AF48: 483 | AG48: -84.524
...

Sheet Acier
A3: BILAN 3
B5: P.U. | E5: 1950 | F5: 1950 | G5: 1950 | H5: 1950 | J5: =H5 -> 1950 | L5: =IFERROR(L6/L11,"") -> 16846.352 | M5: =IFERROR(J5-L5,"") -> -14896.352 | O5: =H5 -> 1950 | Q5: =IFERROR(Q6/Q11,"") | R5: =IFERROR(O5-Q5,"") | T5: =H5 -> 1950 | V5: =IFERROR(V6/V11,"") -> 16321.875 | W5: =IFERROR(H5-V5,"") -> -14371.875 | AD5: 8200 | AF5: 6768.7126 | AG5: 1431.2874
B6: MONTANT | E6: =IFERROR(E5*E11,"") -> 703189.81 | F6: =IFERROR(F5*F11,"") -> -34125 | G6: =IFERROR(G5*G11,"") -> 0 | H6: =IFERROR(H5*H11,"") -> 669064.81 | J6: =IFERROR(J5*J11,"") -> 892.22771 | L6: 19711532 | M6: =IFERROR(J6-L6,"") -> -19710640 | O6: =IFERROR(O5*O11,"") -> -1288751.8 | R6: =IFERROR(O6-Q6,"") -> -1288751.8 | T6: =IFERROR(T5*T11,"") -> 83265 | V6: =IFERROR(L6+T6,"") -> 19794797 | W6: =IFERROR(H6-V6,"") -> -19125732 | AD6: 15287593 | AF6: 18515325 | AG6: -3227732.4
J7: xxxxxxx | K7: xxxxxxx | P7: xxxxxxx | AD7: xxxxxxx | AE7: xxxxxxx
E8: BUDG. Réf. | F8: Trsf. +/- | G8: TS | H8: BUDG. Réf. | J8: CUMUL A FIN DECEMBRE-2017 | O8: MOIS DE DECEMBRE-2017 | T8: RAD | V8: CUMUL FDC | AD8: CUMUL A FIN NOVEMBRE-2017
A9: Code | B9: Libellé | C9: . | D9: Unité | E9: Qté | F9: Qté | G9: Qté | H9: Qté | I9: . | J9: Budget Avancé | L9: Dépenses | M9: Ecart | N9: . | O9: Budget Avancé | Q9: Dépenses | R9: Ecart | S9: . | T9: Qtés | U9: . | V9: Dépenses | W9: Ecarts | AD9: Budget Avancé | AF9: Dépenses | AG9: Ecart
D10: Res. | J10: Qté | K10: % | L10: Qté | M10: Qté | O10: Qté | P10: % | Q10: Qté | R10: Qté | V10: Qté | W10: Qté | AD10: Qté | AE10: % | AF10: Qté | AG10: Qté
B11: PART PROPRE | D11: T | E11: =E12+E24+E35+E38 -> 360.61016 | F11: =F12+F24+F35+F38 -> -17.5 | G11: =G12+G24+G35+G38 -> 0 | H11: =H12+H24+H35+H38 -> 343.11016 | J11: =J12+J24+J35+J38 -> 0.45755267 | K11: =IFERROR(J11/H11,"") -> 0.0013335445 | L11: =L12+L24+L35+L38 -> 1170.0772 | M11: =M12+M24+M35+M38 -> -1169.6196 | O11: =O12+O24+O35+O38 -> -660.89835 | P11: =IFERROR(O11/H11,"") -> -1.9261987 | Q11: =Q12+Q24+Q35+Q38 -> 0 | R11: =R12+R24+R35+R38 -> -660.89835 | T11: =T12+T24+T35+T38 -> 42.7 | V11: =V12+V24+V35+V38 -> 1212.7772 | W11: =W12+W24+W35+W38 -> -869.667 | AD11: 661.3559 | AE11: 0.70799118 | AF11: 1171.0772 | AG11: -509.72126
B12: FOND - T1 | D12: T | E12: =SUM(E13:E23) -> 274.4 | F12: =SUM(F13:F23) -> 0 | G12: =SUM(G13:G23) -> 0 | H12: =SUM(H13:H23) -> 274.4 | J12: =SUM(J13:J23) -> 0.1128 | K12: =IFERROR(J12/H12,"") -> 0.00041107872 | L12: =SUM(L13:L23) -> 257.209 | M12: =SUM(M13:M23) -> -257.0962 | O12: =SUM(O13:O23) -> -14.4508 | P12: =IFERROR(O12/H12,"") -> -0.052663265 | Q12: =SUM(Q13:Q23) -> 0 | R12: =SUM(R13:R23) -> -14.4508 | T12: =SUM(T13:T23) -> 16.6 | V12: =SUM(V13:V23) -> 273.809 | W12: =SUM(W13:W23) -> 0.591 | AD12: 14.5636 | AE12: 0.083203741 | AF12: 257.209 | AG12: -242.6454
B13: T1-1 | D13: T | E13: 0 | H13: =SUM(E13:G13) -> 0 | J13: =H13*K13/100 -> 0 | K13: =Ciment!K13 -> 0.92 | L13: =Q13+AF13 -> 0 | M13: =J13-L13 -> 0 | O13: =J13-AD13 -> 0 | P13: =IFERROR(O13/H13,"") | R13: =O13-Q13 -> 0 | V13: =L13+T13 -> 0 | W13: =H13-V13 -> 0 | AD13: 0 | AE13: 97 | AF13: 0 | AG13: 0
B14: T1-2 | D14: T | E14: 0 | H14: =SUM(E14:G14) -> 0 | J14: =H14*K14/100 -> 0 | K14: =Ciment!K14 -> 0.83 | L14: =Q14+AF14 -> 0 | M14: =J14-L14 -> 0 | O14: =J14-AD14 -> 0 | P14: =IFERROR(O14/H14,"") | R14: =O14-Q14 -> 0 | T14: 3 | V14: =L14+T14 -> 3 | W14: =H14-V14 -> -3 | AD14: 0 | AE14: 100 | AF14: 0 | AG14: 0
B15: T1-3 | D15: T | E15: 128 | H15: =SUM(E15:G15) -> 128 | J15: =H15*K15/100 -> 0 | K15: =Ciment!K15 -> 0 | L15: =Q15+AF15 -> 0 | M15: =J15-L15 -> 0 | O15: =J15-AD15 -> 0 | P15: =IFERROR(O15/H15,"") -> 0 | R15: =O15-Q15 -> 0 | V15: =L15+T15 -> 0 | W15: =H15-V15 -> 128 | AD15: 0 | AE15: 0 | AF15: 0 | AG15: 0
B16: T1-4 | D16: T | E16: 0 | H16: =SUM(E16:G16) -> 0 | J16: =H16*K16/100 -> 0 | K16: =Ciment!K16 -> 0.78 | L16: =Q16+AF16 -> 9.56 | M16: =J16-L16 -> -9.56 | O16: =J16-AD16 -> 0 | P16: =IFERROR(O16/H16,"") | R16: =O16-Q16 -> 0 | T16: 2.3 | V16: =L16+T16 -> 11.86 | W16: =H16-V16 -> -11.86 | AD16: 0 | AE16: 95 | AF16: 9.56 | AG16: -9.56
B17: T1-5 | D17: T | E17: 0 | H17: =SUM(E17:G17) -> 0 | J17: =H17*K17/100 -> 0 | K17: =Ciment!K17 -> 0.66 | L17: =Q17+AF17 -> 43.626 | M17: =J17-L17 -> -43.626 | O17: =J17-AD17 -> 0 | P17: =IFERROR(O17/H17,"") | R17: =O17-Q17 -> 0 | V17: =L17+T17 -> 43.626 | W17: =H17-V17 -> -43.626 | AD17: 0 | AE17: 99 | AF17: 43.626 | AG17: -43.626
B18: T1-6 | D18: T | E18: 0 | H18: =SUM(E18:G18) -> 0 | J18: =H18*K18/100 -> 0 | K18: =Ciment!K18 -> 0.74 | L18: =Q18+AF18 -> 28.322 | M18: =J18-L18 -> -28.322 | O18: =J18-AD18 -> 0 | P18: =IFERROR(O18/H18,"") | R18: =O18-Q18 -> 0 | T18: 5 | V18: =L18+T18 -> 33.322 | W18: =H18-V18 -> -33.322 | AD18: 0 | AE18: 98 | AF18: 28.322 | AG18: -28.322
B19: T1-7 | D19: T | E19: 0 | H19: =SUM(E19:G19) -> 0 | J19: =H19*K19/100 -> 0 | K19: =Ciment!K19 -> 0.37 | L19: =Q19+AF19 -> 15.324 | M19: =J19-L19 -> -15.324 | O19: =J19-AD19 -> 0 | P19: =IFERROR(O19/H19,"") | R19: =O19-Q19 -> 0 | T19: 2.3 | V19: =L19+T19 -> 17.624 | W19: =H19-V19 -> -17.624 | AD19: 0 | AE19: 98 | AF19: 15.324 | AG19: -15.324
B20: T1-8 | D20: T | E20: 0 | H20: =SUM(E20:G20) -> 0 | J20: =H20*K20/100 -> 0 | K20: =Ciment!K20 -> 0.63 | L20: =Q20+AF20 -> 36.097 | M20: =J20-L20 -> -36.097 | O20: =J20-AD20 -> 0 | P20: =IFERROR(O20/H20,"") | R20: =O20-Q20 -> 0 | T20: 4 | V20: =L20+T20 -> 40.097 | W20: =H20-V20 -> -40.097 | AD20: 0 | AE20: 98 | AF20: 36.097 | AG20: -36.097
B21: T1-9 | D21: T | E21: 12 | H21: =SUM(E21:G21) -> 12 | J21: =H21*K21/100 -> 0.0888 | K21: =Ciment!K21 -> 0.74 | L21: =Q21+AF21 -> 17.488 | M21: =J21-L21 -> -17.3992 | O21: =J21-AD21 -> -8.5548 | P21: =IFERROR(O21/H21,"") -> -0.7129 | R21: =O21-Q21 -> -8.5548 | V21: =L21+T21 -> 17.488 | W21: =H21-V21 -> -5.488 | AD21: 8.6436 | AE21: 98 | AF21: 17.488 | AG21: -8.8444
B22: T1-10 | D22: T | E22: 2.4 | H22: =SUM(E22:G22) -> 2.4 | J22: =H22*K22/100 -> 0.024 | K22: =Ciment!K22 -> 1 | L22: =Q22+AF22 -> 106.792 | M22: =J22-L22 -> -106.768 | O22: =J22-AD22 -> -5.896 | P22: =IFERROR(O22/H22,"") -> -2.4566667 | R22: =O22-Q22 -> -5.896 | V22: =L22+T22 -> 106.792 | W22: =H22-V22 -> -104.392 | AD22: 5.92 | AE22: 100 | AF22: 106.792 | AG22: -100.872
B23: T1-11 | D23: T | E23: 132 | H23: =SUM(E23:G23) -> 132 | J23: =H23*K23/100 -> 0 | K23: =Ciment!K23 -> 0 | L23: =Q23+AF23 -> 0 | M23: =J23-L23 -> 0 | O23: =J23-AD23 -> 0 | P23: =IFERROR(O23/H23,"") -> 0 | R23: =O23-Q23 -> 0 | V23: =L23+T23 -> 0 | W23: =H23-V23 -> 132 | AD23: 0 | AE23: 0 | AF23: 0 | AG23: 0
B24: SUP - T1 | D24: T | E24: =SUM(E25:E34) -> 80.7 | F24: =SUM(F25:F34) -> -17.5 | G24: =SUM(G25:G34) -> 0 | H24: =SUM(H25:H34) -> 63.2 | J24: =SUM(J25:J34) -> 0.32095 | K24: =IFERROR(J24/H24,"") -> 0.0050783228 | L24: =SUM(L25:L34) -> 884.609 | M24: =SUM(M25:M34) -> -884.28805 | O24: =SUM(O25:O34) -> -643.51444 | P24: =IFERROR(O24/H24,"") -> -10.18219 | Q24: =SUM(Q25:Q34) -> 0 | R24: =SUM(R25:R34) -> -643.51444 | T24: =SUM(T25:T34) -> 22.7 | V24: =SUM(V25:V34) -> 907.309 | W24: =SUM(W25:W34) -> -844.109 | AD24: 643.83539 | AE24: 0.90853411 | AF24: 884.609 | AG24: -240.77361
B25: T1-11 | D25: T | E25: 0 | H25: =SUM(E25:G25) -> 0 | J25: =H25*K25/100 -> 0 | K25: =Ciment!K25 -> 0.74 | L25: =Q25+AF25 -> 61.129 | M25: =J25-L25 -> -61.129 | O25: =J25-AD25 -> 0 | P25: =IFERROR(O25/H25,"") | R25: =O25-Q25 -> 0 | T25: 2 | V25: =L25+T25 -> 63.129 | W25: =H25-V25 -> -63.129 | AD25: 0 | AE25: 98 | AF25: 61.129 | AG25: -61.129
B26: T1-22 | D26: T | E26: 0 | H26: =SUM(E26:G26) -> 0 | J26: =H26*K26/100 -> 0 | K26: =Ciment!K26 -> 0.33 | L26: =Q26+AF26 -> 423.145 | M26: =J26-L26 -> -423.145 | O26: =J26-AD26 -> 0 | P26: =IFERROR(O26/H26,"") | R26: =O26-Q26 -> 0 | T26: 4 | V26: =L26+T26 -> 427.145 | W26: =H26-V26 -> -427.145 | AD26: 0 | AE26: 97 | AF26: 423.145 | AG26: -423.145
B27: T1-33 | D27: T | E27: 0 | H27: =SUM(E27:G27) -> 0 | J27: =H27*K27/100 -> 0 | K27: =Ciment!K27 -> 0.77 | L27: =Q27+AF27 -> 17.303 | M27: =J27-L27 -> -17.303 | O27: =J27-AD27 -> 0 | P27: =IFERROR(O27/H27,"") | R27: =O27-Q27 -> 0 | T27: 2.8 | V27: =L27+T27 -> 20.103 | W27: =H27-V27 -> -20.103 | AD27: 0 | AE27: 45 | AF27: 17.303 | AG27: -17.303
B28: T1-44 | D28: T | E28: 0 | F28: -17.5 | H28: =SUM(E28:G28) -> -17.5 | J28: =H28*K28/100 -> -0.16625 | K28: =Ciment!K28 -> 0.95 | L28: =Q28+AF28 -> 21.999 | M28: =J28-L28 -> -22.16525 | O28: =J28-AD28 -> -0.16625 | P28: =IFERROR(O28/H28,"") -> 0.0095 | R28: =O28-Q28 -> -0.16625 | T28: 1.9 | V28: =L28+T28 -> 23.899 | W28: =H28-V28 -> -41.399 | AD28: 0 | AE28: 85 | AF28: 21.999 | AG28: -21.999
B29: T1-55 | D29: T | E29: 56 | H29: =SUM(E29:G29) -> 56 | J29: =H29*K29/100 -> 0.4872 | K29: =Ciment!K29 -> 0.87 | L29: =Q29+AF29 -> 361.033 | M29: =J29-L29 -> -360.5458 | O29: =J29-AD29 -> -643.34819 | P29: =IFERROR(O29/H29,"") -> -11.48836 | R29: =O29-Q29 -> -643.34819 | T29: 12 | V29: =L29+T29 -> 373.033 | W29: =H29-V29 -> -317.033 | AD29: 643.83539 | AE29: 95 | AF29: 361.033 | AG29: 282.80239
B30: T1-66 | D30: T | E30: 4 | H30: =SUM(E30:G30) -> 4 | J30: =H30*K30/100 -> 0 | K30: =Ciment!K30 -> 0 | L30: =Q30+AF30 -> 0 | M30: =J30-L30 -> 0 | O30: =J30-AD30 -> 0 | P30: =IFERROR(O30/H30,"") -> 0 | R30: =O30-Q30 -> 0 | V30: =L30+T30 -> 0 | W30: =H30-V30 -> 4 | AD30: 0 | AE30: 0 | AF30: 0 | AG30: 0
B31: T1-77 | D31: T | E31: 2.5 | H31: =SUM(E31:G31) -> 2.5 | J31: =H31*K31/100 -> 0 | K31: =Ciment!K31 -> 0 | L31: =Q31+AF31 -> 0 | M31: =J31-L31 -> 0 | O31: =J31-AD31 -> 0 | P31: =IFERROR(O31/H31,"") -> 0 | R31: =O31-Q31 -> 0 | V31: =L31+T31 -> 0 | W31: =H31-V31 -> 2.5 | AD31: 0 | AE31: 0 | AF31: 0 | AG31: 0
B32: T1-88 | D32: T | E32: 1.9 | H32: =SUM(E32:G32) -> 1.9 | J32: =H32*K32/100 -> 0 | K32: =Ciment!K32 -> 0 | L32: =Q32+AF32 -> 0 | M32: =J32-L32 -> 0 | O32: =J32-AD32 -> 0 | P32: =IFERROR(O32/H32,"") -> 0 | R32: =O32-Q32 -> 0 | V32: =L32+T32 -> 0 | W32: =H32-V32 -> 1.9 | AD32: 0 | AE32: 0 | AF32: 0 | AG32: 0
B33: T1-99 | D33: T | E33: 0 | H33: =SUM(E33:G33) -> 0 | J33: =H33*K33/100 -> 0 | K33: =Ciment!K33 -> 0 | L33: =Q33+AF33 -> 0 | M33: =J33-L33 -> 0 | O33: =J33-AD33 -> 0 | P33: =IFERROR(O33/H33,"") | R33: =O33-Q33 -> 0 | V33: =L33+T33 -> 0 | W33: =H33-V33 -> 0 | AD33: 0 | AE33: 0 | AF33: 0 | AG33: 0
B34: T1-110 | D34: T | E34: 16.3 | H34: =SUM(E34:G34) -> 16.3 | J34: =H34*K34/100 -> 0 | K34: =Ciment!K34 -> 0 | L34: =Q34+AF34 -> 0 | M34: =J34-L34 -> 0 | O34: =J34-AD34 -> 0 | P34: =IFERROR(O34/H34,"") -> 0 | R34: =O34-Q34 -> 0 | V34: =L34+T34 -> 0 | W34: =H34-V34 -> 16.3 | AD34: 0 | AE34: 0 | AF34: 0 | AG34: 0
B35: INFRA + SUPER - T1 | D35: T | E35: =SUM(E36:E37) -> 5.51016 | F35: =SUM(F36:F37) -> 0 | G35: =SUM(G36:G37) -> 0 | H35: =SUM(H36:H37) -> 5.51016 | J35: =SUM(J36:J37) -> 0.023802672 | K35: =IFERROR(J35/H35,"") -> 0.0043197787 | L35: =SUM(L36:L37) -> 14.81016 | M35: =SUM(M36:M37) -> -14.786357 | O35: =SUM(O36:O37) -> -2.9331133 | P35: =IFERROR(O35/H35,"") -> -0.53231001 | Q35: =SUM(Q36:Q37) -> 0 | R35: =SUM(R36:R37) -> -2.9331133 | T35: =SUM(T36:T37) -> 2 | V35: =SUM(V36:V37) -> 16.81016 | W35: =SUM(W36:W37) -> -11.3 | AD35: 2.956916 | AE35: 0.53662979 | AF35: 14.81016 | AG35: -11.853244
B36: T1-A | D36: T | E36: 4.63721 | H36: =SUM(E36:G36) -> 4.63721 | J36: =H36*K36/100 -> 0.021794887 | K36: =Ciment!K36 -> 0.47 | L36: =Q36+AF36 -> 13.93721 | M36: =J36-L36 -> -13.915415 | O36: =J36-AD36 -> -2.7605311 | P36: =IFERROR(O36/H36,"") -> -0.5953 | R36: =O36-Q36 -> -2.7605311 | T36: 2 | V36: =L36+T36 -> 15.93721 | W36: =H36-V36 -> -11.3 | AD36: 2.782326 | AE36: 60 | AF36: 13.93721 | AG36: -11.154884
B37: T1-B | D37: T | E37: 0.87295 | H37: =SUM(E37:G37) -> 0.87295 | J37: =H37*K37/100 -> 0.002007785 | K37: =Ciment!K37 -> 0.23 | L37: =Q37+AF37 -> 0.87295 | M37: =J37-L37 -> -0.87094222 | O37: =J37-AD37 -> -0.17258221 | P37: =IFERROR(O37/H37,"") -> -0.1977 | R37: =O37-Q37 -> -0.17258221 | T37: 0 | V37: =L37+T37 -> 0.87295 | W37: =H37-V37 -> 0 | AD37: 0.17459 | AE37: 20 | AF37: 0.87295 | AG37: -0.69836
B38: ESC - T1 | D38: T | E38: =SUM(E39:E40) -> 0 | F38: =SUM(F39:F40) -> 0 | G38: =SUM(G39:G40) -> 0 | H38: =SUM(H39:H40) -> 0 | J38: =SUM(J39:J40) -> 0 | K38: =IFERROR(J38/H38,"") | L38: =SUM(L39:L40) -> 13.449 | M38: =SUM(M39:M40) -> -13.449 | O38: =SUM(O39:O40) -> 0 | P38: =IFERROR(O38/H38,"") | Q38: =SUM(Q39:Q40) -> 0 | R38: =SUM(R39:R40) -> 0 | T38: =SUM(T39:T40) -> 1.4 | V38: =SUM(V39:V40) -> 14.849 | W38: =SUM(W39:W40) -> -14.849 | AD38: 0 | AF38: 13.449 | AG38: -13.449
B39: T1-S | D39: T | E39: 0 | H39: =SUM(E39:G39) -> 0 | J39: =H39*K39/100 -> 0 | K39: =Ciment!K39 -> 0.99 | L39: =Q39+AF39 -> 13.149 | M39: =J39-L39 -> -13.149 | O39: =J39-AD39 -> 0 | P39: =IFERROR(O39/H39,"") | R39: =O39-Q39 -> 0 | T39: 1.4 | V39: =L39+T39 -> 14.549 | W39: =H39-V39 -> -14.549 | AD39: 0 | AE39: 99 | AF39: 13.149 | AG39: -13.149
B40: T1-C | D40: T | E40: 0 | H40: =SUM(E40:G40) -> 0 | J40: =H40*K40/100 -> 0 | K40: =Ciment!K40 -> 0.68 | L40: =Q40+AF40 -> 0.3 | M40: =J40-L40 -> -0.3 | O40: =J40-AD40 -> 0 | P40: =IFERROR(O40/H40,"") | R40: =O40-Q40 -> 0 | V40: =L40+T40 -> 0.3 | W40: =H40-V40 -> -0.3 | AD40: 0 | AE40: 65 | AF40: 0.3 | AG40: -0.3
B46: PART PROPRE | D46: T | E46: =E47+E59 -> 147927.38 | F46: =F47+F59 -> 0 | G46: =G47+G59 -> 0 | H46: =H47+H59 -> 147927.38 | J46: =J47+J59 -> 0 | K46: =IFERROR(J46/H46,"") -> 0 | L46: =L47+L59 -> 123461.76 | M46: =M47+M59 -> -123461.76 | O46: =O47+O59 -> -116456.78 | P46: =IFERROR(O46/H46,"") -> -0.7872564 | Q46: =Q47+Q59 -> 0 | R46: =R47+R59 -> -116456.78 | T46: =T47+T59 -> 35.3 | V46: =V47+V59 -> 123478.8 | W46: =W47+W59 -> 24448.58 | AD46: 124301.69 | AE46: 0.3778904 | AF46: 150244 | AG46: -25942.312
B47: FOND - T2 | D47: T | E47: =SUM(E48:E58) -> 10558.783 | F47: =SUM(F48:F58) -> 0 | G47: =SUM(G48:G58) -> 0 | H47: =SUM(H48:H58) -> 10558.783 | J47: =SUM(J48:J58) -> 0 | K47: =IFERROR(J47/H47,"") -> 0 | L47: =SUM(L48:L58) -> 8366 | M47: =SUM(M48:M58) -> -8366 | O47: =SUM(O48:O58) -> -8715.0558 | P47: =IFERROR(O47/H47,"") -> -0.82538452 | Q47: =SUM(Q48:Q58) -> 0 | R47: =SUM(R48:R58) -> -8715.0558 | T47: =SUM(T48:T58) -> 16.6 | V47: =SUM(V48:V58) -> 8382.6 | W47: =SUM(W48:W58) -> 2176.1827 | AD47: 8715.0558 | AE47: 0.98100731 | AF47: 8366 | AG47: 349.05578
B48: T2-1 | D48: T | E48: 1410.8 | H48: =SUM(E48:G48) -> 1410.8 | J48: =H48*K48/100 -> 0 | K48: =Ciment!K72 -> 0 | L48: =Q48+AF48 -> 483 | M48: =J48-L48 -> -483 | O48: =J48-AD48 -> -398.476 | P48: =IFERROR(O48/H48,0) -> -0.28244684 | R48: =O48-Q48 -> -398.476 | V48: =L48+T48 -> 483 | W48: =H48-V48 -> 927.8 | AD48: 398.476 | AE48: 97 | AF48: 483 | AG48: -84.524
...

Sheet Total
A3: RECAPITULATIF DES BILANS
B5: P.U. | D5: =Heures!H5 -> 26 | E5: =Ciment!H5 -> 695 | F5: =Acier!H5 -> 1950 | G5: =G11 -> 9628589.8 | M5: =Heures!L5 -> 61.071908 | N5: =Ciment!L5 -> 1752.5691 | O5: =Acier!L5 -> 16846.352 | Q5: =Heures!Q5 | R5: =Ciment!Q5 | S5: =Acier!Q5 | U5: =Heures!T5 -> 29 | V5: =Ciment!T5 -> 695 | W5: =Acier!T5 -> 1950 | X5: =X11 -> 1023294 | AB5: =Heures!V5 -> 57.624575 | AC5: =Ciment!V5 -> 1691.6458 | AD5: =Acier!V5 -> 16321.875
B6: MONTANT | D6: =Heures!E6 -> 2232620 | E6: =Ciment!H6 -> 6726905 | F6: =Acier!H6 -> 669064.81 | M6: =Heures!L6 -> 8611139 | N6: =Ciment!L6 -> 18463689 | O6: =Acier!L6 -> 19711532 | Q6: =Heures!Q6 -> 0 | R6: =Ciment!Q6 -> 0 | S6: =Acier!Q6 -> 0 | U6: =Heures!T6 -> 492449 | V6: =Ciment!T6 -> 447580 | W6: =Acier!T6 -> 83265 | AB6: =Heures!V6 -> 9103588 | AC6: =Ciment!V6 -> 18911269 | AD6: =Acier!V6 -> 19794797
M7: xxxxxxx
D8: Budgets Conformes | M8: Dépenses Cumulées | Q8: Dépenses Mensuelles | U8: RAD | AB8: CUMUL FDC
A9: Code OTP | B9: Description OTP | C9: . | D9: MO | E9: BETON | F9: ACIER | G9: MONTANT BUDG | I9: Avcmt% | J9: Budget Avancé | K9: RAR | L9: . | M9: MO | N9: BETON | O9: ACIER | P9: . | Q9: MO | R9: BETON | S9: ACIER | T9: . | U9: MO | V9: BETON | W9: ACIER | X9: Montant RAD | Y9: . | AB9: MO | AC9: BETON | AD9: ACIER
B11: PART PROPRE | D11: =Heures!H11 -> 85870 | E11: =Ciment!H11 -> 9679 | F11: =Acier!H11 -> 343.11016 | G11: =SUM(G12+G24+G35+G38) -> 9628589.8 | I11: =Ciment!K11 -> 0.0057015497 | J11: =SUM(J12+J24+J35+J38) -> 5115528.5 | K11: =100%-I11 -> 0.99429845 | M11: =Heures!L11 -> 141000 | N11: =Ciment!L11 -> 10535.213 | O11: =Acier!L11 -> 1170.0772 | Q11: =Heures!Q11 -> 0 | R11: =Ciment!Q11 -> 0 | S11: =Acier!Q11 -> 0 | U11: =Heures!T11 -> 16981 | V11: =Ciment!T11 -> 644 | W11: =Acier!T11 -> 42.7 | X11: =SUM(X12+X24+X35+X38) -> 1023294 | AB11: =Heures!V11 -> 157981 | AC11: =Ciment!V11 -> 11179.213 | AD11: =Acier!V11 -> 1212.7772
B12: FOND - T1 | D12: =Heures!H12 -> 11487 | E12: =Ciment!H12 -> 7062 | F12: =Acier!H12 -> 274.4 | G12: =SUM(G13:G23) -> 5741832 | I12: =Ciment!K12 -> 0.0059786746 | J12: =SUM(J13:J23) -> 3163388.8 | K12: =100%-I12 -> 0.99402133 | M12: =Heures!L12 -> 8366 | N12: =Ciment!L12 -> 2518.613 | O12: =Acier!L12 -> 257.209 | Q12: =Heures!Q12 -> 0 | R12: =Ciment!Q12 -> 0 | S12: =Acier!Q12 -> 0 | U12: =Heures!T12 -> 431 | V12: =Ciment!T12 -> 108 | W12: =Acier!T12 -> 16.6 | X12: =SUM(X13:X23) -> 119929 | AB12: =Heures!V12 -> 8797 | AC12: =Ciment!V12 -> 2626.613 | AD12: =Acier!V12 -> 273.809
B13: T1-1 | D13: =Heures!H13 -> 234 | E13: =Ciment!H13 -> 456 | F13: =Acier!H13 -> 0 | G13: =IFERROR(SUM((D13*$D$5)+(E13*$E$5)+(F13*$F$5)),"") -> 323004 | I13: =Ciment!K13 -> 0.92 | J13: =G13*I13 -> 297163.68 | K13: =100%-I13 -> 0.08 | M13: =Heures!L13 -> 483 | N13: =Ciment!L13 -> 201.07 | O13: =Acier!L13 -> 0 | Q13: =Heures!Q13 -> 0 | R13: =Ciment!Q13 -> 0 | S13: =Acier!Q13 -> 0 | U13: =Heures!T13 -> 14 | V13: =Ciment!T13 -> 2 | W13: =Acier!T13 -> 0 | X13: =IFERROR(SUM((U13*$U$5)+(V13*$V$5)+(W13*$W$5)),"") -> 1796 | AB13: =Heures!V13 -> 497 | AC13: =Ciment!V13 -> 203.07 | AD13: =Acier!V13 -> 0
B14: T1-2 | D14: =Heures!H14 -> 643 | E14: =Ciment!H14 -> 546 | F14: =Acier!H14 -> 0 | G14: =IFERROR(SUM((D14*$D$5)+(E14*$E$5)+(F14*$F$5)),"") -> 396188 | I14: =Ciment!K14 -> 0.83 | J14: =G14*I14 -> 328836.04 | K14: =100%-I14 -> 0.17 | M14: =Heures!L14 -> 1 | N14: =Ciment!L14 -> 1.5 | O14: =Acier!L14 -> 0 | Q14: =Heures!Q14 -> 0 | R14: =Ciment!Q14 -> 0 | S14: =Acier!Q14 -> 0 | U14: =Heures!T14 -> 0 | V14: =Ciment!T14 -> 5 | W14: =Acier!T14 -> 3 | X14: =IFERROR(SUM((U14*$U$5)+(V14*$V$5)+(W14*$W$5)),"") -> 9325 | AB14: =Heures!V14 -> 1 | AC14: =Ciment!V14 -> 6.5 | AD14: =Acier!V14 -> 3
B15: T1-3 | D15: =Heures!H15 -> 453 | E15: =Ciment!H15 -> 678 | F15: =Acier!H15 -> 128 | G15: =IFERROR(SUM((D15*$D$5)+(E15*$E$5)+(F15*$F$5)),"") -> 732588 | I15: =Ciment!K15 -> 0 | J15: =G15*I15 -> 0 | K15: =100%-I15 -> 1 | M15: =Heures!L15 -> 342 | N15: =Ciment!L15 -> 108 | O15: =Acier!L15 -> 0 | Q15: =Heures!Q15 -> 0 | R15: =Ciment!Q15 -> 0 | S15: =Acier!Q15 -> 0 | U15: =Heures!T15 -> 0 | V15: =Ciment!T15 -> 0 | W15: =Acier!T15 -> 0 | X15: =IFERROR(SUM((U15*$U$5)+(V15*$V$5)+(W15*$W$5)),"") -> 0 | AB15: =Heures!V15 -> 342 | AC15: =Ciment!V15 -> 108 | AD15: =Acier!V15 -> 0
B16: T1-4 | D16: =Heures!H16 -> 4535 | E16: =Ciment!H16 -> 810 | F16: =Acier!H16 -> 0 | G16: =IFERROR(SUM((D16*$D$5)+(E16*$E$5)+(F16*$F$5)),"") -> 680860 | I16: =Ciment!K16 -> 0.78 | J16: =G16*I16 -> 531070.8 | K16: =100%-I16 -> 0.22 | M16: =Heures!L16 -> 140 | N16: =Ciment!L16 -> 38 | O16: =Acier!L16 -> 9.56 | Q16: =Heures!Q16 -> 0 | R16: =Ciment!Q16 -> 0 | S16: =Acier!Q16 -> 0 | U16: =Heures!T16 -> 33 | V16: =Ciment!T16 -> 13 | W16: =Acier!T16 -> 2.3 | X16: =IFERROR(SUM((U16*$U$5)+(V16*$V$5)+(W16*$W$5)),"") -> 14477 | AB16: =Heures!V16 -> 173 | AC16: =Ciment!V16 -> 51 | AD16: =Acier!V16 -> 11.86
B17: T1-5 | D17: =Heures!H17 -> 3343 | E17: =Ciment!H17 -> 942 | F17: =Acier!H17 -> 0 | G17: =IFERROR(SUM((D17*$D$5)+(E17*$E$5)+(F17*$F$5)),"") -> 741608 | I17: =Ciment!K17 -> 0.66 | J17: =G17*I17 -> 489461.28 | K17: =100%-I17 -> 0.34 | M17: =Heures!L17 -> 1210 | N17: =Ciment!L17 -> 387.73 | O17: =Acier!L17 -> 43.626 | Q17: =Heures!Q17 -> 0 | R17: =Ciment!Q17 -> 0 | S17: =Acier!Q17 -> 0 | U17: =Heures!T17 -> 53 | V17: =Ciment!T17 -> 22 | W17: =Acier!T17 -> 0 | X17: =IFERROR(SUM((U17*$U$5)+(V17*$V$5)+(W17*$W$5)),"") -> 16827 | AB17: =Heures!V17 -> 1263 | AC17: =Ciment!V17 -> 409.73 | AD17: =Acier!V17 -> 43.626
B18: T1-6 | D18: =Heures!H18 -> 534 | E18: =Ciment!H18 -> 1074 | F18: =Acier!H18 -> 0 | G18: =IFERROR(SUM((D18*$D$5)+(E18*$E$5)+(F18*$F$5)),"") -> 760314 | I18: =Ciment!K18 -> 0.74 | J18: =G18*I18 -> 562632.36 | K18: =100%-I18 -> 0.26 | M18: =Heures!L18 -> 1307 | N18: =Ciment!L18 -> 98.713 | O18: =Acier!L18 -> 28.322 | Q18: =Heures!Q18 -> 0 | R18: =Ciment!Q18 -> 0 | S18: =Acier!Q18 -> 0 | U18: =Heures!T18 -> 63 | V18: =Ciment!T18 -> 6 | W18: =Acier!T18 -> 5 | X18: =IFERROR(SUM((U18*$U$5)+(V18*$V$5)+(W18*$W$5)),"") -> 15747 | AB18: =Heures!V18 -> 1370 | AC18: =Ciment!V18 -> 104.713 | AD18: =Acier!V18 -> 33.322
B19: T1-7 | D19: =Heures!H19 -> 643 | E19: =Ciment!H19 -> 1206 | F19: =Acier!H19 -> 0 | G19: =IFERROR(SUM((D19*$D$5)+(E19*$E$5)+(F19*$F$5)),"") -> 854888 | I19: =Ciment!K19 -> 0.37 | J19: =G19*I19 -> 316308.56 | K19: =100%-I19 -> 0.63 | M19: =Heures!L19 -> 956 | N19: =Ciment!L19 -> 27.12 | O19: =Acier!L19 -> 15.324 | Q19: =Heures!Q19 -> 0 | R19: =Ciment!Q19 -> 0 | S19: =Acier!Q19 -> 0 | U19: =Heures!T19 -> 0 | V19: =Ciment!T19 -> 3 | W19: =Acier!T19 -> 2.3 | X19: =IFERROR(SUM((U19*$U$5)+(V19*$V$5)+(W19*$W$5)),"") -> 6570 | AB19: =Heures!V19 -> 956 | AC19: =Ciment!V19 -> 30.12 | AD19: =Acier!V19 -> 17.624
B20: T1-8 | D20: =Heures!H20 -> 345 | E20: =Ciment!H20 -> 1338 | F20: =Acier!H20 -> 0 | G20: =IFERROR(SUM((D20*$D$5)+(E20*$E$5)+(F20*$F$5)),"") -> 938880 | I20: =Ciment!K20 -> 0.63 | J20: =G20*I20 -> 591494.4 | K20: =100%-I20 -> 0.37 | M20: =Heures!L20 -> 1320 | N20: =Ciment!L20 -> 93 | O20: =Acier!L20 -> 36.097 | Q20: =Heures!Q20 -> 0 | R20: =Ciment!Q20 -> 0 | S20: =Acier!Q20 -> 0 | U20: =Heures!T20 -> 214 | V20: =Ciment!T20 -> 17 | W20: =Acier!T20 -> 4 | X20: =IFERROR(SUM((U20*$U$5)+(V20*$V$5)+(W20*$W$5)),"") -> 25821 | AB20: =Heures!V20 -> 1534 | AC20: =Ciment!V20 -> 110 | AD20: =Acier!V20 -> 40.097
B21: T1-9 | D21: =Heures!H21 -> 532 | E21: =Ciment!H21 -> 0 | F21: =Acier!H21 -> 12 | G21: =IFERROR(SUM((D21*$D$5)+(E21*$E$5)+(F21*$F$5)),"") -> 37232 | I21: =Ciment!K21 -> 0.74 | J21: =G21*I21 -> 27551.68 | K21: =100%-I21 -> 0.26 | M21: =Heures!L21 -> 1269 | N21: =Ciment!L21 -> 353.5 | O21: =Acier!L21 -> 17.488 | Q21: =Heures!Q21 -> 0 | R21: =Ciment!Q21 -> 0 | S21: =Acier!Q21 -> 0 | U21: =Heures!T21 -> 22 | V21: =Ciment!T21 -> 40 | W21: =Acier!T21 -> 0 | X21: =IFERROR(SUM((U21*$U$5)+(V21*$V$5)+(W21*$W$5)),"") -> 28438 | AB21: =Heures!V21 -> 1291 | AC21: =Ciment!V21 -> 393.5 | AD21: =Acier!V21 -> 17.488
B22: T1-10 | D22: =Heures!H22 -> 225 | E22: =Ciment!H22 -> 12 | F22: =Acier!H22 -> 2.4 | G22: =IFERROR(SUM((D22*$D$5)+(E22*$E$5)+(F22*$F$5)),"") -> 18870 | I22: =Ciment!K22 -> 1 | J22: =G22*I22 -> 18870 | K22: =100%-I22 -> 0 | M22: =Heures!L22 -> 1338 | N22: =Ciment!L22 -> 1209.98 | O22: =Acier!L22 -> 106.792 | Q22: =Heures!Q22 -> 0 | R22: =Ciment!Q22 -> 0 | S22: =Acier!Q22 -> 0 | U22: =Heures!T22 -> 32 | V22: =Ciment!T22 -> 0 | W22: =Acier!T22 -> 0 | X22: =IFERROR(SUM((U22*$U$5)+(V22*$V$5)+(W22*$W$5)),"") -> 928 | AB22: =Heures!V22 -> 1370 | AC22: =Ciment!V22 -> 1209.98 | AD22: =Acier!V22 -> 106.792
B23: T1-11 | D23: =Heures!H23 -> 0 | E23: =Ciment!H23 -> 0 | F23: =Acier!H23 -> 132 | G23: =IFERROR(SUM((D23*$D$5)+(E23*$E$5)+(F23*$F$5)),"") -> 257400 | I23: =Ciment!K23 -> 0 | J23: =G23*I23 -> 0 | K23: =100%-I23 -> 1 | M23: =Heures!L23 -> 0 | N23: =Ciment!L23 -> 0 | O23: =Acier!L23 -> 0 | Q23: =Heures!Q23 -> 0 | R23: =Ciment!Q23 -> 0 | S23: =Acier!Q23 -> 0 | U23: =Heures!T23 -> 0 | V23: =Ciment!T23 -> 0 | W23: =Acier!T23 -> 0 | X23: =IFERROR(SUM((U23*$U$5)+(V23*$V$5)+(W23*$W$5)),"") -> 0 | AB23: =Heures!V23 -> 0 | AC23: =Ciment!V23 -> 0 | AD23: =Acier!V23 -> 0
B24: SUP - T1 | D24: =Heures!H24 -> 63627 | E24: =Ciment!H24 -> 2532 | F24: =Acier!H24 -> 63.2 | G24: =SUM(G25:G34) -> 3537282 | I24: =Ciment!K24 -> 0.004921564 | J24: =SUM(J25:J34) -> 1709318.2 | K24: =100%-I24 -> 0.99507844 | M24: =Heures!L24 -> 115077.5 | N24: =Ciment!L24 -> 7841.1 | O24: =Acier!L24 -> 884.609 | Q24: =Heures!Q24 -> 0 | R24: =Ciment!Q24 -> 0 | S24: =Acier!Q24 -> 0 | U24: =Heures!T24 -> 13568 | V24: =Ciment!T24 -> 433 | W24: =Acier!T24 -> 22.7 | X24: =SUM(X25:X34) -> 738672 | AB24: =Heures!V24 -> 128645.5 | AC24: =Ciment!V24 -> 8274.1 | AD24: =Acier!V24 -> 907.309
B25: T1-11 | D25: =Heures!H25 -> 2352 | E25: =Ciment!H25 -> 215 | F25: =Acier!H25 -> 0 | G25: =IFERROR(SUM((D25*$D$5)+(E25*$E$5)+(F25*$F$5)),"") -> 210577 | I25: =Ciment!K25 -> 0.74 | J25: =G25*I25 -> 155826.98 | K25: =100%-I25 -> 0.26 | M25: =Heures!L25 -> 4442 | N25: =Ciment!L25 -> 304.45 | O25: =Acier!L25 -> 61.129 | Q25: =Heures!Q25 -> 0 | R25: =Ciment!Q25 -> 0 | S25: =Acier!Q25 -> 0 | U25: =Heures!T25 -> 43 | V25: =Ciment!T25 -> 12 | W25: =Acier!T25 -> 2 | X25: =IFERROR(SUM((U25*$U$5)+(V25*$V$5)+(W25*$W$5)),"") -> 13487 | AB25: =Heures!V25 -> 4485 | AC25: =Ciment!V25 -> 316.45 | AD25: =Acier!V25 -> 63.129
B26: T1-22 | D26: =Heures!H26 -> 3425 | E26: =Ciment!H26 -> 356 | F26: =Acier!H26 -> 0 | G26: =IFERROR(SUM((D26*$D$5)+(E26*$E$5)+(F26*$F$5)),"") -> 336470 | I26: =Ciment!K26 -> 0.33 | J26: =G26*I26 -> 111035.1 | K26: =100%-I26 -> 0.67 | M26: =Heures!L26 -> 31170.5 | N26: =Ciment!L26 -> 2717.6 | O26: =Acier!L26 -> 423.145 | Q26: =Heures!Q26 -> 0 | R26: =Ciment!Q26 -> 0 | S26: =Acier!Q26 -> 0 | U26: =Heures!T26 -> 3422 | V26: =Ciment!T26 -> 34 | W26: =Acier!T26 -> 4 | X26: =IFERROR(SUM((U26*$U$5)+(V26*$V$5)+(W26*$W$5)),"") -> 130668 | AB26: =Heures!V26 -> 34592.5 | AC26: =Ciment!V26 -> 2751.6 | AD26: =Acier!V26 -> 427.145
B27: T1-33 | D27: =Heures!H27 -> 252 | E27: =Ciment!H27 -> 365 | F27: =Acier!H27 -> 0 | G27: =IFERROR(SUM((D27*$D$5)+(E27*$E$5)+(F27*$F$5)),"") -> 260227 | I27: =Ciment!K27 -> 0.77 | J27: =G27*I27 -> 200374.79 | K27: =100%-I27 -> 0.23 | M27: =Heures!L27 -> 2129 | N27: =Ciment!L27 -> 64.7 | O27: =Acier!L27 -> 17.303 | Q27: =Heures!Q27 -> 0 | R27: =Ciment!Q27 -> 0 | S27: =Acier!Q27 -> 0 | U27: =Heures!T27 -> 6435 | V27: =Ciment!T27 -> 99 | W27: =Acier!T27 -> 2.8 | X27: =IFERROR(SUM((U27*$U$5)+(V27*$V$5)+(W27*$W$5)),"") -> 260880 | AB27: =Heures!V27 -> 8564 | AC27: =Ciment!V27 -> 163.7 | AD27: =Acier!V27 -> 20.103
B28: T1-44 | D28: =Heures!H28 -> 25235 | E28: =Ciment!H28 -> 374 | F28: =Acier!H28 -> -17.5 | G28: =IFERROR(SUM((D28*$D$5)+(E28*$E$5)+(F28*$F$5)),"") -> 881915 | I28: =Ciment!K28 -> 0.95 | J28: =G28*I28 -> 837819.25 | K28: =100%-I28 -> 0.05 | M28: =Heures!L28 -> 3901 | N28: =Ciment!L28 -> 150.2 | O28: =Acier!L28 -> 21.999 | Q28: =Heures!Q28 -> 0 | R28: =Ciment!Q28 -> 0 | S28: =Acier!Q28 -> 0 | U28: =Heures!T28 -> 244 | V28: =Ciment!T28 -> 23 | W28: =Acier!T28 -> 1.9 | X28: =IFERROR(SUM((U28*$U$5)+(V28*$V$5)+(W28*$W$5)),"") -> 26766 | AB28: =Heures!V28 -> 4145 | AC28: =Ciment!V28 -> 173.2 | AD28: =Acier!V28 -> 23.899
B29: T1-55 | D29: =Heures!H29 -> 3434 | E29: =Ciment!H29 -> 383 | F29: =Acier!H29 -> 56 | G29: =IFERROR(SUM((D29*$D$5)+(E29*$E$5)+(F29*$F$5)),"") -> 464669 | I29: =Ciment!K29 -> 0.87 | J29: =G29*I29 -> 404262.03 | K29: =100%-I29 -> 0.13 | M29: =Heures!L29 -> 73435 | N29: =Ciment!L29 -> 4604.15 | O29: =Acier!L29 -> 361.033 | Q29: =Heures!Q29 -> 0 | R29: =Ciment!Q29 -> 0 | S29: =Acier!Q29 -> 0 | U29: =Heures!T29 -> 3424 | V29: =Ciment!T29 -> 265 | W29: =Acier!T29 -> 12 | X29: =IFERROR(SUM((U29*$U$5)+(V29*$V$5)+(W29*$W$5)),"") -> 306871 | AB29: =Heures!V29 -> 76859 | AC29: =Ciment!V29 -> 4869.15 | AD29: =Acier!V29 -> 373.033
B30: T1-66 | D30: =Heures!H30 -> 25225 | E30: =Ciment!H30 -> 392 | F30: =Acier!H30 -> 4 | G30: =IFERROR(SUM((D30*$D$5)+(E30*$E$5)+(F30*$F$5)),"") -> 936090 | I30: =Ciment!K30 -> 0 | J30: =G30*I30 -> 0 | K30: =100%-I30 -> 1 | M30: =Heures!L30 -> 0 | N30: =Ciment!L30 -> 0 | O30: =Acier!L30 -> 0 | Q30: =Heures!Q30 -> 0 | R30: =Ciment!Q30 -> 0 | S30: =Acier!Q30 -> 0 | U30: =Heures!T30 -> 0 | V30: =Ciment!T30 -> 0 | W30: =Acier!T30 -> 0 | X30: =IFERROR(SUM((U30*$U$5)+(V30*$V$5)+(W30*$W$5)),"") -> 0 | AB30: =Heures!V30 -> 0 | AC30: =Ciment!V30 -> 0 | AD30: =Acier!V30 -> 0
B31: T1-77 | D31: =Heures!H31 -> 3324 | E31: =Ciment!H31 -> 401 | F31: =Acier!H31 -> 2.5 | G31: =IFERROR(SUM((D31*$D$5)+(E31*$E$5)+(F31*$F$5)),"") -> 369994 | I31: =Ciment!K31 -> 0 | J31: =G31*I31 -> 0 | K31: =100%-I31 -> 1 | M31: =Heures!L31 -> 0 | N31: =Ciment!L31 -> 0 | O31: =Acier!L31 -> 0 | Q31: =Heures!Q31 -> 0 | R31: =Ciment!Q31 -> 0 | S31: =Acier!Q31 -> 0 | U31: =Heures!T31 -> 0 | V31: =Ciment!T31 -> 0 | W31: =Acier!T31 -> 0 | X31: =IFERROR(SUM((U31*$U$5)+(V31*$V$5)+(W31*$W$5)),"") -> 0 | AB31: =Heures!V31 -> 0 | AC31: =Ciment!V31 -> 0 | AD31: =Acier!V31 -> 0
B32: T1-88 | D32: =Heures!H32 -> 345 | E32: =Ciment!H32 -> 0 | F32: =Acier!H32 -> 1.9 | G32: =IFERROR(SUM((D32*$D$5)+(E32*$E$5)+(F32*$F$5)),"") -> 12675 | I32: =Ciment!K32 -> 0 | J32: =G32*I32 -> 0 | K32: =100%-I32 -> 1 | M32: =Heures!L32 -> 0 | N32: =Ciment!L32 -> 0 | O32: =Acier!L32 -> 0 | Q32: =Heures!Q32 -> 0 | R32: =Ciment!Q32 -> 0 | S32: =Acier!Q32 -> 0 | U32: =Heures!T32 -> 0 | V32: =Ciment!T32 -> 0 | W32: =Acier!T32 -> 0 | X32: =IFERROR(SUM((U32*$U$5)+(V32*$V$5)+(W32*$W$5)),"") -> 0 | AB32: =Heures!V32 -> 0 | AC32: =Ciment!V32 -> 0 | AD32: =Acier!V32 -> 0
B33: T1-99 | D33: =Heures!H33 -> 0 | E33: =Ciment!H33 -> 35 | F33: =Acier!H33 -> 0 | G33: =IFERROR(SUM((D33*$D$5)+(E33*$E$5)+(F33*$F$5)),"") -> 24325 | I33: =Ciment!K33 -> 0 | J33: =G33*I33 -> 0 | K33: =100%-I33 -> 1 | M33: =Heures!L33 -> 0 | N33: =Ciment!L33 -> 0 | O33: =Acier!L33 -> 0 | Q33: =Heures!Q33 -> 0 | R33: =Ciment!Q33 -> 0 | S33: =Acier!Q33 -> 0 | U33: =Heures!T33 -> 0 | V33: =Ciment!T33 -> 0 | W33: =Acier!T33 -> 0 | X33: =IFERROR(SUM((U33*$U$5)+(V33*$V$5)+(W33*$W$5)),"") -> 0 | AB33: =Heures!V33 -> 0 | AC33: =Ciment!V33 -> 0 | AD33: =Acier!V33 -> 0
B34: T1-110 | D34: =Heures!H34 -> 35 | E34: =Ciment!H34 -> 11 | F34: =Acier!H34 -> 16.3 | G34: =IFERROR(SUM((D34*$D$5)+(E34*$E$5)+(F34*$F$5)),"") -> 40340 | I34: =Ciment!K34 -> 0 | J34: =G34*I34 -> 0 | K34: =100%-I34 -> 1 | M34: =Heures!L34 -> 0 | N34: =Ciment!L34 -> 0 | O34: =Acier!L34 -> 0 | Q34: =Heures!Q34 -> 0 | R34: =Ciment!Q34 -> 0 | S34: =Acier!Q34 -> 0 | U34: =Heures!T34 -> 0 | V34: =Ciment!T34 -> 0 | W34: =Acier!T34 -> 0 | X34: =IFERROR(SUM((U34*$U$5)+(V34*$V$5)+(W34*$W$5)),"") -> 0 | AB34: =Heures!V34 -> 0 | AC34: =Ciment!V34 -> 0 | AD34: =Acier!V34 -> 0
