Workbook

Sheet export
A1: Jour | B1: Mode de paiement | C1: Module | D1: Vente HT TVA FR 20% Hors transport | E1: Montant TVA - TVA FR 20% Hors transport | F1: Vente HT TVA FR 20% Transport | G1: Montant TVA - TVA FR 20% Transport | H1: Vente HT TVA FR 5,5% | I1: Montant TVA - TVA FR 5,5%
A2: 45839 | B2: Amazon MarketPlace | C2: amazon | D2: 114.82 | E2: 22.93 | F2: 611.33 | G2: 122.56 | H2: 6387.72 | I2: 351.52
A3: 45839 | B3: PayPal | C3: ps_checkout | D3: 262.13 | E3: 53.16 | F3: 71.5 | G3: 14.3 | H3: 1833.21 | I3: 101.12
A4: 45839 | B4: Apple Pay | C4: ps_checkout | D4: 81.04 | E4: 17.92 | F4: 19.5 | G4: 3.9 | H4: 272.29 | I4: 15.01
A5: 45839 | B5: PayPal Pay Later | C5: ps_checkout | D5: 28.85 | E5: 5.8 | F5: 3.25 | G5: 0.65 | H5: 115.38 | I5: 6.44
A6: 45839 | B6: Payer par carte - paiements 100% sécurisés | C6: sogecommerce | D6: 836.53 | E6: 176.41 | F6: 100.75 | G6: 20.15 | H6: 3379.28 | I6: 185.89
A7: 45840 | B7: Amazon MarketPlace | C7: amazon | D7: 83.52 | E7: 16.68 | F7: 503.34 | G7: 100.86 | H7: 5966.36 | I7: 328.27
A8: 45840 | B8: PayPal | C8: ps_checkout | D8: 402.15 | E8: 83.89 | F8: 48.75 | G8: 9.75 | H8: 1132.82 | I8: 62.34
A9: 45840 | B9: Apple Pay | C9: ps_checkout | D9: 33.27 | E9: 6.66 | F9: 13 | G9: 2.6 | H9: 240.3 | I9: 13.31
A10: 45840 | B10: PayPal Pay Later | C10: ps_checkout | H10: 123 | I10: 6.75
A11: 45840 | B11: Google Pay | C11: ps_checkout | H11: 59.06 | I11: 3.24
A12: 45840 | B12: Payer par carte - paiements 100% sécurisés | C12: sogecommerce | D12: 557.22 | E12: 112.5 | F12: 97.5 | G12: 19.5 | H12: 1916.11 | I12: 105.39
A13: 45840 | B13: Sogecommerce | C13: sogecommerce | H13: 21.88 | I13: 1.2
A14: 45841 | B14: Amazon MarketPlace | C14: amazon | D14: 196.34 | E14: 39.21 | F14: 448.09 | G14: 89.71 | H14: 4959.9 | I14: 273.09
A15: 45841 | B15: PayPal | C15: ps_checkout | D15: 164.99 | E15: 35.16 | F15: 26 | G15: 5.2 | H15: 1067.06 | I15: 58.72
A16: 45841 | B16: PayPal Pay Later | C16: ps_checkout | D16: 25.28 | E16: 5.04 | F16: 3.25 | G16: 0.65 | H16: 77.98 | I16: 4.31
A17: 45841 | B17: Apple Pay | C17: ps_checkout | D17: 13.21 | E17: 2.65 | F17: 3.25 | G17: 0.65 | H17: 148.43 | I17: 8.23
A18: 45841 | B18: Payer par carte - paiements 100% sécurisés | C18: sogecommerce | D18: 306.82 | E18: 70.7 | F18: 61.75 | G18: 12.35 | H18: 1917.38 | I18: 105.41
A19: 45842 | B19: Amazon MarketPlace | C19: amazon | D19: 53.28 | E19: 10.64 | F19: 418.31 | G19: 83.69 | H19: 4173.83 | I19: 229.73
A20: 45842 | B20: PayPal | C20: ps_checkout | D20: 293.83 | E20: 60.78 | F20: 45.5 | G20: 9.1 | H20: 954.74 | I20: 52.58
A21: 45842 | B21: Apple Pay | C21: ps_checkout | D21: 78.04 | E21: 15.73 | F21: 19.5 | G21: 3.9 | H21: 58.22 | I21: 3.17
A22: 45842 | B22: PayPal Pay Later | C22: ps_checkout | D22: 28.25 | E22: 5.64 | F22: 3.25 | G22: 0.65 | H22: 112.42 | I22: 6.18
A23: 45842 | B23: Google Pay | C23: ps_checkout | D23: 14.36 | E23: 3.09 | F23: 3.25 | G23: 0.65 | H23: 41.06 | I23: 2.26
A24: 45842 | B24: Payer par carte - paiements 100% sécurisés | C24: sogecommerce | D24: 646.22 | E24: 132.94 | F24: 68.25 | G24: 13.65 | H24: 2689.84 | I24: 147.94
A25: 45843 | B25: Amazon MarketPlace | C25: amazon | D25: 59.94 | E25: 11.97 | F25: 379.18 | G25: 75.91 | H25: 4827.51 | I25: 265.59
... A28: 45843 | B28: PayPal Pay Later | C28: ps_checkout | D28: 88.8 | E28: 17.77 | F28: 3.25 | G28: 0.65 | H28: 271.57 | I28: 14.87
A29: 45843 | B29: Google Pay | C29: ps_checkout | H29: 24.9 | I29: 1.35
A30: 45843 | B30: Payer par carte - paiements 100% sécurisés | C30: sogecommerce | D30: 498.59 | E30: 101.87 | F30: 74.75 | G30: 14.95 | H30: 2010.95 | I30: 110.95
A31: 45844 | B31: Amazon MarketPlace | C31: amazon | D31: 129.74 | E31: 25.91 | F31: 514.82 | G31: 103.01 | H31: 5083.41 | I31: 279.74
A32: 45844 | B32: PayPal | C32: ps_checkout | D32: 358.32 | E32: 71.95 | F32: 66 | G32: 10.4 | H32: 1975.05 | I32: 108.6
A33: 45844 | B33: PayPal Pay Later | C33: ps_checkout | D33: 34.36 | E33: 7.25 | F33: 9.75 | G33: 1.95 | H33: 347.24 | I33: 19.09
A34: 45844 | B34: Apple Pay | C34: ps_checkout | D34: 29.56 | E34: 5.91 | F34: 13 | G34: 2.6 | H34: 82.3 | I34: 4.49
A35: 45844 | B35: Google Pay | C35: ps_checkout | D35: 7.13 | E35: 1.43 | H35: 111.83 | I35: 6.12
A36: 45844 | B36: Payer par carte - paiements 100% sécurisés | C36: sogecommerce | D36: 930.41 | E36: 188.6 | F36: 71.5 | G36: 14.3 | H36: 2309.01 | I36: 126.85

Sheet intégration compta
A1: JournalCode | B1: JournalLib | C1: EcritureNum | D1: EcritureDate | E1: CompteNum | F1: CompteLib | G1: CompAuxNum | H1: CompAuxLib | I1: PieceRef | J1: PieceDate | K1: EcritureLib | L1: Debit | M1: Credit | N1: EcritureLet | O1: DateLet | P1: ValidDate | Q1: MontantDevise | R1: IDevise
A2: VTI | C2: 1 | D2: 20250701 | E2: 411AMAZ | F2: Amazon | I2: 2025-07-01-Amazon | J2: 20250701 | K2: vente du jour Amazon | L2: =+SUM(export!D2:I2) -> 7610.88 | M2: 0 | Q2: 0 | R2: 0
A3: VTI | C3: 1 | D3: 20250701 | E3: 411PAYP | F3: ps_checkout | I3: 2025-07-01-PayPal | J3: 20250701 | K3: vente du jour PayPal | L3: =+SUM(export!D3:I5) -> 2905.45 | M3: 0 | Q3: 0 | R3: 0
A4: VTI | C4: 1 | D4: 20250701 | E4: 411SG | F4: sogecommerce | I4: 2025-07-01-CB | J4: 20250701 | K4: vente du jour ETIK BIO | L4: =+SUM(export!D6:I6) -> 4699.01 | M4: 0 | Q4: 0 | R4: 0
A5: VTI | C5: 1 | D5: 20250701 | E5: 70720161 | I5: 2025-07-01-Amazon | J5: 20250701 | K5: Ventes TOTALES HT 5.5% Amazon | L5: 0 | M5: =+export!H2 -> 6387.72 | Q5: 0 | R5: 0
A6: VTI | C6: 1 | D6: 20250701 | E6: 70720161 | I6: 2025-07-01-PayPal | J6: 20250701 | K6: Ventes TOTALES HT 5.5% PayPal | L6: 0 | M6: =+SUM(export!H3:H5) -> 2220.88 | Q6: 0 | R6: 0
A7: VTI | C7: 1 | D7: 20250701 | E7: 70720161 | I7: 2025-07-01-CB | J7: 20250701 | K7: Ventes TOTALES HT 5.5% sogecommerce | L7: 0 | M7: =+export!H6 -> 3379.28 | Q7: 0 | R7: 0
A8: VTI | C8: 1 | D8: 20250701 | E8: 44571200 | I8: 2025-07-01-Amazon | J8: 20250701 | K8: Tva sur ventes 5.5% Amazon | L8: 0 | M8: =+export!I2 -> 351.52 | Q8: 0 | R8: 0
A9: VTI | C9: 1 | D9: 20250701 | E9: 44571200 | I9: 2025-07-01-PayPal | J9: 20250701 | K9: Tva sur ventes 5.5% PayPal | L9: 0 | M9: =+SUM(export!I3:I5) -> 122.57 | Q9: 0 | R9: 0
A10: VTI | C10: 1 | D10: 20250701 | E10: 44571200 | I10: 2025-07-01-CB | J10: 20250701 | K10: Tva sur ventes 5.5% sogecommerce | L10: 0 | M10: =+export!I6 -> 185.89 | Q10: 0 | R10: 0
A11: VTI | C11: 1 | D11: 20250701 | E11: 70720163 | I11: 2025-07-01-Amazon | J11: 20250701 | K11: Ventes TOTALES HT 20% Amazon | L11: 0 | M11: =+export!D2 -> 114.82 | Q11: 0 | R11: 0
A12: VTI | C12: 1 | D12: 20250701 | E12: 70720163 | I12: 2025-07-01-PayPal | J12: 20250701 | K12: Ventes TOTALES HT 20% PayPal | L12: 0 | M12: =+SUM(export!D3:D5) -> 372.02 | Q12: 0 | R12: 0
A13: VTI | C13: 1 | D13: 20250701 | E13: 70720163 | I13: 2025-07-01-CB | J13: 20250701 | K13: Ventes TOTALES HT 20% sogecommerce | L13: 0 | M13: =+export!D6 -> 836.53 | Q13: 0 | R13: 0
A14: VTI | C14: 1 | D14: 20250701 | E14: 44571700 | I14: 2025-07-01-Amazon | J14: 20250701 | K14: Tva sur ventes 20% Amazon | L14: 0 | M14: =+export!E2 -> 22.93 | Q14: 0 | R14: 0
A15: VTI | C15: 1 | D15: 20250701 | E15: 44571700 | I15: 2025-07-01-PayPal | J15: 20250701 | K15: Tva sur ventes 20% PayPal | L15: 0 | M15: =+SUM(export!E3:E5) -> 76.88 | Q15: 0 | R15: 0
A16: VTI | C16: 1 | D16: 20250701 | E16: 44571700 | I16: 2025-07-01-CB | J16: 20250701 | K16: Tva sur ventes 20% CB | L16: 0 | M16: =+export!E6 -> 176.41 | Q16: 0 | R16: 0
A17: VTI | C17: 1 | D17: 20250701 | E17: 70850100 | I17: 2025-07-01-Amazon | J17: 20250701 | K17: VENTES Port 20% Amazon | L17: 0 | M17: =+export!F2 -> 611.33 | Q17: 0 | R17: 0
A18: VTI | C18: 1 | D18: 20250701 | E18: 70850100 | I18: 2025-07-01-PayPal | J18: 20250701 | K18: VENTES Port 20% PayPal | L18: 0 | M18: =+SUM(export!F3:F5) -> 94.25 | Q18: 0 | R18: 0
A19: VTI | C19: 1 | D19: 20250701 | E19: 70850100 | I19: 2025-07-01-CB | J19: 20250701 | K19: VENTES Port 20% sogecommerce | L19: 0 | M19: =+export!F6 -> 100.75 | Q19: 0 | R19: 0
A20: VTI | C20: 1 | D20: 20250701 | E20: 44571700 | I20: 2025-07-01-Amazon | J20: 20250701 | K20: TVA 20% sur port Amazon | L20: 0 | M20: =+export!G2 -> 122.56 | Q20: 0 | R20: 0
A21: VTI | C21: 1 | D21: 20250701 | E21: 44571700 | I21: 2025-07-01-PayPal | J21: 20250701 | K21: TVA 20% sur port PayPal | L21: 0 | M21: =+SUM(export!G3:G5) -> 18.85 | Q21: 0 | R21: 0
A22: VTI | C22: 1 | D22: 20250701 | E22: 44571700 | I22: 2025-07-01-CB | J22: 20250701 | K22: TVA 20% sur port CB | L22: 0 | M22: =+export!G6 -> 20.15 | Q22: 0 | R22: 0
L24: =+SUM(L2:L21) -> 15215.34 | M24: =+SUM(M2:M22) -> 15215.34
