Workbook

Sheet 01 08 21
A1: CA DU 01 08 2021
A3: HEBERGEMENT | B3: QUANTITE | C3: PRIX MOYEN | D3: CA TTC | F3: TAUX OCCUPATION
A4: CLASSIQUE | C4: =SUM(D4/B4) -> #DIV/0! | F4: =SUM(B8/40) -> 0
A5: SUPERIEUR | C5: =SUM(D5/B5) -> #DIV/0!
A6: JUNIOR | C6: =SUM(D6/B6) -> #DIV/0!
A7: SENIOR | C7: =SUM(D7:D7) -> 0
A8: TOTAL | B8: =SUM(B4:B7) -> 0 | C8: =SUM(D8/B8) -> #DIV/0! | D8: =SUM(D4:D7) -> 0
A10: SEMINAIRE | B10: QUANTITE | C10: PRIX MOYEN | D10: CA
A11: PETIT | D11: =SUM(B11*C11) -> 0
A12: MOYEN | B12: 0 | D12: =SUM(B12*C12) -> 0
A13: GRAND | B13: 0 | D13: =SUM(B13*C13) -> 0
A14: TOTAL | B14: =SUM(B11:B13) -> 0 | D14: =SUM(D11:D13) -> 0
A16: RESTAURATION | B16: QUANTITE | C16: PRIX MOYEN | D16: CA
A17: RESTAURATION
A18: PACKAGE RESTAURANT
A19: TOTAL | D19: =SUM(D17) -> 0
A21: PRESSING
A23: BAR
A24: OFFERT BAR
A25: TOTAL GENERAL | D25: =SUM(D8+D11+D14+D19+D21+D23-D24) -> 0
A27: CAISSE LE 02 08 2021
A29: CAISSE BAR
A30: CAISSE RESTAURANT
A31: CAISSE HOTEL
A32: CAISSE SEMINAIRE
A34: TOTAL CAISSE | B34: =SUM(B29:B33) -> 0
A36: STOCK LE 02 08 2021
A38: STOCK BOISSONS BAR
A39: STOCK BOISSONS RESTAURANT
A40: STOCK VIVRES RESTAURANT
A41: TOTAL STOCK | B41: =SUM(B38:B40) -> 0
A43: BANQUE
A44: BANQUE NSIA BAR
A45: BANQUE NSIA HOTEL
A46: DEPOT NSIA
A47: BANQUE NSIA RESTAURANT
A48: TOTAL BANQUE | B48: =SUM(B44:B47) -> 0

Sheet 02 08 21
A1: CA DU 02 07 2021
A3: HEBERGEMENT | B3: QUANTITE | C3: PRIX MOYEN | D3: CA TTC | F3: TAUX OCCUPATION
A4: CLASSIQUE | C4: =SUM(D4/B4) -> #DIV/0! | F4: =SUM(B8/40) -> 0
A5: SUPERIEUR | C5: =SUM(D5/B5) -> #DIV/0!
A6: JUNIOR | C6: =SUM(D6/B6) -> #DIV/0!
A7: SENIOR | C7: =SUM(D7:D7) -> 0
A8: TOTAL | B8: =SUM(B4:B7) -> 0 | C8: =SUM(D8/B8) -> #DIV/0! | D8: =SUM(D4:D7) -> 0
A10: SEMINAIRE | B10: QUANTITE | C10: PRIX MOYEN | D10: CA
A11: PETIT | D11: =SUM(B11*C11) -> 0
A12: MOYEN | B12: 0 | D12: =SUM(B12*C12) -> 0
A13: GRAND | B13: 0 | D13: =SUM(B13*C13) -> 0
A14: TOTAL | B14: =SUM(B11:B13) -> 0 | D14: =SUM(D11:D13) -> 0
A16: RESTAURATION | B16: QUANTITE | C16: PRIX MOYEN | D16: CA
A17: RESTAURATION
A18: PACKAGE RESTAURANT
A19: TOTAL | D19: =SUM(D17) -> 0
A21: PRESSING
A23: BAR
A24: OFFERT BAR
A25: TOTAL GENERAL | D25: =SUM(D8+D11+D14+D19+D21+D23-D24) -> 0
A27: CAISSE LE 03 08 2021
A29: CAISSE BAR
A30: CAISSE RESTAURANT
A31: CAISSE HOTEL
A32: CAISSE SEMINAIRE
A34: TOTAL CAISSE | B34: =SUM(B29:B33) -> 0
A36: STOCK LE 03 08 2021
A38: STOCK BOISSONS BAR
A39: STOCK BOISSONS RESTAURANT
A40: STOCK VIVRES RESTAURANT
A41: TOTAL STOCK | B41: =SUM(B38:B40) -> 0
A43: BANQUE
A44: BANQUE NSIA BAR
A45: BANQUE NSIA HOTEL
A46: DEPOT NSIA
A47: BANQUE NSIA RESTAURANT
A48: TOTAL BANQUE | B48: =SUM(B44:B47) -> 0

Sheet 03 08 21
A1: CA DU 03 08 2021
A3: HEBERGEMENT | B3: QUANTITE | C3: PRIX MOYEN | D3: CA TTC | F3: TAUX OCCUPATION
A4: CLASSIQUE | C4: =SUM(D4/B4) -> #DIV/0! | F4: =SUM(B8/40) -> 0
A5: SUPERIEUR | C5: =SUM(D5/B5) -> #DIV/0!
A6: JUNIOR | C6: =SUM(D6/B6) -> #DIV/0!
A7: SENIOR | C7: =SUM(D7/B7) -> #DIV/0!
A8: TOTAL | B8: =SUM(B4:B7) -> 0 | C8: =SUM(D8/B8) -> #DIV/0! | D8: =SUM(D4:D7) -> 0
A10: SEMINAIRE | B10: QUANTITE | C10: PRIX MOYEN | D10: CA
A11: PETIT | D11: =SUM(B11*C11) -> 0
A12: MOYEN | B12: 0 | D12: =SUM(B12*C12) -> 0
A13: GRAND | B13: 0 | D13: =SUM(B13*C13) -> 0
A14: TOTAL | B14: =SUM(B11:B13) -> 0 | D14: =SUM(D11:D13) -> 0
A16: RESTAURATION | B16: QUANTITE | C16: PRIX MOYEN | D16: CA
A17: RESTAURATION
A18: PACKAGE RESTAURANT
A19: TOTAL | D19: =SUM(D17) -> 0
A21: PRESSING
A23: BAR
A24: OFFERT BAR
A25: TOTAL GENERAL | D25: =SUM(D8+D11+D14+D19+D21+D23-D24) -> 0
A27: CAISSE LE 04 08 2021
A29: CAISSE BAR
A30: CAISSE RESTAURANT
A31: CAISSE HOTEL
A32: CAISSE SEMINAIRE
A34: TOTAL CAISSE | B34: =SUM(B29:B33) -> 0
A36: STOCK LE 04 08 2021
A38: STOCK BOISSONS BAR
A39: STOCK BOISSONS RESTAURANT
A40: STOCK VIVRES RESTAURANT
A41: TOTAL STOCK | B41: =SUM(B38:B40) -> 0
A43: BANQUE
A44: BANQUE NSIA BAR
A45: BANQUE NSIA HOTEL
A46: DEPOT NSIA
A47: BANQUE NSIA RESTAURANT
A48: TOTAL BANQUE | B48: =SUM(B44:B47) -> 0

Sheet 04 08 21
A1: CA DU 04 08 2021
A3: HEBERGEMENT | B3: QUANTITE | C3: PRIX MOYEN | D3: CA TTC | F3: TAUX OCCUPATION
A4: CLASSIQUE | C4: =SUM(D4/B4) -> #DIV/0! | F4: =SUM(B8/40) -> 0
A5: SUPERIEUR | C5: =SUM(D5/B5) -> #DIV/0!
A6: JUNIOR | C6: =SUM(D6/B6) -> #DIV/0!
A7: SENIOR | C7: =SUM(D7/B7) -> #DIV/0!
A8: TOTAL | B8: =SUM(B4:B7) -> 0 | C8: =SUM(D8/B8) -> #DIV/0! | D8: =SUM(D4:D7) -> 0
A10: SEMINAIRE | B10: QUANTITE | C10: PRIX MOYEN | D10: CA
A11: PETIT | D11: =SUM(B11*C11) -> 0
A12: MOYEN | B12: 0 | D12: =SUM(B12*C12) -> 0
A13: GRAND | B13: 0 | D13: =SUM(B13*C13) -> 0
A14: TOTAL | B14: =SUM(B11:B13) -> 0 | D14: =SUM(D11:D13) -> 0
A16: RESTAURATION | B16: QUANTITE | C16: PRIX MOYEN | D16: CA
A17: RESTAURATION
A18: PACKAGE RESTAURANT
A19: TOTAL | D19: =SUM(D17) -> 0
A21: PRESSING
A23: BAR
A24: OFFERT BAR
A25: TOTAL GENERAL | D25: =SUM(D8+D11+D14+D19+D21+D23-D24) -> 0
A27: CAISSE LE 05 08 2021
A29: CAISSE BAR
A30: CAISSE RESTAURANT
A31: CAISSE HOTEL
A32: CAISSE SEMINAIRE
A34: TOTAL CAISSE | B34: =SUM(B29:B33) -> 0
A36: STOCK LE 05 08 2021
A38: STOCK BOISSONS BAR
A39: STOCK BOISSONS RESTAURANT
A40: STOCK VIVRES RESTAURANT
A41: TOTAL STOCK | B41: =SUM(B38:B40) -> 0
A43: BANQUE
A44: BANQUE NSIA BAR
A45: BANQUE NSIA HOTEL
A46: DEPOT NSIA
A47: BANQUE NSIA RESTAURANT
A48: TOTAL BANQUE | B48: =SUM(B44:B47) -> 0

Sheet 05 08 21
A1: CA DU 05 08 2021
A3: HEBERGEMENT | B3: QUANTITE | C3: PRIX MOYEN | D3: CA TTC | F3: TAUX OCCUPATION
A4: CLASSIQUE | C4: =SUM(D4/B4) -> #DIV/0! | F4: =SUM(B8/40) -> 0
A5: SUPERIEUR | C5: =SUM(D5/B5) -> #DIV/0!
A6: JUNIOR | C6: =SUM(D6/B6) -> #DIV/0!
A7: SENIOR | C7: =SUM(D7:D7) -> 0
A8: TOTAL | B8: =SUM(B4:B7) -> 0 | C8: =SUM(D8/B8) -> #DIV/0! | D8: =SUM(D4:D7) -> 0
A10: SEMINAIRE | B10: QUANTITE | C10: PRIX MOYEN | D10: CA
A11: PETIT | D11: =SUM(B11*C11) -> 0
A12: MOYEN | B12: 0 | D12: =SUM(B12*C12) -> 0
A13: GRAND | B13: 0 | D13: =SUM(B13*C13) -> 0
A14: TOTAL | B14: =SUM(B11:B13) -> 0 | D14: =SUM(D11:D13) -> 0
A16: RESTAURATION | B16: QUANTITE | C16: PRIX MOYEN | D16: CA
A17: RESTAURATION
A18: PACKAGE RESTAURANT
A19: TOTAL | D19: =SUM(D17) -> 0
A21: PRESSING
A23: BAR
A24: OFFERT BAR
A25: TOTAL GENERAL | D25: =SUM(D8+D11+D14+D19+D21+D23-D24) -> 0
A27: CAISSE LE 06 08 2021
A29: CAISSE BAR
A30: CAISSE RESTAURANT
A31: CAISSE HOTEL
A32: CAISSE SEMINAIRE
A34: TOTAL CAISSE | B34: =SUM(B29:B33) -> 0
A36: STOCK LE 06 08 2021
A38: STOCK BOISSONS BAR
A39: STOCK BOISSONS RESTAURANT
A40: STOCK VIVRES RESTAURANT
A41: TOTAL STOCK | B41: =SUM(B38:B40) -> 0
A43: BANQUE
A44: BANQUE NSIA BAR
A45: BANQUE NSIA HOTEL
A46: DEPOT NSIA
A47: BANQUE NSIA RESTAURANT
A48: TOTAL BANQUE | B48: =SUM(B44:B47) -> 0

Sheet 06 08 21
A1: CA DU 06 08 2021
A3: HEBERGEMENT | B3: QUANTITE | C3: PRIX MOYEN | D3: CA TTC | F3: TAUX OCCUPATION
A4: CLASSIQUE | C4: =SUM(D4/B4) -> #DIV/0! | F4: =SUM(B8/40) -> 0
A5: SUPERIEUR | C5: =SUM(D5/B5) -> #DIV/0!
A6: JUNIOR | C6: =SUM(D6/B6) -> #DIV/0!
A7: SENIOR | C7: =SUM(D7:D7) -> 0
A8: TOTAL | B8: =SUM(B4:B7) -> 0 | C8: =SUM(D8/B8) -> #DIV/0! | D8: =SUM(D4:D7) -> 0
A10: SEMINAIRE | B10: QUANTITE | C10: PRIX MOYEN | D10: CA
A11: PETIT | D11: =SUM(B11*C11) -> 0
A12: MOYEN | B12: 0 | D12: =SUM(B12*C12) -> 0
A13: GRAND | B13: 0 | D13: =SUM(B13*C13) -> 0
A14: TOTAL | B14: =SUM(B11:B13) -> 0 | D14: =SUM(D11:D13) -> 0
A16: RESTAURATION | B16: QUANTITE | C16: PRIX MOYEN | D16: CA
A17: RESTAURATION
A18: PACKAGE RESTAURANT
A19: TOTAL | D19: =SUM(D17) -> 0
A21: PRESSING
A23: BAR
A24: OFFERT BAR
A25: TOTAL GENERAL | D25: =SUM(D8+D11+D14+D19+D21+D23-D24) -> 0
A27: CAISSE LE 07 08 2021
A29: CAISSE BAR
A30: CAISSE RESTAURANT
A31: CAISSE HOTEL
A32: CAISSE SEMINAIRE
A34: TOTAL CAISSE | B34: =SUM(B29:B33) -> 0
A36: STOCK LE 07 08 2021
A38: STOCK BOISSONS BAR
A39: STOCK BOISSONS RESTAURANT
A40: STOCK VIVRES RESTAURANT
A41: TOTAL STOCK | B41: =SUM(B38:B40) -> 0
A43: BANQUE
A44: BANQUE NSIA BAR
A45: BANQUE NSIA HOTEL
A46: DEPOT NSIA
A47: BANQUE NSIA RESTAURANT
A48: TOTAL BANQUE | B48: =SUM(B44:B47) -> 0

Sheet 07 08 21
A1: CA DU 07 08 2021
A3: HEBERGEMENT | B3: QUANTITE | C3: PRIX MOYEN | D3: CA TTC | F3: TAUX OCCUPATION
A4: CLASSIQUE | C4: =SUM(D4/B4) -> #DIV/0! | F4: =SUM(B8/40) -> 0
A5: SUPERIEUR | C5: =SUM(D5/B5) -> #DIV/0!
A6: JUNIOR | C6: =SUM(D6/B6) -> #DIV/0!
A7: SENIOR | C7: =SUM(D7:D7) -> 0
A8: TOTAL | B8: =SUM(B4:B7) -> 0 | C8: =SUM(D8/B8) -> #DIV/0! | D8: =SUM(D4:D7) -> 0
A10: SEMINAIRE | B10: QUANTITE | C10: PRIX MOYEN | D10: CA
A11: PETIT | D11: =SUM(B11*C11) -> 0
A12: MOYEN | B12: 0 | D12: =SUM(B12*C12) -> 0
A13: GRAND | B13: 0 | D13: =SUM(B13*C13) -> 0
A14: TOTAL | B14: =SUM(B11:B13) -> 0 | D14: =SUM(D11:D13) -> 0
A16: RESTAURATION | B16: QUANTITE | C16: PRIX MOYEN | D16: CA
A17: RESTAURATION
A18: PACKAGE RESTAURANT
A19: TOTAL | D19: =SUM(D17) -> 0
A21: PRESSING
A23: BAR
A24: OFFERT BAR
A25: TOTAL GENERAL | D25: =SUM(D8+D11+D14+D19+D21+D23-D24) -> 0
A27: CAISSE LE 08 08 2021
A29: CAISSE BAR
A30: CAISSE RESTAURANT
A31: CAISSE HOTEL
A32: CAISSE SEMINAIRE
A34: TOTAL CAISSE | B34: =SUM(B29:B33) -> 0
A36: STOCK LE 08 08 2021
A38: STOCK BOISSONS BAR
A39: STOCK BOISSONS RESTAURANT
A40: STOCK VIVRES RESTAURANT
A41: TOTAL STOCK | B41: =SUM(B38:B40) -> 0
A43: BANQUE
A44: BANQUE NSIA BAR
A45: BANQUE NSIA HOTEL
A46: DEPOT NSIA
A47: BANQUE NSIA RESTAURANT
A48: TOTAL BANQUE | B48: =SUM(B44:B47) -> 0

Sheet 08 08 21
A1: CA DU 08 08 2021
A3: HEBERGEMENT | B3: QUANTITE | C3: PRIX MOYEN | D3: CA TTC | F3: TAUX OCCUPATION
A4: CLASSIQUE | C4: =SUM(D4/B4) -> #DIV/0! | F4: =SUM(B8/40) -> 0
A5: SUPERIEUR | C5: =SUM(D5/B5) -> #DIV/0!
A6: JUNIOR | C6: =SUM(D6/B6) -> #DIV/0!
A7: SENIOR | C7: =SUM(D7/B7) -> #DIV/0!
A8: TOTAL | B8: =SUM(B4:B7) -> 0 | C8: =SUM(D8/B8) -> #DIV/0! | D8: =SUM(D4:D7) -> 0
A10: SEMINAIRE | B10: QUANTITE | C10: PRIX MOYEN | D10: CA
A11: PETIT | D11: =SUM(B11*C11) -> 0
A12: MOYEN | B12: 0 | D12: =SUM(B12*C12) -> 0
A13: GRAND | B13: 0 | D13: =SUM(B13*C13) -> 0
A14: TOTAL | B14: =SUM(B11:B13) -> 0 | D14: =SUM(D11:D13) -> 0
A16: RESTAURATION | B16: QUANTITE | C16: PRIX MOYEN | D16: CA
A17: RESTAURATION
A18: PACKAGE RESTAURANT
A19: TOTAL | D19: =SUM(D17) -> 0
A21: PRESSING
A23: BAR
A24: OFFERT BAR
A25: TOTAL GENERAL | D25: =SUM(D8+D11+D14+D19+D21+D23-D24) -> 0
A27: CAISSE LE 09 08 2021
A29: CAISSE BAR
A30: CAISSE RESTAURANT
A31: CAISSE HOTEL
A32: CAISSE SEMINAIRE
A34: TOTAL CAISSE | B34: =SUM(B29:B33) -> 0
A36: STOCK LE 09 08 2021
A38: STOCK BOISSONS BAR
A39: STOCK BOISSONS RESTAURANT
A40: STOCK VIVRES RESTAURANT
A41: TOTAL STOCK | B41: =SUM(B38:B40) -> 0
A43: BANQUE
A44: BANQUE NSIA BAR
A45: BANQUE NSIA HOTEL
A46: DEPOT NSIA
A47: BANQUE NSIA RESTAURANT
A48: TOTAL BANQUE | B48: =SUM(B44:B47) -> 0

Sheet 09 08 21
A1: CA DU 09 08 2021
A3: HEBERGEMENT | B3: QUANTITE | C3: PRIX MOYEN | D3: CA TTC | F3: TAUX OCCUPATION
A4: CLASSIQUE | C4: =SUM(D4/B4) -> #DIV/0! | F4: =SUM(B8/40) -> 0
A5: SUPERIEUR | C5: =SUM(D5/B5) -> #DIV/0!
A6: JUNIOR | C6: =SUM(D6/B6) -> #DIV/0!
A7: SENIOR | C7: =SUM(D7/B7) -> #DIV/0!
A8: TOTAL | B8: =SUM(B4:B7) -> 0 | C8: =SUM(D8/B8) -> #DIV/0! | D8: =SUM(D4:D7) -> 0
A10: SEMINAIRE | B10: QUANTITE | C10: PRIX MOYEN | D10: CA
A11: PETIT | D11: =SUM(B11*C11) -> 0
A12: MOYEN | B12: 0 | D12: =SUM(B12*C12) -> 0
A13: GRAND | B13: 0 | D13: =SUM(B13*C13) -> 0
A14: TOTAL | B14: =SUM(B11:B13) -> 0 | D14: =SUM(D11:D13) -> 0
A16: RESTAURATION | B16: QUANTITE | C16: PRIX MOYEN | D16: CA
A17: RESTAURATION
A18: PACKAGE RESTAURANT
A19: TOTAL | D19: =SUM(D17) -> 0
A21: PRESSING
A23: BAR
A24: OFFERT BAR
A25: TOTAL GENERAL | D25: =SUM(D8+D11+D14+D19+D21+D23-D24) -> 0
A27: CAISSE LE 10 08 2021
A29: CAISSE BAR
A30: CAISSE RESTAURANT
A31: CAISSE HOTEL
A32: CAISSE SEMINAIRE
A34: TOTAL CAISSE | B34: =SUM(B29:B33) -> 0
A36: STOCK LE 10 08 2021
A38: STOCK BOISSONS BAR
A39: STOCK BOISSONS RESTAURANT
A40: STOCK VIVRES RESTAURANT
A41: TOTAL STOCK | B41: =SUM(B38:B40) -> 0
A43: BANQUE
A44: BANQUE NSIA BAR
A45: BANQUE NSIA HOTEL
A46: DEPOT NSIA
A47: BANQUE NSIA RESTAURANT
A48: TOTAL BANQUE | B48: =SUM(B44:B47) -> 0

Sheet 10 08 21
A1: CA DU 10 08 2021
A3: HEBERGEMENT | B3: QUANTITE | C3: PRIX MOYEN | D3: CA TTC | F3: TAUX OCCUPATION
A4: CLASSIQUE | C4: =SUM(D4/B4) -> #DIV/0! | F4: =SUM(B8/40) -> 0
A5: SUPERIEUR | C5: =SUM(D5/B5) -> #DIV/0!
A6: JUNIOR | C6: =SUM(D6/B6) -> #DIV/0!
A7: SENIOR | C7: =SUM(D7/B7) -> #DIV/0!
A8: TOTAL | B8: =SUM(B4:B7) -> 0 | C8: =SUM(D8/B8) -> #DIV/0! | D8: =SUM(D4:D7) -> 0
A10: SEMINAIRE | B10: QUANTITE | C10: PRIX MOYEN | D10: CA
A11: PETIT | D11: =SUM(B11*C11) -> 0
A12: MOYEN | B12: 0 | D12: =SUM(B12*C12) -> 0
A13: GRAND | B13: 0 | D13: =SUM(B13*C13) -> 0
A14: TOTAL | B14: =SUM(B11:B13) -> 0 | D14: =SUM(D11:D13) -> 0
A16: RESTAURATION | B16: QUANTITE | C16: PRIX MOYEN | D16: CA
A17: RESTAURATION
A18: PACKAGE RESTAURANT
A19: TOTAL | D19: =SUM(D17) -> 0
A21: PRESSING
A23: BAR
A24: OFFERT BAR
A25: TOTAL GENERAL | D25: =SUM(D8+D11+D14+D19+D21+D23-D24) -> 0
A27: CAISSE LE 11 08 2021
A29: CAISSE BAR
A30: CAISSE RESTAURANT
A31: CAISSE HOTEL
A32: CAISSE SEMINAIRE
A34: TOTAL CAISSE | B34: =SUM(B29:B33) -> 0
A36: STOCK LE 11 08 2021
A38: STOCK BOISSONS BAR
A39: STOCK BOISSONS RESTAURANT
A40: STOCK VIVRES RESTAURANT
A41: TOTAL STOCK | B41: =SUM(B38:B40) -> 0
A43: BANQUE
A44: BANQUE NSIA BAR
A45: BANQUE NSIA HOTEL
A46: DEPOT NSIA
A47: BANQUE NSIA RESTAURANT
A48: TOTAL BANQUE | B48: =SUM(B44:B47) -> 0

Sheet 11 08 21
A1: CA DU 11 08 2021
A3: HEBERGEMENT | B3: QUANTITE | C3: PRIX MOYEN | D3: CA TTC | F3: TAUX OCCUPATION
A4: CLASSIQUE | C4: =SUM(D4/B4) -> #DIV/0! | F4: =SUM(B8/40) -> 0
A5: SUPERIEUR | C5: =SUM(D5/B5) -> #DIV/0!
A6: JUNIOR | C6: =SUM(D6/B6) -> #DIV/0!
A7: SENIOR | C7: =SUM(D7:D7) -> 0
A8: TOTAL | B8: =SUM(B4:B7) -> 0 | C8: =SUM(D8/B8) -> #DIV/0! | D8: =SUM(D4:D7) -> 0
A10: SEMINAIRE | B10: QUANTITE | C10: PRIX MOYEN | D10: CA
A11: PETIT | D11: =SUM(B11*C11) -> 0
A12: MOYEN | B12: 0 | D12: =SUM(B12*C12) -> 0
A13: GRAND | B13: 0 | D13: =SUM(B13*C13) -> 0
A14: TOTAL | B14: =SUM(B11:B13) -> 0 | D14: =SUM(D11:D13) -> 0
A16: RESTAURATION | B16: QUANTITE | C16: PRIX MOYEN | D16: CA
A17: RESTAURATION
A18: PACKAGE RESTAURANT
A19: TOTAL | D19: =SUM(D17) -> 0
A21: PRESSING
A23: BAR
A24: OFFERT BAR
A25: TOTAL GENERAL | D25: =SUM(D8+D11+D14+D19+D21+D23-D24) -> 0
A27: CAISSE LE 12 08 2021
A29: CAISSE BAR
A30: CAISSE RESTAURANT
A31: CAISSE HOTEL
A32: CAISSE SEMINAIRE
A34: TOTAL CAISSE | B34: =SUM(B29:B33) -> 0
A36: STOCK LE 12 08 2021
A38: STOCK BOISSONS BAR
A39: STOCK BOISSONS RESTAURANT
A40: STOCK VIVRES RESTAURANT
A41: TOTAL STOCK | B41: =SUM(B38:B40) -> 0
A43: BANQUE
A44: BANQUE NSIA BAR
A45: BANQUE NSIA HOTEL
A46: DEPOT NSIA
A47: BANQUE NSIA RESTAURANT
A48: TOTAL BANQUE | B48: =SUM(B44:B47) -> 0

Sheet 12 08 21
A1: CA DU 12 08 2021
A3: HEBERGEMENT | B3: QUANTITE | C3: PRIX MOYEN | D3: CA TTC | F3: TAUX OCCUPATION
A4: CLASSIQUE | C4: =SUM(D4/B4) -> #DIV/0! | F4: =SUM(B8/40) -> 0
A5: SUPERIEUR | C5: =SUM(D5/B5) -> #DIV/0!
A6: JUNIOR | C6: =SUM(D6/B6) -> #DIV/0!
A7: SENIOR | C7: =SUM(D7:D7) -> 0
A8: TOTAL | B8: =SUM(B4:B7) -> 0 | C8: =SUM(D8/B8) -> #DIV/0! | D8: =SUM(D4:D7) -> 0
A10: SEMINAIRE | B10: QUANTITE | C10: PRIX MOYEN | D10: CA
A11: PETIT | D11: =SUM(B11*C11) -> 0
A12: MOYEN | B12: 0 | D12: =SUM(B12*C12) -> 0
A13: GRAND | B13: 0 | D13: =SUM(B13*C13) -> 0
A14: TOTAL | B14: =SUM(B11:B13) -> 0 | D14: =SUM(D11:D13) -> 0
A16: RESTAURATION | B16: QUANTITE | C16: PRIX MOYEN | D16: CA
A17: RESTAURATION
A18: PACKAGE RESTAURANT
A19: TOTAL | D19: =SUM(D17) -> 0
A21: PRESSING
A23: BAR
A24: OFFERT BAR
A25: TOTAL GENERAL | D25: =SUM(D8+D11+D14+D19+D21+D23-D24) -> 0
A27: CAISSE LE 13 08 2021
A29: CAISSE BAR
A30: CAISSE RESTAURANT
A31: CAISSE HOTEL
A32: CAISSE SEMINAIRE
A34: TOTAL CAISSE | B34: =SUM(B29:B33) -> 0
A36: STOCK LE 13 08 2021
A38: STOCK BOISSONS BAR
A39: STOCK BOISSONS RESTAURANT
A40: STOCK VIVRES RESTAURANT
A41: TOTAL STOCK | B41: =SUM(B38:B40) -> 0
A43: BANQUE
A44: BANQUE NSIA BAR
A45: BANQUE NSIA HOTEL
A46: DEPOT NSIA
A47: BANQUE NSIA RESTAURANT
A48: TOTAL BANQUE | B48: =SUM(B44:B47) -> 0

Sheet 13 08 21
A1: CA DU 13 08 2021
A3: HEBERGEMENT | B3: QUANTITE | C3: PRIX MOYEN | D3: CA TTC | F3: TAUX OCCUPATION
A4: CLASSIQUE | C4: =SUM(D4/B4) -> #DIV/0! | F4: =SUM(B8/40) -> 0
A5: SUPERIEUR | C5: =SUM(D5/B5) -> #DIV/0!
A6: JUNIOR | C6: =SUM(D6/B6) -> #DIV/0!
A7: SENIOR | C7: =SUM(D7/B7) -> #DIV/0!
A8: TOTAL | B8: =SUM(B4:B7) -> 0 | C8: =SUM(D8/B8) -> #DIV/0! | D8: =SUM(D4:D7) -> 0
A10: SEMINAIRE | B10: QUANTITE | C10: PRIX MOYEN | D10: CA
A11: PETIT | D11: =SUM(B11*C11) -> 0
A12: MOYEN | B12: 0 | D12: =SUM(B12*C12) -> 0
A13: GRAND | B13: 0 | D13: =SUM(B13*C13) -> 0
A14: TOTAL | B14: =SUM(B11:B13) -> 0 | D14: =SUM(D11:D13) -> 0
A16: RESTAURATION | B16: QUANTITE | C16: PRIX MOYEN | D16: CA
A17: RESTAURATION
A18: PACKAGE RESTAURANT
A19: TOTAL | D19: =SUM(D17) -> 0
A21: PRESSING
A23: BAR
A24: OFFERT BAR
A25: TOTAL GENERAL | D25: =SUM(D8+D11+D14+D19+D21+D23-D24) -> 0
A27: CAISSE LE 14 08 2021
A29: CAISSE BAR
A30: CAISSE RESTAURANT
A31: CAISSE HOTEL
A32: CAISSE SEMINAIRE
A34: TOTAL CAISSE | B34: =SUM(B29:B33) -> 0
A36: STOCK LE 14 08 2021
A38: STOCK BOISSONS BAR
A39: STOCK BOISSONS RESTAURANT
A40: STOCK VIVRES RESTAURANT
A41: TOTAL STOCK | B41: =SUM(B38:B40) -> 0
A43: BANQUE
A44: BANQUE NSIA BAR
A45: BANQUE NSIA HOTEL
A46: DEPOT NSIA
A47: BANQUE NSIA RESTAURANT
A48: TOTAL BANQUE | B48: =SUM(B44:B47) -> 0

Sheet 14 08 21
A1: CA DU 14 08 2021
A3: HEBERGEMENT | B3: QUANTITE | C3: PRIX MOYEN | D3: CA TTC | F3: TAUX OCCUPATION
A4: CLASSIQUE | C4: =SUM(D4/B4) -> #DIV/0! | F4: =SUM(B8/40) -> 0
A5: SUPERIEUR | C5: =SUM(D5/B5) -> #DIV/0!
A6: JUNIOR | C6: =SUM(D6/B6) -> #DIV/0!
A7: SENIOR | C7: =SUM(D7:D7) -> 0
A8: TOTAL | B8: =SUM(B4:B7) -> 0 | C8: =SUM(D8/B8) -> #DIV/0! | D8: =SUM(D4:D7) -> 0
A10: SEMINAIRE | B10: QUANTITE | C10: PRIX MOYEN | D10: CA
A11: PETIT | D11: =SUM(B11*C11) -> 0
A12: MOYEN | B12: 0 | D12: =SUM(B12*C12) -> 0
A13: GRAND | B13: 0
A14: TOTAL | B14: =SUM(B11:B13) -> 0 | D14: =SUM(D11:D13) -> 0
A16: RESTAURATION | B16: QUANTITE | C16: PRIX MOYEN | D16: CA
A17: RESTAURATION
A18: PACKAGE RESTAURANT
A19: TOTAL | D19: =SUM(D17) -> 0
A21: PRESSING
A23: BAR
A24: OFFERT BAR
A25: TOTAL GENERAL | D25: =SUM(D8+D11+D14+D19+D21+D23-D24) -> 0
A27: CAISSE LE 15 08 2021
A29: CAISSE BAR
A30: CAISSE RESTAURANT
A31: CAISSE HOTEL
A32: CAISSE SEMINAIRE
A34: TOTAL CAISSE | B34: =SUM(B29:B33) -> 0
A36: STOCK LE 15 08 2021
A38: STOCK BOISSONS BAR
A39: STOCK BOISSONS RESTAURANT
A40: STOCK VIVRES RESTAURANT
A41: TOTAL STOCK | B41: =SUM(B38:B40) -> 0
A43: BANQUE
A44: BANQUE NSIA BAR
A45: BANQUE NSIA HOTEL
A46: DEPOT NSIA
A47: BANQUE NSIA RESTAURANT
A48: TOTAL BANQUE | B48: =SUM(B44:B47) -> 0

Sheet 15 08 21
A1: CA DU 15 08 2021
A3: HEBERGEMENT | B3: QUANTITE | C3: PRIX MOYEN | D3: CA TTC | F3: TAUX OCCUPATION
A4: CLASSIQUE | C4: =SUM(D4/B4) -> #DIV/0! | F4: =SUM(B8/40) -> 0
A5: SUPERIEUR | C5: =SUM(D5/B5) -> #DIV/0!
A6: JUNIOR | C6: =SUM(D6/B6) -> #DIV/0!
A7: SENIOR | C7: =SUM(D7/B7) -> #DIV/0!
A8: TOTAL | B8: =SUM(B4:B7) -> 0 | C8: =SUM(D8/B8) -> #DIV/0! | D8: =SUM(D4:D7) -> 0
A10: SEMINAIRE | B10: QUANTITE | C10: PRIX MOYEN | D10: CA
A11: PETIT | D11: =SUM(B11*C11) -> 0
A12: MOYEN
A13: GRAND
A14: TOTAL | B14: =SUM(B11:B13) -> 0 | D14: =SUM(D11:D13) -> 0
A16: RESTAURATION | B16: QUANTITE | C16: PRIX MOYEN | D16: CA
A17: RESTAURATION
A18: PACKAGE RESTAURANT
A19: TOTAL | D19: =SUM(D17) -> 0
A21: PRESSING
A23: BAR
A24: OFFERT BAR
A25: TOTAL GENERAL | D25: =SUM(D8+D11+D14+D19+D21+D23-D24) -> 0
A27: CAISSE LE 16 08 2021
A29: CAISSE BAR
A30: CAISSE RESTAURANT
A31: CAISSE HOTEL
A32: CAISSE SEMINAIRE
A34: TOTAL CAISSE | B34: =SUM(B29:B33) -> 0
A36: STOCK LE 16 08 2021
A38: STOCK BOISSONS BAR
A39: STOCK BOISSONS RESTAURANT
A40: STOCK VIVRES RESTAURANT
A41: TOTAL STOCK | B41: =SUM(B38:B40) -> 0
A43: BANQUE
A44: BANQUE NSIA BAR
A45: BANQUE NSIA HOTEL
A46: DEPOT NSIA
A47: BANQUE NSIA RESTAURANT
A48: TOTAL BANQUE | B48: =SUM(B44:B47) -> 0

Sheet 16 08 21
A1: CA DU 16 08 2021
A3: HEBERGEMENT | B3: QUANTITE | C3: PRIX MOYEN | D3: CA TTC | F3: TAUX OCCUPATION
A4: CLASSIQUE | C4: =SUM(D4/B4) -> #DIV/0! | F4: =SUM(B8/40) -> 0
A5: SUPERIEUR | C5: =SUM(D5/B5) -> #DIV/0!
A6: JUNIOR | C6: =SUM(D6/B6) -> #DIV/0!
A7: SENIOR | C7: =SUM(D7/B7) -> #DIV/0!
A8: TOTAL | B8: =SUM(B4:B7) -> 0 | C8: =SUM(D8/B8) -> #DIV/0! | D8: =SUM(D4:D7) -> 0
A10: SEMINAIRE | B10: QUANTITE | C10: PRIX MOYEN | D10: CA
A11: PETIT | D11: =SUM(B11*C11) -> 0
A12: MOYEN | B12: 0 | D12: =SUM(B12*C12) -> 0
A13: GRAND | B13: 0 | D13: =SUM(B13*C13) -> 0
A14: TOTAL | B14: =SUM(B11:B13) -> 0 | D14: =SUM(D11:D13) -> 0
A16: RESTAURATION | B16: QUANTITE | C16: PRIX MOYEN | D16: CA
A17: RESTAURATION
A18: PACKAGE RESTAURANT
A19: TOTAL | D19: =SUM(D17) -> 0
A21: PRESSING
A23: BAR
A24: OFFERT BAR
A25: TOTAL GENERAL | D25: =SUM(D8+D11+D14+D19+D21+D23-D24) -> 0
A27: CAISSE LE 17 08 2021
A29: CAISSE BAR
A30: CAISSE RESTAURANT
A31: CAISSE HOTEL
A32: CAISSE SEMINAIRE
A34: TOTAL CAISSE | B34: =SUM(B29:B33) -> 0
A36: STOCK LE 17 08 2021
A38: STOCK BOISSONS BAR
A39: STOCK BOISSONS RESTAURANT
A40: STOCK VIVRES RESTAURANT
A41: TOTAL STOCK | B41: =SUM(B38:B40) -> 0
A43: BANQUE
A44: BANQUE NSIA BAR
A45: BANQUE NSIA HOTEL
A46: DEPOT NSIA
A47: BANQUE NSIA RESTAURANT
A48: TOTAL BANQUE | B48: =SUM(B44:B47) -> 0

Sheet 17 08 21
A1: CA DU 17 08 2021
A3: HEBERGEMENT | B3: QUANTITE | C3: PRIX MOYEN | D3: CA TTC | F3: TAUX OCCUPATION
A4: CLASSIQUE | C4: =SUM(D4/B4) -> #DIV/0! | F4: =SUM(B8/40) -> 0
A5: SUPERIEUR | C5: =SUM(D5/B5) -> #DIV/0!
A6: JUNIOR | C6: =SUM(D6/B6) -> #DIV/0!
A7: SENIOR | C7: =SUM(D7/B7) -> #DIV/0!
A8: TOTAL | B8: =SUM(B4:B7) -> 0 | C8: =SUM(D8/B8) -> #DIV/0! | D8: =SUM(D4:D7) -> 0
A10: SEMINAIRE | B10: QUANTITE | C10: PRIX MOYEN | D10: CA
A11: PETIT | D11: =SUM(B11*C11) -> 0
A12: MOYEN | B12: 0 | D12: =SUM(B12*C12) -> 0
A13: GRAND | B13: 0 | D13: =SUM(B13*C13) -> 0
A14: TOTAL | B14: =SUM(B11:B13) -> 0 | D14: =SUM(D11:D13) -> 0
A16: RESTAURATION | B16: QUANTITE | C16: PRIX MOYEN | D16: CA
A17: RESTAURATION
A18: PACKAGE RESTAURANT
A19: TOTAL | D19: =SUM(D17) -> 0
A21: PRESSING
A23: BAR
A24: OFFERT BAR
A25: TOTAL GENERAL | D25: =SUM(D8+D11+D14+D19+D21+D23-D24) -> 0
A27: CAISSE LE 18 08 2021
A29: CAISSE BAR
A30: CAISSE RESTAURANT
A31: CAISSE HOTEL
A32: CAISSE SEMINAIRE
A34: TOTAL CAISSE | B34: =SUM(B29:B33) -> 0
A36: STOCK LE 18 08 2021
A38: STOCK BOISSONS BAR
A39: STOCK BOISSONS RESTAURANT
A40: STOCK VIVRES RESTAURANT
A41: TOTAL STOCK | B41: =SUM(B38:B40) -> 0
A43: BANQUE
A44: BANQUE NSIA BAR
A45: BANQUE NSIA HOTEL
A46: DEPOT NSIA
A47: BANQUE NSIA RESTAURANT
A48: TOTAL BANQUE | B48: =SUM(B44:B47) -> 0

Sheet 18 08 21
A1: CA DU 18 08 2021
A3: HEBERGEMENT | B3: QUANTITE | C3: PRIX MOYEN | D3: CA TTC | F3: TAUX OCCUPATION
A4: CLASSIQUE | C4: =SUM(D4/B4) -> #DIV/0! | F4: =SUM(B8/40) -> 0
A5: SUPERIEUR | C5: =SUM(D5/B5) -> #DIV/0!
A6: JUNIOR | C6: =SUM(D6/B6) -> #DIV/0!
A7: SENIOR | C7: =SUM(D7:D7) -> 0
A8: TOTAL | B8: =SUM(B4:B7) -> 0 | C8: =SUM(D8/B8) -> #DIV/0! | D8: =SUM(D4:D7) -> 0
A10: SEMINAIRE | B10: QUANTITE | C10: PRIX MOYEN | D10: CA
A11: PETIT | D11: =SUM(B11*C11) -> 0
A12: MOYEN | B12: 0 | D12: =SUM(B12*C12) -> 0
A13: GRAND | B13: 0 | D13: =SUM(B13*C13) -> 0
A14: TOTAL | B14: =SUM(B11:B13) -> 0 | D14: =SUM(D11:D13) -> 0
A16: RESTAURATION | B16: QUANTITE | C16: PRIX MOYEN | D16: CA
A17: RESTAURATION
A18: PACKAGE RESTAURANT
A19: TOTAL | D19: =SUM(D17) -> 0
A21: PRESSING
A23: BAR
A24: OFFERT BAR
A25: TOTAL GENERAL | D25: =SUM(D8+D11+D14+D19+D21+D23-D24) -> 0
A27: CAISSE LE 19 08 2021
A29: CAISSE BAR
A30: CAISSE RESTAURANT
A31: CAISSE HOTEL
A32: CAISSE SEMINAIRE
A34: TOTAL CAISSE | B34: =SUM(B29:B33) -> 0
A36: STOCK LE 19 08 2021
A38: STOCK BOISSONS BAR
A39: STOCK BOISSONS RESTAURANT
A40: STOCK VIVRES RESTAURANT
A41: TOTAL STOCK | B41: =SUM(B38:B40) -> 0
A43: BANQUE
A44: BANQUE NSIA BAR
A45: BANQUE NSIA HOTEL
A46: DEPOT NSIA
A47: BANQUE NSIA RESTAURANT
A48: TOTAL BANQUE | B48: =SUM(B44:B47) -> 0

Sheet 19 08 21
A1: CA DU 19 08 2021
A3: HEBERGEMENT | B3: QUANTITE | C3: PRIX MOYEN | D3: CA TTC | F3: TAUX OCCUPATION
A4: CLASSIQUE | C4: =SUM(D4/B4) -> #DIV/0! | F4: =SUM(B8/40) -> 0
A5: SUPERIEUR | C5: =SUM(D5/B5) -> #DIV/0!
A6: JUNIOR | C6: =SUM(D6/B6) -> #DIV/0!
A7: SENIOR | C7: =SUM(D7:D7) -> 0
A8: TOTAL | B8: =SUM(B4:B7) -> 0 | C8: =SUM(D8/B8) -> #DIV/0! | D8: =SUM(D4:D7) -> 0
A10: SEMINAIRE | B10: QUANTITE | C10: PRIX MOYEN | D10: CA
A11: PETIT | D11: =SUM(B11*C11) -> 0
A12: MOYEN | B12: 0 | D12: =SUM(B12*C12) -> 0
A13: GRAND | B13: 0 | D13: =SUM(B13*C13) -> 0
A14: TOTAL | B14: =SUM(B11:B13) -> 0 | D14: =SUM(D11:D13) -> 0
A16: RESTAURATION | B16: QUANTITE | C16: PRIX MOYEN | D16: CA
A17: RESTAURATION
A18: PACKAGE RESTAURANT
A19: TOTAL | D19: =SUM(D17) -> 0
A21: PRESSING
A23: BAR
A24: OFFERT BAR
A25: TOTAL GENERAL | D25: =SUM(D8+D11+D14+D19+D21+D23-D24) -> 0
A27: CAISSE LE 20 08 2021
A29: CAISSE BAR
A30: CAISSE RESTAURANT
A31: CAISSE HOTEL
A32: CAISSE SEMINAIRE
A34: TOTAL CAISSE | B34: =SUM(B29:B33) -> 0
A36: STOCK LE 20 08 2021
A38: STOCK BOISSONS BAR
A39: STOCK BOISSONS RESTAURANT
A40: STOCK VIVRES RESTAURANT
A41: TOTAL STOCK | B41: =SUM(B38:B40) -> 0
A43: BANQUE
A44: BANQUE NSIA BAR
A45: BANQUE NSIA HOTEL
A46: DEPOT NSIA
A47: BANQUE NSIA RESTAURANT
A48: TOTAL BANQUE | B48: =SUM(B44:B47) -> 0

Sheet 20 08 21
A1: CA DU 20 08 2021
A3: HEBERGEMENT | B3: QUANTITE | C3: PRIX MOYEN | D3: CA TTC | F3: TAUX OCCUPATION
A4: CLASSIQUE | C4: =SUM(D4/B4) -> #DIV/0! | F4: =SUM(B8/40) -> 0
A5: SUPERIEUR | C5: =SUM(D5/B5) -> #DIV/0!
A6: JUNIOR | C6: =SUM(D6/B6) -> #DIV/0!
A7: SENIOR | C7: =SUM(D7:D7) -> 0
A8: TOTAL | B8: =SUM(B4:B7) -> 0 | C8: =SUM(D8/B8) -> #DIV/0! | D8: =SUM(D4:D7) -> 0
A10: SEMINAIRE | B10: QUANTITE | C10: PRIX MOYEN | D10: CA
A11: PETIT | D11: =SUM(B11*C11) -> 0
A12: MOYEN | B12: 0 | D12: =SUM(B12*C12) -> 0
A13: GRAND | B13: 0 | D13: =SUM(B13*C13) -> 0
A14: TOTAL | B14: =SUM(B11:B13) -> 0 | D14: =SUM(D11:D13) -> 0
A16: RESTAURATION | B16: QUANTITE | C16: PRIX MOYEN | D16: CA
A17: RESTAURATION
A18: PACKAGE RESTAURANT
A19: TOTAL | D19: =SUM(D17) -> 0
A21: PRESSING
A23: BAR
A24: OFFERT BAR
A25: TOTAL GENERAL | D25: =SUM(D8+D11+D14+D19+D21+D23-D24) -> 0
A27: CAISSE LE 21 08 2021
A29: CAISSE BAR
A30: CAISSE RESTAURANT
A31: CAISSE HOTEL
A32: CAISSE SEMINAIRE
A34: TOTAL CAISSE | B34: =SUM(B29:B33) -> 0
A36: STOCK LE 21 08 2021
A38: STOCK BOISSONS BAR
A39: STOCK BOISSONS RESTAURANT
A40: STOCK VIVRES RESTAURANT
A41: TOTAL STOCK | B41: =SUM(B38:B40) -> 0
A43: BANQUE
A44: BANQUE NSIA BAR
A45: BANQUE NSIA HOTEL
A46: DEPOT NSIA
A47: BANQUE NSIA RESTAURANT
A48: TOTAL BANQUE | B48: =SUM(B44:B47) -> 0

Sheet 21 08 21
A1: CA DU 21 08 2021
A3: HEBERGEMENT | B3: QUANTITE | C3: PRIX MOYEN | D3: CA TTC | F3: TAUX OCCUPATION
A4: CLASSIQUE | C4: =SUM(D4/B4) -> #DIV/0! | F4: =SUM(B8/40) -> 0
A5: SUPERIEUR | C5: =SUM(D5/B5) -> #DIV/0!
A6: JUNIOR | C6: =SUM(D6/B6) -> #DIV/0!
A7: SENIOR | C7: =SUM(D7:D7) -> 0
A8: TOTAL | B8: =SUM(B4:B7) -> 0 | C8: =SUM(D8/B8) -> #DIV/0! | D8: =SUM(D4:D7) -> 0
A10: SEMINAIRE | B10: QUANTITE | C10: PRIX MOYEN | D10: CA
A11: PETIT | D11: =SUM(B11*C11) -> 0
A12: MOYEN | B12: 0 | D12: =SUM(B12*C12) -> 0
A13: GRAND | B13: 0 | D13: =SUM(B13*C13) -> 0
A14: TOTAL | B14: =SUM(B11:B13) -> 0 | D14: =SUM(D11:D13) -> 0
A16: RESTAURATION | B16: QUANTITE | C16: PRIX MOYEN | D16: CA
A17: RESTAURATION
A18: PACKAGE RESTAURANT
A19: TOTAL | D19: =SUM(D17) -> 0
A21: PRESSING
A23: BAR
A24: OFFERT BAR
A25: TOTAL GENERAL | D25: =SUM(D8+D11+D14+D19+D21+D23-D24) -> 0
A27: CAISSE LE 22 08 2021
A29: CAISSE BAR
A30: CAISSE RESTAURANT
A31: CAISSE HOTEL
A32: CAISSE SEMINAIRE
A34: TOTAL CAISSE | B34: =SUM(B29:B33) -> 0
A36: STOCK LE 22 08 2021
A38: STOCK BOISSONS BAR
A39: STOCK BOISSONS RESTAURANT
A40: STOCK VIVRES RESTAURANT
A41: TOTAL STOCK | B41: =SUM(B38:B40) -> 0
A43: BANQUE
A44: BANQUE NSIA BAR
A45: BANQUE NSIA HOTEL
A46: DEPOT NSIA
A47: BANQUE NSIA RESTAURANT
A48: TOTAL BANQUE | B48: =SUM(B44:B47) -> 0

Sheet 22 08 21
A1: CA DU 22 08 2021
A3: HEBERGEMENT | B3: QUANTITE | C3: PRIX MOYEN | D3: CA TTC | F3: TAUX OCCUPATION
A4: CLASSIQUE | C4: =SUM(D4/B4) -> #DIV/0! | F4: =SUM(B8/40) -> 0
A5: SUPERIEUR | C5: =SUM(D5/B5) -> #DIV/0!
A6: JUNIOR | C6: =SUM(D6/B6) -> #DIV/0!
A7: SENIOR | C7: =SUM(D7:D7) -> 0
A8: TOTAL | B8: =SUM(B4:B7) -> 0 | C8: =SUM(D8/B8) -> #DIV/0! | D8: =SUM(D4:D7) -> 0
A10: SEMINAIRE | B10: QUANTITE | C10: PRIX MOYEN | D10: CA
A11: PETIT | D11: =SUM(B11*C11) -> 0
A12: MOYEN | B12: 0 | D12: =SUM(B12*C12) -> 0
A13: GRAND | B13: 0 | D13: =SUM(B13*C13) -> 0
A14: TOTAL | B14: =SUM(B11:B13) -> 0 | D14: =SUM(D11:D13) -> 0
A16: RESTAURATION | B16: QUANTITE | C16: PRIX MOYEN | D16: CA
A17: RESTAURATION
A18: PACKAGE RESTAURANT
A19: TOTAL | D19: =SUM(D17) -> 0
A21: PRESSING
A23: BAR
A24: OFFERT BAR
A25: TOTAL GENERAL | D25: =SUM(D8+D11+D14+D19+D21+D23-D24) -> 0
A27: CAISSE LE 23 08 2021
A29: CAISSE BAR
A30: CAISSE RESTAURANT
A31: CAISSE HOTEL
A32: CAISSE SEMINAIRE
A34: TOTAL CAISSE | B34: =SUM(B29:B33) -> 0
A36: STOCK LE 23 08 2021
A38: STOCK BOISSONS BAR
A39: STOCK BOISSONS RESTAURANT
A40: STOCK VIVRES RESTAURANT
A41: TOTAL STOCK | B41: =SUM(B38:B40) -> 0
A43: BANQUE
A44: BANQUE NSIA BAR
A45: BANQUE NSIA HOTEL
A46: DEPOT NSIA
A47: BANQUE NSIA RESTAURANT
A48: TOTAL BANQUE | B48: =SUM(B44:B47) -> 0

Sheet 23 08 21
A1: CA DU 23 08 2021
A3: HEBERGEMENT | B3: QUANTITE | C3: PRIX MOYEN | D3: CA TTC | F3: TAUX OCCUPATION
A4: CLASSIQUE | C4: =SUM(D4/B4) -> #DIV/0! | F4: =SUM(B8/40) -> 0
A5: SUPERIEUR | C5: =SUM(D5/B5) -> #DIV/0!
A6: JUNIOR | C6: =SUM(D6/B6) -> #DIV/0!
A7: SENIOR | C7: =SUM(D7:D7) -> 0
A8: TOTAL | B8: =SUM(B4:B7) -> 0 | C8: =SUM(D8/B8) -> #DIV/0! | D8: =SUM(D4:D7) -> 0
A10: SEMINAIRE | B10: QUANTITE | C10: PRIX MOYEN | D10: CA
A11: PETIT | D11: =SUM(B11*C11) -> 0
A12: MOYEN | B12: 0 | D12: =SUM(B12*C12) -> 0
A13: GRAND | B13: 0 | D13: =SUM(B13*C13) -> 0
A14: TOTAL | B14: =SUM(B11:B13) -> 0 | D14: =SUM(D11:D13) -> 0
A16: RESTAURATION | B16: QUANTITE | C16: PRIX MOYEN | D16: CA
A17: RESTAURATION
A18: PACKAGE RESTAURANT
A19: TOTAL | D19: =SUM(D17) -> 0
A21: PRESSING
A23: BAR
A24: OFFERT BAR
A25: TOTAL GENERAL | D25: =SUM(D8+D11+D14+D19+D21+D23-D24) -> 0
A27: CAISSE LE 24 08 2021
A29: CAISSE BAR
A30: CAISSE RESTAURANT
A31: CAISSE HOTEL
A32: CAISSE SEMINAIRE
A34: TOTAL CAISSE | B34: =SUM(B29:B33) -> 0
A36: STOCK LE 24 08 2021
A38: STOCK BOISSONS BAR
A39: STOCK BOISSONS RESTAURANT
A40: STOCK VIVRES RESTAURANT
A41: TOTAL STOCK | B41: =SUM(B38:B40) -> 0
A43: BANQUE
A44: BANQUE NSIA BAR
A45: BANQUE NSIA HOTEL
A46: DEPOT NSIA
A47: BANQUE NSIA RESTAURANT
A48: TOTAL BANQUE | B48: =SUM(B44:B47) -> 0

Sheet 24 08 21
A1: CA DU 24 08 2021
A3: HEBERGEMENT | B3: QUANTITE | C3: PRIX MOYEN | D3: CA TTC | F3: TAUX OCCUPATION
A4: CLASSIQUE | C4: =SUM(D4/B4) -> #DIV/0! | F4: =SUM(B8/40) -> 0
A5: SUPERIEUR | C5: =SUM(D5/B5) -> #DIV/0!
A6: JUNIOR | C6: =SUM(D6/B6) -> #DIV/0!
A7: SENIOR | C7: =SUM(D7:D7) -> 0
A8: TOTAL | B8: =SUM(B4:B7) -> 0 | C8: =SUM(D8/B8) -> #DIV/0! | D8: =SUM(D4:D7) -> 0
A10: SEMINAIRE | B10: QUANTITE | C10: PRIX MOYEN | D10: CA
A11: PETIT | D11: =SUM(B11*C11) -> 0
A12: MOYEN | B12: 0 | D12: =SUM(B12*C12) -> 0
A13: GRAND | B13: 0 | D13: =SUM(B13*C13) -> 0
A14: TOTAL | B14: =SUM(B11:B13) -> 0 | D14: =SUM(D11:D13) -> 0
A16: RESTAURATION | B16: QUANTITE | C16: PRIX MOYEN | D16: CA
A17: RESTAURATION
A18: PACKAGE RESTAURANT
A19: TOTAL | D19: =SUM(D17) -> 0
A21: PRESSING
A23: BAR
A24: OFFERT BAR
A25: TOTAL GENERAL | D25: =SUM(D8+D11+D14+D19+D21+D23-D24) -> 0
A27: CAISSE LE 25 08 2021
A29: CAISSE BAR
A30: CAISSE RESTAURANT
A31: CAISSE HOTEL
A32: CAISSE SEMINAIRE
A34: TOTAL CAISSE | B34: =SUM(B29:B33) -> 0
A36: STOCK LE 25 08 2021
A38: STOCK BOISSONS BAR
A39: STOCK BOISSONS RESTAURANT
A40: STOCK VIVRES RESTAURANT
A41: TOTAL STOCK | B41: =SUM(B38:B40) -> 0
A43: BANQUE
A44: BANQUE NSIA BAR
A45: BANQUE NSIA HOTEL
A46: DEPOT NSIA
A47: BANQUE NSIA RESTAURANT
A48: TOTAL BANQUE | B48: =SUM(B44:B47) -> 0

Sheet 25 08 21
A1: CA DU 25 08 2021
A3: HEBERGEMENT | B3: QUANTITE | C3: PRIX MOYEN | D3: CA TTC | F3: TAUX OCCUPATION
A4: CLASSIQUE | C4: =SUM(D4/B4) -> #DIV/0! | F4: =SUM(B8/40) -> 0
A5: SUPERIEUR | C5: =SUM(D5/B5) -> #DIV/0!
A6: JUNIOR | C6: =SUM(D6/B6) -> #DIV/0!
A7: SENIOR | C7: =SUM(D7:D7) -> 0
A8: TOTAL | B8: =SUM(B4:B7) -> 0 | C8: =SUM(D8/B8) -> #DIV/0! | D8: =SUM(D4:D7) -> 0
A10: SEMINAIRE | B10: QUANTITE | C10: PRIX MOYEN | D10: CA
A11: PETIT | D11: =SUM(B11*C11) -> 0
A12: MOYEN | B12: 0 | D12: =SUM(B12*C12) -> 0
A13: GRAND | B13: 0 | D13: =SUM(B13*C13) -> 0
A14: TOTAL | B14: =SUM(B11:B13) -> 0 | D14: =SUM(D11:D13) -> 0
A16: RESTAURATION | B16: QUANTITE | C16: PRIX MOYEN | D16: CA
A17: RESTAURATION
A18: PACKAGE RESTAURANT
A19: TOTAL | D19: =SUM(D17) -> 0
A21: PRESSING
A23: BAR
A24: OFFERT BAR
A25: TOTAL GENERAL | D25: =SUM(D8+D11+D14+D19+D21+D23-D24) -> 0
A27: CAISSE LE 26 08 2021
A29: CAISSE BAR
A30: CAISSE RESTAURANT
A31: CAISSE HOTEL
A32: CAISSE SEMINAIRE
A34: TOTAL CAISSE | B34: =SUM(B29:B33) -> 0
A36: STOCK LE 26 08 2021
A38: STOCK BOISSONS BAR
A39: STOCK BOISSONS RESTAURANT
A40: STOCK VIVRES RESTAURANT
A41: TOTAL STOCK | B41: =SUM(B38:B40) -> 0
A43: BANQUE
A44: BANQUE NSIA BAR
A45: BANQUE NSIA HOTEL
A46: DEPOT NSIA
A47: BANQUE NSIA RESTAURANT
A48: TOTAL BANQUE | B48: =SUM(B44:B47) -> 0

Sheet 26 08 21
A1: CA DU 26 08 2021
A3: HEBERGEMENT | B3: QUANTITE | C3: PRIX MOYEN | D3: CA TTC | F3: TAUX OCCUPATION
A4: CLASSIQUE | C4: =SUM(D4/B4) -> #DIV/0! | F4: =SUM(B8/40) -> 0
A5: SUPERIEUR | C5: =SUM(D5/B5) -> #DIV/0!
A6: JUNIOR | C6: =SUM(D6/B6) -> #DIV/0!
A7: SENIOR | C7: =SUM(D7:D7) -> 0
A8: TOTAL | B8: =SUM(B4:B7) -> 0 | C8: =SUM(D8/B8) -> #DIV/0! | D8: =SUM(D4:D7) -> 0
A10: SEMINAIRE | B10: QUANTITE | C10: PRIX MOYEN | D10: CA
A11: PETIT | D11: =SUM(B11*C11) -> 0
A12: MOYEN | B12: 0 | D12: =SUM(B12*C12) -> 0
A13: GRAND | B13: 0 | D13: =SUM(B13*C13) -> 0
A14: TOTAL | B14: =SUM(B11:B13) -> 0 | D14: =SUM(D11:D13) -> 0
A16: RESTAURATION | B16: QUANTITE | C16: PRIX MOYEN | D16: CA
A17: RESTAURATION
A18: PACKAGE RESTAURANT
A19: TOTAL | D19: =SUM(D17) -> 0
A21: PRESSING
A23: BAR
A24: OFFERT BAR
A25: TOTAL GENERAL | D25: =SUM(D8+D11+D14+D19+D21+D23-D24) -> 0
A27: CAISSE LE 27 08 2021
A29: CAISSE BAR
A30: CAISSE RESTAURANT
A31: CAISSE HOTEL
A32: CAISSE SEMINAIRE
A34: TOTAL CAISSE | B34: =SUM(B29:B33) -> 0
A36: STOCK LE 27 08 2021
A38: STOCK BOISSONS BAR
A39: STOCK BOISSONS RESTAURANT
A40: STOCK VIVRES RESTAURANT
A41: TOTAL STOCK | B41: =SUM(B38:B40) -> 0
A43: BANQUE
A44: BANQUE NSIA BAR
A45: BANQUE NSIA HOTEL
A46: DEPOT NSIA
A47: BANQUE NSIA RESTAURANT
A48: TOTAL BANQUE | B48: =SUM(B44:B47) -> 0

Sheet 27 08 21
A1: CA DU 27 08 2021
A3: HEBERGEMENT | B3: QUANTITE | C3: PRIX MOYEN | D3: CA TTC | F3: TAUX OCCUPATION
A4: CLASSIQUE | C4: =SUM(D4/B4) -> #DIV/0! | F4: =SUM(B8/40) -> 0
A5: SUPERIEUR | C5: =SUM(D5/B5) -> #DIV/0!
A6: JUNIOR | C6: =SUM(D6/B6) -> #DIV/0!
A7: SENIOR | C7: =SUM(D7:D7) -> 0
A8: TOTAL | B8: =SUM(B4:B7) -> 0 | C8: =SUM(D8/B8) -> #DIV/0! | D8: =SUM(D4:D7) -> 0
A10: SEMINAIRE | B10: QUANTITE | C10: PRIX MOYEN | D10: CA
A11: PETIT | D11: =SUM(B11*C11) -> 0
A12: MOYEN | B12: 0 | D12: =SUM(B12*C12) -> 0
A13: GRAND | B13: 0 | D13: =SUM(B13*C13) -> 0
A14: TOTAL | B14: =SUM(B11:B13) -> 0 | D14: =SUM(D11:D13) -> 0
A16: RESTAURATION | B16: QUANTITE | C16: PRIX MOYEN | D16: CA
A17: RESTAURATION
A18: PACKAGE RESTAURANT
A19: TOTAL | D19: =SUM(D17) -> 0
A21: PRESSING
A23: BAR
A24: OFFERT BAR
A25: TOTAL GENERAL | D25: =SUM(D8+D11+D14+D19+D21+D23-D24) -> 0
A27: CAISSE LE 28 08 2021
A29: CAISSE BAR
A30: CAISSE RESTAURANT
A31: CAISSE HOTEL
A32: CAISSE SEMINAIRE
A34: TOTAL CAISSE | B34: =SUM(B29:B33) -> 0
A36: STOCK LE 28 08 2021
A38: STOCK BOISSONS BAR
A39: STOCK BOISSONS RESTAURANT
A40: STOCK VIVRES RESTAURANT
A41: TOTAL STOCK | B41: =SUM(B38:B40) -> 0
A43: BANQUE
A44: BANQUE NSIA BAR
A45: BANQUE NSIA HOTEL
A46: DEPOT NSIA
A47: BANQUE NSIA RESTAURANT
A48: TOTAL BANQUE | B48: =SUM(B44:B47) -> 0

Sheet 28 08 21
A1: CA DU 28 08 2021
A3: HEBERGEMENT | B3: QUANTITE | C3: PRIX MOYEN | D3: CA TTC | F3: TAUX OCCUPATION
A4: CLASSIQUE | C4: =SUM(D4/B4) -> #DIV/0! | F4: =SUM(B8/40) -> 0
A5: SUPERIEUR | C5: =SUM(D5/B5) -> #DIV/0!
A6: JUNIOR | C6: =SUM(D6/B6) -> #DIV/0!
A7: SENIOR | C7: =SUM(D7:D7) -> 0
A8: TOTAL | B8: =SUM(B4:B7) -> 0 | C8: =SUM(D8/B8) -> #DIV/0! | D8: =SUM(D4:D7) -> 0
A10: SEMINAIRE | B10: QUANTITE | C10: PRIX MOYEN | D10: CA
A11: PETIT | D11: =SUM(B11*C11) -> 0
A12: MOYEN | B12: 0 | D12: =SUM(B12*C12) -> 0
A13: GRAND | B13: 0 | D13: =SUM(B13*C13) -> 0
A14: TOTAL | B14: =SUM(B11:B13) -> 0 | D14: =SUM(D11:D13) -> 0
A16: RESTAURATION | B16: QUANTITE | C16: PRIX MOYEN | D16: CA
A17: RESTAURATION
A18: PACKAGE RESTAURANT
A19: TOTAL | D19: =SUM(D17) -> 0
A21: PRESSING
A23: BAR
A24: OFFERT BAR
A25: TOTAL GENERAL | D25: =SUM(D8+D11+D14+D19+D21+D23-D24) -> 0
A27: CAISSE LE 29 08 2021
A29: CAISSE BAR
A30: CAISSE RESTAURANT
A31: CAISSE HOTEL
A32: CAISSE SEMINAIRE
A34: TOTAL CAISSE | B34: =SUM(B29:B33) -> 0
A36: STOCK LE 29 08 2021
A38: STOCK BOISSONS BAR
A39: STOCK BOISSONS RESTAURANT
A40: STOCK VIVRES RESTAURANT
A41: TOTAL STOCK | B41: =SUM(B38:B40) -> 0
A43: BANQUE
A44: BANQUE NSIA BAR
A45: BANQUE NSIA HOTEL
A46: DEPOT NSIA
A47: BANQUE NSIA RESTAURANT
A48: TOTAL BANQUE | B48: =SUM(B44:B47) -> 0

Sheet 29 08 21
A1: CA DU 29 08 2021
A3: HEBERGEMENT | B3: QUANTITE | C3: PRIX MOYEN | D3: CA TTC | F3: TAUX OCCUPATION
A4: CLASSIQUE | C4: =SUM(D4/B4) -> #DIV/0! | F4: =SUM(B8/40) -> 0
A5: SUPERIEUR | C5: =SUM(D5/B5) -> #DIV/0!
A6: JUNIOR | C6: =SUM(D6/B6) -> #DIV/0!
A7: SENIOR | C7: =SUM(D7:D7) -> 0
A8: TOTAL | B8: =SUM(B4:B7) -> 0 | C8: =SUM(D8/B8) -> #DIV/0! | D8: =SUM(D4:D7) -> 0
A10: SEMINAIRE | B10: QUANTITE | C10: PRIX MOYEN | D10: CA
A11: PETIT | D11: =SUM(B11*C11) -> 0
A12: MOYEN | B12: 0 | D12: =SUM(B12*C12) -> 0
A13: GRAND | B13: 0 | D13: =SUM(B13*C13) -> 0
A14: TOTAL | B14: =SUM(B11:B13) -> 0 | D14: =SUM(D11:D13) -> 0
A16: RESTAURATION | B16: QUANTITE | C16: PRIX MOYEN | D16: CA
A17: RESTAURATION
A18: PACKAGE RESTAURANT
A19: TOTAL | D19: =SUM(D17) -> 0
A21: PRESSING
A23: BAR
A24: OFFERT BAR
A25: TOTAL GENERAL | D25: =SUM(D8+D11+D14+D19+D21+D23-D24) -> 0
A27: CAISSE LE 30 08 2021
A29: CAISSE BAR
A30: CAISSE RESTAURANT
A31: CAISSE HOTEL
A32: CAISSE SEMINAIRE
A34: TOTAL CAISSE | B34: =SUM(B29:B33) -> 0
A36: STOCK LE 30 08 2021
A38: STOCK BOISSONS BAR
A39: STOCK BOISSONS RESTAURANT
A40: STOCK VIVRES RESTAURANT
A41: TOTAL STOCK | B41: =SUM(B38:B40) -> 0
A43: BANQUE
A44: BANQUE NSIA BAR
A45: BANQUE NSIA HOTEL
A46: DEPOT NSIA
A47: BANQUE NSIA RESTAURANT
A48: TOTAL BANQUE | B48: =SUM(B44:B47) -> 0

Sheet 30 08 21
A1: CA DU 30 08 2021
A3: HEBERGEMENT | B3: QUANTITE | C3: PRIX MOYEN | D3: CA TTC | F3: TAUX OCCUPATION
A4: CLASSIQUE | C4: =SUM(D4/B4) -> #DIV/0! | F4: =SUM(B8/40) -> 0
A5: SUPERIEUR | C5: =SUM(D5/B5) -> #DIV/0!
A6: JUNIOR | C6: =SUM(D6/B6) -> #DIV/0!
A7: SENIOR | C7: =SUM(D7:D7) -> 0
A8: TOTAL | B8: =SUM(B4:B7) -> 0 | C8: =SUM(D8/B8) -> #DIV/0! | D8: =SUM(D4:D7) -> 0
A10: SEMINAIRE | B10: QUANTITE | C10: PRIX MOYEN | D10: CA
A11: PETIT | D11: =SUM(B11*C11) -> 0
A12: MOYEN | B12: 0 | D12: =SUM(B12*C12) -> 0
A13: GRAND | B13: 0 | D13: =SUM(B13*C13) -> 0
A14: TOTAL | B14: =SUM(B11:B13) -> 0 | D14: =SUM(D11:D13) -> 0
A16: RESTAURATION | B16: QUANTITE | C16: PRIX MOYEN | D16: CA
A17: RESTAURATION
A18: PACKAGE RESTAURANT
A19: TOTAL | D19: =SUM(D17) -> 0
A21: PRESSING
A23: BAR
A24: OFFERT BAR
A25: TOTAL GENERAL | D25: =SUM(D8+D11+D14+D19+D21+D23-D24) -> 0
A27: CAISSE LE 31 08 2021
A29: CAISSE BAR
A30: CAISSE RESTAURANT
A31: CAISSE HOTEL
A32: CAISSE SEMINAIRE
A34: TOTAL CAISSE | B34: =SUM(B29:B33) -> 0
A36: STOCK LE 31 08 2021
A38: STOCK BOISSONS BAR
A39: STOCK BOISSONS RESTAURANT
A40: STOCK VIVRES RESTAURANT
A41: TOTAL STOCK | B41: =SUM(B38:B40) -> 0
A43: BANQUE
A44: BANQUE NSIA BAR
A45: BANQUE NSIA HOTEL
A46: DEPOT NSIA
A47: BANQUE NSIA RESTAURANT
A48: TOTAL BANQUE | B48: =SUM(B44:B47) -> 0

Sheet 31 08 21
A1: CA DU 31 08 2021
A3: HEBERGEMENT | B3: QUANTITE | C3: PRIX MOYEN | D3: CA TTC | F3: TAUX OCCUPATION
A4: CLASSIQUE | C4: =SUM(D4/B4) -> #DIV/0! | F4: =SUM(B8/40) -> 0
A5: SUPERIEUR | C5: =SUM(D5/B5) -> #DIV/0!
A6: JUNIOR | C6: =SUM(D6/B6) -> #DIV/0!
A7: SENIOR | C7: =SUM(D7:D7) -> 0
A8: TOTAL | B8: =SUM(B4:B7) -> 0 | C8: =SUM(D8/B8) -> #DIV/0! | D8: =SUM(D4:D7) -> 0
A10: SEMINAIRE | B10: QUANTITE | C10: PRIX MOYEN | D10: CA
A11: PETIT | D11: =SUM(B11*C11) -> 0
A12: MOYEN | B12: 0 | D12: =SUM(B12*C12) -> 0
A13: GRAND | B13: 0 | D13: =SUM(B13*C13) -> 0
A14: TOTAL | B14: =SUM(B11:B13) -> 0 | D14: =SUM(D11:D13) -> 0
A16: RESTAURATION | B16: QUANTITE | C16: PRIX MOYEN | D16: CA
A17: RESTAURATION
A18: PACKAGE RESTAURANT
A19: TOTAL | D19: =SUM(D17) -> 0
A21: PRESSING
A23: BAR
A24: OFFERT BAR
A25: TOTAL GENERAL | D25: =SUM(D8+D11+D14+D19+D21+D23-D24) -> 0
A27: CAISSE LE 01 09 2021
A29: CAISSE BAR
A30: CAISSE RESTAURANT
A31: CAISSE HOTEL
A32: CAISSE SEMINAIRE
A34: TOTAL CAISSE | B34: =SUM(B29:B33) -> 0
A36: STOCK LE 01 09 2021
A38: STOCK BOISSONS BAR
A39: STOCK BOISSONS RESTAURANT
A40: STOCK VIVRES RESTAURANT
A41: TOTAL STOCK | B41: =SUM(B38:B40) -> 0
A43: BANQUE
A44: BANQUE NSIA BAR
A45: BANQUE NSIA HOTEL
A46: DEPOT NSIA
A47: BANQUE NSIA RESTAURANT
A48: TOTAL BANQUE | B48: =SUM(B44:B47) -> 0

Sheet RECAPITULATIF
A1: CA AOUT 2021 | F1: NBE JOURS
A3: HEBERGEMENT | B3: QUANTITE | C3: PRIX MOYEN | D3: CA TTC
A4: CLASSIQUE | B4: ='01 08 21'!B4+'02 08 21'!B4+'03 08 21'!B4+'04 08 21'!B4+'05 08 21'!B4+'06 08 21'!B4+'07 08 21'!B4+'08 08 21'!B4+'09 08 21'!B4+'10 08 21'!B4+'11 08 21'!B4+'12 08 21'!B4+'13 08 21'!B4+'14 08 21'!B4+'15 08 21'!B4+'16 08 21'!B4+'17 08 21'!B4+'18 08 21'!B4+'19 08 21'!B4+'20 08 21'!B4+'21 08 21'!B4+'22 08 21'!B4+'23 08 21'!B4+'24 08 21'!B4+'25 08 21'!B4+'26 08 21'!B4+'27 08 21'!B4+'28 08 21'!B4+'29 08 21'!B4+'30 08 21'!B4 -> 0 | C4: =SUM(D4/B4) -> #DIV/0! | D4: ='01 08 21'!D4+'02 08 21'!D4+'03 08 21'!D4+'04 08 21'!D4+'05 08 21'!D4+'06 08 21'!D4+'07 08 21'!D4+'08 08 21'!D4+'09 08 21'!D4+'10 08 21'!D4+'11 08 21'!D4+'12 08 21'!D4+'13 08 21'!D4+'14 08 21'!D4+'15 08 21'!D4+'16 08 21'!D4+'17 08 21'!D4+'18 08 21'!D4+'19 08 21'!D4+'20 08 21'!D4+'21 08 21'!D4+'22 08 21'!D4+'23 08 21'!D4+'24 08 21'!D4+'25 08 21'!D4+'26 08 21'!D4+'27 08 21'!D4+'28 08 21'!D4+'29 08 21'!D4+'30 08 21'!D4 -> 0 | F4: =SUM((B8/(40*G1))) -> #DIV/0!
A5: SUPERIEUR | B5: ='01 08 21'!B5+'02 08 21'!B5+'03 08 21'!B5+'04 08 21'!B5+'05 08 21'!B5+'06 08 21'!B5+'07 08 21'!B5+'08 08 21'!B5+'09 08 21'!B5+'10 08 21'!B5+'11 08 21'!B5+'12 08 21'!B5+'13 08 21'!B5+'14 08 21'!B5+'15 08 21'!B5+'16 08 21'!B5+'17 08 21'!B5+'18 08 21'!B5+'19 08 21'!B5+'20 08 21'!B5+'21 08 21'!B5+'22 08 21'!B5+'23 08 21'!B5+'24 08 21'!B5+'25 08 21'!B5+'26 08 21'!B5+'27 08 21'!B5+'28 08 21'!B5+'29 08 21'!B5+'30 08 21'!B5 -> 0 | C5: =SUM(D5/B5) -> #DIV/0! | D5: ='01 08 21'!D5+'02 08 21'!D5+'03 08 21'!D5+'04 08 21'!D5+'05 08 21'!D5+'06 08 21'!D5+'07 08 21'!D5+'08 08 21'!D5+'09 08 21'!D5+'10 08 21'!D5+'11 08 21'!D5+'12 08 21'!D5+'13 08 21'!D5+'14 08 21'!D5+'15 08 21'!D5+'16 08 21'!D5+'17 08 21'!D5+'18 08 21'!D5+'19 08 21'!D5+'20 08 21'!D5+'21 08 21'!D5+'22 08 21'!D5+'23 08 21'!D5+'24 08 21'!D5+'25 08 21'!D5+'26 08 21'!D5+'27 08 21'!D5+'28 08 21'!D5+'29 08 21'!D5+'30 08 21'!D5 -> 0
A6: JUNIOR | B6: ='01 08 21'!B6+'02 08 21'!B6+'03 08 21'!B6+'04 08 21'!B6+'05 08 21'!B6+'06 08 21'!B6+'07 08 21'!B6+'08 08 21'!B6+'09 08 21'!B6+'10 08 21'!B6+'11 08 21'!B6+'12 08 21'!B6+'13 08 21'!B6+'14 08 21'!B6+'15 08 21'!B6+'16 08 21'!B6+'17 08 21'!B6+'18 08 21'!B6+'19 08 21'!B6+'20 08 21'!B6+'21 08 21'!B6+'22 08 21'!B6+'23 08 21'!B6+'24 08 21'!B6+'25 08 21'!B6+'26 08 21'!B6+'27 08 21'!B6+'28 08 21'!B6+'29 08 21'!B6+'30 08 21'!B6 -> 0 | C6: =SUM(D6/B6) -> #DIV/0! | D6: ='01 08 21'!D6+'02 08 21'!D6+'03 08 21'!D6+'04 08 21'!D6+'05 08 21'!D6+'06 08 21'!D6+'07 08 21'!D6+'08 08 21'!D6+'09 08 21'!D6+'10 08 21'!D6+'11 08 21'!D6+'12 08 21'!D6+'13 08 21'!D6+'14 08 21'!D6+'15 08 21'!D6+'16 08 21'!D6+'17 08 21'!D6+'18 08 21'!D6+'19 08 21'!D6+'20 08 21'!D6+'21 08 21'!D6+'22 08 21'!D6+'23 08 21'!D6+'24 08 21'!D6+'25 08 21'!D6+'26 08 21'!D6+'27 08 21'!D6+'28 08 21'!D6+'29 08 21'!D6+'30 08 21'!D6 -> 0
A7: SENIOR | B7: ='01 08 21'!B7+'02 08 21'!B7+'03 08 21'!B7+'04 08 21'!B7+'05 08 21'!B7+'06 08 21'!B7+'07 08 21'!B7+'08 08 21'!B7+'09 08 21'!B7+'10 08 21'!B7+'11 08 21'!B7+'12 08 21'!B7+'13 08 21'!B7+'14 08 21'!B7+'15 08 21'!B7+'16 08 21'!B7+'17 08 21'!B7+'18 08 21'!B7+'19 08 21'!B7+'20 08 21'!B7+'21 08 21'!B7+'22 08 21'!B7+'23 08 21'!B7+'24 08 21'!B7+'25 08 21'!B7+'26 08 21'!B7+'27 08 21'!B7+'28 08 21'!B7+'29 08 21'!B7+'30 08 21'!B7 -> 0 | C7: =SUM(D7/B7) -> #DIV/0! | D7: ='01 08 21'!D7+'02 08 21'!D7+'03 08 21'!D7+'04 08 21'!D7+'05 08 21'!D7+'06 08 21'!D7+'07 08 21'!D7+'08 08 21'!D7+'09 08 21'!D7+'10 08 21'!D7+'11 08 21'!D7+'12 08 21'!D7+'13 08 21'!D7+'14 08 21'!D7+'15 08 21'!D7+'16 08 21'!D7+'17 08 21'!D7+'18 08 21'!D7+'19 08 21'!D7+'20 08 21'!D7+'21 08 21'!D7+'22 08 21'!D7+'23 08 21'!D7+'24 08 21'!D7+'25 08 21'!D7+'26 08 21'!D7+'27 08 21'!D7+'28 08 21'!D7+'29 08 21'!D7+'30 08 21'!D7 -> 0
A8: TOTAL | B8: ='01 08 21'!B8+'02 08 21'!B8+'03 08 21'!B8+'04 08 21'!B8+'05 08 21'!B8+'06 08 21'!B8+'07 08 21'!B8+'08 08 21'!B8+'09 08 21'!B8+'10 08 21'!B8+'11 08 21'!B8+'12 08 21'!B8+'13 08 21'!B8+'14 08 21'!B8+'15 08 21'!B8+'16 08 21'!B8+'17 08 21'!B8+'18 08 21'!B8+'19 08 21'!B8+'20 08 21'!B8+'21 08 21'!B8+'22 08 21'!B8+'23 08 21'!B8+'24 08 21'!B8+'25 08 21'!B8+'26 08 21'!B8+'27 08 21'!B8+'28 08 21'!B8+'29 08 21'!B8+'30 08 21'!B8 -> 0 | C8: =SUM(D8/B8) -> #DIV/0! | D8: ='01 08 21'!D8+'02 08 21'!D8+'03 08 21'!D8+'04 08 21'!D8+'05 08 21'!D8+'06 08 21'!D8+'07 08 21'!D8+'08 08 21'!D8+'09 08 21'!D8+'10 08 21'!D8+'11 08 21'!D8+'12 08 21'!D8+'13 08 21'!D8+'14 08 21'!D8+'15 08 21'!D8+'16 08 21'!D8+'17 08 21'!D8+'18 08 21'!D8+'19 08 21'!D8+'20 08 21'!D8+'21 08 21'!D8+'22 08 21'!D8+'23 08 21'!D8+'24 08 21'!D8+'25 08 21'!D8+'26 08 21'!D8+'27 08 21'!D8+'28 08 21'!D8+'29 08 21'!D8+'30 08 21'!D8+'31 08 21'!D8 -> 0
A10: SEMINAIRE | B10: QUANTITE | C10: PRIX MOYEN | D10: CA
A11: PETIT | B11: ='01 08 21'!B11+'02 08 21'!B11+'03 08 21'!B11+'04 08 21'!B11+'05 08 21'!B11+'06 08 21'!B11+'07 08 21'!B11+'08 08 21'!B11+'09 08 21'!B11+'10 08 21'!B11+'11 08 21'!B11+'12 08 21'!B11+'13 08 21'!B11+'14 08 21'!B11+'15 08 21'!B11+'16 08 21'!B11+'17 08 21'!B11+'18 08 21'!B11+'19 08 21'!B11+'20 08 21'!B11+'21 08 21'!B11+'22 08 21'!B11+'23 08 21'!B11+'24 08 21'!B11+'25 08 21'!B11+'26 08 21'!B11+'27 08 21'!B11+'28 08 21'!B11+'29 08 21'!B11+'30 08 21'!B11 -> 0 | C11: =SUM(D11/B11) -> #DIV/0! | D11: ='01 08 21'!D11+'02 08 21'!D11+'03 08 21'!D11+'04 08 21'!D11+'05 08 21'!D11+'06 08 21'!D11+'07 08 21'!D11+'08 08 21'!D11+'09 08 21'!D11+'10 08 21'!D11+'11 08 21'!D11+'12 08 21'!D11+'13 08 21'!D11+'14 08 21'!D11+'15 08 21'!D11+'16 08 21'!D11+'17 08 21'!D11+'18 08 21'!D11+'19 08 21'!D11+'20 08 21'!D11+'21 08 21'!D11+'22 08 21'!D11+'23 08 21'!D11+'24 08 21'!D11+'25 08 21'!D11+'26 08 21'!D11+'27 08 21'!D11+'28 08 21'!D11+'29 08 21'!D11+'30 08 21'!D11+'31 08 21'!D11 -> 0
A12: MOYEN | B12: ='01 08 21'!B12+'02 08 21'!B12+'03 08 21'!B12+'04 08 21'!B12+'05 08 21'!B12+'06 08 21'!B12+'07 08 21'!B12+'08 08 21'!B12+'09 08 21'!B12+'10 08 21'!B12+'11 08 21'!B12+'12 08 21'!B12+'13 08 21'!B12+'14 08 21'!B12+'15 08 21'!B12+'16 08 21'!B12+'17 08 21'!B12+'18 08 21'!B12+'19 08 21'!B12+'20 08 21'!B12+'21 08 21'!B12+'22 08 21'!B12+'23 08 21'!B12+'24 08 21'!B12+'25 08 21'!B12+'26 08 21'!B12+'27 08 21'!B12+'28 08 21'!B12+'29 08 21'!B12+'30 08 21'!B12 -> 0 | C12: =SUM(D12/B12) -> #DIV/0! | D12: ='01 08 21'!D12+'02 08 21'!D12+'03 08 21'!D12+'04 08 21'!D12+'05 08 21'!D12+'06 08 21'!D12+'07 08 21'!D12+'08 08 21'!D12+'09 08 21'!D12+'10 08 21'!D12+'11 08 21'!D12+'12 08 21'!D12+'13 08 21'!D12+'14 08 21'!D12+'15 08 21'!D12+'16 08 21'!D12+'17 08 21'!D12+'18 08 21'!D12+'19 08 21'!D12+'20 08 21'!D12+'21 08 21'!D12+'22 08 21'!D12+'23 08 21'!D12+'24 08 21'!D12+'25 08 21'!D12+'26 08 21'!D12+'27 08 21'!D12+'28 08 21'!D12+'29 08 21'!D12+'30 08 21'!D12+'31 08 21'!D12 -> 0
A13: GRAND | B13: ='01 08 21'!B13+'02 08 21'!B13+'03 08 21'!B13+'04 08 21'!B13+'05 08 21'!B13+'06 08 21'!B13+'07 08 21'!B13+'08 08 21'!B13+'09 08 21'!B13+'10 08 21'!B13+'11 08 21'!B13+'12 08 21'!B13+'13 08 21'!B13+'14 08 21'!B13+'15 08 21'!B13+'16 08 21'!B13+'17 08 21'!B13+'18 08 21'!B13+'19 08 21'!B13+'20 08 21'!B13+'21 08 21'!B13+'22 08 21'!B13+'23 08 21'!B13+'24 08 21'!B13+'25 08 21'!B13+'26 08 21'!B13+'27 08 21'!B13+'28 08 21'!B13+'29 08 21'!B13+'30 08 21'!B13 -> 0 | C13: =SUM(D13/B13) -> #DIV/0! | D13: ='01 08 21'!D13+'02 08 21'!D13+'03 08 21'!D13+'04 08 21'!D13+'05 08 21'!D13+'06 08 21'!D13+'07 08 21'!D13+'08 08 21'!D13+'09 08 21'!D13+'10 08 21'!D13+'11 08 21'!D13+'12 08 21'!D13+'13 08 21'!D13+'14 08 21'!D13+'15 08 21'!D13+'16 08 21'!D13+'17 08 21'!D13+'18 08 21'!D13+'19 08 21'!D13+'20 08 21'!D13+'21 08 21'!D13+'22 08 21'!D13+'23 08 21'!D13+'24 08 21'!D13+'25 08 21'!D13+'26 08 21'!D13+'27 08 21'!D13+'28 08 21'!D13+'29 08 21'!D13+'30 08 21'!D13+'31 08 21'!D13 -> 0
A14: TOTAL | B14: ='01 08 21'!B14+'02 08 21'!B14+'03 08 21'!B14+'04 08 21'!B14+'05 08 21'!B14+'06 08 21'!B14+'07 08 21'!B14+'08 08 21'!B14+'09 08 21'!B14+'10 08 21'!B14+'11 08 21'!B14+'12 08 21'!B14+'13 08 21'!B14+'14 08 21'!B14+'15 08 21'!B14+'16 08 21'!B14+'17 08 21'!B14+'18 08 21'!B14+'19 08 21'!B14+'20 08 21'!B14+'21 08 21'!B14+'22 08 21'!B14+'23 08 21'!B14+'24 08 21'!B14+'25 08 21'!B14+'26 08 21'!B14+'27 08 21'!B14+'28 08 21'!B14+'29 08 21'!B14+'30 08 21'!B14 -> 0 | C14: =SUM(D14/B14) -> #DIV/0! | D14: ='01 08 21'!D14+'02 08 21'!D14+'03 08 21'!D14+'04 08 21'!D14+'05 08 21'!D14+'06 08 21'!D14+'07 08 21'!D14+'08 08 21'!D14+'09 08 21'!D14+'10 08 21'!D14+'11 08 21'!D14+'12 08 21'!D14+'13 08 21'!D14+'14 08 21'!D14+'15 08 21'!D14+'16 08 21'!D14+'17 08 21'!D14+'18 08 21'!D14+'19 08 21'!D14+'20 08 21'!D14+'21 08 21'!D14+'22 08 21'!D14+'23 08 21'!D14+'24 08 21'!D14+'25 08 21'!D14+'26 08 21'!D14+'27 08 21'!D14+'28 08 21'!D14+'29 08 21'!D14+'30 08 21'!D14+'31 08 21'!D14 -> 0
A16: RESTAURATION | B16: QUANTITE | C16: PRIX MOYEN | D16: CA
A17: RESTAURATION | B17: ='01 08 21'!B17+'02 08 21'!B17+'03 08 21'!B17+'04 08 21'!B17+'05 08 21'!B17+'06 08 21'!B17+'07 08 21'!B17+'08 08 21'!B17+'09 08 21'!B17+'10 08 21'!B17+'11 08 21'!B17+'12 08 21'!B17+'13 08 21'!B17+'14 08 21'!B17+'15 08 21'!B17+'16 08 21'!B17+'17 08 21'!B17+'18 08 21'!B17+'19 08 21'!B17+'20 08 21'!B17+'21 08 21'!B17+'22 08 21'!B17+'23 08 21'!B17+'24 08 21'!B17+'25 08 21'!B17+'26 08 21'!B17+'27 08 21'!B17+'28 08 21'!B17+'29 08 21'!B17+'30 08 21'!B17 -> 0
A18: PACKAGE RESTAURATION | B18: ='01 08 21'!B18+'02 08 21'!B18+'03 08 21'!B18+'04 08 21'!B18+'05 08 21'!B18+'06 08 21'!B18+'07 08 21'!B18+'08 08 21'!B18+'09 08 21'!B18+'10 08 21'!B18+'11 08 21'!B18+'12 08 21'!B18+'13 08 21'!B18+'14 08 21'!B18+'15 08 21'!B18+'16 08 21'!B18+'17 08 21'!B18+'18 08 21'!B18+'19 08 21'!B18+'20 08 21'!B18+'21 08 21'!B18+'22 08 21'!B18+'23 08 21'!B18+'24 08 21'!B18+'25 08 21'!B18+'26 08 21'!B18+'27 08 21'!B18+'28 08 21'!B18+'29 08 21'!B18+'30 08 21'!B18 -> 0 | C18: =SUM(D18/B18) -> #DIV/0! | D18: ='01 08 21'!D18+'02 08 21'!D18+'03 08 21'!D18+'04 08 21'!D18+'05 08 21'!D18+'06 08 21'!D18+'07 08 21'!D18+'08 08 21'!D18+'09 08 21'!D18+'10 08 21'!D18+'11 08 21'!D18+'12 08 21'!D18+'13 08 21'!D18+'14 08 21'!D18+'15 08 21'!D18+'16 08 21'!D18+'17 08 21'!D18+'18 08 21'!D18+'19 08 21'!D18+'20 08 21'!D18+'21 08 21'!D18+'22 08 21'!D18+'23 08 21'!D18+'24 08 21'!D18+'25 08 21'!D18+'26 08 21'!D18+'27 08 21'!D18+'28 08 21'!D18+'29 08 21'!D18+'30 08 21'!D18+'31 08 21'!D18 -> 0
A19: TOTAL | B19: ='01 08 21'!B19+'02 08 21'!B19+'03 08 21'!B19+'04 08 21'!B19+'05 08 21'!B19+'06 08 21'!B19+'07 08 21'!B19+'08 08 21'!B19+'09 08 21'!B19+'10 08 21'!B19+'11 08 21'!B19+'12 08 21'!B19+'13 08 21'!B19+'14 08 21'!B19+'15 08 21'!B19+'16 08 21'!B19+'17 08 21'!B19+'18 08 21'!B19+'19 08 21'!B19+'20 08 21'!B19+'21 08 21'!B19+'22 08 21'!B19+'23 08 21'!B19+'24 08 21'!B19+'25 08 21'!B19+'26 08 21'!B19+'27 08 21'!B19+'28 08 21'!B19+'29 08 21'!B19+'30 08 21'!B19 -> 0 | D19: ='01 08 21'!D19+'02 08 21'!D19+'03 08 21'!D19+'04 08 21'!D19+'05 08 21'!D19+'06 08 21'!D19+'07 08 21'!D19+'08 08 21'!D19+'09 08 21'!D19+'10 08 21'!D19+'11 08 21'!D19+'12 08 21'!D19+'13 08 21'!D19+'14 08 21'!D19+'15 08 21'!D19+'16 08 21'!D19+'17 08 21'!D19+'18 08 21'!D19+'19 08 21'!D19+'20 08 21'!D19+'21 08 21'!D19+'22 08 21'!D19+'23 08 21'!D19+'24 08 21'!D19+'25 08 21'!D19+'26 08 21'!D19+'27 08 21'!D19+'28 08 21'!D19+'29 08 21'!D19+'30 08 21'!D19+'31 08 21'!D19 -> 0
A21: PRESSING | B21: ='01 08 21'!B21+'02 08 21'!B20+'03 08 21'!B20+'04 08 21'!B20+'05 08 21'!B20+'06 08 21'!B20+'07 08 21'!B20+'08 08 21'!B20+'09 08 21'!B21+'10 08 21'!B21+'11 08 21'!B21+'12 08 21'!B21+'13 08 21'!B21+'15 08 21'!B21+'16 08 21'!B21+'17 08 21'!B21+'18 08 21'!B21+'19 08 21'!B21+'20 08 21'!B21+'21 08 21'!B21+'22 08 21'!B21+'23 08 21'!B21+'24 08 21'!B21+'25 08 21'!B21+'26 08 21'!B21+'27 08 21'!B21+'28 08 21'!B21+'29 08 21'!B21+'30 08 21'!B21 -> 0 | D21: ='01 08 21'!D21+'02 08 21'!D21+'03 08 21'!D21+'04 08 21'!D21+'05 08 21'!D21+'06 08 21'!D21+'07 08 21'!D21+'08 08 21'!D21+'09 08 21'!D21+'10 08 21'!D21+'11 08 21'!D21+'12 08 21'!D21+'13 08 21'!D21+'14 08 21'!D21+'15 08 21'!D21+'16 08 21'!D21+'17 08 21'!D21+'18 08 21'!D21+'19 08 21'!D21+'20 08 21'!D21+'21 08 21'!D21+'22 08 21'!D21+'23 08 21'!D21+'24 08 21'!D21+'25 08 21'!D21+'26 08 21'!D21+'27 08 21'!D21+'28 08 21'!D21+'29 08 21'!D21+'30 08 21'!D21+'31 08 21'!D21 -> 0
A23: BAR | D23: ='01 08 21'!D23+'02 08 21'!D23+'03 08 21'!D23+'04 08 21'!D23+'05 08 21'!D23+'06 08 21'!D23+'07 08 21'!D23+'08 08 21'!D23+'09 08 21'!D23+'10 08 21'!D23+'11 08 21'!D23+'12 08 21'!D23+'13 08 21'!D23+'14 08 21'!D23+'15 08 21'!D23+'16 08 21'!D23+'17 08 21'!D23+'18 08 21'!D23+'19 08 21'!D23+'20 08 21'!D23+'21 08 21'!D23+'22 08 21'!D23+'23 08 21'!D23+'24 08 21'!D23+'25 08 21'!D23+'26 08 21'!D23+'27 08 21'!D23+'28 08 21'!D23+'29 08 21'!D23+'30 08 21'!D23+'31 08 21'!D23 -> 0
A24: OFFERT BAR | D24: ='01 08 21'!D24+'02 08 21'!D24+'03 08 21'!D24+'04 08 21'!D24+'05 08 21'!D24+'06 08 21'!D24+'07 08 21'!D24+'08 08 21'!D24+'09 08 21'!D24+'10 08 21'!D24+'11 08 21'!D24+'12 08 21'!D24+'13 08 21'!D24+'14 08 21'!D24+'15 08 21'!D24+'16 08 21'!D24+'17 08 21'!D24+'18 08 21'!D24+'19 08 21'!D24+'20 08 21'!D24+'21 08 21'!D24+'22 08 21'!D24+'23 08 21'!D24+'24 08 21'!D24+'25 08 21'!D24+'26 08 21'!D24+'27 08 21'!D24+'28 08 21'!D24+'29 08 21'!D24+'30 08 21'!D24+'31 08 21'!D24 -> 0
A25: TOTAL GENERAL | D25: =SUM(D8+D11+D14+D19+D21+D23-D24) -> 0
A27: TRANSPORT
A28: BOUTIQUE
