Workbook

Sheet Référence
B1: Malette | C1: Médecin | D1: Castor | E1: DAE | F1: Caisse/VL | G1: VPSP | H1: Oxygène | I1: Armoire / Local | J1: Formation | K1: Normale
A2: Compresses | B2: 50 | C2: 50 | D2: 30 | E2: 5 | F2: 50 | G2: 80 | I2: 150 | K2: =B2*3+C2+D2*2+E2*2+F2+G2+H2*3+I2+J2 -> 550 | L2: Compresses
A3: Sac Dasri | B3: 1 | C3: 1 | D3: 1 | F3: 1 | G3: 1 | I3: 2 | K3: =B3*3+C3+D3*2+E3*2+F3+G3+H3*3+I3+J3 -> 10 | L3: Sac Dasri
A4: Sac Poubelle | B4: 1 | D4: 1 | F4: 1 | G4: 1 | I4: 2 | K4: =B4*3+C4+D4*2+E4*2+F4+G4+H4*3+I4+J4 -> 9 | L4: Sac Poubelle
A5: SHA Petit | B5: 1 | C5: 1 | D5: 1 | I5: 5 | K5: =B5*3+C5+D5*2+E5*2+F5+G5+H5*3+I5+J5 -> 11 | L5: SHA Petit
A6: Echarpes Usage unique | B6: 5 | D6: 3 | F6: 5 | G6: 5 | I6: 25 | K6: =B6*3+C6+D6*2+E6*2+F6+G6+H6*3+I6+J6 -> 56 | L6: Echarpes Usage unique
A7: Echarpe réutilisable | F7: 1 | G7: 1 | I7: 1 | K7: =B7*3+C7+D7*2+E7*2+F7+G7+H7*3+I7+J7 -> 3 | L7: Echarpe réutilisable
A8: Couverture de Survie | B8: 5 | C8: 2 | D8: 3 | F8: 5 | G8: 5 | H8: 5 | I8: 40 | K8: =B8*3+C8+D8*2+E8*2+F8+G8+H8*3+I8+J8 -> 88 | L8: Couverture de Survie
A9: Sérum Phy | B9: 40 | D9: 40 | F9: 40 | G9: 40 | I9: 80 | K9: =B9*3+C9+D9*2+E9*2+F9+G9+H9*3+I9+J9 -> 360 | L9: Sérum Phy
A10: Chlorexidine | B10: 12 | D10: 12 | F10: 12 | G10: 20 | I10: 36 | K10: =B10*3+C10+D10*2+E10*2+F10+G10+H10*3+I10+J10 -> 128 | L10: Chlorexidine
A11: Eau Oxygénée | B11: 10 | D11: 10 | F11: 10 | G11: 10 | I11: 20 | K11: =B11*3+C11+D11*2+E11*2+F11+G11+H11*3+I11+J11 -> 90 | L11: Eau Oxygénée
A12: Alcool | B12: 1 | G12: 1 | I12: 2 | K12: =B12*3+C12+D12*2+E12*2+F12+G12+H12*3+I12+J12 -> 6 | L12: Alcool
A13: Tire-tiques | B13: 1 | G13: 1 | K13: =B13*3+C13+D13*2+E13*2+F13+G13+H13*3+I13+J13 -> 4 | L13: Tire-tiques
A14: Pince à écharde | B14: 1 | G14: 1 | K14: =B14*3+C14+D14*2+E14*2+F14+G14+H14*3+I14+J14 -> 4 | L14: Pince à écharde
A15: Champ stérile | C15: 2 | G15: 3 | K15: =B15*3+C15+D15*2+E15*2+F15+G15+H15*3+I15+J15 -> 5 | L15: Champ stérile
A16: Sparadrap | B16: 1 | D16: 1 | G16: 1 | I16: 2 | K16: =B16*3+C16+D16*2+E16*2+F16+G16+H16*3+I16+J16 -> 8 | L16: Sparadrap
A17: Sparadrap extensible | B17: 1 | D17: 1 | G17: 1 | I17: 2 | K17: =B17*3+C17+D17*2+E17*2+F17+G17+H17*3+I17+J17 -> 8 | L17: Sparadrap extensible
A18: Bandes extensibles Petites | B18: 1 | D18: 1 | G18: 1 | I18: 5 | K18: =B18*3+C18+D18*2+E18*2+F18+G18+H18*3+I18+J18 -> 11 | L18: Bandes extensibles Petites
A19: Bandes extensibles Moyennes | B19: 1 | D19: 1 | G19: 1 | I19: 5 | K19: =B19*3+C19+D19*2+E19*2+F19+G19+H19*3+I19+J19 -> 11 | L19: Bandes extensibles Moyennes
A20: Bandes extensibles Grandes | B20: 1 | D20: 1 | G20: 1 | I20: 5 | K20: =B20*3+C20+D20*2+E20*2+F20+G20+H20*3+I20+J20 -> 11 | L20: Bandes extensibles Grandes
A21: Filet Maintien | B21: 3 | D21: 3 | G21: 2 | I21: 4 | K21: =B21*3+C21+D21*2+E21*2+F21+G21+H21*3+I21+J21 -> 21 | L21: Filet Maintien
A22: Pansements Ampoules | B22: 1 | D22: 1 | G22: 1 | I22: 2 | K22: =B22*3+C22+D22*2+E22*2+F22+G22+H22*3+I22+J22 -> 8 | L22: Pansements Ampoules
A23: Pansements | B23: 1 | D23: 1 | G23: 1 | I23: 2 | K23: =B23*3+C23+D23*2+E23*2+F23+G23+H23*3+I23+J23 -> 8 | L23: Pansements
A24: Ciseaux Jesco | B24: 1 | D24: 1 | E24: 1 | G24: 2 | I24: 1 | K24: =B24*3+C24+D24*2+E24*2+F24+G24+H24*3+I24+J24 -> 10 | L24: Ciseaux Jesco
A25: Ciseaux simple | B25: 1 | C25: 1 | G25: 1 | I25: 1 | K25: =B25*3+C25+D25*2+E25*2+F25+G25+H25*3+I25+J25 -> 6 | L25: Ciseaux simple
A26: Strap 3cm | B26: 1 | D26: 1 | G26: 1 | I26: 3 | K26: =B26*3+C26+D26*2+E26*2+F26+G26+H26*3+I26+J26 -> 9 | L26: Strap 3cm
A27: Strap 5cm | I27: 0 | K27: =B27*3+C27+D27*2+E27*2+F27+G27+H27*3+I27+J27 -> 0 | L27: Strap 5cm
A28: Strap 6cm | B28: 1 | D28: 1 | G28: 1 | I28: 3 | K28: =B28*3+C28+D28*2+E28*2+F28+G28+H28*3+I28+J28 -> 9 | L28: Strap 6cm
A29: Strap 8cm | B29: 1 | D29: 1 | G29: 1 | I29: 3 | K29: =B29*3+C29+D29*2+E29*2+F29+G29+H29*3+I29+J29 -> 9 | L29: Strap 8cm
A30: Strap 10cm | I30: 0 | K30: =B30*3+C30+D30*2+E30*2+F30+G30+H30*3+I30+J30 -> 0 | L30: Strap 10cm
A31: CHU | B31: 2 | D31: 2 | F31: 1 | G31: 2 | I31: 4 | K31: =B31*3+C31+D31*2+E31*2+F31+G31+H31*3+I31+J31 -> 17 | L31: CHU
A32: Garrot | B32: 1 | D32: 1 | F32: 2 | G32: 2 | H32: 1 | I32: 5 | K32: =B32*3+C32+D32*2+E32*2+F32+G32+H32*3+I32+J32 -> 17 | L32: Garrot
A33: Garrot tourniquet | F33: 1 | G33: 1 | I33: 0 | J33: 2 | K33: =B33*3+C33+D33*2+E33*2+F33+G33+H33*3+I33+J33 -> 4 | L33: Garrot tourniquet
A34: Pansement israélien | F34: 2 | G34: 2 | I34: 0 | K34: =B34*3+C34+D34*2+E34*2+F34+G34+H34*3+I34+J34 -> 4 | L34: Pansement israélien
A35: Kit Brulures | B35: 1 | G35: 1 | I35: 1 | K35: =B35*3+C35+D35*2+E35*2+F35+G35+H35*3+I35+J35 -> 5 | L35: Kit Brulures
A36: Poche de froid | B36: 15 | D36: 15 | F36: 12 | G36: 25 | H36: 10 | I36: 75 | K36: =B36*3+C36+D36*2+E36*2+F36+G36+H36*3+I36+J36 -> 217 | L36: Poche de froid
A37: Poche de chaud | F37: 2 | G37: 2 | I37: 0 | K37: =B37*3+C37+D37*2+E37*2+F37+G37+H37*3+I37+J37 -> 4 | L37: Poche de chaud
A38: Masque inhalation Adulte | F38: 1 | G38: 3 | H38: 4 | I38: 10 | K38: =B38*3+C38+D38*2+E38*2+F38+G38+H38*3+I38+J38 -> 26 | L38: Masque inhalation Adulte
A39: Masque inhalation Enfant | F39: 1 | G39: 2 | H39: 3 | I39: 10 | K39: =B39*3+C39+D39*2+E39*2+F39+G39+H39*3+I39+J39 -> 22 | L39: Masque inhalation Enfant
A40: Lunettes à Oxygène | F40: 1 | G40: 2 | H40: 1 | I40: 0 | K40: =B40*3+C40+D40*2+E40*2+F40+G40+H40*3+I40+J40 -> 6 | L40: Lunettes à Oxygène
...

Sheet Stocks au 02.11.2018
B1: Jumpy | J1: Ambulance | O1: Formation | P1: Armoire / Local | Q1: Stock Reel | R1: Stock Mini | S1: A racheter
B2: Malette 1 | C2: Malette 2 | D2: Médecin 1 | E2: Castor 1 | F2: DAE 1 | G2: Caisse/VL | H2: Oxygène léger | I2: Oxygène lourd | J2: Malette 3 | K2: Castor 2 | L2: DAE 2 | M2: VPSP | N2: Oxygène
A3: Compresses | B3: 50 | C3: 50 | D3: 50 | E3: 30 | F3: 5 | G3: 50 | J3: 50 | K3: 30 | L3: 5 | M3: 80 | P3: 184 | Q3: =SUM(B3:P3) -> 584 | R3: =Référence!K2 -> 550 | S3: =R3-Q3 -> -34 | T3: Compresses
A4: Sac Dasri | B4: 1 | C4: 1 | D4: 1 | E4: 1 | G4: 1 | J4: 1 | K4: 1 | M4: 1 | P4: 5 | Q4: =SUM(B4:P4) -> 13 | R4: =Référence!K3 -> 10 | S4: =R4-Q4 -> -3 | T4: Sac Dasri
A5: Sac Poubelle | B5: 1 | C5: 1 | E5: 1 | G5: 0 | J5: 1 | K5: 1 | M5: 1 | P5: 0 | Q5: =SUM(B5:P5) -> 6 | R5: =Référence!K4 -> 9 | S5: =R5-Q5 -> 3 | T5: Sac Poubelle
A6: SHA Petit | B6: 1 | C6: 1 | D6: 1 | E6: 1 | J6: 1 | K6: 1 | P6: 5 | Q6: =SUM(B6:P6) -> 11 | R6: =Référence!K5 -> 11 | S6: =R6-Q6 -> 0 | T6: SHA Petit
A7: Echarpes Usage unique | B7: 5 | C7: 5 | E7: 3 | G7: 5 | J7: 6 | K7: 3 | M7: 5 | P7: 28 | Q7: =SUM(B7:P7) -> 60 | R7: =Référence!K6 -> 56 | S7: =R7-Q7 -> -4 | T7: Echarpes Usage unique
A8: Echarpe réutilisable | G8: 1 | M8: 1 | P8: 1 | Q8: =SUM(B8:P8) -> 3 | R8: =Référence!K7 -> 3 | S8: =R8-Q8 -> 0 | T8: Echarpe réutilisable
A9: Couverture de Survie | B9: 5 | C9: 5 | D9: 2 | E9: 3 | G9: 5 | H9: 5 | I9: 5 | J9: 3 | K9: 3 | M9: 5 | N9: 5 | P9: 74 | Q9: =SUM(B9:P9) -> 120 | R9: =Référence!K8 -> 88 | S9: =R9-Q9 -> -32 | T9: Couverture de Survie
A10: Sérum Phy | B10: 40 | C10: 40 | E10: 40 | G10: 40 | J10: 40 | K10: 40 | M10: 40 | P10: 104 | Q10: =SUM(B10:P10) -> 384 | R10: =Référence!K9 -> 360 | S10: =R10-Q10 -> -24 | T10: Sérum Phy
A11: Chlorexidine | B11: 12 | C11: 12 | E11: 12 | G11: 12 | J11: 12 | K11: 12 | M11: 20 | P11: 41 | Q11: =SUM(B11:P11) -> 133 | R11: =Référence!K10 -> 128 | S11: =R11-Q11 -> -5 | T11: Chlorexidine
A12: Eau Oxygénée | B12: 10 | C12: 10 | E12: 10 | G12: 10 | J12: 10 | K12: 10 | M12: 18 | P12: 35 | Q12: =SUM(B12:P12) -> 113 | R12: =Référence!K11 -> 90 | S12: =R12-Q12 -> -23 | T12: Eau Oxygénée
A13: Alcool | B13: 1 | C13: 1 | J13: 1 | M13: 1 | P13: 2 | Q13: =SUM(B13:P13) -> 6 | R13: =Référence!K12 -> 6 | S13: =R13-Q13 -> 0 | T13: Alcool
A14: Tire-tiques | B14: 2 | C14: 1 | J14: 1 | M14: 1 | Q14: =SUM(B14:P14) -> 5 | R14: =Référence!K13 -> 4 | S14: =R14-Q14 -> -1 | T14: Tire-tiques
A15: Pince à écharde | B15: 4 | C15: 2 | D15: 1 | J15: 2 | M15: 7 | Q15: =SUM(B15:P15) -> 16 | R15: =Référence!K14 -> 4 | S15: =R15-Q15 -> -12 | T15: Pince à écharde
A16: Champ stérile | D16: 2 | M16: 3 | Q16: =SUM(B16:P16) -> 5 | R16: =Référence!K15 -> 5 | S16: =R16-Q16 -> 0 | T16: Champ stérile
A17: Sparadrap | B17: 1 | C17: 1 | E17: 1 | J17: 1 | K17: 1 | M17: 1 | P17: 3 | Q17: =SUM(B17:P17) -> 9 | R17: =Référence!K16 -> 8 | S17: =R17-Q17 -> -1 | T17: Sparadrap
A18: Sparadrap extensible | B18: 1 | C18: 1 | E18: 1 | J18: 1 | K18: 1 | M18: 2 | P18: 3 | Q18: =SUM(B18:P18) -> 10 | R18: =Référence!K17 -> 8 | S18: =R18-Q18 -> -2 | T18: Sparadrap extensible
A19: Bandes extensibles Petites | B19: 1 | C19: 1 | E19: 1 | J19: 1 | K19: 1 | M19: 1 | P19: 6 | Q19: =SUM(B19:P19) -> 12 | R19: =Référence!K18 -> 11 | S19: =R19-Q19 -> -1 | T19: Bandes extensibles Petites
A20: Bandes extensibles Moyennes | B20: 1 | C20: 1 | E20: 1 | J20: 1 | K20: 1 | M20: 1 | P20: 5 | Q20: =SUM(B20:P20) -> 11 | R20: =Référence!K19 -> 11 | S20: =R20-Q20 -> 0 | T20: Bandes extensibles Moyennes
A21: Bandes extensibles Grandes | B21: 1 | C21: 1 | E21: 1 | J21: 1 | K21: 1 | M21: 1 | P21: 5 | Q21: =SUM(B21:P21) -> 11 | R21: =Référence!K20 -> 11 | S21: =R21-Q21 -> 0 | T21: Bandes extensibles Grandes
A22: Filet Maintien | B22: 3 | C22: 3 | E22: 3 | J22: 3 | K22: 3 | M22: 3 | P22: 8 | Q22: =SUM(B22:P22) -> 26 | R22: =Référence!K21 -> 21 | S22: =R22-Q22 -> -5 | T22: Filet Maintien
A23: Pansements Ampoules | B23: 1 | C23: 1 | E23: 1 | J23: 1 | K23: 1 | M23: 1 | P23: 2 | Q23: =SUM(B23:P23) -> 8 | R23: =Référence!K22 -> 8 | S23: =R23-Q23 -> 0 | T23: Pansements Ampoules
A24: Pansements | B24: 1 | C24: 1 | E24: 1 | J24: 1 | K24: 1 | M24: 1 | P24: 2 | Q24: =SUM(B24:P24) -> 8 | R24: =Référence!K23 -> 8 | S24: =R24-Q24 -> 0 | T24: Pansements
A25: Ciseaux Jesco | B25: 1 | C25: 1 | D25: 1 | F25: 1 | J25: 1 | K25: 1 | L25: 1 | M25: 2 | P25: 1 | Q25: =SUM(B25:P25) -> 10 | R25: =Référence!K24 -> 10 | S25: =R25-Q25 -> 0 | T25: Ciseaux Jesco
A26: Ciseaux simple | B26: 4 | C26: 2 | D26: 2 | E26: 1 | J26: 2 | M26: 6 | P26: 1 | Q26: =SUM(B26:P26) -> 18 | R26: =Référence!K25 -> 6 | S26: =R26-Q26 -> -12 | T26: Ciseaux simple
A27: Strap 3cm | B27: 1 | C27: 1 | E27: 1 | J27: 1 | K27: 1 | M27: 1 | P27: 3 | Q27: =SUM(B27:P27) -> 9 | R27: =Référence!K26 -> 9 | S27: =R27-Q27 -> 0 | T27: Strap 3cm
A28: Strap 5cm | B28: 1 | Q28: =SUM(B28:P28) -> 1 | R28: =Référence!K27 -> 0 | S28: =R28-Q28 -> -1 | T28: Strap 5cm
A29: Strap 6cm | C29: 1 | E29: 1 | J29: 1 | K29: 1 | M29: 1 | P29: 3 | Q29: =SUM(B29:P29) -> 8 | R29: =Référence!K28 -> 9 | S29: =R29-Q29 -> 1 | T29: Strap 6cm
A30: Strap 8cm | B30: 1 | C30: 1 | E30: 1 | J30: 1 | K30: 1 | M30: 1 | P30: 3 | Q30: =SUM(B30:P30) -> 9 | R30: =Référence!K29 -> 9 | S30: =R30-Q30 -> 0 | T30: Strap 8cm
A31: Strap 10cm | P31: 0 | Q31: =SUM(B31:P31) -> 0 | R31: =Référence!K30 -> 0 | S31: =R31-Q31 -> 0 | T31: Strap 10cm
A32: CHU | B32: 2 | C32: 2 | E32: 2 | G32: 2 | J32: 2 | K32: 2 | P32: 7 | Q32: =SUM(B32:P32) -> 19 | R32: =Référence!K31 -> 17 | S32: =R32-Q32 -> -2 | T32: CHU
A33: Garrot | B33: 1 | C33: 1 | I33: 1 | J33: 1 | K33: 1 | M33: 2 | P33: 10 | Q33: =SUM(B33:P33) -> 17 | R33: =Référence!K32 -> 17 | S33: =R33-Q33 -> 0 | T33: Garrot
A34: Garrot tourniquet | G34: 1 | M34: 1 | O34: 2 | Q34: =SUM(B34:P34) -> 4 | R34: =Référence!K33 -> 4 | S34: =R34-Q34 -> 0 | T34: Garrot tourniquet | V34: 8
A35: Pansement israélien | G35: 2 | M35: 1 | Q35: =SUM(B35:P35) -> 3 | R35: =Référence!K34 -> 4 | S35: =R35-Q35 -> 1 | T35: Pansement israélien | V35: 2
A36: Kit Brulures | B36: 1 | C36: 1 | G36: 1 | J36: 1 | M36: 1 | P36: 1 | Q36: =SUM(B36:P36) -> 6 | R36: =Référence!K35 -> 5 | S36: =R36-Q36 -> -1 | T36: Kit Brulures | V36: 1
A37: Poche de froid | B37: 15 | C37: 15 | E37: 15 | G37: 12 | J37: 15 | K37: 15 | M37: 25 | P37: 105 | Q37: =SUM(B37:P37) -> 217 | R37: =Référence!K36 -> 217 | S37: =R37-Q37 -> 0 | T37: Poche de froid
A38: Pooche de chaud | G38: 2 | M38: 2 | Q38: =SUM(B38:P38) -> 4 | R38: =Référence!K37 -> 4 | S38: =R38-Q38 -> 0 | T38: Poche de chaud
A39: Masque inhalation Adulte | G39: 1 | H39: 4 | I39: 4 | M39: 4 | N39: 4 | P39: 5 | Q39: =SUM(B39:P39) -> 22 | R39: =Référence!K38 -> 26 | S39: =R39-Q39 -> 4 | T39: Masque inhalation Adulte
A40: Masque inhalation Enfant | G40: 1 | H40: 3 | I40: 3 | M40: 3 | N40: 3 | P40: 14 | Q40: =SUM(B40:P40) -> 27 | R40: =Référence!K39 -> 22 | S40: =R40-Q40 -> -5 | T40: Masque inhalation Enfant
...
