Workbook

Sheet Référence
B1: Malette | C1: Médecin | D1: Castor | E1: DAE | F1: Caisse/VL | G1: VPSP | H1: Oxygène | I1: Armoire / Local | J1: Formation | K1: Normale
A2: Compresses | B2: 50 | C2: 50 | D2: 30 | E2: 5 | F2: 50 | G2: 80 | I2: 150 | K2: =B2*3+C2+D2*2+E2*2+F2+G2+H2*3+I2+J2 -> 550 | L2: Compresses
A3: Sac Dasri | B3: 1 | C3: 1 | D3: 1 | F3: 1 | G3: 1 | I3: 2 | K3: =B3*3+C3+D3*2+E3*2+F3+G3+H3*3+I3+J3 -> 10 | L3: Sac Dasri
A4: Sac Poubelle | B4: 1 | D4: 1 | F4: 1 | G4: 1 | I4: 2 | K4: =B4*3+C4+D4*2+E4*2+F4+G4+H4*3+I4+J4 -> 9 | L4: Sac Poubelle
A5: SHA Petit | B5: 1 | C5: 1 | D5: 1 | I5: 5 | K5: =B5*3+C5+D5*2+E5*2+F5+G5+H5*3+I5+J5 -> 11 | L5: SHA Petit
A6: Echarpes Usage unique | B6: 5 | D6: 3 | F6: 5 | G6: 5 | I6: 25 | K6: =B6*3+C6+D6*2+E6*2+F6+G6+H6*3+I6+J6 -> 56 | L6: Echarpes Usage unique
A7: Echarpe réutilisable | F7: 1 | G7: 1 | I7: 1 | K7: =B7*3+C7+D7*2+E7*2+F7+G7+H7*3+I7+J7 -> 3 | L7: Echarpe réutilisable
A8: Couverture de Survie | B8: 5 | C8: 2 | D8: 3 | F8: 5 | G8: 5 | H8: 5 | I8: 40 | K8: =B8*3+C8+D8*2+E8*2+F8+G8+H8*3+I8+J8 -> 88 | L8: Couverture de Survie
A9: Sérum Phy | B9: 40 | D9: 40 | F9: 40 | G9: 40 | I9: 80 | K9: =B9*3+C9+D9*2+E9*2+F9+G9+H9*3+I9+J9 -> 360 | L9: Sérum Phy
A10: Chlorexidine | B10: 12 | D10: 12 | F10: 12 | G10: 20 | I10: 36 | K10: =B10*3+C10+D10*2+E10*2+F10+G10+H10*3+I10+J10 -> 128 | L10: Chlorexidine
A11: Eau Oxygénée | B11: 10 | D11: 10 | F11: 10 | G11: 10 | I11: 20 | K11: =B11*3+C11+D11*2+E11*2+F11+G11+H11*3+I11+J11 -> 90 | L11: Eau Oxygénée
A12: Alcool | B12: 1 | G12: 1 | I12: 2 | K12: =B12*3+C12+D12*2+E12*2+F12+G12+H12*3+I12+J12 -> 6 | L12: Alcool
A13: Tire-tiques | B13: 1 | G13: 1 | K13: =B13*3+C13+D13*2+E13*2+F13+G13+H13*3+I13+J13 -> 4 | L13: Tire-tiques
A14: Pince à écharde | B14: 1 | G14: 1 | K14: =B14*3+C14+D14*2+E14*2+F14+G14+H14*3+I14+J14 -> 4 | L14: Pince à écharde
A15: Champ stérile | C15: 2 | G15: 3 | K15: =B15*3+C15+D15*2+E15*2+F15+G15+H15*3+I15+J15 -> 5 | L15: Champ stérile
A16: Sparadrap | B16: 1 | D16: 1 | G16: 1 | I16: 2 | K16: =B16*3+C16+D16*2+E16*2+F16+G16+H16*3+I16+J16 -> 8 | L16: Sparadrap
A17: Sparadrap extensible | B17: 1 | D17: 1 | G17: 1 | I17: 2 | K17: =B17*3+C17+D17*2+E17*2+F17+G17+H17*3+I17+J17 -> 8 | L17: Sparadrap extensible
A18: Bandes extensibles Petites | B18: 1 | D18: 1 | G18: 1 | I18: 5 | K18: =B18*3+C18+D18*2+E18*2+F18+G18+H18*3+I18+J18 -> 11 | L18: Bandes extensibles Petites
A19: Bandes extensibles Moyennes | B19: 1 | D19: 1 | G19: 1 | I19: 5 | K19: =B19*3+C19+D19*2+E19*2+F19+G19+H19*3+I19+J19 -> 11 | L19: Bandes extensibles Moyennes
A20: Bandes extensibles Grandes | B20: 1 | D20: 1 | G20: 1 | I20: 5 | K20: =B20*3+C20+D20*2+E20*2+F20+G20+H20*3+I20+J20 -> 11 | L20: Bandes extensibles Grandes
A21: Filet Maintien | B21: 3 | D21: 3 | G21: 2 | I21: 4 | K21: =B21*3+C21+D21*2+E21*2+F21+G21+H21*3+I21+J21 -> 21 | L21: Filet Maintien
A22: Pansements Ampoules | B22: 1 | D22: 1 | G22: 1 | I22: 2 | K22: =B22*3+C22+D22*2+E22*2+F22+G22+H22*3+I22+J22 -> 8 | L22: Pansements Ampoules
A23: Pansements | B23: 1 | D23: 1 | G23: 1 | I23: 2 | K23: =B23*3+C23+D23*2+E23*2+F23+G23+H23*3+I23+J23 -> 8 | L23: Pansements
A24: Ciseaux Jesco | B24: 1 | D24: 1 | E24: 1 | G24: 2 | I24: 1 | K24: =B24*3+C24+D24*2+E24*2+F24+G24+H24*3+I24+J24 -> 10 | L24: Ciseaux Jesco
A25: Ciseaux simple | B25: 1 | C25: 1 | G25: 1 | I25: 1 | K25: =B25*3+C25+D25*2+E25*2+F25+G25+H25*3+I25+J25 -> 6 | L25: Ciseaux simple
A26: Strap 3cm | B26: 1 | D26: 1 | G26: 1 | I26: 3 | K26: =B26*3+C26+D26*2+E26*2+F26+G26+H26*3+I26+J26 -> 9 | L26: Strap 3cm
A27: Strap 5cm | I27: 0 | K27: =B27*3+C27+D27*2+E27*2+F27+G27+H27*3+I27+J27 -> 0 | L27: Strap 5cm
A28: Strap 6cm | B28: 1 | D28: 1 | G28: 1 | I28: 3 | K28: =B28*3+C28+D28*2+E28*2+F28+G28+H28*3+I28+J28 -> 9 | L28: Strap 6cm
A29: Strap 8cm | B29: 1 | D29: 1 | G29: 1 | I29: 3 | K29: =B29*3+C29+D29*2+E29*2+F29+G29+H29*3+I29+J29 -> 9 | L29: Strap 8cm
A30: Strap 10cm | I30: 0 | K30: =B30*3+C30+D30*2+E30*2+F30+G30+H30*3+I30+J30 -> 0 | L30: Strap 10cm
A31: CHU | B31: 2 | D31: 2 | F31: 1 | G31: 2 | I31: 4 | K31: =B31*3+C31+D31*2+E31*2+F31+G31+H31*3+I31+J31 -> 17 | L31: CHU
A32: Garrot | B32: 1 | D32: 1 | F32: 2 | G32: 2 | H32: 1 | I32: 5 | K32: =B32*3+C32+D32*2+E32*2+F32+G32+H32*3+I32+J32 -> 17 | L32: Garrot
A33: Garrot tourniquet | F33: 1 | G33: 1 | I33: 0 | J33: 2 | K33: =B33*3+C33+D33*2+E33*2+F33+G33+H33*3+I33+J33 -> 4 | L33: Garrot tourniquet
A34: Pansement israélien | F34: 2 | G34: 2 | I34: 0 | K34: =B34*3+C34+D34*2+E34*2+F34+G34+H34*3+I34+J34 -> 4 | L34: Pansement israélien
A35: Kit Brulures | B35: 1 | G35: 1 | I35: 1 | K35: =B35*3+C35+D35*2+E35*2+F35+G35+H35*3+I35+J35 -> 5 | L35: Kit Brulures
A36: Poche de froid | B36: 15 | D36: 15 | F36: 12 | G36: 25 | H36: 10 | I36: 75 | K36: =B36*3+C36+D36*2+E36*2+F36+G36+H36*3+I36+J36 -> 217 | L36: Poche de froid
A37: Poche de chaud | F37: 2 | G37: 2 | I37: 0 | K37: =B37*3+C37+D37*2+E37*2+F37+G37+H37*3+I37+J37 -> 4 | L37: Poche de chaud
A38: Masque inhalation Adulte | F38: 1 | G38: 3 | H38: 4 | I38: 10 | K38: =B38*3+C38+D38*2+E38*2+F38+G38+H38*3+I38+J38 -> 26 | L38: Masque inhalation Adulte
A39: Masque inhalation Enfant | F39: 1 | G39: 2 | H39: 3 | I39: 10 | K39: =B39*3+C39+D39*2+E39*2+F39+G39+H39*3+I39+J39 -> 22 | L39: Masque inhalation Enfant
A40: Lunettes à Oxygène | F40: 1 | G40: 2 | H40: 1 | I40: 0 | K40: =B40*3+C40+D40*2+E40*2+F40+G40+H40*3+I40+J40 -> 6 | L40: Lunettes à Oxygène
A41: BAVU Adulte | G41: 2 | H41: 1 | I41: 2 | K41: =B41*3+C41+D41*2+E41*2+F41+G41+H41*3+I41+J41 -> 7 | L41: BAVU Adulte
A42: BAVU Enfant | G42: 2 | H42: 1 | I42: 1 | K42: =B42*3+C42+D42*2+E42*2+F42+G42+H42*3+I42+J42 -> 6 | L42: BAVU Enfant
A43: Collier Cervical Adulte | G43: 2 | H43: 2 | I43: 5 | K43: =B43*3+C43+D43*2+E43*2+F43+G43+H43*3+I43+J43 -> 13 | L43: Collier Cervical Adulte
A44: Collier Cervical Enfant | G44: 1 | H44: 1 | I44: 3 | K44: =B44*3+C44+D44*2+E44*2+F44+G44+H44*3+I44+J44 -> 7 | L44: Collier Cervical Enfant
A45: Canules | G45: 8 | H45: 8 | I45: 1 | K45: =B45*3+C45+D45*2+E45*2+F45+G45+H45*3+I45+J45 -> 33 | L45: Canules
A46: Tensiomètre électronique | G46: 1 | H46: 1 | K46: =B46*3+C46+D46*2+E46*2+F46+G46+H46*3+I46+J46 -> 4 | L46: Tensiomètre électronique
A47: Tensiomètre manuel | C47: 1 | G47: 1 | K47: =B47*3+C47+D47*2+E47*2+F47+G47+H47*3+I47+J47 -> 2 | L47: Tensiomètre manuel
A48: Stéthoscope | C48: 1 | G48: 1 | K48: =B48*3+C48+D48*2+E48*2+F48+G48+H48*3+I48+J48 -> 2 | L48: Stéthoscope
A49: Oxymètre | G49: 1 | H49: 1 | I49: 1 | K49: =B49*3+C49+D49*2+E49*2+F49+G49+H49*3+I49+J49 -> 5 | L49: Oxymètre
A50: Lampe à pupilles | C50: 1 | G50: 1 | H50: 1 | I50: 3 | K50: =B50*3+C50+D50*2+E50*2+F50+G50+H50*3+I50+J50 -> 8 | L50: Lampe à pupilles
A51: Thermomètre contact | G51: 1 | H51: 1 | K51: =B51*3+C51+D51*2+E51*2+F51+G51+H51*3+I51+J51 -> 4 | L51: Thermomètre contact
A52: Vomi-bag | D52: 2 | F52: 2 | G52: 5 | H52: 3 | I52: 10 | K52: =B52*3+C52+D52*2+E52*2+F52+G52+H52*3+I52+J52 -> 30 | L52: Vomi-bag
A53: Bouteille O2 | G53: 2 | H53: 1 | K53: =B53*3+C53+D53*2+E53*2+F53+G53+H53*3+I53+J53 -> 5 | L53: Bouteille O2
A54: Coussin | G54: 1 | H54: 1 | K54: =B54*3+C54+D54*2+E54*2+F54+G54+H54*3+I54+J54 -> 4 | L54: Coussin
A55: Aspirateur à mucosités | G55: 1 | H55: 1 | K55: =B55*3+C55+D55*2+E55*2+F55+G55+H55*3+I55+J55 -> 4 | L55: Aspirateur à mucosités
A56: Sondes d'aspiration courtes | G56: 2 | H56: 2 | K56: =B56*3+C56+D56*2+E56*2+F56+G56+H56*3+I56+J56 -> 8 | L56: Sondes d'aspiration courtes
A57: Sondes d'aspiration longues | G57: 2 | H57: 2 | I57: 2 | K57: =B57*3+C57+D57*2+E57*2+F57+G57+H57*3+I57+J57 -> 10 | L57: Sondes d'aspiration longues
A58: Laryngoscope | F58: 1 | G58: 1 | K58: =B58*3+C58+D58*2+E58*2+F58+G58+H58*3+I58+J58 -> 2 | L58: Laryngoscope
A59: Sondes d'intubation 5.5 | F59: 2 | G59: 2 | K59: =B59*3+C59+D59*2+E59*2+F59+G59+H59*3+I59+J59 -> 4 | L59: Sondes d'intubation 5.5
A60: Sondes d'intubation 7.0 | F60: 2 | G60: 2 | K60: =B60*3+C60+D60*2+E60*2+F60+G60+H60*3+I60+J60 -> 4 | L60: Sondes d'intubation 7.0
A61: Sondes d'intubation 7.5 | I61: 0 | K61: =B61*3+C61+D61*2+E61*2+F61+G61+H61*3+I61+J61 -> 0 | L61: Sondes d'intubation 7.5
A62: Seringue 10 mL | C62: 2 | F62: 2 | G62: 2 | H62: 2 | I62: 2 | K62: =B62*3+C62+D62*2+E62*2+F62+G62+H62*3+I62+J62 -> 14 | L62: Seringue 10 mL
A63: Seringue 20 mL | C63: 2 | F63: 1 | G63: 1 | H63: 1 | I63: 2 | K63: =B63*3+C63+D63*2+E63*2+F63+G63+H63*3+I63+J63 -> 9 | L63: Seringue 20 mL
A64: DAE | E64: 1 | K64: =B64*3+C64+D64*2+E64*2+F64+G64+H64*3+I64+J64 -> 2 | L64: DAE
A65: Electrodes Enfants | E65: 1 | K65: =B65*3+C65+D65*2+E65*2+F65+G65+H65*3+I65+J65 -> 2 | L65: Electrodes Enfants
A66: Electrodes Adultes | E66: 2 | K66: =B66*3+C66+D66*2+E66*2+F66+G66+H66*3+I66+J66 -> 4 | L66: Electrodes Adultes
A67: Piles défibrillateur | E67: 10 | K67: =B67*3+C67+D67*2+E67*2+F67+G67+H67*3+I67+J67 -> 20 | L67: Piles défibrillateur
A68: Piles AA | G68: 4 | H68: 4 | I68: 8 | K68: =B68*3+C68+D68*2+E68*2+F68+G68+H68*3+I68+J68 -> 24 | L68: Piles AA
A69: Piles AAA | G69: 4 | H69: 2 | I69: 8 | K69: =B69*3+C69+D69*2+E69*2+F69+G69+H69*3+I69+J69 -> 18 | L69: Piles AAA
A70: Piles 9V | G70: 1 | H70: 1 | I70: 2 | K70: =B70*3+C70+D70*2+E70*2+F70+G70+H70*3+I70+J70 -> 6 | L70: Piles 9V
A71: Piles LR20 (Lampes) | F71: 4 | G71: 4 | I71: 8 | K71: =B71*3+C71+D71*2+E71*2+F71+G71+H71*3+I71+J71 -> 16 | L71: Piles LR20 (Lampes)
A72: Loratadine (MOTILIUM) | C72: 1 | G72: 1 | K72: =B72*3+C72+D72*2+E72*2+F72+G72+H72*3+I72+J72 -> 2 | L72: Loratadine (MOTILIUM)
A73: Diosmectite (SMECTA) | C73: 1 | G73: 1 | K73: =B73*3+C73+D73*2+E73*2+F73+G73+H73*3+I73+J73 -> 2 | L73: Diosmectite (SMECTA)
A74: Ibuprofène (NUROFEN) | C74: 1 | G74: 1 | K74: =B74*3+C74+D74*2+E74*2+F74+G74+H74*3+I74+J74 -> 2 | L74: Ibuprofène (NUROFEN)
A75: Paracétamol (DOLIPRANE) | C75: 1 | G75: 1 | K75: =B75*3+C75+D75*2+E75*2+F75+G75+H75*3+I75+J75 -> 2 | L75: Paracétamol (DOLIPRANE)
A76: Phloroglucinol (SPASFON) | C76: 1 | G76: 1 | K76: =B76*3+C76+D76*2+E76*2+F76+G76+H76*3+I76+J76 -> 2 | L76: Phloroglucinol (SPASFON)
A77: Thermomètre tympanique | C77: 1 | G77: 1 | K77: =B77*3+C77+D77*2+E77*2+F77+G77+H77*3+I77+J77 -> 2 | L77: Thermomètre tympanique
A78: Thermomètre rectal | C78: 1 | G78: 1 | K78: =B78*3+C78+D78*2+E78*2+F78+G78+H78*3+I78+J78 -> 2 | L78: Thermomètre rectal
A79: Set de suture | C79: 1 | G79: 1 | K79: =B79*3+C79+D79*2+E79*2+F79+G79+H79*3+I79+J79 -> 2 | L79: Set de suture
A80: Set à pansement | C80: 1 | G80: 1 | K80: =B80*3+C80+D80*2+E80*2+F80+G80+H80*3+I80+J80 -> 2 | L80: Set à pansement
A81: Steri-strip | C81: 1 | G81: 1 | K81: =B81*3+C81+D81*2+E81*2+F81+G81+H81*3+I81+J81 -> 2 | L81: Steri-strip
A82: Bétadine dermique doses | C82: 1 | G82: 1 | K82: =B82*3+C82+D82*2+E82*2+F82+G82+H82*3+I82+J82 -> 2 | L82: Bétadine dermique doses
A83: Pinces kocher | C83: 2 | G83: 1 | K83: =B83*3+C83+D83*2+E83*2+F83+G83+H83*3+I83+J83 -> 3 | L83: Pinces kocher
... A94: Aiguilles à suture | C94: 4 | G94: 4 | K94: =B94*3+C94+D94*2+E94*2+F94+G94+H94*3+I94+J94 -> 8 | L94: Aiguilles à suture
A95: Gants stériles T7 | C95: 1 | G95: 2 | I95: 2 | K95: =B95*3+C95+D95*2+E95*2+F95+G95+H95*3+I95+J95 -> 5 | L95: Gants stériles T7
A96: Gants stériles T8 | C96: 1 | G96: 2 | I96: 2 | K96: =B96*3+C96+D96*2+E96*2+F96+G96+H96*3+I96+J96 -> 5 | L96: Gants stériles T8
A97: Rasoir jetable | C97: 3 | E97: 4 | G97: 3 | I97: 10 | K97: =B97*3+C97+D97*2+E97*2+F97+G97+H97*3+I97+J97 -> 24 | L97: Rasoir jetable
A98: Abaisse langue | C98: 3 | G98: 3 | K98: =B98*3+C98+D98*2+E98*2+F98+G98+H98*3+I98+J98 -> 6 | L98: Abaisse langue
A99: Drap à usage unique | C99: 1 | D99: 2 | F99: 5 | G99: 8 | I99: 25 | K99: =B99*3+C99+D99*2+E99*2+F99+G99+H99*3+I99+J99 -> 43 | L99: Drap à usage unique
A100: Lecteur glycémique | C100: 1 | G100: 1 | K100: =B100*3+C100+D100*2+E100*2+F100+G100+H100*3+I100+J100 -> 2 | L100: Lecteur glycémique
A101: Bandelettes glycémie | C101: 1 | G101: 1 | K101: =B101*3+C101+D101*2+E101*2+F101+G101+H101*3+I101+J101 -> 2 | L101: Bandelettes glycémie
A102: Stylo piqueur | C102: 1 | G102: 1 | K102: =B102*3+C102+D102*2+E102*2+F102+G102+H102*3+I102+J102 -> 2 | L102: Stylo piqueur
A103: Recharge aiguilles stylo | C103: 2 | G103: 2 | I103: 15 | K103: =B103*3+C103+D103*2+E103*2+F103+G103+H103*3+I103+J103 -> 19 | L103: Recharge aiguilles stylo
A104: Auto-piqueurs | C104: 20 | G104: 20 | I104: 50 | K104: =B104*3+C104+D104*2+E104*2+F104+G104+H104*3+I104+J104 -> 90 | L104: Auto-piqueurs
A105: Gants T6-7 | F105: 1 | G105: 1 | I105: 2 | J105: 1 | K105: =B105*3+C105+D105*2+E105*2+F105+G105+H105*3+I105+J105 -> 5 | L105: Gants T6-7
A106: Gants T7-8 | F106: 1 | G106: 1 | I106: 2 | J106: 1 | K106: =B106*3+C106+D106*2+E106*2+F106+G106+H106*3+I106+J106 -> 5 | L106: Gants T7-8
A107: Gants T8-9 | F107: 1 | G107: 1 | I107: 2 | J107: 1 | K107: =B107*3+C107+D107*2+E107*2+F107+G107+H107*3+I107+J107 -> 5 | L107: Gants T8-9
A108: Gants T9-10 | F108: 1 | G108: 1 | I108: 2 | J108: 1 | K108: =B108*3+C108+D108*2+E108*2+F108+G108+H108*3+I108+J108 -> 5 | L108: Gants T9-10
A109: SHA Grand / SHA VPSP | F109: 1 | G109: 1 | I109: 3 | J109: 1 | K109: =B109*3+C109+D109*2+E109*2+F109+G109+H109*3+I109+J109 -> 6 | L109: SHA Grand / SHA VPSP
A110: Sucre | C110: 1 | F110: 1 | G110: 1 | I110: 1 | K110: =B110*3+C110+D110*2+E110*2+F110+G110+H110*3+I110+J110 -> 4 | L110: Sucre
...

Sheet Stocks au 02.11.2018
B1: Jumpy | J1: Ambulance | O1: Formation | P1: Armoire / Local | Q1: Stock Reel | R1: Stock Mini | S1: A racheter
B2: Malette 1 | C2: Malette 2 | D2: Médecin 1 | E2: Castor 1 | F2: DAE 1 | G2: Caisse/VL | H2: Oxygène léger | I2: Oxygène lourd | J2: Malette 3 | K2: Castor 2 | L2: DAE 2 | M2: VPSP | N2: Oxygène
A3: Compresses | B3: 50 | C3: 50 | D3: 50 | E3: 30 | F3: 5 | G3: 50 | J3: 50 | K3: 30 | L3: 5 | M3: 80 | P3: 184 | Q3: =SUM(B3:P3) -> 584 | R3: =Référence!K2 -> 550 | S3: =R3-Q3 -> -34 | T3: Compresses
A4: Sac Dasri | B4: 1 | C4: 1 | D4: 1 | E4: 1 | G4: 1 | J4: 1 | K4: 1 | M4: 1 | P4: 5 | Q4: =SUM(B4:P4) -> 13 | R4: =Référence!K3 -> 10 | S4: =R4-Q4 -> -3 | T4: Sac Dasri
A5: Sac Poubelle | B5: 1 | C5: 1 | E5: 1 | G5: 0 | J5: 1 | K5: 1 | M5: 1 | P5: 0 | Q5: =SUM(B5:P5) -> 6 | R5: =Référence!K4 -> 9 | S5: =R5-Q5 -> 3 | T5: Sac Poubelle
A6: SHA Petit | B6: 1 | C6: 1 | D6: 1 | E6: 1 | J6: 1 | K6: 1 | P6: 5 | Q6: =SUM(B6:P6) -> 11 | R6: =Référence!K5 -> 11 | S6: =R6-Q6 -> 0 | T6: SHA Petit
A7: Echarpes Usage unique | B7: 5 | C7: 5 | E7: 3 | G7: 5 | J7: 6 | K7: 3 | M7: 5 | P7: 28 | Q7: =SUM(B7:P7) -> 60 | R7: =Référence!K6 -> 56 | S7: =R7-Q7 -> -4 | T7: Echarpes Usage unique
A8: Echarpe réutilisable | G8: 1 | M8: 1 | P8: 1 | Q8: =SUM(B8:P8) -> 3 | R8: =Référence!K7 -> 3 | S8: =R8-Q8 -> 0 | T8: Echarpe réutilisable
A9: Couverture de Survie | B9: 5 | C9: 5 | D9: 2 | E9: 3 | G9: 5 | H9: 5 | I9: 5 | J9: 3 | K9: 3 | M9: 5 | N9: 5 | P9: 74 | Q9: =SUM(B9:P9) -> 120 | R9: =Référence!K8 -> 88 | S9: =R9-Q9 -> -32 | T9: Couverture de Survie
A10: Sérum Phy | B10: 40 | C10: 40 | E10: 40 | G10: 40 | J10: 40 | K10: 40 | M10: 40 | P10: 104 | Q10: =SUM(B10:P10) -> 384 | R10: =Référence!K9 -> 360 | S10: =R10-Q10 -> -24 | T10: Sérum Phy
A11: Chlorexidine | B11: 12 | C11: 12 | E11: 12 | G11: 12 | J11: 12 | K11: 12 | M11: 20 | P11: 41 | Q11: =SUM(B11:P11) -> 133 | R11: =Référence!K10 -> 128 | S11: =R11-Q11 -> -5 | T11: Chlorexidine
A12: Eau Oxygénée | B12: 10 | C12: 10 | E12: 10 | G12: 10 | J12: 10 | K12: 10 | M12: 18 | P12: 35 | Q12: =SUM(B12:P12) -> 113 | R12: =Référence!K11 -> 90 | S12: =R12-Q12 -> -23 | T12: Eau Oxygénée
A13: Alcool | B13: 1 | C13: 1 | J13: 1 | M13: 1 | P13: 2 | Q13: =SUM(B13:P13) -> 6 | R13: =Référence!K12 -> 6 | S13: =R13-Q13 -> 0 | T13: Alcool
A14: Tire-tiques | B14: 2 | C14: 1 | J14: 1 | M14: 1 | Q14: =SUM(B14:P14) -> 5 | R14: =Référence!K13 -> 4 | S14: =R14-Q14 -> -1 | T14: Tire-tiques
A15: Pince à écharde | B15: 4 | C15: 2 | D15: 1 | J15: 2 | M15: 7 | Q15: =SUM(B15:P15) -> 16 | R15: =Référence!K14 -> 4 | S15: =R15-Q15 -> -12 | T15: Pince à écharde
A16: Champ stérile | D16: 2 | M16: 3 | Q16: =SUM(B16:P16) -> 5 | R16: =Référence!K15 -> 5 | S16: =R16-Q16 -> 0 | T16: Champ stérile
A17: Sparadrap | B17: 1 | C17: 1 | E17: 1 | J17: 1 | K17: 1 | M17: 1 | P17: 3 | Q17: =SUM(B17:P17) -> 9 | R17: =Référence!K16 -> 8 | S17: =R17-Q17 -> -1 | T17: Sparadrap
A18: Sparadrap extensible | B18: 1 | C18: 1 | E18: 1 | J18: 1 | K18: 1 | M18: 2 | P18: 3 | Q18: =SUM(B18:P18) -> 10 | R18: =Référence!K17 -> 8 | S18: =R18-Q18 -> -2 | T18: Sparadrap extensible
A19: Bandes extensibles Petites | B19: 1 | C19: 1 | E19: 1 | J19: 1 | K19: 1 | M19: 1 | P19: 6 | Q19: =SUM(B19:P19) -> 12 | R19: =Référence!K18 -> 11 | S19: =R19-Q19 -> -1 | T19: Bandes extensibles Petites
A20: Bandes extensibles Moyennes | B20: 1 | C20: 1 | E20: 1 | J20: 1 | K20: 1 | M20: 1 | P20: 5 | Q20: =SUM(B20:P20) -> 11 | R20: =Référence!K19 -> 11 | S20: =R20-Q20 -> 0 | T20: Bandes extensibles Moyennes
A21: Bandes extensibles Grandes | B21: 1 | C21: 1 | E21: 1 | J21: 1 | K21: 1 | M21: 1 | P21: 5 | Q21: =SUM(B21:P21) -> 11 | R21: =Référence!K20 -> 11 | S21: =R21-Q21 -> 0 | T21: Bandes extensibles Grandes
A22: Filet Maintien | B22: 3 | C22: 3 | E22: 3 | J22: 3 | K22: 3 | M22: 3 | P22: 8 | Q22: =SUM(B22:P22) -> 26 | R22: =Référence!K21 -> 21 | S22: =R22-Q22 -> -5 | T22: Filet Maintien
A23: Pansements Ampoules | B23: 1 | C23: 1 | E23: 1 | J23: 1 | K23: 1 | M23: 1 | P23: 2 | Q23: =SUM(B23:P23) -> 8 | R23: =Référence!K22 -> 8 | S23: =R23-Q23 -> 0 | T23: Pansements Ampoules
A24: Pansements | B24: 1 | C24: 1 | E24: 1 | J24: 1 | K24: 1 | M24: 1 | P24: 2 | Q24: =SUM(B24:P24) -> 8 | R24: =Référence!K23 -> 8 | S24: =R24-Q24 -> 0 | T24: Pansements
A25: Ciseaux Jesco | B25: 1 | C25: 1 | D25: 1 | F25: 1 | J25: 1 | K25: 1 | L25: 1 | M25: 2 | P25: 1 | Q25: =SUM(B25:P25) -> 10 | R25: =Référence!K24 -> 10 | S25: =R25-Q25 -> 0 | T25: Ciseaux Jesco
A26: Ciseaux simple | B26: 4 | C26: 2 | D26: 2 | E26: 1 | J26: 2 | M26: 6 | P26: 1 | Q26: =SUM(B26:P26) -> 18 | R26: =Référence!K25 -> 6 | S26: =R26-Q26 -> -12 | T26: Ciseaux simple
A27: Strap 3cm | B27: 1 | C27: 1 | E27: 1 | J27: 1 | K27: 1 | M27: 1 | P27: 3 | Q27: =SUM(B27:P27) -> 9 | R27: =Référence!K26 -> 9 | S27: =R27-Q27 -> 0 | T27: Strap 3cm
A28: Strap 5cm | B28: 1 | Q28: =SUM(B28:P28) -> 1 | R28: =Référence!K27 -> 0 | S28: =R28-Q28 -> -1 | T28: Strap 5cm
A29: Strap 6cm | C29: 1 | E29: 1 | J29: 1 | K29: 1 | M29: 1 | P29: 3 | Q29: =SUM(B29:P29) -> 8 | R29: =Référence!K28 -> 9 | S29: =R29-Q29 -> 1 | T29: Strap 6cm
A30: Strap 8cm | B30: 1 | C30: 1 | E30: 1 | J30: 1 | K30: 1 | M30: 1 | P30: 3 | Q30: =SUM(B30:P30) -> 9 | R30: =Référence!K29 -> 9 | S30: =R30-Q30 -> 0 | T30: Strap 8cm
A31: Strap 10cm | P31: 0 | Q31: =SUM(B31:P31) -> 0 | R31: =Référence!K30 -> 0 | S31: =R31-Q31 -> 0 | T31: Strap 10cm
A32: CHU | B32: 2 | C32: 2 | E32: 2 | G32: 2 | J32: 2 | K32: 2 | P32: 7 | Q32: =SUM(B32:P32) -> 19 | R32: =Référence!K31 -> 17 | S32: =R32-Q32 -> -2 | T32: CHU
A33: Garrot | B33: 1 | C33: 1 | I33: 1 | J33: 1 | K33: 1 | M33: 2 | P33: 10 | Q33: =SUM(B33:P33) -> 17 | R33: =Référence!K32 -> 17 | S33: =R33-Q33 -> 0 | T33: Garrot
A34: Garrot tourniquet | G34: 1 | M34: 1 | O34: 2 | Q34: =SUM(B34:P34) -> 4 | R34: =Référence!K33 -> 4 | S34: =R34-Q34 -> 0 | T34: Garrot tourniquet | V34: 8
A35: Pansement israélien | G35: 2 | M35: 1 | Q35: =SUM(B35:P35) -> 3 | R35: =Référence!K34 -> 4 | S35: =R35-Q35 -> 1 | T35: Pansement israélien | V35: 2
A36: Kit Brulures | B36: 1 | C36: 1 | G36: 1 | J36: 1 | M36: 1 | P36: 1 | Q36: =SUM(B36:P36) -> 6 | R36: =Référence!K35 -> 5 | S36: =R36-Q36 -> -1 | T36: Kit Brulures | V36: 1
A37: Poche de froid | B37: 15 | C37: 15 | E37: 15 | G37: 12 | J37: 15 | K37: 15 | M37: 25 | P37: 105 | Q37: =SUM(B37:P37) -> 217 | R37: =Référence!K36 -> 217 | S37: =R37-Q37 -> 0 | T37: Poche de froid
A38: Pooche de chaud | G38: 2 | M38: 2 | Q38: =SUM(B38:P38) -> 4 | R38: =Référence!K37 -> 4 | S38: =R38-Q38 -> 0 | T38: Poche de chaud
A39: Masque inhalation Adulte | G39: 1 | H39: 4 | I39: 4 | M39: 4 | N39: 4 | P39: 5 | Q39: =SUM(B39:P39) -> 22 | R39: =Référence!K38 -> 26 | S39: =R39-Q39 -> 4 | T39: Masque inhalation Adulte
A40: Masque inhalation Enfant | G40: 1 | H40: 3 | I40: 3 | M40: 3 | N40: 3 | P40: 14 | Q40: =SUM(B40:P40) -> 27 | R40: =Référence!K39 -> 22 | S40: =R40-Q40 -> -5 | T40: Masque inhalation Enfant
A41: Lunettes à Oxygène | G41: 1 | H41: 1 | I41: 1 | M41: 2 | N41: 1 | Q41: =SUM(B41:P41) -> 6 | R41: =Référence!K40 -> 6 | S41: =R41-Q41 -> 0 | T41: Lunettes à Oxygène
A42: BAVU Adulte | G42: 1 | H42: 1 | I42: 1 | M42: 2 | N42: 1 | P42: 3 | Q42: =SUM(B42:P42) -> 9 | R42: =Référence!K41 -> 7 | S42: =R42-Q42 -> -2 | T42: BAVU Adulte
A43: BAVU Enfant | G43: 1 | H43: 1 | I43: 1 | M43: 2 | N43: 1 | P43: 2 | Q43: =SUM(B43:P43) -> 8 | R43: =Référence!K42 -> 6 | S43: =R43-Q43 -> -2 | T43: BAVU Enfant
A44: Collier Cervical Adulte | H44: 2 | I44: 2 | M44: 2 | N44: 2 | P44: 6 | Q44: =SUM(B44:P44) -> 14 | R44: =Référence!K43 -> 13 | S44: =R44-Q44 -> -1 | T44: Collier Cervical Adulte
A45: Collier Cervical Enfant | H45: 1 | I45: 1 | M45: 1 | N45: 1 | P45: 5 | Q45: =SUM(B45:P45) -> 9 | R45: =Référence!K44 -> 7 | S45: =R45-Q45 -> -2 | T45: Collier Cervical Enfant
A46: Canules | H46: 8 | I46: 8 | M46: 8 | N46: 8 | P46: 1 | Q46: =SUM(B46:P46) -> 33 | R46: =Référence!K45 -> 33 | S46: =R46-Q46 -> 0 | T46: Canules
A47: Tensiomètre électronique | H47: 1 | I47: 1 | M47: 1 | N47: 1 | Q47: =SUM(B47:P47) -> 4 | R47: =Référence!K46 -> 4 | S47: =R47-Q47 -> 0 | T47: Tensiomètre électronique
A48: Tensiomètre manuel | D48: 1 | M48: 1 | Q48: =SUM(B48:P48) -> 2 | R48: =Référence!K47 -> 2 | S48: =R48-Q48 -> 0 | T48: Tensiomètre manuel
A49: Stéthoscope | D49: 1 | M49: 1 | Q49: =SUM(B49:P49) -> 2 | R49: =Référence!K48 -> 2 | S49: =R49-Q49 -> 0 | T49: Stéthoscope
A50: Oxymètre | H50: 1 | I50: 1 | M50: 1 | N50: 1 | P50: 1 | Q50: =SUM(B50:P50) -> 5 | R50: =Référence!K49 -> 5 | S50: =R50-Q50 -> 0 | T50: Oxymètre
A51: Lampe à pupilles | D51: 1 | H51: 1 | I51: 1 | M51: 1 | N51: 1 | P51: 7 | Q51: =SUM(B51:P51) -> 12 | R51: =Référence!K50 -> 8 | S51: =R51-Q51 -> -4 | T51: Lampe à pupilles
A52: Thermomètre contact | H52: 1 | I52: 1 | M52: 1 | N52: 1 | Q52: =SUM(B52:P52) -> 4 | R52: =Référence!K51 -> 4 | S52: =R52-Q52 -> 0 | T52: Thermomètre contact
A53: Vomi-bag | E53: 2 | G53: 2 | H53: 3 | I53: 3 | K53: 2 | M53: 5 | N53: 2 | P53: 7 | Q53: =SUM(B53:P53) -> 26 | R53: =Référence!K52 -> 30 | S53: =R53-Q53 -> 4 | T53: Vomi-bag
A54: Bouteille O2 | H54: 1 | I54: 1 | M54: 2 | N54: 1 | Q54: =SUM(B54:P54) -> 5 | R54: =Référence!K53 -> 5 | S54: =R54-Q54 -> 0 | T54: Bouteille O2
A55: Coussin | H55: 1 | I55: 1 | M55: 1 | N55: 1 | Q55: =SUM(B55:P55) -> 4 | R55: =Référence!K54 -> 4 | S55: =R55-Q55 -> 0 | T55: Coussin
A56: Aspirateur à mucosités | H56: 1 | I56: 1 | M56: 1 | N56: 1 | Q56: =SUM(B56:P56) -> 4 | R56: =Référence!K55 -> 4 | S56: =R56-Q56 -> 0 | T56: Aspirateur à mucosités
A57: Sondes d'aspiration courtes | H57: 2 | I57: 2 | M57: 2 | N57: 1 | Q57: =SUM(B57:P57) -> 7 | R57: =Référence!K56 -> 8 | S57: =R57-Q57 -> 1 | T57: Sondes d'aspiration courtes
A58: Sondes d'aspiration longues | H58: 2 | I58: 2 | M58: 2 | N58: 2 | P58: 1 | Q58: =SUM(B58:P58) -> 9 | R58: =Référence!K57 -> 10 | S58: =R58-Q58 -> 1 | T58: Sondes d'aspiration longues
A59: Laryngoscope | I59: 1 | M59: 1 | Q59: =SUM(B59:P59) -> 2 | R59: =Référence!K58 -> 2 | S59: =R59-Q59 -> 0 | T59: Laryngoscope
A60: Sondes d'intubation 5.5 | I60: 0 | M60: 0 | Q60: =SUM(B60:P60) -> 0 | R60: =Référence!K59 -> 4 | S60: =R60-Q60 -> 4 | T60: Sondes d'intubation 5.5
A61: Sondes d'intubation 7.0 | I61: 0 | M61: 0 | Q61: =SUM(B61:P61) -> 0 | R61: =Référence!K60 -> 4 | S61: =R61-Q61 -> 4 | T61: Sondes d'intubation 7.0
A62: Sondes d'intubation 7.5 | Q62: =SUM(B62:P62) -> 0 | R62: =Référence!K61 -> 0 | S62: =R62-Q62 -> 0 | T62: Sondes d'intubation 7.5
A63: Seringue 10 mL | D63: 3 | I63: 1 | M63: 0 | Q63: =SUM(B63:P63) -> 4 | R63: =Référence!K62 -> 14 | S63: =R63-Q63 -> 10 | T63: Seringue 10 mL
A64: Seringue 20 mL | I64: 0 | M64: 0 | Q64: =SUM(B64:P64) -> 0 | R64: =Référence!K63 -> 9 | S64: =R64-Q64 -> 9 | T64: Seringue 20 mL
A65: DAE | F65: 1 | L65: 1 | Q65: =SUM(B65:P65) -> 2 | R65: =Référence!K64 -> 2 | S65: =R65-Q65 -> 0 | T65: DAE
A66: Electrodes Enfants | F66: 1 | L66: 1 | Q66: =SUM(B66:P66) -> 2 | R66: =Référence!K65 -> 2 | S66: =R66-Q66 -> 0 | T66: Electrodes Enfants
A67: Electrodes Adultes | F67: 2 | L67: 2 | Q67: =SUM(B67:P67) -> 4 | R67: =Référence!K66 -> 4 | S67: =R67-Q67 -> 0 | T67: Electrodes Adultes
A68: Piles défibrillateur | F68: 10 | Q68: =SUM(B68:P68) -> 10 | R68: =Référence!K67 -> 20 | S68: =R68-Q68 -> 10 | T68: Piles défibrillateur
A69: Piles AA | H69: 4 | I69: 4 | M69: 8 | N69: 4 | P69: 2 | Q69: =SUM(B69:P69) -> 22 | R69: =Référence!K68 -> 24 | S69: =R69-Q69 -> 2 | T69: Piles AA
A70: Piles AAA | M70: 2 | P70: 4 | Q70: =SUM(B70:P70) -> 6 | R70: =Référence!K69 -> 18 | S70: =R70-Q70 -> 12 | T70: Piles AAA
A71: Piles 9V | H71: 1 | I71: 1 | P71: 0 | Q71: =SUM(B71:P71) -> 2 | R71: =Référence!K70 -> 6 | S71: =R71-Q71 -> 4 | T71: Piles 9V
A72: Piles LR20 (Lampes) | G72: 4 | M72: 4 | P72: 4 | Q72: =SUM(B72:P72) -> 12 | R72: =Référence!K71 -> 16 | S72: =R72-Q72 -> 4 | T72: Piles LR20 (Lampes)
A73: Loratadine (MOTILIUM) | D73: 1 | M73: 1 | Q73: =SUM(B73:P73) -> 2 | R73: =Référence!K72 -> 2 | S73: =R73-Q73 -> 0 | T73: Loratadine (MOTILIUM)
A74: Diosmectite (SMECTA) | D74: 1 | M74: 1 | Q74: =SUM(B74:P74) -> 2 | R74: =Référence!K73 -> 2 | S74: =R74-Q74 -> 0 | T74: Diosmectite (SMECTA)
A75: Ibuprofène (NUROFEN) | D75: 1 | M75: 1 | Q75: =SUM(B75:P75) -> 2 | R75: =Référence!K74 -> 2 | S75: =R75-Q75 -> 0 | T75: Ibuprofène (NUROFEN)
A76: Paracétamol (DOLIPRANE) | D76: 2 | M76: 2 | Q76: =SUM(B76:P76) -> 4 | R76: =Référence!K75 -> 2 | S76: =R76-Q76 -> -2 | T76: Paracétamol (DOLIPRANE)
A77: Phloroglucinol (SPASFON) | D77: 1 | M77: 0 | Q77: =SUM(B77:P77) -> 1 | R77: =Référence!K76 -> 2 | S77: =R77-Q77 -> 1 | T77: Phloroglucinol (SPASFON)
A78: Thermomètre tympanique | D78: 1 | M78: 1 | Q78: =SUM(B78:P78) -> 2 | R78: =Référence!K77 -> 2 | S78: =R78-Q78 -> 0 | T78: Thermomètre tympanique
A79: Thermomètre rectal | D79: 1 | Q79: =SUM(B79:P79) -> 1 | R79: =Référence!K78 -> 2 | S79: =R79-Q79 -> 1 | T79: Thermomètre rectal
A80: Set de suture | D80: 1 | M80: 1 | Q80: =SUM(B80:P80) -> 2 | R80: =Référence!K79 -> 2 | S80: =R80-Q80 -> 0 | T80: Set de suture
A81: Set à pansement | D81: 0 | M81: 0 | Q81: =SUM(B81:P81) -> 0 | R81: =Référence!K80 -> 2 | S81: =R81-Q81 -> 2 | T81: Set à pansement
A82: Steri-strip | D82: 0 | M82: 1 | Q82: =SUM(B82:P82) -> 1 | R82: =Référence!K81 -> 2 | S82: =R82-Q82 -> 1 | T82: Steri-strip
A83: Bétadine dermique doses | D83: 0 | M83: 1 | Q83: =SUM(B83:P83) -> 1 | R83: =Référence!K82 -> 2 | S83: =R83-Q83 -> 1 | T83: Bétadine dermique doses
A84: Pinces kocher | B84: 1 | C84: 3 | D84: 2 | J84: 2 | M84: 3 | Q84: =SUM(B84:P84) -> 11 | R84: =Référence!K83 -> 3 | S84: =R84-Q84 -> -8 | T84: Pinces kocher
A85: Pinces à disséquer | D85: 2 | M85: 2 | Q85: =SUM(B85:P85) -> 4 | R85: =Référence!K84 -> 3 | S85: =R85-Q85 -> -1 | T85: Pinces à disséquer
A86: Coalgan | D86: 1 | M86: 0 | Q86: =SUM(B86:P86) -> 1 | R86: =Référence!K85 -> 2 | S86: =R86-Q86 -> 1 | T86: Coalgan
A87: Tulle gras | D87: 0 | M87: 1 | P87: 1 | Q87: =SUM(B87:P87) -> 2 | R87: =Référence!K86 -> 2 | S87: =R87-Q87 -> 0 | T87: Tulle gras
A88: Scalpel | D88: 1 | M88: 1 | Q88: =SUM(B88:P88) -> 2 | R88: =Référence!K87 -> 2 | S88: =R88-Q88 -> 0 | T88: Scalpel
A89: Aiguilles 18G | D89: 0 | M89: 0 | P89: 3 | Q89: =SUM(B89:P89) -> 3 | R89: =Référence!K88 -> 4 | S89: =R89-Q89 -> 1 | T89: Aiguilles 18G
A90: Aiguilles 23G | D90: 0 | M90: 2 | Q90: =SUM(B90:P90) -> 2 | R90: =Référence!K89 -> 4 | S90: =R90-Q90 -> 2 | T90: Aiguilles 23G
A91: Perfuseur | D91: 2 | M91: 2 | P91: 1 | Q91: =SUM(B91:P91) -> 5 | R91: =Référence!K90 -> 4 | S91: =R91-Q91 -> -1 | T91: Perfuseur
A92: Set VVP | D92: 0 | M92: 0 | Q92: =SUM(B92:P92) -> 0 | R92: =Référence!K91 -> 2 | S92: =R92-Q92 -> 2 | T92: Set VVP
A93: Perfusion Glucose 5% | D93: 0 | M93: 0 | Q93: =SUM(B93:P93) -> 0 | R93: =Référence!K92 -> 2 | S93: =R93-Q93 -> 2 | T93: Perfusion Glucose 5%
A94: Perfusion Sérum Phy | D94: 1 | M94: 2 | P94: 1 | Q94: =SUM(B94:P94) -> 4 | R94: =Référence!K93 -> 2 | S94: =R94-Q94 -> -2 | T94: Perfusion Sérum Phy
A95: Aiguilles à suture | D95: 0 | M95: 3 | P95: 11 | Q95: =SUM(B95:P95) -> 14 | R95: =Référence!K94 -> 8 | S95: =R95-Q95 -> -6 | T95: Aiguilles à suture
A96: Gants stériles T7 | D96: 1 | M96: 2 | P96: 6 | Q96: =SUM(B96:P96) -> 9 | R96: =Référence!K95 -> 5 | S96: =R96-Q96 -> -4 | T96: Gants stériles T7
A97: Gants stériles T8 | D97: 1 | M97: 2 | P97: 5 | Q97: =SUM(B97:P97) -> 8 | R97: =Référence!K96 -> 5 | S97: =R97-Q97 -> -3 | T97: Gants stériles T8
A98: Rasoir jetable | D98: 3 | F98: 4 | L98: 4 | M98: 3 | P98: 10 | Q98: =SUM(B98:P98) -> 24 | R98: =Référence!K97 -> 24 | S98: =R98-Q98 -> 0 | T98: Rasoir jetable
A99: Abaisse langue | D99: 3 | M99: 3 | Q99: =SUM(B99:P99) -> 6 | R99: =Référence!K98 -> 6 | S99: =R99-Q99 -> 0 | T99: Abaisse langue
A100: Drap à usage unique | D100: 1 | E100: 2 | G100: 5 | K100: 2 | M100: 8 | P100: 80 | Q100: =SUM(B100:P100) -> 98 | R100: =Référence!K99 -> 43 | S100: =R100-Q100 -> -55 | T100: Drap à usage unique
...
