Workbook

Sheet Sales_Report_Customers
A1: Sales Person | B1: Outlet | C1: Customer Number | D1: First Name | E1: Surname | F1: Company | G1: ACN | H1: Address Line 1 | I1: Address Line 2 | J1: Suburb | K1: State | L1: Post Code | M1: Phone Number | N1: Fax Number | O1: Mobile | P1: Email | Q1: Date Of Birth | R1: Receive Post | S1: Receive Sms | T1: Newsletter | U1: Del Address Line 1 | V1: Del Address Line 2 | W1: Del Suburb | X1: Del State | Y1: Del Post Code | Z1: Del Company | AA1: Del Phone Number | AB1: Website | AC1: Custom Reference | AD1: Points to Date | AE1: Avail Points | AF1: Price Group | AI1: Age Group | AJ1: Birth Day | AK1: Birth Month | AL1: Brand Awareness | AM1: Heel Height | AN1: How Did You Hear About Us | AO1: Nationality | AP1: Shoe Size
A2: =VLOOKUP(C2,SalesOrderDetailExport_20181121!A:E,5,FALSE) -> #N/A | C2: 300550 | D2: Suzie | E2: Stern | O2: 0407950435 | R2: FALSE | S2: FALSE | T2: FALSE | AD2: 0 | AE2: 0 | AM2: Low 10mm-90mm | AN2: Newspaper | AO2: Local - Caucasian/Other | AP2: 39.5
A3: =VLOOKUP(C3,SalesOrderDetailExport_20181121!A:E,5,FALSE) -> #N/A | C3: 300715 | D3: Manal | E3: Ibrahim | H3: 45 griffiths ave | J3: punchbowl | O3: 0404540540 | P3: monalibrahim03@gmail.com | R3: FALSE | S3: FALSE | T3: FALSE | AD3: 0 | AE3: 0 | AI3: 25-34 years | AK3: Mar | AM3: Med 100mm-120mm | AN3: Walk By | AO3: Local - Middle Eastern | AP3: 40.5
A4: =VLOOKUP(C4,SalesOrderDetailExport_20181121!A:E,5,FALSE) -> #N/A | C4: 300735 | D4: Connie | E4: Da Silva | H4: PO BOX 2392 | J4: carlingford | L4: 2118 | O4: 0404042364 | P4: nelcon@live.com.au | R4: FALSE | S4: FALSE | T4: FALSE | AD4: 0 | AE4: 0 | AI4: 35-44 years | AK4: Jun | AM4: Flat | AN4: Walk By | AO4: Local - Caucasian/Other | AP4: 35.5
A5: =VLOOKUP(C5,SalesOrderDetailExport_20181121!A:E,5,FALSE) -> #N/A | C5: 300895 | D5: Leslie | E5: Damoulakis | H5: 45 Crosslands Road | J5: Galston | K5: nsw | L5: 2159 | O5: 0409778710 | P5: leslie_damoulakis@hotmail.com | R5: FALSE | S5: FALSE | T5: TRUE | U5: 45 Crosslands Road | W5: Galston | X5: nsw | Y5: 2159 | AD5: 0 | AE5: 0 | AI5: 25-34 years | AK5: Nov | AL5: Walk By | AM5: High 120mm+ | AN5: Walk By | AO5: Local - Caucasian/Other | AP5: 37.5
A6: =VLOOKUP(C6,SalesOrderDetailExport_20181121!A:E,5,FALSE) -> #N/A | C6: 301228 | D6: Mary Ann | E6: Ramsden | H6: 4 Jerrawa Close | J6: Lambton | K6: nsw | L6: 2299 | O6: 0417680907 | P6: mramsden2156@gmail.com | R6: FALSE | S6: FALSE | T6: TRUE | U6: 4 Jerrawa Close | W6: Lambton | X6: nsw | Y6: 2299 | AD6: 0 | AE6: 0 | AI6: 45+ years | AL6: Newspaper/Magazine | AM6: Low 10mm-90mm | AN6: Walk By | AO6: Local - Asian | AP6: 37.5
A7: =VLOOKUP(C7,SalesOrderDetailExport_20181121!A:E,5,FALSE) -> #N/A | C7: 301346 | D7: June | E7: Fallon | O7: 0421 570 267 | R7: FALSE | S7: FALSE | T7: FALSE | AD7: 0 | AE7: 0 | AI7: 25-34 years | AK7: Mar | AM7: High 120mm+ | AN7: Internet | AO7: Local - Caucasian/Other | AP7: 35.5
A8: =VLOOKUP(C8,SalesOrderDetailExport_20181121!A:E,5,FALSE) -> #N/A | C8: 301400 | D8: Cathy | E8: Bechara | H8: PO BOX 120 | J8: OATLANDS | K8: NSW | L8: 2117 | O8: 0400806041 | P8: catherinebechara@gmail.com | R8: FALSE | S8: FALSE | T8: TRUE | AD8: 0 | AE8: 0 | AI8: 25-34 years | AM8: Med 100mm-120mm | AN8: Walk By | AO8: Local - Middle Eastern | AP8: 39
A9: =VLOOKUP(C9,SalesOrderDetailExport_20181121!A:E,5,FALSE) -> #N/A | C9: 302021 | D9: Lindita | E9: Suleman | H9: 28 William ave | J9: Melbourne | K9: VIC | L9: 3175 | O9: 0411649867 | R9: FALSE | S9: FALSE | T9: FALSE | U9: 28 William ave | W9: Melbourne | X9: VIC | Y9: 3175 | AD9: 0 | AE9: 0 | AI9: 25-34 years | AM9: Med 100mm-120mm | AN9: Friend | AO9: Local - Caucasian/Other | AP9: 38
A10: =VLOOKUP(C10,SalesOrderDetailExport_20181121!A:E,5,FALSE) -> #N/A | C10: 302027 | D10: Michael | E10: Younan | H10: 59 Robert Street | J10: Lalor | K10: VIC | L10: 3075 | O10: 0412140675 | R10: FALSE | S10: FALSE | T10: FALSE | U10: 59 Robert Street | W10: Lalor | X10: VIC | Y10: 3075 | AD10: 0 | AE10: 0
A11: =VLOOKUP(C11,SalesOrderDetailExport_20181121!A:E,5,FALSE) -> #N/A | C11: 302036 | D11: Rosemary | E11: Buda | H11: 82-88 Benaroon Road | J11: Belmore | K11: NSW | L11: 2195 | O11: 0418220822 | P11: rosemary@buda.com.au | R11: FALSE | S11: FALSE | T11: TRUE | U11: 82-88 Benaroon Road | W11: Belmore | X11: NSW | Y11: 2195 | AD11: 0 | AE11: 0 | AI11: 35-44 years | AK11: Aug | AM11: Med 100mm-120mm | AN11: Walk By | AO11: Local - Caucasian/Other | AP11: 38
A12: =VLOOKUP(C12,SalesOrderDetailExport_20181121!A:E,5,FALSE) -> #N/A | C12: 302160 | D12: Amanda | E12: Bath | H12: 2 Park Street | J12: Sydney | K12: NSW | L12: 2000 | O12: 0419017444 | P12: amanda.bath@citi.com | R12: FALSE | S12: FALSE | T12: TRUE | AD12: 0 | AE12: 0 | AK12: Feb | AL12: Walk By | AN12: Walk By
A13: =VLOOKUP(C13,SalesOrderDetailExport_20181121!A:E,5,FALSE) -> #N/A | C13: 302320 | D13: Natalie | E13: Isshak | O13: 0423002797 | P13: natalieisshak@gmail.com | R13: FALSE | S13: FALSE | T13: TRUE | AD13: 0 | AE13: 0 | AI13: 25-34 years | AM13: Med 100mm-120mm | AN13: Friend | AO13: Local - Middle Eastern | AP13: 38
A14: =VLOOKUP(C14,SalesOrderDetailExport_20181121!A:E,5,FALSE) -> #N/A | C14: 303264 | D14: Natasha | E14: Mccarthy | M14: 0421332316 | O14: 0421332316 | P14: tash2301@y7mail.com | Q14: 31435 | R14: FALSE | S14: FALSE | T14: TRUE | U14: 135 | V14: Ninth Ave | W14: Inglewood | X14: WA | Y14: 6052 | AA14: 0421332316 | AD14: 0 | AE14: 0 | AI14: 25-34 years | AJ14: 23 | AK14: Jan | AM14: Med 100mm-120mm | AN14: Walk By | AO14: Local - Caucasian/Other | AP14: 38
A15: =VLOOKUP(C15,SalesOrderDetailExport_20181121!A:E,5,FALSE) -> #N/A | C15: 303460 | D15: Sara | E15: Doueih | H15: 2 Bardwell CR | J15: Earlwood | L15: 2206 | O15: 0488887272 | R15: FALSE | S15: FALSE | T15: TRUE | U15: 40 Ravenrock Lane | W15: Canasda | Y15: B3M3AI | AD15: 0 | AE15: 0
A16: =VLOOKUP(C16,SalesOrderDetailExport_20181121!A:E,5,FALSE) -> #N/A | C16: 303609 | D16: Bindi | E16: Petrevski | H16: 10 Ridley street | J16: Turner | K16: ACT | L16: 2612 | O16: 0423823355 | P16: bindieyes@hotmail.com | R16: FALSE | S16: FALSE | T16: TRUE | AD16: 0 | AE16: 0 | AI16: 45+ years | AJ16: 13 | AK16: May | AM16: Low 10mm-90mm | AN16: Walk By | AO16: Local - Caucasian/Other | AP16: 40
A17: =VLOOKUP(C17,SalesOrderDetailExport_20181121!A:E,5,FALSE) -> #N/A | C17: 303926 | D17: Caterina | E17: Serratore | O17: 0432 774 421 | R17: FALSE | S17: FALSE | T17: TRUE | AD17: 0 | AE17: 0 | AI17: 18-24 years | AK17: Mar | AM17: Med 100mm-120mm | AN17: Walk By | AO17: Local - Middle Eastern | AP17: 39
A18: =VLOOKUP(C18,SalesOrderDetailExport_20181121!A:E,5,FALSE) -> #N/A | C18: 304315 | D18: Lydia | E18: Barakat | O18: 0416730229 | P18: lydia.barakat@hotmail.com | R18: FALSE | S18: TRUE | T18: TRUE | AD18: 0 | AE18: 0 | AI18: 25-34 years | AM18: Med 100mm-120mm | AN18: Walk By | AO18: Local - Caucasian/Other | AP18: 39
A19: =VLOOKUP(C19,SalesOrderDetailExport_20181121!A:E,5,FALSE) -> #N/A | C19: 304920 | D19: Sharon | E19: Mackey-Albarran | H19: Unit 1101e 24-26 Point St | J19: Pyrmont | K19: NSW | L19: 2009 | O19: 0400949600 | P19: salbarran@hallchadwick.com.au | R19: FALSE | S19: FALSE | T19: TRUE | U19: Unit 1101e 24-26 Point St | W19: Pyrmont | X19: NSW | Y19: 2009 | AD19: 0 | AE19: 0 | AM19: Med 100mm-120mm | AN19: Internet | AO19: Local - Caucasian/Other | AP19: 37
A20: =VLOOKUP(C20,SalesOrderDetailExport_20181121!A:E,5,FALSE) -> #N/A | C20: 305505 | D20: Danijela | E20: Petrovic | O20: 0431725532 | P20: bubica_7@yahoo.com.au | R20: FALSE | S20: FALSE | T20: TRUE | AD20: 0 | AE20: 0 | AI20: 35-44 years | AM20: Low 10mm-90mm | AN20: Walk By | AO20: Local - Caucasian/Other | AP20: 40
A21: =VLOOKUP(C21,SalesOrderDetailExport_20181121!A:E,5,FALSE) -> #N/A | C21: 306598 | D21: Elizabeth | E21: Brimer -old | H21: Ray St | J21: Hawthron | O21: 0412463782 | R21: FALSE | S21: FALSE | T21: TRUE | U21: Ray St | W21: Hawthron | AD21: 0 | AE21: 0
A22: =VLOOKUP(C22,SalesOrderDetailExport_20181121!A:E,5,FALSE) -> #N/A | C22: 307295 | D22: Lisa | E22: Sahyoune | L22: 3058 | O22: 0432802405 | R22: FALSE | S22: FALSE | T22: TRUE | Y22: 3058 | AD22: 0 | AE22: 0
A23: =VLOOKUP(C23,SalesOrderDetailExport_20181121!A:E,5,FALSE) -> #N/A | C23: 307374 | D23: Dong Gyoon | E23: Na | H23: Unit 3 790 Elgar RD | J23: Doncaster | K23: VIC | L23: 3108 | O23: 0447631016 | R23: FALSE | S23: FALSE | T23: TRUE | U23: Unit 3 790 Elgar RD | W23: Doncaster | X23: VIC | Y23: 3108 | AD23: 0 | AE23: 0 | AI23: 18-24 years | AM23: Flat | AO23: Local - Asian | AP23: 43
A24: =VLOOKUP(C24,SalesOrderDetailExport_20181121!A:E,5,FALSE) -> #N/A | C24: 307966 | D24: Allan | E24: Hart | H24: 2 Mira Mar Street | I24: Australia | J24: Doubleview | K24: Wa | L24: 6018 | O24: 0439966552 | R24: FALSE | S24: FALSE | T24: TRUE | U24: 2 Mira Mar Street | V24: Australia | W24: Doubleview | X24: Wa | Y24: 6018 | AD24: 0 | AE24: 0
A25: =VLOOKUP(C25,SalesOrderDetailExport_20181121!A:E,5,FALSE) -> #N/A | C25: 308383 | D25: Kathy | E25: Garnaut | O25: 0417501726 | P25: garnaut2@bigpond.com | R25: FALSE | S25: FALSE | T25: TRUE | AA25: 0417501726 | AD25: 0 | AE25: 0 | AI25: 35-44 years | AM25: Med 100mm-120mm | AO25: Local - Caucasian/Other | AP25: 41
A26: =VLOOKUP(C26,SalesOrderDetailExport_20181121!A:E,5,FALSE) -> #N/A | C26: 308733 | D26: Kirilie | E26: Gauci | O26: 0417 395 188 | P26: kg@ciasia.com.au | R26: FALSE | S26: FALSE | T26: TRUE | AD26: 0 | AE26: 0
A27: =VLOOKUP(C27,SalesOrderDetailExport_20181121!A:E,5,FALSE) -> #N/A | C27: 309118 | D27: CAROL | E27: HY | O27: 0431858291 | R27: FALSE | S27: FALSE | T27: TRUE | AD27: 0 | AE27: 0
A28: =VLOOKUP(C28,SalesOrderDetailExport_20181121!A:E,5,FALSE) -> #N/A | C28: 309242 | D28: Alex Ching Swee | E28: Lim | H28: 8/31 Fulton Street | J28: St Kilda East | L28: 3183 | M28: 0431579557 | P28: alcs82@yahoo.com.au | R28: FALSE | S28: FALSE | T28: TRUE | U28: 8/31 Fulton Street | W28: St Kilda East | X28: VIC | Y28: 3183 | AA28: 0431579557 | AD28: 0 | AE28: 0 | AI28: 25-34 years | AK28: Sep | AM28: Flat | AN28: Walk By | AO28: Local - Asian | AP28: 42
A29: =VLOOKUP(C29,SalesOrderDetailExport_20181121!A:E,5,FALSE) -> #N/A | C29: 309391 | D29: Mallory | E29: Vos | H29: 19 Belfast Rd | J29: Montrose | K29: VIC | L29: 3765 | O29: 0438050124 | R29: FALSE | S29: FALSE | T29: TRUE | U29: 19 Belfast Rd | W29: Montrose | X29: VIC | Y29: 3765 | AD29: 0 | AE29: 0 | AM29: High 120mm+ | AO29: Local - Caucasian/Other | AP29: 39
A30: =VLOOKUP(C30,SalesOrderDetailExport_20181121!A:E,5,FALSE) -> #N/A | C30: 309404 | D30: Collette | E30: Burke | K30: VIC | O30: 0411043167 | P30: collette.burke@exner.com.au | R30: FALSE | S30: FALSE | T30: TRUE | X30: VIC | AD30: 0 | AE30: 0 | AI30: 45+ years | AM30: Low 10mm-90mm | AN30: Friend | AO30: Local - Caucasian/Other | AP30: 37.5
A31: =VLOOKUP(C31,SalesOrderDetailExport_20181121!A:E,5,FALSE) -> #N/A | C31: 309500 | D31: Stephany | E31: Hiew | H31: 8 Reservoir Street | J31: Little Bay | K31: NSW | L31: 2036 | O31: 0414662218 | P31: stephanyhiew@gmail.com | R31: FALSE | S31: FALSE | T31: TRUE | U31: 8 Reservoir Street | W31: Little Bay | X31: NSW | Y31: 2036 | AD31: 0 | AE31: 0 | AI31: 25-34 years | AM31: Med 100mm-120mm | AO31: Local - Asian | AP31: 37
A32: =VLOOKUP(C32,SalesOrderDetailExport_20181121!A:E,5,FALSE) -> #N/A | C32: 309854 | D32: Sara | E32: Piper | H32: 195 Dennison St | J32: Queens Park | K32: NSW | L32: 2022 | O32: 0477276333 | P32: sarapiper@gmail.com | R32: FALSE | S32: FALSE | T32: TRUE | U32: 195 Dennison St | W32: Queens Park | X32: NSW | Y32: 2022 | AD32: 0 | AE32: 0 | AI32: 25-34 years | AM32: Med 100mm-120mm | AO32: Local - Caucasian/Other | AP32: 38.5
A33: =VLOOKUP(C33,SalesOrderDetailExport_20181121!A:E,5,FALSE) -> #N/A | C33: 310024 | D33: Chriselle | E33: Patrick | O33: 0411648558 | R33: FALSE | S33: FALSE | T33: TRUE | AD33: 0 | AE33: 0
A34: =VLOOKUP(C34,SalesOrderDetailExport_20181121!A:E,5,FALSE) -> #N/A | C34: 310315 | D34: Therese | E34: Fayad | H34: 8/94 Park Road | J34: Rydalmere | K34: NSW | L34: 2116 | O34: 0404 307 981 | P34: theresefay@gmail.com | R34: FALSE | S34: FALSE | T34: TRUE | AD34: 0 | AE34: 0 | AI34: 25-34 years | AK34: Aug | AM34: Med 100mm-120mm | AN34: Walk By | AO34: Local - Middle Eastern | AP34: 38.5
A35: =VLOOKUP(C35,SalesOrderDetailExport_20181121!A:E,5,FALSE) -> #N/A | C35: 310785 | D35: Sharon | E35: Tran | H35: 5 Kimberley St | K35: NSW | L35: 2160 | O35: 0426288990 | R35: FALSE | S35: FALSE | T35: TRUE | AD35: 0 | AE35: 0 | AI35: 18-24 years | AM35: Med 100mm-120mm | AO35: Local - Asian | AP35: 37
A36: =VLOOKUP(C36,SalesOrderDetailExport_20181121!A:E,5,FALSE) -> #N/A | C36: 310876 | D36: Lucy | E36: Kassis | H36: 18 Draper Avenue | J36: Roselands | K36: NSW | L36: 2196 | O36: 0411766608 | P36: kassislucy@gmail.com | R36: FALSE | S36: FALSE | T36: TRUE | AD36: 0 | AE36: 0 | AI36: 35-44 years | AM36: High 120mm+ | AN36: Walk By | AO36: Local - Middle Eastern | AP36: 38.5
A37: =VLOOKUP(C37,SalesOrderDetailExport_20181121!A:E,5,FALSE) -> #N/A | C37: 311574 | D37: Suzie | E37: Bonanno | H37: 44 Hampshire Rd | J37: Sunshine | K37: Vic | L37: 3020 | O37: 0421287561 | P37: suziebonanno@gmail.com | R37: FALSE | S37: FALSE | T37: TRUE | U37: 44 Hampshire Rd | W37: Sunshine | X37: Vic | Y37: 3020 | AD37: 0 | AE37: 0 | AI37: 35-44 years | AK37: Aug | AM37: Med 100mm-120mm | AN37: Walk By | AO37: Local - Caucasian/Other | AP37: 35
A38: =VLOOKUP(C38,SalesOrderDetailExport_20181121!A:E,5,FALSE) -> #N/A | C38: 311620 | D38: Apiradee | E38: Traiyotee | H38: 38/303 Penshurst St | J38: North Willoughby | K38: NSW | L38: 2068 | O38: 0420305493 | P38: fminbkk1234@hotmail.com | R38: FALSE | S38: FALSE | T38: TRUE | U38: 38/303 Penshurst St | W38: North Willoughby | X38: NSW | Y38: 2068 | AD38: 0 | AE38: 0 | AI38: 25-34 years | AK38: Mar | AM38: Med 100mm-120mm | AN38: Walk By | AO38: Local - Asian | AP38: 36.5
A39: =VLOOKUP(C39,SalesOrderDetailExport_20181121!A:E,5,FALSE) -> #N/A | C39: 311867 | D39: Simone | E39: Pucci | H39: 20A Kathleen Street | J39: Prestin | K39: VIC | L39: 3072 | O39: 0434446234 | P39: simone_pucci@hotmail.com | R39: FALSE | S39: FALSE | T39: TRUE | U39: 3 Triandra Drive | W39: South Morang | X39: VIC | Y39: 3752 | AD39: 0 | AE39: 0 | AI39: 25-34 years | AK39: May | AM39: Med 100mm-120mm | AN39: Walk By | AO39: Local - Caucasian/Other | AP39: 39.5
A40: =VLOOKUP(C40,SalesOrderDetailExport_20181121!A:E,5,FALSE) -> #N/A | C40: 312175 | D40: Catie | E40: Paterson | O40: 0409545634 | P40: catie.paterson@optusnet.com.au | R40: FALSE | S40: FALSE | T40: TRUE | AD40: 0 | AE40: 0 | AI40: 35-44 years | AM40: Med 100mm-120mm | AN40: Walk By | AO40: Local - Caucasian/Other | AP40: 38
...

Sheet SalesOrderDetailExport_20181121
A1: Country Code | B1: Outlet | C1: OrderNumber | D1: CustomerNumber | E1: Sales Person | F1: Bill Name | G1: Bill Company | H1: Order Status | I1: Supplier | J1: Brand | K1: Size | L1: Colour | M1: Season | N1: SKU | O1: CODE | P1: Description | Q1: Fulfill Outlet | R1: Supply Outlet | S1: Due Date | T1: Processed For ITO | U1: Quantity | V1: Fulfilled To Date | W1: Unfulfilled | X1: POS Price | Y1: Extended POS Price | Z1: Unit Price | AA1: Sale Price Ext | AB1: Discount Amount | AC1: Extended Discount Amount | AD1: Discount Price | AE1: Tax Rate Applied | AF1: Discount Start | AG1: Discount End | AH1: Buy Ex 1x | AI1: Direct Costs 1x | AJ1: COGS 1x | AK1: COGS Ext | AL1: Web Order | AM1: Delivery Mode | AN1: Product Type | AO1: custom1 | AP1: custom2 | AQ1: custom3 | AR1: Cubic Total
A2: AU | B2: CL Chadstone | C2: 18-00017209 | D2: 100001 | E2: Ella Anderson | F2: CASH SALE | H2: Processed | I2: CHRISTIAN LOUBOUTIN SA | J2: Men Shoes | K2: 44 | L2: CMA3 | M2: F18MM1 CS | N2: 3615480394074F18 | O2: 3180087 | P2: LOU SPIKES ORLATO FLAT PAT/JACQ LOUB SKY/VV/BROK G | Q2: CL Chadstone | R2: CL Chadstone | T2: TRUE | U2: 1 | V2: 1 | W2: 0 | X2: 1431.82 | Y2: 1431.82 | Z2: 1431.82 | AA2: 1431.82 | AB2: 0 | AC2: 0 | AE2: 0.1 | AH2: 530.99 | AI2: 0 | AJ2: 530.99 | AK2: 530.99 | AL2: FALSE | AN2: Sneakers | AO2: FLAT | AP2: VERSION MULTI
A3: AU | B3: CL Chadstone | C3: 18-00017209 | D3: 100001 | E3: Ella Anderson | F3: CASH SALE | H3: Processed | I3: CHRISTIAN LOUBOUTIN SA | N3: 19 | P3: Gift: Pins | Q3: CL Chadstone | R3: CL Chadstone | T3: TRUE | U3: 1 | V3: 1 | W3: 0 | X3: 0 | Y3: 0 | Z3: 0 | AA3: 0 | AB3: 0 | AC3: 0 | AE3: 0.1 | AH3: 0 | AI3: 0 | AJ3: 0 | AK3: 0 | AL3: FALSE | AN3: MISC
A4: AU | B4: CL Chadstone | C4: 18-00017452 | D4: 302021 | E4: Ella Anderson | F4: Lindita Suleman | H4: Processed | I4: CHRISTIAN LOUBOUTIN SA | J4: Men Shoes | K4: 43 | L4: BK01 | M4: F18MM2 SEAS | N4: 3615480678839F18 | O4: 3180943 | P4: REGALITO FLAT CALF ABRASIVATO/GG | Q4: CL Chadstone | R4: CL Chadstone | T4: TRUE | U4: 1 | V4: 1 | W4: 0 | X4: 1295.45 | Y4: 1295.45 | Z4: 1295.45 | AA4: 1295.45 | AB4: 0 | AC4: 0 | AE4: 0.1 | AH4: 480.35 | AI4: 0 | AJ4: 480.35 | AK4: 480.35 | AL4: FALSE | AN4: Penny Loafer | AO4: FLAT | AP4: BLACK
A5: AU | B5: CL Chadstone | C5: 18-00018824 | D5: 308733 | E5: Danielle Rais | F5: Kirilie Gauci | H5: Processed | I5: CHRISTIAN LOUBOUTIN SA | J5: Women Shoes | K5: 41 | L5: PK20 | M5: F17WM2 CORE | N5: 3607412296235F17 | O5: 3100893 | P5: LADY PEEP 150 PATENT CALF | Q5: CL Chadstone | R5: CL Chadstone | T5: TRUE | U5: 1 | V5: 1 | W5: 0 | X5: 1159.09 | Y5: 1159.09 | Z5: 1159.09 | AA5: 1159.09 | AB5: 0 | AC5: 0 | AE5: 0.1 | AH5: 425.85 | AI5: 0 | AJ5: 425.85 | AK5: 425.85 | AL5: FALSE | AN5: Platform Shoes | AO5: SKY HIGH | AP5: NUDE 6248
A6: AU | B6: CL Chadstone | C6: 18-00018904 | D6: 309242 | E6: Cynthia McAuliffe | F6: Alex Ching Swee Lim | H6: Processed | AI6: 0 | AL6: FALSE
A7: AU | B7: CL Chadstone | C7: 18-00019075 | D7: 310785 | E7: Ella Anderson | F7: Sharon Tran | H7: Processed | I7: CHRISTIAN LOUBOUTIN SA | J7: Men Shoes | K7: 42 | L7: BK01 | M7: S18MM1 CORE | N7: 3607417040697S18 | O7: 1150377 | P7: GREGGO FLAT PATENT/GG | Q7: CL Chadstone | R7: CL Chadstone | T7: TRUE | U7: 1 | V7: 1 | W7: 0 | X7: 1113.64 | Y7: 1113.64 | Z7: 1113.64 | AA7: 1113.64 | AB7: 0 | AC7: 0 | AE7: 0.1 | AH7: 406.88 | AI7: 0 | AJ7: 406.88 | AK7: 406.88 | AL7: FALSE | AN7: OXFORD | AO7: FLAT | AP7: BLACK
A8: AU | B8: CL Chadstone | C8: 18-00019359 | D8: 311574 | E8: Sarah Cox | F8: Suzie Bonanno | H8: Processed | I8: CHRISTIAN LOUBOUTIN SA | J8: Women Shoes | K8: 35.5 | L8: CM47 | M8: F18WM1 SEAS | N8: 3615480386581F18 | O8: 3180053 | P8: MIRAGIRL 100 PVC/CHIFFON/PAT | Q8: CL Chadstone | R8: CL Chadstone | T8: TRUE | U8: 1 | V8: 1 | W8: 0 | X8: 1722.73 | Y8: 1722.73 | Z8: 1722.73 | AA8: 1722.73 | AB8: 0 | AC8: 0 | AE8: 0.1 | AH8: 639.95 | AI8: 0 | AJ8: 639.95 | AK8: 639.95 | AL8: FALSE | AN8: Ankle Strap | AO8: HIGH | AP8: VERSION BLACK
A9: AU | B9: CL Chadstone | C9: 18-00017596 | D9: 313151 | E9: Sarah Cox | F9: Samantha Powell | H9: Processed | I9: CHRISTIAN LOUBOUTIN SA | J9: Women Bags | K9: TU | L9: B078 | M9: F18WBM1 CORE | N9: 3607419407252F18 | O9: 3175013 | P9: PALOMA CLUTCH CALF P/SPIKES RIVE GAUCHE | Q9: CL Chadstone | R9: CL Chadstone | T9: TRUE | U9: 1 | V9: 1 | W9: 0 | X9: 1540.91 | Y9: 1540.91 | Z9: 1540.91 | AA9: 1540.91 | AB9: 0 | AC9: 0 | AE9: 0.1 | AH9: 559.83 | AI9: 0 | AJ9: 559.83 | AK9: 559.83 | AL9: FALSE | AN9: Clutch | AP9: BLACK/GUN METAL
A10: AU | B10: CL Chadstone | C10: 18-00018905 | D10: 313610 | E10: Cynthia McAuliffe | F10: Sue Swenser | G10: R&N Sandblasting | H10: Processed | AI10: 0 | AL10: FALSE
A11: AU | B11: CL Chadstone | C11: 18-00017711 | D11: 314196 | E11: Danielle Rais | F11: Ajron Taip | H11: Processed | I11: CHRISTIAN LOUBOUTIN SA | J11: Women Shoes | K11: 38 | L11: PK20 | M11: F18WM2 CORE | N11: 3607412296167F18 | O11: 3100893 | P11: LADY PEEP 150 PATENT CALF | Q11: CL Chadstone | R11: CL Chadstone | T11: TRUE | U11: 1 | V11: 1 | W11: 0 | X11: 1159.09 | Y11: 1159.09 | Z11: 1101.14 | AA11: 1101.14 | AB11: 57.95 | AC11: 57.95 | AE11: 0.1 | AH11: 451.46 | AI11: 0 | AJ11: 451.46 | AK11: 451.46 | AL11: FALSE | AN11: Platform Shoes | AO11: SKY HIGH | AP11: NUDE 6248
A12: AU | B12: CL Chadstone | C12: 18-00018755 | D12: 314554 | E12: Munashe Abson | F12: Chongming Li | H12: Processed | I12: CHRISTIAN LOUBOUTIN SA | J12: Women Shoes | K12: 37 | L12: WH62 | M12: F18WM1 CS | N12: 3615480594344F18 | O12: 1130433 | P12: DECOLLETE 554 100 GLITTER MINI | Q12: CL Chadstone | R12: CL Chadstone | T12: TRUE | U12: 1 | V12: 1 | W12: 0 | X12: 904.55 | Y12: 904.55 | Z12: 904.55 | AA12: 904.55 | AB12: 0 | AC12: 0 | AE12: 0.1 | AH12: 359.24 | AI12: 0 | AJ12: 359.24 | AK12: 359.24 | AL12: FALSE | AN12: Pump | AO12: HIGH | AP12: IVORY
A13: AU | B13: CL Chadstone | C13: 18-00019325 | D13: 316153 | E13: Rachel Mak | F13: Michael Barker | H13: Processed | I13: CHRISTIAN LOUBOUTIN SA | J13: Women Shoes | K13: 40.5 | L13: BK01 | M13: S19WM1 CORE | N13: 3607416667758S19 | O13: 3140495 | P13: PIGALLE FOLLIES 100 PATENT | Q13: CL Chadstone | R13: CL Chadstone | T13: TRUE | U13: 1 | V13: 1 | W13: 0 | X13: 886.36 | Y13: 886.36 | Z13: 886.36 | AA13: 886.36 | AB13: 0 | AC13: 0 | AE13: 0.1 | AH13: 371.47 | AI13: 0 | AJ13: 371.47 | AK13: 371.47 | AL13: FALSE | AN13: Pump | AO13: HIGH | AP13: BLACK
A14: AU | B14: CL Chadstone | C14: 18-00017863 | D14: 316794 | E14: Sarah Cox | F14: Gina Popowicz | H14: Processed | I14: CHRISTIAN LOUBOUTIN SA | J14: Women Shoes | K14: 38 | L14: PK20 | M14: S18WM2 CORE | N14: 3607412853070S18 | O14: 1110971 | P14: PIGALLE PLATO 120 PATENT CALF | Q14: CL Chadstone | R14: CL Chadstone | T14: TRUE | U14: 1 | V14: 1 | W14: 0 | X14: 1086.36 | Y14: 1086.36 | Z14: 1086.36 | AA14: 1086.36 | AB14: 0 | AC14: 0 | AE14: 0.1 | AH14: 403.62 | AI14: 0 | AJ14: 403.62 | AK14: 403.62 | AL14: FALSE | AN14: Platform Shoes | AO14: HIGH | AP14: NUDE 6248 | AQ14: Platform shoes
A15: AU | B15: CL Chadstone | C15: 18-00017047 | D15: 317133 | E15: Rachel Mak | F15: Max Girgin | G15: Promax Building Development | H15: Processed | I15: CHRISTIAN LOUBOUTIN SA | J15: Women Shoes | K15: 38 | L15: BK65 | M15: F18WM1 SEAS | N15: 3615480561506F18 | O15: 3180434 | P15: DRAMA SLING 100 PATENT | Q15: CL Chadstone | R15: CL Chadstone | T15: TRUE | U15: 1 | V15: 1 | W15: 0 | X15: 1177.27 | Y15: 1177.27 | Z15: 1177.27 | AA15: 1177.27 | AB15: 0 | AC15: 0 | AE15: 0.1 | AH15: 450.05 | AI15: 0 | AJ15: 450.05 | AK15: 450.05 | AL15: FALSE | AN15: Sling Back | AO15: HIGH | AP15: BLACK/SILVER
A16: AU | B16: CL Chadstone | C16: 18-00019091 | D16: 317889 | E16: Danielle Rais | F16: Kiera Emerzidis | H16: Processed | I16: CHRISTIAN LOUBOUTIN SA | J16: Women Bags | K16: TU | L16: CM53 | M16: S18WBM1 CORE | N16: 3607419408464S18 | O16: 3175110 | P16: PALOMA SMALL CALF EMPIRE/PATENT | Q16: CL Chadstone | R16: CL Chadstone | T16: TRUE | U16: 1 | V16: 1 | W16: 0 | X16: 2586.36 | Y16: 2586.36 | Z16: 2586.36 | AA16: 2586.36 | AB16: 0 | AC16: 0 | AE16: 0.1 | AH16: 976.5 | AI16: 0 | AJ16: 976.5 | AK16: 976.5 | AL16: FALSE | AN16: 2 HANDLE BAG | AO16: 0 | AP16: BLACK/BLACK
A17: AU | B17: CL Chadstone | C17: 18-00018141 | D17: 318455 | E17: Ella Anderson | F17: Nicole Cooper | H17: Processed | I17: CHRISTIAN LOUBOUTIN SA | J17: Women Shoes | K17: 37 | L17: WH43 | M17: F18WM2 SEAS | N17: 3615480765645F18 | O17: 3181150 | P17: BOOT IN LOVE 100 CALF LOVE/PAT | Q17: CL Chadstone | R17: CL Chadstone | T17: TRUE | U17: 1 | V17: 1 | W17: 0 | X17: 1631.82 | Y17: 1631.82 | Z17: 1631.82 | AA17: 1631.82 | AB17: 0 | AC17: 0 | AE17: 0.1 | AH17: 608.05 | AI17: 0 | AJ17: 608.05 | AK17: 608.05 | AL17: FALSE | AN17: Booty | AO17: HIGH | AP17: VERSION WHITE
A18: AU | B18: CL Chadstone | C18: 18-00019308 | D18: 319354 | E18: Vivian Yu | F18: Luting Ding | H18: Processed | I18: CHRISTIAN LOUBOUTIN SA | J18: Women Shoes | K18: 37.5 | L18: F065 | M18: F18WM1 CTS | N18: 3615480470556F18 | O18: 3180466 | P18: FOLLIES STRASS 100 RETE/SUEDE LAME | Q18: CL Chadstone | R18: CL Chadstone | T18: TRUE | U18: 1 | V18: 1 | W18: 0 | X18: 1531.82 | Y18: 1531.82 | Z18: 1531.82 | AA18: 1531.82 | AB18: 0 | AC18: 0 | AE18: 0.1 | AH18: 578.22 | AI18: 0 | AJ18: 578.22 | AK18: 578.22 | AL18: FALSE | AN18: Pump | AO18: HIGH | AP18: VERSION LIGHT SILK
A19: AU | B19: CL Chadstone | C19: 18-00019064 | D19: 320146 | E19: Rachel Mak | F19: Ozan Girgin | H19: Processed | I19: CHRISTIAN LOUBOUTIN SA | J19: Women Shoes | K19: 38 | L19: W083 | M19: F18WM1 SEAS | N19: 3615480561674F18 | O19: 3180437 | P19: DRAMA SLING 70 PATENT | Q19: CL Chadstone | R19: CL Chadstone | T19: TRUE | U19: 1 | V19: 1 | W19: 0 | X19: 1177.27 | Y19: 1177.27 | Z19: 1177.27 | AA19: 1177.27 | AB19: 0 | AC19: 0 | AE19: 0.1 | AH19: 452.64 | AI19: 0 | AJ19: 452.64 | AK19: 452.64 | AL19: FALSE | AN19: Sling Back | AO19: MID | AP19: LATTE/SILVER
A20: AU | B20: CL Chadstone | C20: 18-00018903 | D20: 320421 | E20: Cynthia McAuliffe | F20: Natasha Tuano | H20: Processed | AI20: 0 | AL20: FALSE
A21: AU | B21: CL Chadstone | C21: 18-00019335 | D21: 320428 | E21: Sarah Cox | F21: Mary Ghobrial | H21: Processed | I21: CHRISTIAN LOUBOUTIN SA | N21: 8000000000001 | P21: REPAIR | Q21: CL Chadstone | R21: CL Chadstone | T21: TRUE | U21: 1 | V21: 1 | W21: 0 | X21: 0 | Y21: 0 | Z21: 36.36 | AA21: 36.36 | AB21: -36.36 | AC21: -36.36 | AE21: 0.1 | AH21: 0 | AI21: 0 | AJ21: 0 | AK21: 0 | AL21: FALSE | AN21: MISC
A22: AU | B22: CL Chadstone | C22: 18-00017292 | D22: 320636 | E22: Rachel Mak | F22: Christine Kolyvas | H22: Processed | I22: CHRISTIAN LOUBOUTIN SA | N22: 19 | P22: Gift: Pins | Q22: CL Chadstone | R22: CL Chadstone | T22: TRUE | U22: 1 | V22: 1 | W22: 0 | X22: 0 | Y22: 0 | Z22: 0 | AA22: 0 | AB22: 0 | AC22: 0 | AE22: 0.1 | AH22: 0 | AI22: 0 | AJ22: 0 | AK22: 0 | AL22: FALSE | AN22: MISC
A23: AU | B23: CL Chadstone | C23: 18-00017292 | D23: 320636 | E23: Rachel Mak | F23: Christine Kolyvas | H23: Processed | I23: CHRISTIAN LOUBOUTIN SA | J23: Women Shoes | K23: 37.5 | L23: CMA3 | M23: F18WM2 SEAS | N23: 3615480664757F18 | O23: 3180884 | P23: EKLECTICA 120 SPECCHIO | Q23: CL Chadstone | R23: CL Chadstone | T23: TRUE | U23: 1 | V23: 1 | W23: 0 | X23: 1159.09 | Y23: 1159.09 | Z23: 1159.09 | AA23: 1159.09 | AB23: 0 | AC23: 0 | AE23: 0.1 | AH23: 446.2 | AI23: 0 | AJ23: 446.2 | AK23: 446.2 | AL23: FALSE | AN23: Pump | AO23: HIGH | AP23: VERSION MULTI
A24: AU | B24: CL Chadstone | C24: 18-00017327 | D24: 320636 | E24: Rachel Mak | F24: Christine Kolyvas | H24: Processed | I24: CHRISTIAN LOUBOUTIN SA | J24: Women Shoes | K24: 37.5 | L24: CMA3 | M24: F18WM2 SEAS | N24: 3615480664757F18 | O24: 3180884 | P24: EKLECTICA 120 SPECCHIO | Q24: CL Chadstone | R24: CL Chadstone | T24: TRUE | U24: -1 | V24: -1 | W24: 0 | X24: 1159.09 | Y24: -1159.09 | Z24: 1159.09 | AA24: -1159.09 | AB24: 0 | AC24: 0 | AE24: 0.1 | AH24: 446.2 | AI24: 0 | AJ24: 446.2 | AK24: -446.2 | AL24: FALSE | AM24: return | AN24: Pump | AO24: HIGH | AP24: VERSION MULTI
A25: AU | B25: CL Chadstone | C25: 18-00017327 | D25: 320636 | E25: Rachel Mak | F25: Christine Kolyvas | H25: Processed | I25: CHRISTIAN LOUBOUTIN SA | J25: Women Shoes | K25: 37.5 | L25: BK65 | M25: F18WM1 SEAS | N25: 3615480593385F18 | O25: 3180515 | P25: CHOCA LUX 120 KID | Q25: CL Chadstone | R25: CL Chadstone | T25: TRUE | U25: 1 | V25: 1 | W25: 0 | X25: 1450 | Y25: 1450 | Z25: 1450 | AA25: 1450 | AB25: 0 | AC25: 0 | AE25: 0.1 | AH25: 543.04 | AI25: 0 | AJ25: 543.04 | AK25: 543.04 | AL25: FALSE | AN25: Platform Sandals | AO25: HIGH | AP25: BLACK/SILVER
A26: AU | B26: CL Chadstone | C26: 18-00018495 | D26: 321974 | E26: Munashe Abson | F26: Cassandra Alikakos | H26: Processed | I26: CHRISTIAN LOUBOUTIN SA | J26: Men Shoes | K26: 42 | L26: BK01 | M26: F18MM1 SEAS | N26: 3615480387120F18 | O26: 3180055 | P26: TASSILOBIS FLAT VV/JACQ LOUB SKY/PAT/GG | Q26: CL Chadstone | R26: CL Chadstone | T26: TRUE | U26: 1 | V26: 1 | W26: 0 | X26: 1250 | Y26: 1250 | Z26: 1250 | AA26: 1250 | AB26: 0 | AC26: 0 | AE26: 0.1 | AH26: 475.88 | AI26: 0 | AJ26: 475.88 | AK26: 475.88 | AL26: FALSE | AN26: Loafer | AO26: FLAT | AP26: BLACK
A27: AU | B27: CL Chadstone | C27: 18-00018756 | D27: 322901 | E27: Munashe Abson | F27: Dawn Yeun | H27: Processed | I27: CHRISTIAN LOUBOUTIN SA | J27: Women Shoes | K27: 38.5 | L27: 3241 | M27: F18WM1 SEAS | N27: 3615480478217F18 | O27: 3180419 | P27: PROVISORE 55 PATENT/PVC | Q27: CL Chadstone | R27: CL Chadstone | T27: TRUE | U27: 1 | V27: 1 | W27: 0 | X27: 1113.64 | Y27: 1113.64 | Z27: 1113.64 | AA27: 1113.64 | AB27: 0 | AC27: 0 | AE27: 0.1 | AH27: 414.38 | AI27: 0 | AJ27: 414.38 | AK27: 414.38 | AL27: FALSE | AN27: Pump | AO27: MID | AP27: NUDE/TRANSP
A28: AU | B28: CL Chadstone | C28: 18-00018897 | D28: 325182 | E28: Ella Anderson | F28: Duirmus Celik | H28: Processed | I28: CHRISTIAN LOUBOUTIN SA | J28: Men Shoes | K28: 42 | L28: CMA3 | M28: S18MM2 SEAS | N28: 3615480289905S18 | O28: 1180986 | P28: LOUIS JUNIOR TONY FLAT PAT/VEL COT/TECHNO TENNIS/C | Q28: CL Chadstone | R28: CL Chadstone | T28: TRUE | U28: 1 | V28: 1 | W28: 0 | X28: 1540.91 | Y28: 1540.91 | Z28: 1540.91 | AA28: 1540.91 | AB28: 0 | AC28: 0 | AE28: 0.1 | AH28: 566.08 | AI28: 0 | AJ28: 566.08 | AK28: 566.08 | AL28: FALSE | AN28: Low Sneakers | AO28: FLAT | AP28: VERSION MULTI
A29: AU | B29: CL Chadstone | C29: 18-00017801 | D29: RI-532726 | E29: Sarah Cox | F29: Hanhui Huang | H29: Processed | I29: CHRISTIAN LOUBOUTIN SA | J29: Women Shoes | K29: 37 | L29: B262 | M29: F18WM2 CTS | N29: 3615480610921F18 | O29: 3180672 | P29: PIK BOAT WOMAN FLAT VELVET GALACTICA/GG | Q29: CL Chadstone | R29: CL Chadstone | T29: TRUE | U29: 1 | V29: 1 | W29: 0 | X29: 1177.27 | Y29: 1177.27 | Z29: 1177.27 | AA29: 1177.27 | AB29: 0 | AC29: 0 | AE29: 0.1 | AH29: 443.57 | AI29: 0 | AJ29: 443.57 | AK29: 443.57 | AL29: FALSE | AN29: Low Sneakers | AO29: FLAT | AP29: BLACK/SILVER AB
A30: AU | B30: CL Chadstone | C30: 18-00018718 | D30: IQ-497681 | E30: Vivian Yu | F30: Adam Joyce | H30: Processed | I30: CHRISTIAN LOUBOUTIN SA | J30: Women Shoes | K30: 40.5 | L30: WH62 | M30: F18WM1 CS | N30: 3615480594412F18 | O30: 1130433 | P30: DECOLLETE 554 100 GLITTER MINI | Q30: CL Chadstone | R30: CL Chadstone | T30: TRUE | U30: 1 | V30: 1 | W30: 0 | X30: 904.55 | Y30: 904.55 | Z30: 904.55 | AA30: 904.55 | AB30: 0 | AC30: 0 | AE30: 0.1 | AH30: 359.24 | AI30: 0 | AJ30: 359.24 | AK30: 359.24 | AL30: FALSE | AN30: Pump | AO30: HIGH | AP30: IVORY
A31: AU | B31: CL Chadstone | C31: 18-00018741 | D31: IQ-497681 | E31: Vivian Yu | F31: Adam Joyce | H31: Processed | I31: CHRISTIAN LOUBOUTIN SA | J31: Women Shoes | K31: 40.5 | L31: WH62 | M31: F18WM1 CS | N31: 3615480594412F18 | O31: 1130433 | P31: DECOLLETE 554 100 GLITTER MINI | Q31: CL Chadstone | R31: CL Chadstone | T31: TRUE | U31: -1 | V31: -1 | W31: 0 | X31: 904.55 | Y31: -904.55 | Z31: 904.55 | AA31: -904.55 | AB31: 0 | AC31: 0 | AE31: 0.1 | AH31: 359.24 | AI31: 0 | AJ31: 359.24 | AK31: -359.24 | AL31: FALSE | AM31: return | AN31: Pump | AO31: HIGH | AP31: IVORY
A32: AU | B32: CL Chadstone | C32: 18-00018741 | D32: IQ-497681 | E32: Vivian Yu | F32: Adam Joyce | H32: Processed | I32: CHRISTIAN LOUBOUTIN SA | J32: Women Shoes | K32: 39.5 | L32: BK65 | M32: F18WM1 SEAS | N32: 3615480523245F18 | O32: 3180420 | P32: LACE 554 SPIKES 100 RETE/LACE CHANT/S LAME/NAPPA | Q32: CL Chadstone | R32: CL Chadstone | T32: TRUE | U32: 1 | V32: 1 | W32: 0 | X32: 1204.55 | Y32: 1204.55 | Z32: 1204.55 | AA32: 1204.55 | AB32: 0 | AC32: 0 | AE32: 0.1 | AH32: 446.13 | AI32: 0 | AJ32: 446.13 | AK32: 446.13 | AL32: FALSE | AN32: Pump | AO32: HIGH | AP32: BLACK/SILVER
A33: AU | B33: CL Chadstone | C33: 18-00018834 | D33: TR-268541 | E33: Rachel Mak | F33: Terri Ercan | H33: Processed | I33: CHRISTIAN LOUBOUTIN SA | J33: Women Bags | K33: TU | L33: CM53 | M33: F18WB2 CS | N33: 3615480680023F18 | O33: 3185215 | P33: CABATA CALF PARIS LOVE | Q33: CL Chadstone | R33: CL Chadstone | T33: TRUE | U33: 1 | V33: 1 | W33: 0 | X33: 2113.64 | Y33: 2113.64 | Z33: 2113.64 | AA33: 2113.64 | AB33: 0 | AC33: 0 | AE33: 0.1 | AH33: 812.88 | AI33: 0 | AJ33: 812.88 | AK33: 812.88 | AL33: FALSE | AN33: Tote | AP33: BLACK/BLACK
A34: AU | B34: CL Chadstone | C34: 18-00018607 | D34: KL-258463 | E34: Vivian Yu | F34: Lisa McAndrew | H34: Processed | I34: CHRISTIAN LOUBOUTIN SA | N34: 8000000000001 | P34: REPAIR | Q34: CL Chadstone | R34: CL Chadstone | T34: TRUE | U34: 1 | V34: 1 | W34: 0 | X34: 0 | Y34: 0 | Z34: 63.64 | AA34: 63.64 | AB34: -63.64 | AC34: -63.64 | AE34: 0.1 | AH34: 0 | AI34: 0 | AJ34: 0 | AK34: 0 | AL34: FALSE | AN34: MISC
A35: AU | B35: CL Chadstone | C35: 18-00017854 | D35: PE-295229 | E35: Vivian Yu | F35: Glenn Mackay | H35: Processed | I35: CHRISTIAN LOUBOUTIN SA | J35: Women Shoes | K35: 36 | L35: R251 | M35: F18WM2 CS | N35: 3615480615810F18 | O35: 3161254 | P35: SO KATE 120 METAL PATENT | Q35: CL Chadstone | R35: CL Chadstone | T35: TRUE | U35: 1 | V35: 1 | W35: 0 | X35: 931.82 | Y35: 931.82 | Z35: 931.82 | AA35: 931.82 | AB35: 0 | AC35: 0 | AE35: 0.1 | AH35: 357.18 | AI35: 0 | AJ35: 357.18 | AK35: 357.18 | AL35: FALSE | AN35: Pump | AO35: HIGH | AP35: LOUBI
A36: AU | B36: CL Chadstone | C36: 18-00018906 | D36: MI-914579 | E36: Vivian Yu | F36: Chen Cheng | H36: Processed | I36: CHRISTIAN LOUBOUTIN SA | J36: Accessories | K36: TU | L36: CM53 | M36: F18AM2 CONT | N36: 3615480113880F18 | O36: 1185049 | P36: M KIOS NV CALF EMPIRE/SPIKES | Q36: CL Chadstone | R36: CL Chadstone | T36: TRUE | U36: 1 | V36: 1 | W36: 0 | X36: 359.09 | Y36: 359.09 | Z36: 359.09 | AA36: 359.09 | AB36: 0 | AC36: 0 | AE36: 0.1 | AH36: 0 | AI36: 0 | AJ36: 0 | AK36: 0 | AL36: FALSE | AN36: Simple Card Holder | AP36: BLACK/BLACK
A37: AU | B37: CL Chadstone | C37: 18-00017414 | D37: WX-312522 | E37: Sarah Cox | F37: Joanna Potomitis | H37: Processed | I37: CHRISTIAN LOUBOUTIN SA | J37: Men Shoes | K37: 45 | L37: BK01 | M37: F18MM1 CORE | N37: 3607417040758F18 | O37: 1150377 | P37: GREGGO FLAT PATENT/GG | Q37: CL Chadstone | R37: CL Chadstone | T37: TRUE | U37: 1 | V37: 1 | W37: 0 | X37: 1113.64 | Y37: 1113.64 | Z37: 1113.64 | AA37: 1113.64 | AB37: 0 | AC37: 0 | AE37: 0.1 | AH37: 417.73 | AI37: 0 | AJ37: 417.73 | AK37: 417.73 | AL37: FALSE | AN37: OXFORD | AO37: FLAT | AP37: BLACK
A38: AU | B38: CL Chadstone | C38: 18-00019369 | D38: SS-861916 | E38: Danielle Rais | F38: Susan Beling | H38: Processed | I38: CHRISTIAN LOUBOUTIN SA | J38: Women Shoes | K38: 37.5 | L38: BK01 | M38: S18WM2 CORE | N38: 3607416630950S18 | O38: 3140498 | P38: DECOLLETE 554 85 PATENT | Q38: CL Chadstone | R38: CL Chadstone | T38: TRUE | U38: 1 | V38: 1 | W38: 0 | X38: 886.36 | Y38: 886.36 | Z38: 886.36 | AA38: 886.36 | AB38: 0 | AC38: 0 | AE38: 0.1 | AH38: 341.78 | AI38: 0 | AJ38: 341.78 | AK38: 341.78 | AL38: FALSE | AN38: Pump | AO38: MID | AP38: BLACK
A39: AU | B39: CL Chadstone | C39: 18-00018898 | D39: NP-242425 | E39: Sarah Cox | F39: Nicole Moukakos | H39: Processed | I39: CHRISTIAN LOUBOUTIN SA | J39: Women Shoes | K39: 36.5 | L39: BK01 | M39: F18WM1 CORE | N39: 3607415745013F18 | O39: 3130524 | P39: IRIZA 100 PATENT | Q39: CL Chadstone | R39: CL Chadstone | T39: TRUE | U39: 1 | V39: 1 | W39: 0 | X39: 886.36 | Y39: 886.36 | Z39: 886.36 | AA39: 886.36 | AB39: 0 | AC39: 0 | AE39: 0.1 | AH39: 117.25 | AI39: 0 | AJ39: 117.25 | AK39: 117.25 | AL39: FALSE | AN39: Pump | AO39: HIGH | AP39: BLACK
A40: AU | B40: CL Chadstone | C40: 18-00017145 | D40: CB-956481 | E40: Vivian Yu | F40: Zhi Qiang Yu | H40: Processed | I40: CHRISTIAN LOUBOUTIN SA | J40: Men Shoes | K40: 40 | L40: P298 | M40: F18MM2 CS | N40: 3615480619269F18 | O40: 1120387 | P40: ROLLER-BOAT FLAT VEAU VELOURS/GG/SPIKES | Q40: CL Chadstone | R40: CL Chadstone | T40: TRUE | U40: 1 | V40: 1 | W40: 0 | X40: 1513.64 | Y40: 1513.64 | Z40: 1513.64 | AA40: 1513.64 | AB40: 0 | AC40: 0 | AE40: 0.1 | AH40: 567.96 | AI40: 0 | AJ40: 567.96 | AK40: 567.96 | AL40: FALSE | AN40: Low Sneakers | AO40: FLAT | AP40: ANTIC/PINK BRONZE
...
