Workbook

Sheet renseignements
A1: Client | B1: mois | C1: date | D1: salle | E1: Hrs entrée | F1: hrs sortie | G1: Temps
A2: 1 | B2: =IF(C2="","",UPPER(TEXT(C2,"mmmm"))) -> JANVIER | C2: 44562 | D2: 1 | E2: 0.41666667 | F2: 0.42708333 | G2: =F2-E2 -> 0.010416667
A3: 2 | B3: =IF(C3="","",UPPER(TEXT(C3,"mmmm"))) -> JANVIER | C3: 44562 | D3: 1 | E3: 0.45833333 | F3: 0.5 | G3: =F3-E3 -> 0.041666667
A4: 3 | B4: =IF(C4="","",UPPER(TEXT(C4,"mmmm"))) -> JANVIER | C4: 44562 | D4: 2 | E4: 0.36458333 | F4: 0.5 | G4: =F4-E4 -> 0.13541667
A5: 4 | B5: =IF(C5="","",UPPER(TEXT(C5,"mmmm"))) -> JANVIER | C5: 44563 | D5: 3 | E5: 0.375 | F5: 0.38541667 | G5: =F5-E5 -> 0.010416667
A6: 5 | B6: =IF(C6="","",UPPER(TEXT(C6,"mmmm"))) -> JANVIER | C6: 44563 | D6: 1 | E6: 0.36458333 | F6: 0.4375 | G6: =F6-E6 -> 0.072916667
A7: 6 | B7: =IF(C7="","",UPPER(TEXT(C7,"mmmm"))) -> JANVIER | C7: 44563 | D7: 2 | E7: 0.41666667 | F7: 0.5 | G7: =F7-E7 -> 0.083333333
B8: =IF(C8="","",UPPER(TEXT(C8,"mmmm")))
B9: =IF(C9="","",UPPER(TEXT(C9,"mmmm")))
B10: =IF(C10="","",UPPER(TEXT(C10,"mmmm")))
B11: =IF(C11="","",UPPER(TEXT(C11,"mmmm")))
B12: =IF(C12="","",UPPER(TEXT(C12,"mmmm")))

Sheet jour
A1: Par Jour
B2: Salle | C2: 1 | D2: 2 | E2: 3 | G2: Nb clients/salle | H2: 1 | I2: 2 | J2: 3
A4: =UPPER(TEXT(B4,"mmmm")) -> JANVIER | B4: 44562 | C4: =SUMIFS(renseignements!G:G,renseignements!D:D,jour!$C$2,renseignements!C:C,jour!B4) -> 0.052083333 | D4: =SUMIFS(renseignements!G:G,renseignements!D:D,jour!D$2,renseignements!C:C,jour!B4) -> 0.13541667 | E4: =SUMIFS(renseignements!G:G,renseignements!D:D,jour!E$2,renseignements!C:C,jour!B4) -> 0 | H4: =COUNTIFS(renseignements!D:D,jour!H$2,renseignements!C:C,jour!B4) -> 2 | I4: =COUNTIFS(renseignements!D:D,jour!I$2,renseignements!C:C,jour!B4) -> 1 | J4: =COUNTIFS(renseignements!D:D,jour!J$2,renseignements!C:C,jour!B4) -> 0
A5: =UPPER(TEXT(B5,"mmmm")) -> JANVIER | B5: 44563 | C5: =SUMIFS(renseignements!G:G,renseignements!D:D,jour!$C$2,renseignements!C:C,jour!B5) -> 0.072916667 | D5: =SUMIFS(renseignements!G:G,renseignements!D:D,jour!D$2,renseignements!C:C,jour!B5) -> 0.083333333 | E5: =SUMIFS(renseignements!G:G,renseignements!D:D,jour!E$2,renseignements!C:C,jour!B5) -> 0.010416667 | H5: =COUNTIFS(renseignements!D:D,jour!H$2,renseignements!C:C,jour!B5) -> 1 | I5: =COUNTIFS(renseignements!D:D,jour!I$2,renseignements!C:C,jour!B5) -> 1 | J5: =COUNTIFS(renseignements!D:D,jour!J$2,renseignements!C:C,jour!B5) -> 1
A6: =UPPER(TEXT(B6,"mmmm")) -> JANVIER | B6: 44564 | C6: =SUMIFS(renseignements!G:G,renseignements!D:D,jour!$C$2,renseignements!C:C,jour!B6) -> 0 | D6: =SUMIFS(renseignements!G:G,renseignements!D:D,jour!D$2,renseignements!C:C,jour!B6) -> 0 | E6: =SUMIFS(renseignements!G:G,renseignements!D:D,jour!E$2,renseignements!C:C,jour!B6) -> 0 | H6: =COUNTIFS(renseignements!D:D,jour!H$2,renseignements!C:C,jour!B6) -> 0 | I6: =COUNTIFS(renseignements!D:D,jour!I$2,renseignements!C:C,jour!B6) -> 0 | J6: =COUNTIFS(renseignements!D:D,jour!J$2,renseignements!C:C,jour!B6) -> 0
A7: =UPPER(TEXT(B7,"mmmm")) -> JANVIER | B7: 44565 | C7: =SUMIFS(renseignements!G:G,renseignements!D:D,jour!$C$2,renseignements!C:C,jour!B7) -> 0 | D7: =SUMIFS(renseignements!G:G,renseignements!D:D,jour!D$2,renseignements!C:C,jour!B7) -> 0 | E7: =SUMIFS(renseignements!G:G,renseignements!D:D,jour!E$2,renseignements!C:C,jour!B7) -> 0 | H7: =COUNTIFS(renseignements!D:D,jour!H$2,renseignements!C:C,jour!B7) -> 0 | I7: =COUNTIFS(renseignements!D:D,jour!I$2,renseignements!C:C,jour!B7) -> 0 | J7: =COUNTIFS(renseignements!D:D,jour!J$2,renseignements!C:C,jour!B7) -> 0
A8: =UPPER(TEXT(B8,"mmmm")) -> JANVIER | B8: 44566 | C8: =SUMIFS(renseignements!G:G,renseignements!D:D,jour!$C$2,renseignements!C:C,jour!B8) -> 0 | D8: =SUMIFS(renseignements!G:G,renseignements!D:D,jour!D$2,renseignements!C:C,jour!B8) -> 0 | E8: =SUMIFS(renseignements!G:G,renseignements!D:D,jour!E$2,renseignements!C:C,jour!B8) -> 0 | H8: =COUNTIFS(renseignements!D:D,jour!H$2,renseignements!C:C,jour!B8) -> 0 | I8: =COUNTIFS(renseignements!D:D,jour!I$2,renseignements!C:C,jour!B8) -> 0 | J8: =COUNTIFS(renseignements!D:D,jour!J$2,renseignements!C:C,jour!B8) -> 0
A9: =UPPER(TEXT(B9,"mmmm")) -> JANVIER | B9: 44567 | C9: =SUMIFS(renseignements!G:G,renseignements!D:D,jour!$C$2,renseignements!C:C,jour!B9) -> 0 | D9: =SUMIFS(renseignements!G:G,renseignements!D:D,jour!D$2,renseignements!C:C,jour!B9) -> 0 | E9: =SUMIFS(renseignements!G:G,renseignements!D:D,jour!E$2,renseignements!C:C,jour!B9) -> 0 | H9: =COUNTIFS(renseignements!D:D,jour!H$2,renseignements!C:C,jour!B9) -> 0 | I9: =COUNTIFS(renseignements!D:D,jour!I$2,renseignements!C:C,jour!B9) -> 0 | J9: =COUNTIFS(renseignements!D:D,jour!J$2,renseignements!C:C,jour!B9) -> 0
A10: =UPPER(TEXT(B10,"mmmm")) -> JANVIER | B10: 44568 | C10: =SUMIFS(renseignements!G:G,renseignements!D:D,jour!$C$2,renseignements!C:C,jour!B10) -> 0 | D10: =SUMIFS(renseignements!G:G,renseignements!D:D,jour!D$2,renseignements!C:C,jour!B10) -> 0 | E10: =SUMIFS(renseignements!G:G,renseignements!D:D,jour!E$2,renseignements!C:C,jour!B10) -> 0 | H10: =COUNTIFS(renseignements!D:D,jour!H$2,renseignements!C:C,jour!B10) -> 0 | I10: =COUNTIFS(renseignements!D:D,jour!I$2,renseignements!C:C,jour!B10) -> 0 | J10: =COUNTIFS(renseignements!D:D,jour!J$2,renseignements!C:C,jour!B10) -> 0
A11: =UPPER(TEXT(B11,"mmmm")) -> JANVIER | B11: 44569 | C11: =SUMIFS(renseignements!G:G,renseignements!D:D,jour!$C$2,renseignements!C:C,jour!B11) -> 0 | D11: =SUMIFS(renseignements!G:G,renseignements!D:D,jour!D$2,renseignements!C:C,jour!B11) -> 0 | E11: =SUMIFS(renseignements!G:G,renseignements!D:D,jour!E$2,renseignements!C:C,jour!B11) -> 0 | H11: =COUNTIFS(renseignements!D:D,jour!H$2,renseignements!C:C,jour!B11) -> 0 | I11: =COUNTIFS(renseignements!D:D,jour!I$2,renseignements!C:C,jour!B11) -> 0 | J11: =COUNTIFS(renseignements!D:D,jour!J$2,renseignements!C:C,jour!B11) -> 0
A12: =UPPER(TEXT(B12,"mmmm")) -> JANVIER | B12: 44570 | C12: =SUMIFS(renseignements!G:G,renseignements!D:D,jour!$C$2,renseignements!C:C,jour!B12) -> 0 | D12: =SUMIFS(renseignements!G:G,renseignements!D:D,jour!D$2,renseignements!C:C,jour!B12) -> 0 | E12: =SUMIFS(renseignements!G:G,renseignements!D:D,jour!E$2,renseignements!C:C,jour!B12) -> 0 | H12: =COUNTIFS(renseignements!D:D,jour!H$2,renseignements!C:C,jour!B12) -> 0 | I12: =COUNTIFS(renseignements!D:D,jour!I$2,renseignements!C:C,jour!B12) -> 0 | J12: =COUNTIFS(renseignements!D:D,jour!J$2,renseignements!C:C,jour!B12) -> 0
A13: =UPPER(TEXT(B13,"mmmm")) -> JANVIER | B13: 44571 | C13: =SUMIFS(renseignements!G:G,renseignements!D:D,jour!$C$2,renseignements!C:C,jour!B13) -> 0 | D13: =SUMIFS(renseignements!G:G,renseignements!D:D,jour!D$2,renseignements!C:C,jour!B13) -> 0 | E13: =SUMIFS(renseignements!G:G,renseignements!D:D,jour!E$2,renseignements!C:C,jour!B13) -> 0 | H13: =COUNTIFS(renseignements!D:D,jour!H$2,renseignements!C:C,jour!B13) -> 0 | I13: =COUNTIFS(renseignements!D:D,jour!I$2,renseignements!C:C,jour!B13) -> 0 | J13: =COUNTIFS(renseignements!D:D,jour!J$2,renseignements!C:C,jour!B13) -> 0
A14: =UPPER(TEXT(B14,"mmmm")) -> JANVIER | B14: 44572 | C14: =SUMIFS(renseignements!G:G,renseignements!D:D,jour!$C$2,renseignements!C:C,jour!B14) -> 0 | D14: =SUMIFS(renseignements!G:G,renseignements!D:D,jour!D$2,renseignements!C:C,jour!B14) -> 0 | E14: =SUMIFS(renseignements!G:G,renseignements!D:D,jour!E$2,renseignements!C:C,jour!B14) -> 0 | H14: =COUNTIFS(renseignements!D:D,jour!H$2,renseignements!C:C,jour!B14) -> 0 | I14: =COUNTIFS(renseignements!D:D,jour!I$2,renseignements!C:C,jour!B14) -> 0 | J14: =COUNTIFS(renseignements!D:D,jour!J$2,renseignements!C:C,jour!B14) -> 0
A15: =UPPER(TEXT(B15,"mmmm")) -> JANVIER | B15: 44573 | C15: =SUMIFS(renseignements!G:G,renseignements!D:D,jour!$C$2,renseignements!C:C,jour!B15) -> 0 | D15: =SUMIFS(renseignements!G:G,renseignements!D:D,jour!D$2,renseignements!C:C,jour!B15) -> 0 | E15: =SUMIFS(renseignements!G:G,renseignements!D:D,jour!E$2,renseignements!C:C,jour!B15) -> 0 | H15: =COUNTIFS(renseignements!D:D,jour!H$2,renseignements!C:C,jour!B15) -> 0 | I15: =COUNTIFS(renseignements!D:D,jour!I$2,renseignements!C:C,jour!B15) -> 0 | J15: =COUNTIFS(renseignements!D:D,jour!J$2,renseignements!C:C,jour!B15) -> 0
... A368: =UPPER(TEXT(B368,"mmmm")) -> DÉCEMBRE | B368: 44926 | C368: =SUMIFS(renseignements!G:G,renseignements!D:D,jour!$C$2,renseignements!C:C,jour!B368) -> 0 | D368: =SUMIFS(renseignements!G:G,renseignements!D:D,jour!D$2,renseignements!C:C,jour!B368) -> 0 | E368: =SUMIFS(renseignements!G:G,renseignements!D:D,jour!E$2,renseignements!C:C,jour!B368) -> 0 | H368: =COUNTIFS(renseignements!D:D,jour!H$2,renseignements!C:C,jour!B368) -> 0 | I368: =COUNTIFS(renseignements!D:D,jour!I$2,renseignements!C:C,jour!B368) -> 0 | J368: =COUNTIFS(renseignements!D:D,jour!J$2,renseignements!C:C,jour!B368) -> 0

Sheet mois et annuel
A1: mois et annuel
B2: Salles | G2: Clients par salle
B3: 1 | C3: 2 | D3: 3 | G3: 1 | H3: 2 | I3: 3
A5: Janvier | B5: =SUMIFS(Tableau1[Temps],Tableau1[salle],"1",Tableau1[mois],'mois et annuel'!A5) -> 0.125 | C5: =SUMIFS(Tableau1[Temps],Tableau1[salle],"2",Tableau1[mois],'mois et annuel'!A5) -> 0.21875 | D5: =SUMIFS(Tableau1[Temps],Tableau1[salle],"2",Tableau1[mois],'mois et annuel'!A5) -> 0.21875 | G5: =COUNTIFS(Tableau1[salle],"1",Tableau1[mois],'mois et annuel'!A5) -> 3 | H5: =COUNTIFS(Tableau1[salle],"2",Tableau1[mois],'mois et annuel'!A5) -> 2 | I5: =COUNTIFS(Tableau1[salle],"3",Tableau1[mois],'mois et annuel'!A5) -> 1
A6: Février | B6: =SUMIFS(Tableau1[Temps],Tableau1[salle],"1",Tableau1[mois],'mois et annuel'!A6) -> 0 | C6: =SUMIFS(Tableau1[Temps],Tableau1[salle],"2",Tableau1[mois],'mois et annuel'!A6) -> 0 | D6: =SUMIFS(Tableau1[Temps],Tableau1[salle],"2",Tableau1[mois],'mois et annuel'!A6) -> 0 | G6: =COUNTIFS(Tableau1[salle],"1",Tableau1[mois],'mois et annuel'!A6) -> 0 | H6: =COUNTIFS(Tableau1[salle],"2",Tableau1[mois],'mois et annuel'!A6) -> 0 | I6: =COUNTIFS(Tableau1[salle],"3",Tableau1[mois],'mois et annuel'!A6) -> 0
A7: Mars | B7: =SUMIFS(Tableau1[Temps],Tableau1[salle],"1",Tableau1[mois],'mois et annuel'!A7) -> 0 | C7: =SUMIFS(Tableau1[Temps],Tableau1[salle],"2",Tableau1[mois],'mois et annuel'!A7) -> 0 | D7: =SUMIFS(Tableau1[Temps],Tableau1[salle],"2",Tableau1[mois],'mois et annuel'!A7) -> 0 | G7: =COUNTIFS(Tableau1[salle],"1",Tableau1[mois],'mois et annuel'!A7) -> 0 | H7: =COUNTIFS(Tableau1[salle],"2",Tableau1[mois],'mois et annuel'!A7) -> 0 | I7: =COUNTIFS(Tableau1[salle],"3",Tableau1[mois],'mois et annuel'!A7) -> 0
A8: Avril | B8: =SUMIFS(Tableau1[Temps],Tableau1[salle],"1",Tableau1[mois],'mois et annuel'!A8) -> 0 | C8: =SUMIFS(Tableau1[Temps],Tableau1[salle],"2",Tableau1[mois],'mois et annuel'!A8) -> 0 | D8: =SUMIFS(Tableau1[Temps],Tableau1[salle],"2",Tableau1[mois],'mois et annuel'!A8) -> 0 | G8: =COUNTIFS(Tableau1[salle],"1",Tableau1[mois],'mois et annuel'!A8) -> 0 | H8: =COUNTIFS(Tableau1[salle],"2",Tableau1[mois],'mois et annuel'!A8) -> 0 | I8: =COUNTIFS(Tableau1[salle],"3",Tableau1[mois],'mois et annuel'!A8) -> 0
A9: Mai | B9: =SUMIFS(Tableau1[Temps],Tableau1[salle],"1",Tableau1[mois],'mois et annuel'!A9) -> 0 | C9: =SUMIFS(Tableau1[Temps],Tableau1[salle],"2",Tableau1[mois],'mois et annuel'!A9) -> 0 | D9: =SUMIFS(Tableau1[Temps],Tableau1[salle],"2",Tableau1[mois],'mois et annuel'!A9) -> 0 | G9: =COUNTIFS(Tableau1[salle],"1",Tableau1[mois],'mois et annuel'!A9) -> 0 | H9: =COUNTIFS(Tableau1[salle],"2",Tableau1[mois],'mois et annuel'!A9) -> 0 | I9: =COUNTIFS(Tableau1[salle],"3",Tableau1[mois],'mois et annuel'!A9) -> 0
A10: Juin | B10: =SUMIFS(Tableau1[Temps],Tableau1[salle],"1",Tableau1[mois],'mois et annuel'!A10) -> 0 | C10: =SUMIFS(Tableau1[Temps],Tableau1[salle],"2",Tableau1[mois],'mois et annuel'!A10) -> 0 | D10: =SUMIFS(Tableau1[Temps],Tableau1[salle],"2",Tableau1[mois],'mois et annuel'!A10) -> 0 | G10: =COUNTIFS(Tableau1[salle],"1",Tableau1[mois],'mois et annuel'!A10) -> 0 | H10: =COUNTIFS(Tableau1[salle],"2",Tableau1[mois],'mois et annuel'!A10) -> 0 | I10: =COUNTIFS(Tableau1[salle],"3",Tableau1[mois],'mois et annuel'!A10) -> 0
A11: Juillet | B11: =SUMIFS(Tableau1[Temps],Tableau1[salle],"1",Tableau1[mois],'mois et annuel'!A11) -> 0 | C11: =SUMIFS(Tableau1[Temps],Tableau1[salle],"2",Tableau1[mois],'mois et annuel'!A11) -> 0 | D11: =SUMIFS(Tableau1[Temps],Tableau1[salle],"2",Tableau1[mois],'mois et annuel'!A11) -> 0 | G11: =COUNTIFS(Tableau1[salle],"1",Tableau1[mois],'mois et annuel'!A11) -> 0 | H11: =COUNTIFS(Tableau1[salle],"2",Tableau1[mois],'mois et annuel'!A11) -> 0 | I11: =COUNTIFS(Tableau1[salle],"3",Tableau1[mois],'mois et annuel'!A11) -> 0
A12: Août | B12: =SUMIFS(Tableau1[Temps],Tableau1[salle],"1",Tableau1[mois],'mois et annuel'!A12) -> 0 | C12: =SUMIFS(Tableau1[Temps],Tableau1[salle],"2",Tableau1[mois],'mois et annuel'!A12) -> 0 | D12: =SUMIFS(Tableau1[Temps],Tableau1[salle],"2",Tableau1[mois],'mois et annuel'!A12) -> 0 | G12: =COUNTIFS(Tableau1[salle],"1",Tableau1[mois],'mois et annuel'!A12) -> 0 | H12: =COUNTIFS(Tableau1[salle],"2",Tableau1[mois],'mois et annuel'!A12) -> 0 | I12: =COUNTIFS(Tableau1[salle],"3",Tableau1[mois],'mois et annuel'!A12) -> 0
A13: Septembre | B13: =SUMIFS(Tableau1[Temps],Tableau1[salle],"1",Tableau1[mois],'mois et annuel'!A13) -> 0 | C13: =SUMIFS(Tableau1[Temps],Tableau1[salle],"2",Tableau1[mois],'mois et annuel'!A13) -> 0 | D13: =SUMIFS(Tableau1[Temps],Tableau1[salle],"2",Tableau1[mois],'mois et annuel'!A13) -> 0 | G13: =COUNTIFS(Tableau1[salle],"1",Tableau1[mois],'mois et annuel'!A13) -> 0 | H13: =COUNTIFS(Tableau1[salle],"2",Tableau1[mois],'mois et annuel'!A13) -> 0 | I13: =COUNTIFS(Tableau1[salle],"3",Tableau1[mois],'mois et annuel'!A13) -> 0
A14: Octobre | B14: =SUMIFS(Tableau1[Temps],Tableau1[salle],"1",Tableau1[mois],'mois et annuel'!A14) -> 0 | C14: =SUMIFS(Tableau1[Temps],Tableau1[salle],"2",Tableau1[mois],'mois et annuel'!A14) -> 0 | D14: =SUMIFS(Tableau1[Temps],Tableau1[salle],"2",Tableau1[mois],'mois et annuel'!A14) -> 0 | G14: =COUNTIFS(Tableau1[salle],"1",Tableau1[mois],'mois et annuel'!A14) -> 0 | H14: =COUNTIFS(Tableau1[salle],"2",Tableau1[mois],'mois et annuel'!A14) -> 0 | I14: =COUNTIFS(Tableau1[salle],"3",Tableau1[mois],'mois et annuel'!A14) -> 0
A15: Novembre | B15: =SUMIFS(Tableau1[Temps],Tableau1[salle],"1",Tableau1[mois],'mois et annuel'!A15) -> 0 | C15: =SUMIFS(Tableau1[Temps],Tableau1[salle],"2",Tableau1[mois],'mois et annuel'!A15) -> 0 | D15: =SUMIFS(Tableau1[Temps],Tableau1[salle],"2",Tableau1[mois],'mois et annuel'!A15) -> 0 | G15: =COUNTIFS(Tableau1[salle],"1",Tableau1[mois],'mois et annuel'!A15) -> 0 | H15: =COUNTIFS(Tableau1[salle],"2",Tableau1[mois],'mois et annuel'!A15) -> 0 | I15: =COUNTIFS(Tableau1[salle],"3",Tableau1[mois],'mois et annuel'!A15) -> 0
A16: Décembre | B16: =SUMIFS(Tableau1[Temps],Tableau1[salle],"1",Tableau1[mois],'mois et annuel'!A16) -> 0 | C16: =SUMIFS(Tableau1[Temps],Tableau1[salle],"2",Tableau1[mois],'mois et annuel'!A16) -> 0 | D16: =SUMIFS(Tableau1[Temps],Tableau1[salle],"2",Tableau1[mois],'mois et annuel'!A16) -> 0 | G16: =COUNTIFS(Tableau1[salle],"1",Tableau1[mois],'mois et annuel'!A16) -> 0 | H16: =COUNTIFS(Tableau1[salle],"2",Tableau1[mois],'mois et annuel'!A16) -> 0 | I16: =COUNTIFS(Tableau1[salle],"3",Tableau1[mois],'mois et annuel'!A16) -> 0
A18: Total annuel | B18: =SUM(B5:B16) -> 0.125 | C18: =SUM(C5:C16) -> 0.21875 | D18: =SUM(D5:D16) -> 0.21875 | G18: =SUM(G5:G16) -> 3 | H18: =SUM(H5:H16) -> 2 | I18: =SUM(I5:I16) -> 1
