Workbook
Name Chrono: 0
Name ChronoTime: 43801.6396990741

Sheet PROD
R1: ;0;0;0;0;0;0;0;0;0;
A2: Date | B2: Machine | C2: OF | D2: CLIENT | E2: ARTICLE | F2: MATIERE | G2: TYPE | H2: HAUTEUR | I2: LARGEUR | J2: QTE RESTANTE | K2: QTE LANCEE | L2: QTE DS LAIZE | M2: LAIZE | N2: ML TOTAL | O2: RAB | P2: % ENCRAGE | Q2: PV0 | R2: CENTRE DE CHARGE | S2: Code Sylob
A3: 43801 | B3: Panthera 180 | C3: 075124000 | D3: =VLOOKUP(C3,SYNTHESE!A:B,2,FALSE) -> ECOLE SUPERIEURE ESTIENNE | E3: =VLOOKUP(C3,SYNTHESE!A:C,3,FALSE) -> Toile polydéco Ht150.00xLrg200.00cm | F3: =VLOOKUP(C3,SYNTHESE!A:J,10,FALSE) -> Polydeco | G3: =VLOOKUP(C3,SYNTHESE!A:K,11,FALSE) -> DIRECTE | H3: 204 | I3: 154 | J3: =VLOOKUP(C3,SYNTHESE!A:AB,28,FALSE) -> 0 | K3: 2 | L3: 2 | M3: 320 | N3: =(ROUNDUP(K3/L3,0)*H3)/100 -> 2.04 | P3: 1 | R3: =IF(B3="Khalam 160","Khalam-1",IF(B3="Khalam 200","Khalam-200",IF(B3="Jepard","Jepard-1",IF(B3="Panthera 180","PANT-180",IF(B3="Panthera 320","PANT-320","JV5B-1"))))) -> PANT-180 | S3: =IF(J3<0,"",IF(OR(COUNTIF(Q3,"*test*"),Q3=""),CONCATENATE(C3,";",R3,$R$1,K3),"")) -> 075124000;PANT-180;0;0;0;0;0;0;0;0;0;2
A4: 43805 | B4: Jepard | C4: 075342000 | D4: =VLOOKUP(C4,SYNTHESE!A:B,2,FALSE) -> COME BACK GRAPHIC (PIMKIE | E4: =VLOOKUP(C4,SYNTHESE!A:C,3,FALSE) -> Toile Ht200xLrg140cm polydéco | F4: =VLOOKUP(C4,SYNTHESE!A:J,10,FALSE) -> Polydeco | G4: =VLOOKUP(C4,SYNTHESE!A:K,11,FALSE) -> DIRECTE | H4: 204 | I4: 144 | J4: =VLOOKUP(C4,SYNTHESE!A:AB,28,FALSE) -> 0 | K4: 95 | L4: 2 | M4: 320 | N4: =(ROUNDUP(K4/L4,0)*H4)/100 -> 97.92 | O4: 4 | P4: 1 | R4: =IF(B4="Khalam 160","Khalam-1",IF(B4="Khalam 200","Khalam-200",IF(B4="Jepard","Jepard-1",IF(B4="Panthera 180","PANT-180",IF(B4="Panthera 320","PANT-320","JV5B-1"))))) -> Jepard-1 | S4: =IF(J4<0,"",IF(OR(COUNTIF(Q4,"*test*"),Q4=""),CONCATENATE(C4,";",R4,$R$1,K4),"")) -> 075342000;Jepard-1;0;0;0;0;0;0;0;0;0;95
A5: 43805 | B5: Panthera 180 | C5: 075050000 | D5: =VLOOKUP(C5,SYNTHESE!A:B,2,FALSE) -> 20 MINUTES FRANCE | E5: =VLOOKUP(C5,SYNTHESE!A:C,3,FALSE) -> 20 MINUTES - Bandeau non tisse 10,5x205cm | F5: =VLOOKUP(C5,SYNTHESE!A:J,10,FALSE) -> Non tisse | G5: =VLOOKUP(C5,SYNTHESE!A:K,11,FALSE) -> DIRECTE | H5: 205 | I5: 10 | J5: =VLOOKUP(C5,SYNTHESE!A:AB,28,FALSE) -> 139 | K5: 33 | L5: 16 | M5: 160 | N5: =(ROUNDUP(K5/L5,0)*H5)/100 -> 6.15 | P5: 0.9 | R5: =IF(B5="Khalam 160","Khalam-1",IF(B5="Khalam 200","Khalam-200",IF(B5="Jepard","Jepard-1",IF(B5="Panthera 180","PANT-180",IF(B5="Panthera 320","PANT-320","JV5B-1"))))) -> PANT-180 | S5: =IF(J5<0,"",IF(OR(COUNTIF(Q5,"*test*"),Q5=""),CONCATENATE(C5,";",R5,$R$1,K5),"")) -> 075050000;PANT-180;0;0;0;0;0;0;0;0;0;33
A6: 43808 | B6: Jepard | C6: 075342000 | D6: =VLOOKUP(C6,SYNTHESE!A:B,2,FALSE) -> COME BACK GRAPHIC (PIMKIE | E6: =VLOOKUP(C6,SYNTHESE!A:C,3,FALSE) -> Toile Ht200xLrg140cm polydéco | F6: =VLOOKUP(C6,SYNTHESE!A:J,10,FALSE) -> Polydeco | G6: =VLOOKUP(C6,SYNTHESE!A:K,11,FALSE) -> DIRECTE | H6: 204 | I6: 144 | J6: =VLOOKUP(C6,SYNTHESE!A:AB,28,FALSE) -> 0 | K6: 0 | L6: 2 | M6: 320 | N6: =(ROUNDUP(K6/L6,0)*H6)/100 -> 0 | P6: 1 | R6: =IF(B6="Khalam 160","Khalam-1",IF(B6="Khalam 200","Khalam-200",IF(B6="Jepard","Jepard-1",IF(B6="Panthera 180","PANT-180",IF(B6="Panthera 320","PANT-320","JV5B-1"))))) -> Jepard-1 | S6: =IF(J6<0,"",IF(OR(COUNTIF(Q6,"*test*"),Q6=""),CONCATENATE(C6,";",R6,$R$1,K6),"")) -> 075342000;Jepard-1;0;0;0;0;0;0;0;0;0;0

Sheet SYNTHESE
A1: Code de l'OF | B1: Abrégé | C1: Désignation de l'article | D1: Quantité | E1: Départ le | F1: Etat d'avancement | G1: Libellé de l'opération | H1: Libellé | I1: Quantité à sortir | J1: Désignation.1 | K1: Type d'impression | L1: Hauteur impression | M1: Largeur impression | N1: Impression + Calandre | O1: Etat d'avancement de l'opération | P1: Quantité fabriquée | Q1: Commande | R1: Laize utile | S1: Commande en attente | T1: PVU €ht | U1: Dimension 1 | V1: Dimension 2 | W1: Dimension 3 | X1: I+C | Y1: Restant | Z1: Surface Impression | AA1: Qté Imprimée | AB1: Qté Restante
A2: 064706000 | B2: MEDIAMA | C2: Impression sur polytransat + coupe au format 30.0x20.0cm | D2: 30 | E2: 28/01/2019 | F2: Lancé en production | G2: IMPRESSION | H2: IMPRESSION | I2: 2,184 | J2: Polytransat | K2: INDIRECTE | L2: 36 | M2: 26 | O2: Non commencée | Q2: 00037893 | R2: 148 | S2: Faux | T2: 0 | X2: =IF(N2<>"",N2,WORKDAY(E2,-2,[1]DATA!B14:B26)) -> 43489 | Y2: =D2-P2 -> 30 | Z2: =((L2/100)*(M2/100))*Y2 -> 2.808 | AA2: =SUMIF(PROD!C:C,A2,PROD!K:K) -> 0 | AB2: =D2-AA2 -> 30
A3: 064710000 | B3: MEDIAMA | C3: Impression sur + coupe au format 30.0x20.0cm | D3: 40 | E3: 28/01/2019 | F3: Lancé en production | G3: IMPRESSION | H3: IMPRESSION | I3: 2,646 | J3: Non tisse | K3: INDIRECTE | L3: 36 | M3: 26 | O3: Non commencée | Q3: 00037893 | R3: 162 | S3: Faux | T3: 0 | X3: =IF(N3<>"",N3,WORKDAY(E3,-2,[1]DATA!B15:B27)) -> 43489 | Y3: =D3-P3 -> 40 | Z3: =((L3/100)*(M3/100))*Y3 -> 3.744 | AA3: =SUMIF(PROD!C:C,A3,PROD!K:K) -> 0 | AB3: =D3-AA3 -> 40
A4: 064711000 | B4: MEDIAMA | C4: Impression sur sommer + coupe au format 30.0x20.0cm | D4: 20 | E4: 28/01/2019 | F4: Lancé en production | G4: IMPRESSION | H4: IMPRESSION | I4: 1,092 | J4: Sommer | K4: INDIRECTE | L4: 36 | M4: 26 | O4: Non commencée | Q4: 00037893 | R4: 201 | S4: Faux | T4: 0 | X4: =IF(N4<>"",N4,WORKDAY(E4,-2,[1]DATA!B16:B28)) -> 43489 | Y4: =D4-P4 -> 20 | Z4: =((L4/100)*(M4/100))*Y4 -> 1.872 | AA4: =SUMIF(PROD!C:C,A4,PROD!K:K) -> 0 | AB4: =D4-AA4 -> 20
A5: 068145000 | B5: COME BACK GRAPHIC (PIMKIE | C5: Impression sur polydeco | D5: 1 | E5: 16/04/2019 | F5: Commencé | G5: IMPRESSION | H5: IMPRESSION | I5: 0,6 | J5: Polydeco | K5: DIRECTE | L5: 60 | M5: 90 | O5: Non commencée | Q5: 00039484 | R5: 160 | S5: Faux | T5: 0 | X5: =IF(N5<>"",N5,WORKDAY(E5,-2,[1]DATA!B17:B29)) -> 43567 | Y5: =D5-P5 -> 1 | Z5: =((L5/100)*(M5/100))*Y5 -> 0.54 | AA5: =SUMIF(PROD!C:C,A5,PROD!K:K) -> 0 | AB5: =D5-AA5 -> 1
A6: 068880000 | B6: MEDIAMA | C6: Papier transfert imprimé | D6: 1 | E6: 21/05/2019 | F6: Commencé | G6: IMPRESSION | H6: IMPRESSION | I6: 0,23 | J6: Papier Transfert | K6: INDIRECTE | L6: 30.5 | M6: 23 | O6: Non commencée | Q6: 00039867 | R6: 258 | S6: Faux | T6: 0 | X6: =IF(N6<>"",N6,WORKDAY(E6,-2,[1]DATA!B18:B30)) -> 43602 | Y6: =D6-P6 -> 1 | Z6: =((L6/100)*(M6/100))*Y6 -> 0.07015 | AA6: =SUMIF(PROD!C:C,A6,PROD!K:K) -> 0 | AB6: =D6-AA6 -> 1
A7: 068881000 | B7: MEDIAMA | C7: Papier transfert imprimé | D7: 7 | E7: 21/05/2019 | F7: Commencé | G7: IMPRESSION | H7: IMPRESSION | I7: 0,23 | J7: Papier Transfert | K7: INDIRECTE | L7: 22 | M7: 23 | O7: Non commencée | Q7: 00039867 | R7: 258 | S7: Faux | T7: 0 | X7: =IF(N7<>"",N7,WORKDAY(E7,-2,[1]DATA!B19:B31)) -> 43602 | Y7: =D7-P7 -> 7 | Z7: =((L7/100)*(M7/100))*Y7 -> 0.3542 | AA7: =SUMIF(PROD!C:C,A7,PROD!K:K) -> 0 | AB7: =D7-AA7 -> 7
A8: 068882000 | B8: MEDIAMA | C8: Papier transfert imprimé | D8: 10 | E8: 21/05/2019 | F8: Commencé | G8: IMPRESSION | H8: IMPRESSION | I8: 0,15 | J8: Papier Transfert | K8: INDIRECTE | L8: 7.5 | M8: 22 | O8: Non commencée | Q8: 00039867 | R8: 258 | S8: Faux | T8: 0 | X8: =IF(N8<>"",N8,WORKDAY(E8,-2,[1]DATA!B20:B32)) -> 43602 | Y8: =D8-P8 -> 10 | Z8: =((L8/100)*(M8/100))*Y8 -> 0.165 | AA8: =SUMIF(PROD!C:C,A8,PROD!K:K) -> 0 | AB8: =D8-AA8 -> 10
A9: 068939000 | B9: LOUPI | C9: Toile lumilux Ht250.00xLrg113.60cm | D9: 1 | E9: 17/06/2019 | F9: Lancé en production | G9: IMPRESSION | H9: IMPRESSION | I9: 1,18 | J9: Lumilux | K9: INDIRECTE | L9: 252.6 | M9: 116.2 | O9: Non commencée | Q9: 00039891 | R9: 317 | S9: Faux | T9: 0 | X9: =IF(N9<>"",N9,WORKDAY(E9,-2,[1]DATA!B21:B33)) -> 43629 | Y9: =D9-P9 -> 1 | Z9: =((L9/100)*(M9/100))*Y9 -> 2.935212 | AA9: =SUMIF(PROD!C:C,A9,PROD!K:K) -> 0 | AB9: =D9-AA9 -> 1
A10: 063827000 | B10: SCOTT FRANCE | C10: Toile polydéco Ht80.00xLrg180.00cm | D10: 15 | E10: 19/07/2019 | F10: Commencé | G10: IMPRESSION | H10: IMPRESSION | I10: 12,6 | J10: Polydeco | K10: DIRECTE | L10: 82.6 | M10: 182.6 | O10: Non commencée | Q10: 00037540 | R10: 250 | S10: Faux | T10: 26 | X10: =IF(N10<>"",N10,WORKDAY(E10,-2,[1]DATA!B22:B34)) -> 43663 | Y10: =D10-P10 -> 15 | Z10: =((L10/100)*(M10/100))*Y10 -> 22.62414 | AA10: =SUMIF(PROD!C:C,A10,PROD!K:K) -> 0 | AB10: =D10-AA10 -> 15
A11: 071222000 | B11: DECATHLON SA | C11: Toile polydeco Ht240.00xLrg480.00cm | D11: 1 | E11: 07/08/2019 | F11: Commencé | G11: IMPRESSION | H11: IMPRESSION | I11: 4,84 | J11: Polydeco | K11: DIRECTE | L11: 242.6 | M11: 482.6 | O11: Non commencée | Q11: 00041144 | R11: 317 | S11: Faux | T11: 280 | X11: =IF(N11<>"",N11,WORKDAY(E11,-2,[1]DATA!B23:B35)) -> 43682 | Y11: =D11-P11 -> 1 | Z11: =((L11/100)*(M11/100))*Y11 -> 11.707876 | AA11: =SUMIF(PROD!C:C,A11,PROD!K:K) -> 0 | AB11: =D11-AA11 -> 1
A12: 073362000 | B12: MEDIAMA | C12: Toile polydéco Ht105.20xLrg205.20cm | D12: 1 | E12: 11/10/2019 | F12: Lancé en production | G12: IMPRESSION | H12: IMPRESSION | I12: 2,09 | J12: Polydeco | K12: DIRECTE | L12: 107.8 | M12: 207.8 | O12: Non commencée | Q12: 00042043 | R12: 160 | S12: Faux | T12: 0 | X12: =IF(N12<>"",N12,WORKDAY(E12,-2,[1]DATA!B24:B36)) -> 43747 | Y12: =D12-P12 -> 1 | Z12: =((L12/100)*(M12/100))*Y12 -> 2.240084 | AA12: =SUMIF(PROD!C:C,A12,PROD!K:K) -> 0 | AB12: =D12-AA12 -> 1
A13: 073987000 | B13: 6 POINT COM | C13: Toile verso stand parapluie droit 3x3 | D13: 1 | E13: 29/10/2019 | F13: Lancé en production | G13: IMPRESSION | H13: IMPRESSION | I13: 2,32 | J13: Walltex | K13: INDIRECTE | L13: 232 | M13: 232 | O13: Non commencée | Q13: 00042322 | R13: 251 | S13: Faux | T13: 150 | X13: =IF(N13<>"",N13,WORKDAY(E13,-2,[1]DATA!B25:B37)) -> 43763 | Y13: =D13-P13 -> 1 | Z13: =((L13/100)*(M13/100))*Y13 -> 5.3824 | AA13: =SUMIF(PROD!C:C,A13,PROD!K:K) -> 0 | AB13: =D13-AA13 -> 1
... A20: 074754000 | B20: DISTRIMO | C20: roller banner 200x80cm | D20: 1 | E20: 29/11/2019 | F20: Lancé en production | G20: IMPRESSION | H20: IMPRESSION | I20: 2,17 | J20: Polydeco | K20: DIRECTE | L20: 217 | M20: 80 | O20: Non commencée | Q20: 00042782 | R20: 160 | S20: Faux | T20: 75 | X20: =IF(N20<>"",N20,WORKDAY(E20,-2,[1]DATA!B32:B44)) -> 43796 | Y20: =D20-P20 -> 1 | Z20: =((L20/100)*(M20/100))*Y20 -> 1.736 | AA20: =SUMIF(PROD!C:C,A20,PROD!K:K) -> 0 | AB20: =D20-AA20 -> 1
A21: 075092000 | B21: COME BACK GRAPHIC (TL) | C21: Toile cadre Ht181.2xLrg59.5cm microlux | D21: 74 | E21: 05/12/2019 | F21: Lancé en production | G21: IMPRESSION | H21: IMPRESSION | I21: 46,99 | J21: Microlux | K21: INDIRECTE | L21: 185.2 | M21: 63.5 | N21: 03/12/2019 | O21: Non commencée | Q21: 00042981 | R21: 312 | S21: Faux | T21: 16.3 | U21: 181,2 | V21: 59,5 | W21: 0 | X21: =IF(N21<>"",N21,WORKDAY(E21,-2,[1]DATA!B33:B45)) -> 03/12/2019 | Y21: =D21-P21 -> 74 | Z21: =((L21/100)*(M21/100))*Y21 -> 87.02548 | AA21: =SUMIF(PROD!C:C,A21,PROD!K:K) -> 0 | AB21: =D21-AA21 -> 74
A22: 075237000 | B22: COME BACK GRAPHIC (TL) | C22: Toile cadre Ht181.2xLrg59.5cm microlux | D22: 50 | E22: 05/12/2019 | F22: Lancé en production | G22: IMPRESSION | H22: IMPRESSION | I22: 31,75 | J22: Microlux | K22: INDIRECTE | L22: 185.2 | M22: 63.5 | O22: Non commencée | Q22: 00043069 | R22: 312 | S22: Faux | T22: 16.3 | U22: 181,2 | V22: 59,5 | W22: 0 | X22: =IF(N22<>"",N22,WORKDAY(E22,-2,[1]DATA!B34:B46)) -> 43802 | Y22: =D22-P22 -> 50 | Z22: =((L22/100)*(M22/100))*Y22 -> 58.801 | AA22: =SUMIF(PROD!C:C,A22,PROD!K:K) -> 0 | AB22: =D22-AA22 -> 50
A23: 075301000 | B23: COME BACK GRAPHIC (TL) | C23: Impression sur microlux Ht60.0x90.0cm | D23: 1 | E23: 06/12/2019 | F23: Lancé en production | G23: IMPRESSION | H23: IMPRESSION | I23: 0,6 | J23: Microlux | K23: INDIRECTE | L23: 60 | M23: 90 | N23: 16/12/2019 | O23: Non commencée | Q23: 00043110 | R23: 155 | S23: Faux | T23: 0 | U23: 0 | V23: 0 | W23: 0 | X23: =IF(N23<>"",N23,WORKDAY(E23,-2,[1]DATA!B35:B47)) -> 16/12/2019 | Y23: =D23-P23 -> 1 | Z23: =((L23/100)*(M23/100))*Y23 -> 0.54 | AA23: =SUMIF(PROD!C:C,A23,PROD!K:K) -> 0 | AB23: =D23-AA23 -> 1
A24: 075118000 | B24: MAIRIE DE CHALON SUR SAONE | C24: roller banner 200x85cm | D24: 4 | E24: 09/12/2019 | F24: Lancé en production | G24: IMPRESSION | H24: IMPRESSION | I24: 8,68 | J24: Polydeco | K24: DIRECTE | L24: 217 | M24: 85 | O24: Non commencée | Q24: 00042993 | R24: 160 | S24: Faux | T24: 94 | U24: 0 | V24: 0 | W24: 0 | X24: =IF(N24<>"",N24,WORKDAY(E24,-2,[1]DATA!B36:B48)) -> 43804 | Y24: =D24-P24 -> 4 | Z24: =((L24/100)*(M24/100))*Y24 -> 7.378 | AA24: =SUMIF(PROD!C:C,A24,PROD!K:K) -> 0 | AB24: =D24-AA24 -> 4
A25: 075363000 | B25: ALTAVIA AURA | C25: Impression sur maille Ht260.0x64.5cm | D25: 1 | E25: 11/12/2019 | F25: Lancé en production | G25: IMPRESSION | H25: IMPRESSION | I25: 2,6 | J25: Maille | K25: DIRECTE | L25: 260 | M25: 64.5 | N25: 17/12/2019 | O25: Non commencée | Q25: 00043138 | R25: 159 | S25: Faux | T25: 0 | U25: 0 | V25: 0 | W25: 0 | X25: =IF(N25<>"",N25,WORKDAY(E25,-2,[1]DATA!B37:B49)) -> 17/12/2019 | Y25: =D25-P25 -> 1 | Z25: =((L25/100)*(M25/100))*Y25 -> 1.677 | AA25: =SUMIF(PROD!C:C,A25,PROD!K:K) -> 0 | AB25: =D25-AA25 -> 1
A26: 075173000 | B26: DISNEY HACHETTE PRESSE | C26: Voile WinFlag ECO 480 | D26: 3 | E26: 12/12/2019 | F26: Commencé | G26: IMPRESSION | H26: IMPRESSION | I26: 8,89 | J26: Maille | K26: DIRECTE | L26: 444.5 | M26: 79 | O26: Non commencée | Q26: 00043034 | R26: 159 | S26: Faux | T26: 77 | U26: 0 | V26: 0 | W26: 0 | X26: =IF(N26<>"",N26,WORKDAY(E26,-2,[1]DATA!B38:B50)) -> 43809 | Y26: =D26-P26 -> 3 | Z26: =((L26/100)*(M26/100))*Y26 -> 10.53465 | AA26: =SUMIF(PROD!C:C,A26,PROD!K:K) -> 0 | AB26: =D26-AA26 -> 3
A27: 075202000 | B27: CASTEL & CONCEPT | C27: Toile polydéco Ht228.00xLrg398.00cm | D27: 5 | E27: 12/12/2019 | F27: Commencé | G27: IMPRESSION | H27: IMPRESSION | I27: 20,1 | J27: Polydeco | K27: DIRECTE | L27: 230.6 | M27: 400.6 | O27: Non commencée | Q27: 00043054 | R27: 250 | S27: Faux | T27: 151.6 | U27: 0 | V27: 0 | W27: 0 | X27: =IF(N27<>"",N27,WORKDAY(E27,-2,[1]DATA!B39:B51)) -> 43809 | Y27: =D27-P27 -> 5 | Z27: =((L27/100)*(M27/100))*Y27 -> 46.18918 | AA27: =SUMIF(PROD!C:C,A27,PROD!K:K) -> 0 | AB27: =D27-AA27 -> 5
A28: 075207000 | B28: SKIS ROSSIGNOL SAS | C28: Toile microlux Ht224.00xLrg240.00cm | D28: 2 | E28: 12/12/2019 | F28: Commencé | G28: IMPRESSION | H28: IMPRESSION | I28: 4,56 | J28: Microlux | K28: INDIRECTE | L28: 226.6 | M28: 242.6 | O28: Non commencée | Q28: 00043060 | R28: 312 | S28: Faux | T28: 118.3 | U28: 224 | V28: 240 | X28: =IF(N28<>"",N28,WORKDAY(E28,-2,[1]DATA!B40:B52)) -> 43809 | Y28: =D28-P28 -> 2 | Z28: =((L28/100)*(M28/100))*Y28 -> 10.994632 | AA28: =SUMIF(PROD!C:C,A28,PROD!K:K) -> 0 | AB28: =D28-AA28 -> 2
A29: 075208000 | B29: DUPAS et CIE | C29: Voile WinFlag 350 | D29: 3 | E29: 12/12/2019 | F29: Commencé | G29: IMPRESSION | H29: IMPRESSION | I29: 9,44 | J29: Maille | K29: DIRECTE | L29: 314.5 | M29: 104.5 | O29: Non commencée | Q29: 00043059 | R29: 159 | S29: Faux | T29: 61 | U29: 0 | V29: 0 | W29: 0 | X29: =IF(N29<>"",N29,WORKDAY(E29,-2,[1]DATA!B41:B53)) -> 43809 | Y29: =D29-P29 -> 3 | Z29: =((L29/100)*(M29/100))*Y29 -> 9.859575 | AA29: =SUMIF(PROD!C:C,A29,PROD!K:K) -> 0 | AB29: =D29-AA29 -> 3
A30: 075210000 | B30: SUITE 341 | C30: Toile microlux Ht50.00xLrg100.00cm | D30: 1 | E30: 12/12/2019 | F30: Commencé | G30: IMPRESSION | H30: IMPRESSION | I30: 0,54 | J30: Microlux | K30: INDIRECTE | L30: 52.6 | M30: 102.6 | O30: Non commencée | Q30: 00043062 | R30: 312 | S30: Faux | T30: 15 | U30: 50 | V30: 100 | W30: 0 | X30: =IF(N30<>"",N30,WORKDAY(E30,-2,[1]DATA!B42:B54)) -> 43809 | Y30: =D30-P30 -> 1 | Z30: =((L30/100)*(M30/100))*Y30 -> 0.539676 | AA30: =SUMIF(PROD!C:C,A30,PROD!K:K) -> 0 | AB30: =D30-AA30 -> 1
A31: 075213000 | B31: TECHNISYNTHESE (TBS) | C31: Toile polydéco Ht200.00xLrg150.00cm | D31: 1 | E31: 12/12/2019 | F31: Commencé | G31: IMPRESSION | H31: IMPRESSION | I31: 2,04 | J31: Polydeco | K31: DIRECTE | L31: 202.6 | M31: 152.6 | O31: Non commencée | Q31: 00043063 | R31: 160 | S31: Faux | T31: 60 | U31: 200 | V31: 150 | X31: =IF(N31<>"",N31,WORKDAY(E31,-2,[1]DATA!B43:B55)) -> 43809 | Y31: =D31-P31 -> 1 | Z31: =((L31/100)*(M31/100))*Y31 -> 3.091676 | AA31: =SUMIF(PROD!C:C,A31,PROD!K:K) -> 0 | AB31: =D31-AA31 -> 1
A32: 075286000 | B32: COME BACK GRAPHIC (PIMKIE | C32: Impression sur polydeco Ht60.0x90.0cm | D32: 1 | E32: 12/12/2019 | F32: Lancé en production | G32: IMPRESSION | H32: IMPRESSION | I32: 0,6 | J32: Polydeco | K32: DIRECTE | L32: 60 | M32: 90 | O32: Non commencée | Q32: 00043104 | R32: 160 | S32: Faux | T32: 0 | X32: =IF(N32<>"",N32,WORKDAY(E32,-2,[1]DATA!B44:B56)) -> 43809 | Y32: =D32-P32 -> 1 | Z32: =((L32/100)*(M32/100))*Y32 -> 0.54 | AA32: =SUMIF(PROD!C:C,A32,PROD!K:K) -> 0 | AB32: =D32-AA32 -> 1
A33: 075287000 | B33: COME BACK GRAPHIC (PIMKIE | C33: Impression sur microlux Ht60.0x90.0cm | D33: 1 | E33: 12/12/2019 | F33: Lancé en production | G33: IMPRESSION | H33: IMPRESSION | I33: 0,6 | J33: Microlux | K33: INDIRECTE | L33: 60 | M33: 90 | O33: Non commencée | Q33: 00043104 | R33: 155 | S33: Faux | T33: 0 | X33: =IF(N33<>"",N33,WORKDAY(E33,-2,[1]DATA!B45:B57)) -> 43809 | Y33: =D33-P33 -> 1 | Z33: =((L33/100)*(M33/100))*Y33 -> 0.54 | AA33: =SUMIF(PROD!C:C,A33,PROD!K:K) -> 0 | AB33: =D33-AA33 -> 1
A34: 075290000 | B34: MILLET MOUNTAIN GROUP | C34: Toile Microlux Ht175xLrg175cm | D34: 1 | E34: 12/12/2019 | F34: Commencé | G34: IMPRESSION | H34: IMPRESSION | I34: 1,79 | J34: Microlux | K34: INDIRECTE | L34: 179 | M34: 179 | O34: Non commencée | Q34: 00043105 | R34: 312 | S34: Faux | T34: 79.7 | U34: 175 | V34: 175 | W34: 0 | X34: =IF(N34<>"",N34,WORKDAY(E34,-2,[1]DATA!B46:B58)) -> 43809 | Y34: =D34-P34 -> 1 | Z34: =((L34/100)*(M34/100))*Y34 -> 3.2041 | AA34: =SUMIF(PROD!C:C,A34,PROD!K:K) -> 0 | AB34: =D34-AA34 -> 1
A35: 074928000 | B35: CAMAIEU INTERNATIONAL | C35: Toile lumilux Ht50.00xLrg50.00cm | D35: 8 | E35: 13/12/2019 | F35: Lancé en production | G35: IMPRESSION | H35: IMPRESSION | I35: 2,16 | J35: Lumilux | K35: INDIRECTE | L35: 52.6 | M35: 52.6 | O35: Non commencée | Q35: 00042888 | R35: 317 | S35: Faux | T35: 7.2 | U35: 50 | V35: 50 | X35: =IF(N35<>"",N35,WORKDAY(E35,-2,[1]DATA!B47:B59)) -> 43810 | Y35: =D35-P35 -> 8 | Z35: =((L35/100)*(M35/100))*Y35 -> 2.213408 | AA35: =SUMIF(PROD!C:C,A35,PROD!K:K) -> 0 | AB35: =D35-AA35 -> 8
A36: 075066000 | B36: ROUGEGORGE | C36: Toile Ht257.0xLrg120.0cm lumilux | D36: 10 | E36: 13/12/2019 | F36: Commencé | G36: IMPRESSION | H36: IMPRESSION | I36: 12,4 | J36: Lumilux | K36: INDIRECTE | L36: 261 | M36: 124 | O36: Non commencée | Q36: 00042960 | R36: 317 | S36: Faux | T36: 50 | U36: 257 | V36: 120 | W36: 0 | X36: =IF(N36<>"",N36,WORKDAY(E36,-2,[1]DATA!B48:B60)) -> 43810 | Y36: =D36-P36 -> 10 | Z36: =((L36/100)*(M36/100))*Y36 -> 32.364 | AA36: =SUMIF(PROD!C:C,A36,PROD!K:K) -> 0 | AB36: =D36-AA36 -> 10
A37: 075067000 | B37: ROUGEGORGE | C37: Toile Ht310.0xLrg180.0cm lumilux | D37: 1 | E37: 13/12/2019 | F37: Commencé | G37: IMPRESSION | H37: IMPRESSION | I37: 1,84 | J37: Lumilux | K37: INDIRECTE | L37: 314 | M37: 184 | O37: Non commencée | Q37: 00042960 | R37: 317 | S37: Faux | T37: 89 | U37: 310 | V37: 180 | W37: 0 | X37: =IF(N37<>"",N37,WORKDAY(E37,-2,[1]DATA!B49:B61)) -> 43810 | Y37: =D37-P37 -> 1 | Z37: =((L37/100)*(M37/100))*Y37 -> 5.7776 | AA37: =SUMIF(PROD!C:C,A37,PROD!K:K) -> 0 | AB37: =D37-AA37 -> 1
A38: 075243000 | B38: IMS GROUPE | C38: Toile Ht240.0xLrg144.5cm decosoft | D38: 5 | E38: 13/12/2019 | F38: Commencé | G38: IMPRESSION | H38: IMPRESSION | I38: 7,45 | J38: Decosoft | K38: DIRECTE | L38: 244 | M38: 148.5 | N38: 11/12/2019 | O38: Non commencée | Q38: 00043075 | R38: 318 | S38: Faux | T38: 33 | U38: 240 | V38: 144,5 | W38: 0 | X38: =IF(N38<>"",N38,WORKDAY(E38,-2,[1]DATA!B50:B62)) -> 11/12/2019 | Y38: =D38-P38 -> 5 | Z38: =((L38/100)*(M38/100))*Y38 -> 18.117 | AA38: =SUMIF(PROD!C:C,A38,PROD!K:K) -> 0 | AB38: =D38-AA38 -> 5
A39: 075244000 | B39: IMS GROUPE | C39: Toile Ht240.0xLrg240.0cm decosoft | D39: 7 | E39: 13/12/2019 | F39: Commencé | G39: IMPRESSION | H39: IMPRESSION | I39: 17,08 | J39: Decosoft | K39: DIRECTE | L39: 244 | M39: 244 | N39: 11/12/2019 | O39: Non commencée | Q39: 00043075 | R39: 318 | S39: Faux | T39: 55 | U39: 240 | V39: 240 | W39: 0 | X39: =IF(N39<>"",N39,WORKDAY(E39,-2,[1]DATA!B51:B63)) -> 11/12/2019 | Y39: =D39-P39 -> 7 | Z39: =((L39/100)*(M39/100))*Y39 -> 41.6752 | AA39: =SUMIF(PROD!C:C,A39,PROD!K:K) -> 0 | AB39: =D39-AA39 -> 7
A40: 075245000 | B40: IMS GROUPE | C40: Toile Ht220.0xLrg60.0cm decosoft | D40: 71 | E40: 13/12/2019 | F40: Commencé | G40: IMPRESSION | H40: IMPRESSION | I40: 45,44 | J40: Decosoft | K40: DIRECTE | L40: 224 | M40: 64 | N40: 11/12/2019 | O40: Non commencée | Q40: 00043075 | R40: 318 | S40: Faux | T40: 12 | U40: 220 | V40: 60 | W40: 0 | X40: =IF(N40<>"",N40,WORKDAY(E40,-2,[1]DATA!B52:B64)) -> 11/12/2019 | Y40: =D40-P40 -> 71 | Z40: =((L40/100)*(M40/100))*Y40 -> 101.7856 | AA40: =SUMIF(PROD!C:C,A40,PROD!K:K) -> 0 | AB40: =D40-AA40 -> 71
A41: 075246000 | B41: IMS GROUPE | C41: Toile Ht240.0xLrg150.0cm decosoft | D41: 1 | E41: 13/12/2019 | F41: Commencé | G41: IMPRESSION | H41: IMPRESSION | I41: 1,54 | J41: Decosoft | K41: DIRECTE | L41: 244 | M41: 154 | N41: 11/12/2019 | O41: Non commencée | Q41: 00043075 | R41: 318 | S41: Faux | T41: 28.5 | U41: 240 | V41: 150 | W41: 0 | X41: =IF(N41<>"",N41,WORKDAY(E41,-2,[1]DATA!B53:B65)) -> 11/12/2019 | Y41: =D41-P41 -> 1 | Z41: =((L41/100)*(M41/100))*Y41 -> 3.7576 | AA41: =SUMIF(PROD!C:C,A41,PROD!K:K) -> 0 | AB41: =D41-AA41 -> 1
A42: 075247000 | B42: IMS GROUPE | C42: Toile Ht300.0xLrg240.0cm decosoft | D42: 1 | E42: 13/12/2019 | F42: Commencé | G42: IMPRESSION | H42: IMPRESSION | I42: 2,44 | J42: Decosoft | K42: DIRECTE | L42: 304 | M42: 244 | N42: 11/12/2019 | O42: Non commencée | Q42: 00043075 | R42: 318 | S42: Faux | T42: 69 | U42: 300 | V42: 240 | W42: 0 | X42: =IF(N42<>"",N42,WORKDAY(E42,-2,[1]DATA!B54:B66)) -> 11/12/2019 | Y42: =D42-P42 -> 1 | Z42: =((L42/100)*(M42/100))*Y42 -> 7.4176 | AA42: =SUMIF(PROD!C:C,A42,PROD!K:K) -> 0 | AB42: =D42-AA42 -> 1
A43: 075295000 | B43: CHRISTMAS CIE | C43: Toile cadre Ht219.3xLrg119.3cm | D43: 2 | E43: 13/12/2019 | F43: Commencé | G43: IMPRESSION | H43: IMPRESSION | I43: 2,46 | J43: Polydeco | K43: DIRECTE | L43: 223.3 | M43: 123.3 | O43: Non commencée | Q43: 00043108 | R43: 307 | S43: Faux | T43: 29 | U43: 219,3 | V43: 119,3 | W43: 0 | X43: =IF(N43<>"",N43,WORKDAY(E43,-2,[1]DATA!B55:B67)) -> 43810 | Y43: =D43-P43 -> 2 | Z43: =((L43/100)*(M43/100))*Y43 -> 5.506578 | AA43: =SUMIF(PROD!C:C,A43,PROD!K:K) -> 0 | AB43: =D43-AA43 -> 2
A44: 075296000 | B44: ETABLISSEMENTS SOGAL | C44: Toile canvas Ht194.5x91.0cm pour façade 3 vantaux | D44: 3 | E44: 13/12/2019 | F44: Commencé | G44: IMPRESSION | H44: IMPRESSION | I44: 3 | J44: Canvas | K44: DIRECTE | L44: 0 | M44: 0 | O44: Non commencée | Q44: 00043109 | R44: 305 | S44: Faux | T44: 47.7 | U44: 194,5 | V44: 91 | W44: 0 | X44: =IF(N44<>"",N44,WORKDAY(E44,-2,[1]DATA!B56:B68)) -> 43810 | Y44: =D44-P44 -> 3 | Z44: =((L44/100)*(M44/100))*Y44 -> 0 | AA44: =SUMIF(PROD!C:C,A44,PROD!K:K) -> 0 | AB44: =D44-AA44 -> 3
A45: 075297000 | B45: ETABLISSEMENTS SOGAL | C45: Toile canvas Ht266.4x95.1cm pour façade 2 vantaux | D45: 2 | E45: 13/12/2019 | F45: Commencé | G45: IMPRESSION | H45: IMPRESSION | I45: 2 | J45: Canvas | K45: DIRECTE | L45: 0 | M45: 0 | O45: Non commencée | Q45: 00043109 | R45: 305 | S45: Faux | T45: 68.44 | U45: 266,4 | V45: 95,1 | W45: 0 | X45: =IF(N45<>"",N45,WORKDAY(E45,-2,[1]DATA!B57:B69)) -> 43810 | Y45: =D45-P45 -> 2 | Z45: =((L45/100)*(M45/100))*Y45 -> 0 | AA45: =SUMIF(PROD!C:C,A45,PROD!K:K) -> 0 | AB45: =D45-AA45 -> 2
A46: 075320000 | B46: SANDRO ANDY | C46: Toile Ht250xLrg80cm microlux PORTRAIT | D46: 1 | E46: 13/12/2019 | F46: Commencé | G46: IMPRESSION | H46: IMPRESSION | I46: 0,84 | J46: Microlux | K46: INDIRECTE | L46: 254 | M46: 84 | O46: Non commencée | Q46: 00043117 | R46: 312 | S46: Faux | T46: 55 | U46: 250 | V46: 80 | W46: 0 | X46: =IF(N46<>"",N46,WORKDAY(E46,-2,[1]DATA!B58:B70)) -> 43810 | Y46: =D46-P46 -> 1 | Z46: =((L46/100)*(M46/100))*Y46 -> 2.1336 | AA46: =SUMIF(PROD!C:C,A46,PROD!K:K) -> 0 | AB46: =D46-AA46 -> 1
...
