Workbook
Name Chrono: 0
Name ChronoTime: 43801.6396990741

Sheet PROD
R1: ;0;0;0;0;0;0;0;0;0;
A2: Date | B2: Machine | C2: OF | D2: CLIENT | E2: ARTICLE | F2: MATIERE | G2: TYPE | H2: HAUTEUR | I2: LARGEUR | J2: QTE RESTANTE | K2: QTE LANCEE | L2: QTE DS LAIZE | M2: LAIZE | N2: ML TOTAL | O2: RAB | P2: % ENCRAGE | Q2: PV0 | R2: CENTRE DE CHARGE | S2: Code Sylob
A3: 43801 | B3: Panthera 180 | C3: 075124000 | D3: =VLOOKUP(C3,SYNTHESE!A:B,2,FALSE) -> ECOLE SUPERIEURE ESTIENNE | E3: =VLOOKUP(C3,SYNTHESE!A:C,3,FALSE) -> Toile polydéco Ht150.00xLrg200.00cm | F3: =VLOOKUP(C3,SYNTHESE!A:J,10,FALSE) -> Polydeco | G3: =VLOOKUP(C3,SYNTHESE!A:K,11,FALSE) -> DIRECTE | H3: 204 | I3: 154 | J3: =VLOOKUP(C3,SYNTHESE!A:AB,28,FALSE) -> 0 | K3: 2 | L3: 2 | M3: 320 | N3: =(ROUNDUP(K3/L3,0)*H3)/100 -> 2.04 | P3: 1 | R3: =IF(B3="Khalam 160","Khalam-1",IF(B3="Khalam 200","Khalam-200",IF(B3="Jepard","Jepard-1",IF(B3="Panthera 180","PANT-180",IF(B3="Panthera 320","PANT-320","JV5B-1"))))) -> PANT-180 | S3: =IF(J3<0,"",IF(OR(COUNTIF(Q3,"*test*"),Q3=""),CONCATENATE(C3,";",R3,$R$1,K3),"")) -> 075124000;PANT-180;0;0;0;0;0;0;0;0;0;2
A4: 43805 | B4: Jepard | C4: 075342000 | D4: =VLOOKUP(C4,SYNTHESE!A:B,2,FALSE) -> COME BACK GRAPHIC (PIMKIE | E4: =VLOOKUP(C4,SYNTHESE!A:C,3,FALSE) -> Toile Ht200xLrg140cm polydéco | F4: =VLOOKUP(C4,SYNTHESE!A:J,10,FALSE) -> Polydeco | G4: =VLOOKUP(C4,SYNTHESE!A:K,11,FALSE) -> DIRECTE | H4: 204 | I4: 144 | J4: =VLOOKUP(C4,SYNTHESE!A:AB,28,FALSE) -> 0 | K4: 95 | L4: 2 | M4: 320 | N4: =(ROUNDUP(K4/L4,0)*H4)/100 -> 97.92 | O4: 4 | P4: 1 | R4: =IF(B4="Khalam 160","Khalam-1",IF(B4="Khalam 200","Khalam-200",IF(B4="Jepard","Jepard-1",IF(B4="Panthera 180","PANT-180",IF(B4="Panthera 320","PANT-320","JV5B-1"))))) -> Jepard-1 | S4: =IF(J4<0,"",IF(OR(COUNTIF(Q4,"*test*"),Q4=""),CONCATENATE(C4,";",R4,$R$1,K4),"")) -> 075342000;Jepard-1;0;0;0;0;0;0;0;0;0;95
A5: 43805 | B5: Panthera 180 | C5: 075050000 | D5: =VLOOKUP(C5,SYNTHESE!A:B,2,FALSE) -> 20 MINUTES FRANCE | E5: =VLOOKUP(C5,SYNTHESE!A:C,3,FALSE) -> 20 MINUTES - Bandeau non tisse 10,5x205cm | F5: =VLOOKUP(C5,SYNTHESE!A:J,10,FALSE) -> Non tisse | G5: =VLOOKUP(C5,SYNTHESE!A:K,11,FALSE) -> DIRECTE | H5: 205 | I5: 10 | J5: =VLOOKUP(C5,SYNTHESE!A:AB,28,FALSE) -> 139 | K5: 33 | L5: 16 | M5: 160 | N5: =(ROUNDUP(K5/L5,0)*H5)/100 -> 6.15 | P5: 0.9 | R5: =IF(B5="Khalam 160","Khalam-1",IF(B5="Khalam 200","Khalam-200",IF(B5="Jepard","Jepard-1",IF(B5="Panthera 180","PANT-180",IF(B5="Panthera 320","PANT-320","JV5B-1"))))) -> PANT-180 | S5: =IF(J5<0,"",IF(OR(COUNTIF(Q5,"*test*"),Q5=""),CONCATENATE(C5,";",R5,$R$1,K5),"")) -> 075050000;PANT-180;0;0;0;0;0;0;0;0;0;33
A6: 43808 | B6: Jepard | C6: 075342000 | D6: =VLOOKUP(C6,SYNTHESE!A:B,2,FALSE) -> COME BACK GRAPHIC (PIMKIE | E6: =VLOOKUP(C6,SYNTHESE!A:C,3,FALSE) -> Toile Ht200xLrg140cm polydéco | F6: =VLOOKUP(C6,SYNTHESE!A:J,10,FALSE) -> Polydeco | G6: =VLOOKUP(C6,SYNTHESE!A:K,11,FALSE) -> DIRECTE | H6: 204 | I6: 144 | J6: =VLOOKUP(C6,SYNTHESE!A:AB,28,FALSE) -> 0 | K6: 0 | L6: 2 | M6: 320 | N6: =(ROUNDUP(K6/L6,0)*H6)/100 -> 0 | P6: 1 | R6: =IF(B6="Khalam 160","Khalam-1",IF(B6="Khalam 200","Khalam-200",IF(B6="Jepard","Jepard-1",IF(B6="Panthera 180","PANT-180",IF(B6="Panthera 320","PANT-320","JV5B-1"))))) -> Jepard-1 | S6: =IF(J6<0,"",IF(OR(COUNTIF(Q6,"*test*"),Q6=""),CONCATENATE(C6,";",R6,$R$1,K6),"")) -> 075342000;Jepard-1;0;0;0;0;0;0;0;0;0;0

Sheet SYNTHESE
A1: Code de l'OF | B1: Abrégé | C1: Désignation de l'article | D1: Quantité | E1: Départ le | F1: Etat d'avancement | G1: Libellé de l'opération | H1: Libellé | I1: Quantité à sortir | J1: Désignation.1 | K1: Type d'impression | L1: Hauteur impression | M1: Largeur impression | N1: Impression + Calandre | O1: Etat d'avancement de l'opération | P1: Quantité fabriquée | Q1: Commande | R1: Laize utile | S1: Commande en attente | T1: PVU €ht | U1: Dimension 1 | V1: Dimension 2 | W1: Dimension 3 | X1: I+C | Y1: Restant | Z1: Surface Impression | AA1: Qté Imprimée | AB1: Qté Restante
A2: 064706000 | B2: MEDIAMA | C2: Impression sur polytransat + coupe au format 30.0x20.0cm | D2: 30 | E2: 28/01/2019 | F2: Lancé en production | G2: IMPRESSION | H2: IMPRESSION | I2: 2,184 | J2: Polytransat | K2: INDIRECTE | L2: 36 | M2: 26 | O2: Non commencée | Q2: 00037893 | R2: 148 | S2: Faux | T2: 0 | X2: =IF(N2<>"",N2,WORKDAY(E2,-2,[1]DATA!B14:B26)) -> 43489 | Y2: =D2-P2 -> 30 | Z2: =((L2/100)*(M2/100))*Y2 -> 2.808 | AA2: =SUMIF(PROD!C:C,A2,PROD!K:K) -> 0 | AB2: =D2-AA2 -> 30
A3: 064710000 | B3: MEDIAMA | C3: Impression sur + coupe au format 30.0x20.0cm | D3: 40 | E3: 28/01/2019 | F3: Lancé en production | G3: IMPRESSION | H3: IMPRESSION | I3: 2,646 | J3: Non tisse | K3: INDIRECTE | L3: 36 | M3: 26 | O3: Non commencée | Q3: 00037893 | R3: 162 | S3: Faux | T3: 0 | X3: =IF(N3<>"",N3,WORKDAY(E3,-2,[1]DATA!B15:B27)) -> 43489 | Y3: =D3-P3 -> 40 | Z3: =((L3/100)*(M3/100))*Y3 -> 3.744 | AA3: =SUMIF(PROD!C:C,A3,PROD!K:K) -> 0 | AB3: =D3-AA3 -> 40
A4: 064711000 | B4: MEDIAMA | C4: Impression sur sommer + coupe au format 30.0x20.0cm | D4: 20 | E4: 28/01/2019 | F4: Lancé en production | G4: IMPRESSION | H4: IMPRESSION | I4: 1,092 | J4: Sommer | K4: INDIRECTE | L4: 36 | M4: 26 | O4: Non commencée | Q4: 00037893 | R4: 201 | S4: Faux | T4: 0 | X4: =IF(N4<>"",N4,WORKDAY(E4,-2,[1]DATA!B16:B28)) -> 43489 | Y4: =D4-P4 -> 20 | Z4: =((L4/100)*(M4/100))*Y4 -> 1.872 | AA4: =SUMIF(PROD!C:C,A4,PROD!K:K) -> 0 | AB4: =D4-AA4 -> 20
A5: 068145000 | B5: COME BACK GRAPHIC (PIMKIE | C5: Impression sur polydeco | D5: 1 | E5: 16/04/2019 | F5: Commencé | G5: IMPRESSION | H5: IMPRESSION | I5: 0,6 | J5: Polydeco | K5: DIRECTE | L5: 60 | M5: 90 | O5: Non commencée | Q5: 00039484 | R5: 160 | S5: Faux | T5: 0 | X5: =IF(N5<>"",N5,WORKDAY(E5,-2,[1]DATA!B17:B29)) -> 43567 | Y5: =D5-P5 -> 1 | Z5: =((L5/100)*(M5/100))*Y5 -> 0.54 | AA5: =SUMIF(PROD!C:C,A5,PROD!K:K) -> 0 | AB5: =D5-AA5 -> 1
A6: 068880000 | B6: MEDIAMA | C6: Papier transfert imprimé | D6: 1 | E6: 21/05/2019 | F6: Commencé | G6: IMPRESSION | H6: IMPRESSION | I6: 0,23 | J6: Papier Transfert | K6: INDIRECTE | L6: 30.5 | M6: 23 | O6: Non commencée | Q6: 00039867 | R6: 258 | S6: Faux | T6: 0 | X6: =IF(N6<>"",N6,WORKDAY(E6,-2,[1]DATA!B18:B30)) -> 43602 | Y6: =D6-P6 -> 1 | Z6: =((L6/100)*(M6/100))*Y6 -> 0.07015 | AA6: =SUMIF(PROD!C:C,A6,PROD!K:K) -> 0 | AB6: =D6-AA6 -> 1
A7: 068881000 | B7: MEDIAMA | C7: Papier transfert imprimé | D7: 7 | E7: 21/05/2019 | F7: Commencé | G7: IMPRESSION | H7: IMPRESSION | I7: 0,23 | J7: Papier Transfert | K7: INDIRECTE | L7: 22 | M7: 23 | O7: Non commencée | Q7: 00039867 | R7: 258 | S7: Faux | T7: 0 | X7: =IF(N7<>"",N7,WORKDAY(E7,-2,[1]DATA!B19:B31)) -> 43602 | Y7: =D7-P7 -> 7 | Z7: =((L7/100)*(M7/100))*Y7 -> 0.3542 | AA7: =SUMIF(PROD!C:C,A7,PROD!K:K) -> 0 | AB7: =D7-AA7 -> 7
A8: 068882000 | B8: MEDIAMA | C8: Papier transfert imprimé | D8: 10 | E8: 21/05/2019 | F8: Commencé | G8: IMPRESSION | H8: IMPRESSION | I8: 0,15 | J8: Papier Transfert | K8: INDIRECTE | L8: 7.5 | M8: 22 | O8: Non commencée | Q8: 00039867 | R8: 258 | S8: Faux | T8: 0 | X8: =IF(N8<>"",N8,WORKDAY(E8,-2,[1]DATA!B20:B32)) -> 43602 | Y8: =D8-P8 -> 10 | Z8: =((L8/100)*(M8/100))*Y8 -> 0.165 | AA8: =SUMIF(PROD!C:C,A8,PROD!K:K) -> 0 | AB8: =D8-AA8 -> 10
A9: 068939000 | B9: LOUPI | C9: Toile lumilux Ht250.00xLrg113.60cm | D9: 1 | E9: 17/06/2019 | F9: Lancé en production | G9: IMPRESSION | H9: IMPRESSION | I9: 1,18 | J9: Lumilux | K9: INDIRECTE | L9: 252.6 | M9: 116.2 | O9: Non commencée | Q9: 00039891 | R9: 317 | S9: Faux | T9: 0 | X9: =IF(N9<>"",N9,WORKDAY(E9,-2,[1]DATA!B21:B33)) -> 43629 | Y9: =D9-P9 -> 1 | Z9: =((L9/100)*(M9/100))*Y9 -> 2.935212 | AA9: =SUMIF(PROD!C:C,A9,PROD!K:K) -> 0 | AB9: =D9-AA9 -> 1
A10: 063827000 | B10: SCOTT FRANCE | C10: Toile polydéco Ht80.00xLrg180.00cm | D10: 15 | E10: 19/07/2019 | F10: Commencé | G10: IMPRESSION | H10: IMPRESSION | I10: 12,6 | J10: Polydeco | K10: DIRECTE | L10: 82.6 | M10: 182.6 | O10: Non commencée | Q10: 00037540 | R10: 250 | S10: Faux | T10: 26 | X10: =IF(N10<>"",N10,WORKDAY(E10,-2,[1]DATA!B22:B34)) -> 43663 | Y10: =D10-P10 -> 15 | Z10: =((L10/100)*(M10/100))*Y10 -> 22.62414 | AA10: =SUMIF(PROD!C:C,A10,PROD!K:K) -> 0 | AB10: =D10-AA10 -> 15
A11: 071222000 | B11: DECATHLON SA | C11: Toile polydeco Ht240.00xLrg480.00cm | D11: 1 | E11: 07/08/2019 | F11: Commencé | G11: IMPRESSION | H11: IMPRESSION | I11: 4,84 | J11: Polydeco | K11: DIRECTE | L11: 242.6 | M11: 482.6 | O11: Non commencée | Q11: 00041144 | R11: 317 | S11: Faux | T11: 280 | X11: =IF(N11<>"",N11,WORKDAY(E11,-2,[1]DATA!B23:B35)) -> 43682 | Y11: =D11-P11 -> 1 | Z11: =((L11/100)*(M11/100))*Y11 -> 11.707876 | AA11: =SUMIF(PROD!C:C,A11,PROD!K:K) -> 0 | AB11: =D11-AA11 -> 1
A12: 073362000 | B12: MEDIAMA | C12: Toile polydéco Ht105.20xLrg205.20cm | D12: 1 | E12: 11/10/2019 | F12: Lancé en production | G12: IMPRESSION | H12: IMPRESSION | I12: 2,09 | J12: Polydeco | K12: DIRECTE | L12: 107.8 | M12: 207.8 | O12: Non commencée | Q12: 00042043 | R12: 160 | S12: Faux | T12: 0 | X12: =IF(N12<>"",N12,WORKDAY(E12,-2,[1]DATA!B24:B36)) -> 43747 | Y12: =D12-P12 -> 1 | Z12: =((L12/100)*(M12/100))*Y12 -> 2.240084 | AA12: =SUMIF(PROD!C:C,A12,PROD!K:K) -> 0 | AB12: =D12-AA12 -> 1
A13: 073987000 | B13: 6 POINT COM | C13: Toile verso stand parapluie droit 3x3 | D13: 1 | E13: 29/10/2019 | F13: Lancé en production | G13: IMPRESSION | H13: IMPRESSION | I13: 2,32 | J13: Walltex | K13: INDIRECTE | L13: 232 | M13: 232 | O13: Non commencée | Q13: 00042322 | R13: 251 | S13: Faux | T13: 150 | X13: =IF(N13<>"",N13,WORKDAY(E13,-2,[1]DATA!B25:B37)) -> 43763 | Y13: =D13-P13 -> 1 | Z13: =((L13/100)*(M13/100))*Y13 -> 5.3824 | AA13: =SUMIF(PROD!C:C,A13,PROD!K:K) -> 0 | AB13: =D13-AA13 -> 1
... A20: 074754000 | B20: DISTRIMO | C20: roller banner 200x80cm | D20: 1 | E20: 29/11/2019 | F20: Lancé en production | G20: IMPRESSION | H20: IMPRESSION | I20: 2,17 | J20: Polydeco | K20: DIRECTE | L20: 217 | M20: 80 | O20: Non commencée | Q20: 00042782 | R20: 160 | S20: Faux | T20: 75 | X20: =IF(N20<>"",N20,WORKDAY(E20,-2,[1]DATA!B32:B44)) -> 43796 | Y20: =D20-P20 -> 1 | Z20: =((L20/100)*(M20/100))*Y20 -> 1.736 | AA20: =SUMIF(PROD!C:C,A20,PROD!K:K) -> 0 | AB20: =D20-AA20 -> 1
A21: 075092000 | B21: COME BACK GRAPHIC (TL) | C21: Toile cadre Ht181.2xLrg59.5cm microlux | D21: 74 | E21: 05/12/2019 | F21: Lancé en production | G21: IMPRESSION | H21: IMPRESSION | I21: 46,99 | J21: Microlux | K21: INDIRECTE | L21: 185.2 | M21: 63.5 | N21: 03/12/2019 | O21: Non commencée | Q21: 00042981 | R21: 312 | S21: Faux | T21: 16.3 | U21: 181,2 | V21: 59,5 | W21: 0 | X21: =IF(N21<>"",N21,WORKDAY(E21,-2,[1]DATA!B33:B45)) -> 03/12/2019 | Y21: =D21-P21 -> 74 | Z21: =((L21/100)*(M21/100))*Y21 -> 87.02548 | AA21: =SUMIF(PROD!C:C,A21,PROD!K:K) -> 0 | AB21: =D21-AA21 -> 74
A22: 075237000 | B22: COME BACK GRAPHIC (TL) | C22: Toile cadre Ht181.2xLrg59.5cm microlux | D22: 50 | E22: 05/12/2019 | F22: Lancé en production | G22: IMPRESSION | H22: IMPRESSION | I22: 31,75 | J22: Microlux | K22: INDIRECTE | L22: 185.2 | M22: 63.5 | O22: Non commencée | Q22: 00043069 | R22: 312 | S22: Faux | T22: 16.3 | U22: 181,2 | V22: 59,5 | W22: 0 | X22: =IF(N22<>"",N22,WORKDAY(E22,-2,[1]DATA!B34:B46)) -> 43802 | Y22: =D22-P22 -> 50 | Z22: =((L22/100)*(M22/100))*Y22 -> 58.801 | AA22: =SUMIF(PROD!C:C,A22,PROD!K:K) -> 0 | AB22: =D22-AA22 -> 50
A23: 075301000 | B23: COME BACK GRAPHIC (TL) | C23: Impression sur microlux Ht60.0x90.0cm | D23: 1 | E23: 06/12/2019 | F23: Lancé en production | G23: IMPRESSION | H23: IMPRESSION | I23: 0,6 | J23: Microlux | K23: INDIRECTE | L23: 60 | M23: 90 | N23: 16/12/2019 | O23: Non commencée | Q23: 00043110 | R23: 155 | S23: Faux | T23: 0 | U23: 0 | V23: 0 | W23: 0 | X23: =IF(N23<>"",N23,WORKDAY(E23,-2,[1]DATA!B35:B47)) -> 16/12/2019 | Y23: =D23-P23 -> 1 | Z23: =((L23/100)*(M23/100))*Y23 -> 0.54 | AA23: =SUMIF(PROD!C:C,A23,PROD!K:K) -> 0 | AB23: =D23-AA23 -> 1
A24: 075118000 | B24: MAIRIE DE CHALON SUR SAONE | C24: roller banner 200x85cm | D24: 4 | E24: 09/12/2019 | F24: Lancé en production | G24: IMPRESSION | H24: IMPRESSION | I24: 8,68 | J24: Polydeco | K24: DIRECTE | L24: 217 | M24: 85 | O24: Non commencée | Q24: 00042993 | R24: 160 | S24: Faux | T24: 94 | U24: 0 | V24: 0 | W24: 0 | X24: =IF(N24<>"",N24,WORKDAY(E24,-2,[1]DATA!B36:B48)) -> 43804 | Y24: =D24-P24 -> 4 | Z24: =((L24/100)*(M24/100))*Y24 -> 7.378 | AA24: =SUMIF(PROD!C:C,A24,PROD!K:K) -> 0 | AB24: =D24-AA24 -> 4
A25: 075363000 | B25: ALTAVIA AURA | C25: Impression sur maille Ht260.0x64.5cm | D25: 1 | E25: 11/12/2019 | F25: Lancé en production | G25: IMPRESSION | H25: IMPRESSION | I25: 2,6 | J25: Maille | K25: DIRECTE | L25: 260 | M25: 64.5 | N25: 17/12/2019 | O25: Non commencée | Q25: 00043138 | R25: 159 | S25: Faux | T25: 0 | U25: 0 | V25: 0 | W25: 0 | X25: =IF(N25<>"",N25,WORKDAY(E25,-2,[1]DATA!B37:B49)) -> 17/12/2019 | Y25: =D25-P25 -> 1 | Z25: =((L25/100)*(M25/100))*Y25 -> 1.677 | AA25: =SUMIF(PROD!C:C,A25,PROD!K:K) -> 0 | AB25: =D25-AA25 -> 1
A26: 075173000 | B26: DISNEY HACHETTE PRESSE | C26: Voile WinFlag ECO 480 | D26: 3 | E26: 12/12/2019 | F26: Commencé | G26: IMPRESSION | H26: IMPRESSION | I26: 8,89 | J26: Maille | K26: DIRECTE | L26: 444.5 | M26: 79 | O26: Non commencée | Q26: 00043034 | R26: 159 | S26: Faux | T26: 77 | U26: 0 | V26: 0 | W26: 0 | X26: =IF(N26<>"",N26,WORKDAY(E26,-2,[1]DATA!B38:B50)) -> 43809 | Y26: =D26-P26 -> 3 | Z26: =((L26/100)*(M26/100))*Y26 -> 10.53465 | AA26: =SUMIF(PROD!C:C,A26,PROD!K:K) -> 0 | AB26: =D26-AA26 -> 3
A27: 075202000 | B27: CASTEL & CONCEPT | C27: Toile polydéco Ht228.00xLrg398.00cm | D27: 5 | E27: 12/12/2019 | F27: Commencé | G27: IMPRESSION | H27: IMPRESSION | I27: 20,1 | J27: Polydeco | K27: DIRECTE | L27: 230.6 | M27: 400.6 | O27: Non commencée | Q27: 00043054 | R27: 250 | S27: Faux | T27: 151.6 | U27: 0 | V27: 0 | W27: 0 | X27: =IF(N27<>"",N27,WORKDAY(E27,-2,[1]DATA!B39:B51)) -> 43809 | Y27: =D27-P27 -> 5 | Z27: =((L27/100)*(M27/100))*Y27 -> 46.18918 | AA27: =SUMIF(PROD!C:C,A27,PROD!K:K) -> 0 | AB27: =D27-AA27 -> 5
A28: 075207000 | B28: SKIS ROSSIGNOL SAS | C28: Toile microlux Ht224.00xLrg240.00cm | D28: 2 | E28: 12/12/2019 | F28: Commencé | G28: IMPRESSION | H28: IMPRESSION | I28: 4,56 | J28: Microlux | K28: INDIRECTE | L28: 226.6 | M28: 242.6 | O28: Non commencée | Q28: 00043060 | R28: 312 | S28: Faux | T28: 118.3 | U28: 224 | V28: 240 | X28: =IF(N28<>"",N28,WORKDAY(E28,-2,[1]DATA!B40:B52)) -> 43809 | Y28: =D28-P28 -> 2 | Z28: =((L28/100)*(M28/100))*Y28 -> 10.994632 | AA28: =SUMIF(PROD!C:C,A28,PROD!K:K) -> 0 | AB28: =D28-AA28 -> 2
A29: 075208000 | B29: DUPAS et CIE | C29: Voile WinFlag 350 | D29: 3 | E29: 12/12/2019 | F29: Commencé | G29: IMPRESSION | H29: IMPRESSION | I29: 9,44 | J29: Maille | K29: DIRECTE | L29: 314.5 | M29: 104.5 | O29: Non commencée | Q29: 00043059 | R29: 159 | S29: Faux | T29: 61 | U29: 0 | V29: 0 | W29: 0 | X29: =IF(N29<>"",N29,WORKDAY(E29,-2,[1]DATA!B41:B53)) -> 43809 | Y29: =D29-P29 -> 3 | Z29: =((L29/100)*(M29/100))*Y29 -> 9.859575 | AA29: =SUMIF(PROD!C:C,A29,PROD!K:K) -> 0 | AB29: =D29-AA29 -> 3
A30: 075210000 | B30: SUITE 341 | C30: Toile microlux Ht50.00xLrg100.00cm | D30: 1 | E30: 12/12/2019 | F30: Commencé | G30: IMPRESSION | H30: IMPRESSION | I30: 0,54 | J30: Microlux | K30: INDIRECTE | L30: 52.6 | M30: 102.6 | O30: Non commencée | Q30: 00043062 | R30: 312 | S30: Faux | T30: 15 | U30: 50 | V30: 100 | W30: 0 | X30: =IF(N30<>"",N30,WORKDAY(E30,-2,[1]DATA!B42:B54)) -> 43809 | Y30: =D30-P30 -> 1 | Z30: =((L30/100)*(M30/100))*Y30 -> 0.539676 | AA30: =SUMIF(PROD!C:C,A30,PROD!K:K) -> 0 | AB30: =D30-AA30 -> 1
A31: 075213000 | B31: TECHNISYNTHESE (TBS) | C31: Toile polydéco Ht200.00xLrg150.00cm | D31: 1 | E31: 12/12/2019 | F31: Commencé | G31: IMPRESSION | H31: IMPRESSION | I31: 2,04 | J31: Polydeco | K31: DIRECTE | L31: 202.6 | M31: 152.6 | O31: Non commencée | Q31: 00043063 | R31: 160 | S31: Faux | T31: 60 | U31: 200 | V31: 150 | X31: =IF(N31<>"",N31,WORKDAY(E31,-2,[1]DATA!B43:B55)) -> 43809 | Y31: =D31-P31 -> 1 | Z31: =((L31/100)*(M31/100))*Y31 -> 3.091676 | AA31: =SUMIF(PROD!C:C,A31,PROD!K:K) -> 0 | AB31: =D31-AA31 -> 1
A32: 075286000 | B32: COME BACK GRAPHIC (PIMKIE | C32: Impression sur polydeco Ht60.0x90.0cm | D32: 1 | E32: 12/12/2019 | F32: Lancé en production | G32: IMPRESSION | H32: IMPRESSION | I32: 0,6 | J32: Polydeco | K32: DIRECTE | L32: 60 | M32: 90 | O32: Non commencée | Q32: 00043104 | R32: 160 | S32: Faux | T32: 0 | X32: =IF(N32<>"",N32,WORKDAY(E32,-2,[1]DATA!B44:B56)) -> 43809 | Y32: =D32-P32 -> 1 | Z32: =((L32/100)*(M32/100))*Y32 -> 0.54 | AA32: =SUMIF(PROD!C:C,A32,PROD!K:K) -> 0 | AB32: =D32-AA32 -> 1
A33: 075287000 | B33: COME BACK GRAPHIC (PIMKIE | C33: Impression sur microlux Ht60.0x90.0cm | D33: 1 | E33: 12/12/2019 | F33: Lancé en production | G33: IMPRESSION | H33: IMPRESSION | I33: 0,6 | J33: Microlux | K33: INDIRECTE | L33: 60 | M33: 90 | O33: Non commencée | Q33: 00043104 | R33: 155 | S33: Faux | T33: 0 | X33: =IF(N33<>"",N33,WORKDAY(E33,-2,[1]DATA!B45:B57)) -> 43809 | Y33: =D33-P33 -> 1 | Z33: =((L33/100)*(M33/100))*Y33 -> 0.54 | AA33: =SUMIF(PROD!C:C,A33,PROD!K:K) -> 0 | AB33: =D33-AA33 -> 1
A34: 075290000 | B34: MILLET MOUNTAIN GROUP | C34: Toile Microlux Ht175xLrg175cm | D34: 1 | E34: 12/12/2019 | F34: Commencé | G34: IMPRESSION | H34: IMPRESSION | I34: 1,79 | J34: Microlux | K34: INDIRECTE | L34: 179 | M34: 179 | O34: Non commencée | Q34: 00043105 | R34: 312 | S34: Faux | T34: 79.7 | U34: 175 | V34: 175 | W34: 0 | X34: =IF(N34<>"",N34,WORKDAY(E34,-2,[1]DATA!B46:B58)) -> 43809 | Y34: =D34-P34 -> 1 | Z34: =((L34/100)*(M34/100))*Y34 -> 3.2041 | AA34: =SUMIF(PROD!C:C,A34,PROD!K:K) -> 0 | AB34: =D34-AA34 -> 1
A35: 074928000 | B35: CAMAIEU INTERNATIONAL | C35: Toile lumilux Ht50.00xLrg50.00cm | D35: 8 | E35: 13/12/2019 | F35: Lancé en production | G35: IMPRESSION | H35: IMPRESSION | I35: 2,16 | J35: Lumilux | K35: INDIRECTE | L35: 52.6 | M35: 52.6 | O35: Non commencée | Q35: 00042888 | R35: 317 | S35: Faux | T35: 7.2 | U35: 50 | V35: 50 | X35: =IF(N35<>"",N35,WORKDAY(E35,-2,[1]DATA!B47:B59)) -> 43810 | Y35: =D35-P35 -> 8 | Z35: =((L35/100)*(M35/100))*Y35 -> 2.213408 | AA35: =SUMIF(PROD!C:C,A35,PROD!K:K) -> 0 | AB35: =D35-AA35 -> 8
A36: 075066000 | B36: ROUGEGORGE | C36: Toile Ht257.0xLrg120.0cm lumilux | D36: 10 | E36: 13/12/2019 | F36: Commencé | G36: IMPRESSION | H36: IMPRESSION | I36: 12,4 | J36: Lumilux | K36: INDIRECTE | L36: 261 | M36: 124 | O36: Non commencée | Q36: 00042960 | R36: 317 | S36: Faux | T36: 50 | U36: 257 | V36: 120 | W36: 0 | X36: =IF(N36<>"",N36,WORKDAY(E36,-2,[1]DATA!B48:B60)) -> 43810 | Y36: =D36-P36 -> 10 | Z36: =((L36/100)*(M36/100))*Y36 -> 32.364 | AA36: =SUMIF(PROD!C:C,A36,PROD!K:K) -> 0 | AB36: =D36-AA36 -> 10
A37: 075067000 | B37: ROUGEGORGE | C37: Toile Ht310.0xLrg180.0cm lumilux | D37: 1 | E37: 13/12/2019 | F37: Commencé | G37: IMPRESSION | H37: IMPRESSION | I37: 1,84 | J37: Lumilux | K37: INDIRECTE | L37: 314 | M37: 184 | O37: Non commencée | Q37: 00042960 | R37: 317 | S37: Faux | T37: 89 | U37: 310 | V37: 180 | W37: 0 | X37: =IF(N37<>"",N37,WORKDAY(E37,-2,[1]DATA!B49:B61)) -> 43810 | Y37: =D37-P37 -> 1 | Z37: =((L37/100)*(M37/100))*Y37 -> 5.7776 | AA37: =SUMIF(PROD!C:C,A37,PROD!K:K) -> 0 | AB37: =D37-AA37 -> 1
A38: 075243000 | B38: IMS GROUPE | C38: Toile Ht240.0xLrg144.5cm decosoft | D38: 5 | E38: 13/12/2019 | F38: Commencé | G38: IMPRESSION | H38: IMPRESSION | I38: 7,45 | J38: Decosoft | K38: DIRECTE | L38: 244 | M38: 148.5 | N38: 11/12/2019 | O38: Non commencée | Q38: 00043075 | R38: 318 | S38: Faux | T38: 33 | U38: 240 | V38: 144,5 | W38: 0 | X38: =IF(N38<>"",N38,WORKDAY(E38,-2,[1]DATA!B50:B62)) -> 11/12/2019 | Y38: =D38-P38 -> 5 | Z38: =((L38/100)*(M38/100))*Y38 -> 18.117 | AA38: =SUMIF(PROD!C:C,A38,PROD!K:K) -> 0 | AB38: =D38-AA38 -> 5
A39: 075244000 | B39: IMS GROUPE | C39: Toile Ht240.0xLrg240.0cm decosoft | D39: 7 | E39: 13/12/2019 | F39: Commencé | G39: IMPRESSION | H39: IMPRESSION | I39: 17,08 | J39: Decosoft | K39: DIRECTE | L39: 244 | M39: 244 | N39: 11/12/2019 | O39: Non commencée | Q39: 00043075 | R39: 318 | S39: Faux | T39: 55 | U39: 240 | V39: 240 | W39: 0 | X39: =IF(N39<>"",N39,WORKDAY(E39,-2,[1]DATA!B51:B63)) -> 11/12/2019 | Y39: =D39-P39 -> 7 | Z39: =((L39/100)*(M39/100))*Y39 -> 41.6752 | AA39: =SUMIF(PROD!C:C,A39,PROD!K:K) -> 0 | AB39: =D39-AA39 -> 7
A40: 075245000 | B40: IMS GROUPE | C40: Toile Ht220.0xLrg60.0cm decosoft | D40: 71 | E40: 13/12/2019 | F40: Commencé | G40: IMPRESSION | H40: IMPRESSION | I40: 45,44 | J40: Decosoft | K40: DIRECTE | L40: 224 | M40: 64 | N40: 11/12/2019 | O40: Non commencée | Q40: 00043075 | R40: 318 | S40: Faux | T40: 12 | U40: 220 | V40: 60 | W40: 0 | X40: =IF(N40<>"",N40,WORKDAY(E40,-2,[1]DATA!B52:B64)) -> 11/12/2019 | Y40: =D40-P40 -> 71 | Z40: =((L40/100)*(M40/100))*Y40 -> 101.7856 | AA40: =SUMIF(PROD!C:C,A40,PROD!K:K) -> 0 | AB40: =D40-AA40 -> 71
A41: 075246000 | B41: IMS GROUPE | C41: Toile Ht240.0xLrg150.0cm decosoft | D41: 1 | E41: 13/12/2019 | F41: Commencé | G41: IMPRESSION | H41: IMPRESSION | I41: 1,54 | J41: Decosoft | K41: DIRECTE | L41: 244 | M41: 154 | N41: 11/12/2019 | O41: Non commencée | Q41: 00043075 | R41: 318 | S41: Faux | T41: 28.5 | U41: 240 | V41: 150 | W41: 0 | X41: =IF(N41<>"",N41,WORKDAY(E41,-2,[1]DATA!B53:B65)) -> 11/12/2019 | Y41: =D41-P41 -> 1 | Z41: =((L41/100)*(M41/100))*Y41 -> 3.7576 | AA41: =SUMIF(PROD!C:C,A41,PROD!K:K) -> 0 | AB41: =D41-AA41 -> 1
A42: 075247000 | B42: IMS GROUPE | C42: Toile Ht300.0xLrg240.0cm decosoft | D42: 1 | E42: 13/12/2019 | F42: Commencé | G42: IMPRESSION | H42: IMPRESSION | I42: 2,44 | J42: Decosoft | K42: DIRECTE | L42: 304 | M42: 244 | N42: 11/12/2019 | O42: Non commencée | Q42: 00043075 | R42: 318 | S42: Faux | T42: 69 | U42: 300 | V42: 240 | W42: 0 | X42: =IF(N42<>"",N42,WORKDAY(E42,-2,[1]DATA!B54:B66)) -> 11/12/2019 | Y42: =D42-P42 -> 1 | Z42: =((L42/100)*(M42/100))*Y42 -> 7.4176 | AA42: =SUMIF(PROD!C:C,A42,PROD!K:K) -> 0 | AB42: =D42-AA42 -> 1
A43: 075295000 | B43: CHRISTMAS CIE | C43: Toile cadre Ht219.3xLrg119.3cm | D43: 2 | E43: 13/12/2019 | F43: Commencé | G43: IMPRESSION | H43: IMPRESSION | I43: 2,46 | J43: Polydeco | K43: DIRECTE | L43: 223.3 | M43: 123.3 | O43: Non commencée | Q43: 00043108 | R43: 307 | S43: Faux | T43: 29 | U43: 219,3 | V43: 119,3 | W43: 0 | X43: =IF(N43<>"",N43,WORKDAY(E43,-2,[1]DATA!B55:B67)) -> 43810 | Y43: =D43-P43 -> 2 | Z43: =((L43/100)*(M43/100))*Y43 -> 5.506578 | AA43: =SUMIF(PROD!C:C,A43,PROD!K:K) -> 0 | AB43: =D43-AA43 -> 2
A44: 075296000 | B44: ETABLISSEMENTS SOGAL | C44: Toile canvas Ht194.5x91.0cm pour façade 3 vantaux | D44: 3 | E44: 13/12/2019 | F44: Commencé | G44: IMPRESSION | H44: IMPRESSION | I44: 3 | J44: Canvas | K44: DIRECTE | L44: 0 | M44: 0 | O44: Non commencée | Q44: 00043109 | R44: 305 | S44: Faux | T44: 47.7 | U44: 194,5 | V44: 91 | W44: 0 | X44: =IF(N44<>"",N44,WORKDAY(E44,-2,[1]DATA!B56:B68)) -> 43810 | Y44: =D44-P44 -> 3 | Z44: =((L44/100)*(M44/100))*Y44 -> 0 | AA44: =SUMIF(PROD!C:C,A44,PROD!K:K) -> 0 | AB44: =D44-AA44 -> 3
A45: 075297000 | B45: ETABLISSEMENTS SOGAL | C45: Toile canvas Ht266.4x95.1cm pour façade 2 vantaux | D45: 2 | E45: 13/12/2019 | F45: Commencé | G45: IMPRESSION | H45: IMPRESSION | I45: 2 | J45: Canvas | K45: DIRECTE | L45: 0 | M45: 0 | O45: Non commencée | Q45: 00043109 | R45: 305 | S45: Faux | T45: 68.44 | U45: 266,4 | V45: 95,1 | W45: 0 | X45: =IF(N45<>"",N45,WORKDAY(E45,-2,[1]DATA!B57:B69)) -> 43810 | Y45: =D45-P45 -> 2 | Z45: =((L45/100)*(M45/100))*Y45 -> 0 | AA45: =SUMIF(PROD!C:C,A45,PROD!K:K) -> 0 | AB45: =D45-AA45 -> 2
A46: 075320000 | B46: SANDRO ANDY | C46: Toile Ht250xLrg80cm microlux PORTRAIT | D46: 1 | E46: 13/12/2019 | F46: Commencé | G46: IMPRESSION | H46: IMPRESSION | I46: 0,84 | J46: Microlux | K46: INDIRECTE | L46: 254 | M46: 84 | O46: Non commencée | Q46: 00043117 | R46: 312 | S46: Faux | T46: 55 | U46: 250 | V46: 80 | W46: 0 | X46: =IF(N46<>"",N46,WORKDAY(E46,-2,[1]DATA!B58:B70)) -> 43810 | Y46: =D46-P46 -> 1 | Z46: =((L46/100)*(M46/100))*Y46 -> 2.1336 | AA46: =SUMIF(PROD!C:C,A46,PROD!K:K) -> 0 | AB46: =D46-AA46 -> 1
A47: 075349000 | B47: MISSION | C47: Toile polydéco Ht150.00xLrg100.00cm | D47: 2 | E47: 13/12/2019 | F47: Commencé | G47: IMPRESSION | H47: IMPRESSION | I47: 2,08 | J47: Polydeco | K47: DIRECTE | L47: 152.6 | M47: 102.6 | O47: Non commencée | Q47: 00043132 | R47: 160 | S47: Faux | T47: 27 | U47: 150 | V47: 100 | W47: 0 | X47: =IF(N47<>"",N47,WORKDAY(E47,-2,[1]DATA!B59:B71)) -> 43810 | Y47: =D47-P47 -> 2 | Z47: =((L47/100)*(M47/100))*Y47 -> 3.131352 | AA47: =SUMIF(PROD!C:C,A47,PROD!K:K) -> 0 | AB47: =D47-AA47 -> 2
A48: 075350000 | B48: MISSION | C48: Toile polydéco Ht39.00xLrg224.00cm | D48: 4 | E48: 13/12/2019 | F48: Commencé | G48: IMPRESSION | H48: IMPRESSION | I48: 1,72 | J48: Polydeco | K48: DIRECTE | L48: 41.6 | M48: 226.6 | O48: Non commencée | Q48: 00043132 | R48: 250 | S48: Faux | T48: 22.8 | U48: 39 | V48: 224 | W48: 0 | X48: =IF(N48<>"",N48,WORKDAY(E48,-2,[1]DATA!B60:B72)) -> 43810 | Y48: =D48-P48 -> 4 | Z48: =((L48/100)*(M48/100))*Y48 -> 3.770624 | AA48: =SUMIF(PROD!C:C,A48,PROD!K:K) -> 0 | AB48: =D48-AA48 -> 4
A49: 075351000 | B49: ROUGEGORGE | C49: Toile Ht257.0xLrg120.0cm lumilux | D49: 1 | E49: 13/12/2019 | F49: Lancé en production | G49: IMPRESSION | H49: IMPRESSION | I49: 1,24 | J49: Lumilux | K49: INDIRECTE | L49: 261 | M49: 124 | O49: Non commencée | Q49: 00043134 | R49: 317 | S49: Faux | T49: 50 | U49: 257 | V49: 120 | W49: 0 | X49: =IF(N49<>"",N49,WORKDAY(E49,-2,[1]DATA!B61:B73)) -> 43810 | Y49: =D49-P49 -> 1 | Z49: =((L49/100)*(M49/100))*Y49 -> 3.2364 | AA49: =SUMIF(PROD!C:C,A49,PROD!K:K) -> 0 | AB49: =D49-AA49 -> 1
A50: 075367000 | B50: ETABLISSEMENTS SOGAL | C50: Toile canvas Ht201.70xLrg60.00cm | D50: 1 | E50: 13/12/2019 | F50: Commencé | G50: IMPRESSION | H50: IMPRESSION | I50: 0,64 | J50: Canvas | K50: DIRECTE | L50: 204.3 | M50: 62.6 | O50: Non commencée | Q50: 00043144 | R50: 305 | S50: Faux | T50: 31.02 | U50: 201,7 | V50: 60 | X50: =IF(N50<>"",N50,WORKDAY(E50,-2,[1]DATA!B62:B74)) -> 43810 | Y50: =D50-P50 -> 1 | Z50: =((L50/100)*(M50/100))*Y50 -> 1.278918 | AA50: =SUMIF(PROD!C:C,A50,PROD!K:K) -> 0 | AB50: =D50-AA50 -> 1
A51: 075375000 | B51: ETABLISSEMENTS SOGAL | C51: Toile canvas Ht245.0x100.7cm pour façade 2 vantaux | D51: 2 | E51: 13/12/2019 | F51: Commencé | G51: IMPRESSION | H51: IMPRESSION | I51: 2 | J51: Canvas | K51: DIRECTE | L51: 0 | M51: 0 | O51: Non commencée | Q51: 00043153 | R51: 305 | S51: Faux | T51: 66.74 | U51: 245 | V51: 100,7 | W51: 0 | X51: =IF(N51<>"",N51,WORKDAY(E51,-2,[1]DATA!B63:B75)) -> 43810 | Y51: =D51-P51 -> 2 | Z51: =((L51/100)*(M51/100))*Y51 -> 0 | AA51: =SUMIF(PROD!C:C,A51,PROD!K:K) -> 0 | AB51: =D51-AA51 -> 2
A52: 075376000 | B52: ETABLISSEMENTS SOGAL | C52: Toile canvas Ht245.5x82.2cm pour façade 4 vantaux | D52: 4 | E52: 13/12/2019 | F52: Commencé | G52: IMPRESSION | H52: IMPRESSION | I52: 4 | J52: Canvas | K52: DIRECTE | L52: 0 | M52: 0 | O52: Non commencée | Q52: 00043153 | R52: 305 | S52: Faux | T52: 53.48 | U52: 245,5 | V52: 82,2 | W52: 0 | X52: =IF(N52<>"",N52,WORKDAY(E52,-2,[1]DATA!B64:B76)) -> 43810 | Y52: =D52-P52 -> 4 | Z52: =((L52/100)*(M52/100))*Y52 -> 0 | AA52: =SUMIF(PROD!C:C,A52,PROD!K:K) -> 0 | AB52: =D52-AA52 -> 4
A53: 075174000 | B53: BOUYGUES TRAVAUX PUBLICS REGIONS | C53: Pavillon maille 150.0x300.0cm | D53: 8 | E53: 16/12/2019 | F53: Lancé en production | G53: IMPRESSION | H53: IMPRESSION | I53: 24,4 | J53: Maille | K53: DIRECTE | L53: 155 | M53: 305 | O53: Non commencée | Q53: 00043035 | R53: 159 | S53: Faux | T53: 54 | X53: =IF(N53<>"",N53,WORKDAY(E53,-2,[1]DATA!B65:B77)) -> 43811 | Y53: =D53-P53 -> 8 | Z53: =((L53/100)*(M53/100))*Y53 -> 37.82 | AA53: =SUMIF(PROD!C:C,A53,PROD!K:K) -> 0 | AB53: =D53-AA53 -> 8
A54: 075235000 | B54: EXPOZ | C54: Voile WinXtrem 340 courbe | D54: 5 | E54: 16/12/2019 | F54: Commencé | G54: IMPRESSION | H54: IMPRESSION | I54: 10000 | J54: Maille | K54: DIRECTE | L54: 307 | M54: 82 | O54: Non commencée | Q54: 00043067 | R54: 159 | S54: Faux | T54: 48 | X54: =IF(N54<>"",N54,WORKDAY(E54,-2,[1]DATA!B66:B78)) -> 43811 | Y54: =D54-P54 -> 5 | Z54: =((L54/100)*(M54/100))*Y54 -> 12.587 | AA54: =SUMIF(PROD!C:C,A54,PROD!K:K) -> 0 | AB54: =D54-AA54 -> 5
A55: 075238000 | B55: SAFRAN SEATS FRANCE | C55: Pavillon maille 100.0x150.0cm | D55: 4 | E55: 16/12/2019 | F55: Lancé en production | G55: IMPRESSION | H55: IMPRESSION | I55: 4,2 | J55: Maille | K55: DIRECTE | L55: 105 | M55: 155 | O55: Non commencée | Q55: 00043068 | R55: 159 | S55: Faux | T55: 27 | U55: 0 | V55: 0 | W55: 0 | X55: =IF(N55<>"",N55,WORKDAY(E55,-2,[1]DATA!B67:B79)) -> 43811 | Y55: =D55-P55 -> 4 | Z55: =((L55/100)*(M55/100))*Y55 -> 6.51 | AA55: =SUMIF(PROD!C:C,A55,PROD!K:K) -> 0 | AB55: =D55-AA55 -> 4
A56: 075239000 | B56: GARMIN | C56: Toile polydéco Ht200.00xLrg100.00cm | D56: 2 | E56: 16/12/2019 | F56: Commencé | G56: IMPRESSION | H56: IMPRESSION | I56: 4,08 | J56: Polydeco | K56: DIRECTE | L56: 202.6 | M56: 102.6 | O56: Non commencée | Q56: 00043070 | R56: 160 | S56: Faux | T56: 40 | U56: 200 | V56: 100 | X56: =IF(N56<>"",N56,WORKDAY(E56,-2,[1]DATA!B68:B80)) -> 43811 | Y56: =D56-P56 -> 2 | Z56: =((L56/100)*(M56/100))*Y56 -> 4.157352 | AA56: =SUMIF(PROD!C:C,A56,PROD!K:K) -> 0 | AB56: =D56-AA56 -> 2
A57: 075250000 | B57: ABC COM SARL | C57: Voile WinFlag 230 | D57: 1 | E57: 16/12/2019 | F57: Commencé | G57: IMPRESSION | H57: IMPRESSION | I57: 2,12 | J57: Maille | K57: DIRECTE | L57: 211.5 | M57: 75 | O57: Non commencée | Q57: 00043077 | R57: 159 | S57: Faux | T57: 77 | X57: =IF(N57<>"",N57,WORKDAY(E57,-2,[1]DATA!B69:B81)) -> 43811 | Y57: =D57-P57 -> 1 | Z57: =((L57/100)*(M57/100))*Y57 -> 1.58625 | AA57: =SUMIF(PROD!C:C,A57,PROD!K:K) -> 0 | AB57: =D57-AA57 -> 1
A58: 075252000 | B58: AD CONCEPT | C58: Pavillon maille 150.0x150.0cm | D58: 20 | E58: 16/12/2019 | F58: Commencé | G58: IMPRESSION | H58: IMPRESSION | I58: 31 | J58: Maille | K58: DIRECTE | L58: 155 | M58: 155 | O58: Non commencée | Q58: 00043078 | R58: 159 | S58: Faux | T58: 22.5 | U58: 0 | V58: 0 | W58: 0 | X58: =IF(N58<>"",N58,WORKDAY(E58,-2,[1]DATA!B70:B82)) -> 43811 | Y58: =D58-P58 -> 20 | Z58: =((L58/100)*(M58/100))*Y58 -> 48.05 | AA58: =SUMIF(PROD!C:C,A58,PROD!K:K) -> 0 | AB58: =D58-AA58 -> 20
A59: 075253000 | B59: AD CONCEPT | C59: Pavillon maille 200.0x200.0cm | D59: 5 | E59: 16/12/2019 | F59: Commencé | G59: IMPRESSION | H59: IMPRESSION | I59: 20,5 | J59: Maille | K59: DIRECTE | L59: 205 | M59: 205 | O59: Non commencée | Q59: 00043078 | R59: 202 | S59: Faux | T59: 45 | U59: 0 | V59: 0 | W59: 0 | X59: =IF(N59<>"",N59,WORKDAY(E59,-2,[1]DATA!B71:B83)) -> 43811 | Y59: =D59-P59 -> 5 | Z59: =((L59/100)*(M59/100))*Y59 -> 21.0125 | AA59: =SUMIF(PROD!C:C,A59,PROD!K:K) -> 0 | AB59: =D59-AA59 -> 5
A60: 075254000 | B60: SDIS 62 | C60: roller banner 200x150cm | D60: 8 | E60: 16/12/2019 | F60: Lancé en production | G60: IMPRESSION | H60: IMPRESSION | I60: 17,36 | J60: Polydeco | K60: DIRECTE | L60: 217 | M60: 150 | O60: Non commencée | Q60: 00043082 | R60: 160 | S60: Faux | T60: 139 | U60: 0 | V60: 0 | W60: 0 | X60: =IF(N60<>"",N60,WORKDAY(E60,-2,[1]DATA!B72:B84)) -> 43811 | Y60: =D60-P60 -> 8 | Z60: =((L60/100)*(M60/100))*Y60 -> 26.04 | AA60: =SUMIF(PROD!C:C,A60,PROD!K:K) -> 0 | AB60: =D60-AA60 -> 8
A61: 075263000 | B61: KANGAROO | C61: Voile WinFlag 230 recto/verso | D61: 1 | E61: 16/12/2019 | F61: Lancé en production | G61: IMPRESSION | H61: IMPRESSION | I61: 2,12 | J61: Maille | K61: DIRECTE | L61: 211.5 | M61: 75 | O61: Non commencée | Q61: 00043086 | R61: 159 | S61: Faux | T61: 105 | U61: 0 | V61: 0 | W61: 0 | X61: =IF(N61<>"",N61,WORKDAY(E61,-2,[1]DATA!B73:B85)) -> 43811 | Y61: =D61-P61 -> 1 | Z61: =((L61/100)*(M61/100))*Y61 -> 1.58625 | AA61: =SUMIF(PROD!C:C,A61,PROD!K:K) -> 0 | AB61: =D61-AA61 -> 1
A62: 075273000 | B62: QUALIT'IMPRIM | C62: Voile WinFlag 350 | D62: 2 | E62: 16/12/2019 | F62: Commencé | G62: IMPRESSION | H62: IMPRESSION | I62: 6,29 | J62: Maille | K62: DIRECTE | L62: 314.5 | M62: 104.5 | O62: Non commencée | Q62: 00043093 | R62: 159 | S62: Faux | T62: 48 | X62: =IF(N62<>"",N62,WORKDAY(E62,-2,[1]DATA!B74:B86)) -> 43811 | Y62: =D62-P62 -> 2 | Z62: =((L62/100)*(M62/100))*Y62 -> 6.57305 | AA62: =SUMIF(PROD!C:C,A62,PROD!K:K) -> 0 | AB62: =D62-AA62 -> 2
A63: 075274000 | B63: QUALIT'IMPRIM | C63: Voile WinFlag 350 | D63: 2 | E63: 16/12/2019 | F63: Commencé | G63: IMPRESSION | H63: IMPRESSION | I63: 6,29 | J63: Maille | K63: DIRECTE | L63: 314.5 | M63: 104.5 | O63: Non commencée | Q63: 00043092 | R63: 159 | S63: Faux | T63: 44 | X63: =IF(N63<>"",N63,WORKDAY(E63,-2,[1]DATA!B75:B87)) -> 43811 | Y63: =D63-P63 -> 2 | Z63: =((L63/100)*(M63/100))*Y63 -> 6.57305 | AA63: =SUMIF(PROD!C:C,A63,PROD!K:K) -> 0 | AB63: =D63-AA63 -> 2
A64: 075333000 | B64: CAMAIEU INTERNATIONAL | C64: Toile polydéco Ht223.00xLrg83.00cm | D64: 4 | E64: 16/12/2019 | F64: Commencé | G64: IMPRESSION | H64: IMPRESSION | I64: 9,08 | J64: Polydeco | K64: DIRECTE | L64: 225.6 | M64: 85.6 | O64: Non commencée | Q64: 00042978 | R64: 160 | S64: Faux | T64: 16.9 | U64: 223 | V64: 83 | W64: 0 | X64: =IF(N64<>"",N64,WORKDAY(E64,-2,[1]DATA!B76:B88)) -> 43811 | Y64: =D64-P64 -> 4 | Z64: =((L64/100)*(M64/100))*Y64 -> 7.724544 | AA64: =SUMIF(PROD!C:C,A64,PROD!K:K) -> 0 | AB64: =D64-AA64 -> 4
A65: 075365000 | B65: EXPOZ | C65: Voile WinFlag ECO 350 | D65: 6 | E65: 16/12/2019 | F65: Lancé en production | G65: IMPRESSION | H65: IMPRESSION | I65: 10000 | J65: Maille | K65: DIRECTE | L65: 314.5 | M65: 79 | O65: Non commencée | Q65: 00043141 | R65: 159 | S65: Faux | T65: 38 | X65: =IF(N65<>"",N65,WORKDAY(E65,-2,[1]DATA!B77:B89)) -> 43811 | Y65: =D65-P65 -> 6 | Z65: =((L65/100)*(M65/100))*Y65 -> 14.9073 | AA65: =SUMIF(PROD!C:C,A65,PROD!K:K) -> 0 | AB65: =D65-AA65 -> 6
A66: 075366000 | B66: EXPOZ | C66: Voile WinFlag ECO 480 | D66: 6 | E66: 16/12/2019 | F66: Lancé en production | G66: IMPRESSION | H66: IMPRESSION | I66: 13,34 | J66: Maille | K66: DIRECTE | L66: 444.5 | M66: 79 | O66: Non commencée | Q66: 00043141 | R66: 159 | S66: Faux | T66: 54 | X66: =IF(N66<>"",N66,WORKDAY(E66,-2,[1]DATA!B78:B90)) -> 43811 | Y66: =D66-P66 -> 6 | Z66: =((L66/100)*(M66/100))*Y66 -> 21.0693 | AA66: =SUMIF(PROD!C:C,A66,PROD!K:K) -> 0 | AB66: =D66-AA66 -> 6
A67: 075077000 | B67: PUB CONSULTING | C67: Voile WinFlag ECO 350 | D67: 46 | E67: 17/12/2019 | F67: Commencé | G67: IMPRESSION | H67: IMPRESSION | I67: 72,34 | J67: Maille | K67: DIRECTE | L67: 314.5 | M67: 79 | N67: 04/12/2019 | O67: Non commencée | Q67: 00042971 | R67: 159 | S67: Faux | T67: 21 | X67: =IF(N67<>"",N67,WORKDAY(E67,-2,[1]DATA!B79:B91)) -> 04/12/2019 | Y67: =D67-P67 -> 46 | Z67: =((L67/100)*(M67/100))*Y67 -> 114.2893 | AA67: =SUMIF(PROD!C:C,A67,PROD!K:K) -> 0 | AB67: =D67-AA67 -> 46
A68: 075181000 | B68: GUTENBERG NETWORKS SAS | C68: Voile WinFlag ECO 350 | D68: 200 | E68: 17/12/2019 | F68: Commencé | G68: IMPRESSION | H68: IMPRESSION | I68: 314,5 | J68: Maille | K68: DIRECTE | L68: 314.5 | M68: 79 | N68: 12/12/2019 | O68: Commencée | P68: 50 | Q68: 00043041 | R68: 159 | S68: Faux | T68: 18 | U68: 0 | V68: 0 | W68: 0 | X68: =IF(N68<>"",N68,WORKDAY(E68,-2,[1]DATA!B80:B92)) -> 12/12/2019 | Y68: =D68-P68 -> 150 | Z68: =((L68/100)*(M68/100))*Y68 -> 372.6825 | AA68: =SUMIF(PROD!C:C,A68,PROD!K:K) -> 0 | AB68: =D68-AA68 -> 200
A69: 075255000 | B69: CHAUSPORT | C69: Toile Ht280xLrg210cm polydeco | D69: 2 | E69: 17/12/2019 | F69: Commencé | G69: IMPRESSION | H69: IMPRESSION | I69: 4,28 | J69: Polydeco | K69: DIRECTE | L69: 284 | M69: 214 | O69: Non commencée | Q69: 00043081 | R69: 307 | S69: Faux | T69: 82.32 | U69: 280 | V69: 210 | W69: 0 | X69: =IF(N69<>"",N69,WORKDAY(E69,-2,[1]DATA!B81:B93)) -> 43812 | Y69: =D69-P69 -> 2 | Z69: =((L69/100)*(M69/100))*Y69 -> 12.1552 | AA69: =SUMIF(PROD!C:C,A69,PROD!K:K) -> 0 | AB69: =D69-AA69 -> 2
A70: 075256000 | B70: CHAUSPORT | C70: Toile Ht240.0xLrg180.0cm polydéco | D70: 5 | E70: 17/12/2019 | F70: Commencé | G70: IMPRESSION | H70: IMPRESSION | I70: 9,2 | J70: Polydeco | K70: DIRECTE | L70: 244 | M70: 184 | O70: Non commencée | Q70: 00043081 | R70: 307 | S70: Faux | T70: 60.48 | U70: 240 | V70: 180 | W70: 0 | X70: =IF(N70<>"",N70,WORKDAY(E70,-2,[1]DATA!B82:B94)) -> 43812 | Y70: =D70-P70 -> 5 | Z70: =((L70/100)*(M70/100))*Y70 -> 22.448 | AA70: =SUMIF(PROD!C:C,A70,PROD!K:K) -> 0 | AB70: =D70-AA70 -> 5
A71: 075257000 | B71: CHAUSPORT | C71: Toile Ht160xLrg120cm polydeco | D71: 1 | E71: 17/12/2019 | F71: Commencé | G71: IMPRESSION | H71: IMPRESSION | I71: 1,24 | J71: Polydeco | K71: DIRECTE | L71: 164 | M71: 124 | O71: Non commencée | Q71: 00043081 | R71: 307 | S71: Faux | T71: 26.88 | U71: 160 | V71: 120 | W71: 0 | X71: =IF(N71<>"",N71,WORKDAY(E71,-2,[1]DATA!B83:B95)) -> 43812 | Y71: =D71-P71 -> 1 | Z71: =((L71/100)*(M71/100))*Y71 -> 2.0336 | AA71: =SUMIF(PROD!C:C,A71,PROD!K:K) -> 0 | AB71: =D71-AA71 -> 1
A72: 075260000 | B72: PUB CONSULTING | C72: Voile WinFlag ECO 350 | D72: 4 | E72: 17/12/2019 | F72: Commencé | G72: IMPRESSION | H72: IMPRESSION | I72: 6,29 | J72: Maille | K72: DIRECTE | L72: 314.5 | M72: 79 | N72: 04/12/2019 | O72: Non commencée | Q72: 00042971 | R72: 159 | S72: Faux | T72: 21 | X72: =IF(N72<>"",N72,WORKDAY(E72,-2,[1]DATA!B84:B96)) -> 04/12/2019 | Y72: =D72-P72 -> 4 | Z72: =((L72/100)*(M72/100))*Y72 -> 9.9382 | AA72: =SUMIF(PROD!C:C,A72,PROD!K:K) -> 0 | AB72: =D72-AA72 -> 4
A73: 075268000 | B73: SKIMIUM | C73: Voile WinXtrem 640 courbe | D73: 6 | E73: 17/12/2019 | F73: Commencé | G73: IMPRESSION | H73: IMPRESSION | I73: 10000 | J73: Maille | K73: DIRECTE | L73: 547 | M73: 117 | O73: Non commencée | Q73: 00043085 | R73: 159 | S73: Faux | T73: 75 | X73: =IF(N73<>"",N73,WORKDAY(E73,-2,[1]DATA!B85:B97)) -> 43812 | Y73: =D73-P73 -> 6 | Z73: =((L73/100)*(M73/100))*Y73 -> 38.3994 | AA73: =SUMIF(PROD!C:C,A73,PROD!K:K) -> 0 | AB73: =D73-AA73 -> 6
A74: 075269000 | B74: SKIMIUM | C74: Voile WinFlag ECO 480 | D74: 4 | E74: 17/12/2019 | F74: Commencé | G74: IMPRESSION | H74: IMPRESSION | I74: 8,89 | J74: Maille | K74: DIRECTE | L74: 444.5 | M74: 79 | O74: Non commencée | Q74: 00043085 | R74: 159 | S74: Faux | T74: 44 | X74: =IF(N74<>"",N74,WORKDAY(E74,-2,[1]DATA!B86:B98)) -> 43812 | Y74: =D74-P74 -> 4 | Z74: =((L74/100)*(M74/100))*Y74 -> 14.0462 | AA74: =SUMIF(PROD!C:C,A74,PROD!K:K) -> 0 | AB74: =D74-AA74 -> 4
A75: 075279000 | B75: SKIS ROSSIGNOL SAS | C75: Toile Ht200xLrg100cm microlux | D75: 4 | E75: 17/12/2019 | F75: Commencé | G75: IMPRESSION | H75: IMPRESSION | I75: 4,16 | J75: Microlux | K75: INDIRECTE | L75: 204 | M75: 104 | O75: Non commencée | Q75: 00043096 | R75: 312 | S75: Faux | T75: 44 | U75: 200 | V75: 100 | W75: 0 | X75: =IF(N75<>"",N75,WORKDAY(E75,-2,[1]DATA!B87:B99)) -> 43812 | Y75: =D75-P75 -> 4 | Z75: =((L75/100)*(M75/100))*Y75 -> 8.4864 | AA75: =SUMIF(PROD!C:C,A75,PROD!K:K) -> 0 | AB75: =D75-AA75 -> 4
A76: 075285000 | B76: MILLET MOUNTAIN GROUP | C76: Toile microlux Ht170.00xLrg70.00cm | D76: 2 | E76: 17/12/2019 | F76: Commencé | G76: IMPRESSION | H76: IMPRESSION | I76: 1,48 | J76: Microlux | K76: INDIRECTE | L76: 172.6 | M76: 72.6 | O76: Non commencée | Q76: 00043101 | R76: 312 | S76: Faux | T76: 31 | U76: 170 | V76: 70 | X76: =IF(N76<>"",N76,WORKDAY(E76,-2,[1]DATA!B88:B100)) -> 43812 | Y76: =D76-P76 -> 2 | Z76: =((L76/100)*(M76/100))*Y76 -> 2.506152 | AA76: =SUMIF(PROD!C:C,A76,PROD!K:K) -> 0 | AB76: =D76-AA76 -> 2
A77: 075288000 | B77: ETEND'ART | C77: Pavillon maille 50.0x300.0cm recto/verso | D77: 9 | E77: 17/12/2019 | F77: Lancé en production | G77: IMPRESSION | H77: IMPRESSION | I77: 27,45 | J77: Maille | K77: DIRECTE | L77: 55 | M77: 305 | O77: Non commencée | Q77: 00043103 | R77: 159 | S77: Faux | T77: 18.5 | U77: 0 | V77: 0 | W77: 0 | X77: =IF(N77<>"",N77,WORKDAY(E77,-2,[1]DATA!B89:B101)) -> 43812 | Y77: =D77-P77 -> 9 | Z77: =((L77/100)*(M77/100))*Y77 -> 15.0975 | AA77: =SUMIF(PROD!C:C,A77,PROD!K:K) -> 0 | AB77: =D77-AA77 -> 9
A78: 075332001 | B78: DECATHLON BELGIUM | C78: Housse mediacube 48x48x48cm | D78: 6 | E78: 17/12/2019 | F78: Lancé en production | G78: IMPRESSION | H78: IMPRESSION | I78: 6,3 | J78: Polydeco | K78: DIRECTE | L78: 103 | M78: 150 | O78: Non commencée | Q78: 00043125 | R78: 160 | S78: Faux | T78: 75 | U78: 0 | V78: 0 | W78: 0 | X78: =IF(N78<>"",N78,WORKDAY(E78,-2,[1]DATA!B90:B102)) -> 43812 | Y78: =D78-P78 -> 6 | Z78: =((L78/100)*(M78/100))*Y78 -> 9.27 | AA78: =SUMIF(PROD!C:C,A78,PROD!K:K) -> 0 | AB78: =D78-AA78 -> 6
A79: 075369000 | B79: ALTAVIA PARIS | C79: Toile lumilux Ht58.00xLrg38.00cm | D79: 44 | E79: 17/12/2019 | F79: Lancé en production | G79: IMPRESSION | H79: IMPRESSION | I79: 3,78 | J79: Lumilux | K79: INDIRECTE | L79: 60.6 | M79: 40.6 | O79: Non commencée | Q79: 00043119 | R79: 317 | S79: Faux | T79: 6.75 | U79: 58 | V79: 38 | W79: 0 | X79: =IF(N79<>"",N79,WORKDAY(E79,-2,[1]DATA!B91:B103)) -> 43812 | Y79: =D79-P79 -> 44 | Z79: =((L79/100)*(M79/100))*Y79 -> 10.825584 | AA79: =SUMIF(PROD!C:C,A79,PROD!K:K) -> 0 | AB79: =D79-AA79 -> 44
A80: 074920000 | B80: ALTAVIA LILLE (promod) | C80: Toile Ht390xLrg220cm polydeco | D80: 1 | E80: 18/12/2019 | F80: Commencé | G80: IMPRESSION | H80: IMPRESSION | I80: 3,94 | J80: Polydeco | K80: DIRECTE | L80: 394 | M80: 224 | O80: Non commencée | Q80: 00042882 | R80: 307 | S80: Faux | T80: 98.35 | U80: 390 | V80: 220 | W80: 0 | X80: =IF(N80<>"",N80,WORKDAY(E80,-2,[1]DATA!B92:B104)) -> 43815 | Y80: =D80-P80 -> 1 | Z80: =((L80/100)*(M80/100))*Y80 -> 8.8256 | AA80: =SUMIF(PROD!C:C,A80,PROD!K:K) -> 0 | AB80: =D80-AA80 -> 1
A81: 074921000 | B81: ALTAVIA LILLE (promod) | C81: Toile Ht390xLrg40cm polydeco | D81: 1 | E81: 18/12/2019 | F81: Commencé | G81: IMPRESSION | H81: IMPRESSION | I81: 0,6698 | J81: Polydeco | K81: DIRECTE | L81: 394 | M81: 44 | O81: Non commencée | Q81: 00042882 | R81: 307 | S81: Faux | T81: 18 | U81: 390 | V81: 40 | W81: 0 | X81: =IF(N81<>"",N81,WORKDAY(E81,-2,[1]DATA!B93:B105)) -> 43815 | Y81: =D81-P81 -> 1 | Z81: =((L81/100)*(M81/100))*Y81 -> 1.7336 | AA81: =SUMIF(PROD!C:C,A81,PROD!K:K) -> 0 | AB81: =D81-AA81 -> 1
A82: 074943000 | B82: ALTAVIA LILLE (promod) | C82: Toile Ht290xLrg220cm polydéco | D82: 1 | E82: 18/12/2019 | F82: Commencé | G82: IMPRESSION | H82: IMPRESSION | I82: 2,24 | J82: Polydeco | K82: DIRECTE | L82: 294 | M82: 224 | N82: 06/12/2019 | O82: Non commencée | Q82: 00042883 | R82: 307 | S82: Faux | T82: 0 | U82: 290 | V82: 220 | W82: 0 | X82: =IF(N82<>"",N82,WORKDAY(E82,-2,[1]DATA!B94:B106)) -> 06/12/2019 | Y82: =D82-P82 -> 1 | Z82: =((L82/100)*(M82/100))*Y82 -> 6.5856 | AA82: =SUMIF(PROD!C:C,A82,PROD!K:K) -> 0 | AB82: =D82-AA82 -> 1
A83: 074944000 | B83: ALTAVIA LILLE (promod) | C83: Toile Ht290xLrg40cm polydéco | D83: 1 | E83: 18/12/2019 | F83: Commencé | G83: IMPRESSION | H83: IMPRESSION | I83: 0,44 | J83: Polydeco | K83: DIRECTE | L83: 294 | M83: 44 | N83: 06/12/2019 | O83: Non commencée | Q83: 00042883 | R83: 307 | S83: Faux | T83: 0 | U83: 290 | V83: 40 | W83: 0 | X83: =IF(N83<>"",N83,WORKDAY(E83,-2,[1]DATA!B95:B107)) -> 06/12/2019 | Y83: =D83-P83 -> 1 | Z83: =((L83/100)*(M83/100))*Y83 -> 1.2936 | AA83: =SUMIF(PROD!C:C,A83,PROD!K:K) -> 0 | AB83: =D83-AA83 -> 1
A84: 074950000 | B84: ALTAVIA LILLE (promod) | C84: Toile Ht225xLrg90cm polydéco | D84: 1 | E84: 18/12/2019 | F84: Commencé | G84: IMPRESSION | H84: IMPRESSION | I84: 0,94 | J84: Polydeco | K84: DIRECTE | L84: 229 | M84: 94 | N84: 06/12/2019 | O84: Non commencée | Q84: 00042883 | R84: 307 | S84: Faux | T84: 0 | U84: 225 | V84: 90 | W84: 0 | X84: =IF(N84<>"",N84,WORKDAY(E84,-2,[1]DATA!B96:B108)) -> 06/12/2019 | Y84: =D84-P84 -> 1 | Z84: =((L84/100)*(M84/100))*Y84 -> 2.1526 | AA84: =SUMIF(PROD!C:C,A84,PROD!K:K) -> 0 | AB84: =D84-AA84 -> 1
A85: 075206000 | B85: PHOTO-ME INTERNATIONAL | C85: Voile WinFlag ECO 480 | D85: 20 | E85: 18/12/2019 | F85: Commencé | G85: IMPRESSION | H85: IMPRESSION | I85: 44,45 | J85: Maille | K85: DIRECTE | L85: 444.5 | M85: 79 | O85: Non commencée | Q85: 00043058 | R85: 159 | S85: Faux | T85: 45 | X85: =IF(N85<>"",N85,WORKDAY(E85,-2,[1]DATA!B97:B109)) -> 43815 | Y85: =D85-P85 -> 20 | Z85: =((L85/100)*(M85/100))*Y85 -> 70.231 | AA85: =SUMIF(PROD!C:C,A85,PROD!K:K) -> 0 | AB85: =D85-AA85 -> 20
A86: 075289000 | B86: EIFFAGE ROUTE | C86: Voile Event Flag 350 | D86: 8 | E86: 18/12/2019 | F86: Lancé en production | G86: IMPRESSION | H86: IMPRESSION | I86: 179,2 | J86: Maille | K86: DIRECTE | L86: 280 | M86: 90 | O86: Non commencée | Q86: 00043102 | R86: 159 | S86: Faux | T86: 58 | X86: =IF(N86<>"",N86,WORKDAY(E86,-2,[1]DATA!B98:B110)) -> 43815 | Y86: =D86-P86 -> 8 | Z86: =((L86/100)*(M86/100))*Y86 -> 20.16 | AA86: =SUMIF(PROD!C:C,A86,PROD!K:K) -> 0 | AB86: =D86-AA86 -> 8
A87: 075298000 | B87: FULL ACE | C87: Toile pour Chilienne bois | D87: 5 | E87: 18/12/2019 | F87: Lancé en production | G87: IMPRESSION | H87: IMPRESSION | I87: 2,28 | J87: Polytransat | K87: INDIRECTE | L87: 135 | M87: 45.5 | O87: Non commencée | Q87: 00043112 | R87: 148 | S87: Faux | T87: 46 | X87: =IF(N87<>"",N87,WORKDAY(E87,-2,[1]DATA!B99:B111)) -> 43815 | Y87: =D87-P87 -> 5 | Z87: =((L87/100)*(M87/100))*Y87 -> 3.07125 | AA87: =SUMIF(PROD!C:C,A87,PROD!K:K) -> 0 | AB87: =D87-AA87 -> 5
A88: 075299000 | B88: DISNEY HACHETTE PRESSE | C88: Pavillon maille 100.0x150.0cm | D88: 4 | E88: 18/12/2019 | F88: Lancé en production | G88: IMPRESSION | H88: IMPRESSION | I88: 4,2 | J88: Maille | K88: DIRECTE | L88: 105 | M88: 155 | O88: Non commencée | Q88: 00043111 | R88: 159 | S88: Faux | T88: 27 | U88: 0 | V88: 0 | W88: 0 | X88: =IF(N88<>"",N88,WORKDAY(E88,-2,[1]DATA!B100:B112)) -> 43815 | Y88: =D88-P88 -> 4 | Z88: =((L88/100)*(M88/100))*Y88 -> 6.51 | AA88: =SUMIF(PROD!C:C,A88,PROD!K:K) -> 0 | AB88: =D88-AA88 -> 4
A89: 075319000 | B89: MILLET MOUNTAIN GROUP | C89: Toile Ht170xLrg100cm microlux | D89: 1 | E89: 18/12/2019 | F89: Lancé en production | G89: IMPRESSION | H89: IMPRESSION | I89: 1,04 | J89: Microlux | K89: INDIRECTE | L89: 174 | M89: 104 | O89: Non commencée | Q89: 00043115 | R89: 312 | S89: Faux | T89: 44.2 | U89: 170 | V89: 100 | W89: 0 | X89: =IF(N89<>"",N89,WORKDAY(E89,-2,[1]DATA!B101:B113)) -> 43815 | Y89: =D89-P89 -> 1 | Z89: =((L89/100)*(M89/100))*Y89 -> 1.8096 | AA89: =SUMIF(PROD!C:C,A89,PROD!K:K) -> 0 | AB89: =D89-AA89 -> 1
A90: 075321000 | B90: SAFRAN SEATS FRANCE | C90: Pavillon maille 100.0x150.0cm | D90: 34 | E90: 18/12/2019 | F90: Lancé en production | G90: IMPRESSION | H90: IMPRESSION | I90: 35,7 | J90: Maille | K90: DIRECTE | L90: 105 | M90: 155 | O90: Non commencée | Q90: 00043124 | R90: 159 | S90: Faux | T90: 23.5 | U90: 0 | V90: 0 | W90: 0 | X90: =IF(N90<>"",N90,WORKDAY(E90,-2,[1]DATA!B102:B114)) -> 43815 | Y90: =D90-P90 -> 34 | Z90: =((L90/100)*(M90/100))*Y90 -> 55.335 | AA90: =SUMIF(PROD!C:C,A90,PROD!K:K) -> 0 | AB90: =D90-AA90 -> 34
A91: 075323000 | B91: SAFRAN SEATS FRANCE | C91: Pavillon maille 100.0x150.0cm | D91: 16 | E91: 18/12/2019 | F91: Lancé en production | G91: IMPRESSION | H91: IMPRESSION | I91: 16,8 | J91: Maille | K91: DIRECTE | L91: 105 | M91: 155 | O91: Non commencée | Q91: 00043122 | R91: 159 | S91: Faux | T91: 24 | U91: 0 | V91: 0 | W91: 0 | X91: =IF(N91<>"",N91,WORKDAY(E91,-2,[1]DATA!B103:B115)) -> 43815 | Y91: =D91-P91 -> 16 | Z91: =((L91/100)*(M91/100))*Y91 -> 26.04 | AA91: =SUMIF(PROD!C:C,A91,PROD!K:K) -> 0 | AB91: =D91-AA91 -> 16
A92: 075372000 | B92: ALTAVIA LILLE (promod) | C92: Toile Ht225xLrg90cm polydéco | D92: 1 | E92: 18/12/2019 | F92: Lancé en production | G92: IMPRESSION | H92: IMPRESSION | I92: 0,94 | J92: Polydeco | K92: DIRECTE | L92: 229 | M92: 94 | O92: Non commencée | Q92: 00043148 | R92: 307 | S92: Faux | T92: 0 | U92: 225 | V92: 90 | W92: 0 | X92: =IF(N92<>"",N92,WORKDAY(E92,-2,[1]DATA!B104:B116)) -> 43815 | Y92: =D92-P92 -> 1 | Z92: =((L92/100)*(M92/100))*Y92 -> 2.1526 | AA92: =SUMIF(PROD!C:C,A92,PROD!K:K) -> 0 | AB92: =D92-AA92 -> 1
A93: 075373000 | B93: ALTAVIA LILLE (promod) | C93: Toile Ht225xLrg180cm polydéco | D93: 1 | E93: 18/12/2019 | F93: Lancé en production | G93: IMPRESSION | H93: IMPRESSION | I93: 1,84 | J93: Polydeco | K93: DIRECTE | L93: 229 | M93: 184 | O93: Non commencée | Q93: 00043148 | R93: 307 | S93: Faux | T93: 0 | U93: 225 | V93: 180 | W93: 0 | X93: =IF(N93<>"",N93,WORKDAY(E93,-2,[1]DATA!B105:B117)) -> 43815 | Y93: =D93-P93 -> 1 | Z93: =((L93/100)*(M93/100))*Y93 -> 4.2136 | AA93: =SUMIF(PROD!C:C,A93,PROD!K:K) -> 0 | AB93: =D93-AA93 -> 1
A94: 075186000 | B94: CACHE CACHE SA | C94: Toile Ht50xLrg50cm microlux | D94: 420 | E94: 19/12/2019 | F94: Commencé | G94: IMPRESSION | H94: IMPRESSION | I94: 45,36 | J94: Microlux | K94: INDIRECTE | L94: 54 | M94: 54 | N94: 13/12/2019 | O94: Non commencée | Q94: 00043049 | R94: 312 | S94: Faux | T94: 5.2 | U94: 50 | V94: 50 | W94: 0 | X94: =IF(N94<>"",N94,WORKDAY(E94,-2,[1]DATA!B106:B118)) -> 13/12/2019 | Y94: =D94-P94 -> 420 | Z94: =((L94/100)*(M94/100))*Y94 -> 122.472 | AA94: =SUMIF(PROD!C:C,A94,PROD!K:K) -> 0 | AB94: =D94-AA94 -> 420
A95: 075307000 | B95: TAAG ACCESSORIES | C95: Voile WinFlag ECO 350 | D95: 10 | E95: 19/12/2019 | F95: Lancé en production | G95: IMPRESSION | H95: IMPRESSION | I95: 15,73 | J95: Maille | K95: DIRECTE | L95: 314.5 | M95: 79 | O95: Non commencée | Q95: 00043113 | R95: 159 | S95: Faux | T95: 40 | X95: =IF(N95<>"",N95,WORKDAY(E95,-2,[1]DATA!B107:B119)) -> 43816 | Y95: =D95-P95 -> 10 | Z95: =((L95/100)*(M95/100))*Y95 -> 24.8455 | AA95: =SUMIF(PROD!C:C,A95,PROD!K:K) -> 0 | AB95: =D95-AA95 -> 10
A96: 075322000 | B96: BK EVENT | C96: Voile WinFlag ECO 480 | D96: 4 | E96: 19/12/2019 | F96: Lancé en production | G96: IMPRESSION | H96: IMPRESSION | I96: 8,89 | J96: Maille | K96: DIRECTE | L96: 444.5 | M96: 79 | O96: Non commencée | Q96: 00043123 | R96: 159 | S96: Faux | T96: 60 | X96: =IF(N96<>"",N96,WORKDAY(E96,-2,[1]DATA!B108:B120)) -> 43816 | Y96: =D96-P96 -> 4 | Z96: =((L96/100)*(M96/100))*Y96 -> 14.0462 | AA96: =SUMIF(PROD!C:C,A96,PROD!K:K) -> 0 | AB96: =D96-AA96 -> 4
A97: 075334000 | B97: QUALIT'IMPRIM | C97: Voile WinFlag 350 | D97: 2 | E97: 19/12/2019 | F97: Lancé en production | G97: IMPRESSION | H97: IMPRESSION | I97: 6,29 | J97: Maille | K97: DIRECTE | L97: 314.5 | M97: 104.5 | O97: Non commencée | Q97: 00043131 | R97: 159 | S97: Faux | T97: 48 | X97: =IF(N97<>"",N97,WORKDAY(E97,-2,[1]DATA!B109:B121)) -> 43816 | Y97: =D97-P97 -> 2 | Z97: =((L97/100)*(M97/100))*Y97 -> 6.57305 | AA97: =SUMIF(PROD!C:C,A97,PROD!K:K) -> 0 | AB97: =D97-AA97 -> 2
A98: 075352000 | B98: AFFLELOU | C98: Toile lumilux Ht80.00xLrg80.00cm | D98: 1 | E98: 19/12/2019 | F98: Lancé en production | G98: IMPRESSION | H98: IMPRESSION | I98: 0,84 | J98: Lumilux | K98: INDIRECTE | L98: 82.6 | M98: 82.6 | O98: Non commencée | Q98: 00043142 | R98: 317 | S98: Faux | T98: 0 | U98: 80 | V98: 80 | X98: =IF(N98<>"",N98,WORKDAY(E98,-2,[1]DATA!B110:B122)) -> 43816 | Y98: =D98-P98 -> 1 | Z98: =((L98/100)*(M98/100))*Y98 -> 0.682276 | AA98: =SUMIF(PROD!C:C,A98,PROD!K:K) -> 0 | AB98: =D98-AA98 -> 1
A99: 075353000 | B99: AFFLELOU | C99: Toile lumilux Ht140.00xLrg140.00cm | D99: 1 | E99: 19/12/2019 | F99: Lancé en production | G99: IMPRESSION | H99: IMPRESSION | I99: 1,44 | J99: Lumilux | K99: INDIRECTE | L99: 142.6 | M99: 142.6 | O99: Non commencée | Q99: 00043142 | R99: 317 | S99: Faux | T99: 0 | U99: 140 | V99: 140 | X99: =IF(N99<>"",N99,WORKDAY(E99,-2,[1]DATA!B111:B123)) -> 43816 | Y99: =D99-P99 -> 1 | Z99: =((L99/100)*(M99/100))*Y99 -> 2.033476 | AA99: =SUMIF(PROD!C:C,A99,PROD!K:K) -> 0 | AB99: =D99-AA99 -> 1
A100: 075354000 | B100: AFFLELOU | C100: Toile lumilux Ht185.00xLrg140.00cm | D100: 2 | E100: 19/12/2019 | F100: Lancé en production | G100: IMPRESSION | H100: IMPRESSION | I100: 1,89 | J100: Lumilux | K100: INDIRECTE | L100: 187.6 | M100: 142.6 | O100: Non commencée | Q100: 00043142 | R100: 317 | S100: Faux | T100: 0 | U100: 185 | V100: 140 | X100: =IF(N100<>"",N100,WORKDAY(E100,-2,[1]DATA!B112:B124)) -> 43816 | Y100: =D100-P100 -> 2 | Z100: =((L100/100)*(M100/100))*Y100 -> 5.350352 | AA100: =SUMIF(PROD!C:C,A100,PROD!K:K) -> 0 | AB100: =D100-AA100 -> 2
A101: 075355000 | B101: AFFLELOU | C101: Toile lumilux Ht198.50xLrg102.00cm | D101: 2 | E101: 19/12/2019 | F101: Lancé en production | G101: IMPRESSION | H101: IMPRESSION | I101: 2,03 | J101: Lumilux | K101: INDIRECTE | L101: 201.1 | M101: 104.6 | O101: Non commencée | Q101: 00043142 | R101: 317 | S101: Faux | T101: 0 | U101: 198,5 | V101: 102 | X101: =IF(N101<>"",N101,WORKDAY(E101,-2,[1]DATA!B113:B125)) -> 43816 | Y101: =D101-P101 -> 2 | Z101: =((L101/100)*(M101/100))*Y101 -> 4.207012 | AA101: =SUMIF(PROD!C:C,A101,PROD!K:K) -> 0 | AB101: =D101-AA101 -> 2
A102: 075356000 | B102: AFFLELOU | C102: Toile lumilux Ht110.00xLrg41.00cm | D102: 1 | E102: 19/12/2019 | F102: Lancé en production | G102: IMPRESSION | H102: IMPRESSION | I102: 0,45 | J102: Lumilux | K102: INDIRECTE | L102: 112.6 | M102: 43.6 | O102: Non commencée | Q102: 00043142 | R102: 317 | S102: Faux | T102: 0 | U102: 110 | V102: 41 | X102: =IF(N102<>"",N102,WORKDAY(E102,-2,[1]DATA!B114:B126)) -> 43816 | Y102: =D102-P102 -> 1 | Z102: =((L102/100)*(M102/100))*Y102 -> 0.490936 | AA102: =SUMIF(PROD!C:C,A102,PROD!K:K) -> 0 | AB102: =D102-AA102 -> 1
A103: 075357000 | B103: AFFLELOU | C103: Toile lumilux Ht160.00xLrg60.00cm | D103: 1 | E103: 19/12/2019 | F103: Lancé en production | G103: IMPRESSION | H103: IMPRESSION | I103: 0,64 | J103: Lumilux | K103: INDIRECTE | L103: 162.6 | M103: 62.6 | O103: Non commencée | Q103: 00043142 | R103: 317 | S103: Faux | T103: 0 | U103: 160 | V103: 60 | X103: =IF(N103<>"",N103,WORKDAY(E103,-2,[1]DATA!B115:B127)) -> 43816 | Y103: =D103-P103 -> 1 | Z103: =((L103/100)*(M103/100))*Y103 -> 1.017876 | AA103: =SUMIF(PROD!C:C,A103,PROD!K:K) -> 0 | AB103: =D103-AA103 -> 1
A104: 075358000 | B104: AFFLELOU | C104: Toile lumilux Ht213.00xLrg80.00cm | D104: 1 | E104: 19/12/2019 | F104: Lancé en production | G104: IMPRESSION | H104: IMPRESSION | I104: 0,84 | J104: Lumilux | K104: INDIRECTE | L104: 215.6 | M104: 82.6 | O104: Non commencée | Q104: 00043142 | R104: 317 | S104: Faux | T104: 0 | U104: 213 | V104: 80 | X104: =IF(N104<>"",N104,WORKDAY(E104,-2,[1]DATA!B116:B128)) -> 43816 | Y104: =D104-P104 -> 1 | Z104: =((L104/100)*(M104/100))*Y104 -> 1.780856 | AA104: =SUMIF(PROD!C:C,A104,PROD!K:K) -> 0 | AB104: =D104-AA104 -> 1
A105: 075082000 | B105: ROUGEGORGE | C105: Toile Ht310.0xLrg180.0cm lumilux | D105: 3 | E105: 20/12/2019 | F105: Commencé | G105: IMPRESSION | H105: IMPRESSION | I105: 5,52 | J105: Lumilux | K105: INDIRECTE | L105: 314 | M105: 184 | O105: Non commencée | Q105: 00042974 | R105: 317 | S105: Faux | T105: 89 | U105: 310 | V105: 180 | W105: 0 | X105: =IF(N105<>"",N105,WORKDAY(E105,-2,[1]DATA!B117:B129)) -> 43817 | Y105: =D105-P105 -> 3 | Z105: =((L105/100)*(M105/100))*Y105 -> 17.3328 | AA105: =SUMIF(PROD!C:C,A105,PROD!K:K) -> 0 | AB105: =D105-AA105 -> 3
A106: 075083000 | B106: ROUGEGORGE | C106: Toile Ht257.0xLrg120.0cm lumilux | D106: 20 | E106: 20/12/2019 | F106: Commencé | G106: IMPRESSION | H106: IMPRESSION | I106: 24,8 | J106: Lumilux | K106: INDIRECTE | L106: 261 | M106: 124 | O106: Non commencée | Q106: 00042974 | R106: 317 | S106: Faux | T106: 50 | U106: 257 | V106: 120 | W106: 0 | X106: =IF(N106<>"",N106,WORKDAY(E106,-2,[1]DATA!B118:B130)) -> 43817 | Y106: =D106-P106 -> 20 | Z106: =((L106/100)*(M106/100))*Y106 -> 64.728 | AA106: =SUMIF(PROD!C:C,A106,PROD!K:K) -> 0 | AB106: =D106-AA106 -> 20
...
