Workbook

Sheet Liste
A1: ACTION | B1: TARIFS
A2: RECOUCHE | B2: 5.1
A3: LINGE | B3: 6.12
A4: A BLANC | B4: 9.38
A5: COMMUN | B5: 20.4

Sheet MODELE
B1: CHAMBRE HOTELLERIE
B2: 43829 | D2: 43830 | F2: 43831 | H2: 43832 | J2: 43833 | L2: 43834 | N2: 43835
B3: ACTION | C3: LINGE | D3: ACTION | E3: LINGE | F3: ACTION | G3: LINGE | H3: ACTION | I3: LINGE | J3: ACTION | K3: LINGE | L3: ACTION | M3: LINGE | N3: ACTION | O3: LINGE
A4: CH 01 | B4: RECOUCHE
A5: CH 02 | B5: A BLANC | C5: LINGE
A6: CH 03
A7: CH 04 | B7: RECOUCHE
A8: CH 05 | B8: A BLANC
A9: CH 06 | B9: RECOUCHE
A10: CH 07 | B10: RECOUCHE
A11: CH 08
A12: CH 09
A13: CH 10
A14: CH 11
A15: CH 12
A16: CH 13
A17: RECOUCHE | B17: =SUMIF(B4:B16,"RECOUCHE",Liste!B2) -> 25.5 | D17: =SUMIF(D4:D16,"RECOUCHE",Liste!D2) -> 0 | F17: =SUMIF(F4:F16,"RECOUCHE",Liste!F2) -> 0 | H17: =SUMIF(H4:H16,"RECOUCHE",Liste!H2) -> 0 | J17: =SUMIF(J4:J16,"RECOUCHE",Liste!J2) -> 0 | L17: =SUMIF(L4:L16,"RECOUCHE",Liste!L2) -> 0 | N17: =SUMIF(N4:N16,"RECOUCHE",Liste!N2) -> 0
A18: A BLANC | B18: =SUMIF(B4:B16,"A BLANC",Liste!B4) -> 20.4 | D18: =SUMIF(D4:D16,"A BLANC",Liste!D4) -> 0 | F18: =SUMIF(F4:F16,"A BLANC",Liste!F4) -> 0 | H18: =SUMIF(H4:H16,"A BLANC",Liste!H4) -> 0 | J18: =SUMIF(J4:J16,"A BLANC",Liste!J4) -> 0 | L18: =SUMIF(L4:L16,"A BLANC",Liste!L4) -> 0 | N18: =SUMIF(N4:N16,"A BLANC",Liste!N4) -> 0
A19: LINGE | B19: =SUMIF(C4:C16,"LINGE",Liste!B2) -> 6.12 | D19: =SUMIF(E4:E16,"LINGE",Liste!D3) -> 0 | F19: =SUMIF(G4:G16,"LINGE",Liste!F3) -> 0 | H19: =SUMIF(I4:I16,"LINGE",Liste!H3) -> 0 | J19: =SUMIF(K4:K16,"LINGE",Liste!J3) -> 0 | L19: =SUMIF(M4:M16,"LINGE",Liste!L3) -> 0 | N19: =SUMIF(O4:O16,"LINGE",Liste!N3) -> 0
A20: COMMUN | B20: =+Liste!B5 -> 20.4 | D20: 20.4
A21: TOTAL HT | B21: =+B17+B18+B19+B20 -> 72.42 | D21: =+D17+D18+D19+D20 -> 20.4 | F21: =+F17+F18+F19+F20 -> 0 | H21: =+H17+H18+H19+H20 -> 0 | J21: =+J17+J18+J19+J20 -> 0 | L21: =+L17+L18+L19+L20 -> 0 | N21: =+N17+N18+N19+N20 -> 0
A22: TVA 20% | B22: =+B21*20% -> 14.484 | D22: =+D21*20% -> 4.08 | F22: =+F21*20% -> 0 | H22: =+H21*20% -> 0 | J22: =+J21*20% -> 0 | L22: =+L21*20% -> 0 | N22: =+N21*20% -> 0
A23: TOTAL TTC | B23: =+B21+B22 -> 86.904 | D23: =+D21+D22 -> 24.48 | F23: =+F21+F22 -> 0 | H23: =+H21+H22 -> 0 | J23: =+J21+J22 -> 0 | L23: =+L21+L22 -> 0 | N23: =+N21+N22 -> 0
