Workbook

Sheet Feuil1
A1: Horodateur | B1: Référence de dossier indiquée sur la fiche de pré-visite | C1: Votre adresse mail | D1: Votre Nom & Prénom | E1: Votre PF | F1: Sur quelle famille de produit souhaitez vous apporter des précisions ? | G1: CODIC 1 | H1: Spécificités installation | I1: Longueur eau (Familles MLE) | J1: Longueur vidange (Familles MLE) | K1: Commentaires | L1: Avez-vous des précisions sur une autre famille de produits ou même famille autre CODIC ? | M1: Longueur eau (Familles ASL) | N1: Longueur vidange (Familles ASL) | O1: Commentaires | P1: Avez-vous des précisions sur une autre famille de produits ou même famille autre CODIC ? | Q1: Longueur eau (Familles MLV) | R1: Longueur vidange (Familles MLV) | S1: Commentaires | T1: Avez-vous des précisions sur une autre famille de produits ou même famille autre CODIC ? | U1: Type de prise (Familles MO) | V1: Accès prise (Familles MO) | W1: Commentaires | X1: Avez-vous des précisions sur une autre famille de produits ou même famille autre CODIC ? | Y1: Type de prise (Familles TC) | Z1: TC câblée ? (Familles TC) | AA1: Commentaires | AB1: Avez-vous des précisions sur une autre famille de produits ou même famille autre CODIC ? | AC1: Type de prise (Familles HOTTE) | AD1: Accès prise (Familles HOTTE) | AE1: Commentaires | AF1: Avez-vous des précisions sur une autre famille de produits ou même famille autre CODIC ? | AG1: Longueur antenne (Familles TVLCD) | AH1: Mode hôtel (Familles TVLCD) | AI1: Commentaires | AJ1: Avez-vous des précisions sur une autre famille de produits ou même famille autre CODIC ? | AK1: Support de fixation | AL1: Type de mur | AM1: Commentaires | AN1: Avez-vous des précisions sur une autre famille de produits ou même famille autre CODIC ? | AO1: Sur quelle famille de produit souhaitez vous apporter des précisions ? | AP1: CODIC 2 | AQ1: Spécificités installation | AR1: Longueur eau (Familles MLE) | AS1: Longueur vidange (Familles MLE) | AT1: Commentaires | AU1: Avez-vous des précisions sur une autre famille de produits ou même famille autre CODIC ? | AV1: Longueur eau (Familles ASL) | AW1: Longueur vidange (Familles ASL) | AX1: Commentaires | AY1: Avez-vous des précisions sur une autre famille de produits ou même famille autre CODIC ? | AZ1: Longueur eau (Familles MLV) | BA1: Longueur vidange (Familles MLV) | BB1: Commentaires | BC1: Avez-vous des précisions sur une autre famille de produits ou même famille autre CODIC ? | BD1: Type de prise (Familles MO) | BE1: Accès prise (Familles MO) | BF1: Commentaires | BG1: Avez-vous des précisions sur une autre famille de produits ou même famille autre CODIC ? | BH1: Type de prise (Familles TC) | BI1: TC câblée ? (Familles TC) | BJ1: Commentaires | BK1: Avez-vous des précisions sur une autre famille de produits ou même famille autre CODIC ? | BL1: Type de prise (Familles HOTTE) | BM1: Accès prise (Familles HOTTE) | BN1: Commentaires | BO1: Avez-vous des précisions sur une autre famille de produits ou même famille autre CODIC ? | BP1: Longueur antenne (Familles TVLCD) | BQ1: Mode hôtel (Familles TVLCD) | BR1: Commentaires | BS1: Avez-vous des précisions sur une autre famille de produits ou même famille autre CODIC ? | BT1: Support de fixation | BU1: Type de mur | BV1: Commentaires | BW1: Avez-vous des précisions sur une autre famille de produits ou même famille autre CODIC ? | BX1: Date de livraison et installation fixée | BY1: Nom du contact sur le chantier | BZ1: Numéro de téléphone contact sur le chantier | CA1: Contraintes horaires | CB1: Locaux sécurisés ? | CC1: Réception volumique sur PF impossible prévoir semi direct sur le chantier | CD1: Accès possible en semi-remorque | CE1: Plan fourni | CF1: Ascenseur ou monte-charge | CG1: Nombre de bâtiments | CH1: Nombre d'étages | CI1: Nombre d'apt par étage | CJ1: Hayon indispensable | CK1: Prévoir transpalette | CL1: Prévoir diable | CM1: Prévoir benne | CN1: Remarques à transmettre à l'équipe B2B
A2: 44736.606 | B2: 1-6987654 | C2: nico@darty.fr | D2: Nico | E2: AMIENS | F2: MLE | G2: 7651552 | H2: Longueur eau (Familles MLE) | I2: 90 | J2: 110 | K2: AUCUN | L2: OUI | AO2: ASL | AP2: 8919871 | AQ2: Longueur eau (Familles ASL) | AV2: 76 | AW2: 400 | AX2: RAS | AY2: NON | BX2: 44737 | BY2: MR DUPONT | BZ2: 675432415 | CA2: uniquement le mercredi de 8h à 18h | CB2: OUI | CC2: OUI | CD2: OUI | CE2: OUI | CF2: OUI | CG2: 5 | CH2: 4 | CI2: 60 | CJ2: OUI | CK2: OUI | CL2: OUI | CM2: NON | CN2: aucune remarque

Sheet Feuil2
A1: Horodateur | B1: =HLOOKUP(A1,Feuil1!$1:$2,2,FALSE) -> 44736.606
A2: Référence de dossier indiquée sur la fiche de pré-visite | B2: =HLOOKUP(A2,Feuil1!$1:$2,2,FALSE) -> 1-6987654
A3: Votre adresse mail | B3: =HLOOKUP(A3,Feuil1!$1:$2,2,FALSE) -> nico@darty.fr
A4: Votre Nom & Prénom | B4: =HLOOKUP(A4,Feuil1!$1:$2,2,FALSE) -> Nico
A5: Votre PF | B5: =HLOOKUP(A5,Feuil1!$1:$2,2,FALSE) -> AMIENS
A6: Sur quelle famille de produit souhaitez vous apporter des précisions ? | B6: =HLOOKUP(A6,Feuil1!$1:$2,2,FALSE) -> MLE
A7: CODIC 1 | B7: =HLOOKUP(A7,Feuil1!$1:$2,2,FALSE) -> 7651552
A8: Spécificités installation | B8: =HLOOKUP(A8,Feuil1!$1:$2,2,FALSE) -> Longueur eau (Familles MLE)
A9: Longueur eau (Familles MLE) | B9: =HLOOKUP(A9,Feuil1!$1:$2,2,FALSE) -> 90
A10: Longueur vidange (Familles MLE) | B10: =HLOOKUP(A10,Feuil1!$1:$2,2,FALSE) -> 110
A11: Commentaires | B11: =HLOOKUP(A11,Feuil1!$1:$2,2,FALSE) -> AUCUN
A12: Avez-vous des précisions sur une autre famille de produits ou même famille autre CODIC ? | B12: =HLOOKUP(A12,Feuil1!$1:$2,2,FALSE) -> OUI
... A92: Remarques à transmettre à l'équipe B2B | B92: =HLOOKUP(A92,Feuil1!$1:$2,2,FALSE) -> aucune remarque
