Workbook
Name __DAT11: '[1]liste client avec zone PR'!#REF!
Name __DAT11: '[1]liste client avec zone PR'!#REF!
Name __DAT11: '[1]liste client avec zone PR'!#REF!
Name __DAT12: '[1]liste client avec zone PR'!#REF!
Name __DAT12: '[1]liste client avec zone PR'!#REF!
Name __DAT12: '[1]liste client avec zone PR'!#REF!
Name __DAT14: '[2]liste client avec zone PR'!#REF!
Name __DAT14: '[2]liste client avec zone PR'!#REF!
Name __DAT14: '[2]liste client avec zone PR'!#REF!
Name __DAT15: '[1]liste client avec zone PR'!#REF!
Name __DAT15: '[1]liste client avec zone PR'!#REF!
Name __DAT15: '[1]liste client avec zone PR'!#REF!
Name __DAT16: '[1]liste client avec zone PR'!#REF!
Name __DAT16: '[1]liste client avec zone PR'!#REF!
Name __DAT16: '[1]liste client avec zone PR'!#REF!
Name __DAT17: '[1]liste client avec zone PR'!#REF!
Name __DAT17: '[1]liste client avec zone PR'!#REF!
Name __DAT17: '[1]liste client avec zone PR'!#REF!
Name __DAT18: '[1]liste client avec zone PR'!#REF!
Name __DAT18: '[1]liste client avec zone PR'!#REF!
Name __DAT18: '[1]liste client avec zone PR'!#REF!
Name __DAT19: '[2]liste client avec zone PR'!#REF!
Name __DAT19: '[2]liste client avec zone PR'!#REF!
Name __DAT19: '[2]liste client avec zone PR'!#REF!
Name __DAT20: '[2]liste client avec zone PR'!#REF!
Name __DAT20: '[2]liste client avec zone PR'!#REF!
Name __DAT20: '[2]liste client avec zone PR'!#REF!
Name __DAT21: '[2]liste client avec zone PR'!#REF!
Name __DAT21: '[2]liste client avec zone PR'!#REF!
Name __DAT21: '[2]liste client avec zone PR'!#REF!
Name __DAT22: '[2]liste client avec zone PR'!#REF!
Name __DAT22: '[2]liste client avec zone PR'!#REF!
Name __DAT22: '[2]liste client avec zone PR'!#REF!
Name __DAT23: '[2]liste client avec zone PR'!#REF!
Name __DAT23: '[2]liste client avec zone PR'!#REF!
Name __DAT23: '[2]liste client avec zone PR'!#REF!
Name _2nd_YearHM: #REF!
Name _2nd_YearHM: #REF!
Name _2nd_YearHM: #REF!
Name _3rd_YearHM: #REF!
Name _3rd_YearHM: #REF!
Name _3rd_YearHM: #REF!
Name _DAT1: #REF!
Name _DAT1: #REF!
Name _DAT1: #REF!
Name _DAT10: #REF!
Name _DAT10: #REF!
Name _DAT10: #REF!
Name _DAT11: '[1]liste client avec zone PR'!#REF!
Name _DAT11: '[1]liste client avec zone PR'!#REF!
Name _DAT11: '[1]liste client avec zone PR'!#REF!
Name _DAT12: '[1]liste client avec zone PR'!#REF!
Name _DAT12: '[1]liste client avec zone PR'!#REF!
Name _DAT12: '[1]liste client avec zone PR'!#REF!
Name _DAT13: #REF!
Name _DAT13: #REF!
Name _DAT13: #REF!
Name _DAT14: '[2]liste client avec zone PR'!#REF!
Name _DAT14: '[2]liste client avec zone PR'!#REF!
Name _DAT14: '[2]liste client avec zone PR'!#REF!

Sheet MBE
E2: PROJECT (country}: | K2: CMU | L2: 1
E3: Maintenance Budget Estimation: | N3: years
E4: Yearly Production Hours: | N4: hours
E5: MBE NR. | O5: date: | P5: 17.08.2017
C8: Scheduled maintenance parts (ISO13306) | E8: Y1 | F8: Y2 | G8: Y3 | H8: Y4 | I8: Y5 | J8: Y6 | K8: Y7 | L8: Y8 | M8: Y9 | N8: Y10 | O8: Yearly average
A9: Country | B9: CMU | D9: =IFERROR(INDEX(details!E7:E239,MATCH(MBE!#REF!,details!A7:A239),0),"") | E9: =VLOOKUP(C9,details!$A$7:$AF$1000,5,0)*$L$2 -> #N/A | F9: =VLOOKUP(C9,details!$A$7:$AF$1000,8,0)*$L$2 -> #N/A | G9: =VLOOKUP(C9,details!$A$7:$AF$1000,11,0)*$L$2 -> #N/A | H9: =VLOOKUP(C9,details!$A$7:$AF$1000,14,0)*$L$2 -> #N/A | I9: =VLOOKUP(C9,details!$A$7:$AF$1000,17,0)*$L$2 -> #N/A | J9: =VLOOKUP(C9,details!$A$7:$AF$1000,20,0)*$L$2 -> #N/A | K9: =VLOOKUP(C9,details!$A$7:$AF$1000,23,0)*$L$2 -> #N/A | L9: =VLOOKUP(C9,details!$A$7:$AF$1000,26,0)*$L$2 -> #N/A | M9: =VLOOKUP(C9,details!$A$7:$AF$1000,29,0)*$L$2 -> #N/A | N9: =VLOOKUP(C9,details!$A$7:$AF$1000,32,0)*$L$2 -> #N/A | O9: =AVERAGE(D9:M9) -> #N/A
A10: Afghanistan | B10: 1,35 | E10: =VLOOKUP(C10,details!$A$7:$AF$1000,5,0)*$L$2 -> #N/A | F10: =VLOOKUP(C10,details!$A$7:$AF$1000,8,0)*$L$2 -> #N/A | G10: =VLOOKUP(C10,details!$A$7:$AF$1000,11,0)*$L$2 -> #N/A | H10: =VLOOKUP(C10,details!$A$7:$AF$1000,14,0)*$L$2 -> #N/A | I10: =VLOOKUP(C10,details!$A$7:$AF$1000,17,0)*$L$2 -> #N/A | J10: =VLOOKUP(C10,details!$A$7:$AF$1000,20,0)*$L$2 -> #N/A | K10: =VLOOKUP(C10,details!$A$7:$AF$1000,23,0)*$L$2 -> #N/A | L10: =VLOOKUP(C10,details!$A$7:$AF$1000,26,0)*$L$2 -> #N/A | M10: =VLOOKUP(C10,details!$A$7:$AF$1000,29,0)*$L$2 -> #N/A | N10: =VLOOKUP(C10,details!$A$7:$AF$1000,32,0)*$L$2 -> #N/A | O10: =AVERAGE(D10:M10) -> #N/A
A11: Albania | B11: 1,12 | E11: =VLOOKUP(C11,details!$A$7:$AF$1000,5,0)*$L$2 -> #N/A | F11: =VLOOKUP(C11,details!$A$7:$AF$1000,8,0)*$L$2 -> #N/A | G11: =VLOOKUP(C11,details!$A$7:$AF$1000,11,0)*$L$2 -> #N/A | H11: =VLOOKUP(C11,details!$A$7:$AF$1000,14,0)*$L$2 -> #N/A | I11: =VLOOKUP(C11,details!$A$7:$AF$1000,17,0)*$L$2 -> #N/A | J11: =VLOOKUP(C11,details!$A$7:$AF$1000,20,0)*$L$2 -> #N/A | K11: =VLOOKUP(C11,details!$A$7:$AF$1000,23,0)*$L$2 -> #N/A | L11: =VLOOKUP(C11,details!$A$7:$AF$1000,26,0)*$L$2 -> #N/A | M11: =VLOOKUP(C11,details!$A$7:$AF$1000,29,0)*$L$2 -> #N/A | N11: =VLOOKUP(C11,details!$A$7:$AF$1000,32,0)*$L$2 -> #N/A | O11: =AVERAGE(D11:M11) -> #N/A
A12: Algeria | B12: 1,16 | E12: =VLOOKUP(C12,details!$A$7:$AF$1000,5,0)*$L$2 -> #N/A | F12: =VLOOKUP(C12,details!$A$7:$AF$1000,8,0)*$L$2 -> #N/A | G12: =VLOOKUP(C12,details!$A$7:$AF$1000,11,0)*$L$2 -> #N/A | H12: =VLOOKUP(C12,details!$A$7:$AF$1000,14,0)*$L$2 -> #N/A | I12: =VLOOKUP(C12,details!$A$7:$AF$1000,17,0)*$L$2 -> #N/A | J12: =VLOOKUP(C12,details!$A$7:$AF$1000,20,0)*$L$2 -> #N/A | K12: =VLOOKUP(C12,details!$A$7:$AF$1000,23,0)*$L$2 -> #N/A | L12: =VLOOKUP(C12,details!$A$7:$AF$1000,26,0)*$L$2 -> #N/A | M12: =VLOOKUP(C12,details!$A$7:$AF$1000,29,0)*$L$2 -> #N/A | N12: =VLOOKUP(C12,details!$A$7:$AF$1000,32,0)*$L$2 -> #N/A | O12: =AVERAGE(D12:M12) -> #N/A
A13: American Samoa | B13: 1,12 | E13: =VLOOKUP(C13,details!$A$7:$AF$1000,5,0)*$L$2 -> #N/A | F13: =VLOOKUP(C13,details!$A$7:$AF$1000,8,0)*$L$2 -> #N/A | G13: =VLOOKUP(C13,details!$A$7:$AF$1000,11,0)*$L$2 -> #N/A | H13: =VLOOKUP(C13,details!$A$7:$AF$1000,14,0)*$L$2 -> #N/A | I13: =VLOOKUP(C13,details!$A$7:$AF$1000,17,0)*$L$2 -> #N/A | J13: =VLOOKUP(C13,details!$A$7:$AF$1000,20,0)*$L$2 -> #N/A | K13: =VLOOKUP(C13,details!$A$7:$AF$1000,23,0)*$L$2 -> #N/A | L13: =VLOOKUP(C13,details!$A$7:$AF$1000,26,0)*$L$2 -> #N/A | M13: =VLOOKUP(C13,details!$A$7:$AF$1000,29,0)*$L$2 -> #N/A | N13: =VLOOKUP(C13,details!$A$7:$AF$1000,32,0)*$L$2 -> #N/A | O13: =AVERAGE(D13:M13) -> #N/A
A14: Andorra | B14: 1,00 | E14: =VLOOKUP(C14,details!$A$7:$AF$1000,5,0)*$L$2 -> #N/A | F14: =VLOOKUP(C14,details!$A$7:$AF$1000,8,0)*$L$2 -> #N/A | G14: =VLOOKUP(C14,details!$A$7:$AF$1000,11,0)*$L$2 -> #N/A | H14: =VLOOKUP(C14,details!$A$7:$AF$1000,14,0)*$L$2 -> #N/A | I14: =VLOOKUP(C14,details!$A$7:$AF$1000,17,0)*$L$2 -> #N/A | J14: =VLOOKUP(C14,details!$A$7:$AF$1000,20,0)*$L$2 -> #N/A | K14: =VLOOKUP(C14,details!$A$7:$AF$1000,23,0)*$L$2 -> #N/A | L14: =VLOOKUP(C14,details!$A$7:$AF$1000,26,0)*$L$2 -> #N/A | M14: =VLOOKUP(C14,details!$A$7:$AF$1000,29,0)*$L$2 -> #N/A | N14: =VLOOKUP(C14,details!$A$7:$AF$1000,32,0)*$L$2 -> #N/A | O14: =AVERAGE(D14:M14) -> #N/A
A15: Angola | B15: 1,16 | E15: =VLOOKUP(C15,details!$A$7:$AF$1000,5,0)*$L$2 -> #N/A | F15: =VLOOKUP(C15,details!$A$7:$AF$1000,8,0)*$L$2 -> #N/A | G15: =VLOOKUP(C15,details!$A$7:$AF$1000,11,0)*$L$2 -> #N/A | H15: =VLOOKUP(C15,details!$A$7:$AF$1000,14,0)*$L$2 -> #N/A | I15: =VLOOKUP(C15,details!$A$7:$AF$1000,17,0)*$L$2 -> #N/A | J15: =VLOOKUP(C15,details!$A$7:$AF$1000,20,0)*$L$2 -> #N/A | K15: =VLOOKUP(C15,details!$A$7:$AF$1000,23,0)*$L$2 -> #N/A | L15: =VLOOKUP(C15,details!$A$7:$AF$1000,26,0)*$L$2 -> #N/A | M15: =VLOOKUP(C15,details!$A$7:$AF$1000,29,0)*$L$2 -> #N/A | N15: =VLOOKUP(C15,details!$A$7:$AF$1000,32,0)*$L$2 -> #N/A | O15: =AVERAGE(D15:M15) -> #N/A
A16: Anguilla | B16: 1,33 | E16: =VLOOKUP(C16,details!$A$7:$AF$1000,5,0)*$L$2 -> #N/A | F16: =VLOOKUP(C16,details!$A$7:$AF$1000,8,0)*$L$2 -> #N/A | G16: =VLOOKUP(C16,details!$A$7:$AF$1000,11,0)*$L$2 -> #N/A | H16: =VLOOKUP(C16,details!$A$7:$AF$1000,14,0)*$L$2 -> #N/A | I16: =VLOOKUP(C16,details!$A$7:$AF$1000,17,0)*$L$2 -> #N/A | J16: =VLOOKUP(C16,details!$A$7:$AF$1000,20,0)*$L$2 -> #N/A | K16: =VLOOKUP(C16,details!$A$7:$AF$1000,23,0)*$L$2 -> #N/A | L16: =VLOOKUP(C16,details!$A$7:$AF$1000,26,0)*$L$2 -> #N/A | M16: =VLOOKUP(C16,details!$A$7:$AF$1000,29,0)*$L$2 -> #N/A | N16: =VLOOKUP(C16,details!$A$7:$AF$1000,32,0)*$L$2 -> #N/A | O16: =AVERAGE(D16:M16) -> #N/A
A17: Antarctica | B17: 1,15 | E17: =VLOOKUP(C17,details!$A$7:$AF$1000,5,0)*$L$2 -> #N/A | F17: =VLOOKUP(C17,details!$A$7:$AF$1000,8,0)*$L$2 -> #N/A | G17: =VLOOKUP(C17,details!$A$7:$AF$1000,11,0)*$L$2 -> #N/A | H17: =VLOOKUP(C17,details!$A$7:$AF$1000,14,0)*$L$2 -> #N/A | I17: =VLOOKUP(C17,details!$A$7:$AF$1000,17,0)*$L$2 -> #N/A | J17: =VLOOKUP(C17,details!$A$7:$AF$1000,20,0)*$L$2 -> #N/A | K17: =VLOOKUP(C17,details!$A$7:$AF$1000,23,0)*$L$2 -> #N/A | L17: =VLOOKUP(C17,details!$A$7:$AF$1000,26,0)*$L$2 -> #N/A | M17: =VLOOKUP(C17,details!$A$7:$AF$1000,29,0)*$L$2 -> #N/A | N17: =VLOOKUP(C17,details!$A$7:$AF$1000,32,0)*$L$2 -> #N/A | O17: =AVERAGE(D17:M17) -> #N/A
A18: Antigua and Barbuda | B18: 1,33 | E18: =VLOOKUP(C18,details!$A$7:$AF$1000,5,0)*$L$2 -> #N/A | F18: =VLOOKUP(C18,details!$A$7:$AF$1000,8,0)*$L$2 -> #N/A | G18: =VLOOKUP(C18,details!$A$7:$AF$1000,11,0)*$L$2 -> #N/A | H18: =VLOOKUP(C18,details!$A$7:$AF$1000,14,0)*$L$2 -> #N/A | I18: =VLOOKUP(C18,details!$A$7:$AF$1000,17,0)*$L$2 -> #N/A | J18: =VLOOKUP(C18,details!$A$7:$AF$1000,20,0)*$L$2 -> #N/A | K18: =VLOOKUP(C18,details!$A$7:$AF$1000,23,0)*$L$2 -> #N/A | L18: =VLOOKUP(C18,details!$A$7:$AF$1000,26,0)*$L$2 -> #N/A | M18: =VLOOKUP(C18,details!$A$7:$AF$1000,29,0)*$L$2 -> #N/A | N18: =VLOOKUP(C18,details!$A$7:$AF$1000,32,0)*$L$2 -> #N/A | O18: =AVERAGE(D18:M18) -> #N/A
A19: Argentina | B19: 1,20 | E19: =VLOOKUP(C19,details!$A$7:$AF$1000,5,0)*$L$2 -> #N/A | F19: =VLOOKUP(C19,details!$A$7:$AF$1000,8,0)*$L$2 -> #N/A | G19: =VLOOKUP(C19,details!$A$7:$AF$1000,11,0)*$L$2 -> #N/A | H19: =VLOOKUP(C19,details!$A$7:$AF$1000,14,0)*$L$2 -> #N/A | I19: =VLOOKUP(C19,details!$A$7:$AF$1000,17,0)*$L$2 -> #N/A | J19: =VLOOKUP(C19,details!$A$7:$AF$1000,20,0)*$L$2 -> #N/A | K19: =VLOOKUP(C19,details!$A$7:$AF$1000,23,0)*$L$2 -> #N/A | L19: =VLOOKUP(C19,details!$A$7:$AF$1000,26,0)*$L$2 -> #N/A | M19: =VLOOKUP(C19,details!$A$7:$AF$1000,29,0)*$L$2 -> #N/A | N19: =VLOOKUP(C19,details!$A$7:$AF$1000,32,0)*$L$2 -> #N/A | O19: =AVERAGE(D19:M19) -> #N/A
A20: Armenia | B20: 1,20 | E20: =VLOOKUP(C20,details!$A$7:$AF$1000,5,0)*$L$2 -> #N/A | F20: =VLOOKUP(C20,details!$A$7:$AF$1000,8,0)*$L$2 -> #N/A | G20: =VLOOKUP(C20,details!$A$7:$AF$1000,11,0)*$L$2 -> #N/A | H20: =VLOOKUP(C20,details!$A$7:$AF$1000,14,0)*$L$2 -> #N/A | I20: =VLOOKUP(C20,details!$A$7:$AF$1000,17,0)*$L$2 -> #N/A | J20: =VLOOKUP(C20,details!$A$7:$AF$1000,20,0)*$L$2 -> #N/A | K20: =VLOOKUP(C20,details!$A$7:$AF$1000,23,0)*$L$2 -> #N/A | L20: =VLOOKUP(C20,details!$A$7:$AF$1000,26,0)*$L$2 -> #N/A | M20: =VLOOKUP(C20,details!$A$7:$AF$1000,29,0)*$L$2 -> #N/A | N20: =VLOOKUP(C20,details!$A$7:$AF$1000,32,0)*$L$2 -> #N/A | O20: =AVERAGE(D20:M20) -> #N/A
A21: Aruba | B21: 1,33 | E21: =VLOOKUP(C21,details!$A$7:$AF$1000,5,0)*$L$2 -> #N/A | F21: =VLOOKUP(C21,details!$A$7:$AF$1000,8,0)*$L$2 -> #N/A | G21: =VLOOKUP(C21,details!$A$7:$AF$1000,11,0)*$L$2 -> #N/A | H21: =VLOOKUP(C21,details!$A$7:$AF$1000,14,0)*$L$2 -> #N/A | I21: =VLOOKUP(C21,details!$A$7:$AF$1000,17,0)*$L$2 -> #N/A | J21: =VLOOKUP(C21,details!$A$7:$AF$1000,20,0)*$L$2 -> #N/A | K21: =VLOOKUP(C21,details!$A$7:$AF$1000,23,0)*$L$2 -> #N/A | L21: =VLOOKUP(C21,details!$A$7:$AF$1000,26,0)*$L$2 -> #N/A | M21: =VLOOKUP(C21,details!$A$7:$AF$1000,29,0)*$L$2 -> #N/A | N21: =VLOOKUP(C21,details!$A$7:$AF$1000,32,0)*$L$2 -> #N/A | O21: =AVERAGE(D21:M21) -> #N/A
A22: Australia | B22: 1,36 | C22: DV | D22: Price
A23: Austria | B23: 1,00 | C23: SP | D23: Price | E23: =D!#REF! -> #REF! | F23: =D!#REF! -> #REF! | G23: =D!#REF! -> #REF! | H23: =D!#REF! -> #REF! | N23: =D!#REF! -> #REF! | O23: =AVERAGE(E23:N23) -> #REF!
A24: Azerbaijan | B24: 1,20 | C24: MP | D24: Price
A25: Bahamas | B25: 1,33
A26: Bahrain | B26: 1,20 | C26: Total | D26: Price | E26: =SUM(D9:D19) -> 0 | F26: =SUM(E9:E19) -> #N/A | G26: =SUM(F9:F19) -> #N/A | H26: =SUM(G9:G19) -> #N/A | N26: =SUM(M9:M19) -> #N/A | O26: =AVERAGE(E26:N26) -> #N/A
A27: Bangladesh | B27: 1,12 | D27: Price
A28: Barbados | B28: 1,33
A29: Belarus | B29: 1,20 | C29: All prices are based on 2016 spare part list price for NEPAL
A30: Belgium | B30: 1,00
A31: Belize | B31: 1,33 | C31: The parts consumption is corresponding to Sidel standard predetermined preventive maintenance plan, designed for standard operation and maintenance conditions of the machine, accordingly to Sidel specifications and documentation.
A32: Benin | B32: 1,16 | C32: ► Figures are based on a yearly production time of maximum 6,000 hours of listed Sidel equipments.
A33: Bermuda | B33: 1,33
A34: Bhutan | B34: 1,12 | C34: The following events, which all are the responsibility of the owner, may generate different additional maintenance needs, which are not included into the given information:
A35: Bolivia | B35: 1,15 | C35: ► use of out-of-specifications energies and/or water, raw materials, product, packaging materials, lubricants, chemicals, consumables or tooling,
A36: Bonaire, Sint Eustatiu | B36: 1,33 | C36: ► installation of the machine in an environment out of Sidel’s specifications (including, but not restricted to, humidity, temperature, dust size and quantity, aggressive chemicals),
A37: Bosnia and Herzegovi | B37: 1,12 | C37: ► non-respect of Sidel standard operation procedures, maintenance plan, checking and setting instructions, as defined in the equipment documentation, including lubrication and routine maintenance,
A38: Botswana | B38: 1,16 | C38: ► operation or maintenance by personnel not qualified by Sidel,
A39: Bouvet Island | B39: 1,12 | C39: ► any case of usage of non-original Sidel spare parts, and its consequences on other components,
A40: Brazil | B40: 1,72 | C40: ► fall, or contact with the equipment, of external material onto the machine or whatever accident,
A41: British Indian Ocean T | B41: 1,12 | C41: ► any modification of the machine not conducted by Sidel, and its consequences on other components,
A42: Brunei Darussalam | B42: 1,12 | C42: ► and generally speaking any improper use.
A43: Bulgaria | B43: 1,04 | C43: The parts consumption is calculated based effectively upon the successful start-up date.
A44: Burkina Faso | B44: 1,16
A45: Burundi | B45: 1,16 | C45: The following conditions also apply:
A46: Cambodia | B46: 1,12 | C46: ► The end user will inform in due time and in written form the manufacturer about problems encountered during the operation of the equipment.
A47: Cameroon | B47: 1,16 | C47: ► Sidel has the right to inspect at any time the equipment and the parts replaced.
A48: Canada | B48: 1,33 | C48: ► These values are for budget information only, therefore they are not binding.
A49: Cape Verde | B49: 1,16 | C49: The yearly distribution is an estimate which depends on several parameters, including actual yearly production time. Therefore only total amounts should be appreciated for the complete line and on the total duration displayed in the table or by 5-year periods, rather than year-by-year figures.
A50: Cayman Islands | B50: 1,33
A51: Central African Repub | B51: 1,16
A52: Chad | B52: 1,16
A53: Chile | B53: 1,15
A54: China | B54: 1,25
A55: Christmas Island | B55: 1,12
A56: Cocos (Keeling) Island | B56: 1,12
A57: Colombia | B57: 1,15
A58: Comoros | B58: 1,16
A59: Congo | B59: 1,16
A60: Congo, Democratic R | B60: 1,16
A61: Cook Islands | B61: 1,12
... A259: Zimbabwe | B259: 1,16

Sheet details
B1: CMU | C1: 1.12
A4: PR00
A6: Scheduled maintenance parts (ISO13306) | C6: 3000 | D6: 6000 | E6: Y1 | F6: 9000 | G6: 12000 | H6: Y2 | I6: 15000 | J6: 18000 | K6: Y3 | L6: 21000 | M6: 24000 | N6: Y4 | O6: 27000 | P6: 30000 | Q6: Y5 | R6: =P6+3000 -> 33000 | S6: =R6+3000 -> 36000 | T6: Y6 | U6: =S6+3000 -> 39000 | V6: =U6+3000 -> 42000 | W6: Y7 | X6: =V6+3000 -> 45000 | Y6: =X6+3000 -> 48000 | Z6: Y8 | AA6: =Y6+3000 -> 51000 | AB6: =AA6+3000 -> 54000 | AC6: Y9 | AD6: =AB6+3000 -> 57000 | AE6: =AD6+3000 -> 60000 | AF6: Y10 | AG6: Average
A7: SBO 20 U2 ECO BLOWER SIDEL | C7: 9846.1 | D7: 44112.66 | E7: =SUM(C7:D7) -> 53958.76 | F7: 9846.1 | G7: 80097.67 | H7: =SUM(F7:G7) -> 89943.77 | I7: 9846.1 | J7: 77933.83 | K7: =SUM(I7:J7) -> 87779.93 | L7: 9846.1 | M7: 79068.82 | N7: =SUM(L7:M7) -> 88914.92 | O7: 9846.1 | P7: 45141.51 | Q7: =SUM(O7:P7) -> 54987.61 | T7: =SUM(R7:S7) -> 0 | W7: =SUM(U7:V7) -> 0 | Z7: =SUM(X7:Y7) -> 0 | AC7: =SUM(AA7:AB7) -> 0 | AE7: 127709 | AF7: =SUM(AD7:AE7) -> 127709 | AG7: =AVERAGE(C7:AF7) -> 47932.761
A8: SBO 16 U2 Predis C5 | C8: 7153 | D8: 48332 | E8: =SUM(C8:D8) -> 55485 | F8: 7153 | G8: 93274 | H8: =SUM(F8:G8) -> 100427 | I8: 7153 | J8: 127709 | K8: =SUM(I8:J8) -> 134862 | L8: 7153 | M8: 93274 | N8: =SUM(L8:M8) -> 100427 | O8: 7153 | P8: 48332 | Q8: =SUM(O8:P8) -> 55485 | R8: 7153 | S8: 127709 | T8: =SUM(R8:S8) -> 134862 | U8: 7153 | V8: 48332 | W8: =SUM(U8:V8) -> 55485 | X8: 7153 | Y8: 93274 | Z8: =SUM(X8:Y8) -> 100427 | AA8: 7153 | AB8: 48332 | AC8: =SUM(AA8:AB8) -> 55485 | AD8: 7153 | AE8: 127709 | AF8: =SUM(AD8:AE8) -> 134862 | AG8: =AVERAGE(C8:AF8) -> 61853.8
A9: SBO 6 Matrix M Predis C5 P50 | C9: 0 | D9: 0 | E9: =SUM(C9:D9) -> 0 | F9: 0 | G9: 0 | H9: =SUM(F9:G9) -> 0 | I9: 0 | J9: 0 | K9: =SUM(I9:J9) -> 0 | L9: 0 | M9: 0 | N9: =SUM(L9:M9) -> 0 | O9: 0 | P9: 0 | Q9: =SUM(O9:P9) -> 0 | T9: =SUM(R9:S9) -> 0 | W9: =SUM(U9:V9) -> 0 | Z9: =SUM(X9:Y9) -> 0 | AC9: =SUM(AA9:AB9) -> 0 | AF9: =SUM(AD9:AE9) -> 0 | AG9: =AVERAGE(C9:AF9) -> 0
A10: SBO 16 U2 Predis C5 | C10: 7153 | D10: 48332 | E10: =SUM(C10:D10) -> 55485 | F10: 7153 | G10: 93274 | H10: =SUM(F10:G10) -> 100427 | I10: 7153 | J10: 127709 | K10: =SUM(I10:J10) -> 134862 | L10: 7153 | M10: 93274 | N10: =SUM(L10:M10) -> 100427 | O10: 7153 | P10: 48332 | Q10: =SUM(O10:P10) -> 55485 | R10: 7153 | S10: 127709 | T10: =SUM(R10:S10) -> 134862 | U10: 7153 | V10: 48332 | W10: =SUM(U10:V10) -> 55485 | X10: 7153 | Y10: 93274 | Z10: =SUM(X10:Y10) -> 100427 | AA10: 7153 | AB10: 48332 | AC10: =SUM(AA10:AB10) -> 55485 | AD10: 7153 | AE10: 127709 | AF10: =SUM(AD10:AE10) -> 134862 | AG10: =AVERAGE(C10:AF10) -> 61853.8
A11: SBO 14/20 U HR # 11533 - Combi # 467 - 21498 | C11: 12080.14 | D11: 36899.67 | E11: =SUM(C11:D11) -> 48979.81 | F11: 32162.56 | G11: 128038.34 | H11: =SUM(F11:G11) -> 160200.9 | I11: 12080.14 | J11: 157597.6 | K11: =SUM(I11:J11) -> 169677.74 | L11: 12080.14 | M11: 127393.22 | N11: =SUM(L11:M11) -> 139473.36 | O11: 32162.56 | P11: 37544.79 | Q11: =SUM(O11:P11) -> 69707.35 | R11: 12080.14 | S11: 248091.15 | T11: =SUM(R11:S11) -> 260171.29 | U11: 12080.14 | V11: 36899.67 | W11: =SUM(U11:V11) -> 48979.81 | X11: 32162.56 | Y11: 128038.34 | Z11: =SUM(X11:Y11) -> 160200.9 | AA11: 12080.14 | AB11: 157597.6 | AC11: =SUM(AA11:AB11) -> 169677.74 | AD11: 12080.14 | AE11: 127393.27 | AF11: =SUM(AD11:AE11) -> 139473.41 | AG11: =AVERAGE(C11:AF11) -> 91102.821
A12: SBO 24/20 XS HS Eco | C12: 8941.63 | D12: 53401.7 | E12: =SUM(C12:D12) -> 62343.33 | F12: 8941.63 | G12: 104274.45 | H12: =SUM(F12:G12) -> 113216.08 | I12: 8941.63 | J12: 184940.21 | K12: =SUM(I12:J12) -> 193881.84 | L12: 8941.63 | M12: 101163.09 | N12: =SUM(L12:M12) -> 110104.72 | O12: 8941.63 | P12: 56513.06 | Q12: =SUM(O12:P12) -> 65454.69 | R12: 8941.63 | S12: 232701.6 | T12: =SUM(R12:S12) -> 241643.23 | U12: 8941.63 | V12: 53401.7 | W12: =SUM(U12:V12) -> 62343.33 | X12: 8941.63 | Y12: 104274.45 | Z12: =SUM(X12:Y12) -> 113216.08 | AA12: 8941.63 | AB12: 184940.21 | AC12: =SUM(AA12:AB12) -> 193881.84 | AD12: 8941.63 | AE12: 101163.09 | AF12: =SUM(AD12:AE12) -> 110104.72 | AG12: =AVERAGE(C12:AF12) -> 84412.657
A13: SBO 14/20 U2 | C13: 8941.63 | D13: 53401.7 | E13: =SUM(C13:D13) -> 62343.33 | F13: 8941.63 | G13: 104274.45 | H13: =SUM(F13:G13) -> 113216.08 | I13: 8941.63 | J13: 184940.21 | K13: =SUM(I13:J13) -> 193881.84 | L13: 8941.63 | M13: 101163.09 | N13: =SUM(L13:M13) -> 110104.72 | O13: 8941.63 | P13: 56513.06 | Q13: =SUM(O13:P13) -> 65454.69 | R13: 8941.63 | S13: 232701.6 | T13: =SUM(R13:S13) -> 241643.23 | U13: 8941.63 | V13: 53401.7 | W13: =SUM(U13:V13) -> 62343.33 | X13: 8941.63 | Y13: 104274.45 | Z13: =SUM(X13:Y13) -> 113216.08 | AA13: 8941.63 | AB13: 184940.21 | AC13: =SUM(AA13:AB13) -> 193881.84 | AD13: 8941.63 | AE13: 101163.09 | AF13: =SUM(AD13:AE13) -> 110104.72 | AG13: =AVERAGE(C13:AF13) -> 84412.657
A14: SBO 6/8 U | C14: 3838.74 | D14: 13753.73 | E14: =SUM(C14:D14) -> 17592.47 | F14: 3838.74 | G14: 42539.39 | H14: =SUM(F14:G14) -> 46378.13 | I14: 3838.74 | J14: 43236.15 | K14: =SUM(I14:J14) -> 47074.89 | L14: 3838.74 | M14: 79235.75 | N14: =SUM(L14:M14) -> 83074.49 | O14: 3838.74 | P14: 14531.57 | Q14: =SUM(O14:P14) -> 18370.31 | R14: 3838.74 | S14: 71243.97 | T14: =SUM(R14:S14) -> 75082.71 | U14: 3838.74 | V14: 13753.73 | W14: =SUM(U14:V14) -> 17592.47 | X14: 3838.74 | Y14: 80013.59 | Z14: =SUM(X14:Y14) -> 83852.33 | AA14: 3838.74 | AB14: 43236.15 | AC14: =SUM(AA14:AB14) -> 47074.89 | AD14: 3838.74 | AE14: 41761.55 | AF14: =SUM(AD14:AE14) -> 45600.29 | AG14: =AVERAGE(C14:AF14) -> 32112.865
A15: SBO 24 Matrix L p40 eHR | C15: 5170 | D15: 58799 | E15: =SUM(C15:D15) -> 63969 | F15: 28484 | G15: 94133 | H15: =SUM(F15:G15) -> 122617 | I15: 5170 | J15: 148071 | K15: =SUM(I15:J15) -> 153241 | L15: 5170 | M15: 94133 | N15: =SUM(L15:M15) -> 99303 | O15: 28484 | Q15: =SUM(O15:P15) -> 28484 | T15: =SUM(R15:S15) -> 0 | W15: =SUM(U15:V15) -> 0 | Z15: =SUM(X15:Y15) -> 0 | AC15: =SUM(AA15:AB15) -> 0 | AE15: 94133 | AF15: =SUM(AD15:AE15) -> 94133 | AG15: =AVERAGE(C15:AF15) -> 56174.7
A16: SBO 28 Matrix L P40 | C16: 6030 | D16: 53143 | E16: =SUM(C16:D16) -> 59173 | F16: 20013 | G16: 127131 | H16: =SUM(F16:G16) -> 147144 | I16: 6030 | J16: 116348 | K16: =SUM(I16:J16) -> 122378 | L16: 20013 | M16: 127131 | N16: =SUM(L16:M16) -> 147144 | O16: 6030 | P16: 116348 | Q16: =SUM(O16:P16) -> 122378 | T16: =SUM(R16:S16) -> 0 | W16: =SUM(U16:V16) -> 0 | Z16: =SUM(X16:Y16) -> 0 | AC16: =SUM(AA16:AB16) -> 0 | AF16: =SUM(AD16:AE16) -> 0 | AG16: =AVERAGE(C16:AF16) -> 59821.7
A17: SBO 8 Matrix M C5 P50 | C17: 8107.52 | D17: 31467.52 | E17: =SUM(C17:D17) -> 39575.04 | F17: 17934.08 | G17: 80814.08 | H17: =SUM(F17:G17) -> 98748.16 | I17: 8107.52 | J17: 47104 | K17: =SUM(I17:J17) -> 55211.52 | L17: 8107.52 | M17: 130412.8 | N17: =SUM(L17:M17) -> 138520.32 | O17: 17934.08 | P17: 31467.52 | Q17: =SUM(O17:P17) -> 49401.6 | T17: =SUM(R17:S17) -> 0 | W17: =SUM(U17:V17) -> 0 | Z17: =SUM(X17:Y17) -> 0 | AC17: =SUM(AA17:AB17) -> 0 | AF17: =SUM(AD17:AE17) -> 0 | AG17: =AVERAGE(C17:AF17) -> 38145.664
A18: SBO 16 Matrix M C5 | C18: 9194 | D18: 60303 | E18: =SUM(C18:D18) -> 69497 | F18: 17037 | G18: 98507 | H18: =SUM(F18:G18) -> 115544 | I18: 9194 | J18: 132174 | K18: =SUM(I18:J18) -> 141368 | L18: 9194 | M18: 98507 | N18: =SUM(L18:M18) -> 107701 | O18: 17037 | P18: 60303 | Q18: =SUM(O18:P18) -> 77340 | T18: =SUM(R18:S18) -> 0 | W18: =SUM(U18:V18) -> 0 | Z18: =SUM(X18:Y18) -> 0 | AC18: =SUM(AA18:AB18) -> 0 | AF18: =SUM(AD18:AE18) -> 0 | AG18: =AVERAGE(C18:AF18) -> 51145
A19: SBO 16 Matrix M P40 | C19: 6310 | D19: 45248 | E19: =SUM(C19:D19) -> 51558 | F19: 23838 | G19: 73655 | H19: =SUM(F19:G19) -> 97493 | I19: 6310 | J19: 113274 | K19: =SUM(I19:J19) -> 119584 | L19: 6310 | M19: 73366 | N19: =SUM(L19:M19) -> 79676 | O19: 23838 | P19: 113274 | Q19: =SUM(O19:P19) -> 137112 | T19: =SUM(R19:S19) -> 0 | W19: =SUM(U19:V19) -> 0 | Z19: =SUM(X19:Y19) -> 0 | AC19: =SUM(AA19:AB19) -> 0 | AF19: =SUM(AD19:AE19) -> 0 | AG19: =AVERAGE(C19:AF19) -> 48542.3
A20: SBO 22 Matrix M C5 P50 | C20: 8023 | D20: 45625 | E20: =SUM(C20:D20) -> 53648 | F20: 19013 | G20: 97256 | H20: =SUM(F20:G20) -> 116269 | I20: 8023 | J20: 141555 | K20: =SUM(I20:J20) -> 149578 | L20: 8023 | M20: 97256 | N20: =SUM(L20:M20) -> 105279 | O20: 19013 | P20: 45625 | Q20: =SUM(O20:P20) -> 64638 | T20: =SUM(R20:S20) -> 0 | W20: =SUM(U20:V20) -> 0 | Z20: =SUM(X20:Y20) -> 0 | AC20: =SUM(AA20:AB20) -> 0 | AF20: =SUM(AD20:AE20) -> 0 | AG20: =AVERAGE(C20:AF20) -> 48941.2
A21: SBO 14 Matrix M C5 P50 | C21: 8359 | D21: 54821 | E21: =SUM(C21:D21) -> 63180 | F21: 15489 | G21: 89552 | H21: =SUM(F21:G21) -> 105041 | I21: 8359 | J21: 120159 | K21: =SUM(I21:J21) -> 128518 | L21: 8359 | M21: 89552 | N21: =SUM(L21:M21) -> 97911 | O21: 15489 | P21: 54821 | Q21: =SUM(O21:P21) -> 70310 | T21: =SUM(R21:S21) -> 0 | W21: =SUM(U21:V21) -> 0 | Z21: =SUM(X21:Y21) -> 0 | AC21: =SUM(AA21:AB21) -> 0 | AF21: =SUM(AD21:AE21) -> 0 | AG21: =AVERAGE(C21:AF21) -> 46496
A22: SBO 16 Matrix M P40 | C22: 5352 | D22: 61036 | E22: =SUM(C22:D22) -> 66388 | F22: 5352 | G22: 90431 | H22: =SUM(F22:G22) -> 95783 | I22: 5352 | J22: 112953 | K22: =SUM(I22:J22) -> 118305 | L22: 5352 | M22: 90135 | N22: =SUM(L22:M22) -> 95487 | O22: 5352 | P22: 61036 | Q22: =SUM(O22:P22) -> 66388 | T22: =SUM(R22:S22) -> 0 | W22: =SUM(U22:V22) -> 0 | Z22: =SUM(X22:Y22) -> 0 | AC22: =SUM(AA22:AB22) -> 0 | AF22: =SUM(AD22:AE22) -> 0 | AG22: =AVERAGE(C22:AF22) -> 44235.1
A23: SBO 14 Matrix L P40 | C23: 3368 | D23: 19343 | E23: =SUM(C23:D23) -> 22711 | F23: 16515 | G23: 42688 | H23: =SUM(F23:G23) -> 59203 | I23: 3368 | J23: 34570 | K23: =SUM(I23:J23) -> 37938 | L23: 3368 | M23: 96259 | N23: =SUM(L23:M23) -> 99627 | O23: 16515 | P23: 19343 | Q23: =SUM(O23:P23) -> 35858 | T23: =SUM(R23:S23) -> 0 | W23: =SUM(U23:V23) -> 0 | Z23: =SUM(X23:Y23) -> 0 | AC23: =SUM(AA23:AB23) -> 0 | AF23: =SUM(AD23:AE23) -> 0 | AG23: =AVERAGE(C23:AF23) -> 25533.7
A24: SBO 12 Matrix M C5 P40 | C24: 7523 | D24: 49338 | E24: =SUM(C24:D24) -> 56861 | F24: 13940 | G24: 80596 | H24: =SUM(F24:G24) -> 94536 | I24: 7523 | J24: 108143 | K24: =SUM(I24:J24) -> 115666 | L24: 7523 | M24: 80596 | N24: =SUM(L24:M24) -> 88119 | O24: 13940 | P24: 49338 | Q24: =SUM(O24:P24) -> 63278 | T24: =SUM(R24:S24) -> 0 | W24: =SUM(U24:V24) -> 0 | Z24: =SUM(X24:Y24) -> 0 | AC24: =SUM(AA24:AB24) -> 0 | AF24: =SUM(AD24:AE24) -> 0 | AG24: =AVERAGE(C24:AF24) -> 41846
A25: SBO 16 Matrix M C5 | C25: 9194 | D25: 60303 | E25: =SUM(C25:D25) -> 69497 | F25: 17037 | G25: 98507 | H25: =SUM(F25:G25) -> 115544 | I25: 9194 | J25: 132174 | K25: =SUM(I25:J25) -> 141368 | L25: 9194 | M25: 98507 | N25: =SUM(L25:M25) -> 107701 | O25: 17037 | P25: 60303 | Q25: =SUM(O25:P25) -> 77340 | T25: =SUM(R25:S25) -> 0 | W25: =SUM(U25:V25) -> 0 | Z25: =SUM(X25:Y25) -> 0 | AC25: =SUM(AA25:AB25) -> 0 | AF25: =SUM(AD25:AE25) -> 0 | AG25: =AVERAGE(C25:AF25) -> 51145
A26: SBO 16 Matrix M C5 | C26: 9194 | D26: 60303 | E26: =SUM(C26:D26) -> 69497 | F26: 17037 | G26: 98507 | H26: =SUM(F26:G26) -> 115544 | I26: 9194 | J26: 132174 | K26: =SUM(I26:J26) -> 141368 | L26: 9194 | M26: 98507 | N26: =SUM(L26:M26) -> 107701 | O26: 17037 | P26: 60303 | Q26: =SUM(O26:P26) -> 77340 | T26: =SUM(R26:S26) -> 0 | W26: =SUM(U26:V26) -> 0 | Z26: =SUM(X26:Y26) -> 0 | AC26: =SUM(AA26:AB26) -> 0 | AF26: =SUM(AD26:AE26) -> 0 | AG26: =AVERAGE(C26:AF26) -> 51145
A27: SBO 16 Matrix M C5 | C27: 9194 | D27: 60303 | E27: =SUM(C27:D27) -> 69497 | F27: 17037 | G27: 98507 | H27: =SUM(F27:G27) -> 115544 | I27: 9194 | J27: 132174 | K27: =SUM(I27:J27) -> 141368 | L27: 9194 | M27: 98507 | N27: =SUM(L27:M27) -> 107701 | O27: 17037 | P27: 60303 | Q27: =SUM(O27:P27) -> 77340 | T27: =SUM(R27:S27) -> 0 | W27: =SUM(U27:V27) -> 0 | Z27: =SUM(X27:Y27) -> 0 | AC27: =SUM(AA27:AB27) -> 0 | AF27: =SUM(AD27:AE27) -> 0 | AG27: =AVERAGE(C27:AF27) -> 51145
... A34: SBO 34 Matrix P40 | C34: 6362 | D34: 49813 | E34: =SUM(C34:D34) -> 56175 | F34: 38992 | G34: 87315 | H34: =SUM(F34:G34) -> 126307 | I34: 6362 | J34: 85804 | K34: =SUM(I34:J34) -> 92166 | L34: 6362 | M34: 187825 | N34: =SUM(L34:M34) -> 194187 | O34: 38992 | P34: 49813 | Q34: =SUM(O34:P34) -> 88805 | T34: =SUM(R34:S34) -> 0 | W34: =SUM(U34:V34) -> 0 | Z34: =SUM(X34:Y34) -> 0 | AC34: =SUM(AA34:AB34) -> 0 | AF34: =SUM(AD34:AE34) -> 0 | AG34: =AVERAGE(C34:AF34) -> 55764
A35: SBO 14 Matrix M C5 P50 with Bottle switch | C35: 8359 | D35: 54821 | E35: =SUM(C35:D35) -> 63180 | H35: =SUM(F35:G35) -> 0 | K35: =SUM(I35:J35) -> 0 | N35: =SUM(L35:M35) -> 0 | Q35: =SUM(O35:P35) -> 0 | T35: =SUM(R35:S35) -> 0 | W35: =SUM(U35:V35) -> 0 | Z35: =SUM(X35:Y35) -> 0 | AC35: =SUM(AA35:AB35) -> 0 | AF35: =SUM(AD35:AE35) -> 0 | AG35: =AVERAGE(C35:AF35) -> 10530
A36: SBO 14 Matrix M C5 P50 with Bottle switch | C36: 10469 | D36: 91063 | E36: =SUM(C36:D36) -> 101532 | F36: 10469 | G36: 138549 | H36: =SUM(F36:G36) -> 149018 | I36: 10469 | J36: 152118 | K36: =SUM(I36:J36) -> 162587 | N36: =SUM(L36:M36) -> 0 | Q36: =SUM(O36:P36) -> 0 | T36: =SUM(R36:S36) -> 0 | W36: =SUM(U36:V36) -> 0 | Z36: =SUM(X36:Y36) -> 0 | AC36: =SUM(AA36:AB36) -> 0 | AF36: =SUM(AD36:AE36) -> 0 | AG36: =AVERAGE(C36:AF36) -> 51642.125
A37: SBO 12 Matrix M p40 | C37: 4301 | D37: 30528 | E37: =SUM(C37:D37) -> 34829 | F37: 4301 | G37: 62220 | H37: =SUM(F37:G37) -> 66521 | I37: 4301 | J37: 72507 | K37: =SUM(I37:J37) -> 76808 | L37: 4301 | M37: 62220 | N37: =SUM(L37:M37) -> 66521 | O37: 4301 | P37: 30528 | Q37: =SUM(O37:P37) -> 34829 | T37: =SUM(R37:S37) -> 0 | W37: =SUM(U37:V37) -> 0 | Z37: =SUM(X37:Y37) -> 0 | AC37: =SUM(AA37:AB37) -> 0 | AF37: =SUM(AD37:AE37) -> 0 | AG37: =AVERAGE(C37:AF37) -> 27950.8
A38: SBO 34 Matrix XS P40 | C38: 6362 | D38: 49813 | E38: =SUM(C38:D38) -> 56175 | F38: 38992 | G38: 87315 | H38: =SUM(F38:G38) -> 126307 | I38: 6362 | J38: 85804 | K38: =SUM(I38:J38) -> 92166 | L38: 6362 | M38: 187825 | N38: =SUM(L38:M38) -> 194187 | O38: 38992 | P38: 49813 | Q38: =SUM(O38:P38) -> 88805 | T38: =SUM(R38:S38) -> 0 | W38: =SUM(U38:V38) -> 0 | Z38: =SUM(X38:Y38) -> 0 | AC38: =SUM(AA38:AB38) -> 0 | AF38: =SUM(AD38:AE38) -> 0 | AG38: =AVERAGE(C38:AF38) -> 55764
A39: SBO 10 Matrix eHR | C39: 2984.84 | D39: 14171 | E39: =SUM(C39:D39) -> 17155.84 | F39: 134808 | G39: 37885 | H39: =SUM(F39:G39) -> 172693 | I39: 2984.84 | J39: 80809 | K39: =SUM(I39:J39) -> 83793.84 | L39: 2984.84 | M39: 37885 | N39: =SUM(L39:M39) -> 40869.84 | O39: 14171 | P39: 16812 | Q39: =SUM(O39:P39) -> 30983 | T39: =SUM(R39:S39) -> 0 | W39: =SUM(U39:V39) -> 0 | Z39: =SUM(X39:Y39) -> 0 | AC39: =SUM(AA39:AB39) -> 0 | AF39: =SUM(AD39:AE39) -> 0 | AG39: =AVERAGE(C39:AF39) -> 34549.552
A40: SBO 22 Matrix M p50 | C40: 4606 | D40: 30945 | E40: =SUM(C40:D40) -> 35551 | F40: 28707 | G40: 83886 | H40: =SUM(F40:G40) -> 112593 | I40: 4606 | J40: 57018 | K40: =SUM(I40:J40) -> 61624 | L40: 4606 | M40: 188563 | N40: =SUM(L40:M40) -> 193169 | O40: 28707 | P40: 30945 | Q40: =SUM(O40:P40) -> 59652 | T40: =SUM(R40:S40) -> 0 | W40: =SUM(U40:V40) -> 0 | Z40: =SUM(X40:Y40) -> 0 | AC40: =SUM(AA40:AB40) -> 0 | AF40: =SUM(AD40:AE40) -> 0 | AG40: =AVERAGE(C40:AF40) -> 46258.9
A41: SBO 8 Matrix P40 C5 | C41: 6006 | D41: 34335 | E41: =SUM(C41:D41) -> 40341 | F41: 6006 | G41: 109818 | H41: =SUM(F41:G41) -> 115824 | I41: 6006 | J41: 38671 | K41: =SUM(I41:J41) -> 44677 | L41: 6006 | M41: 109818 | N41: =SUM(L41:M41) -> 115824 | O41: 6006 | P41: 38671 | Q41: =SUM(O41:P41) -> 44677 | T41: =SUM(R41:S41) -> 0 | W41: =SUM(U41:V41) -> 0 | Z41: =SUM(X41:Y41) -> 0 | AC41: =SUM(AA41:AB41) -> 0 | AF41: =SUM(AD41:AE41) -> 0 | AG41: =AVERAGE(C41:AF41) -> 36134.3
A42: SBO 8 Matrix L eHR P50 | C42: 2387 | D42: 13449 | E42: =SUM(C42:D42) -> 15836 | F42: 107846 | G42: 30308 | H42: =SUM(F42:G42) -> 138154 | I42: 2387 | J42: 64647 | K42: =SUM(I42:J42) -> 67034 | L42: 2387 | M42: 30308 | N42: =SUM(L42:M42) -> 32695 | O42: 107846 | P42: 13449 | Q42: =SUM(O42:P42) -> 121295 | T42: =SUM(R42:S42) -> 0 | W42: =SUM(U42:V42) -> 0 | Z42: =SUM(X42:Y42) -> 0 | AC42: =SUM(AA42:AB42) -> 0 | AF42: =SUM(AD42:AE42) -> 0 | AG42: =AVERAGE(C42:AF42) -> 37501.4
A43: SBO 8 Matrix HR P50 | C43: 2387 | D43: 13449 | E43: =SUM(C43:D43) -> 15836 | F43: 107846 | G43: 30308 | H43: =SUM(F43:G43) -> 138154 | I43: 2387 | J43: 64647 | K43: =SUM(I43:J43) -> 67034 | L43: 2387 | M43: 30308 | N43: =SUM(L43:M43) -> 32695 | O43: 107846 | P43: 13449 | Q43: =SUM(O43:P43) -> 121295 | T43: =SUM(R43:S43) -> 0 | W43: =SUM(U43:V43) -> 0 | Z43: =SUM(X43:Y43) -> 0 | AC43: =SUM(AA43:AB43) -> 0 | AF43: =SUM(AD43:AE43) -> 0 | AG43: =AVERAGE(C43:AF43) -> 37501.4
A44: SBO 10 Matrix M C5 P50 | C44: 7600 | D44: 29500 | E44: =SUM(C44:D44) -> 37100 | F44: 16812 | G44: 75763 | H44: =SUM(F44:G44) -> 92575 | I44: 7600 | J44: 44160 | K44: =SUM(I44:J44) -> 51760 | L44: 7600 | M44: 122262 | N44: =SUM(L44:M44) -> 129862 | O44: 16812 | P44: 29500 | Q44: =SUM(O44:P44) -> 46312 | T44: =SUM(R44:S44) -> 0 | W44: =SUM(U44:V44) -> 0 | Z44: =SUM(X44:Y44) -> 0 | AC44: =SUM(AA44:AB44) -> 0 | AF44: =SUM(AD44:AE44) -> 0 | AG44: =AVERAGE(C44:AF44) -> 35760.9
A45: SBO 20 MATRIX M P40 | C45: 5711 | D45: 85593 | E45: =SUM(C45:D45) -> 91304 | F45: 5711 | G45: 94616 | H45: =SUM(F45:G45) -> 100327 | I45: 27622 | J45: 112723 | K45: =SUM(I45:J45) -> 140345 | L45: 5711 | M45: 94616 | N45: =SUM(L45:M45) -> 100327 | O45: 27622 | P45: 112723 | Q45: =SUM(O45:P45) -> 140345 | T45: =SUM(R45:S45) -> 0 | W45: =SUM(U45:V45) -> 0 | Z45: =SUM(X45:Y45) -> 0 | AC45: =SUM(AA45:AB45) -> 0 | AF45: =SUM(AD45:AE45) -> 0 | AG45: =AVERAGE(C45:AF45) -> 57264.8
A46: SBO 20 Matrix P40 | D46: 85593 | E46: =SUM(C46:D46) -> 85593 | G46: 94616 | H46: =SUM(F46:G46) -> 94616 | J46: 112723 | K46: =SUM(I46:J46) -> 112723 | M46: 94616 | N46: =SUM(L46:M46) -> 94616 | P46: 112723 | Q46: =SUM(O46:P46) -> 112723 | T46: =SUM(R46:S46) -> 0 | W46: =SUM(U46:V46) -> 0 | Z46: =SUM(X46:Y46) -> 0 | AC46: =SUM(AA46:AB46) -> 0 | AF46: =SUM(AD46:AE46) -> 0 | AG46: =AVERAGE(C46:AF46) -> 66702.8
A47: SBO 16 MATRIX M P40 | C47: 6310 | D47: 45248 | E47: =SUM(C47:D47) -> 51558 | F47: 23838 | G47: 73655 | H47: =SUM(F47:G47) -> 97493 | I47: 6310 | J47: 113274 | K47: =SUM(I47:J47) -> 119584 | L47: 6310 | M47: 73366 | N47: =SUM(L47:M47) -> 79676 | O47: 23838 | P47: 113274 | Q47: =SUM(O47:P47) -> 137112 | T47: =SUM(R47:S47) -> 0 | W47: =SUM(U47:V47) -> 0 | Z47: =SUM(X47:Y47) -> 0 | AC47: =SUM(AA47:AB47) -> 0 | AF47: =SUM(AD47:AE47) -> 0 | AG47: =AVERAGE(C47:AF47) -> 48542.3
A48: SBO 34 Matrix P40 | C48: 6362 | D48: 49813 | E48: =SUM(C48:D48) -> 56175 | F48: 38992 | G48: 87315 | H48: =SUM(F48:G48) -> 126307 | I48: 6362 | J48: 85804 | K48: =SUM(I48:J48) -> 92166 | L48: 6362 | M48: 187825 | N48: =SUM(L48:M48) -> 194187 | O48: 38992 | P48: 49813 | Q48: =SUM(O48:P48) -> 88805 | T48: =SUM(R48:S48) -> 0 | W48: =SUM(U48:V48) -> 0 | Z48: =SUM(X48:Y48) -> 0 | AC48: =SUM(AA48:AB48) -> 0 | AF48: =SUM(AD48:AE48) -> 0 | AG48: =AVERAGE(C48:AF48) -> 55764
A49: SBO 18 eHR MATRIX P40 | D49: 29780 | E49: =SUM(C49:D49) -> 29780 | G49: 65448 | H49: =SUM(F49:G49) -> 65448 | J49: 127378 | K49: =SUM(I49:J49) -> 127378 | M49: 65448 | N49: =SUM(L49:M49) -> 65448 | P49: 29780 | Q49: =SUM(O49:P49) -> 29780 | T49: =SUM(R49:S49) -> 0 | W49: =SUM(U49:V49) -> 0 | Z49: =SUM(X49:Y49) -> 0 | AC49: =SUM(AA49:AB49) -> 0 | AF49: =SUM(AD49:AE49) -> 0 | AG49: =AVERAGE(C49:AF49) -> 42377.867
A50: SBO 20 MATRIX M P40 | C50: 5711 | D50: 85593 | E50: =SUM(C50:D50) -> 91304 | F50: 5711 | G50: 94616 | H50: =SUM(F50:G50) -> 100327 | I50: 27622 | J50: 112723 | K50: =SUM(I50:J50) -> 140345 | L50: 5711 | M50: 94616 | N50: =SUM(L50:M50) -> 100327 | O50: 27622 | P50: 112723 | Q50: =SUM(O50:P50) -> 140345 | T50: =SUM(R50:S50) -> 0 | W50: =SUM(U50:V50) -> 0 | Z50: =SUM(X50:Y50) -> 0 | AC50: =SUM(AA50:AB50) -> 0 | AF50: =SUM(AD50:AE50) -> 0 | AG50: =AVERAGE(C50:AF50) -> 57264.8
A51: SBO 24 Matrix M p40 | C51: 8141 | D51: 50851 | E51: =SUM(C51:D51) -> 58992 | F51: 20166 | G51: 107566 | H51: =SUM(F51:G51) -> 127732 | I51: 8141 | J51: 107381 | K51: =SUM(I51:J51) -> 115522 | L51: 0 | M51: 0 | N51: =SUM(L51:M51) -> 0 | O51: 0 | P51: 0 | Q51: =SUM(O51:P51) -> 0 | T51: =SUM(R51:S51) -> 0 | W51: =SUM(U51:V51) -> 0 | Z51: =SUM(X51:Y51) -> 0 | AC51: =SUM(AA51:AB51) -> 0 | AF51: =SUM(AD51:AE51) -> 0 | AG51: =AVERAGE(C51:AF51) -> 30224.6
A52: SBO 22 MATRIX P40 | D52: 72248 | E52: =SUM(C52:D52) -> 72248 | G52: 98136 | H52: =SUM(F52:G52) -> 98136 | J52: 122797 | K52: =SUM(I52:J52) -> 122797 | M52: 98136 | N52: =SUM(L52:M52) -> 98136 | P52: 82248 | Q52: =SUM(O52:P52) -> 82248 | T52: =SUM(R52:S52) -> 0 | W52: =SUM(U52:V52) -> 0 | Z52: =SUM(X52:Y52) -> 0 | AC52: =SUM(AA52:AB52) -> 0 | AF52: =SUM(AD52:AE52) -> 0 | AG52: =AVERAGE(C52:AF52) -> 63142
A53: SBO 10 Matrix M P40 | C53: 3115 | D53: 18245 | E53: =SUM(C53:D53) -> 21360 | F53: 3115 | G53: 53131 | H53: =SUM(F53:G53) -> 56246 | I53: 3115 | J53: 89052 | K53: =SUM(I53:J53) -> 92167 | L53: 3115 | M53: 52835 | N53: =SUM(L53:M53) -> 55950 | O53: 3115 | P53: 32087 | Q53: =SUM(O53:P53) -> 35202 | T53: =SUM(R53:S53) -> 0 | W53: =SUM(U53:V53) -> 0 | Z53: =SUM(X53:Y53) -> 0 | AC53: =SUM(AA53:AB53) -> 0 | AF53: =SUM(AD53:AE53) -> 0 | AG53: =AVERAGE(C53:AF53) -> 26092.5
A54: SBO 24 Matrix XS C5 P50 | C54: 6567.65 | D54: 98431.95 | E54: =SUM(C54:D54) -> 104999.6 | F54: 6567.65 | G54: 108808.4 | H54: =SUM(F54:G54) -> 115376.05 | I54: 31765.3 | J54: 129631.45 | K54: =SUM(I54:J54) -> 161396.75 | L54: 6567.65 | M54: 108808.4 | N54: =SUM(L54:M54) -> 115376.05 | O54: 31765.3 | P54: 129631.45 | Q54: =SUM(O54:P54) -> 161396.75 | T54: =SUM(R54:S54) -> 0 | W54: =SUM(U54:V54) -> 0 | Z54: =SUM(X54:Y54) -> 0 | AC54: =SUM(AA54:AB54) -> 0 | AF54: =SUM(AD54:AE54) -> 0 | AG54: =AVERAGE(C54:AF54) -> 65854.52
A55: SBO 12 Matrix P40 | C55: 3368 | D55: 19343 | E55: =SUM(C55:D55) -> 22711 | F55: 16515 | G55: 42688 | H55: =SUM(F55:G55) -> 59203 | I55: 3368 | J55: 34570 | K55: =SUM(I55:J55) -> 37938 | L55: 3368 | M55: 96259 | N55: =SUM(L55:M55) -> 99627 | O55: 16515 | P55: 19343 | Q55: =SUM(O55:P55) -> 35858 | T55: =SUM(R55:S55) -> 0 | W55: =SUM(U55:V55) -> 0 | Z55: =SUM(X55:Y55) -> 0 | AC55: =SUM(AA55:AB55) -> 0 | AF55: =SUM(AD55:AE55) -> 0 | AG55: =AVERAGE(C55:AF55) -> 25533.7
A56: SBO 8 Matrix P40 | C56: 2593 | D56: 37124 | E56: =SUM(C56:D56) -> 39717 | F56: 2593 | G56: 54674 | H56: =SUM(F56:G56) -> 57267 | I56: 2593 | J56: 82727 | K56: =SUM(I56:J56) -> 85320 | L56: 2593 | M56: 55102 | N56: =SUM(L56:M56) -> 57695 | O56: 2593 | P56: 37124 | Q56: =SUM(O56:P56) -> 39717 | T56: =SUM(R56:S56) -> 0 | W56: =SUM(U56:V56) -> 0 | Z56: =SUM(X56:Y56) -> 0 | AC56: =SUM(AA56:AB56) -> 0 | AF56: =SUM(AD56:AE56) -> 0 | AG56: =AVERAGE(C56:AF56) -> 27971.6
A57: SBO 14 Matrix L P40 | C57: 3979 | D57: 36753 | E57: =SUM(C57:D57) -> 40732 | F57: 3979 | G57: 63517 | H57: =SUM(F57:G57) -> 67496 | I57: 3979 | J57: 38547 | K57: =SUM(I57:J57) -> 42526 | L57: 3979 | M57: 123143 | N57: =SUM(L57:M57) -> 127122 | O57: 3979 | P57: 36753 | Q57: =SUM(O57:P57) -> 40732 | R57: 3979 | S57: 65310 | T57: =SUM(R57:S57) -> 69289 | U57: 3979 | V57: 36753 | W57: =SUM(U57:V57) -> 40732 | X57: 3979 | Y57: 123143 | Z57: =SUM(X57:Y57) -> 127122 | AA57: 3979 | AB57: 38547 | AC57: =SUM(AA57:AB57) -> 42526 | AD57: 3979 | AE57: 63517 | AF57: =SUM(AD57:AE57) -> 67496 | AG57: =AVERAGE(C57:AF57) -> 44384.867
A58: SBO 6 Matrix M Predis C5 P50 | C58: 0 | D58: 0 | E58: =SUM(C58:D58) -> 0 | F58: 0 | G58: 0 | H58: =SUM(F58:G58) -> 0 | I58: 0 | J58: 0 | K58: =SUM(I58:J58) -> 0 | L58: 0 | M58: 0 | N58: =SUM(L58:M58) -> 0 | O58: 0 | P58: 0 | Q58: =SUM(O58:P58) -> 0 | T58: =SUM(R58:S58) -> 0 | W58: =SUM(U58:V58) -> 0 | Z58: =SUM(X58:Y58) -> 0 | AC58: =SUM(AA58:AB58) -> 0 | AF58: =SUM(AD58:AE58) -> 0 | AG58: =AVERAGE(C58:AF58) -> 0
A59: SBO 8 Matrix M P40 | C59: 3146 | D59: 25209 | E59: =SUM(C59:D59) -> 28355 | F59: 7339 | G59: 49163 | H59: =SUM(F59:G59) -> 56502 | I59: 3146 | J59: 64817 | K59: =SUM(I59:J59) -> 67963 | L59: 7339 | M59: 49163 | N59: =SUM(L59:M59) -> 56502 | O59: 3146 | P59: 25209 | Q59: =SUM(O59:P59) -> 28355 | T59: =SUM(R59:S59) -> 0 | W59: =SUM(U59:V59) -> 0 | Z59: =SUM(X59:Y59) -> 0 | AC59: =SUM(AA59:AB59) -> 0 | AF59: =SUM(AD59:AE59) -> 0 | AG59: =AVERAGE(C59:AF59) -> 23767.7
A60: SBO 24/20 Matrix L Std #120068 Combi #867 | C60: 7068.77 | D60: 61957.87 | E60: =SUM(C60:D60) -> 69026.64 | F60: 33966.53 | G60: 100200.43 | H60: =SUM(F60:G60) -> 134166.96 | I60: 7068.77 | J60: 157333.51 | K60: =SUM(I60:J60) -> 164402.28 | L60: 7068.77 | M60: 99904.33 | N60: =SUM(L60:M60) -> 106973.1 | O60: 33966.53 | P60: 61957.87 | Q60: =SUM(O60:P60) -> 95924.4 | R60: 7068.77 | S60: 195576.07 | T60: =SUM(R60:S60) -> 202644.84 | U60: 7068.77 | V60: 61957.87 | W60: =SUM(U60:V60) -> 69026.64 | X60: 33966.53 | Y60: 99904.33 | Z60: =SUM(X60:Y60) -> 133870.86 | AA60: 7068.77 | AB60: 157333.51 | AC60: =SUM(AA60:AB60) -> 164402.28 | AD60: 7068.77 | AE60: 100200.43 | AF60: =SUM(AD60:AE60) -> 107269.2 | AG60: =AVERAGE(C60:AF60) -> 83180.48
A61: SBO 22/18 Matrix M Std | C61: 6985.51 | D61: 56171.9 | E61: =SUM(C61:D61) -> 63157.41 | F61: 6985.51 | G61: 95160.37 | H61: =SUM(F61:G61) -> 102145.88 | I61: 6985.51 | J61: 59706.95 | K61: =SUM(I61:J61) -> 66692.46 | L61: 6985.51 | M61: 175281.24 | N61: =SUM(L61:M61) -> 182266.75 | O61: 6985.51 | P61: 56171.9 | Q61: =SUM(O61:P61) -> 63157.41 | R61: 6985.51 | S61: 98695.42 | T61: =SUM(R61:S61) -> 105680.93 | U61: 6985.51 | V61: 56171.9 | W61: =SUM(U61:V61) -> 63157.41 | X61: 6985.51 | Y61: 175281.24 | Z61: =SUM(X61:Y61) -> 182266.75 | AA61: 6985.51 | AB61: 59706.95 | AC61: =SUM(AA61:AB61) -> 66692.46 | AD61: 6985.51 | AE61: 95160.37 | AF61: =SUM(AD61:AE61) -> 102145.88 | AG61: =AVERAGE(C61:AF61) -> 66490.889
A62: SBO 6/8 Matrix | C62: 6295.13 | D62: 64677.74 | E62: =SUM(C62:D62) -> 70972.87 | F62: 6295.13 | G62: 78536.6 | H62: =SUM(F62:G62) -> 84831.73 | I62: 6295.13 | J62: 39481.05 | K62: =SUM(I62:J62) -> 45776.18 | L62: 6295.13 | M62: 120534.16 | N62: =SUM(L62:M62) -> 126829.29 | O62: 6295.13 | P62: 34677.75 | Q62: =SUM(O62:P62) -> 40972.88 | R62: 6295.13 | S62: 83339.91 | T62: =SUM(R62:S62) -> 89635.04 | U62: 6295.13 | V62: 34677.74 | W62: =SUM(U62:V62) -> 40972.87 | X62: 6295.13 | Y62: 120534.16 | Z62: =SUM(X62:Y62) -> 126829.29 | AA62: 6295.13 | AB62: 39481.05 | AC62: =SUM(AA62:AB62) -> 45776.18 | AD62: 6295.13 | AE62: 78536.6 | AF62: =SUM(AD62:AE62) -> 84831.73 | AG62: =AVERAGE(C62:AF62) -> 50495.204
A63: SBO 14/14 Matrix | C63: 9157.37 | D63: 51464.78 | E63: =SUM(C63:D63) -> 60622.15 | F63: 26180.87 | G63: 91858.9 | H63: =SUM(F63:G63) -> 118039.77 | I63: 9157.37 | J63: 121359.27 | K63: =SUM(I63:J63) -> 130516.64 | L63: 9157.37 | M63: 91858.9 | N63: =SUM(L63:M63) -> 101016.27 | O63: 26180.87 | P63: 51464.78 | Q63: =SUM(O63:P63) -> 77645.65 | R63: 9157.37 | S63: 161753.37 | T63: =SUM(R63:S63) -> 170910.74 | U63: 9157.37 | V63: 51464.78 | W63: =SUM(U63:V63) -> 60622.15 | X63: 26180.87 | Y63: 91858.9 | Z63: =SUM(X63:Y63) -> 118039.77 | AA63: 9157.37 | AB63: 121359.25 | AC63: =SUM(AA63:AB63) -> 130516.62 | AD63: 9157.37 | AE63: 91858.9 | AF63: =SUM(AD63:AE63) -> 101016.27 | AG63: =AVERAGE(C63:AF63) -> 71263.069
A64: Capper Arol 15 K Aseptic | C64: 12582.4 | D64: 23517.44 | E64: =SUM(C64:D64) -> 36099.84 | F64: 12582.4 | G64: 89952 | H64: =SUM(F64:G64) -> 102534.4 | I64: 12582.4 | J64: 23928.32 | K64: =SUM(I64:J64) -> 36510.72 | L64: 12582.4 | M64: 89952 | N64: =SUM(L64:M64) -> 102534.4 | O64: 12582.4 | P64: 0 | Q64: =SUM(O64:P64) -> 12582.4 | T64: =SUM(R64:S64) -> 0 | W64: =SUM(U64:V64) -> 0 | Z64: =SUM(X64:Y64) -> 0 | AC64: =SUM(AA64:AB64) -> 0 | AF64: =SUM(AD64:AE64) -> 0 | AG64: =AVERAGE(C64:AF64) -> 29026.176
A65: Capper Aseptic 20H | C65: 4335 | D65: 24009 | E65: =SUM(C65:D65) -> 28344 | F65: 4335 | G65: 36785 | H65: =SUM(F65:G65) -> 41120 | I65: 4335 | J65: 24009 | K65: =SUM(I65:J65) -> 28344 | L65: 4335 | M65: 36785 | N65: =SUM(L65:M65) -> 41120 | O65: 4335 | P65: 24009 | Q65: =SUM(O65:P65) -> 28344 | T65: =SUM(R65:S65) -> 0 | W65: =SUM(U65:V65) -> 0 | Z65: =SUM(X65:Y65) -> 0 | AC65: =SUM(AA65:AB65) -> 0 | AF65: =SUM(AD65:AE65) -> 0 | AG65: =AVERAGE(C65:AF65) -> 16727.2
A66: Capper Aseptic | C66: 8600 | D66: 23456 | E66: =SUM(C66:D66) -> 32056 | F66: 8600 | G66: 48786 | H66: =SUM(F66:G66) -> 57386 | I66: 8600 | J66: 29188 | K66: =SUM(I66:J66) -> 37788 | L66: 8600 | M66: 48786 | N66: =SUM(L66:M66) -> 57386 | O66: 8600 | P66: 23456 | Q66: =SUM(O66:P66) -> 32056 | T66: =SUM(R66:S66) -> 0 | W66: =SUM(U66:V66) -> 0 | Z66: =SUM(X66:Y66) -> 0 | AC66: =SUM(AA66:AB66) -> 0 | AF66: =SUM(AD66:AE66) -> 0 | AG66: =AVERAGE(C66:AF66) -> 21667.2
A67: Capper Aseptic 18H | C67: 9830 | D67: 18373 | E67: =SUM(C67:D67) -> 28203 | F67: 9830 | G67: 70275 | H67: =SUM(F67:G67) -> 80105 | I67: 9830 | J67: 18694 | K67: =SUM(I67:J67) -> 28524 | L67: 9830 | M67: 70275 | N67: =SUM(L67:M67) -> 80105 | O67: 9830 | P67: 18694 | Q67: =SUM(O67:P67) -> 28524 | T67: =SUM(R67:S67) -> 0 | W67: =SUM(U67:V67) -> 0 | Z67: =SUM(X67:Y67) -> 0 | AC67: =SUM(AA67:AB67) -> 0 | AF67: =SUM(AD67:AE67) -> 0 | AG67: =AVERAGE(C67:AF67) -> 24546.1
A68: Capper Aseptic 15H | C68: 4579 | D68: 18706 | E68: =SUM(C68:D68) -> 23285 | F68: 4579 | G68: 26569 | H68: =SUM(F68:G68) -> 31148 | I68: 4579 | J68: 18706 | K68: =SUM(I68:J68) -> 23285 | L68: 4579 | M68: 26569 | N68: =SUM(L68:M68) -> 31148 | O68: 4579 | P68: 18706 | Q68: =SUM(O68:P68) -> 23285 | T68: =SUM(R68:S68) -> 0 | W68: =SUM(U68:V68) -> 0 | Z68: =SUM(X68:Y68) -> 0 | AC68: =SUM(AA68:AB68) -> 0 | AF68: =SUM(AD68:AE68) -> 0 | AG68: =AVERAGE(C68:AF68) -> 13215.1
A69: Capper Aseptic 20H | C69: 4335 | D69: 24009 | E69: =SUM(C69:D69) -> 28344 | F69: 4335 | G69: 36785 | H69: =SUM(F69:G69) -> 41120 | I69: 4335 | J69: 24009 | K69: =SUM(I69:J69) -> 28344 | L69: 4335 | M69: 36785 | N69: =SUM(L69:M69) -> 41120 | O69: 4335 | P69: 24009 | Q69: =SUM(O69:P69) -> 28344 | T69: =SUM(R69:S69) -> 0 | W69: =SUM(U69:V69) -> 0 | Z69: =SUM(X69:Y69) -> 0 | AC69: =SUM(AA69:AB69) -> 0 | AF69: =SUM(AD69:AE69) -> 0 | AG69: =AVERAGE(C69:AF69) -> 16727.2
A70: Capper Aseptic 20H | C70: 4335 | D70: 24009 | E70: =SUM(C70:D70) -> 28344 | F70: 4335 | G70: 36785 | H70: =SUM(F70:G70) -> 41120 | I70: 4335 | J70: 24009 | K70: =SUM(I70:J70) -> 28344 | L70: 4335 | M70: 36785 | N70: =SUM(L70:M70) -> 41120 | O70: 4335 | P70: 24009 | Q70: =SUM(O70:P70) -> 28344 | T70: =SUM(R70:S70) -> 0 | W70: =SUM(U70:V70) -> 0 | Z70: =SUM(X70:Y70) -> 0 | AC70: =SUM(AA70:AB70) -> 0 | AF70: =SUM(AD70:AE70) -> 0 | AG70: =AVERAGE(C70:AF70) -> 16727.2
A71: Capper Aseptic 20H | C71: 4335 | D71: 24009 | E71: =SUM(C71:D71) -> 28344 | F71: 4335 | G71: 36785 | H71: =SUM(F71:G71) -> 41120 | I71: 4335 | J71: 24009 | K71: =SUM(I71:J71) -> 28344 | L71: 4335 | M71: 36785 | N71: =SUM(L71:M71) -> 41120 | O71: 4335 | P71: 24009 | Q71: =SUM(O71:P71) -> 28344 | T71: =SUM(R71:S71) -> 0 | W71: =SUM(U71:V71) -> 0 | Z71: =SUM(X71:Y71) -> 0 | AC71: =SUM(AA71:AB71) -> 0 | AF71: =SUM(AD71:AE71) -> 0 | AG71: =AVERAGE(C71:AF71) -> 16727.2
A72: Capper Aseptic 20H | C72: 4335 | D72: 24009 | E72: =SUM(C72:D72) -> 28344 | F72: 4335 | G72: 36785 | H72: =SUM(F72:G72) -> 41120 | I72: 4335 | J72: 24009 | K72: =SUM(I72:J72) -> 28344 | L72: 4335 | M72: 36785 | N72: =SUM(L72:M72) -> 41120 | O72: 4335 | P72: 24009 | Q72: =SUM(O72:P72) -> 28344 | T72: =SUM(R72:S72) -> 0 | W72: =SUM(U72:V72) -> 0 | Z72: =SUM(X72:Y72) -> 0 | AC72: =SUM(AA72:AB72) -> 0 | AF72: =SUM(AD72:AE72) -> 0 | AG72: =AVERAGE(C72:AF72) -> 16727.2
A73: Capper Aseptic 15H | C73: 4579 | D73: 18706 | E73: =SUM(C73:D73) -> 23285 | F73: 4579 | G73: 26569 | H73: =SUM(F73:G73) -> 31148 | I73: 4579 | J73: 18706 | K73: =SUM(I73:J73) -> 23285 | L73: 4579 | M73: 26569 | N73: =SUM(L73:M73) -> 31148 | O73: 4579 | P73: 18706 | Q73: =SUM(O73:P73) -> 23285 | T73: =SUM(R73:S73) -> 0 | W73: =SUM(U73:V73) -> 0 | Z73: =SUM(X73:Y73) -> 0 | AC73: =SUM(AA73:AB73) -> 0 | AF73: =SUM(AD73:AE73) -> 0 | AG73: =AVERAGE(C73:AF73) -> 13215.1
A74: Capper Aseptic 36K | C74: 15236.5 | D74: 28478.15 | E74: =SUM(C74:D74) -> 43714.65 | F74: 15236.5 | G74: 108926.25 | H74: =SUM(F74:G74) -> 124162.75 | I74: 15236.5 | J74: 28975.7 | K74: =SUM(I74:J74) -> 44212.2 | L74: 15236.5 | M74: 108926.25 | N74: =SUM(L74:M74) -> 124162.75 | O74: 15236.5 | P74: 28975.7 | Q74: =SUM(O74:P74) -> 44212.2 | T74: =SUM(R74:S74) -> 0 | W74: =SUM(U74:V74) -> 0 | Z74: =SUM(X74:Y74) -> 0 | AC74: =SUM(AA74:AB74) -> 0 | AF74: =SUM(AD74:AE74) -> 0 | AG74: =AVERAGE(C74:AF74) -> 38046.455
A75: Capper Aseptic 16K | C75: 9830 | D75: 18373 | E75: =SUM(C75:D75) -> 28203 | H75: =SUM(F75:G75) -> 0 | K75: =SUM(I75:J75) -> 0 | N75: =SUM(L75:M75) -> 0 | Q75: =SUM(O75:P75) -> 0 | T75: =SUM(R75:S75) -> 0 | W75: =SUM(U75:V75) -> 0 | Z75: =SUM(X75:Y75) -> 0 | AC75: =SUM(AA75:AB75) -> 0 | AF75: =SUM(AD75:AE75) -> 0 | AG75: =AVERAGE(C75:AF75) -> 4700.5
A76: Capper Aseptic 16K | C76: 9830 | D76: 18373 | E76: =SUM(C76:D76) -> 28203 | F76: 9830 | G76: 70275 | H76: =SUM(F76:G76) -> 80105 | I76: 9830 | J76: 18694 | K76: =SUM(I76:J76) -> 28524 | N76: =SUM(L76:M76) -> 0 | Q76: =SUM(O76:P76) -> 0 | T76: =SUM(R76:S76) -> 0 | W76: =SUM(U76:V76) -> 0 | Z76: =SUM(X76:Y76) -> 0 | AC76: =SUM(AA76:AB76) -> 0 | AF76: =SUM(AD76:AE76) -> 0 | AG76: =AVERAGE(C76:AF76) -> 17104
A77: Capper Aseptic Arol | C77: 3425 | D77: 9644 | E77: =SUM(C77:D77) -> 13069 | F77: 3425 | G77: 48288 | H77: =SUM(F77:G77) -> 51713 | I77: 3425 | J77: 9950 | K77: =SUM(I77:J77) -> 13375 | L77: 3425 | M77: 48288 | N77: =SUM(L77:M77) -> 51713 | O77: 3425 | P77: 9644 | Q77: =SUM(O77:P77) -> 13069 | T77: =SUM(R77:S77) -> 0 | W77: =SUM(U77:V77) -> 0 | Z77: =SUM(X77:Y77) -> 0 | AC77: =SUM(AA77:AB77) -> 0 | AF77: =SUM(AD77:AE77) -> 0 | AG77: =AVERAGE(C77:AF77) -> 14293.9
A78: Capper Aseptic 12K | C78: 4314 | D78: 12724 | E78: =SUM(C78:D78) -> 17038 | F78: 4314 | G78: 36211 | H78: =SUM(F78:G78) -> 40525 | I78: 4314 | J78: 13110 | K78: =SUM(I78:J78) -> 17424 | L78: 4314 | M78: 36211 | N78: =SUM(L78:M78) -> 40525 | O78: 4314 | P78: 13110 | Q78: =SUM(O78:P78) -> 17424 | T78: =SUM(R78:S78) -> 0 | W78: =SUM(U78:V78) -> 0 | Z78: =SUM(X78:Y78) -> 0 | AC78: =SUM(AA78:AB78) -> 0 | AF78: =SUM(AD78:AE78) -> 0 | AG78: =AVERAGE(C78:AF78) -> 13293.6
A79: Capper Aseptic 36k | C79: 15236.5 | D79: 28478.15 | E79: =SUM(C79:D79) -> 43714.65 | F79: 15236.5 | G79: 108926.25 | H79: =SUM(F79:G79) -> 124162.75 | I79: 15236.5 | J79: 28975.7 | K79: =SUM(I79:J79) -> 44212.2 | L79: 15236.5 | M79: 108926.25 | N79: =SUM(L79:M79) -> 124162.75 | O79: 15236.5 | P79: 28975.7 | Q79: =SUM(O79:P79) -> 44212.2 | T79: =SUM(R79:S79) -> 0 | W79: =SUM(U79:V79) -> 0 | Z79: =SUM(X79:Y79) -> 0 | AC79: =SUM(AA79:AB79) -> 0 | AF79: =SUM(AD79:AE79) -> 0 | AG79: =AVERAGE(C79:AF79) -> 38046.455
A80: Capper Aseptic 10 H Mechanical | C80: 3425 | D80: 9644 | E80: =SUM(C80:D80) -> 13069 | F80: 3425 | G80: 48288 | H80: =SUM(F80:G80) -> 51713 | I80: 3425 | J80: 9950 | K80: =SUM(I80:J80) -> 13375 | L80: 3425 | M80: 48288 | N80: =SUM(L80:M80) -> 51713 | O80: 3425 | P80: 9644 | Q80: =SUM(O80:P80) -> 13069 | T80: =SUM(R80:S80) -> 0 | W80: =SUM(U80:V80) -> 0 | Z80: =SUM(X80:Y80) -> 0 | AC80: =SUM(AA80:AB80) -> 0 | AF80: =SUM(AD80:AE80) -> 0 | AG80: =AVERAGE(C80:AF80) -> 14293.9
A81: Capper Arol Euro PK 315 20 heads | C81: 2804.064 | D81: 5131.872 | E81: =SUM(C81:D81) -> 7935.936 | F81: 2804.064 | G81: 27891.36 | H81: =SUM(F81:G81) -> 30695.424 | I81: 2804.064 | J81: 12885.792 | K81: =SUM(I81:J81) -> 15689.856 | L81: 2804.064 | M81: 31251.36 | N81: =SUM(L81:M81) -> 34055.424 | O81: 2804.064 | P81: 5131.872 | Q81: =SUM(O81:P81) -> 7935.936 | T81: =SUM(R81:S81) -> 0 | W81: =SUM(U81:V81) -> 0 | Z81: =SUM(X81:Y81) -> 0 | AC81: =SUM(AA81:AB81) -> 0 | AF81: =SUM(AD81:AE81) -> 0 | AG81: =AVERAGE(C81:AF81) -> 9631.2576
A82: Capper Arol Euro PK20 | C82: 4335 | D82: 24009 | E82: =SUM(C82:D82) -> 28344 | F82: 4335 | G82: 36785 | H82: =SUM(F82:G82) -> 41120 | I82: 4335 | J82: 24009 | K82: =SUM(I82:J82) -> 28344 | L82: 4335 | M82: 36785 | N82: =SUM(L82:M82) -> 41120 | O82: 4335 | P82: 24009 | Q82: =SUM(O82:P82) -> 28344 | R82: 4335 | S82: 36785 | T82: =SUM(R82:S82) -> 41120 | U82: 4335 | V82: 24009 | W82: =SUM(U82:V82) -> 28344 | X82: 4335 | Y82: 36785 | Z82: =SUM(X82:Y82) -> 41120 | AA82: 4335 | AB82: 24009 | AC82: =SUM(AA82:AB82) -> 28344 | AD82: 4335 | AE82: 36785 | AF82: =SUM(AD82:AE82) -> 41120 | AG82: =AVERAGE(C82:AF82) -> 23154.667
A83: Capper Arol Euro PK25 | C83: 3273.696 | D83: 6183.456 | E83: =SUM(C83:D83) -> 9457.152 | F83: 3273.696 | G83: 34632.816 | H83: =SUM(F83:G83) -> 37906.512 | I83: 3273.696 | J83: 15813.216 | K83: =SUM(I83:J83) -> 19086.912 | L83: 3273.696 | M83: 38832.816 | N83: =SUM(L83:M83) -> 42106.512 | O83: 3273.696 | P83: 6183.456 | Q83: =SUM(O83:P83) -> 9457.152 | T83: =SUM(R83:S83) -> 0 | W83: =SUM(U83:V83) -> 0 | Z83: =SUM(X83:Y83) -> 0 | AC83: =SUM(AA83:AB83) -> 0 | AF83: =SUM(AD83:AE83) -> 0 | AG83: =AVERAGE(C83:AF83) -> 11801.424
A84: Capper Arol 15K PK314 | C84: 3448 | D84: 5818 | E84: =SUM(C84:D84) -> 9266 | F84: 3448 | G84: 27426 | H84: =SUM(F84:G84) -> 30874 | I84: 3448 | J84: 14645 | K84: =SUM(I84:J84) -> 18093 | L84: 3448 | M84: 34219 | N84: =SUM(L84:M84) -> 37667 | O84: 3448 | P84: 5818 | Q84: =SUM(O84:P84) -> 9266 | T84: =SUM(R84:S84) -> 0 | W84: =SUM(U84:V84) -> 0 | Z84: =SUM(X84:Y84) -> 0 | AC84: =SUM(AA84:AB84) -> 0 | AF84: =SUM(AD84:AE84) -> 0 | AG84: =AVERAGE(C84:AF84) -> 10516.6
A85: Capper Arol 15K | C85: 3448 | D85: 5818 | E85: =SUM(C85:D85) -> 9266 | F85: 3448 | G85: 27426 | H85: =SUM(F85:G85) -> 30874 | I85: 3448 | J85: 14645 | K85: =SUM(I85:J85) -> 18093 | L85: 3448 | M85: 34219 | N85: =SUM(L85:M85) -> 37667 | O85: 3448 | P85: 5818 | Q85: =SUM(O85:P85) -> 9266 | T85: =SUM(R85:S85) -> 0 | W85: =SUM(U85:V85) -> 0 | Z85: =SUM(X85:Y85) -> 0 | AC85: =SUM(AA85:AB85) -> 0 | AF85: =SUM(AD85:AE85) -> 0 | AG85: =AVERAGE(C85:AF85) -> 10516.6
A86: Capper 18K | C86: 3448 | D86: 5818 | E86: =SUM(C86:D86) -> 9266 | F86: 3448 | G86: 27426 | H86: =SUM(F86:G86) -> 30874 | I86: 3448 | J86: 14645 | K86: =SUM(I86:J86) -> 18093 | L86: 3448 | M86: 34219 | N86: =SUM(L86:M86) -> 37667 | O86: 3448 | P86: 5818 | Q86: =SUM(O86:P86) -> 9266 | T86: =SUM(R86:S86) -> 0 | W86: =SUM(U86:V86) -> 0 | Z86: =SUM(X86:Y86) -> 0 | AC86: =SUM(AA86:AB86) -> 0 | AF86: =SUM(AD86:AE86) -> 0 | AG86: =AVERAGE(C86:AF86) -> 10516.6
A87: Capper Arol Euro PK15 | C87: 3345 | D87: 5590 | E87: =SUM(C87:D87) -> 8935 | F87: 3345 | G87: 22276 | H87: =SUM(F87:G87) -> 25621 | I87: 3345 | J87: 15673 | K87: =SUM(I87:J87) -> 19018 | L87: 3345 | M87: 22276 | N87: =SUM(L87:M87) -> 25621 | O87: 3345 | P87: 5590 | Q87: =SUM(O87:P87) -> 8935 | T87: =SUM(R87:S87) -> 0 | W87: =SUM(U87:V87) -> 0 | Z87: =SUM(X87:Y87) -> 0 | AC87: =SUM(AA87:AB87) -> 0 | AF87: =SUM(AD87:AE87) -> 0 | AG87: =AVERAGE(C87:AF87) -> 8813
A88: Capper Arol Euro PK10 | C88: 2711 | D88: 4725 | E88: =SUM(C88:D88) -> 7436 | F88: 2711 | G88: 22941 | H88: =SUM(F88:G88) -> 25652 | I88: 2711 | J88: 11552 | K88: =SUM(I88:J88) -> 14263 | L88: 2711 | M88: 28949 | N88: =SUM(L88:M88) -> 31660 | O88: 2711 | P88: 4725 | Q88: =SUM(O88:P88) -> 7436 | T88: =SUM(R88:S88) -> 0 | W88: =SUM(U88:V88) -> 0 | Z88: =SUM(X88:Y88) -> 0 | AC88: =SUM(AA88:AB88) -> 0 | AF88: =SUM(AD88:AE88) -> 0 | AG88: =AVERAGE(C88:AF88) -> 8644.7
A89: Capper Arol Euro PK315 36H | C89: 4687.0464 | D89: 8877.1008 | E89: =SUM(C89:D89) -> 13564.147 | F89: 4687.0464 | G89: 49844.179 | H89: =SUM(F89:G89) -> 54531.226 | I89: 4687.0464 | J89: 22633.709 | K89: =SUM(I89:J89) -> 27320.755 | L89: 4687.0464 | M89: 55892.179 | N89: =SUM(L89:M89) -> 60579.226 | O89: 4687.0464 | P89: 8877.1008 | Q89: =SUM(O89:P89) -> 13564.147 | T89: =SUM(R89:S89) -> 0 | W89: =SUM(U89:V89) -> 0 | Z89: =SUM(X89:Y89) -> 0 | AC89: =SUM(AA89:AB89) -> 0 | AF89: =SUM(AD89:AE89) -> 0 | AG89: =AVERAGE(C89:AF89) -> 16955.95
A90: Capper Arol Euro PK15 | C90: 3345 | D90: 5590 | E90: =SUM(C90:D90) -> 8935 | F90: 3345 | G90: 22276 | H90: =SUM(F90:G90) -> 25621 | I90: 3345 | J90: 15673 | K90: =SUM(I90:J90) -> 19018 | L90: 3345 | M90: 22276 | N90: =SUM(L90:M90) -> 25621 | O90: 3345 | P90: 5590 | Q90: =SUM(O90:P90) -> 8935 | T90: =SUM(R90:S90) -> 0 | W90: =SUM(U90:V90) -> 0 | Z90: =SUM(X90:Y90) -> 0 | AC90: =SUM(AA90:AB90) -> 0 | AF90: =SUM(AD90:AE90) -> 0 | AG90: =AVERAGE(C90:AF90) -> 8813
A91: Capper Arol 36H | C91: 4687.0464 | D91: 8877.1008 | E91: =SUM(C91:D91) -> 13564.147 | F91: 4687.0464 | G91: 49844.179 | H91: =SUM(F91:G91) -> 54531.226 | I91: 4687.0464 | J91: 22633.709 | K91: =SUM(I91:J91) -> 27320.755 | L91: 4687.0464 | M91: 55892.179 | N91: =SUM(L91:M91) -> 60579.226 | O91: 4687.0464 | P91: 8877.1008 | Q91: =SUM(O91:P91) -> 13564.147 | T91: =SUM(R91:S91) -> 0 | W91: =SUM(U91:V91) -> 0 | Z91: =SUM(X91:Y91) -> 0 | AC91: =SUM(AA91:AB91) -> 0 | AF91: =SUM(AD91:AE91) -> 0 | AG91: =AVERAGE(C91:AF91) -> 16955.95
A92: CAPPER EURO PK 415 10H | C92: 3024 | D92: 13603 | E92: =SUM(C92:D92) -> 16627 | F92: 3024 | G92: 20181 | H92: =SUM(F92:G92) -> 23205 | I92: 3024 | J92: 13603 | K92: =SUM(I92:J92) -> 16627 | L92: 3024 | M92: 20181 | N92: =SUM(L92:M92) -> 23205 | O92: 3024 | P92: 13603 | Q92: =SUM(O92:P92) -> 16627 | T92: =SUM(R92:S92) -> 0 | W92: =SUM(U92:V92) -> 0 | Z92: =SUM(X92:Y92) -> 0 | AC92: =SUM(AA92:AB92) -> 0 | AF92: =SUM(AD92:AE92) -> 0 | AG92: =AVERAGE(C92:AF92) -> 9629.1
A93: CAPPER EURO PK 415 10H | C93: 3024 | D93: 13603 | E93: =SUM(C93:D93) -> 16627 | F93: 3024 | G93: 20181 | H93: =SUM(F93:G93) -> 23205 | I93: 3024 | J93: 13603 | K93: =SUM(I93:J93) -> 16627 | L93: 3024 | M93: 20181 | N93: =SUM(L93:M93) -> 23205 | O93: 3024 | P93: 13603 | Q93: =SUM(O93:P93) -> 16627 | T93: =SUM(R93:S93) -> 0 | W93: =SUM(U93:V93) -> 0 | Z93: =SUM(X93:Y93) -> 0 | AC93: =SUM(AA93:AB93) -> 0 | AF93: =SUM(AD93:AE93) -> 0 | AG93: =AVERAGE(C93:AF93) -> 9629.1
A94: CAPPER AROL PK 27 | C94: 3273.696 | D94: 6183.456 | E94: =SUM(C94:D94) -> 9457.152 | F94: 3273.696 | G94: 34632.816 | H94: =SUM(F94:G94) -> 37906.512 | I94: 3273.696 | J94: 15813.216 | K94: =SUM(I94:J94) -> 19086.912 | L94: 3273.696 | M94: 38832.816 | N94: =SUM(L94:M94) -> 42106.512 | O94: 3273.696 | P94: 6183.456 | Q94: =SUM(O94:P94) -> 9457.152 | T94: =SUM(R94:S94) -> 0 | W94: =SUM(U94:V94) -> 0 | Z94: =SUM(X94:Y94) -> 0 | AC94: =SUM(AA94:AB94) -> 0 | AF94: =SUM(AD94:AE94) -> 0 | AG94: =AVERAGE(C94:AF94) -> 11801.424
A95: CAPPER EURO PK 20K | D95: 24705 | E95: =SUM(C95:D95) -> 24705 | G95: 38326 | H95: =SUM(F95:G95) -> 38326 | J95: 2599 | K95: =SUM(I95:J95) -> 2599 | M95: 38326 | N95: =SUM(L95:M95) -> 38326 | P95: 25919 | Q95: =SUM(O95:P95) -> 25919 | T95: =SUM(R95:S95) -> 0 | W95: =SUM(U95:V95) -> 0 | Z95: =SUM(X95:Y95) -> 0 | AC95: =SUM(AA95:AB95) -> 0 | AF95: =SUM(AD95:AE95) -> 0 | AG95: =AVERAGE(C95:AF95) -> 17316.667
A96: CAPPER AROL PK 15 | C96: 3273.696 | D96: 6183.456 | E96: =SUM(C96:D96) -> 9457.152 | F96: 3273.696 | G96: 34632.816 | H96: =SUM(F96:G96) -> 37906.512 | I96: 3273.696 | J96: 15813.216 | K96: =SUM(I96:J96) -> 19086.912 | L96: 3273.696 | M96: 38832.816 | N96: =SUM(L96:M96) -> 42106.512 | O96: 3273.696 | P96: 6183.456 | Q96: =SUM(O96:P96) -> 9457.152 | T96: =SUM(R96:S96) -> 0 | W96: =SUM(U96:V96) -> 0 | Z96: =SUM(X96:Y96) -> 0 | AC96: =SUM(AA96:AB96) -> 0 | AF96: =SUM(AD96:AE96) -> 0 | AG96: =AVERAGE(C96:AF96) -> 11801.424
A97: Capper Arol Euro PK315 36H | C97: 4687.0464 | D97: 8877.1008 | E97: =SUM(C97:D97) -> 13564.147 | F97: 4687.0464 | G97: 49844.179 | H97: =SUM(F97:G97) -> 54531.226 | I97: 4687.0464 | J97: 22633.709 | K97: =SUM(I97:J97) -> 27320.755 | L97: 4687.0464 | M97: 55892.179 | N97: =SUM(L97:M97) -> 60579.226 | O97: 4687.0464 | P97: 8877.1008 | Q97: =SUM(O97:P97) -> 13564.147 | T97: =SUM(R97:S97) -> 0 | W97: =SUM(U97:V97) -> 0 | Z97: =SUM(X97:Y97) -> 0 | AC97: =SUM(AA97:AB97) -> 0 | AF97: =SUM(AD97:AE97) -> 0 | AG97: =AVERAGE(C97:AF97) -> 16955.95
A98: CAPPER 20K EURO PK | D98: 5869 | E98: =SUM(C98:D98) -> 5869 | G98: 32299 | H98: =SUM(F98:G98) -> 32299 | J98: 21748 | K98: =SUM(I98:J98) -> 21748 | M98: 40711 | N98: =SUM(L98:M98) -> 40711 | P98: 5869 | Q98: =SUM(O98:P98) -> 5869 | T98: =SUM(R98:S98) -> 0 | W98: =SUM(U98:V98) -> 0 | Z98: =SUM(X98:Y98) -> 0 | AC98: =SUM(AA98:AB98) -> 0 | AF98: =SUM(AD98:AE98) -> 0 | AG98: =AVERAGE(C98:AF98) -> 14199.467
A99: CAPPER ZALKIN | C99: 217 | D99: 13647 | E99: =SUM(C99:D99) -> 13864 | F99: 210.24 | G99: 29690.327 | H99: =SUM(F99:G99) -> 29900.567 | I99: 216.5472 | J99: 13646.908 | K99: =SUM(I99:J99) -> 13863.456 | L99: 223.04362 | M99: 31498.468 | N99: =SUM(L99:M99) -> 31721.511 | O99: 3273.696 | P99: 13647 | Q99: =SUM(O99:P99) -> 16920.696 | T99: =SUM(R99:S99) -> 0 | W99: =SUM(U99:V99) -> 0 | Z99: =SUM(X99:Y99) -> 0 | AC99: =SUM(AA99:AB99) -> 0 | AF99: =SUM(AD99:AE99) -> 0 | AG99: =AVERAGE(C99:AF99) -> 10627.023
A100: Capper Arol Euro 24H PK 315 | C100: 4427 | D100: 27451 | E100: =SUM(C100:D100) -> 31878 | F100: 4427 | G100: 42585 | H100: =SUM(F100:G100) -> 47012 | I100: 4427 | J100: 28799 | K100: =SUM(I100:J100) -> 33226 | N100: =SUM(L100:M100) -> 0 | Q100: =SUM(O100:P100) -> 0 | T100: =SUM(R100:S100) -> 0 | W100: =SUM(U100:V100) -> 0 | Z100: =SUM(X100:Y100) -> 0 | AC100: =SUM(AA100:AB100) -> 0 | AF100: =SUM(AD100:AE100) -> 0 | AG100: =AVERAGE(C100:AF100) -> 14014.5
A101: CAPPER AROL EURO PK 24 | D101: 17451 | E101: =SUM(C101:D101) -> 17451 | G101: 42585 | H101: =SUM(F101:G101) -> 42585 | J101: 28799 | K101: =SUM(I101:J101) -> 28799 | M101: 42585 | N101: =SUM(L101:M101) -> 42585 | P101: 21589 | Q101: =SUM(O101:P101) -> 21589 | T101: =SUM(R101:S101) -> 0 | W101: =SUM(U101:V101) -> 0 | Z101: =SUM(X101:Y101) -> 0 | AC101: =SUM(AA101:AB101) -> 0 | AF101: =SUM(AD101:AE101) -> 0 | AG101: =AVERAGE(C101:AF101) -> 20401.2
A102: Capper Arol PK | C102: 1083 | D102: 6920 | E102: =SUM(C102:D102) -> 8003 | F102: 1083 | G102: 38580 | H102: =SUM(F102:G102) -> 39663 | I102: 1083 | J102: 6920 | K102: =SUM(I102:J102) -> 8003 | L102: 1083 | M102: 38580 | N102: =SUM(L102:M102) -> 39663 | O102: 1083 | P102: 6920 | Q102: =SUM(O102:P102) -> 8003 | T102: =SUM(R102:S102) -> 0 | W102: =SUM(U102:V102) -> 0 | Z102: =SUM(X102:Y102) -> 0 | AC102: =SUM(AA102:AB102) -> 0 | AF102: =SUM(AD102:AE102) -> 0 | AG102: =AVERAGE(C102:AF102) -> 10333.5
A103: Capper Zalkin 10K | C103: 3448 | D103: 5818 | E103: =SUM(C103:D103) -> 9266 | F103: 3448 | G103: 27426 | H103: =SUM(F103:G103) -> 30874 | I103: 3448 | J103: 14645 | K103: =SUM(I103:J103) -> 18093 | L103: 3448 | M103: 34219 | N103: =SUM(L103:M103) -> 37667 | O103: 3448 | P103: 5818 | Q103: =SUM(O103:P103) -> 9266 | T103: =SUM(R103:S103) -> 0 | W103: =SUM(U103:V103) -> 0 | Z103: =SUM(X103:Y103) -> 0 | AC103: =SUM(AA103:AB103) -> 0 | AF103: =SUM(AD103:AE103) -> 0 | AG103: =AVERAGE(C103:AF103) -> 10516.6
A104: Capper Euro PK 315 Top Part: 10 H | C104: 2711 | D104: 4725 | E104: =SUM(C104:D104) -> 7436 | F104: 2711 | G104: 22941 | H104: =SUM(F104:G104) -> 25652 | I104: 2711 | J104: 11552 | K104: =SUM(I104:J104) -> 14263 | L104: 2711 | M104: 28949 | N104: =SUM(L104:M104) -> 31660 | O104: 2711 | P104: 4725 | Q104: =SUM(O104:P104) -> 7436 | T104: =SUM(R104:S104) -> 0 | W104: =SUM(U104:V104) -> 0 | Z104: =SUM(X104:Y104) -> 0 | AC104: =SUM(AA104:AB104) -> 0 | AF104: =SUM(AD104:AE104) -> 0 | AG104: =AVERAGE(C104:AF104) -> 8644.7
A105: Capper Fed | D105: 936.1 | E105: =SUM(C105:D105) -> 936.1 | G105: 982.7 | H105: =SUM(F105:G105) -> 982.7 | J105: 1777.01 | K105: =SUM(I105:J105) -> 1777.01 | M105: 982.7 | N105: =SUM(L105:M105) -> 982.7 | P105: 936.1 | Q105: =SUM(O105:P105) -> 936.1 | S105: 1823.61 | T105: =SUM(R105:S105) -> 1823.61 | V105: 936.1 | W105: =SUM(U105:V105) -> 936.1 | Y105: 982.7 | Z105: =SUM(X105:Y105) -> 982.7 | AB105: 1777.01 | AC105: =SUM(AA105:AB105) -> 1777.01 | AE105: 982.7 | AF105: =SUM(AD105:AE105) -> 982.7 | AG105: =AVERAGE(C105:AF105) -> 1211.673
A106: Capper 15H #13220 for Filler #SRVI0004 | C106: 3281.02 | D106: 5651.02 | E106: =SUM(C106:D106) -> 8932.04 | F106: 3281.02 | G106: 29201.32 | H106: =SUM(F106:G106) -> 32482.34 | I106: 3281.02 | J106: 14178.23 | K106: =SUM(I106:J106) -> 17459.25 | L106: 3281.02 | M106: 35994.52 | N106: =SUM(L106:M106) -> 39275.54 | O106: 3281.02 | P106: 5651.02 | Q106: =SUM(O106:P106) -> 8932.04 | R106: 3281.02 | S106: 37728.53 | T106: =SUM(R106:S106) -> 41009.55 | U106: 3281.02 | V106: 5651.02 | W106: =SUM(U106:V106) -> 8932.04 | X106: 3281.02 | Y106: 35994.52 | Z106: =SUM(X106:Y106) -> 39275.54 | AA106: 3281.02 | AB106: 14178.23 | AC106: =SUM(AA106:AB106) -> 17459.25 | AD106: 3281.02 | AE106: 29201.32 | AF106: =SUM(AD106:AE106) -> 32482.34 | AG106: =AVERAGE(C106:AF106) -> 16415.995
A107: Capper 25H #15733 for Filler | C107: 4330.25 | D107: 23024.15 | E107: =SUM(C107:D107) -> 27354.4 | F107: 4330.25 | G107: 46119.15 | H107: =SUM(F107:G107) -> 50449.4 | I107: 4330.25 | J107: 23911.66 | K107: =SUM(I107:J107) -> 28241.91 | L107: 4330.25 | M107: 46119.15 | N107: =SUM(L107:M107) -> 50449.4 | O107: 4330.25 | P107: 23024.15 | Q107: =SUM(O107:P107) -> 27354.4 | R107: 4330.25 | S107: 47006.66 | T107: =SUM(R107:S107) -> 51336.91 | U107: 4330.25 | V107: 23024.15 | W107: =SUM(U107:V107) -> 27354.4 | X107: 4330.25 | Y107: 46119.15 | Z107: =SUM(X107:Y107) -> 50449.4 | AA107: 4330.25 | AB107: 23911.66 | AC107: =SUM(AA107:AB107) -> 28241.91 | AD107: 4330.25 | AE107: 46119.15 | AF107: =SUM(AD107:AE107) -> 50449.4 | AG107: =AVERAGE(C107:AF107) -> 26112.102
A108: Capper 24K | D108: 9814.55 | E108: =SUM(C108:D108) -> 9814.55 | G108: 40728.23 | H108: =SUM(F108:G108) -> 40728.23 | J108: 9986.68 | K108: =SUM(I108:J108) -> 9986.68 | M108: 40728.23 | N108: =SUM(L108:M108) -> 40728.23 | P108: 9814.55 | Q108: =SUM(O108:P108) -> 9814.55 | S108: 47911,09 | T108: =SUM(R108:S108) -> 0 | V108: 9814.55 | W108: =SUM(U108:V108) -> 9814.55 | Y108: 40728.23 | Z108: =SUM(X108:Y108) -> 40728.23 | AB108: 9986.68 | AC108: =SUM(AA108:AB108) -> 9986.68 | AE108: 40728.23 | AF108: =SUM(AD108:AE108) -> 40728.23 | AG108: =AVERAGE(C108:AF108) -> 22350.519
A109: Capper Feeder Aidlin 24 | D109: 2134.01 | E109: =SUM(C109:D109) -> 2134.01 | G109: 2134.01 | H109: =SUM(F109:G109) -> 2134.01 | J109: 2134.01 | K109: =SUM(I109:J109) -> 2134.01 | M109: 2134.01 | N109: =SUM(L109:M109) -> 2134.01 | P109: 2134.01 | Q109: =SUM(O109:P109) -> 2134.01 | S109: 2134.01 | T109: =SUM(R109:S109) -> 2134.01 | V109: 2134.01 | W109: =SUM(U109:V109) -> 2134.01 | Y109: 2134.01 | Z109: =SUM(X109:Y109) -> 2134.01 | AB109: 2134.01 | AC109: =SUM(AA109:AB109) -> 2134.01 | AE109: 2134.01 | AF109: =SUM(AD109:AE109) -> 2134.01 | AG109: =AVERAGE(C109:AF109) -> 2134.01
...

Sheet PivotTable machine
A2: CMU | B2: 1,16
A4: Row Labels | B4: Sum of Y1 | C4: Sum of Y2 | D4: Sum of Y3 | E4: Sum of Y4 | F4: Sum of Y4_2 | G4: Sum of Y5 | H4: Sum of Y6 | I4: Sum of Y7 | J4: Sum of Y8 | K4: Sum of Y9 | L4: Sum of Y10 | M4: Sum of Average
A5: ADDED CONVEYORS | B5: 6081 | C5: 13175.5 | D5: 11148.5 | E5: 9121.5 | F5: 9121.5 | G5: 11148.5 | H5: 0 | I5: 0 | J5: 0 | K5: 0 | L5: 0 | M5: 5067.5
A6: Air conveyor | B6: 28820 | C6: 30270 | D6: 30560 | E6: 29690 | F6: 29690 | G6: 29980 | H6: 0 | I6: 0 | J6: 0 | K6: 0 | L6: 0 | M6: 19348.667
A7: Alfa Rollquattro F35E 24T/R/HH3 | B7: 12557.45 | C7: 38345.28 | D7: 12557.45 | E7: 38345.28 | F7: 38345.28 | G7: 12557.45 | H7: 38277.96 | I7: 12557.45 | J7: 38345.28 | K7: 12557.45 | L7: 38345.28 | M7: 16963.089
A8: Bagging System and Air Conveyor | B8: 58705 | C8: 58705 | D8: 58705 | E8: 58705 | F8: 58705 | G8: 58705 | H8: 0 | I8: 0 | J8: 0 | K8: 0 | L8: 0 | M8: 39136.667
A9: BOTTLE & PACK CONVEYOR | B9: 47320 | C9: 64400 | D9: 53320 | E9: 55400 | F9: 55400 | G9: 50320 | H9: 0 | I9: 0 | J9: 0 | K9: 0 | L9: 0 | M9: 27076
A10: Bottle & Pack Conveyors | B10: 28560 | C10: 47630 | D10: 47630 | E10: 47630 | F10: 47630 | G10: 47630 | H10: 0 | I10: 0 | J10: 0 | K10: 0 | L10: 0 | M10: 29210.667
A11: BOTTLE CONVEYORS | B11: 4126.2 | C11: 2691 | D11: 4305.6 | E11: 2691 | F11: 2691 | G11: 0 | H11: 0 | I11: 0 | J11: 0 | K11: 0 | L11: 0 | M11: 1454.0842
A12: BT & PK CONVEYOR | B12: 49560 | C12: 53690 | D12: 37170 | E12: 45430 | F12: 45430 | G12: 41300 | H12: 0 | I12: 0 | J12: 0 | K12: 0 | L12: 0 | M12: 22715
A13: Cap-Feeder Aidlin 24 | B13: 3344.63 | C13: 3344.63 | D13: 3344.63 | E13: 3344.63 | F13: 3344.63 | G13: 3344.63 | H13: 3344.63 | I13: 3344.63 | J13: 3344.63 | K13: 3344.63 | L13: 3344.63 | M13: 3344.63
A14: Capper Euro PK 315 Top Part: 10 H | B14: 7436 | C14: 25652 | D14: 14263 | E14: 31660 | F14: 31660 | G14: 7436 | H14: 0 | I14: 0 | J14: 0 | K14: 0 | L14: 0 | M14: 8644.7
A15: Capper 12H | B15: 23517.02 | C15: 68928.86 | D15: 30741.59 | E15: 79797.98 | F15: 79797.98 | G15: 23517.02 | H15: 76153.43 | I15: 23517.02 | J15: 79797.98 | K15: 30741.59 | L15: 68928.86 | M15: 33709.423
A16: Capper 15H #13220 for Filler #SRVI0004 | B16: 8932.04 | C16: 32482.34 | D16: 17459.25 | E16: 39275.54 | F16: 39275.54 | G16: 8932.04 | H16: 41009.55 | I16: 8932.04 | J16: 39275.54 | K16: 17459.25 | L16: 32482.34 | M16: 16415.995
... A172: Grand Total | B172: 7544487.2 | C172: 13251597 | D172: 11604636 | E172: 13207026 | F172: 13207026 | G172: 8342497.5 | H172: 3332416.8 | I172: 1417817.3 | J172: 2667235.5 | K172: 2430794.8 | L172: 2748274.4 | M172: 6133835.3

Sheet SBO
B1: CMU | C1: 1.12
A4: PR00
A5: Scheduled maintenance parts (ISO13306) | C5: 3000 | D5: 6000 | E5: 9000 | F5: 12000 | G5: 15000 | H5: 18000 | I5: 21000 | J5: 24000 | K5: 27000 | L5: 30000 | M5: =L5+3000 -> 33000 | N5: =M5+3000 -> 36000 | O5: =N5+3000 -> 39000 | P5: =O5+3000 -> 42000 | Q5: =P5+3000 -> 45000 | R5: =Q5+3000 -> 48000 | S5: =R5+3000 -> 51000 | T5: =S5+3000 -> 54000 | ... V5: =U5+3000 -> 60000 | W5: Average
A6: BLOWER SIDEL SBO 20 U2 ECO | C6: 9846.1 | D6: 44112.66 | E6: 9846.1 | F6: 80097.67 | G6: 9846.1 | H6: 77933.83 | I6: 9846.1 | J6: 79068.82 | K6: 9846.1 | L6: 45141.51 | V6: 127709 | W6: =AVERAGE(C6:V6) -> 45753.999
A7: SBO 16 U2 Predis C5 | C7: 7153 | D7: 48332 | E7: 7153 | F7: 93274 | G7: 7153 | H7: 127709 | I7: 7153 | J7: 93274 | K7: 7153 | L7: 48332 | M7: 7153 | N7: 127709 | O7: 7153 | P7: 48332 | Q7: 7153 | R7: 93274 | S7: 7153 | T7: 48332 | U7: 7153 | V7: 127709 | W7: =AVERAGE(C7:V7) -> 46390.35
A8: SBO24 Matrix L p40 eHR | C8: 5170 | D8: 58799 | E8: 28484 | F8: 94133 | G8: 5170 | H8: 148071 | I8: 5170 | J8: 94133 | K8: 28484 | V8: 94133 | W8: =AVERAGE(C8:V8) -> 56174.7
A9: SBO 28 Mx L P40 | C9: 6030 | D9: 53143 | E9: 20013 | F9: 127131 | G9: 6030 | H9: 116348 | I9: 20013 | J9: 127131 | K9: 6030 | L9: 116348 | W9: =AVERAGE(C9:V9) -> 59821.7
A10: SBO 8 Matrix M C5 P50 | C10: 8107.52 | D10: 31467.52 | E10: 17934.08 | F10: 80814.08 | G10: 8107.52 | H10: 47104 | I10: 8107.52 | J10: 130412.8 | K10: 17934.08 | L10: 31467.52 | W10: =AVERAGE(C10:V10) -> 38145.664
A11: SBO 16 Matrix M C5 | C11: 9194 | D11: 60303 | E11: 17037 | F11: 98507 | G11: 9194 | H11: 132174 | I11: 9194 | J11: 98507 | K11: 17037 | L11: 60303 | W11: =AVERAGE(C11:V11) -> 51145
A12: SBO 16 Matrix M P40 | C12: 6310 | D12: 45248 | E12: 23838 | F12: 73655 | G12: 6310 | H12: 113274 | I12: 6310 | J12: 73366 | K12: 23838 | L12: 113274 | W12: =AVERAGE(C12:V12) -> 48542.3
A13: SBO 22 Matrix M C5 P50 | C13: 8023 | D13: 45625 | E13: 19013 | F13: 97256 | G13: 8023 | H13: 141555 | I13: 8023 | J13: 97256 | K13: 19013 | L13: 45625 | W13: =AVERAGE(C13:V13) -> 48941.2
A14: SBO 14 Matrix M C5 P50 | C14: 8359 | D14: 54821 | E14: 15489 | F14: 89552 | G14: 8359 | H14: 120159 | I14: 8359 | J14: 89552 | K14: 15489 | L14: 54821 | W14: =AVERAGE(C14:V14) -> 46496
A15: SBO 16 Matrix M P40 | C15: 5352 | D15: 61036 | E15: 5352 | F15: 90431 | G15: 5352 | H15: 112953 | I15: 5352 | J15: 90135 | K15: 5352 | L15: 61036 | W15: =AVERAGE(C15:V15) -> 44235.1
A16: SBO 14 Matrix L P40 | C16: 3368 | D16: 19343 | E16: 16515 | F16: 42688 | G16: 3368 | H16: 34570 | I16: 3368 | J16: 96259 | K16: 16515 | L16: 19343 | W16: =AVERAGE(C16:V16) -> 25533.7
A17: SBO 12 Matrix M C5 P40 | C17: 7523 | D17: 49338 | E17: 13940 | F17: 80596 | G17: 7523 | H17: 108143 | I17: 7523 | J17: 80596 | K17: 13940 | L17: 49338 | W17: =AVERAGE(C17:V17) -> 41846
A18: SBO 16 Matrix M C5 | C18: 9194 | D18: 60303 | E18: 17037 | F18: 98507 | G18: 9194 | H18: 132174 | I18: 9194 | J18: 98507 | K18: 17037 | L18: 60303 | W18: =AVERAGE(C18:V18) -> 51145
A19: SBO 16 Matrix M C5 | C19: 9194 | D19: 60303 | E19: 17037 | F19: 98507 | G19: 9194 | H19: 132174 | I19: 9194 | J19: 98507 | K19: 17037 | L19: 60303 | W19: =AVERAGE(C19:V19) -> 51145
A20: SBO 16 Matrix M C5 | C20: 9194 | D20: 60303 | E20: 17037 | F20: 98507 | G20: 9194 | H20: 132174 | I20: 9194 | J20: 98507 | K20: 17037 | L20: 60303 | W20: =AVERAGE(C20:V20) -> 51145
... A27: SBO 34 Mx P40 | C27: 6362 | D27: 49813 | E27: 38992 | F27: 87315 | G27: 6362 | H27: 85804 | I27: 6362 | J27: 187825 | K27: 38992 | L27: 49813 | W27: =AVERAGE(C27:V27) -> 55764
A28: SBO 14 Matrix M C5 P50 with Bottle switch | C28: 8359 | D28: 54821 | W28: =AVERAGE(C28:V28) -> 31590
A29: SBO 14 Matrix M C5 P50 with Bottle switch | C29: 10469 | D29: 91063 | E29: 10469 | F29: 138549 | G29: 10469 | H29: 152118 | W29: =AVERAGE(C29:V29) -> 68856.167
A30: SBO12 Matrix M p40 | C30: 4301 | D30: 30528 | E30: 4301 | F30: 62220 | G30: 4301 | H30: 72507 | I30: 4301 | J30: 62220 | K30: 4301 | L30: 30528 | W30: =AVERAGE(C30:V30) -> 27950.8
A31: SBO 34 Mx XS P40 | C31: 6362 | D31: 49813 | E31: 38992 | F31: 87315 | G31: 6362 | H31: 85804 | I31: 6362 | J31: 187825 | K31: 38992 | L31: 49813 | W31: =AVERAGE(C31:V31) -> 55764
A32: SBO 10 Matrix eHR | C32: 2984.84 | D32: 14171 | E32: 134808 | F32: 37885 | G32: 2984.84 | H32: 80809 | I32: 2984.84 | J32: 37885 | K32: 14171 | L32: 16812 | W32: =AVERAGE(C32:V32) -> 34549.552
A33: SBO22 Matrix M p50 | C33: 4606 | D33: 30945 | E33: 28707 | F33: 83886 | G33: 4606 | H33: 57018 | I33: 4606 | J33: 188563 | K33: 28707 | L33: 30945 | W33: =AVERAGE(C33:V33) -> 46258.9
A34: SBO 8 Mx P40 C5 | C34: 6006 | D34: 34335 | E34: 6006 | F34: 109818 | G34: 6006 | H34: 38671 | I34: 6006 | J34: 109818 | K34: 6006 | L34: 38671 | W34: =AVERAGE(C34:V34) -> 36134.3
A35: SBO 8 MX L eHR P50 | C35: 2387 | D35: 13449 | E35: 107846 | F35: 30308 | G35: 2387 | H35: 64647 | I35: 2387 | J35: 30308 | K35: 107846 | L35: 13449 | W35: =AVERAGE(C35:V35) -> 37501.4
A36: SBO 8 Mx HR P50 | C36: 2387 | D36: 13449 | E36: 107846 | F36: 30308 | G36: 2387 | H36: 64647 | I36: 2387 | J36: 30308 | K36: 107846 | L36: 13449 | W36: =AVERAGE(C36:V36) -> 37501.4
A37: SBO 10 Matrix M C5 P50 | C37: 7600 | D37: 29500 | E37: 16812 | F37: 75763 | G37: 7600 | H37: 44160 | I37: 7600 | J37: 122262 | K37: 16812 | L37: 29500 | W37: =AVERAGE(C37:V37) -> 35760.9
A38: SBO 20 MATRIX M P40 | C38: 5711 | D38: 85593 | E38: 5711 | F38: 94616 | G38: 27622 | H38: 112723 | I38: 5711 | J38: 94616 | K38: 27622 | L38: 112723 | W38: =AVERAGE(C38:V38) -> 57264.8
A39: SBO 20 MX P40 | D39: 85593 | F39: 94616 | H39: 112723 | J39: 94616 | L39: 112723 | W39: =AVERAGE(C39:V39) -> 100054.2
A40: SBO 16 MATRIX M P40 | C40: 6310 | D40: 45248 | E40: 23838 | F40: 73655 | G40: 6310 | H40: 113274 | I40: 6310 | J40: 73366 | K40: 23838 | L40: 113274 | W40: =AVERAGE(C40:V40) -> 48542.3
A41: SBO 34 Mx P40 | C41: 6362 | D41: 49813 | E41: 38992 | F41: 87315 | G41: 6362 | H41: 85804 | I41: 6362 | J41: 187825 | K41: 38992 | L41: 49813 | W41: =AVERAGE(C41:V41) -> 55764
A42: SBO 18 eHR MATRIX P40 | D42: 29780 | F42: 65448 | H42: 127378 | J42: 65448 | L42: 29780 | W42: =AVERAGE(C42:V42) -> 63566.8
A43: SBO 20 MATRIX M P40 | C43: 5711 | D43: 85593 | E43: 5711 | F43: 94616 | G43: 27622 | H43: 112723 | I43: 5711 | J43: 94616 | K43: 27622 | L43: 112723 | W43: =AVERAGE(C43:V43) -> 57264.8
A44: SBO 24 Matrix M p40 | C44: 8141 | D44: 50851 | E44: 20166 | F44: 107566 | G44: 8141 | H44: 107381 | I44: 0 | J44: 0 | K44: 0 | L44: 0 | W44: =AVERAGE(C44:V44) -> 30224.6
A45: SBO 22 MATRIX P40 | D45: 72248 | F45: 98136 | H45: 122797 | J45: 98136 | L45: 82248 | W45: =AVERAGE(C45:V45) -> 94713
A46: SBO 10 Matrix M P40 | C46: 3115 | D46: 18245 | E46: 3115 | F46: 53131 | G46: 3115 | H46: 89052 | I46: 3115 | J46: 52835 | K46: 3115 | L46: 32087 | W46: =AVERAGE(C46:V46) -> 26092.5
A47: SBO 24 Matrix XS C5 P50 | C47: 6567.65 | D47: 98431.95 | E47: 6567.65 | F47: 108808.4 | G47: 31765.3 | H47: 129631.45 | I47: 6567.65 | J47: 108808.4 | K47: 31765.3 | L47: 129631.45 | W47: =AVERAGE(C47:V47) -> 65854.52
A48: SBO 12 Mx P40 | C48: 3368 | D48: 19343 | E48: 16515 | F48: 42688 | G48: 3368 | H48: 34570 | I48: 3368 | J48: 96259 | K48: 16515 | L48: 19343 | W48: =AVERAGE(C48:V48) -> 25533.7
A49: SBO 8 Mx P40 | C49: 2593 | D49: 37124 | E49: 2593 | F49: 54674 | G49: 2593 | H49: 82727 | I49: 2593 | J49: 55102 | K49: 2593 | L49: 37124 | W49: =AVERAGE(C49:V49) -> 27971.6
A50: SBO 14 Mx L P40 | C50: 3979 | D50: 36753 | E50: 3979 | F50: 63517 | G50: 3979 | H50: 38547 | I50: 3979 | J50: 123143 | K50: 3979 | L50: 36753 | M50: 3979 | N50: 65310 | O50: 3979 | P50: 36753 | Q50: 3979 | R50: 123143 | S50: 3979 | T50: 38547 | U50: 3979 | V50: 63517 | W50: =AVERAGE(C50:V50) -> 33288.65
A51: SBO 6 Matrix M Predis C5 P50 | C51: 0 | D51: 0 | E51: 0 | F51: 0 | G51: 0 | H51: 0 | I51: 0 | J51: 0 | K51: 0 | L51: 0 | W51: =AVERAGE(C51:V51) -> 0
A52: SBO 8 Matrix M P40 | C52: 3146 | D52: 25209 | E52: 7339 | F52: 49163 | G52: 3146 | H52: 64817 | I52: 7339 | J52: 49163 | K52: 3146 | L52: 25209 | W52: =AVERAGE(C52:V52) -> 23767.7
A58: STD BLOW
A59: BLOWER SIDEL SBO 20 U2 ECO | C59: 9846.1 | D59: 44112.66 | E59: 9846.1 | F59: 80097.67 | G59: 9846.1 | H59: 77933.83 | I59: 9846.1 | J59: 79068.82 | K59: 9846.1 | L59: 45141.51 | V59: 127709 | W59: =AVERAGE(C59:V59) -> 45753.999
A60: SBO 16 U2 Predis C5 | C60: 7153 | D60: 48332 | E60: 7153 | F60: 93274 | G60: 7153 | H60: 127709 | I60: 7153 | J60: 93274 | K60: 7153 | L60: 48332 | M60: 7153 | N60: 127709 | O60: 7153 | P60: 48332 | Q60: 7153 | R60: 93274 | S60: 7153 | T60: 48332 | U60: 7153 | V60: 127709 | W60: =AVERAGE(C60:V60) -> 46390.35
A61: SBO 14/20 U HR # 11533 - Combi # 467 - 21498 | C61: 12080.14 | D61: 36899.67 | E61: 32162.56 | F61: 128038.34 | G61: 12080.14 | H61: 157597.6 | I61: 12080.14 | J61: 127393.22 | K61: 32162.56 | L61: 37544.79 | M61: 12080.14 | N61: 248091.15 | O61: 12080.14 | P61: 36899.67 | Q61: 32162.56 | R61: 128038.34 | S61: 12080.14 | T61: 157597.6 | U61: 12080.14 | V61: 127393.27 | W61: =AVERAGE(C61:V61) -> 68327.115
A62: SBO 24/20 XS HS Eco | C62: 8941.63 | D62: 53401.7 | E62: 8941.63 | F62: 104274.45 | G62: 8941.63 | H62: 184940.21 | I62: 8941.63 | J62: 101163.09 | K62: 8941.63 | L62: 56513.06 | M62: 8941.63 | N62: 232701.6 | O62: 8941.63 | P62: 53401.7 | Q62: 8941.63 | R62: 104274.45 | S62: 8941.63 | T62: 184940.21 | U62: 8941.63 | V62: 101163.09 | W62: =AVERAGE(C62:V62) -> 63309.493
A63: SBO 14/20 U2 | C63: 8941.63 | D63: 53401.7 | E63: 8941.63 | F63: 104274.45 | G63: 8941.63 | H63: 184940.21 | I63: 8941.63 | J63: 101163.09 | K63: 8941.63 | L63: 56513.06 | M63: 8941.63 | N63: 232701.6 | O63: 8941.63 | P63: 53401.7 | Q63: 8941.63 | R63: 104274.45 | S63: 8941.63 | T63: 184940.21 | U63: 8941.63 | V63: 101163.09 | W63: =AVERAGE(C63:V63) -> 63309.493
A64: SBO 6/8 U | C64: 3838.74 | D64: 13753.73 | E64: 3838.74 | F64: 42539.39 | G64: 3838.74 | H64: 43236.15 | I64: 3838.74 | J64: 79235.75 | K64: 3838.74 | L64: 14531.57 | M64: 3838.74 | N64: 71243.97 | O64: 3838.74 | P64: 13753.73 | Q64: 3838.74 | R64: 80013.59 | S64: 3838.74 | T64: 43236.15 | U64: 3838.74 | V64: 41761.55 | W64: =AVERAGE(C64:V64) -> 24084.649
W65: =AVERAGE(C65:V65) -> #DIV/0!
W66: =AVERAGE(C66:V66) -> #DIV/0!
W67: =AVERAGE(C67:V67) -> #DIV/0!
W68: =AVERAGE(C68:V68) -> #DIV/0!
W69: =AVERAGE(C69:V69) -> #DIV/0!
A74: MATRIX SBO
A75: SBO24 Matrix L p40 eHR | C75: 5170 | D75: 58799 | E75: 28484 | F75: 94133 | G75: 5170 | H75: 148071 | I75: 5170 | J75: 94133 | K75: 28484 | V75: 94133 | W75: =AVERAGE(C75:V75) -> 56174.7
A76: SBO 28 Mx L P40 | C76: 6030 | D76: 53143 | E76: 20013 | F76: 127131 | G76: 6030 | H76: 116348 | I76: 20013 | J76: 127131 | K76: 6030 | L76: 116348 | W76: =AVERAGE(C76:V76) -> 59821.7
A77: SBO 8 Matrix M C5 P50 | C77: 8107.52 | D77: 31467.52 | E77: 17934.08 | F77: 80814.08 | G77: 8107.52 | H77: 47104 | I77: 8107.52 | J77: 130412.8 | K77: 17934.08 | L77: 31467.52 | W77: =AVERAGE(C77:V77) -> 38145.664
A78: SBO 16 Matrix M C5 | C78: 9194 | D78: 60303 | E78: 17037 | F78: 98507 | G78: 9194 | H78: 132174 | I78: 9194 | J78: 98507 | K78: 17037 | L78: 60303 | W78: =AVERAGE(C78:V78) -> 51145
A79: SBO 16 Matrix M P40 | C79: 6310 | D79: 45248 | E79: 23838 | F79: 73655 | G79: 6310 | H79: 113274 | I79: 6310 | J79: 73366 | K79: 23838 | L79: 113274 | W79: =AVERAGE(C79:V79) -> 48542.3
A80: SBO 22 Matrix M C5 P50 | C80: 8023 | D80: 45625 | E80: 19013 | F80: 97256 | G80: 8023 | H80: 141555 | I80: 8023 | J80: 97256 | K80: 19013 | L80: 45625 | W80: =AVERAGE(C80:V80) -> 48941.2
A81: SBO 14 Matrix M C5 P50 | C81: 8359 | D81: 54821 | E81: 15489 | F81: 89552 | G81: 8359 | H81: 120159 | I81: 8359 | J81: 89552 | K81: 15489 | L81: 54821 | W81: =AVERAGE(C81:V81) -> 46496
A82: SBO 16 Matrix M P40 | C82: 5352 | D82: 61036 | E82: 5352 | F82: 90431 | G82: 5352 | H82: 112953 | I82: 5352 | J82: 90135 | K82: 5352 | L82: 61036 | W82: =AVERAGE(C82:V82) -> 44235.1
A83: SBO 14 Matrix L P40 | C83: 3368 | D83: 19343 | E83: 16515 | F83: 42688 | G83: 3368 | H83: 34570 | I83: 3368 | J83: 96259 | K83: 16515 | L83: 19343 | W83: =AVERAGE(C83:V83) -> 25533.7
A84: SBO 12 Matrix M C5 P40 | C84: 7523 | D84: 49338 | E84: 13940 | F84: 80596 | G84: 7523 | H84: 108143 | I84: 7523 | J84: 80596 | K84: 13940 | L84: 49338 | W84: =AVERAGE(C84:V84) -> 41846
A85: SBO 16 Matrix M C5 | C85: 9194 | D85: 60303 | E85: 17037 | F85: 98507 | G85: 9194 | H85: 132174 | I85: 9194 | J85: 98507 | K85: 17037 | L85: 60303 | W85: =AVERAGE(C85:V85) -> 51145
A86: SBO 16 Matrix M C5 | C86: 9194 | D86: 60303 | E86: 17037 | F86: 98507 | G86: 9194 | H86: 132174 | I86: 9194 | J86: 98507 | K86: 17037 | L86: 60303 | W86: =AVERAGE(C86:V86) -> 51145
A87: SBO 16 Matrix M C5 | C87: 9194 | D87: 60303 | E87: 17037 | F87: 98507 | G87: 9194 | H87: 132174 | I87: 9194 | J87: 98507 | K87: 17037 | L87: 60303 | W87: =AVERAGE(C87:V87) -> 51145
... A94: SBO 34 Mx P40 | C94: 6362 | D94: 49813 | E94: 38992 | F94: 87315 | G94: 6362 | H94: 85804 | I94: 6362 | J94: 187825 | K94: 38992 | L94: 49813 | W94: =AVERAGE(C94:V94) -> 55764
A95: SBO 14 Matrix M C5 P50 with Bottle switch | C95: 8359 | D95: 54821 | W95: =AVERAGE(C95:V95) -> 31590
A96: SBO 14 Matrix M C5 P50 with Bottle switch | C96: 10469 | D96: 91063 | E96: 10469 | F96: 138549 | G96: 10469 | H96: 152118 | W96: =AVERAGE(C96:V96) -> 68856.167
A97: SBO12 Matrix M p40 | C97: 4301 | D97: 30528 | E97: 4301 | F97: 62220 | G97: 4301 | H97: 72507 | I97: 4301 | J97: 62220 | K97: 4301 | L97: 30528 | W97: =AVERAGE(C97:V97) -> 27950.8
A98: SBO 34 Mx XS P40 | C98: 6362 | D98: 49813 | E98: 38992 | F98: 87315 | G98: 6362 | H98: 85804 | I98: 6362 | J98: 187825 | K98: 38992 | L98: 49813 | W98: =AVERAGE(C98:V98) -> 55764
A99: SBO 10 Matrix eHR | C99: 2984.84 | D99: 14171 | E99: 134808 | F99: 37885 | G99: 2984.84 | H99: 80809 | I99: 2984.84 | J99: 37885 | K99: 14171 | L99: 16812 | W99: =AVERAGE(C99:V99) -> 34549.552
A100: SBO22 Matrix M p50 | C100: 4606 | D100: 30945 | E100: 28707 | F100: 83886 | G100: 4606 | H100: 57018 | I100: 4606 | J100: 188563 | K100: 28707 | L100: 30945 | W100: =AVERAGE(C100:V100) -> 46258.9
A101: SBO 8 Mx P40 C5 | C101: 6006 | D101: 34335 | E101: 6006 | F101: 109818 | G101: 6006 | H101: 38671 | I101: 6006 | J101: 109818 | K101: 6006 | L101: 38671 | W101: =AVERAGE(C101:V101) -> 36134.3
A102: SBO 8 MX L eHR P50 | C102: 2387 | D102: 13449 | E102: 107846 | F102: 30308 | G102: 2387 | H102: 64647 | I102: 2387 | J102: 30308 | K102: 107846 | L102: 13449 | W102: =AVERAGE(C102:V102) -> 37501.4
A103: SBO 8 Mx HR P50 | C103: 2387 | D103: 13449 | E103: 107846 | F103: 30308 | G103: 2387 | H103: 64647 | I103: 2387 | J103: 30308 | K103: 107846 | L103: 13449 | W103: =AVERAGE(C103:V103) -> 37501.4
A104: SBO 10 Matrix M C5 P50 | C104: 7600 | D104: 29500 | E104: 16812 | F104: 75763 | G104: 7600 | H104: 44160 | I104: 7600 | J104: 122262 | K104: 16812 | L104: 29500 | W104: =AVERAGE(C104:V104) -> 35760.9
A105: SBO 20 MATRIX M P40 | C105: 5711 | D105: 85593 | E105: 5711 | F105: 94616 | G105: 27622 | H105: 112723 | I105: 5711 | J105: 94616 | K105: 27622 | L105: 112723 | W105: =AVERAGE(C105:V105) -> 57264.8
A106: SBO 20 MX P40 | D106: 85593 | F106: 94616 | H106: 112723 | J106: 94616 | L106: 112723 | W106: =AVERAGE(C106:V106) -> 100054.2
A107: SBO 16 MATRIX M P40 | C107: 6310 | D107: 45248 | E107: 23838 | F107: 73655 | G107: 6310 | H107: 113274 | I107: 6310 | J107: 73366 | K107: 23838 | L107: 113274 | W107: =AVERAGE(C107:V107) -> 48542.3
A108: SBO 34 Mx P40 | C108: 6362 | D108: 49813 | E108: 38992 | F108: 87315 | G108: 6362 | H108: 85804 | I108: 6362 | J108: 187825 | K108: 38992 | L108: 49813 | W108: =AVERAGE(C108:V108) -> 55764
A109: SBO 18 eHR MATRIX P40 | D109: 29780 | F109: 65448 | H109: 127378 | J109: 65448 | L109: 29780 | W109: =AVERAGE(C109:V109) -> 63566.8
A110: SBO 20 MATRIX M P40 | C110: 5711 | D110: 85593 | E110: 5711 | F110: 94616 | G110: 27622 | H110: 112723 | I110: 5711 | J110: 94616 | K110: 27622 | L110: 112723 | W110: =AVERAGE(C110:V110) -> 57264.8
A111: SBO 24 Matrix M p40 | C111: 8141 | D111: 50851 | E111: 20166 | F111: 107566 | G111: 8141 | H111: 107381 | I111: 0 | J111: 0 | K111: 0 | L111: 0 | W111: =AVERAGE(C111:V111) -> 30224.6
A112: SBO 22 MATRIX P40 | D112: 72248 | F112: 98136 | H112: 122797 | J112: 98136 | L112: 82248 | W112: =AVERAGE(C112:V112) -> 94713
A113: SBO 10 Matrix M P40 | C113: 3115 | D113: 18245 | E113: 3115 | F113: 53131 | G113: 3115 | H113: 89052 | I113: 3115 | J113: 52835 | K113: 3115 | L113: 32087 | W113: =AVERAGE(C113:V113) -> 26092.5
A114: SBO 24 Matrix XS C5 P50 | C114: 6567.65 | D114: 98431.95 | E114: 6567.65 | F114: 108808.4 | G114: 31765.3 | H114: 129631.45 | I114: 6567.65 | J114: 108808.4 | K114: 31765.3 | L114: 129631.45 | W114: =AVERAGE(C114:V114) -> 65854.52
A115: SBO 12 Mx P40 | C115: 3368 | D115: 19343 | E115: 16515 | F115: 42688 | G115: 3368 | H115: 34570 | I115: 3368 | J115: 96259 | K115: 16515 | L115: 19343 | W115: =AVERAGE(C115:V115) -> 25533.7
A116: SBO 8 Mx P40 | C116: 2593 | D116: 37124 | E116: 2593 | F116: 54674 | G116: 2593 | H116: 82727 | I116: 2593 | J116: 55102 | K116: 2593 | L116: 37124 | W116: =AVERAGE(C116:V116) -> 27971.6
A117: SBO 14 Mx L P40 | C117: 3979 | D117: 36753 | E117: 3979 | F117: 63517 | G117: 3979 | H117: 38547 | I117: 3979 | J117: 123143 | K117: 3979 | L117: 36753 | M117: 3979 | N117: 65310 | O117: 3979 | P117: 36753 | Q117: 3979 | R117: 123143 | S117: 3979 | T117: 38547 | U117: 3979 | V117: 63517 | W117: =AVERAGE(C117:V117) -> 33288.65
A118: SBO 6 Matrix M Predis C5 P50 | C118: 0 | D118: 0 | E118: 0 | F118: 0 | G118: 0 | H118: 0 | I118: 0 | J118: 0 | K118: 0 | L118: 0 | W118: =AVERAGE(C118:V118) -> 0
A119: SBO 8 Matrix M P40 | C119: 3146 | D119: 25209 | E119: 7339 | F119: 49163 | G119: 3146 | H119: 64817 | I119: 7339 | J119: 49163 | K119: 3146 | L119: 25209 | W119: =AVERAGE(C119:V119) -> 23767.7
A120: SBO 24/20 Mx L Std #120068 Combi #867 | C120: 7068.77 | D120: 61957.87 | E120: 33966.53 | F120: 100200.43 | G120: 7068.77 | H120: 157333.51 | I120: 7068.77 | J120: 99904.33 | K120: 33966.53 | L120: 61957.87 | M120: 7068.77 | N120: 195576.07 | O120: 7068.77 | P120: 61957.87 | Q120: 33966.53 | R120: 99904.33 | S120: 7068.77 | T120: 157333.51 | U120: 7068.77 | V120: 100200.43 | W120: =AVERAGE(C120:V120) -> 62385.36
A121: SBO 22/18 Mx M Std | C121: 6985.51 | D121: 56171.9 | E121: 6985.51 | F121: 95160.37 | G121: 6985.51 | H121: 59706.95 | I121: 6985.51 | J121: 175281.24 | K121: 6985.51 | L121: 56171.9 | M121: 6985.51 | N121: 98695.42 | O121: 6985.51 | P121: 56171.9 | Q121: 6985.51 | R121: 175281.24 | S121: 6985.51 | T121: 59706.95 | U121: 6985.51 | V121: 95160.37 | W121: =AVERAGE(C121:V121) -> 49868.167
A122: SBO 6/8 Mx | C122: 6295.13 | D122: 64677.74 | E122: 6295.13 | F122: 78536.6 | G122: 6295.13 | H122: 39481.05 | I122: 6295.13 | J122: 120534.16 | K122: 6295.13 | L122: 34677.75 | M122: 6295.13 | N122: 83339.91 | O122: 6295.13 | P122: 34677.74 | Q122: 6295.13 | R122: 120534.16 | S122: 6295.13 | T122: 39481.05 | U122: 6295.13 | V122: 78536.6 | W122: =AVERAGE(C122:V122) -> 37871.403
A123: SBO 14/14 Mx | C123: 9157.37 | D123: 51464.78 | E123: 26180.87 | F123: 91858.9 | G123: 9157.37 | H123: 121359.27 | I123: 9157.37 | J123: 91858.9 | K123: 26180.87 | L123: 51464.78 | M123: 9157.37 | N123: 161753.37 | O123: 9157.37 | P123: 51464.78 | Q123: 26180.87 | R123: 91858.9 | S123: 9157.37 | T123: 121359.25 | U123: 9157.37 | V123: 91858.9 | W123: =AVERAGE(C123:V123) -> 53447.302
...

Sheet Capper
B1: CMU | C1: 1.12
A4: PR00
A5: Scheduled maintenance parts (ISO13306) | C5: 3000 | D5: 6000 | E5: 9000 | F5: 12000 | G5: 15000 | H5: 18000 | I5: 21000 | J5: 24000 | K5: 27000 | L5: 30000 | M5: =L5+3000 -> 33000 | N5: =M5+3000 -> 36000 | O5: =N5+3000 -> 39000 | P5: =O5+3000 -> 42000 | Q5: =P5+3000 -> 45000 | R5: =Q5+3000 -> 48000 | S5: =R5+3000 -> 51000 | T5: =S5+3000 -> 54000 | ... V5: =U5+3000 -> 60000 | W5: AVERAGE
A6: AROL CAPPER EURO PK 315 20 heads | C6: 2804.064 | D6: 5131.872 | E6: 2804.064 | F6: 27891.36 | G6: 2804.064 | H6: 12885.792 | I6: 2804.064 | J6: 31251.36 | K6: 2804.064 | L6: 5131.872 | W6: =AVERAGE(C6:V6) -> 9631.2576
A7: Capper Arol Euro PK20 | C7: 4335 | D7: 24009 | E7: 4335 | F7: 36785 | G7: 4335 | H7: 24009 | I7: 4335 | J7: 36785 | K7: 4335 | L7: 24009 | M7: 4335 | N7: 36785 | O7: 4335 | P7: 24009 | Q7: 4335 | R7: 36785 | S7: 4335 | T7: 24009 | U7: 4335 | V7: 36785 | W7: =AVERAGE(C7:V7) -> 17366
A8: Capper Arol Euro PK25 | C8: 3273.696 | D8: 6183.456 | E8: 3273.696 | F8: 34632.816 | G8: 3273.696 | H8: 15813.216 | I8: 3273.696 | J8: 38832.816 | K8: 3273.696 | L8: 6183.456 | W8: =AVERAGE(C8:V8) -> 11801.424
A9: Capper Arol 15 K Aseptic | C9: 12582.4 | D9: 23517.44 | E9: 12582.4 | F9: 89952 | G9: 12582.4 | H9: 23928.32 | I9: 12582.4 | J9: 89952 | K9: 12582.4 | L9: 0 | W9: =AVERAGE(C9:V9) -> 29026.176
A10: Capper Aseptic 20H | C10: 4335 | D10: 24009 | E10: 4335 | F10: 36785 | G10: 4335 | H10: 24009 | I10: 4335 | J10: 36785 | K10: 4335 | L10: 24009 | W10: =AVERAGE(C10:V10) -> 16727.2
A11: Capper Arol 15K PK314 | C11: 3448 | D11: 5818 | E11: 3448 | F11: 27426 | G11: 3448 | H11: 14645 | I11: 3448 | J11: 34219 | K11: 3448 | L11: 5818 | W11: =AVERAGE(C11:V11) -> 10516.6
A12: Aseptic Capper | C12: 8600 | D12: 23456 | E12: 8600 | F12: 48786 | G12: 8600 | H12: 29188 | I12: 8600 | J12: 48786 | K12: 8600 | L12: 23456 | W12: =AVERAGE(C12:V12) -> 21667.2
A13: Aseptic Capper 18H | C13: 9830 | D13: 18373 | E13: 9830 | F13: 70275 | G13: 9830 | H13: 18694 | I13: 9830 | J13: 70275 | K13: 9830 | L13: 18694 | W13: =AVERAGE(C13:V13) -> 24546.1
A14: Capper Arol 15K | C14: 3448 | D14: 5818 | E14: 3448 | F14: 27426 | G14: 3448 | H14: 14645 | I14: 3448 | J14: 34219 | K14: 3448 | L14: 5818 | W14: =AVERAGE(C14:V14) -> 10516.6
A15: Capper 18K | C15: 3448 | D15: 5818 | E15: 3448 | F15: 27426 | G15: 3448 | H15: 14645 | I15: 3448 | J15: 34219 | K15: 3448 | L15: 5818 | W15: =AVERAGE(C15:V15) -> 10516.6
A16: Capper Aseptic 15H | C16: 4579 | D16: 18706 | E16: 4579 | F16: 26569 | G16: 4579 | H16: 18706 | I16: 4579 | J16: 26569 | K16: 4579 | L16: 18706 | W16: =AVERAGE(C16:V16) -> 13215.1
A17: Capper Aseptic 20H | C17: 4335 | D17: 24009 | E17: 4335 | F17: 36785 | G17: 4335 | H17: 24009 | I17: 4335 | J17: 36785 | K17: 4335 | L17: 24009 | W17: =AVERAGE(C17:V17) -> 16727.2
A18: Capper Aseptic 20H | C18: 4335 | D18: 24009 | E18: 4335 | F18: 36785 | G18: 4335 | H18: 24009 | I18: 4335 | J18: 36785 | K18: 4335 | L18: 24009 | W18: =AVERAGE(C18:V18) -> 16727.2
A19: Capper Aseptic 20H | C19: 4335 | D19: 24009 | E19: 4335 | F19: 36785 | G19: 4335 | H19: 24009 | I19: 4335 | J19: 36785 | K19: 4335 | L19: 24009 | W19: =AVERAGE(C19:V19) -> 16727.2
... A25: Capper Arol Euro PK315 36H | C25: 4687.0464 | D25: 8877.1008 | E25: 4687.0464 | F25: 49844.179 | G25: 4687.0464 | H25: 22633.709 | I25: 4687.0464 | J25: 55892.179 | K25: 4687.0464 | L25: 8877.1008 | W25: =AVERAGE(C25:V25) -> 16955.95
A26: Aseptic Capper 16K | C26: 9830 | D26: 18373 | W26: =AVERAGE(C26:V26) -> 14101.5
A27: Aseptic Capper 16K | C27: 9830 | D27: 18373 | E27: 9830 | F27: 70275 | G27: 9830 | H27: 18694 | W27: =AVERAGE(C27:V27) -> 22805.333
A28: Capper Arol Euro PK15 | C28: 3345 | D28: 5590 | E28: 3345 | F28: 22276 | G28: 3345 | H28: 15673 | I28: 3345 | J28: 22276 | K28: 3345 | L28: 5590 | W28: =AVERAGE(C28:V28) -> 8813
A29: Arol Capper 36H | C29: 4687.0464 | D29: 8877.1008 | E29: 4687.0464 | F29: 49844.179 | G29: 4687.0464 | H29: 22633.709 | I29: 4687.0464 | J29: 55892.179 | K29: 4687.0464 | L29: 8877.1008 | W29: =AVERAGE(C29:V29) -> 16955.95
A30: Arol Capper Aseptic | C30: 3425 | D30: 9644 | E30: 3425 | F30: 48288 | G30: 3425 | H30: 9950 | I30: 3425 | J30: 48288 | K30: 3425 | L30: 9644 | W30: =AVERAGE(C30:V30) -> 14293.9
A31: CAPPER EURO PK 415 10H | C31: 3024 | D31: 13603 | E31: 3024 | F31: 20181 | G31: 3024 | H31: 13603 | I31: 3024 | J31: 20181 | K31: 3024 | L31: 13603 | W31: =AVERAGE(C31:V31) -> 9629.1
A32: CAPPER EURO PK 415 10H | C32: 3024 | D32: 13603 | E32: 3024 | F32: 20181 | G32: 3024 | H32: 13603 | I32: 3024 | J32: 20181 | K32: 3024 | L32: 13603 | W32: =AVERAGE(C32:V32) -> 9629.1
A33: Aseptic Capper 12K | C33: 4314 | D33: 12724 | E33: 4314 | F33: 36211 | G33: 4314 | H33: 13110 | I33: 4314 | J33: 36211 | K33: 4314 | L33: 13110 | W33: =AVERAGE(C33:V33) -> 13293.6
A34: CAPPER AROL PK 27 | C34: 3273.696 | D34: 6183.456 | E34: 3273.696 | F34: 34632.816 | G34: 3273.696 | H34: 15813.216 | I34: 3273.696 | J34: 38832.816 | K34: 3273.696 | L34: 6183.456 | W34: =AVERAGE(C34:V34) -> 11801.424
A35: CAPPER EURO PK 20K | D35: 24705 | F35: 38326 | H35: 2599 | J35: 38326 | L35: 25919 | W35: =AVERAGE(C35:V35) -> 25975
A36: CAPPER AROL PK 15 | C36: 3273.696 | D36: 6183.456 | E36: 3273.696 | F36: 34632.816 | G36: 3273.696 | H36: 15813.216 | I36: 3273.696 | J36: 38832.816 | K36: 3273.696 | L36: 6183.456 | W36: =AVERAGE(C36:V36) -> 11801.424
A37: Capper Arol Euro PK315 36H | C37: 4687.0464 | D37: 8877.1008 | E37: 4687.0464 | F37: 49844.179 | G37: 4687.0464 | H37: 22633.709 | I37: 4687.0464 | J37: 55892.179 | K37: 4687.0464 | L37: 8877.1008 | W37: =AVERAGE(C37:V37) -> 16955.95
A38: CAPPER 20K EURO PK | D38: 5869 | F38: 32299 | H38: 21748 | J38: 40711 | L38: 5869 | W38: =AVERAGE(C38:V38) -> 21299.2
A39: CAPPER ZALKIN | C39: 217 | D39: 13647 | E39: 210.24 | F39: 29690.327 | G39: 216.5472 | H39: 13646.908 | I39: 223.04362 | J39: 31498.468 | K39: 3273.696 | L39: 13647 | W39: =AVERAGE(C39:V39) -> 10627.023
A40: Capper Arol Euro 24H PK 315 | C40: 4427 | D40: 27451 | E40: 4427 | F40: 42585 | G40: 4427 | H40: 28799 | W40: =AVERAGE(C40:V40) -> 18686
A41: CAPPER AROL EURO PK 24 | D41: 17451 | F41: 42585 | H41: 28799 | J41: 42585 | L41: 21589 | W41: =AVERAGE(C41:V41) -> 30601.8
A42: Capper Arol PK | C42: 1083 | D42: 6920 | E42: 1083 | F42: 38580 | G42: 1083 | H42: 6920 | I42: 1083 | J42: 38580 | K42: 1083 | L42: 6920 | W42: =AVERAGE(C42:V42) -> 10333.5
A43: Aseptic Capper 36k | C43: 15236.5 | D43: 28478.15 | E43: 15236.5 | F43: 108926.25 | G43: 15236.5 | H43: 28975.7 | I43: 15236.5 | J43: 108926.25 | K43: 15236.5 | L43: 28975.7 | W43: =AVERAGE(C43:V43) -> 38046.455
A44: Capper Zalkin 10K | C44: 3448 | D44: 5818 | E44: 3448 | F44: 27426 | G44: 3448 | H44: 14645 | I44: 3448 | J44: 34219 | K44: 3448 | L44: 5818 | W44: =AVERAGE(C44:V44) -> 10516.6
A45: Mechanical Aseptic capper 10 H | C45: 3425 | D45: 9644 | E45: 3425 | F45: 48288 | G45: 3425 | H45: 9950 | I45: 3425 | J45: 48288 | K45: 3425 | L45: 9644 | W45: =AVERAGE(C45:V45) -> 14293.9
A46: Capper Euro PK 315 Top Part: 10 H | C46: 2711 | D46: 4725 | E46: 2711 | F46: 22941 | G46: 2711 | H46: 11552 | I46: 2711 | J46: 28949 | K46: 2711 | L46: 4725 | W46: =AVERAGE(C46:V46) -> 8644.7
W47: =AVERAGE(C47:V47) -> #DIV/0!
A50: CAPPER ASEPTIC
A51: Capper Arol 15 K Aseptic | C51: 12582.4 | D51: 23517.44 | E51: 12582.4 | F51: 89952 | G51: 12582.4 | H51: 23928.32 | I51: 12582.4 | J51: 89952 | K51: 12582.4 | L51: 0 | W51: =AVERAGE(C51:V51) -> 29026.176
A52: Capper Aseptic 20H | C52: 4335 | D52: 24009 | E52: 4335 | F52: 36785 | G52: 4335 | H52: 24009 | I52: 4335 | J52: 36785 | K52: 4335 | L52: 24009 | W52: =AVERAGE(C52:V52) -> 16727.2
A53: Aseptic Capper | C53: 8600 | D53: 23456 | E53: 8600 | F53: 48786 | G53: 8600 | H53: 29188 | I53: 8600 | J53: 48786 | K53: 8600 | L53: 23456 | W53: =AVERAGE(C53:V53) -> 21667.2
A54: Aseptic Capper 18H | C54: 9830 | D54: 18373 | E54: 9830 | F54: 70275 | G54: 9830 | H54: 18694 | I54: 9830 | J54: 70275 | K54: 9830 | L54: 18694 | W54: =AVERAGE(C54:V54) -> 24546.1
A55: Capper Aseptic 15H | C55: 4579 | D55: 18706 | E55: 4579 | F55: 26569 | G55: 4579 | H55: 18706 | I55: 4579 | J55: 26569 | K55: 4579 | L55: 18706 | W55: =AVERAGE(C55:V55) -> 13215.1
A56: Capper Aseptic 20H | C56: 4335 | D56: 24009 | E56: 4335 | F56: 36785 | G56: 4335 | H56: 24009 | I56: 4335 | J56: 36785 | K56: 4335 | L56: 24009 | W56: =AVERAGE(C56:V56) -> 16727.2
A57: Capper Aseptic 20H | C57: 4335 | D57: 24009 | E57: 4335 | F57: 36785 | G57: 4335 | H57: 24009 | I57: 4335 | J57: 36785 | K57: 4335 | L57: 24009 | W57: =AVERAGE(C57:V57) -> 16727.2
A58: Capper Aseptic 20H | C58: 4335 | D58: 24009 | E58: 4335 | F58: 36785 | G58: 4335 | H58: 24009 | I58: 4335 | J58: 36785 | K58: 4335 | L58: 24009 | W58: =AVERAGE(C58:V58) -> 16727.2
A59: Capper Aseptic 20H | C59: 4335 | D59: 24009 | E59: 4335 | F59: 36785 | G59: 4335 | H59: 24009 | I59: 4335 | J59: 36785 | K59: 4335 | L59: 24009 | W59: =AVERAGE(C59:V59) -> 16727.2
A60: Capper Aseptic 15H | C60: 4579 | D60: 18706 | E60: 4579 | F60: 26569 | G60: 4579 | H60: 18706 | I60: 4579 | J60: 26569 | K60: 4579 | L60: 18706 | W60: =AVERAGE(C60:V60) -> 13215.1
A61: Aseptic Capper 36K | C61: 15236.5 | D61: 28478.15 | E61: 15236.5 | F61: 108926.25 | G61: 15236.5 | H61: 28975.7 | I61: 15236.5 | J61: 108926.25 | K61: 15236.5 | L61: 28975.7 | W61: =AVERAGE(C61:V61) -> 38046.455
A62: Aseptic Capper 16K | C62: 9830 | D62: 18373 | W62: =AVERAGE(C62:V62) -> 14101.5
A63: Aseptic Capper 16K | C63: 9830 | D63: 18373 | E63: 9830 | F63: 70275 | G63: 9830 | H63: 18694 | W63: =AVERAGE(C63:V63) -> 22805.333
A64: Arol Capper Aseptic | C64: 3425 | D64: 9644 | E64: 3425 | F64: 48288 | G64: 3425 | H64: 9950 | I64: 3425 | J64: 48288 | K64: 3425 | L64: 9644 | W64: =AVERAGE(C64:V64) -> 14293.9
A65: Aseptic Capper 12K | C65: 4314 | D65: 12724 | E65: 4314 | F65: 36211 | G65: 4314 | H65: 13110 | I65: 4314 | J65: 36211 | K65: 4314 | L65: 13110 | W65: =AVERAGE(C65:V65) -> 13293.6
A66: Aseptic Capper 36k | C66: 15236.5 | D66: 28478.15 | E66: 15236.5 | F66: 108926.25 | G66: 15236.5 | H66: 28975.7 | I66: 15236.5 | J66: 108926.25 | K66: 15236.5 | L66: 28975.7 | W66: =AVERAGE(C66:V66) -> 38046.455
A67: Mechanical Aseptic capper 10 H | C67: 3425 | D67: 9644 | E67: 3425 | F67: 48288 | G67: 3425 | H67: 9950 | I67: 3425 | J67: 48288 | K67: 3425 | L67: 9644 | W67: =AVERAGE(C67:V67) -> 14293.9
A70: CAPPER STD
A71: AROL CAPPER EURO PK 315 20 heads | C71: 2804.064 | D71: 5131.872 | E71: 2804.064 | F71: 27891.36 | G71: 2804.064 | H71: 12885.792 | I71: 2804.064 | J71: 31251.36 | K71: 2804.064 | L71: 5131.872 | W71: =AVERAGE(C71:V71) -> 9631.2576
A72: Capper Arol Euro PK20 | C72: 4335 | D72: 24009 | E72: 4335 | F72: 36785 | G72: 4335 | H72: 24009 | I72: 4335 | J72: 36785 | K72: 4335 | L72: 24009 | M72: 4335 | N72: 36785 | O72: 4335 | P72: 24009 | Q72: 4335 | R72: 36785 | S72: 4335 | T72: 24009 | U72: 4335 | V72: 36785 | W72: =AVERAGE(C72:V72) -> 17366
A73: Capper Arol Euro PK25 | C73: 3273.696 | D73: 6183.456 | E73: 3273.696 | F73: 34632.816 | G73: 3273.696 | H73: 15813.216 | I73: 3273.696 | J73: 38832.816 | K73: 3273.696 | L73: 6183.456 | W73: =AVERAGE(C73:V73) -> 11801.424
A74: Capper Arol 15K PK314 | C74: 3448 | D74: 5818 | E74: 3448 | F74: 27426 | G74: 3448 | H74: 14645 | I74: 3448 | J74: 34219 | K74: 3448 | L74: 5818 | W74: =AVERAGE(C74:V74) -> 10516.6
A75: Capper Arol 15K | C75: 3448 | D75: 5818 | E75: 3448 | F75: 27426 | G75: 3448 | H75: 14645 | I75: 3448 | J75: 34219 | K75: 3448 | L75: 5818 | W75: =AVERAGE(C75:V75) -> 10516.6
A76: Capper 18K | C76: 3448 | D76: 5818 | E76: 3448 | F76: 27426 | G76: 3448 | H76: 14645 | I76: 3448 | J76: 34219 | K76: 3448 | L76: 5818 | W76: =AVERAGE(C76:V76) -> 10516.6
A77: Capper Arol Euro PK15 | C77: 3345 | D77: 5590 | E77: 3345 | F77: 22276 | G77: 3345 | H77: 15673 | I77: 3345 | J77: 22276 | K77: 3345 | L77: 5590 | W77: =AVERAGE(C77:V77) -> 8813
A78: Capper Arol Euro PK10 | C78: 2711 | D78: 4725 | E78: 2711 | F78: 22941 | G78: 2711 | H78: 11552 | I78: 2711 | J78: 28949 | K78: 2711 | L78: 4725 | W78: =AVERAGE(C78:V78) -> 8644.7
A79: Capper Arol Euro PK315 36H | C79: 4687.0464 | D79: 8877.1008 | E79: 4687.0464 | F79: 49844.179 | G79: 4687.0464 | H79: 22633.709 | I79: 4687.0464 | J79: 55892.179 | K79: 4687.0464 | L79: 8877.1008 | W79: =AVERAGE(C79:V79) -> 16955.95
A80: Capper Arol Euro PK15 | C80: 3345 | D80: 5590 | E80: 3345 | F80: 22276 | G80: 3345 | H80: 15673 | I80: 3345 | J80: 22276 | K80: 3345 | L80: 5590 | W80: =AVERAGE(C80:V80) -> 8813
A81: Arol Capper 36H | C81: 4687.0464 | D81: 8877.1008 | E81: 4687.0464 | F81: 49844.179 | G81: 4687.0464 | H81: 22633.709 | I81: 4687.0464 | J81: 55892.179 | K81: 4687.0464 | L81: 8877.1008 | W81: =AVERAGE(C81:V81) -> 16955.95
A82: CAPPER EURO PK 415 10H | C82: 3024 | D82: 13603 | E82: 3024 | F82: 20181 | G82: 3024 | H82: 13603 | I82: 3024 | J82: 20181 | K82: 3024 | L82: 13603 | W82: =AVERAGE(C82:V82) -> 9629.1
A83: CAPPER EURO PK 415 10H | C83: 3024 | D83: 13603 | E83: 3024 | F83: 20181 | G83: 3024 | H83: 13603 | I83: 3024 | J83: 20181 | K83: 3024 | L83: 13603 | W83: =AVERAGE(C83:V83) -> 9629.1
A84: CAPPER AROL PK 27 | C84: 3273.696 | D84: 6183.456 | E84: 3273.696 | F84: 34632.816 | G84: 3273.696 | H84: 15813.216 | I84: 3273.696 | J84: 38832.816 | K84: 3273.696 | L84: 6183.456 | W84: =AVERAGE(C84:V84) -> 11801.424
A85: CAPPER EURO PK 20K | D85: 24705 | F85: 38326 | H85: 2599 | J85: 38326 | L85: 25919 | W85: =AVERAGE(C85:V85) -> 25975
A86: CAPPER AROL PK 15 | C86: 3273.696 | D86: 6183.456 | E86: 3273.696 | F86: 34632.816 | G86: 3273.696 | H86: 15813.216 | I86: 3273.696 | J86: 38832.816 | K86: 3273.696 | L86: 6183.456 | W86: =AVERAGE(C86:V86) -> 11801.424
A87: Capper Arol Euro PK315 36H | C87: 4687.0464 | D87: 8877.1008 | E87: 4687.0464 | F87: 49844.179 | G87: 4687.0464 | H87: 22633.709 | I87: 4687.0464 | J87: 55892.179 | K87: 4687.0464 | L87: 8877.1008 | W87: =AVERAGE(C87:V87) -> 16955.95
A88: CAPPER 20K EURO PK | D88: 5869 | F88: 32299 | H88: 21748 | J88: 40711 | L88: 5869 | W88: =AVERAGE(C88:V88) -> 21299.2
A89: CAPPER ZALKIN | C89: 217 | D89: 13647 | E89: 210.24 | F89: 29690.327 | G89: 216.5472 | H89: 13646.908 | I89: 223.04362 | J89: 31498.468 | K89: 3273.696 | L89: 13647 | W89: =AVERAGE(C89:V89) -> 10627.023
A90: Capper Arol Euro 24H PK 315 | C90: 4427 | D90: 27451 | E90: 4427 | F90: 42585 | G90: 4427 | H90: 28799 | W90: =AVERAGE(C90:V90) -> 18686
A91: CAPPER AROL EURO PK 24 | D91: 17451 | F91: 42585 | H91: 28799 | J91: 42585 | L91: 21589 | W91: =AVERAGE(C91:V91) -> 30601.8
A92: Capper Arol PK | C92: 1083 | D92: 6920 | E92: 1083 | F92: 38580 | G92: 1083 | H92: 6920 | I92: 1083 | J92: 38580 | K92: 1083 | L92: 6920 | W92: =AVERAGE(C92:V92) -> 10333.5
A93: Capper Zalkin 10K | C93: 3448 | D93: 5818 | E93: 3448 | F93: 27426 | G93: 3448 | H93: 14645 | I93: 3448 | J93: 34219 | K93: 3448 | L93: 5818 | W93: =AVERAGE(C93:V93) -> 10516.6
A94: Capper Euro PK 315 Top Part: 10 H | C94: 2711 | D94: 4725 | E94: 2711 | F94: 22941 | G94: 2711 | H94: 11552 | I94: 2711 | J94: 28949 | K94: 2711 | L94: 4725 | W94: =AVERAGE(C94:V94) -> 8644.7
A95: FED CAPPER | D95: 936.1 | F95: 982.7 | H95: 1777.01 | J95: 982.7 | L95: 936.1 | N95: 1823.61 | P95: 936.1 | R95: 982.7 | T95: 1777.01 | V95: 982.7 | W95: =AVERAGE(C95:V95) -> 1211.673
A96: Capper 15H #13220 for Filler #SRVI0004 | C96: 3281.02 | D96: 5651.02 | E96: 3281.02 | F96: 29201.32 | G96: 3281.02 | H96: 14178.23 | I96: 3281.02 | J96: 35994.52 | K96: 3281.02 | L96: 5651.02 | M96: 3281.02 | N96: 37728.53 | O96: 3281.02 | P96: 5651.02 | Q96: 3281.02 | R96: 35994.52 | S96: 3281.02 | T96: 14178.23 | U96: 3281.02 | V96: 29201.32 | W96: =AVERAGE(C96:V96) -> 12311.996
A97: Capper 25H #15733 for Filler | C97: 4330.25 | D97: 23024.15 | E97: 4330.25 | F97: 46119.15 | G97: 4330.25 | H97: 23911.66 | I97: 4330.25 | J97: 46119.15 | K97: 4330.25 | L97: 23024.15 | M97: 4330.25 | N97: 47006.66 | O97: 4330.25 | P97: 23024.15 | Q97: 4330.25 | R97: 46119.15 | S97: 4330.25 | T97: 23911.66 | U97: 4330.25 | V97: 46119.15 | W97: =AVERAGE(C97:V97) -> 19584.077
A98: Capper 24K | D98: 9814.55 | F98: 40728.23 | H98: 9986.68 | J98: 40728.23 | L98: 9814.55 | N98: 47911,09 | P98: 9814.55 | R98: 40728.23 | T98: 9986.68 | V98: 40728.23 | W98: =AVERAGE(C98:V98) -> 23592.214
A99: Cap-Feeder Aidlin 24 | D99: 2134.01 | F99: 2134.01 | H99: 2134.01 | J99: 2134.01 | L99: 2134.01 | N99: 2134.01 | P99: 2134.01 | R99: 2134.01 | T99: 2134.01 | V99: 2134.01 | W99: =AVERAGE(C99:V99) -> 2134.01
A100: Capper 20H #15503 for Fille | C100: 9873.8 | D100: 34101.4 | E100: 9873.8 | F100: 66839.4 | G100: 9873.8 | H100: 35914.3 | I100: 9873.8 | J100: 66839.4 | K100: 9873.8 | L100: 34101.4 | M100: 9873.8 | N100: 68652.3 | O100: 9873.8 | P100: 34101.4 | Q100: 9873.8 | R100: 66839.4 | S100: 9873.8 | T100: 35914.3 | U100: 9873.8 | V100: 66839.4 | W100: =AVERAGE(C100:V100) -> 30444.035
A101: Capper 12H | C101: 10074.01 | D101: 13443.01 | E101: 10074.01 | F101: 58854.85 | G101: 10074.01 | H101: 20667.58 | I101: 10074.01 | J101: 69723.97 | K101: 10074.01 | L101: 13443.01 | M101: 10074.01 | N101: 66079.42 | O101: 10074.01 | P101: 13443.01 | Q101: 10074.01 | R101: 69723.97 | S101: 10074.01 | T101: 20667.58 | U101: 10074.01 | V101: 58854.85 | W101: =AVERAGE(C101:V101) -> 25282.068
A102: Cap-Feeders # 10FR0100CF01 | D102: 2200.74 | F102: 2317.24 | H102: 7118.3 | J102: 2317.24 | L102: 2200.74 | N102: 7234.8 | P102: 2200.74 | R102: 2317.24 | T102: 7118.3 | V102: 2317.24 | W102: =AVERAGE(C102:V102) -> 3734.258
A103: Capper 16K | C103: 5129.2 | D103: 43469.09 | E103: 5129.2 | F103: 132173.25 | G103: 5129.2 | H103: 43469.09 | I103: 5129.2 | J103: 132173.25 | K103: 5129.2 | L103: 43469.09 | M103: 5129.2 | N103: 132173.25 | O103: 5129.2 | P103: 43469.09 | Q103: 5129.2 | R103: 132173.25 | S103: 5129.2 | T103: 43469.09 | U103: 5129.2 | V103: 132173.25 | W103: =AVERAGE(C103:V103) -> 46475.185
A104: Cap-Feeder Aidlin 24 | D104: 3344.63 | F104: 3344.63 | H104: 3344.63 | J104: 3344.63 | L104: 3344.63 | N104: 3344.63 | P104: 3344.63 | R104: 3344.63 | T104: 3344.63 | V104: 3344.63 | W104: =AVERAGE(C104:V104) -> 3344.63
W105: =AVERAGE(C105:V105) -> #DIV/0!
W106: =AVERAGE(C106:V106) -> #DIV/0!
W107: =AVERAGE(C107:V107) -> #DIV/0!

Sheet Filler
B1: CMU | C1: 1.12
A4: PR00
A5: Scheduled maintenance parts (ISO13306) | C5: 3000 | D5: 6000 | E5: 9000 | F5: 12000 | G5: 15000 | H5: 18000 | I5: 21000 | J5: 24000 | K5: 27000 | L5: 30000 | M5: =L5+3000 -> 33000 | N5: =M5+3000 -> 36000 | O5: =N5+3000 -> 39000 | P5: =O5+3000 -> 42000 | Q5: =P5+3000 -> 45000 | R5: =Q5+3000 -> 48000 | S5: =R5+3000 -> 51000 | T5: =S5+3000 -> 54000 | ... V5: =U5+3000 -> 60000 | W5: Average
A6: FILLER SIDEL SF 300 FM 120 pitch 113 mm | D6: 93456.3 | E6: 579.73 | F6: 100311.45 | G6: 579.73 | H6: 93456.3 | I6: 579.73 | J6: 100311.45 | K6: 579.73 | L6: 93456.3 | W6: =AVERAGE(C6:V6) -> 53701.191
A7: Filler FmA 70/20K | C7: 11979 | D7: 65783 | E7: 11979 | F7: 110195 | G7: 11979 | H7: 74022 | I7: 11979 | J7: 133296 | K7: 11979 | L7: 65783 | M7: 11979 | N7: 74022 | O7: 11979 | P7: 133296 | Q7: 11979 | R7: 65783 | S7: 11979 | T7: 74022 | U7: 11979 | V7: 133296 | W7: =AVERAGE(C7:V7) -> 52464.4
A8: Filler | C8: 17442 | E8: 63252 | G8: 63346 | I8: 62130 | K8: 17442 | W8: =AVERAGE(C8:V8) -> 44722.4
A9: Filler Hema 54.18K | D9: 16585 | F9: 16585 | H9: 16585 | J9: 16585 | L9: 16585 | W9: =AVERAGE(C9:V9) -> 16585
A10: Filler FMa 56 16 p.141 | C10: 8130 | D10: 54975 | W10: =AVERAGE(C10:V10) -> 31552.5
A11: Filler FMa 56 16 p.141 | C11: 8130 | D11: 54975 | E11: 8130 | F11: 103118 | G11: 8130 | H11: 71941 | W11: =AVERAGE(C11:V11) -> 42404
A12: FILLER SF100 120V | C12: 6449 | D12: 75301 | E12: 6449 | F12: 79966 | G12: 6449 | H12: 75301 | I12: 6449 | J12: 79966 | K12: 6449 | L12: 75301 | W12: =AVERAGE(C12:V12) -> 41808
A13: Filler FmA 30/10 Capdis | C13: 9054 | D13: 55868 | E13: 9054 | F13: 89068 | G13: 9054 | H13: 72289 | I13: 9054 | J13: 91728 | K13: 9054 | L13: 55868 | W13: =AVERAGE(C13:V13) -> 41009.1
A14: Filler FMa 32 12 | C14: 8334 | D14: 47488 | E14: 8334 | F14: 79411 | G14: 8334 | H14: 55855 | I14: 8334 | J14: 79411 | K14: 8334 | L14: 55855 | W14: =AVERAGE(C14:V14) -> 35969
A15: FILLER SF 300FM 126V | C15: 2792 | D15: 75058 | E15: 2792 | F15: 115978 | G15: 2792 | H15: 95846 | I15: 2792 | J15: 115978 | K15: 2792 | L15: 130962 | W15: =AVERAGE(C15:V15) -> 54778.2
A16: FILLER SF100 100V PITCH 113 | D16: 37967 | F16: 44051 | H16: 37967 | J16: 44051 | L16: 37967 | W16: =AVERAGE(C16:V16) -> 40400.6
A17: FILLER SF 300FM 120V | C17: 2792 | D17: 75058 | E17: 2792 | F17: 115978 | G17: 2792 | H17: 95846 | I17: 2792 | J17: 115978 | K17: 2792 | L17: 130962 | W17: =AVERAGE(C17:V17) -> 54778.2
A18: FILLER SF700 80V | D18: 82738 | F18: 90073 | H18: 82738 | J18: 90073 | L18: 82738 | W18: =AVERAGE(C18:V18) -> 85672
A19: FILLER SF 300FM 180V | C19: 760 | D19: 173000 | E19: 760 | F19: 186000 | G19: 760 | H19: 173000 | I19: 760 | J19: 186000 | K19: 760 | L19: 173000 | W19: =AVERAGE(C19:V19) -> 89480
A20: FILLER MATRIX SF 100 72V | D20: 28437 | F20: 34201 | H20: 28587 | J20: 34201 | L20: 22437 | W20: =AVERAGE(C20:V20) -> 29572.6
A21: Filler SF300 FM 45 | C21: 5083 | D21: 41380 | E21: 5083 | F21: 51827 | G21: 5083 | H21: 41380 | I21: 5083 | J21: 51827 | K21: 5083 | L21: 41380 | W21: =AVERAGE(C21:V21) -> 25320.9
A22: FILLER FMa 120 36 p.94 | C22: 14140 | D22: 99246 | E22: 14140 | F22: 169295 | G22: 14140 | H22: 128343.6 | I22: 14140 | J22: 198179 | K22: 14140 | L22: 99246 | W22: =AVERAGE(C22:V22) -> 76500.96
A23: FILLER SF 300 - 80V | C23: 5124 | D23: 64245 | E23: 5124 | F23: 67327 | G23: 5124 | H23: 64245 | I23: 5124 | J23: 71230 | K23: 5124 | L23: 64245 | W23: =AVERAGE(C23:V23) -> 35691.2
A24: Filler - FMa 30/10 p.113 Capdis | C24: 0 | D24: 0 | E24: 0 | F24: 0 | G24: 0 | H24: 0 | I24: 0 | J24: 0 | K24: 0 | L24: 0 | W24: =AVERAGE(C24:V24) -> 0
A27: Filler FMA
A28: Filler FmA 70/20K | C28: 11979 | D28: 65783 | E28: 11979 | F28: 110195 | G28: 11979 | H28: 74022 | I28: 11979 | J28: 133296 | K28: 11979 | L28: 65783 | M28: 11979 | N28: 74022 | O28: 11979 | P28: 133296 | Q28: 11979 | R28: 65783 | S28: 11979 | T28: 74022 | U28: 11979 | V28: 133296
A29: Filler FMa 56 16 p.141 | C29: 8130 | D29: 54975
A30: Filler FMa 56 16 p.141 | C30: 8130 | D30: 54975 | E30: 8130 | F30: 103118 | G30: 8130 | H30: 71941
A31: Filler FmA 30/10 Capdis | C31: 9054 | D31: 55868 | E31: 9054 | F31: 89068 | G31: 9054 | H31: 72289 | I31: 9054 | J31: 91728 | K31: 9054 | L31: 55868
A32: Filler FMa 32 12 | C32: 8334 | D32: 47488 | E32: 8334 | F32: 79411 | G32: 8334 | H32: 55855 | I32: 8334 | J32: 79411 | K32: 8334 | L32: 55855
A33: FILLER FMa 120 36 p.94 | C33: 14140 | D33: 99246 | E33: 14140 | F33: 169295 | G33: 14140 | H33: 128343.6 | I33: 14140 | J33: 198179 | K33: 14140 | L33: 99246
A34: Filler - FMa 30/10 p.113 Capdis | C34: 0 | D34: 0 | E34: 0 | F34: 0 | G34: 0 | H34: 0 | I34: 0 | J34: 0 | K34: 0 | L34: 0
A37: Filler SF 100 & 300
A38: FILLER SIDEL SF 300 FM 120 pitch 113 mm | D38: 93456.3 | E38: 579.73 | F38: 100311.45 | G38: 579.73 | H38: 93456.3 | I38: 579.73 | J38: 100311.45 | K38: 579.73 | L38: 93456.3
A39: FILLER SF100 120V | C39: 6449 | D39: 75301 | E39: 6449 | F39: 79966 | G39: 6449 | H39: 75301 | I39: 6449 | J39: 79966 | K39: 6449 | L39: 75301
A40: FILLER SF 300FM 126V | C40: 2792 | D40: 75058 | E40: 2792 | F40: 115978 | G40: 2792 | H40: 95846 | I40: 2792 | J40: 115978 | K40: 2792 | L40: 130962
A41: FILLER SF100 100V PITCH 113 | D41: 37967 | F41: 44051 | H41: 37967 | J41: 44051 | L41: 37967
A42: FILLER SF 300FM 120V | C42: 2792 | D42: 75058 | E42: 2792 | F42: 115978 | G42: 2792 | H42: 95846 | I42: 2792 | J42: 115978 | K42: 2792 | L42: 130962
A43: FILLER SF700 80V | D43: 82738 | F43: 90073 | H43: 82738 | J43: 90073 | L43: 82738
A44: FILLER SF 300FM 180V | C44: 760 | D44: 173000 | E44: 760 | F44: 186000 | G44: 760 | H44: 173000 | I44: 760 | J44: 186000 | K44: 760 | L44: 173000
A45: FILLER MATRIX SF 100 72V | D45: 28437 | F45: 34201 | H45: 28587 | J45: 34201 | L45: 22437
A46: Filler SF300 FM 45 | C46: 5083 | D46: 41380 | E46: 5083 | F46: 51827 | G46: 5083 | H46: 41380 | I46: 5083 | J46: 51827 | K46: 5083 | L46: 41380
A47: FILLER SF 300 - 80V | C47: 5124 | D47: 64245 | E47: 5124 | F47: 67327 | G47: 5124 | H47: 64245 | I47: 5124 | J47: 71230 | K47: 5124 | L47: 64245
A48: Filler SF100 90/25K | C48: 6430.87 | D48: 45595.04 | E48: 6430.87 | F48: 50871.67 | G48: 6430.87 | H48: 45595.04 | I48: 6340.87 | J48: 53662.76 | K48: 6340.87 | L48: 45595.04 | M48: 6340.87 | N48: 50871.67 | O48: 6340.87 | P48: 45595.04 | Q48: 6340.87 | R48: 53662.76 | S48: 6340.87 | T48: 45595.04 | U48: 6340.87 | V48: 50871.67
A51: Filler
A52: Filler | C52: 17442 | E52: 63252 | G52: 63346 | I52: 62130 | K52: 17442
A53: Filler Hema 54.18K | D53: 16585 | F53: 16585 | H53: 16585 | J53: 16585 | L53: 16585
A54: Filler Hema TMV 20 - SERIES 16 # 7857 | D54: 5475.73 | F54: 5475.73 | H54: 5475.73 | J54: 5475.73 | L54: 25507.25 | N54: 5475.73 | P54: 5475.73 | R54: 5475.73 | T54: 5475.73 | V54: 25507.25
A55: Filler Eurotronica FM-S 72/24 | C55: 2125.53 | D55: 26051.78 | E55: 2125.53 | F55: 44907.12 | G55: 2125.53 | H55: 26051.78 | I55: 2125.53 | J55: 46059.92 | K55: 2125.53 | L55: 26051.78 | M55: 2125.53 | N55: 44907.12 | O55: 2125.53 | P55: 26051.78 | Q55: 2125.53 | R55: 46059.92 | S55: 2125.53 | T55: 26051.78 | U55: 2125.53 | V55: 44907.12
A56: Eurostar HS 90/15k | C56: 1477.2 | D56: 62994.34 | E56: 1477.2 | F56: 79273.26 | G56: 1477.2 | H56: 62994.34 | I56: 1477.2 | J56: 79273.26 | K56: 1477.2 | L56: 62994.34 | M56: 1477.2 | N56: 79273.26 | O56: 1477.2 | P56: 62994.34 | Q56: 1477.2 | R56: 79273.26 | S56: 1477.2 | T56: 62994.34 | U56: 1477.2 | V56: 79273.26
A57: Filler FMm 36/12 | C57: 9369.56 | D57: 36928.29 | E57: 9369.56 | F57: 43272.71 | G57: 9369.56 | H57: 40558.5 | I57: 9369.56 | J57: 43491.51 | K57: 9369.56 | L57: 36928.29 | M57: 9369.56 | N57: 46902.82 | O57: 9369.56 | P57: 36928.29 | Q57: 9369.56 | R57: 43491.67 | S57: 9369.56 | T57: 40558.4 | U57: 9369.56 | V57: 43272.71

Sheet Predis
B1: CMU | C1: 1.12
A4: PR00
A5: Scheduled maintenance parts (ISO13306) | C5: 3000 | D5: 6000 | E5: 9000 | F5: 12000 | G5: 15000 | H5: 18000 | I5: 21000 | J5: 24000 | K5: 27000 | L5: 30000 | M5: =L5+3000 -> 33000 | N5: =M5+3000 -> 36000 | O5: =N5+3000 -> 39000 | P5: =O5+3000 -> 42000 | Q5: =P5+3000 -> 45000 | R5: =Q5+3000 -> 48000 | S5: =R5+3000 -> 51000 | T5: =S5+3000 -> 54000 | ... V5: =U5+3000 -> 60000 | W5: Average
A7: Predis Capdis FMa 40 15 p.113 | B7: PR00 | C7: 10406.4 | D7: 70368 | E7: 10406.4 | F7: 131991.04 | G7: 10406.4 | H7: 92084.48 | I7: 10406.4 | J7: 154082.56 | K7: 10406.4 | L7: 70368 | W7: =AVERAGE(C7:V7) -> 57092.608
A8: Predis FMa 70 20 | B8: PR00 | C8: 11979 | D8: 65783 | E8: 11979 | F8: 110195 | G8: 11979 | H8: 74022 | I8: 11979 | J8: 133296 | K8: 11979 | L8: 65783 | W8: =AVERAGE(C8:V8) -> 50897.4
A9: Predis Capdis FMa 80 24 p.141 | B9: PR00 | C9: 10100 | D9: 70890 | E9: 10100 | F9: 152090 | G9: 10100 | H9: 91674 | I9: 10100 | J9: 177271 | K9: 10100 | L9: 70890 | W9: =AVERAGE(C9:V9) -> 61331.5
A10: Predis Capdis FMa 48 18 p94 | B10: PR00 | C10: 9830 | D10: 18373 | E10: 9830 | F10: 70275 | G10: 9830 | H10: 18694 | I10: 9830 | J10: 70275 | K10: 9830 | L10: 18694 | W10: =AVERAGE(C10:V10) -> 24546.1
A11: Predis FMa 40 15 p.113 | B11: PR00 | C11: 15578 | D11: 89263 | E11: 15578 | F11: 144448 | G11: 15578 | H11: 89263 | I11: 15578 | J11: 165138 | K11: 15578 | L11: 89263 | W11: =AVERAGE(C11:V11) -> 65526.5
A12: Predis FMa 70 20 | B12: PR00 | C12: 11979 | D12: 65783 | E12: 11979 | F12: 110195 | G12: 11979 | H12: 74022 | I12: 11979 | J12: 133296 | K12: 11979 | L12: 65783 | W12: =AVERAGE(C12:V12) -> 50897.4
A13: Predis FMa 70 20 | B13: PR00 | C13: 11979 | D13: 65783 | E13: 11979 | F13: 110195 | G13: 11979 | H13: 65783 | I13: 11979 | J13: 110195 | K13: 11979 | L13: 65783 | W13: =AVERAGE(C13:V13) -> 47763.4
A14: Predis FMa 70 20 | B14: PR00 | C14: 11979 | D14: 65783 | E14: 11979 | F14: 110195 | G14: 11979 | H14: 74022 | I14: 11979 | J14: 133296 | K14: 11979 | L14: 65783 | W14: =AVERAGE(C14:V14) -> 50897.4
A15: Predis FMa 70 20 | B15: PR00 | C15: 11979 | D15: 65783 | E15: 11979 | F15: 110195 | G15: 11979 | H15: 74022 | I15: 11979 | J15: 133296 | K15: 11979 | L15: 65783 | W15: =AVERAGE(C15:V15) -> 50897.4
A16: Predis FMa 40 15 p.113 | B16: PR00 | C16: 15578 | D16: 89263 | E16: 15578 | F16: 144448 | G16: 15578 | H16: 89263 | I16: 15578 | J16: 165138 | K16: 15578 | L16: 89263 | W16: =AVERAGE(C16:V16) -> 65526.5
A17: Predis Capdis FMa 120 36K | B17: PR00 | C17: 14140 | D17: 99246 | E17: 14140 | F17: 212926 | G17: 14140 | H17: 128343.6 | I17: 14140 | J17: 248179.4 | K17: 14140 | L17: 99246 | W17: =AVERAGE(C17:V17) -> 85864.1

Sheet Depalletizer & Palletizer
B1: CMU | C1: 1.12
A4: PR00
A5: Scheduled maintenance parts (ISO13306) | C5: 3000 | D5: 6000 | E5: 9000 | F5: 12000 | G5: 15000 | H5: 18000 | I5: 21000 | J5: 24000 | K5: 27000 | L5: 30000 | M5: =L5+3000 -> 33000 | N5: =M5+3000 -> 36000 | O5: =N5+3000 -> 39000 | P5: =O5+3000 -> 42000 | Q5: =P5+3000 -> 45000 | R5: =Q5+3000 -> 48000 | S5: =R5+3000 -> 51000 | T5: =S5+3000 -> 54000 | ... V5: =U5+3000 -> 60000 | W5: Average
A6: Depalletizer | C6: 3849 | E6: 13957 | G6: 13977 | I6: 13709 | K6: 3849 | W6: =AVERAGE(C6:V6) -> 9868.2
A7: Palletizer | C7: 5473 | E7: 19845 | G7: 19875 | I7: 19493 | K7: 5473 | W7: =AVERAGE(C7:V7) -> 14031.8
A8: PALLETIZER SIDEL Pal-Kombi 1P/1I inline | C8: 581.48 | D8: 3642.52 | E8: 581.48 | F8: 13325.15 | G8: 581.48 | H8: 7340.51 | I8: 581.48 | J8: 13325.15 | K8: 581.48 | L8: 3642.52 | W8: =AVERAGE(C8:V8) -> 4418.325
A9: Pal-Kombi 1P | C9: 480.9 | D9: 5407.62 | E9: 480.9 | F9: 10829.67 | G9: 480.9 | H9: 62717.64 | I9: 480.9 | J9: 10829.67 | K9: 480.9 | L9: 5407.62 | M9: 480.9 | N9: 68139.69 | O9: 480.9 | P9: 5407.62 | Q9: 480.9 | R9: 10829.67 | S9: 480.9 | T9: 62717.64 | U9: 480.9 | V9: 10829.67 | W9: =AVERAGE(C9:V9) -> 12896.275
W10: =AVERAGE(C10:V10) -> #DIV/0!
W11: =AVERAGE(C11:V11) -> #DIV/0!
W12: =AVERAGE(C12:V12) -> #DIV/0!
W13: =AVERAGE(C13:V13) -> #DIV/0!
W14: =AVERAGE(C14:V14) -> #DIV/0!
W15: =AVERAGE(C15:V15) -> #DIV/0!
W16: =AVERAGE(C16:V16) -> #DIV/0!
W17: =AVERAGE(C17:V17) -> #DIV/0!
W18: =AVERAGE(C18:V18) -> #DIV/0!
W19: =AVERAGE(C19:V19) -> #DIV/0!
W20: =AVERAGE(C20:V20) -> #DIV/0!
W21: =AVERAGE(C21:V21) -> #DIV/0!
... W36: =AVERAGE(C36:V36) -> #DIV/0!

Sheet Labeller
B1: CMU | C1: 1.12
A4: PR00
A5: Scheduled maintenance parts (ISO13306) | C5: 3000 | D5: 6000 | E5: 9000 | F5: 12000 | G5: 15000 | H5: 18000 | I5: 21000 | J5: 24000 | K5: 27000 | L5: 30000 | M5: =L5+3000 -> 33000 | N5: =M5+3000 -> 36000 | O5: =N5+3000 -> 39000 | P5: =O5+3000 -> 42000 | Q5: =P5+3000 -> 45000 | R5: =Q5+3000 -> 48000 | S5: =R5+3000 -> 51000 | T5: =S5+3000 -> 54000 | ... V5: =U5+3000 -> 60000 | W5: Average
A6: LABELLER SIDEL ROLLQUATTRO F35 24 T HH3 R E1 S1 | C6: 320.78 | D6: 24248.47 | E6: 320.78 | F6: 38722.47 | G6: 320.78 | H6: 24248.47 | I6: 320.78 | J6: 38722.47 | K6: 320.78 | L6: 24248.47 | W6: =AVERAGE(C6:V6) -> 15179.425
A7: Labeller R4f35E | C7: 153 | D7: 9074 | E7: 153 | F7: 31279 | G7: 153 | H7: 9074 | I7: 153 | J7: 31279 | K7: 153 | L7: 9074 | W7: =AVERAGE(C7:V7) -> 9054.5
A8: LABELLER R4F25E | D8: 9537 | F8: 25299 | H8: 9537 | J8: 25299 | L8: 9537 | W8: =AVERAGE(C8:V8) -> 15841.8
A9: LABELLER R4F25E | C9: 125 | D9: 9537 | E9: 125 | F9: 25299 | G9: 125 | H9: 9537 | I9: 125 | J9: 25299 | K9: 125 | L9: 9537 | W9: =AVERAGE(C9:V9) -> 7983.4
A10: Labeller R4F35E * 2 | C10: 153 | D10: 9074 | E10: 153 | F10: 31279 | G10: 153 | H10: 9074 | I10: 153 | J10: 31279 | K10: 153 | L10: 9074 | W10: =AVERAGE(C10:V10) -> 9054.5
A11: LABELLER F35E 24T | C11: 153 | D11: 9074 | E11: 153 | F11: 31279 | G11: 153 | H11: 9074 | I11: 153 | J11: 31279 | K11: 153 | L11: 9074 | W11: =AVERAGE(C11:V11) -> 9054.5
A12: LABELLER R4F35E | D12: 9074 | F12: 31279 | H12: 9074 | J12: 31279 | L12: 9074 | W12: =AVERAGE(C12:V12) -> 17956
A13: LABELLER F25E 24T | C13: 125 | D13: 9537 | E13: 125 | F13: 25299 | G13: 125 | H13: 9537 | I13: 125 | J13: 25299 | K13: 125 | L13: 9537 | W13: =AVERAGE(C13:V13) -> 7983.4
A14: LABELLER R4F35E | D14: 9074 | H14: 31279 | L14: 9074 | W14: =AVERAGE(C14:V14) -> 16475.667
A15: LABELLER F35E 24T | C15: 153 | D15: 9074 | E15: 153 | F15: 31279 | G15: 153 | H15: 9074 | I15: 153 | J15: 31279 | K15: 153 | L15: 9074 | W15: =AVERAGE(C15:V15) -> 9054.5
A16: LABELLER R4F35E | D16: 7074 | F16: 28179 | H16: 7074 | J16: 28179 | L16: 7074 | W16: =AVERAGE(C16:V16) -> 15516
A17: Trade Sleever Tamper Evident # AF1222 | C17: 14513.15 | D17: 11787.45 | E17: 6599.58 | F17: 21725.93 | G17: 14513.15 | H17: 21725.93 | I17: 14513.15 | J17: 21725.93 | K17: 14513.15 | L17: 21725.93 | M17: 14513.15 | N17: 21725.93 | O17: 14513.15 | P17: 21725.93 | Q17: 14513.15 | R17: 21725.93 | S17: 14513.15 | T17: 21725.93 | U17: 14513.15 | V17: 21725.93 | W17: =AVERAGE(C17:V17) -> 17226.938
A18: Alfa Rollquattro F35E 24T/R/HH3 | C18: 156.81 | D18: 12400.64 | E18: 156.81 | F18: 38188.47 | G18: 156.81 | H18: 12400.64 | I18: 156.81 | J18: 38188.47 | K18: 156.81 | L18: 12400.64 | M18: 89.49 | N18: 38188.47 | O18: 156.81 | P18: 12400.64 | Q18: 156.81 | R18: 38188.47 | S18: 156.81 | T18: 12400.64 | U18: 156.81 | V18: 38188.47 | W18: =AVERAGE(C18:V18) -> 12722.316
A19: Rollquattro F25E 18T/R/HH | C19: 156.81 | D19: 10522.67 | E19: 156.81 | F19: 32140.42 | G19: 156.81 | H19: 10522.67 | I19: 156.81 | J19: 32140.42 | K19: 156.81 | L19: 10522.67 | M19: 156.81 | N19: 32140.42 | O19: 156.81 | P19: 10522.67 | Q19: 156.81 | R19: 32140.42 | S19: 156.81 | T19: 10522.67 | U19: 156.81 | V19: 32140.42 | W19: =AVERAGE(C19:V19) -> 10744.177
W20: =AVERAGE(C20:V20) -> #DIV/0!
W21: =AVERAGE(C21:V21) -> #DIV/0!
W22: =AVERAGE(C22:V22) -> #DIV/0!
W23: =AVERAGE(C23:V23) -> #DIV/0!
W24: =AVERAGE(C24:V24) -> #DIV/0!
W25: =AVERAGE(C25:V25) -> #DIV/0!

Sheet Conveyor
B1: CMU | C1: 1.12
A4: PR00
A5: Scheduled maintenance parts (ISO13306) | C5: 3000 | D5: 6000 | E5: 9000 | F5: 12000 | G5: 15000 | H5: 18000 | I5: 21000 | J5: 24000 | K5: 27000 | L5: 30000 | M5: =L5+3000 -> 33000 | N5: =M5+3000 -> 36000 | O5: =N5+3000 -> 39000 | P5: =O5+3000 -> 42000 | Q5: =P5+3000 -> 45000 | R5: =Q5+3000 -> 48000 | S5: =R5+3000 -> 51000 | T5: =S5+3000 -> 54000 | ... V5: =U5+3000 -> 60000 | W5: AVERAGE
A6: BOTTLE CONVEYORS | B6: PR00 | C6: 1794 | D6: 2332.2 | E6: 0 | F6: 2691 | G6: 0 | H6: 4305.6 | I6: 0 | J6: 2691 | K6: 0 | W6: =AVERAGE(C6:V6) -> 1534.8667
A7: PACK CONVEYORS | B7: PR00 | C7: 1985 | D7: 2580.5 | E7: 0 | F7: 2977.5 | G7: 0 | H7: 4764 | I7: 0 | J7: 2977.5 | K7: 0 | W7: =AVERAGE(C7:V7) -> 1698.2778
A8: Conveyor bottles/packs | B8: PR00 | C8: 14268 | D8: 18548.4 | E8: 0 | F8: 21402 | G8: 0 | H8: 34243.2 | I8: 0 | J8: 21402 | K8: 0 | V8: 21402 | W8: =AVERAGE(C8:V8) -> 13126.56
A9: Conveyor | B9: PR00 | C9: 0 | D9: 29040 | E9: 0 | F9: 38720 | G9: 0 | H9: 29040 | I9: 0 | J9: 43560 | K9: 0 | L9: 29040 | W9: =AVERAGE(C9:V9) -> 16940
A10: CONVEYOR (BOTTLE/PACK/PREFORM/CAPS) | B10: PR00 | C10: 0 | D10: 14604.8 | E10: 0 | F10: 18777.6 | G10: 0 | H10: 22950.4 | I10: 0 | J10: 18777.6 | K10: 0 | L10: 14604.8 | W10: =AVERAGE(C10:V10) -> 8971.52
A11: CONVEYOR | B11: PR00 | C11: 9817 | E11: 35598 | G11: 35651 | I11: 34967 | K11: 9817 | W11: =AVERAGE(C11:V11) -> 25170
A12: CONVEYORS | B12: PR00 | C12: 0 | D12: 13395 | E12: 0 | F12: 29022.5 | G12: 0 | H12: 24557.5 | I12: 0 | J12: 20092.5 | K12: 0 | L12: 24557.5 | W12: =AVERAGE(C12:V12) -> 11162.5
A13: Conveyor Bottle + Pack | B13: PR00 | C13: 0 | D13: 9650 | E13: 0 | F13: 15440 | G13: 0 | H13: 9264 | I13: 0 | J13: 19300 | K13: 0 | L13: 10422 | W13: =AVERAGE(C13:V13) -> 6407.6
A14: CONVEYOR (BOTTLE/PACK) | B14: PR00 | C14: 0 | D14: 21315.6 | E14: 0 | F14: 46183.8 | G14: 0 | H14: 39078.6 | I14: 0 | J14: 31973.4 | K14: 0 | L14: 39078.6 | W14: =AVERAGE(C14:V14) -> 17763
A15: CONVEYOR (BOTTLE/PACK) | B15: PR00 | C15: 0 | D15: 6780 | E15: 0 | F15: 14690 | G15: 0 | H15: 12430 | I15: 0 | J15: 10170 | K15: 0 | L15: 12430 | W15: =AVERAGE(C15:V15) -> 5650
A16: Conveyor Bottle + Pack | B16: PR00 | C16: 0 | D16: 14550 | E16: 0 | F16: 14550 | G16: 0 | H16: 14550 | I16: 0 | J16: 14550 | K16: 0 | L16: 14550 | W16: =AVERAGE(C16:V16) -> 7275
A17: Conveyor Bottle + Pack | B17: PR00 | C17: 0 | D17: 9650 | E17: 0 | F17: 15440 | G17: 0 | H17: 9264 | I17: 0 | J17: 19300 | K17: 0 | L17: 10422 | W17: =AVERAGE(C17:V17) -> 6407.6
A18: CONVEYOR (BOTTLE/PACK) | B18: PR00 | C18: 0 | D18: 6081 | E18: 0 | F18: 13175.5 | G18: 0 | H18: 11148.5 | I18: 0 | J18: 9121.5 | K18: 0 | L18: 11148.5 | W18: =AVERAGE(C18:V18) -> 5067.5
A19: ADDED CONVEYORS | B19: PR00 | C19: 0 | D19: 6081 | E19: 0 | F19: 13175.5 | G19: 0 | H19: 11148.5 | I19: 0 | J19: 9121.5 | K19: 0 | L19: 11148.5 | W19: =AVERAGE(C19:V19) -> 5067.5
A20: CONVEYORS | B20: PR00 | D20: 11040 | F20: 18400 | H20: 18400 | J20: 16560 | L20: 18400 | W20: =AVERAGE(C20:V20) -> 16560
A21: CONVEYORS | B21: PR00 | C21: 0 | D21: 8360.04 | E21: 0 | F21: 18113.42 | G21: 0 | H21: 15326.74 | I21: 0 | J21: 12540.06 | K21: 0 | L21: 15326.74 | W21: =AVERAGE(C21:V21) -> 6966.7
A22: CONVEYORS | B22: PR00 | C22: 0 | D22: 13395 | E22: 0 | F22: 29022.5 | G22: 0 | H22: 24557.5 | I22: 0 | J22: 20092.5 | K22: 0 | L22: 24557.5 | W22: =AVERAGE(C22:V22) -> 11162.5
A23: CONVEYOR (BOTTLE/PACK) | B23: PR00 | C23: 0 | D23: 0 | E23: 0 | F23: 0 | G23: 0 | H23: 0 | I23: 0 | J23: 0 | K23: 0 | L23: 0 | W23: =AVERAGE(C23:V23) -> 0
A24: CONVEYOR (BOTTLE/PACK) | B24: PR00 | C24: 0 | D24: 33120 | E24: 0 | F24: 71760 | G24: 0 | H24: 60720 | I24: 0 | J24: 49680 | K24: 0 | L24: 60720 | W24: =AVERAGE(C24:V24) -> 27600
A25: BOTTLE & PACK CONVEYOR | B25: PR00 | C25: 0 | D25: 10720 | E25: 0 | F25: 13400 | G25: 0 | H25: 10720 | I25: 0 | J25: 13400 | K25: 0 | L25: 10720 | W25: =AVERAGE(C25:V25) -> 5896
A26: Conveyor | B26: PR00 | D26: 20650 | F26: 16520 | H26: 20650 | J26: 16520 | L26: 20650 | W26: =AVERAGE(C26:V26) -> 18998
A27: Conveyor BT & PK | B27: PR00 | C27: 0 | D27: 46840 | E27: 0 | F27: 58550 | G27: 0 | H27: 58550 | I27: 0 | J27: 70260 | K27: 0 | L27: 52695 | W27: =AVERAGE(C27:V27) -> 28689.5
A28: Conveyor BT & PK | B28: PR00 | D28: 6000 | W28: =AVERAGE(C28:V28) -> 6000
A29: Conveyor BT & PK | B29: PR00 | D29: 6000 | F29: 19000 | H29: 27000 | W29: =AVERAGE(C29:V29) -> 17333.333
A30: BOTTLE & PACK CONVEYOR | B30: PR00 | C30: 0 | D30: 21600 | E30: 0 | F30: 27000 | G30: 0 | H30: 21600 | I30: 0 | J30: 27000 | K30: 0 | L30: 21600 | W30: =AVERAGE(C30:V30) -> 11880
A31: Bottle & Pack Conveyors | B31: PR00 | D31: 28560 | F31: 47630 | H31: 47630 | J31: 47630 | L31: 47630 | W31: =AVERAGE(C31:V31) -> 43816
A32: Air conveyor | B32: PR00 | D32: 26500 | F32: 26500 | H32: 26500 | J32: 26500 | L32: 26500 | W32: =AVERAGE(C32:V32) -> 26500
A33: Bagging System and Air Conveyor | B33: PR00 | D33: 58705 | F33: 58705 | H33: 58705 | J33: 58705 | L33: 58705 | W33: =AVERAGE(C33:V33) -> 58705
A34: AIR CONVEYOR | B34: PR00 | C34: 0 | D34: 2320 | E34: 0 | F34: 3770 | G34: 0 | H34: 4060 | I34: 0 | J34: 3190 | K34: 0 | L34: 3480 | W34: =AVERAGE(C34:V34) -> 1682
A35: BT & PK CONVEYOR | B35: PR00 | C35: 0 | D35: 24780 | E35: 0 | F35: 26845 | G35: 0 | H35: 18585 | I35: 0 | J35: 22715 | K35: 0 | L35: 20650 | W35: =AVERAGE(C35:V35) -> 11357.5
A36: BT & PK CONVEYOR | B36: PR00 | C36: 0 | D36: 24780 | E36: 0 | F36: 26845 | G36: 0 | H36: 18585 | I36: 0 | J36: 22715 | K36: 0 | L36: 20650 | W36: =AVERAGE(C36:V36) -> 11357.5
A37: Conveyor BT & PK | B37: PR00 | D37: 6721 | F37: 7755 | H37: 12408 | J37: 7755 | L37: 7755 | W37: =AVERAGE(C37:V37) -> 8478.8
A38: CONVEYOR | B38: PR00 | C38: 0 | D38: 16410 | E38: 0 | F38: 21880 | G38: 0 | H38: 13675 | I38: 0 | J38: 16410 | K38: 0 | L38: 13675 | W38: =AVERAGE(C38:V38) -> 8205
A39: CONVEYOR BT & PK | B39: PR00 | D39: 18399.5 | F39: 28913.5 | H39: 23656.5 | J39: 18399.5 | L39: 21028 | W39: =AVERAGE(C39:V39) -> 22079.4
A40: CONVEYOR | B40: PR00 | C40: 0 | D40: 13200 | E40: 0 | F40: 17600 | G40: 0 | H40: 11000 | I40: 0 | J40: 13200 | K40: 0 | L40: 11000 | W40: =AVERAGE(C40:V40) -> 6600
A41: Conveyor BT & PK | B41: PR00 | D41: 46840 | F41: 58550 | H41: 58550 | J41: 70260 | L41: 52695 | W41: =AVERAGE(C41:V41) -> 57379
A42: CONVEYOR B&P | B42: PR00 | C42: 0 | D42: 9654 | E42: 0 | F42: 25344.135 | G42: 0 | H42: 28160.15 | I42: 0 | J42: 22528.12 | K42: 0 | L42: 19712.105 | W42: =AVERAGE(C42:V42) -> 10539.851
A43: CONVEYOR | B43: PR00 | C43: 0 | D43: 24615 | E43: 0 | F43: 35555 | G43: 0 | H43: 30085 | I43: 0 | J43: 32820 | K43: 0 | L43: 30085 | W43: =AVERAGE(C43:V43) -> 15316
A44: Bottle & Pack Conveyor | B44: PR00 | C44: 0 | D44: 15000 | E44: 0 | F44: 24000 | G44: 0 | H44: 21000 | I44: 0 | J44: 15000 | K44: 0 | L44: 18000 | W44: =AVERAGE(C44:V44) -> 9300
A45: CONVEYOR BOTTLE & PACK | B45: PR00 | D45: 8954 | F45: 16700 | H45: 18370 | J45: 20040 | L45: 15030 | W45: =AVERAGE(C45:V45) -> 15818.8
A46: Conveyor | B46: PR00 | D46: 31502 | F46: 64817 | H46: 31502 | J46: 64817 | L46: 31502 | W46: =AVERAGE(C46:V46) -> 44828
A47: Conveyor B&P | B47: PR00 | C47: 0 | D47: 0 | E47: 0 | F47: 0 | G47: 0 | H47: 0 | I47: 0 | J47: 0 | K47: 0 | L47: 0 | W47: =AVERAGE(C47:V47) -> 0

Sheet Wrapper & Packer
B1: CMU | C1: 1.12
A4: PR00
A5: Scheduled maintenance parts (ISO13306) | C5: 3000 | D5: 6000 | E5: 9000 | F5: 12000 | G5: 15000 | H5: 18000 | I5: 21000 | J5: 24000 | K5: 27000 | L5: 30000 | M5: =L5+3000 -> 33000 | N5: =M5+3000 -> 36000 | O5: =N5+3000 -> 39000 | P5: =O5+3000 -> 42000 | Q5: =P5+3000 -> 45000 | R5: =Q5+3000 -> 48000 | S5: =R5+3000 -> 51000 | T5: =S5+3000 -> 54000 | ... V5: =U5+3000 -> 60000 | W5: Average
A6: STRETCH WRAPPER ROBOPAC HELIX 1 | B6: PR00 | C6: not quoted | W6: =AVERAGE(C6:V6) -> #DIV/0!
A7: Shinkwrapper VEGA HT 40/2 | B7: PR00 | D7: 4172 | F7: 7310 | H7: 4172 | J7: 7310 | V7: 7310 | W7: =AVERAGE(C7:V7) -> 6054.8
A8: Stretchwrapper "Genesis Cube" | B8: PR00 | C8: 0 | D8: 9409.92 | E8: 0 | F8: 12064 | G8: 0 | H8: 26540.8 | I8: 0 | J8: 28953.6 | K8: 0 | V8: 12064 | W8: =AVERAGE(C8:V8) -> 8903.232
A9: Stretchwrapper robopac Helix 1 | B9: PR00 | D9: 1654 | F9: 4871 | H9: 5613 | J9: 4871 | L9: 1654 | W9: =AVERAGE(C9:V9) -> 3732.6
A10: Shrinkwrapper VersaFilm 4S-F SDR | B10: PR00 | C10: 490 | D10: 21938 | E10: 490 | F10: 34271 | G10: 490 | H10: 63101 | I10: 490 | J10: 34271 | K10: 490 | L10: 21938 | W10: =AVERAGE(C10:V10) -> 17796.9
A11: Shrinkwrapper VEGA HT 60 | B11: PR00 | D11: 9000 | F11: 23000 | H11: 18000 | J11: 21000 | L11: 25000 | W11: =AVERAGE(C11:V11) -> 19200
A12: Stretchwrapper robopac Helix 3 | B12: PR00 | C12: 1078 | D12: 1462 | E12: 2085 | F12: 2734 | G12: 4373 | H12: 6868 | I12: 2085 | J12: 2734 | K12: 4373 | L12: 6868 | W12: =AVERAGE(C12:V12) -> 3466
A13: Stretchwrapper robopac Helix 1 | B13: PR00 | D13: 1654 | F13: 4871 | H13: 5613 | J13: 4871 | L13: 1654 | W13: =AVERAGE(C13:V13) -> 3732.6
A14: STRETCHWRAPPER ROTOPLAT | B14: PR00 | C14: 0 | D14: 1170 | E14: 0 | F14: 780 | G14: 0 | H14: 975 | I14: 0 | J14: 1170 | K14: 0 | L14: 975 | W14: =AVERAGE(C14:V14) -> 507
A15: SHRINKWRAPPER VEGA HT 40 F | B15: PR00 | D15: 4172 | W15: =AVERAGE(C15:V15) -> 4172
A16: SHRINKWRAPPER VEGA HT 40 F | B16: PR00 | D16: 4172 | F16: 7310 | H16: 4172 | W16: =AVERAGE(C16:V16) -> 5218
A17: STRETCHWRAPPER HELIX 1 | B17: PR00 | C17: 980 | D17: 1783 | E17: 980 | F17: 5250 | G17: 980 | H17: 7706 | I17: 980 | J17: 5250 | K17: 980 | L17: 1783 | W17: =AVERAGE(C17:V17) -> 2667.2
A18: SHRINKWRAPPER VERSAFILM 2S F SDR | B18: PR00 | C18: 233 | D18: 16502 | E18: 233 | F18: 25089 | G18: 233 | H18: 34436 | I18: 233 | J18: 16502 | K18: 233 | L18: 25089 | W18: =AVERAGE(C18:V18) -> 11878.3
A19: SHRINKWRAPPER VERSAFILM 2S F SDR | B19: PR00 | C19: 233 | D19: 16502 | E19: 233 | F19: 25089 | G19: 233 | H19: 34436 | I19: 233 | J19: 16502 | K19: 233 | L19: 25089 | W19: =AVERAGE(C19:V19) -> 11878.3
A20: STRETCHWRAPPER ROBOPAC GENESIS CUBE | B20: PR00 | D20: 9409.92 | F20: 12064 | H20: 26540.8 | J20: 28953.6 | L20: 27023.36 | W20: =AVERAGE(C20:V20) -> 20798.336
A21: STRETCHWRAPPER HELIX 1 | B21: PR00 | D21: 3548 | F21: 5500 | H21: 4200 | J21: 6900 | L21: 4200 | W21: =AVERAGE(C21:V21) -> 4869.6
A22: Stretchwrapper Robopac Helix 1 | B22: PR00 | C22: 1096 | D22: 1654 | E22: 1291 | F22: 4871 | G22: 2413 | H22: 5613 | I22: 1096 | J22: 4871 | K22: 1096 | L22: 1654 | W22: =AVERAGE(C22:V22) -> 2565.5
A23: Stretchwrapper Robopac Helix | B23: PR00 | D23: 4520 | E23: 1078 | F23: 4997 | G23: 2365 | H23: 4520 | I23: 1078 | J23: 4997 | K23: 1277 | L23: 4520 | W23: =AVERAGE(C23:V23) -> 3261.3333
A24: Shrinkwrapper TSM2 CLP PC # 45C45 | B24: PR00 | C24: 805.45 | D24: 28716.12 | E24: 805.45 | F24: 39973.84 | G24: 805.45 | H24: 97815.95 | I24: 805.45 | J24: 39973.84 | K24: 805.45 | L24: 28716.12 | M24: 805.45 | N24: 10973.67 | O24: 805.45 | P24: 28716.12 | Q24: 805.45 | R24: 39973.84 | S24: 805.45 | T24: 97815.95 | U24: 805.45 | V24: 39973.84 | W24: =AVERAGE(C24:V24) -> 23035.19
A25: STRETCHWRAPPER ROBOPAC HS30 | C25: 1125.95 | D25: 1741.37 | E25: 1968.06 | F25: 3215.84 | G25: 8664.02 | H25: 5988.59 | I25: 1125.95 | J25: 3215.84 | K25: 1968.06 | L25: 9279.44 | M25: 1125.95 | N25: 7463.06 | O25: 1125.95 | P25: 1741.37 | Q25: 9506.13 | R25: 3215.84 | S25: 1125.95 | T25: 5988.59 | U25: 1125.95 | V25: 10753.91 | W25: =AVERAGE(C25:V25) -> 4073.291
A26: Shrinkwrapper # 45F62 | C26: 468.43 | D26: 39903.17 | E26: 468.43 | F26: 64947.67 | G26: 468.43 | H26: 51240 | I26: 468.43 | J26: 67335.74 | K26: 468.43 | L26: 28731.06 | M26: 468.43 | N26: 112254.9 | O26: 468.43 | P26: 39903.17 | Q26: 468.43 | R26: 67335.74 | S26: 468.43 | T26: 87210.4 | U26: 468.43 | V26: 64947.67 | W26: =AVERAGE(C26:V26) -> 31424.691
A27: VersaCombi SFR 3 turbines | C27: 5381.25 | D27: 53915.88 | E27: 5381.25 | F27: 88379.31 | G27: 5381.25 | H27: 179714.8 | I27: 5381.25 | J27: 100892.32 | K27: 5381.25 | L27: 53915.88 | M27: 5381.25 | N27: 214178.23 | O27: 5381.25 | P27: 53915.88 | Q27: 5381.25 | R27: 100892.32 | S27: 5381.25 | T27: 179714.8 | U27: 5381.25 | V27: 88379.31 | W27: =AVERAGE(C27:V27) -> 58385.562
A28: Shrinkwrapper # 45D96 | C28: 846.41 | D28: 53999.9 | E28: 846.41 | F28: 60203 | G28: 846.41 | H28: 128441.62 | I28: 846.41 | J28: 69529.97 | K28: 846.41 | L28: 53999.9 | M28: 846.41 | N28: 134644.72 | O28: 846.41 | P28: 53999.9 | Q28: 846.41 | R28: 69529.97 | S28: 846.41 | T28: 128441.62 | U28: 846.41 | V28: 60203 | W28: =AVERAGE(C28:V28) -> 41072.885
A29: Pallet stretch wrapper | C29: 1080.43 | D29: 2900.63 | E29: 1433.23 | F29: 4477.2 | G29: 3260.57 | H29: 8893.44 | I29: 1080.43 | J29: 4477.2 | K29: 1433.23 | L29: 5080.77 | M29: 1080.43 | N29: 10470.01 | O29: 1080.43 | P29: 2900.63 | Q29: 3613.37 | R29: 4477.2 | S29: 1080.43 | T29: 8893.44 | U29: 1080.43 | V29: 6657.34 | W29: =AVERAGE(C29:V29) -> 3772.542
A30: Shrinkwrapper without sealbar TSP2 CCO PC | C30: 524.76 | D30: 25339.18 | E30: 524.76 | F30: 36019.61 | G30: 524.76 | H30: 96720.28 | I30: 524.76 | J30: 36019.61 | K30: 524.76 | L30: 25339.18 | M30: 524.76 | N30: 110001.91 | O30: 524.76 | P30: 25339.18 | Q30: 524.76 | R30: 36019.61 | S30: 524.76 | T30: 96720.28 | U30: 524.76 | V30: 36019.61 | W30: =AVERAGE(C30:V30) -> 26439.303
A31: Trade Packer Shrinkwrapper | D31: 17899.72 | F31: 45209.85 | H31: 17899.72 | J31: 45209.85 | L31: 17899.72 | N31: 45209.85 | P31: 17899.72 | R31: 45209.85 | T31: 17899.72 | V31: 45209.85 | W31: =AVERAGE(C31:V31) -> 31554.785
W32: =AVERAGE(C32:V32) -> #DIV/0!
W33: =AVERAGE(C33:V33) -> #DIV/0!
W34: =AVERAGE(C34:V34) -> #DIV/0!
W35: =AVERAGE(C35:V35) -> #DIV/0!
W36: =AVERAGE(C36:V36) -> #DIV/0!
W37: =AVERAGE(C37:V37) -> #DIV/0!
W38: =AVERAGE(C38:V38) -> #DIV/0!
W39: =AVERAGE(C39:V39) -> #DIV/0!
W40: =AVERAGE(C40:V40) -> #DIV/0!
W41: =AVERAGE(C41:V41) -> #DIV/0!
W42: =AVERAGE(C42:V42) -> #DIV/0!

Sheet Tunnel
B1: CMU | C1: 1.12
A4: PR00
A5: Scheduled maintenance parts (ISO13306) | C5: 3000 | D5: 6000 | E5: 9000 | F5: 12000 | G5: 15000 | H5: 18000 | I5: 21000 | J5: 24000 | K5: 27000 | L5: 30000 | M5: =L5+3000 -> 33000 | N5: =M5+3000 -> 36000 | O5: =N5+3000 -> 39000 | P5: =O5+3000 -> 42000 | Q5: =P5+3000 -> 45000 | R5: =Q5+3000 -> 48000 | S5: =R5+3000 -> 51000 | T5: =S5+3000 -> 54000 | ... V5: =U5+3000 -> 60000 | W5: Average | X5: Serial Number
A6: SPAC | C6: 53.06 | D6: 226.68 | E6: 53.06 | F6: 2344.56 | G6: 53.06 | H6: 226.68 | I6: 53.06 | J6: 2344.56 | K6: 53.06 | L6: 226.68 | M6: 53.06 | N6: 2344.56 | O6: 53.06 | P6: 226.68 | Q6: 226.68 | R6: 2344.56 | S6: 53.06 | T6: 226.68 | U6: 53.06 | V6: 2344.56 | W6: =AVERAGE(C6:V6) -> 678.021 | X6: SPACO138
W7: =AVERAGE(C7:V7) -> #DIV/0!
W8: =AVERAGE(C8:V8) -> #DIV/0!
W9: =AVERAGE(C9:V9) -> #DIV/0!
W10: =AVERAGE(C10:V10) -> #DIV/0!
W11: =AVERAGE(C11:V11) -> #DIV/0!
W12: =AVERAGE(C12:V12) -> #DIV/0!
W13: =AVERAGE(C13:V13) -> #DIV/0!
W14: =AVERAGE(C14:V14) -> #DIV/0!
W15: =AVERAGE(C15:V15) -> #DIV/0!
W16: =AVERAGE(C16:V16) -> #DIV/0!
W17: =AVERAGE(C17:V17) -> #DIV/0!
W18: =AVERAGE(C18:V18) -> #DIV/0!
... W23: =AVERAGE(C23:V23) -> #DIV/0!

Sheet Cooler
B1: CMU | C1: 1.12
A4: PR00
A5: Scheduled maintenance parts (ISO13306) | C5: 3000 | D5: 6000 | E5: 9000 | F5: 12000 | G5: 15000 | H5: 18000 | I5: 21000 | J5: 24000 | K5: 27000 | L5: 30000 | M5: =L5+3000 -> 33000 | N5: =M5+3000 -> 36000 | O5: =N5+3000 -> 39000 | P5: =O5+3000 -> 42000 | Q5: =P5+3000 -> 45000 | R5: =Q5+3000 -> 48000 | S5: =R5+3000 -> 51000 | T5: =S5+3000 -> 54000 | ... V5: =U5+3000 -> 60000 | W5: AVERAGE
A6: COOLER CW 20/69 | C6: 0 | D6: 14420 | E6: 0 | F6: 15450 | G6: 0 | H6: 11330 | I6: 0 | J6: 12360 | K6: 0 | L6: 9270 | W6: =AVERAGE(C6:V6) -> 6283
A7: COOLER CW32/15 | D7: 8701.8 | F7: 19505 | H7: 8701 | J7: 19505 | L7: 8701 | W7: =AVERAGE(C7:V7) -> 13022.76
A8: COOLER CW 20/69 | C8: 0 | D8: 14420 | E8: 0 | F8: 15450 | G8: 0 | H8: 11330 | I8: 0 | J8: 12360 | K8: 0 | L8: 9270 | W8: =AVERAGE(C8:V8) -> 6283

Sheet D
B1: CMU | C1: 1.12
A4: PR00
A5: Scheduled maintenance parts (ISO13306) | C5: 3000 | D5: 6000 | E5: 9000 | F5: 12000 | G5: 15000 | H5: 18000 | I5: 21000 | J5: 24000 | K5: 27000 | L5: 30000 | M5: =L5+3000 -> 33000 | N5: =M5+3000 -> 36000 | O5: =N5+3000 -> 39000 | P5: =O5+3000 -> 42000 | Q5: =P5+3000 -> 45000 | R5: =Q5+3000 -> 48000 | S5: =R5+3000 -> 51000 | T5: =S5+3000 -> 54000 | ... V5: =U5+3000 -> 60000
W6: Average
A7: BLOWER SIDEL SBO 20 U2 ECO | B7: PR00 | C7: 9846.1 | D7: 44112.66 | E7: 9846.1 | F7: 80097.67 | G7: 9846.1 | H7: 77933.83 | I7: 9846.1 | J7: 79068.82 | K7: 9846.1 | L7: 45141.51 | V7: 127709 | W7: =AVERAGE(C7:V7) -> 45753.999
A8: FILLER SIDEL SF 300 FM 120 pitch 113 mm | B8: PR00 | D8: 93456.3 | E8: 579.73 | F8: 100311.45 | G8: 579.73 | H8: 93456.3 | I8: 579.73 | J8: 100311.45 | K8: 579.73 | L8: 93456.3 | W8: =AVERAGE(C8:V8) -> 53701.191
A9: AROL CAPPER EURO PK 315 20 heads | B9: PR00 | C9: 2804.064 | D9: 5131.872 | E9: 2804.064 | F9: 27891.36 | G9: 2804.064 | H9: 12885.792 | I9: 2804.064 | J9: 31251.36 | K9: 2804.064 | L9: 5131.872 | W9: =AVERAGE(C9:V9) -> 9631.2576
A10: CAP FEEDER SIDEL AIDLIN 24 | B10: PR00 | D10: 1280 | F10: 1280 | H10: 1280 | J10: 1280 | L10: 1280 | W10: =AVERAGE(C10:V10) -> 1280
A11: MIXER SIDEL STARBLEND D7 | B11: PR00 | C11: 0 | D11: 6927.84 | E11: 0 | F11: 6927.84 | G11: 0 | H11: 6927.84 | I11: 0 | J11: 6927.84 | K11: 0 | L11: 6927.84 | W11: =AVERAGE(C11:V11) -> 3463.92
A12: LABELLER SIDEL ROLLQUATTRO F35 24 T HH3 R E1 S1 | B12: PR00 | C12: 320.78 | D12: 24248.47 | E12: 320.78 | F12: 38722.47 | G12: 320.78 | H12: 24248.47 | I12: 320.78 | J12: 38722.47 | K12: 320.78 | L12: 24248.47 | W12: =AVERAGE(C12:V12) -> 15179.425
A13: PACKER OCME VEGA HT80V | B13: PR00 | C13: not quoted | W13: =AVERAGE(C13:V13) -> #DIV/0!
A14: PALLETIZER SIDEL Pal-Kombi 1P/1I inline | B14: PR00 | C14: 581.48 | D14: 3642.52 | E14: 581.48 | F14: 13325.15 | G14: 581.48 | H14: 7340.51 | I14: 581.48 | J14: 13325.15 | K14: 581.48 | L14: 3642.52 | W14: =AVERAGE(C14:V14) -> 4418.325
A15: STRETCH WRAPPER ROBOPAC HELIX 1 | B15: PR00 | C15: not quoted | W15: =AVERAGE(C15:V15) -> #DIV/0!
A16: BOTTLE CONVEYORS | B16: PR00 | C16: 1794 | D16: 2332.2 | E16: 0 | F16: 2691 | G16: 0 | H16: 4305.6 | I16: 0 | J16: 2691 | K16: 0 | W16: =AVERAGE(C16:V16) -> 1534.8667
A17: PACK CONVEYORS | B17: PR00 | C17: 1985 | D17: 2580.5 | E17: 0 | F17: 2977.5 | G17: 0 | H17: 4764 | I17: 0 | J17: 2977.5 | K17: 0 | W17: =AVERAGE(C17:V17) -> 1698.2778
A18: Compressor Atelier Francois CE68S | B18: PR00 | C18: not quoted | W18: =AVERAGE(C18:V18) -> #DIV/0!
A19: Chiller CTA 602IPC/ HT | B19: PR00 | C19: not quoted | W19: =AVERAGE(C19:V19) -> #DIV/0!
A20: SBO 16 U2 Predis C5 | B20: PR00 | C20: 7153 | D20: 48332 | E20: 7153 | F20: 93274 | G20: 7153 | H20: 127709 | I20: 7153 | J20: 93274 | K20: 7153 | L20: 48332 | M20: 7153 | N20: 127709 | O20: 7153 | P20: 48332 | Q20: 7153 | R20: 93274 | S20: 7153 | T20: 48332 | U20: 7153 | V20: 127709 | W20: =AVERAGE(C20:V20) -> 46390.35
A21: Filler FmA 70/20K | B21: PR00 | C21: 11979 | D21: 65783 | E21: 11979 | F21: 110195 | G21: 11979 | H21: 74022 | I21: 11979 | J21: 133296 | K21: 11979 | L21: 65783 | M21: 11979 | N21: 74022 | O21: 11979 | P21: 133296 | Q21: 11979 | R21: 65783 | S21: 11979 | T21: 74022 | U21: 11979 | V21: 133296 | W21: =AVERAGE(C21:V21) -> 52464.4
A22: Capper Arol Euro PK20 | B22: PR00 | C22: 4335 | D22: 24009 | E22: 4335 | F22: 36785 | G22: 4335 | H22: 24009 | I22: 4335 | J22: 36785 | K22: 4335 | L22: 24009 | M22: 4335 | N22: 36785 | O22: 4335 | P22: 24009 | Q22: 4335 | R22: 36785 | S22: 4335 | T22: 24009 | U22: 4335 | V22: 36785 | W22: =AVERAGE(C22:V22) -> 17366
A23: Capfeeder Aidlin24 | B23: PR00 | D23: 1964 | F23: 1964 | H23: 1964 | J23: 1964 | L23: 1964 | N23: 1964 | P23: 1964 | R23: 1964 | T23: 1964 | V23: 1964 | W23: =AVERAGE(C23:V23) -> 1964
A24: SBO24 Matrix L p40 eHR | B24: PR00 | C24: 5170 | D24: 58799 | E24: 28484 | F24: 94133 | G24: 5170 | H24: 148071 | I24: 5170 | J24: 94133 | K24: 28484 | V24: 94133 | W24: =AVERAGE(C24:V24) -> 56174.7
A25: SF700 FM 90v p113 | B25: PR00 | C25: 3180 | D25: 46021.2 | E25: 3180 | F25: 65157.6 | G25: 3180 | H25: 46021.2 | I25: 3180 | J25: 65157.6 | K25: 3180 | V25: 65157.6 | W25: =AVERAGE(C25:V25) -> 30341.52
A26: Arol Euro PK30 | B26: PR00 | C26: 7020 | D26: 11510 | E26: 7020 | F26: 73206 | G26: 7020 | H26: 26900 | I26: 7020 | J26: 88224 | K26: 7020 | V26: 73206 | W26: =AVERAGE(C26:V26) -> 30814.6
A27: Aidlin 24 | B27: PR00 | D27: 2900 | F27: 2900 | H27: 2900 | J27: 2900 | V27: 2900 | W27: =AVERAGE(C27:V27) -> 2900
A28: Sleever GS413 | B28: PR00 | D28: 12450 | F28: 12450 | H28: 12450 | J28: 12450 | V28: 12450 | W28: =AVERAGE(C28:V28) -> 12450
A29: Shinkwrapper VEGA HT 40/2 | B29: PR00 | D29: 4172 | F29: 7310 | H29: 4172 | J29: 7310 | V29: 7310 | W29: =AVERAGE(C29:V29) -> 6054.8
A30: Pal Kombi 1P 2i | B30: PR00 | C30: 624.728 | D30: 4343.612 | E30: 624.728 | F30: 48944.974 | G30: 624.728 | H30: 24538.098 | I30: 624.728 | J30: 48944.974 | K30: 624.728 | V30: 48944.974 | W30: =AVERAGE(C30:V30) -> 17884.027
A31: Stretchwrapper "Genesis Cube" | B31: PR00 | C31: 0 | D31: 9409.92 | E31: 0 | F31: 12064 | G31: 0 | H31: 26540.8 | I31: 0 | J31: 28953.6 | K31: 0 | V31: 12064 | W31: =AVERAGE(C31:V31) -> 8903.232
A32: Conveyor bottles/packs | B32: PR00 | C32: 14268 | D32: 18548.4 | E32: 0 | F32: 21402 | G32: 0 | H32: 34243.2 | I32: 0 | J32: 21402 | K32: 0 | V32: 21402 | W32: =AVERAGE(C32:V32) -> 13126.56
A33: SBO 28 Mx L P40 | B33: PR00 | C33: 6030 | D33: 53143 | E33: 20013 | F33: 127131 | G33: 6030 | H33: 116348 | I33: 20013 | J33: 127131 | K33: 6030 | L33: 116348 | W33: =AVERAGE(C33:V33) -> 59821.7
A34: SF300 M 180V P113 | B34: PR00 | C34: 760 | D34: 173000 | E34: 760 | F34: 186000 | G34: 760 | H34: 173000 | I34: 760 | J34: 186000 | K34: 760 | L34: 173000 | W34: =AVERAGE(C34:V34) -> 89480
A35: Capper Arol Euro PK25 | B35: PR00 | C35: 3273.696 | D35: 6183.456 | E35: 3273.696 | F35: 34632.816 | G35: 3273.696 | H35: 15813.216 | I35: 3273.696 | J35: 38832.816 | K35: 3273.696 | L35: 6183.456 | W35: =AVERAGE(C35:V35) -> 11801.424
A36: Capfeeder Aidlin24 | B36: PR00 | C36: 0 | D36: 1656.86 | E36: 0 | F36: 1656.86 | G36: 0 | H36: 1656.86 | I36: 0 | J36: 1656.86 | K36: 0 | L36: 1656.86 | W36: =AVERAGE(C36:V36) -> 828.43
A37: Mixer SM500 M4 | B37: PR00 | C37: 0 | D37: 17820 | E37: 0 | F37: 17820 | G37: 0 | H37: 17820 | I37: 0 | J37: 17820 | K37: 0 | L37: 17820 | W37: =AVERAGE(C37:V37) -> 8910
A38: Warmer CW 40-115 | B38: PR00 | W38: =AVERAGE(C38:V38) -> #DIV/0!
A39: R4F35E | B39: PR00 | C39: 800 | D39: 10660 | E39: 800 | F39: 28192 | G39: 800 | H39: 10660 | I39: 800 | J39: 28192 | K39: 800 | L39: 10660 | W39: =AVERAGE(C39:V39) -> 9236.4
A40: COCME VEGA HT 60/2 Wide | B40: PR00 | D40: 9000 | F40: 23000 | H40: 18000 | J40: 21000 | L40: 25000 | W40: =AVERAGE(C40:V40) -> 19200
A41: Pal Linear | B41: PR00 | D41: 7200 | F41: 29000 | H41: 25000 | J41: 29000 | L41: 25000 | W41: =AVERAGE(C41:V41) -> 23040
A42: Robopac Genesis Cube | B42: PR00 | C42: 0 | D42: 5006.4 | E42: 0 | F42: 8772 | G42: 0 | H42: 5006.4 | I42: 0 | J42: 8772 | K42: 0 | L42: 5006.4 | W42: =AVERAGE(C42:V42) -> 3256.32
A43: Conveyor | B43: PR00 | C43: 0 | D43: 29040 | E43: 0 | F43: 38720 | G43: 0 | H43: 29040 | I43: 0 | J43: 43560 | K43: 0 | L43: 29040 | W43: =AVERAGE(C43:V43) -> 16940
A44: SBO 8 Matrix M C5 P50 | B44: PR00 | C44: 8107.52 | D44: 31467.52 | E44: 17934.08 | F44: 80814.08 | G44: 8107.52 | H44: 47104 | I44: 8107.52 | J44: 130412.8 | K44: 17934.08 | L44: 31467.52 | W44: =AVERAGE(C44:V44) -> 38145.664
A45: Predis Capdis FMa 40 15 p.113 | B45: PR00 | C45: 10406.4 | D45: 70368 | E45: 10406.4 | F45: 131991.04 | G45: 10406.4 | H45: 92084.48 | I45: 10406.4 | J45: 154082.56 | K45: 10406.4 | L45: 70368 | W45: =AVERAGE(C45:V45) -> 57092.608
A46: Capper Arol 15 K Aseptic | B46: PR00 | C46: 12582.4 | D46: 23517.44 | E46: 12582.4 | F46: 89952 | G46: 12582.4 | H46: 23928.32 | I46: 12582.4 | J46: 89952 | K46: 12582.4 | L46: 0 | W46: =AVERAGE(C46:V46) -> 29026.176
A47: Optidry | B47: PR00 | C47: 0 | D47: 1536 | E47: 0 | F47: 1536 | G47: 0 | H47: 1536 | I47: 0 | J47: 1536 | K47: 0 | L47: 1536 | W47: =AVERAGE(C47:V47) -> 768
A48: FUJISEAL - FujiSeal 310 | B48: PR00 | C48: 0 | D48: 10816 | E48: 0 | F48: 11648 | G48: 0 | H48: 11648 | I48: 0 | J48: 12480 | K48: 0 | L48: 13312 | W48: =AVERAGE(C48:V48) -> 5990.4
A49: VersaWrap2® | B49: PR00 | C49: 0 | D49: 21122.56 | E49: 0 | F49: 32113.92 | G49: 0 | H49: 44078.08 | I49: 0 | J49: 32113.92 | K49: 0 | L49: 44078.08 | W49: =AVERAGE(C49:V49) -> 17350.656
A50: PAL KOMBI 2I1P | B50: PR00 | C50: 0 | D50: 5559.8234 | E50: 0 | F50: 62649.567 | G50: 0 | H50: 31408.765 | I50: 0 | J50: 62649.567 | K50: 0 | L50: 5559.8234 | W50: =AVERAGE(C50:V50) -> 16782.755
A51: Robopac - HELIX 1 | B51: PR00 | C51: 0 | D51: 5376 | E51: 0 | F51: 7040 | G51: 0 | H51: 5376 | I51: 0 | J51: 8832 | K51: 0 | L51: 5376 | W51: =AVERAGE(C51:V51) -> 3200
A52: CONVEYOR (BOTTLE/PACK/PREFORM/CAPS) | B52: PR00 | C52: 0 | D52: 14604.8 | E52: 0 | F52: 18777.6 | G52: 0 | H52: 22950.4 | I52: 0 | J52: 18777.6 | K52: 0 | L52: 14604.8 | W52: =AVERAGE(C52:V52) -> 8971.52
A53: Cap feeder Aidlin 24 | B53: PR00 | C53: 0 | D53: 2055.3728 | E53: 0 | F53: 2054.4 | G53: 0 | H53: 2054.4 | I53: 0 | J53: 2054.4 | K53: 0 | L53: 2054.4 | W53: =AVERAGE(C53:V53) -> 1027.2973
A54: R4F35 | B54: PR00 | C54: 0 | D54: 11614.72 | E54: 0 | F54: 40037.12 | G54: 0 | H54: 11614.72 | I54: 0 | J54: 40037.12 | K54: 0 | L54: 11614.72 | W54: =AVERAGE(C54:V54) -> 11491.84
A55: Depalletizer | B55: PR00 | C55: 3849 | E55: 13957 | G55: 13977 | I55: 13709 | K55: 3849 | W55: =AVERAGE(C55:V55) -> 9868.2
A56: Filler | B56: PR00 | C56: 17442 | E56: 63252 | G56: 63346 | I56: 62130 | K56: 17442 | W56: =AVERAGE(C56:V56) -> 44722.4
A57: Cap Feeder | B57: PR00 | C57: 1275 | E57: 4623 | G57: 4630 | I57: 4541 | K57: 1275 | W57: =AVERAGE(C57:V57) -> 3268.8
A58: FT System | B58: PR00 | C58: 400 | E58: 1200 | G58: 1200 | I58: 1200 | K58: 1200 | W58: =AVERAGE(C58:V58) -> 1040
A59: Dryer | B59: PR00 | C59: 500 | E59: 1492 | G59: 1492 | I59: 1492 | K59: 1492 | W59: =AVERAGE(C59:V59) -> 1293.6
A60: R4 F45 32T/SM S2/E2 | B60: PR00 | C60: 12000 | E60: 12000 | G60: 12000 | I60: 12000 | K60: 12000 | W60: =AVERAGE(C60:V60) -> 12000
A61: TUNNEL PASTEURIZER | B61: PR00 | C61: 11107 | E61: 40279 | G61: 40339 | I61: 39565 | K61: 11107 | W61: =AVERAGE(C61:V61) -> 28479.4
A62: Packer | B62: PR00 | C62: 4696 | E62: 17030 | G62: 17055 | I62: 16728 | K62: 4696 | W62: =AVERAGE(C62:V62) -> 12041
A63: Palletizer | B63: PR00 | C63: 5473 | E63: 19845 | G63: 19875 | I63: 19493 | K63: 5473 | W63: =AVERAGE(C63:V63) -> 14031.8
A64: Helix 1 | B64: PR00 | C64: 2750 | E64: 2750 | G64: 2750 | I64: 2750 | K64: 2750 | W64: =AVERAGE(C64:V64) -> 2750
A65: CONVEYOR | B65: PR00 | C65: 9817 | E65: 35598 | G65: 35651 | I65: 34967 | K65: 9817 | W65: =AVERAGE(C65:V65) -> 25170
A66: SBO 16 Matrix M C5 | B66: PR00 | C66: 9194 | D66: 60303 | E66: 17037 | F66: 98507 | G66: 9194 | H66: 132174 | I66: 9194 | J66: 98507 | K66: 17037 | L66: 60303 | W66: =AVERAGE(C66:V66) -> 51145
A67: Predis FMa 70 20 | B67: PR00 | C67: 11979 | D67: 65783 | E67: 11979 | F67: 110195 | G67: 11979 | H67: 74022 | I67: 11979 | J67: 133296 | K67: 11979 | L67: 65783 | W67: =AVERAGE(C67:V67) -> 50897.4
A68: Capper Aseptic 20H | B68: PR00 | C68: 4335 | D68: 24009 | E68: 4335 | F68: 36785 | G68: 4335 | H68: 24009 | I68: 4335 | J68: 36785 | K68: 4335 | L68: 24009 | W68: =AVERAGE(C68:V68) -> 16727.2
A69: FujiSeal 420 | B69: PR00 | D69: 15290 | F69: 15290 | H69: 15290 | J69: 15290 | L69: 15290 | W69: =AVERAGE(C69:V69) -> 15290
A70: Versawrap SDI | B70: PR00 | D70: 16502 | F70: 25089 | H70: 34436 | J70: 25089 | L70: 34436 | W70: =AVERAGE(C70:V70) -> 27110.4
A71: Pal Kombi 1i1p | B71: PR00 | D71: 3341.24 | F71: 37649.98 | H71: 18875.46 | J71: 37649.98 | L71: 3341.24 | W71: =AVERAGE(C71:V71) -> 20171.58
A72: Cap feeder Aidlin 24 | B72: PR00 | D72: 1605.76 | F72: 1605 | H72: 1605 | J72: 1605 | L72: 1605 | W72: =AVERAGE(C72:V72) -> 1605.152
A73: CONVEYORS | B73: PR00 | C73: 0 | D73: 13395 | E73: 0 | F73: 29022.5 | G73: 0 | H73: 24557.5 | I73: 0 | J73: 20092.5 | K73: 0 | L73: 24557.5 | W73: =AVERAGE(C73:V73) -> 11162.5
A74: DRYERS (2 UNITS) | B74: PR00 | D74: 2700 | F74: 3000 | H74: 3000 | J74: 3000 | L74: 3000 | W74: =AVERAGE(C74:V74) -> 2940
A75: SBO 16 Matrix M P40 | B75: PR00 | C75: 6310 | D75: 45248 | E75: 23838 | F75: 73655 | G75: 6310 | H75: 113274 | I75: 6310 | J75: 73366 | K75: 23838 | L75: 113274 | W75: =AVERAGE(C75:V75) -> 48542.3
A76: SF100 FM NC: 50 valves, pitch 113 | B76: PR00 | C76: 2680 | D76: 22667 | E76: 2680 | F76: 30292 | G76: 2680 | H76: 22099 | I76: 2680 | J76: 28993 | K76: 2680 | L76: 22667 | W76: =AVERAGE(C76:V76) -> 14011.8
A77: Capper Arol 15K PK314 | B77: PR00 | C77: 3448 | D77: 5818 | E77: 3448 | F77: 27426 | G77: 3448 | H77: 14645 | I77: 3448 | J77: 34219 | K77: 3448 | L77: 5818 | W77: =AVERAGE(C77:V77) -> 10516.6
A78: Cap feeder Aidlin 24 | B78: PR00 | D78: 1605.76 | F78: 1605 | H78: 1605 | J78: 1605 | L78: 1605 | W78: =AVERAGE(C78:V78) -> 1605.152
A79: R4F25 E 18T | B79: PR00 | D79: 8378.26 | F79: 9163.64 | H79: 8378.26 | J79: 11578 | L79: 9405 | W79: =AVERAGE(C79:V79) -> 9380.632
A80: VersaFilm Access 3S-F-SDR | B80: PR00 | C80: 439.39 | D80: 19559.64 | E80: 439 | F80: 22999.97 | G80: 439 | H80: 61884.51 | I80: 439 | J80: 22999.97 | K80: 439 | L80: 61884.51 | W80: =AVERAGE(C80:V80) -> 19152.399
A81: Packer AN70 + Case Erector F387.44 + Case Gluer C651.40 | B81: PR00 | D81: 3324 | F81: 3915 | H81: 16237 | J81: 3915 | L81: 6059 | W81: =AVERAGE(C81:V81) -> 6690
A82: Pal linear | B82: PR00 | D82: 460 | F82: 2145 | H82: 1260 | J82: 2145 | L82: 1245 | W82: =AVERAGE(C82:V82) -> 1451
A83: Stretchwrapper robopac Helix 1 | B83: PR00 | D83: 1654 | F83: 4871 | H83: 5613 | J83: 4871 | L83: 1654 | W83: =AVERAGE(C83:V83) -> 3732.6
A84: Conveyor Bottle + Pack | B84: PR00 | C84: 0 | D84: 9650 | E84: 0 | F84: 15440 | G84: 0 | H84: 9264 | I84: 0 | J84: 19300 | K84: 0 | L84: 10422 | W84: =AVERAGE(C84:V84) -> 6407.6
A85: SBO 22 Matrix M C5 P50 | B85: PR00 | C85: 8023 | D85: 45625 | E85: 19013 | F85: 97256 | G85: 8023 | H85: 141555 | I85: 8023 | J85: 97256 | K85: 19013 | L85: 45625 | W85: =AVERAGE(C85:V85) -> 48941.2
A86: Predis Capdis FMa 80 24 p.141 | B86: PR00 | C86: 10100 | D86: 70890 | E86: 10100 | F86: 152090 | G86: 10100 | H86: 91674 | I86: 10100 | J86: 177271 | K86: 10100 | L86: 70890 | W86: =AVERAGE(C86:V86) -> 61331.5
A87: SIDEL - Aidlin 24 | B87: PR00 | C87: 0 | D87: 1664 | E87: 0 | F87: 1664 | G87: 0 | H87: 1664 | I87: 0 | J87: 1664 | K87: 0 | L87: 1664 | W87: =AVERAGE(C87:V87) -> 832
A88: Aseptic Capper | B88: PR00 | C88: 8600 | D88: 23456 | E88: 8600 | F88: 48786 | G88: 8600 | H88: 29188 | I88: 8600 | J88: 48786 | K88: 8600 | L88: 23456 | W88: =AVERAGE(C88:V88) -> 21667.2
A89: Optidry (3 units) | B89: PR00 | D89: 3774.44 | F89: 3774.44 | H89: 3774.44 | J89: 3774.44 | L89: 3774.44 | W89: =AVERAGE(C89:V89) -> 3774.44
A90: FUJISEAL - FujiSeal 415DL Full body sleeve | B90: PR00 | D90: 15290 | F90: 15290 | H90: 15290 | J90: 15290 | L90: 15290 | W90: =AVERAGE(C90:V90) -> 15290
A91: RollAdhesive F45 S2/E1 | B91: PR00 | C91: 417.014 | D91: 14866.839 | E91: 417.014 | F91: 33683.039 | G91: 417.014 | H91: 14866.839 | I91: 417.014 | J91: 33683.039 | K91: 417.014 | L91: 14866.839 | W91: =AVERAGE(C91:V91) -> 11405.167
A92: VersaWrap SDR (2 units) | B92: PR00 | D92: 33004 | F92: 50178 | H92: 68872 | J92: 50178 | L92: 68872 | W92: =AVERAGE(C92:V92) -> 54220.8
A93: Shrinkwrapper VersaFilm 4S-F SDR | B93: PR00 | C93: 490 | D93: 21938 | E93: 490 | F93: 34271 | G93: 490 | H93: 63101 | I93: 490 | J93: 34271 | K93: 490 | L93: 21938 | W93: =AVERAGE(C93:V93) -> 17796.9
A94: Pal Evoflex MS | B94: PR00 | D94: 1080 | F94: 5350 | H94: 1080 | J94: 5350 | L94: 1080 | W94: =AVERAGE(C94:V94) -> 2788
A95: ROBOPAC - GENESIS CUBE | B95: PR00 | C95: 0 | D95: 9409.92 | E95: 0 | F95: 12064 | G95: 0 | H95: 26540.8 | I95: 0 | J95: 28953.6 | K95: 0 | L95: 27023.36 | W95: =AVERAGE(C95:V95) -> 10399.168
A96: CONVEYOR (BOTTLE/PACK) | B96: PR00 | C96: 0 | D96: 21315.6 | E96: 0 | F96: 46183.8 | G96: 0 | H96: 39078.6 | I96: 0 | J96: 31973.4 | K96: 0 | L96: 39078.6 | W96: =AVERAGE(C96:V96) -> 17763
A97: SBO 14 Matrix M C5 P50 | B97: PR00 | C97: 8359 | D97: 54821 | E97: 15489 | F97: 89552 | G97: 8359 | H97: 120159 | I97: 8359 | J97: 89552 | K97: 15489 | L97: 54821 | W97: =AVERAGE(C97:V97) -> 46496
A98: Predis Capdis FMa 48 18 p94 | B98: PR00 | C98: 9830 | D98: 18373 | E98: 9830 | F98: 70275 | G98: 9830 | H98: 18694 | I98: 9830 | J98: 70275 | K98: 9830 | L98: 18694 | W98: =AVERAGE(C98:V98) -> 24546.1
A99: SIDEL - Aidlin 24 | B99: PR00 | D99: 1605.76 | F99: 1605 | H99: 1605 | J99: 1605 | L99: 1605 | W99: =AVERAGE(C99:V99) -> 1605.152
A100: Aseptic Capper 18H | B100: PR00 | C100: 9830 | D100: 18373 | E100: 9830 | F100: 70275 | G100: 9830 | H100: 18694 | I100: 9830 | J100: 70275 | K100: 9830 | L100: 18694 | W100: =AVERAGE(C100:V100) -> 24546.1
A101: Optidry | B101: PR00 | D101: 1286 | F101: 1286 | H101: 1286 | J101: 1286 | L101: 1286 | W101: =AVERAGE(C101:V101) -> 1286
A102: RollQuattro F25E 18T/R/HH3 | B102: PR00 | D102: 9537 | F102: 25299 | H102: 9537 | J102: 25299 | L102: 9537 | W102: =AVERAGE(C102:V102) -> 15841.8
...
