Workbook
Name __DAT11: '[1]liste client avec zone PR'!#REF!
Name __DAT11: '[1]liste client avec zone PR'!#REF!
Name __DAT11: '[1]liste client avec zone PR'!#REF!
Name __DAT12: '[1]liste client avec zone PR'!#REF!
Name __DAT12: '[1]liste client avec zone PR'!#REF!
Name __DAT12: '[1]liste client avec zone PR'!#REF!
Name __DAT14: '[2]liste client avec zone PR'!#REF!
Name __DAT14: '[2]liste client avec zone PR'!#REF!
Name __DAT14: '[2]liste client avec zone PR'!#REF!
Name __DAT15: '[1]liste client avec zone PR'!#REF!
Name __DAT15: '[1]liste client avec zone PR'!#REF!
Name __DAT15: '[1]liste client avec zone PR'!#REF!
Name __DAT16: '[1]liste client avec zone PR'!#REF!
Name __DAT16: '[1]liste client avec zone PR'!#REF!
Name __DAT16: '[1]liste client avec zone PR'!#REF!
Name __DAT17: '[1]liste client avec zone PR'!#REF!
Name __DAT17: '[1]liste client avec zone PR'!#REF!
Name __DAT17: '[1]liste client avec zone PR'!#REF!
Name __DAT18: '[1]liste client avec zone PR'!#REF!
Name __DAT18: '[1]liste client avec zone PR'!#REF!
Name __DAT18: '[1]liste client avec zone PR'!#REF!
Name __DAT19: '[2]liste client avec zone PR'!#REF!
Name __DAT19: '[2]liste client avec zone PR'!#REF!
Name __DAT19: '[2]liste client avec zone PR'!#REF!
Name __DAT20: '[2]liste client avec zone PR'!#REF!
Name __DAT20: '[2]liste client avec zone PR'!#REF!
Name __DAT20: '[2]liste client avec zone PR'!#REF!
Name __DAT21: '[2]liste client avec zone PR'!#REF!
Name __DAT21: '[2]liste client avec zone PR'!#REF!
Name __DAT21: '[2]liste client avec zone PR'!#REF!
Name __DAT22: '[2]liste client avec zone PR'!#REF!
Name __DAT22: '[2]liste client avec zone PR'!#REF!
Name __DAT22: '[2]liste client avec zone PR'!#REF!
Name __DAT23: '[2]liste client avec zone PR'!#REF!
Name __DAT23: '[2]liste client avec zone PR'!#REF!
Name __DAT23: '[2]liste client avec zone PR'!#REF!
Name _2nd_YearHM: #REF!
Name _2nd_YearHM: #REF!
Name _2nd_YearHM: #REF!
Name _3rd_YearHM: #REF!
Name _3rd_YearHM: #REF!
Name _3rd_YearHM: #REF!
Name _DAT1: #REF!
Name _DAT1: #REF!
Name _DAT1: #REF!
Name _DAT10: #REF!
Name _DAT10: #REF!
Name _DAT10: #REF!
Name _DAT11: '[1]liste client avec zone PR'!#REF!
Name _DAT11: '[1]liste client avec zone PR'!#REF!
Name _DAT11: '[1]liste client avec zone PR'!#REF!
Name _DAT12: '[1]liste client avec zone PR'!#REF!
Name _DAT12: '[1]liste client avec zone PR'!#REF!
Name _DAT12: '[1]liste client avec zone PR'!#REF!
Name _DAT13: #REF!
Name _DAT13: #REF!
Name _DAT13: #REF!
Name _DAT14: '[2]liste client avec zone PR'!#REF!
Name _DAT14: '[2]liste client avec zone PR'!#REF!
Name _DAT14: '[2]liste client avec zone PR'!#REF!

Sheet MBE
E2: PROJECT (country}: | K2: CMU | L2: 1
E3: Maintenance Budget Estimation: | N3: years
E4: Yearly Production Hours: | N4: hours
E5: MBE NR. | O5: date: | P5: 17.08.2017
C8: Scheduled maintenance parts (ISO13306) | E8: Y1 | F8: Y2 | G8: Y3 | H8: Y4 | I8: Y5 | J8: Y6 | K8: Y7 | L8: Y8 | M8: Y9 | N8: Y10 | O8: Yearly average
A9: Country | B9: CMU | D9: =IFERROR(INDEX(details!E7:E239,MATCH(MBE!#REF!,details!A7:A239),0),"") | E9: =VLOOKUP(C9,details!$A$7:$AF$1000,5,0)*$L$2 -> #N/A | F9: =VLOOKUP(C9,details!$A$7:$AF$1000,8,0)*$L$2 -> #N/A | G9: =VLOOKUP(C9,details!$A$7:$AF$1000,11,0)*$L$2 -> #N/A | H9: =VLOOKUP(C9,details!$A$7:$AF$1000,14,0)*$L$2 -> #N/A | I9: =VLOOKUP(C9,details!$A$7:$AF$1000,17,0)*$L$2 -> #N/A | J9: =VLOOKUP(C9,details!$A$7:$AF$1000,20,0)*$L$2 -> #N/A | K9: =VLOOKUP(C9,details!$A$7:$AF$1000,23,0)*$L$2 -> #N/A | L9: =VLOOKUP(C9,details!$A$7:$AF$1000,26,0)*$L$2 -> #N/A | M9: =VLOOKUP(C9,details!$A$7:$AF$1000,29,0)*$L$2 -> #N/A | N9: =VLOOKUP(C9,details!$A$7:$AF$1000,32,0)*$L$2 -> #N/A | O9: =AVERAGE(D9:M9) -> #N/A
A10: Afghanistan | B10: 1,35 | E10: =VLOOKUP(C10,details!$A$7:$AF$1000,5,0)*$L$2 -> #N/A | F10: =VLOOKUP(C10,details!$A$7:$AF$1000,8,0)*$L$2 -> #N/A | G10: =VLOOKUP(C10,details!$A$7:$AF$1000,11,0)*$L$2 -> #N/A | H10: =VLOOKUP(C10,details!$A$7:$AF$1000,14,0)*$L$2 -> #N/A | I10: =VLOOKUP(C10,details!$A$7:$AF$1000,17,0)*$L$2 -> #N/A | J10: =VLOOKUP(C10,details!$A$7:$AF$1000,20,0)*$L$2 -> #N/A | K10: =VLOOKUP(C10,details!$A$7:$AF$1000,23,0)*$L$2 -> #N/A | L10: =VLOOKUP(C10,details!$A$7:$AF$1000,26,0)*$L$2 -> #N/A | M10: =VLOOKUP(C10,details!$A$7:$AF$1000,29,0)*$L$2 -> #N/A | N10: =VLOOKUP(C10,details!$A$7:$AF$1000,32,0)*$L$2 -> #N/A | O10: =AVERAGE(D10:M10) -> #N/A
A11: Albania | B11: 1,12 | E11: =VLOOKUP(C11,details!$A$7:$AF$1000,5,0)*$L$2 -> #N/A | F11: =VLOOKUP(C11,details!$A$7:$AF$1000,8,0)*$L$2 -> #N/A | G11: =VLOOKUP(C11,details!$A$7:$AF$1000,11,0)*$L$2 -> #N/A | H11: =VLOOKUP(C11,details!$A$7:$AF$1000,14,0)*$L$2 -> #N/A | I11: =VLOOKUP(C11,details!$A$7:$AF$1000,17,0)*$L$2 -> #N/A | J11: =VLOOKUP(C11,details!$A$7:$AF$1000,20,0)*$L$2 -> #N/A | K11: =VLOOKUP(C11,details!$A$7:$AF$1000,23,0)*$L$2 -> #N/A | L11: =VLOOKUP(C11,details!$A$7:$AF$1000,26,0)*$L$2 -> #N/A | M11: =VLOOKUP(C11,details!$A$7:$AF$1000,29,0)*$L$2 -> #N/A | N11: =VLOOKUP(C11,details!$A$7:$AF$1000,32,0)*$L$2 -> #N/A | O11: =AVERAGE(D11:M11) -> #N/A
A12: Algeria | B12: 1,16 | E12: =VLOOKUP(C12,details!$A$7:$AF$1000,5,0)*$L$2 -> #N/A | F12: =VLOOKUP(C12,details!$A$7:$AF$1000,8,0)*$L$2 -> #N/A | G12: =VLOOKUP(C12,details!$A$7:$AF$1000,11,0)*$L$2 -> #N/A | H12: =VLOOKUP(C12,details!$A$7:$AF$1000,14,0)*$L$2 -> #N/A | I12: =VLOOKUP(C12,details!$A$7:$AF$1000,17,0)*$L$2 -> #N/A | J12: =VLOOKUP(C12,details!$A$7:$AF$1000,20,0)*$L$2 -> #N/A | K12: =VLOOKUP(C12,details!$A$7:$AF$1000,23,0)*$L$2 -> #N/A | L12: =VLOOKUP(C12,details!$A$7:$AF$1000,26,0)*$L$2 -> #N/A | M12: =VLOOKUP(C12,details!$A$7:$AF$1000,29,0)*$L$2 -> #N/A | N12: =VLOOKUP(C12,details!$A$7:$AF$1000,32,0)*$L$2 -> #N/A | O12: =AVERAGE(D12:M12) -> #N/A
A13: American Samoa | B13: 1,12 | E13: =VLOOKUP(C13,details!$A$7:$AF$1000,5,0)*$L$2 -> #N/A | F13: =VLOOKUP(C13,details!$A$7:$AF$1000,8,0)*$L$2 -> #N/A | G13: =VLOOKUP(C13,details!$A$7:$AF$1000,11,0)*$L$2 -> #N/A | H13: =VLOOKUP(C13,details!$A$7:$AF$1000,14,0)*$L$2 -> #N/A | I13: =VLOOKUP(C13,details!$A$7:$AF$1000,17,0)*$L$2 -> #N/A | J13: =VLOOKUP(C13,details!$A$7:$AF$1000,20,0)*$L$2 -> #N/A | K13: =VLOOKUP(C13,details!$A$7:$AF$1000,23,0)*$L$2 -> #N/A | L13: =VLOOKUP(C13,details!$A$7:$AF$1000,26,0)*$L$2 -> #N/A | M13: =VLOOKUP(C13,details!$A$7:$AF$1000,29,0)*$L$2 -> #N/A | N13: =VLOOKUP(C13,details!$A$7:$AF$1000,32,0)*$L$2 -> #N/A | O13: =AVERAGE(D13:M13) -> #N/A
A14: Andorra | B14: 1,00 | E14: =VLOOKUP(C14,details!$A$7:$AF$1000,5,0)*$L$2 -> #N/A | F14: =VLOOKUP(C14,details!$A$7:$AF$1000,8,0)*$L$2 -> #N/A | G14: =VLOOKUP(C14,details!$A$7:$AF$1000,11,0)*$L$2 -> #N/A | H14: =VLOOKUP(C14,details!$A$7:$AF$1000,14,0)*$L$2 -> #N/A | I14: =VLOOKUP(C14,details!$A$7:$AF$1000,17,0)*$L$2 -> #N/A | J14: =VLOOKUP(C14,details!$A$7:$AF$1000,20,0)*$L$2 -> #N/A | K14: =VLOOKUP(C14,details!$A$7:$AF$1000,23,0)*$L$2 -> #N/A | L14: =VLOOKUP(C14,details!$A$7:$AF$1000,26,0)*$L$2 -> #N/A | M14: =VLOOKUP(C14,details!$A$7:$AF$1000,29,0)*$L$2 -> #N/A | N14: =VLOOKUP(C14,details!$A$7:$AF$1000,32,0)*$L$2 -> #N/A | O14: =AVERAGE(D14:M14) -> #N/A
A15: Angola | B15: 1,16 | E15: =VLOOKUP(C15,details!$A$7:$AF$1000,5,0)*$L$2 -> #N/A | F15: =VLOOKUP(C15,details!$A$7:$AF$1000,8,0)*$L$2 -> #N/A | G15: =VLOOKUP(C15,details!$A$7:$AF$1000,11,0)*$L$2 -> #N/A | H15: =VLOOKUP(C15,details!$A$7:$AF$1000,14,0)*$L$2 -> #N/A | I15: =VLOOKUP(C15,details!$A$7:$AF$1000,17,0)*$L$2 -> #N/A | J15: =VLOOKUP(C15,details!$A$7:$AF$1000,20,0)*$L$2 -> #N/A | K15: =VLOOKUP(C15,details!$A$7:$AF$1000,23,0)*$L$2 -> #N/A | L15: =VLOOKUP(C15,details!$A$7:$AF$1000,26,0)*$L$2 -> #N/A | M15: =VLOOKUP(C15,details!$A$7:$AF$1000,29,0)*$L$2 -> #N/A | N15: =VLOOKUP(C15,details!$A$7:$AF$1000,32,0)*$L$2 -> #N/A | O15: =AVERAGE(D15:M15) -> #N/A
A16: Anguilla | B16: 1,33 | E16: =VLOOKUP(C16,details!$A$7:$AF$1000,5,0)*$L$2 -> #N/A | F16: =VLOOKUP(C16,details!$A$7:$AF$1000,8,0)*$L$2 -> #N/A | G16: =VLOOKUP(C16,details!$A$7:$AF$1000,11,0)*$L$2 -> #N/A | H16: =VLOOKUP(C16,details!$A$7:$AF$1000,14,0)*$L$2 -> #N/A | I16: =VLOOKUP(C16,details!$A$7:$AF$1000,17,0)*$L$2 -> #N/A | J16: =VLOOKUP(C16,details!$A$7:$AF$1000,20,0)*$L$2 -> #N/A | K16: =VLOOKUP(C16,details!$A$7:$AF$1000,23,0)*$L$2 -> #N/A | L16: =VLOOKUP(C16,details!$A$7:$AF$1000,26,0)*$L$2 -> #N/A | M16: =VLOOKUP(C16,details!$A$7:$AF$1000,29,0)*$L$2 -> #N/A | N16: =VLOOKUP(C16,details!$A$7:$AF$1000,32,0)*$L$2 -> #N/A | O16: =AVERAGE(D16:M16) -> #N/A
A17: Antarctica | B17: 1,15 | E17: =VLOOKUP(C17,details!$A$7:$AF$1000,5,0)*$L$2 -> #N/A | F17: =VLOOKUP(C17,details!$A$7:$AF$1000,8,0)*$L$2 -> #N/A | G17: =VLOOKUP(C17,details!$A$7:$AF$1000,11,0)*$L$2 -> #N/A | H17: =VLOOKUP(C17,details!$A$7:$AF$1000,14,0)*$L$2 -> #N/A | I17: =VLOOKUP(C17,details!$A$7:$AF$1000,17,0)*$L$2 -> #N/A | J17: =VLOOKUP(C17,details!$A$7:$AF$1000,20,0)*$L$2 -> #N/A | K17: =VLOOKUP(C17,details!$A$7:$AF$1000,23,0)*$L$2 -> #N/A | L17: =VLOOKUP(C17,details!$A$7:$AF$1000,26,0)*$L$2 -> #N/A | M17: =VLOOKUP(C17,details!$A$7:$AF$1000,29,0)*$L$2 -> #N/A | N17: =VLOOKUP(C17,details!$A$7:$AF$1000,32,0)*$L$2 -> #N/A | O17: =AVERAGE(D17:M17) -> #N/A
A18: Antigua and Barbuda | B18: 1,33 | E18: =VLOOKUP(C18,details!$A$7:$AF$1000,5,0)*$L$2 -> #N/A | F18: =VLOOKUP(C18,details!$A$7:$AF$1000,8,0)*$L$2 -> #N/A | G18: =VLOOKUP(C18,details!$A$7:$AF$1000,11,0)*$L$2 -> #N/A | H18: =VLOOKUP(C18,details!$A$7:$AF$1000,14,0)*$L$2 -> #N/A | I18: =VLOOKUP(C18,details!$A$7:$AF$1000,17,0)*$L$2 -> #N/A | J18: =VLOOKUP(C18,details!$A$7:$AF$1000,20,0)*$L$2 -> #N/A | K18: =VLOOKUP(C18,details!$A$7:$AF$1000,23,0)*$L$2 -> #N/A | L18: =VLOOKUP(C18,details!$A$7:$AF$1000,26,0)*$L$2 -> #N/A | M18: =VLOOKUP(C18,details!$A$7:$AF$1000,29,0)*$L$2 -> #N/A | N18: =VLOOKUP(C18,details!$A$7:$AF$1000,32,0)*$L$2 -> #N/A | O18: =AVERAGE(D18:M18) -> #N/A
A19: Argentina | B19: 1,20 | E19: =VLOOKUP(C19,details!$A$7:$AF$1000,5,0)*$L$2 -> #N/A | F19: =VLOOKUP(C19,details!$A$7:$AF$1000,8,0)*$L$2 -> #N/A | G19: =VLOOKUP(C19,details!$A$7:$AF$1000,11,0)*$L$2 -> #N/A | H19: =VLOOKUP(C19,details!$A$7:$AF$1000,14,0)*$L$2 -> #N/A | I19: =VLOOKUP(C19,details!$A$7:$AF$1000,17,0)*$L$2 -> #N/A | J19: =VLOOKUP(C19,details!$A$7:$AF$1000,20,0)*$L$2 -> #N/A | K19: =VLOOKUP(C19,details!$A$7:$AF$1000,23,0)*$L$2 -> #N/A | L19: =VLOOKUP(C19,details!$A$7:$AF$1000,26,0)*$L$2 -> #N/A | M19: =VLOOKUP(C19,details!$A$7:$AF$1000,29,0)*$L$2 -> #N/A | N19: =VLOOKUP(C19,details!$A$7:$AF$1000,32,0)*$L$2 -> #N/A | O19: =AVERAGE(D19:M19) -> #N/A
A20: Armenia | B20: 1,20 | E20: =VLOOKUP(C20,details!$A$7:$AF$1000,5,0)*$L$2 -> #N/A | F20: =VLOOKUP(C20,details!$A$7:$AF$1000,8,0)*$L$2 -> #N/A | G20: =VLOOKUP(C20,details!$A$7:$AF$1000,11,0)*$L$2 -> #N/A | H20: =VLOOKUP(C20,details!$A$7:$AF$1000,14,0)*$L$2 -> #N/A | I20: =VLOOKUP(C20,details!$A$7:$AF$1000,17,0)*$L$2 -> #N/A | J20: =VLOOKUP(C20,details!$A$7:$AF$1000,20,0)*$L$2 -> #N/A | K20: =VLOOKUP(C20,details!$A$7:$AF$1000,23,0)*$L$2 -> #N/A | L20: =VLOOKUP(C20,details!$A$7:$AF$1000,26,0)*$L$2 -> #N/A | M20: =VLOOKUP(C20,details!$A$7:$AF$1000,29,0)*$L$2 -> #N/A | N20: =VLOOKUP(C20,details!$A$7:$AF$1000,32,0)*$L$2 -> #N/A | O20: =AVERAGE(D20:M20) -> #N/A
A21: Aruba | B21: 1,33 | E21: =VLOOKUP(C21,details!$A$7:$AF$1000,5,0)*$L$2 -> #N/A | F21: =VLOOKUP(C21,details!$A$7:$AF$1000,8,0)*$L$2 -> #N/A | G21: =VLOOKUP(C21,details!$A$7:$AF$1000,11,0)*$L$2 -> #N/A | H21: =VLOOKUP(C21,details!$A$7:$AF$1000,14,0)*$L$2 -> #N/A | I21: =VLOOKUP(C21,details!$A$7:$AF$1000,17,0)*$L$2 -> #N/A | J21: =VLOOKUP(C21,details!$A$7:$AF$1000,20,0)*$L$2 -> #N/A | K21: =VLOOKUP(C21,details!$A$7:$AF$1000,23,0)*$L$2 -> #N/A | L21: =VLOOKUP(C21,details!$A$7:$AF$1000,26,0)*$L$2 -> #N/A | M21: =VLOOKUP(C21,details!$A$7:$AF$1000,29,0)*$L$2 -> #N/A | N21: =VLOOKUP(C21,details!$A$7:$AF$1000,32,0)*$L$2 -> #N/A | O21: =AVERAGE(D21:M21) -> #N/A
A22: Australia | B22: 1,36 | C22: DV | D22: Price
A23: Austria | B23: 1,00 | C23: SP | D23: Price | E23: =D!#REF! -> #REF! | F23: =D!#REF! -> #REF! | G23: =D!#REF! -> #REF! | H23: =D!#REF! -> #REF! | N23: =D!#REF! -> #REF! | O23: =AVERAGE(E23:N23) -> #REF!
A24: Azerbaijan | B24: 1,20 | C24: MP | D24: Price
A25: Bahamas | B25: 1,33
A26: Bahrain | B26: 1,20 | C26: Total | D26: Price | E26: =SUM(D9:D19) -> 0 | F26: =SUM(E9:E19) -> #N/A | G26: =SUM(F9:F19) -> #N/A | H26: =SUM(G9:G19) -> #N/A | N26: =SUM(M9:M19) -> #N/A | O26: =AVERAGE(E26:N26) -> #N/A
A27: Bangladesh | B27: 1,12 | D27: Price
A28: Barbados | B28: 1,33
A29: Belarus | B29: 1,20 | C29: All prices are based on 2016 spare part list price for NEPAL
A30: Belgium | B30: 1,00
A31: Belize | B31: 1,33 | C31: The parts consumption is corresponding to Sidel standard predetermined preventive maintenance plan, designed for standard operation and maintenance conditions of the machine, accordingly to Sidel specifications and documentation.
A32: Benin | B32: 1,16 | C32: ► Figures are based on a yearly production time of maximum 6,000 hours of listed Sidel equipments.
A33: Bermuda | B33: 1,33
A34: Bhutan | B34: 1,12 | C34: The following events, which all are the responsibility of the owner, may generate different additional maintenance needs, which are not included into the given information:
A35: Bolivia | B35: 1,15 | C35: ► use of out-of-specifications energies and/or water, raw materials, product, packaging materials, lubricants, chemicals, consumables or tooling,
A36: Bonaire, Sint Eustatiu | B36: 1,33 | C36: ► installation of the machine in an environment out of Sidel’s specifications (including, but not restricted to, humidity, temperature, dust size and quantity, aggressive chemicals),
A37: Bosnia and Herzegovi | B37: 1,12 | C37: ► non-respect of Sidel standard operation procedures, maintenance plan, checking and setting instructions, as defined in the equipment documentation, including lubrication and routine maintenance,
A38: Botswana | B38: 1,16 | C38: ► operation or maintenance by personnel not qualified by Sidel,
A39: Bouvet Island | B39: 1,12 | C39: ► any case of usage of non-original Sidel spare parts, and its consequences on other components,
A40: Brazil | B40: 1,72 | C40: ► fall, or contact with the equipment, of external material onto the machine or whatever accident,
A41: British Indian Ocean T | B41: 1,12 | C41: ► any modification of the machine not conducted by Sidel, and its consequences on other components,
A42: Brunei Darussalam | B42: 1,12 | C42: ► and generally speaking any improper use.
A43: Bulgaria | B43: 1,04 | C43: The parts consumption is calculated based effectively upon the successful start-up date.
...

Sheet details
B1: CMU | C1: 1.12
A4: PR00
A6: Scheduled maintenance parts (ISO13306) | C6: 3000 | D6: 6000 | E6: Y1 | F6: 9000 | G6: 12000 | H6: Y2 | I6: 15000 | J6: 18000 | K6: Y3 | L6: 21000 | M6: 24000 | N6: Y4 | O6: 27000 | P6: 30000 | Q6: Y5 | R6: =P6+3000 -> 33000 | S6: =R6+3000 -> 36000 | T6: Y6 | U6: =S6+3000 -> 39000 | V6: =U6+3000 -> 42000 | W6: Y7 | X6: =V6+3000 -> 45000 | Y6: =X6+3000 -> 48000 | Z6: Y8 | AA6: =Y6+3000 -> 51000 | AB6: =AA6+3000 -> 54000 | AC6: Y9 | AD6: =AB6+3000 -> 57000 | AE6: =AD6+3000 -> 60000 | AF6: Y10 | AG6: Average
A7: SBO 20 U2 ECO BLOWER SIDEL | C7: 9846.1 | D7: 44112.66 | E7: =SUM(C7:D7) -> 53958.76 | F7: 9846.1 | G7: 80097.67 | H7: =SUM(F7:G7) -> 89943.77 | I7: 9846.1 | J7: 77933.83 | K7: =SUM(I7:J7) -> 87779.93 | L7: 9846.1 | M7: 79068.82 | N7: =SUM(L7:M7) -> 88914.92 | O7: 9846.1 | P7: 45141.51 | Q7: =SUM(O7:P7) -> 54987.61 | T7: =SUM(R7:S7) -> 0 | W7: =SUM(U7:V7) -> 0 | Z7: =SUM(X7:Y7) -> 0 | AC7: =SUM(AA7:AB7) -> 0 | AE7: 127709 | AF7: =SUM(AD7:AE7) -> 127709 | AG7: =AVERAGE(C7:AF7) -> 47932.761
A8: SBO 16 U2 Predis C5 | C8: 7153 | D8: 48332 | E8: =SUM(C8:D8) -> 55485 | F8: 7153 | G8: 93274 | H8: =SUM(F8:G8) -> 100427 | I8: 7153 | J8: 127709 | K8: =SUM(I8:J8) -> 134862 | L8: 7153 | M8: 93274 | N8: =SUM(L8:M8) -> 100427 | O8: 7153 | P8: 48332 | Q8: =SUM(O8:P8) -> 55485 | R8: 7153 | S8: 127709 | T8: =SUM(R8:S8) -> 134862 | U8: 7153 | V8: 48332 | W8: =SUM(U8:V8) -> 55485 | X8: 7153 | Y8: 93274 | Z8: =SUM(X8:Y8) -> 100427 | AA8: 7153 | AB8: 48332 | AC8: =SUM(AA8:AB8) -> 55485 | AD8: 7153 | AE8: 127709 | AF8: =SUM(AD8:AE8) -> 134862 | AG8: =AVERAGE(C8:AF8) -> 61853.8
A9: SBO 6 Matrix M Predis C5 P50 | C9: 0 | D9: 0 | E9: =SUM(C9:D9) -> 0 | F9: 0 | G9: 0 | H9: =SUM(F9:G9) -> 0 | I9: 0 | J9: 0 | K9: =SUM(I9:J9) -> 0 | L9: 0 | M9: 0 | N9: =SUM(L9:M9) -> 0 | O9: 0 | P9: 0 | Q9: =SUM(O9:P9) -> 0 | T9: =SUM(R9:S9) -> 0 | W9: =SUM(U9:V9) -> 0 | Z9: =SUM(X9:Y9) -> 0 | AC9: =SUM(AA9:AB9) -> 0 | AF9: =SUM(AD9:AE9) -> 0 | AG9: =AVERAGE(C9:AF9) -> 0
A10: SBO 16 U2 Predis C5 | C10: 7153 | D10: 48332 | E10: =SUM(C10:D10) -> 55485 | F10: 7153 | G10: 93274 | H10: =SUM(F10:G10) -> 100427 | I10: 7153 | J10: 127709 | K10: =SUM(I10:J10) -> 134862 | L10: 7153 | M10: 93274 | N10: =SUM(L10:M10) -> 100427 | O10: 7153 | P10: 48332 | Q10: =SUM(O10:P10) -> 55485 | R10: 7153 | S10: 127709 | T10: =SUM(R10:S10) -> 134862 | U10: 7153 | V10: 48332 | W10: =SUM(U10:V10) -> 55485 | X10: 7153 | Y10: 93274 | Z10: =SUM(X10:Y10) -> 100427 | AA10: 7153 | AB10: 48332 | AC10: =SUM(AA10:AB10) -> 55485 | AD10: 7153 | AE10: 127709 | AF10: =SUM(AD10:AE10) -> 134862 | AG10: =AVERAGE(C10:AF10) -> 61853.8
A11: SBO 14/20 U HR # 11533 - Combi # 467 - 21498 | C11: 12080.14 | D11: 36899.67 | E11: =SUM(C11:D11) -> 48979.81 | F11: 32162.56 | G11: 128038.34 | H11: =SUM(F11:G11) -> 160200.9 | I11: 12080.14 | J11: 157597.6 | K11: =SUM(I11:J11) -> 169677.74 | L11: 12080.14 | M11: 127393.22 | N11: =SUM(L11:M11) -> 139473.36 | O11: 32162.56 | P11: 37544.79 | Q11: =SUM(O11:P11) -> 69707.35 | R11: 12080.14 | S11: 248091.15 | T11: =SUM(R11:S11) -> 260171.29 | U11: 12080.14 | V11: 36899.67 | W11: =SUM(U11:V11) -> 48979.81 | X11: 32162.56 | Y11: 128038.34 | Z11: =SUM(X11:Y11) -> 160200.9 | AA11: 12080.14 | AB11: 157597.6 | AC11: =SUM(AA11:AB11) -> 169677.74 | AD11: 12080.14 | AE11: 127393.27 | AF11: =SUM(AD11:AE11) -> 139473.41 | AG11: =AVERAGE(C11:AF11) -> 91102.821
A12: SBO 24/20 XS HS Eco | C12: 8941.63 | D12: 53401.7 | E12: =SUM(C12:D12) -> 62343.33 | F12: 8941.63 | G12: 104274.45 | H12: =SUM(F12:G12) -> 113216.08 | I12: 8941.63 | J12: 184940.21 | K12: =SUM(I12:J12) -> 193881.84 | L12: 8941.63 | M12: 101163.09 | N12: =SUM(L12:M12) -> 110104.72 | O12: 8941.63 | P12: 56513.06 | Q12: =SUM(O12:P12) -> 65454.69 | R12: 8941.63 | S12: 232701.6 | T12: =SUM(R12:S12) -> 241643.23 | U12: 8941.63 | V12: 53401.7 | W12: =SUM(U12:V12) -> 62343.33 | X12: 8941.63 | Y12: 104274.45 | Z12: =SUM(X12:Y12) -> 113216.08 | AA12: 8941.63 | AB12: 184940.21 | AC12: =SUM(AA12:AB12) -> 193881.84 | AD12: 8941.63 | AE12: 101163.09 | AF12: =SUM(AD12:AE12) -> 110104.72 | AG12: =AVERAGE(C12:AF12) -> 84412.657
A13: SBO 14/20 U2 | C13: 8941.63 | D13: 53401.7 | E13: =SUM(C13:D13) -> 62343.33 | F13: 8941.63 | G13: 104274.45 | H13: =SUM(F13:G13) -> 113216.08 | I13: 8941.63 | J13: 184940.21 | K13: =SUM(I13:J13) -> 193881.84 | L13: 8941.63 | M13: 101163.09 | N13: =SUM(L13:M13) -> 110104.72 | O13: 8941.63 | P13: 56513.06 | Q13: =SUM(O13:P13) -> 65454.69 | R13: 8941.63 | S13: 232701.6 | T13: =SUM(R13:S13) -> 241643.23 | U13: 8941.63 | V13: 53401.7 | W13: =SUM(U13:V13) -> 62343.33 | X13: 8941.63 | Y13: 104274.45 | Z13: =SUM(X13:Y13) -> 113216.08 | AA13: 8941.63 | AB13: 184940.21 | AC13: =SUM(AA13:AB13) -> 193881.84 | AD13: 8941.63 | AE13: 101163.09 | AF13: =SUM(AD13:AE13) -> 110104.72 | AG13: =AVERAGE(C13:AF13) -> 84412.657
A14: SBO 6/8 U | C14: 3838.74 | D14: 13753.73 | E14: =SUM(C14:D14) -> 17592.47 | F14: 3838.74 | G14: 42539.39 | H14: =SUM(F14:G14) -> 46378.13 | I14: 3838.74 | J14: 43236.15 | K14: =SUM(I14:J14) -> 47074.89 | L14: 3838.74 | M14: 79235.75 | N14: =SUM(L14:M14) -> 83074.49 | O14: 3838.74 | P14: 14531.57 | Q14: =SUM(O14:P14) -> 18370.31 | R14: 3838.74 | S14: 71243.97 | T14: =SUM(R14:S14) -> 75082.71 | U14: 3838.74 | V14: 13753.73 | W14: =SUM(U14:V14) -> 17592.47 | X14: 3838.74 | Y14: 80013.59 | Z14: =SUM(X14:Y14) -> 83852.33 | AA14: 3838.74 | AB14: 43236.15 | AC14: =SUM(AA14:AB14) -> 47074.89 | AD14: 3838.74 | AE14: 41761.55 | AF14: =SUM(AD14:AE14) -> 45600.29 | AG14: =AVERAGE(C14:AF14) -> 32112.865
A15: SBO 24 Matrix L p40 eHR | C15: 5170 | D15: 58799 | E15: =SUM(C15:D15) -> 63969 | F15: 28484 | G15: 94133 | H15: =SUM(F15:G15) -> 122617 | I15: 5170 | J15: 148071 | K15: =SUM(I15:J15) -> 153241 | L15: 5170 | M15: 94133 | N15: =SUM(L15:M15) -> 99303 | O15: 28484 | Q15: =SUM(O15:P15) -> 28484 | T15: =SUM(R15:S15) -> 0 | W15: =SUM(U15:V15) -> 0 | Z15: =SUM(X15:Y15) -> 0 | AC15: =SUM(AA15:AB15) -> 0 | AE15: 94133 | AF15: =SUM(AD15:AE15) -> 94133 | AG15: =AVERAGE(C15:AF15) -> 56174.7
A16: SBO 28 Matrix L P40 | C16: 6030 | D16: 53143 | E16: =SUM(C16:D16) -> 59173 | F16: 20013 | G16: 127131 | H16: =SUM(F16:G16) -> 147144 | I16: 6030 | J16: 116348 | K16: =SUM(I16:J16) -> 122378 | L16: 20013 | M16: 127131 | N16: =SUM(L16:M16) -> 147144 | O16: 6030 | P16: 116348 | Q16: =SUM(O16:P16) -> 122378 | T16: =SUM(R16:S16) -> 0 | W16: =SUM(U16:V16) -> 0 | Z16: =SUM(X16:Y16) -> 0 | AC16: =SUM(AA16:AB16) -> 0 | AF16: =SUM(AD16:AE16) -> 0 | AG16: =AVERAGE(C16:AF16) -> 59821.7
A17: SBO 8 Matrix M C5 P50 | C17: 8107.52 | D17: 31467.52 | E17: =SUM(C17:D17) -> 39575.04 | F17: 17934.08 | G17: 80814.08 | H17: =SUM(F17:G17) -> 98748.16 | I17: 8107.52 | J17: 47104 | K17: =SUM(I17:J17) -> 55211.52 | L17: 8107.52 | M17: 130412.8 | N17: =SUM(L17:M17) -> 138520.32 | O17: 17934.08 | P17: 31467.52 | Q17: =SUM(O17:P17) -> 49401.6 | T17: =SUM(R17:S17) -> 0 | W17: =SUM(U17:V17) -> 0 | Z17: =SUM(X17:Y17) -> 0 | AC17: =SUM(AA17:AB17) -> 0 | AF17: =SUM(AD17:AE17) -> 0 | AG17: =AVERAGE(C17:AF17) -> 38145.664
A18: SBO 16 Matrix M C5 | C18: 9194 | D18: 60303 | E18: =SUM(C18:D18) -> 69497 | F18: 17037 | G18: 98507 | H18: =SUM(F18:G18) -> 115544 | I18: 9194 | J18: 132174 | K18: =SUM(I18:J18) -> 141368 | L18: 9194 | M18: 98507 | N18: =SUM(L18:M18) -> 107701 | O18: 17037 | P18: 60303 | Q18: =SUM(O18:P18) -> 77340 | T18: =SUM(R18:S18) -> 0 | W18: =SUM(U18:V18) -> 0 | Z18: =SUM(X18:Y18) -> 0 | AC18: =SUM(AA18:AB18) -> 0 | AF18: =SUM(AD18:AE18) -> 0 | AG18: =AVERAGE(C18:AF18) -> 51145
A19: SBO 16 Matrix M P40 | C19: 6310 | D19: 45248 | E19: =SUM(C19:D19) -> 51558 | F19: 23838 | G19: 73655 | H19: =SUM(F19:G19) -> 97493 | I19: 6310 | J19: 113274 | K19: =SUM(I19:J19) -> 119584 | L19: 6310 | M19: 73366 | N19: =SUM(L19:M19) -> 79676 | O19: 23838 | P19: 113274 | Q19: =SUM(O19:P19) -> 137112 | T19: =SUM(R19:S19) -> 0 | W19: =SUM(U19:V19) -> 0 | Z19: =SUM(X19:Y19) -> 0 | AC19: =SUM(AA19:AB19) -> 0 | AF19: =SUM(AD19:AE19) -> 0 | AG19: =AVERAGE(C19:AF19) -> 48542.3
A20: SBO 22 Matrix M C5 P50 | C20: 8023 | D20: 45625 | E20: =SUM(C20:D20) -> 53648 | F20: 19013 | G20: 97256 | H20: =SUM(F20:G20) -> 116269 | I20: 8023 | J20: 141555 | K20: =SUM(I20:J20) -> 149578 | L20: 8023 | M20: 97256 | N20: =SUM(L20:M20) -> 105279 | O20: 19013 | P20: 45625 | Q20: =SUM(O20:P20) -> 64638 | T20: =SUM(R20:S20) -> 0 | W20: =SUM(U20:V20) -> 0 | Z20: =SUM(X20:Y20) -> 0 | AC20: =SUM(AA20:AB20) -> 0 | AF20: =SUM(AD20:AE20) -> 0 | AG20: =AVERAGE(C20:AF20) -> 48941.2
A21: SBO 14 Matrix M C5 P50 | C21: 8359 | D21: 54821 | E21: =SUM(C21:D21) -> 63180 | F21: 15489 | G21: 89552 | H21: =SUM(F21:G21) -> 105041 | I21: 8359 | J21: 120159 | K21: =SUM(I21:J21) -> 128518 | L21: 8359 | M21: 89552 | N21: =SUM(L21:M21) -> 97911 | O21: 15489 | P21: 54821 | Q21: =SUM(O21:P21) -> 70310 | T21: =SUM(R21:S21) -> 0 | W21: =SUM(U21:V21) -> 0 | Z21: =SUM(X21:Y21) -> 0 | AC21: =SUM(AA21:AB21) -> 0 | AF21: =SUM(AD21:AE21) -> 0 | AG21: =AVERAGE(C21:AF21) -> 46496
A22: SBO 16 Matrix M P40 | C22: 5352 | D22: 61036 | E22: =SUM(C22:D22) -> 66388 | F22: 5352 | G22: 90431 | H22: =SUM(F22:G22) -> 95783 | I22: 5352 | J22: 112953 | K22: =SUM(I22:J22) -> 118305 | L22: 5352 | M22: 90135 | N22: =SUM(L22:M22) -> 95487 | O22: 5352 | P22: 61036 | Q22: =SUM(O22:P22) -> 66388 | T22: =SUM(R22:S22) -> 0 | W22: =SUM(U22:V22) -> 0 | Z22: =SUM(X22:Y22) -> 0 | AC22: =SUM(AA22:AB22) -> 0 | AF22: =SUM(AD22:AE22) -> 0 | AG22: =AVERAGE(C22:AF22) -> 44235.1
A23: SBO 14 Matrix L P40 | C23: 3368 | D23: 19343 | E23: =SUM(C23:D23) -> 22711 | F23: 16515 | G23: 42688 | H23: =SUM(F23:G23) -> 59203 | I23: 3368 | J23: 34570 | K23: =SUM(I23:J23) -> 37938 | L23: 3368 | M23: 96259 | N23: =SUM(L23:M23) -> 99627 | O23: 16515 | P23: 19343 | Q23: =SUM(O23:P23) -> 35858 | T23: =SUM(R23:S23) -> 0 | W23: =SUM(U23:V23) -> 0 | Z23: =SUM(X23:Y23) -> 0 | AC23: =SUM(AA23:AB23) -> 0 | AF23: =SUM(AD23:AE23) -> 0 | AG23: =AVERAGE(C23:AF23) -> 25533.7
A24: SBO 12 Matrix M C5 P40 | C24: 7523 | D24: 49338 | E24: =SUM(C24:D24) -> 56861 | F24: 13940 | G24: 80596 | H24: =SUM(F24:G24) -> 94536 | I24: 7523 | J24: 108143 | K24: =SUM(I24:J24) -> 115666 | L24: 7523 | M24: 80596 | N24: =SUM(L24:M24) -> 88119 | O24: 13940 | P24: 49338 | Q24: =SUM(O24:P24) -> 63278 | T24: =SUM(R24:S24) -> 0 | W24: =SUM(U24:V24) -> 0 | Z24: =SUM(X24:Y24) -> 0 | AC24: =SUM(AA24:AB24) -> 0 | AF24: =SUM(AD24:AE24) -> 0 | AG24: =AVERAGE(C24:AF24) -> 41846
A25: SBO 16 Matrix M C5 | C25: 9194 | D25: 60303 | E25: =SUM(C25:D25) -> 69497 | F25: 17037 | G25: 98507 | H25: =SUM(F25:G25) -> 115544 | I25: 9194 | J25: 132174 | K25: =SUM(I25:J25) -> 141368 | L25: 9194 | M25: 98507 | N25: =SUM(L25:M25) -> 107701 | O25: 17037 | P25: 60303 | Q25: =SUM(O25:P25) -> 77340 | T25: =SUM(R25:S25) -> 0 | W25: =SUM(U25:V25) -> 0 | Z25: =SUM(X25:Y25) -> 0 | AC25: =SUM(AA25:AB25) -> 0 | AF25: =SUM(AD25:AE25) -> 0 | AG25: =AVERAGE(C25:AF25) -> 51145
A26: SBO 16 Matrix M C5 | C26: 9194 | D26: 60303 | E26: =SUM(C26:D26) -> 69497 | F26: 17037 | G26: 98507 | H26: =SUM(F26:G26) -> 115544 | I26: 9194 | J26: 132174 | K26: =SUM(I26:J26) -> 141368 | L26: 9194 | M26: 98507 | N26: =SUM(L26:M26) -> 107701 | O26: 17037 | P26: 60303 | Q26: =SUM(O26:P26) -> 77340 | T26: =SUM(R26:S26) -> 0 | W26: =SUM(U26:V26) -> 0 | Z26: =SUM(X26:Y26) -> 0 | AC26: =SUM(AA26:AB26) -> 0 | AF26: =SUM(AD26:AE26) -> 0 | AG26: =AVERAGE(C26:AF26) -> 51145
A27: SBO 16 Matrix M C5 | C27: 9194 | D27: 60303 | E27: =SUM(C27:D27) -> 69497 | F27: 17037 | G27: 98507 | H27: =SUM(F27:G27) -> 115544 | I27: 9194 | J27: 132174 | K27: =SUM(I27:J27) -> 141368 | L27: 9194 | M27: 98507 | N27: =SUM(L27:M27) -> 107701 | O27: 17037 | P27: 60303 | Q27: =SUM(O27:P27) -> 77340 | T27: =SUM(R27:S27) -> 0 | W27: =SUM(U27:V27) -> 0 | Z27: =SUM(X27:Y27) -> 0 | AC27: =SUM(AA27:AB27) -> 0 | AF27: =SUM(AD27:AE27) -> 0 | AG27: =AVERAGE(C27:AF27) -> 51145
... A34: SBO 34 Matrix P40 | C34: 6362 | D34: 49813 | E34: =SUM(C34:D34) -> 56175 | F34: 38992 | G34: 87315 | H34: =SUM(F34:G34) -> 126307 | I34: 6362 | J34: 85804 | K34: =SUM(I34:J34) -> 92166 | L34: 6362 | M34: 187825 | N34: =SUM(L34:M34) -> 194187 | O34: 38992 | P34: 49813 | Q34: =SUM(O34:P34) -> 88805 | T34: =SUM(R34:S34) -> 0 | W34: =SUM(U34:V34) -> 0 | Z34: =SUM(X34:Y34) -> 0 | AC34: =SUM(AA34:AB34) -> 0 | AF34: =SUM(AD34:AE34) -> 0 | AG34: =AVERAGE(C34:AF34) -> 55764
A35: SBO 14 Matrix M C5 P50 with Bottle switch | C35: 8359 | D35: 54821 | E35: =SUM(C35:D35) -> 63180 | H35: =SUM(F35:G35) -> 0 | K35: =SUM(I35:J35) -> 0 | N35: =SUM(L35:M35) -> 0 | Q35: =SUM(O35:P35) -> 0 | T35: =SUM(R35:S35) -> 0 | W35: =SUM(U35:V35) -> 0 | Z35: =SUM(X35:Y35) -> 0 | AC35: =SUM(AA35:AB35) -> 0 | AF35: =SUM(AD35:AE35) -> 0 | AG35: =AVERAGE(C35:AF35) -> 10530
A36: SBO 14 Matrix M C5 P50 with Bottle switch | C36: 10469 | D36: 91063 | E36: =SUM(C36:D36) -> 101532 | F36: 10469 | G36: 138549 | H36: =SUM(F36:G36) -> 149018 | I36: 10469 | J36: 152118 | K36: =SUM(I36:J36) -> 162587 | N36: =SUM(L36:M36) -> 0 | Q36: =SUM(O36:P36) -> 0 | T36: =SUM(R36:S36) -> 0 | W36: =SUM(U36:V36) -> 0 | Z36: =SUM(X36:Y36) -> 0 | AC36: =SUM(AA36:AB36) -> 0 | AF36: =SUM(AD36:AE36) -> 0 | AG36: =AVERAGE(C36:AF36) -> 51642.125
A37: SBO 12 Matrix M p40 | C37: 4301 | D37: 30528 | E37: =SUM(C37:D37) -> 34829 | F37: 4301 | G37: 62220 | H37: =SUM(F37:G37) -> 66521 | I37: 4301 | J37: 72507 | K37: =SUM(I37:J37) -> 76808 | L37: 4301 | M37: 62220 | N37: =SUM(L37:M37) -> 66521 | O37: 4301 | P37: 30528 | Q37: =SUM(O37:P37) -> 34829 | T37: =SUM(R37:S37) -> 0 | W37: =SUM(U37:V37) -> 0 | Z37: =SUM(X37:Y37) -> 0 | AC37: =SUM(AA37:AB37) -> 0 | AF37: =SUM(AD37:AE37) -> 0 | AG37: =AVERAGE(C37:AF37) -> 27950.8
A38: SBO 34 Matrix XS P40 | C38: 6362 | D38: 49813 | E38: =SUM(C38:D38) -> 56175 | F38: 38992 | G38: 87315 | H38: =SUM(F38:G38) -> 126307 | I38: 6362 | J38: 85804 | K38: =SUM(I38:J38) -> 92166 | L38: 6362 | M38: 187825 | N38: =SUM(L38:M38) -> 194187 | O38: 38992 | P38: 49813 | Q38: =SUM(O38:P38) -> 88805 | T38: =SUM(R38:S38) -> 0 | W38: =SUM(U38:V38) -> 0 | Z38: =SUM(X38:Y38) -> 0 | AC38: =SUM(AA38:AB38) -> 0 | AF38: =SUM(AD38:AE38) -> 0 | AG38: =AVERAGE(C38:AF38) -> 55764
A39: SBO 10 Matrix eHR | C39: 2984.84 | D39: 14171 | E39: =SUM(C39:D39) -> 17155.84 | F39: 134808 | G39: 37885 | H39: =SUM(F39:G39) -> 172693 | I39: 2984.84 | J39: 80809 | K39: =SUM(I39:J39) -> 83793.84 | L39: 2984.84 | M39: 37885 | N39: =SUM(L39:M39) -> 40869.84 | O39: 14171 | P39: 16812 | Q39: =SUM(O39:P39) -> 30983 | T39: =SUM(R39:S39) -> 0 | W39: =SUM(U39:V39) -> 0 | Z39: =SUM(X39:Y39) -> 0 | AC39: =SUM(AA39:AB39) -> 0 | AF39: =SUM(AD39:AE39) -> 0 | AG39: =AVERAGE(C39:AF39) -> 34549.552
A40: SBO 22 Matrix M p50 | C40: 4606 | D40: 30945 | E40: =SUM(C40:D40) -> 35551 | F40: 28707 | G40: 83886 | H40: =SUM(F40:G40) -> 112593 | I40: 4606 | J40: 57018 | K40: =SUM(I40:J40) -> 61624 | L40: 4606 | M40: 188563 | N40: =SUM(L40:M40) -> 193169 | O40: 28707 | P40: 30945 | Q40: =SUM(O40:P40) -> 59652 | T40: =SUM(R40:S40) -> 0 | W40: =SUM(U40:V40) -> 0 | Z40: =SUM(X40:Y40) -> 0 | AC40: =SUM(AA40:AB40) -> 0 | AF40: =SUM(AD40:AE40) -> 0 | AG40: =AVERAGE(C40:AF40) -> 46258.9
A41: SBO 8 Matrix P40 C5 | C41: 6006 | D41: 34335 | E41: =SUM(C41:D41) -> 40341 | F41: 6006 | G41: 109818 | H41: =SUM(F41:G41) -> 115824 | I41: 6006 | J41: 38671 | K41: =SUM(I41:J41) -> 44677 | L41: 6006 | M41: 109818 | N41: =SUM(L41:M41) -> 115824 | O41: 6006 | P41: 38671 | Q41: =SUM(O41:P41) -> 44677 | T41: =SUM(R41:S41) -> 0 | W41: =SUM(U41:V41) -> 0 | Z41: =SUM(X41:Y41) -> 0 | AC41: =SUM(AA41:AB41) -> 0 | AF41: =SUM(AD41:AE41) -> 0 | AG41: =AVERAGE(C41:AF41) -> 36134.3
A42: SBO 8 Matrix L eHR P50 | C42: 2387 | D42: 13449 | E42: =SUM(C42:D42) -> 15836 | F42: 107846 | G42: 30308 | H42: =SUM(F42:G42) -> 138154 | I42: 2387 | J42: 64647 | K42: =SUM(I42:J42) -> 67034 | L42: 2387 | M42: 30308 | N42: =SUM(L42:M42) -> 32695 | O42: 107846 | P42: 13449 | Q42: =SUM(O42:P42) -> 121295 | T42: =SUM(R42:S42) -> 0 | W42: =SUM(U42:V42) -> 0 | Z42: =SUM(X42:Y42) -> 0 | AC42: =SUM(AA42:AB42) -> 0 | AF42: =SUM(AD42:AE42) -> 0 | AG42: =AVERAGE(C42:AF42) -> 37501.4
A43: SBO 8 Matrix HR P50 | C43: 2387 | D43: 13449 | E43: =SUM(C43:D43) -> 15836 | F43: 107846 | G43: 30308 | H43: =SUM(F43:G43) -> 138154 | I43: 2387 | J43: 64647 | K43: =SUM(I43:J43) -> 67034 | L43: 2387 | M43: 30308 | N43: =SUM(L43:M43) -> 32695 | O43: 107846 | P43: 13449 | Q43: =SUM(O43:P43) -> 121295 | T43: =SUM(R43:S43) -> 0 | W43: =SUM(U43:V43) -> 0 | Z43: =SUM(X43:Y43) -> 0 | AC43: =SUM(AA43:AB43) -> 0 | AF43: =SUM(AD43:AE43) -> 0 | AG43: =AVERAGE(C43:AF43) -> 37501.4
A44: SBO 10 Matrix M C5 P50 | C44: 7600 | D44: 29500 | E44: =SUM(C44:D44) -> 37100 | F44: 16812 | G44: 75763 | H44: =SUM(F44:G44) -> 92575 | I44: 7600 | J44: 44160 | K44: =SUM(I44:J44) -> 51760 | L44: 7600 | M44: 122262 | N44: =SUM(L44:M44) -> 129862 | O44: 16812 | P44: 29500 | Q44: =SUM(O44:P44) -> 46312 | T44: =SUM(R44:S44) -> 0 | W44: =SUM(U44:V44) -> 0 | Z44: =SUM(X44:Y44) -> 0 | AC44: =SUM(AA44:AB44) -> 0 | AF44: =SUM(AD44:AE44) -> 0 | AG44: =AVERAGE(C44:AF44) -> 35760.9
A45: SBO 20 MATRIX M P40 | C45: 5711 | D45: 85593 | E45: =SUM(C45:D45) -> 91304 | F45: 5711 | G45: 94616 | H45: =SUM(F45:G45) -> 100327 | I45: 27622 | J45: 112723 | K45: =SUM(I45:J45) -> 140345 | L45: 5711 | M45: 94616 | N45: =SUM(L45:M45) -> 100327 | O45: 27622 | P45: 112723 | Q45: =SUM(O45:P45) -> 140345 | T45: =SUM(R45:S45) -> 0 | W45: =SUM(U45:V45) -> 0 | Z45: =SUM(X45:Y45) -> 0 | AC45: =SUM(AA45:AB45) -> 0 | AF45: =SUM(AD45:AE45) -> 0 | AG45: =AVERAGE(C45:AF45) -> 57264.8
A46: SBO 20 Matrix P40 | D46: 85593 | E46: =SUM(C46:D46) -> 85593 | G46: 94616 | H46: =SUM(F46:G46) -> 94616 | J46: 112723 | K46: =SUM(I46:J46) -> 112723 | M46: 94616 | N46: =SUM(L46:M46) -> 94616 | P46: 112723 | Q46: =SUM(O46:P46) -> 112723 | T46: =SUM(R46:S46) -> 0 | W46: =SUM(U46:V46) -> 0 | Z46: =SUM(X46:Y46) -> 0 | AC46: =SUM(AA46:AB46) -> 0 | AF46: =SUM(AD46:AE46) -> 0 | AG46: =AVERAGE(C46:AF46) -> 66702.8
A47: SBO 16 MATRIX M P40 | C47: 6310 | D47: 45248 | E47: =SUM(C47:D47) -> 51558 | F47: 23838 | G47: 73655 | H47: =SUM(F47:G47) -> 97493 | I47: 6310 | J47: 113274 | K47: =SUM(I47:J47) -> 119584 | L47: 6310 | M47: 73366 | N47: =SUM(L47:M47) -> 79676 | O47: 23838 | P47: 113274 | Q47: =SUM(O47:P47) -> 137112 | T47: =SUM(R47:S47) -> 0 | W47: =SUM(U47:V47) -> 0 | Z47: =SUM(X47:Y47) -> 0 | AC47: =SUM(AA47:AB47) -> 0 | AF47: =SUM(AD47:AE47) -> 0 | AG47: =AVERAGE(C47:AF47) -> 48542.3
A48: SBO 34 Matrix P40 | C48: 6362 | D48: 49813 | E48: =SUM(C48:D48) -> 56175 | F48: 38992 | G48: 87315 | H48: =SUM(F48:G48) -> 126307 | I48: 6362 | J48: 85804 | K48: =SUM(I48:J48) -> 92166 | L48: 6362 | M48: 187825 | N48: =SUM(L48:M48) -> 194187 | O48: 38992 | P48: 49813 | Q48: =SUM(O48:P48) -> 88805 | T48: =SUM(R48:S48) -> 0 | W48: =SUM(U48:V48) -> 0 | Z48: =SUM(X48:Y48) -> 0 | AC48: =SUM(AA48:AB48) -> 0 | AF48: =SUM(AD48:AE48) -> 0 | AG48: =AVERAGE(C48:AF48) -> 55764
A49: SBO 18 eHR MATRIX P40 | D49: 29780 | E49: =SUM(C49:D49) -> 29780 | G49: 65448 | H49: =SUM(F49:G49) -> 65448 | J49: 127378 | K49: =SUM(I49:J49) -> 127378 | M49: 65448 | N49: =SUM(L49:M49) -> 65448 | P49: 29780 | Q49: =SUM(O49:P49) -> 29780 | T49: =SUM(R49:S49) -> 0 | W49: =SUM(U49:V49) -> 0 | Z49: =SUM(X49:Y49) -> 0 | AC49: =SUM(AA49:AB49) -> 0 | AF49: =SUM(AD49:AE49) -> 0 | AG49: =AVERAGE(C49:AF49) -> 42377.867
...

Sheet PivotTable machine
A2: CMU | B2: 1,16
A4: Row Labels | B4: Sum of Y1 | C4: Sum of Y2 | D4: Sum of Y3 | E4: Sum of Y4 | F4: Sum of Y4_2 | G4: Sum of Y5 | H4: Sum of Y6 | I4: Sum of Y7 | J4: Sum of Y8 | K4: Sum of Y9 | L4: Sum of Y10 | M4: Sum of Average
A5: ADDED CONVEYORS | B5: 6081 | C5: 13175.5 | D5: 11148.5 | E5: 9121.5 | F5: 9121.5 | G5: 11148.5 | H5: 0 | I5: 0 | J5: 0 | K5: 0 | L5: 0 | M5: 5067.5
A6: Air conveyor | B6: 28820 | C6: 30270 | D6: 30560 | E6: 29690 | F6: 29690 | G6: 29980 | H6: 0 | I6: 0 | J6: 0 | K6: 0 | L6: 0 | M6: 19348.667
A7: Alfa Rollquattro F35E 24T/R/HH3 | B7: 12557.45 | C7: 38345.28 | D7: 12557.45 | E7: 38345.28 | F7: 38345.28 | G7: 12557.45 | H7: 38277.96 | I7: 12557.45 | J7: 38345.28 | K7: 12557.45 | L7: 38345.28 | M7: 16963.089
A8: Bagging System and Air Conveyor | B8: 58705 | C8: 58705 | D8: 58705 | E8: 58705 | F8: 58705 | G8: 58705 | H8: 0 | I8: 0 | J8: 0 | K8: 0 | L8: 0 | M8: 39136.667
A9: BOTTLE & PACK CONVEYOR | B9: 47320 | C9: 64400 | D9: 53320 | E9: 55400 | F9: 55400 | G9: 50320 | H9: 0 | I9: 0 | J9: 0 | K9: 0 | L9: 0 | M9: 27076
A10: Bottle & Pack Conveyors | B10: 28560 | C10: 47630 | D10: 47630 | E10: 47630 | F10: 47630 | G10: 47630 | H10: 0 | I10: 0 | J10: 0 | K10: 0 | L10: 0 | M10: 29210.667
A11: BOTTLE CONVEYORS | B11: 4126.2 | C11: 2691 | D11: 4305.6 | E11: 2691 | F11: 2691 | G11: 0 | H11: 0 | I11: 0 | J11: 0 | K11: 0 | L11: 0 | M11: 1454.0842
A12: BT & PK CONVEYOR | B12: 49560 | C12: 53690 | D12: 37170 | E12: 45430 | F12: 45430 | G12: 41300 | H12: 0 | I12: 0 | J12: 0 | K12: 0 | L12: 0 | M12: 22715
A13: Cap-Feeder Aidlin 24 | B13: 3344.63 | C13: 3344.63 | D13: 3344.63 | E13: 3344.63 | F13: 3344.63 | G13: 3344.63 | H13: 3344.63 | I13: 3344.63 | J13: 3344.63 | K13: 3344.63 | L13: 3344.63 | M13: 3344.63
A14: Capper Euro PK 315 Top Part: 10 H | B14: 7436 | C14: 25652 | D14: 14263 | E14: 31660 | F14: 31660 | G14: 7436 | H14: 0 | I14: 0 | J14: 0 | K14: 0 | L14: 0 | M14: 8644.7
A15: Capper 12H | B15: 23517.02 | C15: 68928.86 | D15: 30741.59 | E15: 79797.98 | F15: 79797.98 | G15: 23517.02 | H15: 76153.43 | I15: 23517.02 | J15: 79797.98 | K15: 30741.59 | L15: 68928.86 | M15: 33709.423
A16: Capper 15H #13220 for Filler #SRVI0004 | B16: 8932.04 | C16: 32482.34 | D16: 17459.25 | E16: 39275.54 | F16: 39275.54 | G16: 8932.04 | H16: 41009.55 | I16: 8932.04 | J16: 39275.54 | K16: 17459.25 | L16: 32482.34 | M16: 16415.995
... A172: Grand Total | B172: 7544487.2 | C172: 13251597 | D172: 11604636 | E172: 13207026 | F172: 13207026 | G172: 8342497.5 | H172: 3332416.8 | I172: 1417817.3 | J172: 2667235.5 | K172: 2430794.8 | L172: 2748274.4 | M172: 6133835.3

Sheet SBO
B1: CMU | C1: 1.12
A4: PR00
A5: Scheduled maintenance parts (ISO13306) | C5: 3000 | D5: 6000 | E5: 9000 | F5: 12000 | G5: 15000 | H5: 18000 | I5: 21000 | J5: 24000 | K5: 27000 | L5: 30000 | M5: =L5+3000 -> 33000 | N5: =M5+3000 -> 36000 | O5: =N5+3000 -> 39000 | P5: =O5+3000 -> 42000 | Q5: =P5+3000 -> 45000 | R5: =Q5+3000 -> 48000 | S5: =R5+3000 -> 51000 | T5: =S5+3000 -> 54000 | ... V5: =U5+3000 -> 60000 | W5: Average
A6: BLOWER SIDEL SBO 20 U2 ECO | C6: 9846.1 | D6: 44112.66 | E6: 9846.1 | F6: 80097.67 | G6: 9846.1 | H6: 77933.83 | I6: 9846.1 | J6: 79068.82 | K6: 9846.1 | L6: 45141.51 | V6: 127709 | W6: =AVERAGE(C6:V6) -> 45753.999
A7: SBO 16 U2 Predis C5 | C7: 7153 | D7: 48332 | E7: 7153 | F7: 93274 | G7: 7153 | H7: 127709 | I7: 7153 | J7: 93274 | K7: 7153 | L7: 48332 | M7: 7153 | N7: 127709 | O7: 7153 | P7: 48332 | Q7: 7153 | R7: 93274 | S7: 7153 | T7: 48332 | U7: 7153 | V7: 127709 | W7: =AVERAGE(C7:V7) -> 46390.35
A8: SBO24 Matrix L p40 eHR | C8: 5170 | D8: 58799 | E8: 28484 | F8: 94133 | G8: 5170 | H8: 148071 | I8: 5170 | J8: 94133 | K8: 28484 | V8: 94133 | W8: =AVERAGE(C8:V8) -> 56174.7
A9: SBO 28 Mx L P40 | C9: 6030 | D9: 53143 | E9: 20013 | F9: 127131 | G9: 6030 | H9: 116348 | I9: 20013 | J9: 127131 | K9: 6030 | L9: 116348 | W9: =AVERAGE(C9:V9) -> 59821.7
A10: SBO 8 Matrix M C5 P50 | C10: 8107.52 | D10: 31467.52 | E10: 17934.08 | F10: 80814.08 | G10: 8107.52 | H10: 47104 | I10: 8107.52 | J10: 130412.8 | K10: 17934.08 | L10: 31467.52 | W10: =AVERAGE(C10:V10) -> 38145.664
A11: SBO 16 Matrix M C5 | C11: 9194 | D11: 60303 | E11: 17037 | F11: 98507 | G11: 9194 | H11: 132174 | I11: 9194 | J11: 98507 | K11: 17037 | L11: 60303 | W11: =AVERAGE(C11:V11) -> 51145
A12: SBO 16 Matrix M P40 | C12: 6310 | D12: 45248 | E12: 23838 | F12: 73655 | G12: 6310 | H12: 113274 | I12: 6310 | J12: 73366 | K12: 23838 | L12: 113274 | W12: =AVERAGE(C12:V12) -> 48542.3
A13: SBO 22 Matrix M C5 P50 | C13: 8023 | D13: 45625 | E13: 19013 | F13: 97256 | G13: 8023 | H13: 141555 | I13: 8023 | J13: 97256 | K13: 19013 | L13: 45625 | W13: =AVERAGE(C13:V13) -> 48941.2
A14: SBO 14 Matrix M C5 P50 | C14: 8359 | D14: 54821 | E14: 15489 | F14: 89552 | G14: 8359 | H14: 120159 | I14: 8359 | J14: 89552 | K14: 15489 | L14: 54821 | W14: =AVERAGE(C14:V14) -> 46496
A15: SBO 16 Matrix M P40 | C15: 5352 | D15: 61036 | E15: 5352 | F15: 90431 | G15: 5352 | H15: 112953 | I15: 5352 | J15: 90135 | K15: 5352 | L15: 61036 | W15: =AVERAGE(C15:V15) -> 44235.1
A16: SBO 14 Matrix L P40 | C16: 3368 | D16: 19343 | E16: 16515 | F16: 42688 | G16: 3368 | H16: 34570 | I16: 3368 | J16: 96259 | K16: 16515 | L16: 19343 | W16: =AVERAGE(C16:V16) -> 25533.7
A17: SBO 12 Matrix M C5 P40 | C17: 7523 | D17: 49338 | E17: 13940 | F17: 80596 | G17: 7523 | H17: 108143 | I17: 7523 | J17: 80596 | K17: 13940 | L17: 49338 | W17: =AVERAGE(C17:V17) -> 41846
A18: SBO 16 Matrix M C5 | C18: 9194 | D18: 60303 | E18: 17037 | F18: 98507 | G18: 9194 | H18: 132174 | I18: 9194 | J18: 98507 | K18: 17037 | L18: 60303 | W18: =AVERAGE(C18:V18) -> 51145
A19: SBO 16 Matrix M C5 | C19: 9194 | D19: 60303 | E19: 17037 | F19: 98507 | G19: 9194 | H19: 132174 | I19: 9194 | J19: 98507 | K19: 17037 | L19: 60303 | W19: =AVERAGE(C19:V19) -> 51145
A20: SBO 16 Matrix M C5 | C20: 9194 | D20: 60303 | E20: 17037 | F20: 98507 | G20: 9194 | H20: 132174 | I20: 9194 | J20: 98507 | K20: 17037 | L20: 60303 | W20: =AVERAGE(C20:V20) -> 51145
... A27: SBO 34 Mx P40 | C27: 6362 | D27: 49813 | E27: 38992 | F27: 87315 | G27: 6362 | H27: 85804 | I27: 6362 | J27: 187825 | K27: 38992 | L27: 49813 | W27: =AVERAGE(C27:V27) -> 55764
A28: SBO 14 Matrix M C5 P50 with Bottle switch | C28: 8359 | D28: 54821 | W28: =AVERAGE(C28:V28) -> 31590
A29: SBO 14 Matrix M C5 P50 with Bottle switch | C29: 10469 | D29: 91063 | E29: 10469 | F29: 138549 | G29: 10469 | H29: 152118 | W29: =AVERAGE(C29:V29) -> 68856.167
A30: SBO12 Matrix M p40 | C30: 4301 | D30: 30528 | E30: 4301 | F30: 62220 | G30: 4301 | H30: 72507 | I30: 4301 | J30: 62220 | K30: 4301 | L30: 30528 | W30: =AVERAGE(C30:V30) -> 27950.8
A31: SBO 34 Mx XS P40 | C31: 6362 | D31: 49813 | E31: 38992 | F31: 87315 | G31: 6362 | H31: 85804 | I31: 6362 | J31: 187825 | K31: 38992 | L31: 49813 | W31: =AVERAGE(C31:V31) -> 55764
A32: SBO 10 Matrix eHR | C32: 2984.84 | D32: 14171 | E32: 134808 | F32: 37885 | G32: 2984.84 | H32: 80809 | I32: 2984.84 | J32: 37885 | K32: 14171 | L32: 16812 | W32: =AVERAGE(C32:V32) -> 34549.552
A33: SBO22 Matrix M p50 | C33: 4606 | D33: 30945 | E33: 28707 | F33: 83886 | G33: 4606 | H33: 57018 | I33: 4606 | J33: 188563 | K33: 28707 | L33: 30945 | W33: =AVERAGE(C33:V33) -> 46258.9
A34: SBO 8 Mx P40 C5 | C34: 6006 | D34: 34335 | E34: 6006 | F34: 109818 | G34: 6006 | H34: 38671 | I34: 6006 | J34: 109818 | K34: 6006 | L34: 38671 | W34: =AVERAGE(C34:V34) -> 36134.3
A35: SBO 8 MX L eHR P50 | C35: 2387 | D35: 13449 | E35: 107846 | F35: 30308 | G35: 2387 | H35: 64647 | I35: 2387 | J35: 30308 | K35: 107846 | L35: 13449 | W35: =AVERAGE(C35:V35) -> 37501.4
A36: SBO 8 Mx HR P50 | C36: 2387 | D36: 13449 | E36: 107846 | F36: 30308 | G36: 2387 | H36: 64647 | I36: 2387 | J36: 30308 | K36: 107846 | L36: 13449 | W36: =AVERAGE(C36:V36) -> 37501.4
A37: SBO 10 Matrix M C5 P50 | C37: 7600 | D37: 29500 | E37: 16812 | F37: 75763 | G37: 7600 | H37: 44160 | I37: 7600 | J37: 122262 | K37: 16812 | L37: 29500 | W37: =AVERAGE(C37:V37) -> 35760.9
A38: SBO 20 MATRIX M P40 | C38: 5711 | D38: 85593 | E38: 5711 | F38: 94616 | G38: 27622 | H38: 112723 | I38: 5711 | J38: 94616 | K38: 27622 | L38: 112723 | W38: =AVERAGE(C38:V38) -> 57264.8
A39: SBO 20 MX P40 | D39: 85593 | F39: 94616 | H39: 112723 | J39: 94616 | L39: 112723 | W39: =AVERAGE(C39:V39) -> 100054.2
A40: SBO 16 MATRIX M P40 | C40: 6310 | D40: 45248 | E40: 23838 | F40: 73655 | G40: 6310 | H40: 113274 | I40: 6310 | J40: 73366 | K40: 23838 | L40: 113274 | W40: =AVERAGE(C40:V40) -> 48542.3
A41: SBO 34 Mx P40 | C41: 6362 | D41: 49813 | E41: 38992 | F41: 87315 | G41: 6362 | H41: 85804 | I41: 6362 | J41: 187825 | K41: 38992 | L41: 49813 | W41: =AVERAGE(C41:V41) -> 55764
A42: SBO 18 eHR MATRIX P40 | D42: 29780 | F42: 65448 | H42: 127378 | J42: 65448 | L42: 29780 | W42: =AVERAGE(C42:V42) -> 63566.8
A43: SBO 20 MATRIX M P40 | C43: 5711 | D43: 85593 | E43: 5711 | F43: 94616 | G43: 27622 | H43: 112723 | I43: 5711 | J43: 94616 | K43: 27622 | L43: 112723 | W43: =AVERAGE(C43:V43) -> 57264.8
A44: SBO 24 Matrix M p40 | C44: 8141 | D44: 50851 | E44: 20166 | F44: 107566 | G44: 8141 | H44: 107381 | I44: 0 | J44: 0 | K44: 0 | L44: 0 | W44: =AVERAGE(C44:V44) -> 30224.6
A45: SBO 22 MATRIX P40 | D45: 72248 | F45: 98136 | H45: 122797 | J45: 98136 | L45: 82248 | W45: =AVERAGE(C45:V45) -> 94713
A46: SBO 10 Matrix M P40 | C46: 3115 | D46: 18245 | E46: 3115 | F46: 53131 | G46: 3115 | H46: 89052 | I46: 3115 | J46: 52835 | K46: 3115 | L46: 32087 | W46: =AVERAGE(C46:V46) -> 26092.5
A47: SBO 24 Matrix XS C5 P50 | C47: 6567.65 | D47: 98431.95 | E47: 6567.65 | F47: 108808.4 | G47: 31765.3 | H47: 129631.45 | I47: 6567.65 | J47: 108808.4 | K47: 31765.3 | L47: 129631.45 | W47: =AVERAGE(C47:V47) -> 65854.52
A48: SBO 12 Mx P40 | C48: 3368 | D48: 19343 | E48: 16515 | F48: 42688 | G48: 3368 | H48: 34570 | I48: 3368 | J48: 96259 | K48: 16515 | L48: 19343 | W48: =AVERAGE(C48:V48) -> 25533.7
...

Sheet Capper
B1: CMU | C1: 1.12
A4: PR00
A5: Scheduled maintenance parts (ISO13306) | C5: 3000 | D5: 6000 | E5: 9000 | F5: 12000 | G5: 15000 | H5: 18000 | I5: 21000 | J5: 24000 | K5: 27000 | L5: 30000 | M5: =L5+3000 -> 33000 | N5: =M5+3000 -> 36000 | O5: =N5+3000 -> 39000 | P5: =O5+3000 -> 42000 | Q5: =P5+3000 -> 45000 | R5: =Q5+3000 -> 48000 | S5: =R5+3000 -> 51000 | T5: =S5+3000 -> 54000 | ... V5: =U5+3000 -> 60000 | W5: AVERAGE
A6: AROL CAPPER EURO PK 315 20 heads | C6: 2804.064 | D6: 5131.872 | E6: 2804.064 | F6: 27891.36 | G6: 2804.064 | H6: 12885.792 | I6: 2804.064 | J6: 31251.36 | K6: 2804.064 | L6: 5131.872 | W6: =AVERAGE(C6:V6) -> 9631.2576
A7: Capper Arol Euro PK20 | C7: 4335 | D7: 24009 | E7: 4335 | F7: 36785 | G7: 4335 | H7: 24009 | I7: 4335 | J7: 36785 | K7: 4335 | L7: 24009 | M7: 4335 | N7: 36785 | O7: 4335 | P7: 24009 | Q7: 4335 | R7: 36785 | S7: 4335 | T7: 24009 | U7: 4335 | V7: 36785 | W7: =AVERAGE(C7:V7) -> 17366
A8: Capper Arol Euro PK25 | C8: 3273.696 | D8: 6183.456 | E8: 3273.696 | F8: 34632.816 | G8: 3273.696 | H8: 15813.216 | I8: 3273.696 | J8: 38832.816 | K8: 3273.696 | L8: 6183.456 | W8: =AVERAGE(C8:V8) -> 11801.424
A9: Capper Arol 15 K Aseptic | C9: 12582.4 | D9: 23517.44 | E9: 12582.4 | F9: 89952 | G9: 12582.4 | H9: 23928.32 | I9: 12582.4 | J9: 89952 | K9: 12582.4 | L9: 0 | W9: =AVERAGE(C9:V9) -> 29026.176
A10: Capper Aseptic 20H | C10: 4335 | D10: 24009 | E10: 4335 | F10: 36785 | G10: 4335 | H10: 24009 | I10: 4335 | J10: 36785 | K10: 4335 | L10: 24009 | W10: =AVERAGE(C10:V10) -> 16727.2
A11: Capper Arol 15K PK314 | C11: 3448 | D11: 5818 | E11: 3448 | F11: 27426 | G11: 3448 | H11: 14645 | I11: 3448 | J11: 34219 | K11: 3448 | L11: 5818 | W11: =AVERAGE(C11:V11) -> 10516.6
A12: Aseptic Capper | C12: 8600 | D12: 23456 | E12: 8600 | F12: 48786 | G12: 8600 | H12: 29188 | I12: 8600 | J12: 48786 | K12: 8600 | L12: 23456 | W12: =AVERAGE(C12:V12) -> 21667.2
A13: Aseptic Capper 18H | C13: 9830 | D13: 18373 | E13: 9830 | F13: 70275 | G13: 9830 | H13: 18694 | I13: 9830 | J13: 70275 | K13: 9830 | L13: 18694 | W13: =AVERAGE(C13:V13) -> 24546.1
A14: Capper Arol 15K | C14: 3448 | D14: 5818 | E14: 3448 | F14: 27426 | G14: 3448 | H14: 14645 | I14: 3448 | J14: 34219 | K14: 3448 | L14: 5818 | W14: =AVERAGE(C14:V14) -> 10516.6
A15: Capper 18K | C15: 3448 | D15: 5818 | E15: 3448 | F15: 27426 | G15: 3448 | H15: 14645 | I15: 3448 | J15: 34219 | K15: 3448 | L15: 5818 | W15: =AVERAGE(C15:V15) -> 10516.6
A16: Capper Aseptic 15H | C16: 4579 | D16: 18706 | E16: 4579 | F16: 26569 | G16: 4579 | H16: 18706 | I16: 4579 | J16: 26569 | K16: 4579 | L16: 18706 | W16: =AVERAGE(C16:V16) -> 13215.1
A17: Capper Aseptic 20H | C17: 4335 | D17: 24009 | E17: 4335 | F17: 36785 | G17: 4335 | H17: 24009 | I17: 4335 | J17: 36785 | K17: 4335 | L17: 24009 | W17: =AVERAGE(C17:V17) -> 16727.2
A18: Capper Aseptic 20H | C18: 4335 | D18: 24009 | E18: 4335 | F18: 36785 | G18: 4335 | H18: 24009 | I18: 4335 | J18: 36785 | K18: 4335 | L18: 24009 | W18: =AVERAGE(C18:V18) -> 16727.2
A19: Capper Aseptic 20H | C19: 4335 | D19: 24009 | E19: 4335 | F19: 36785 | G19: 4335 | H19: 24009 | I19: 4335 | J19: 36785 | K19: 4335 | L19: 24009 | W19: =AVERAGE(C19:V19) -> 16727.2
... A25: Capper Arol Euro PK315 36H | C25: 4687.0464 | D25: 8877.1008 | E25: 4687.0464 | F25: 49844.179 | G25: 4687.0464 | H25: 22633.709 | I25: 4687.0464 | J25: 55892.179 | K25: 4687.0464 | L25: 8877.1008 | W25: =AVERAGE(C25:V25) -> 16955.95
A26: Aseptic Capper 16K | C26: 9830 | D26: 18373 | W26: =AVERAGE(C26:V26) -> 14101.5
A27: Aseptic Capper 16K | C27: 9830 | D27: 18373 | E27: 9830 | F27: 70275 | G27: 9830 | H27: 18694 | W27: =AVERAGE(C27:V27) -> 22805.333
A28: Capper Arol Euro PK15 | C28: 3345 | D28: 5590 | E28: 3345 | F28: 22276 | G28: 3345 | H28: 15673 | I28: 3345 | J28: 22276 | K28: 3345 | L28: 5590 | W28: =AVERAGE(C28:V28) -> 8813
A29: Arol Capper 36H | C29: 4687.0464 | D29: 8877.1008 | E29: 4687.0464 | F29: 49844.179 | G29: 4687.0464 | H29: 22633.709 | I29: 4687.0464 | J29: 55892.179 | K29: 4687.0464 | L29: 8877.1008 | W29: =AVERAGE(C29:V29) -> 16955.95
A30: Arol Capper Aseptic | C30: 3425 | D30: 9644 | E30: 3425 | F30: 48288 | G30: 3425 | H30: 9950 | I30: 3425 | J30: 48288 | K30: 3425 | L30: 9644 | W30: =AVERAGE(C30:V30) -> 14293.9
A31: CAPPER EURO PK 415 10H | C31: 3024 | D31: 13603 | E31: 3024 | F31: 20181 | G31: 3024 | H31: 13603 | I31: 3024 | J31: 20181 | K31: 3024 | L31: 13603 | W31: =AVERAGE(C31:V31) -> 9629.1
A32: CAPPER EURO PK 415 10H | C32: 3024 | D32: 13603 | E32: 3024 | F32: 20181 | G32: 3024 | H32: 13603 | I32: 3024 | J32: 20181 | K32: 3024 | L32: 13603 | W32: =AVERAGE(C32:V32) -> 9629.1
A33: Aseptic Capper 12K | C33: 4314 | D33: 12724 | E33: 4314 | F33: 36211 | G33: 4314 | H33: 13110 | I33: 4314 | J33: 36211 | K33: 4314 | L33: 13110 | W33: =AVERAGE(C33:V33) -> 13293.6
A34: CAPPER AROL PK 27 | C34: 3273.696 | D34: 6183.456 | E34: 3273.696 | F34: 34632.816 | G34: 3273.696 | H34: 15813.216 | I34: 3273.696 | J34: 38832.816 | K34: 3273.696 | L34: 6183.456 | W34: =AVERAGE(C34:V34) -> 11801.424
A35: CAPPER EURO PK 20K | D35: 24705 | F35: 38326 | H35: 2599 | J35: 38326 | L35: 25919 | W35: =AVERAGE(C35:V35) -> 25975
A36: CAPPER AROL PK 15 | C36: 3273.696 | D36: 6183.456 | E36: 3273.696 | F36: 34632.816 | G36: 3273.696 | H36: 15813.216 | I36: 3273.696 | J36: 38832.816 | K36: 3273.696 | L36: 6183.456 | W36: =AVERAGE(C36:V36) -> 11801.424
A37: Capper Arol Euro PK315 36H | C37: 4687.0464 | D37: 8877.1008 | E37: 4687.0464 | F37: 49844.179 | G37: 4687.0464 | H37: 22633.709 | I37: 4687.0464 | J37: 55892.179 | K37: 4687.0464 | L37: 8877.1008 | W37: =AVERAGE(C37:V37) -> 16955.95
A38: CAPPER 20K EURO PK | D38: 5869 | F38: 32299 | H38: 21748 | J38: 40711 | L38: 5869 | W38: =AVERAGE(C38:V38) -> 21299.2
A39: CAPPER ZALKIN | C39: 217 | D39: 13647 | E39: 210.24 | F39: 29690.327 | G39: 216.5472 | H39: 13646.908 | I39: 223.04362 | J39: 31498.468 | K39: 3273.696 | L39: 13647 | W39: =AVERAGE(C39:V39) -> 10627.023
A40: Capper Arol Euro 24H PK 315 | C40: 4427 | D40: 27451 | E40: 4427 | F40: 42585 | G40: 4427 | H40: 28799 | W40: =AVERAGE(C40:V40) -> 18686
A41: CAPPER AROL EURO PK 24 | D41: 17451 | F41: 42585 | H41: 28799 | J41: 42585 | L41: 21589 | W41: =AVERAGE(C41:V41) -> 30601.8
A42: Capper Arol PK | C42: 1083 | D42: 6920 | E42: 1083 | F42: 38580 | G42: 1083 | H42: 6920 | I42: 1083 | J42: 38580 | K42: 1083 | L42: 6920 | W42: =AVERAGE(C42:V42) -> 10333.5
A43: Aseptic Capper 36k | C43: 15236.5 | D43: 28478.15 | E43: 15236.5 | F43: 108926.25 | G43: 15236.5 | H43: 28975.7 | I43: 15236.5 | J43: 108926.25 | K43: 15236.5 | L43: 28975.7 | W43: =AVERAGE(C43:V43) -> 38046.455
A44: Capper Zalkin 10K | C44: 3448 | D44: 5818 | E44: 3448 | F44: 27426 | G44: 3448 | H44: 14645 | I44: 3448 | J44: 34219 | K44: 3448 | L44: 5818 | W44: =AVERAGE(C44:V44) -> 10516.6
A45: Mechanical Aseptic capper 10 H | C45: 3425 | D45: 9644 | E45: 3425 | F45: 48288 | G45: 3425 | H45: 9950 | I45: 3425 | J45: 48288 | K45: 3425 | L45: 9644 | W45: =AVERAGE(C45:V45) -> 14293.9
A46: Capper Euro PK 315 Top Part: 10 H | C46: 2711 | D46: 4725 | E46: 2711 | F46: 22941 | G46: 2711 | H46: 11552 | I46: 2711 | J46: 28949 | K46: 2711 | L46: 4725 | W46: =AVERAGE(C46:V46) -> 8644.7
W47: =AVERAGE(C47:V47) -> #DIV/0!
...

Sheet Filler
B1: CMU | C1: 1.12
A4: PR00
A5: Scheduled maintenance parts (ISO13306) | C5: 3000 | D5: 6000 | E5: 9000 | F5: 12000 | G5: 15000 | H5: 18000 | I5: 21000 | J5: 24000 | K5: 27000 | L5: 30000 | M5: =L5+3000 -> 33000 | N5: =M5+3000 -> 36000 | O5: =N5+3000 -> 39000 | P5: =O5+3000 -> 42000 | Q5: =P5+3000 -> 45000 | R5: =Q5+3000 -> 48000 | S5: =R5+3000 -> 51000 | T5: =S5+3000 -> 54000 | ... V5: =U5+3000 -> 60000 | W5: Average
A6: FILLER SIDEL SF 300 FM 120 pitch 113 mm | D6: 93456.3 | E6: 579.73 | F6: 100311.45 | G6: 579.73 | H6: 93456.3 | I6: 579.73 | J6: 100311.45 | K6: 579.73 | L6: 93456.3 | W6: =AVERAGE(C6:V6) -> 53701.191
A7: Filler FmA 70/20K | C7: 11979 | D7: 65783 | E7: 11979 | F7: 110195 | G7: 11979 | H7: 74022 | I7: 11979 | J7: 133296 | K7: 11979 | L7: 65783 | M7: 11979 | N7: 74022 | O7: 11979 | P7: 133296 | Q7: 11979 | R7: 65783 | S7: 11979 | T7: 74022 | U7: 11979 | V7: 133296 | W7: =AVERAGE(C7:V7) -> 52464.4
A8: Filler | C8: 17442 | E8: 63252 | G8: 63346 | I8: 62130 | K8: 17442 | W8: =AVERAGE(C8:V8) -> 44722.4
A9: Filler Hema 54.18K | D9: 16585 | F9: 16585 | H9: 16585 | J9: 16585 | L9: 16585 | W9: =AVERAGE(C9:V9) -> 16585
A10: Filler FMa 56 16 p.141 | C10: 8130 | D10: 54975 | W10: =AVERAGE(C10:V10) -> 31552.5
A11: Filler FMa 56 16 p.141 | C11: 8130 | D11: 54975 | E11: 8130 | F11: 103118 | G11: 8130 | H11: 71941 | W11: =AVERAGE(C11:V11) -> 42404
A12: FILLER SF100 120V | C12: 6449 | D12: 75301 | E12: 6449 | F12: 79966 | G12: 6449 | H12: 75301 | I12: 6449 | J12: 79966 | K12: 6449 | L12: 75301 | W12: =AVERAGE(C12:V12) -> 41808
A13: Filler FmA 30/10 Capdis | C13: 9054 | D13: 55868 | E13: 9054 | F13: 89068 | G13: 9054 | H13: 72289 | I13: 9054 | J13: 91728 | K13: 9054 | L13: 55868 | W13: =AVERAGE(C13:V13) -> 41009.1
A14: Filler FMa 32 12 | C14: 8334 | D14: 47488 | E14: 8334 | F14: 79411 | G14: 8334 | H14: 55855 | I14: 8334 | J14: 79411 | K14: 8334 | L14: 55855 | W14: =AVERAGE(C14:V14) -> 35969
A15: FILLER SF 300FM 126V | C15: 2792 | D15: 75058 | E15: 2792 | F15: 115978 | G15: 2792 | H15: 95846 | I15: 2792 | J15: 115978 | K15: 2792 | L15: 130962 | W15: =AVERAGE(C15:V15) -> 54778.2
A16: FILLER SF100 100V PITCH 113 | D16: 37967 | F16: 44051 | H16: 37967 | J16: 44051 | L16: 37967 | W16: =AVERAGE(C16:V16) -> 40400.6
A17: FILLER SF 300FM 120V | C17: 2792 | D17: 75058 | E17: 2792 | F17: 115978 | G17: 2792 | H17: 95846 | I17: 2792 | J17: 115978 | K17: 2792 | L17: 130962 | W17: =AVERAGE(C17:V17) -> 54778.2
A18: FILLER SF700 80V | D18: 82738 | F18: 90073 | H18: 82738 | J18: 90073 | L18: 82738 | W18: =AVERAGE(C18:V18) -> 85672
A19: FILLER SF 300FM 180V | C19: 760 | D19: 173000 | E19: 760 | F19: 186000 | G19: 760 | H19: 173000 | I19: 760 | J19: 186000 | K19: 760 | L19: 173000 | W19: =AVERAGE(C19:V19) -> 89480
A20: FILLER MATRIX SF 100 72V | D20: 28437 | F20: 34201 | H20: 28587 | J20: 34201 | L20: 22437 | W20: =AVERAGE(C20:V20) -> 29572.6
A21: Filler SF300 FM 45 | C21: 5083 | D21: 41380 | E21: 5083 | F21: 51827 | G21: 5083 | H21: 41380 | I21: 5083 | J21: 51827 | K21: 5083 | L21: 41380 | W21: =AVERAGE(C21:V21) -> 25320.9
A22: FILLER FMa 120 36 p.94 | C22: 14140 | D22: 99246 | E22: 14140 | F22: 169295 | G22: 14140 | H22: 128343.6 | I22: 14140 | J22: 198179 | K22: 14140 | L22: 99246 | W22: =AVERAGE(C22:V22) -> 76500.96
A23: FILLER SF 300 - 80V | C23: 5124 | D23: 64245 | E23: 5124 | F23: 67327 | G23: 5124 | H23: 64245 | I23: 5124 | J23: 71230 | K23: 5124 | L23: 64245 | W23: =AVERAGE(C23:V23) -> 35691.2
A24: Filler - FMa 30/10 p.113 Capdis | C24: 0 | D24: 0 | E24: 0 | F24: 0 | G24: 0 | H24: 0 | I24: 0 | J24: 0 | K24: 0 | L24: 0 | W24: =AVERAGE(C24:V24) -> 0
A27: Filler FMA
A28: Filler FmA 70/20K | C28: 11979 | D28: 65783 | E28: 11979 | F28: 110195 | G28: 11979 | H28: 74022 | I28: 11979 | J28: 133296 | K28: 11979 | L28: 65783 | M28: 11979 | N28: 74022 | O28: 11979 | P28: 133296 | Q28: 11979 | R28: 65783 | S28: 11979 | T28: 74022 | U28: 11979 | V28: 133296
A29: Filler FMa 56 16 p.141 | C29: 8130 | D29: 54975
A30: Filler FMa 56 16 p.141 | C30: 8130 | D30: 54975 | E30: 8130 | F30: 103118 | G30: 8130 | H30: 71941
A31: Filler FmA 30/10 Capdis | C31: 9054 | D31: 55868 | E31: 9054 | F31: 89068 | G31: 9054 | H31: 72289 | I31: 9054 | J31: 91728 | K31: 9054 | L31: 55868
A32: Filler FMa 32 12 | C32: 8334 | D32: 47488 | E32: 8334 | F32: 79411 | G32: 8334 | H32: 55855 | I32: 8334 | J32: 79411 | K32: 8334 | L32: 55855
A33: FILLER FMa 120 36 p.94 | C33: 14140 | D33: 99246 | E33: 14140 | F33: 169295 | G33: 14140 | H33: 128343.6 | I33: 14140 | J33: 198179 | K33: 14140 | L33: 99246
A34: Filler - FMa 30/10 p.113 Capdis | C34: 0 | D34: 0 | E34: 0 | F34: 0 | G34: 0 | H34: 0 | I34: 0 | J34: 0 | K34: 0 | L34: 0
A37: Filler SF 100 & 300
A38: FILLER SIDEL SF 300 FM 120 pitch 113 mm | D38: 93456.3 | E38: 579.73 | F38: 100311.45 | G38: 579.73 | H38: 93456.3 | I38: 579.73 | J38: 100311.45 | K38: 579.73 | L38: 93456.3
A39: FILLER SF100 120V | C39: 6449 | D39: 75301 | E39: 6449 | F39: 79966 | G39: 6449 | H39: 75301 | I39: 6449 | J39: 79966 | K39: 6449 | L39: 75301
A40: FILLER SF 300FM 126V | C40: 2792 | D40: 75058 | E40: 2792 | F40: 115978 | G40: 2792 | H40: 95846 | I40: 2792 | J40: 115978 | K40: 2792 | L40: 130962
A41: FILLER SF100 100V PITCH 113 | D41: 37967 | F41: 44051 | H41: 37967 | J41: 44051 | L41: 37967
A42: FILLER SF 300FM 120V | C42: 2792 | D42: 75058 | E42: 2792 | F42: 115978 | G42: 2792 | H42: 95846 | I42: 2792 | J42: 115978 | K42: 2792 | L42: 130962
A43: FILLER SF700 80V | D43: 82738 | F43: 90073 | H43: 82738 | J43: 90073 | L43: 82738
A44: FILLER SF 300FM 180V | C44: 760 | D44: 173000 | E44: 760 | F44: 186000 | G44: 760 | H44: 173000 | I44: 760 | J44: 186000 | K44: 760 | L44: 173000
A45: FILLER MATRIX SF 100 72V | D45: 28437 | F45: 34201 | H45: 28587 | J45: 34201 | L45: 22437
A46: Filler SF300 FM 45 | C46: 5083 | D46: 41380 | E46: 5083 | F46: 51827 | G46: 5083 | H46: 41380 | I46: 5083 | J46: 51827 | K46: 5083 | L46: 41380
...

Sheet Predis
B1: CMU | C1: 1.12
A4: PR00
A5: Scheduled maintenance parts (ISO13306) | C5: 3000 | D5: 6000 | E5: 9000 | F5: 12000 | G5: 15000 | H5: 18000 | I5: 21000 | J5: 24000 | K5: 27000 | L5: 30000 | M5: =L5+3000 -> 33000 | N5: =M5+3000 -> 36000 | O5: =N5+3000 -> 39000 | P5: =O5+3000 -> 42000 | Q5: =P5+3000 -> 45000 | R5: =Q5+3000 -> 48000 | S5: =R5+3000 -> 51000 | T5: =S5+3000 -> 54000 | ... V5: =U5+3000 -> 60000 | W5: Average
A7: Predis Capdis FMa 40 15 p.113 | B7: PR00 | C7: 10406.4 | D7: 70368 | E7: 10406.4 | F7: 131991.04 | G7: 10406.4 | H7: 92084.48 | I7: 10406.4 | J7: 154082.56 | K7: 10406.4 | L7: 70368 | W7: =AVERAGE(C7:V7) -> 57092.608
A8: Predis FMa 70 20 | B8: PR00 | C8: 11979 | D8: 65783 | E8: 11979 | F8: 110195 | G8: 11979 | H8: 74022 | I8: 11979 | J8: 133296 | K8: 11979 | L8: 65783 | W8: =AVERAGE(C8:V8) -> 50897.4
A9: Predis Capdis FMa 80 24 p.141 | B9: PR00 | C9: 10100 | D9: 70890 | E9: 10100 | F9: 152090 | G9: 10100 | H9: 91674 | I9: 10100 | J9: 177271 | K9: 10100 | L9: 70890 | W9: =AVERAGE(C9:V9) -> 61331.5
A10: Predis Capdis FMa 48 18 p94 | B10: PR00 | C10: 9830 | D10: 18373 | E10: 9830 | F10: 70275 | G10: 9830 | H10: 18694 | I10: 9830 | J10: 70275 | K10: 9830 | L10: 18694 | W10: =AVERAGE(C10:V10) -> 24546.1
A11: Predis FMa 40 15 p.113 | B11: PR00 | C11: 15578 | D11: 89263 | E11: 15578 | F11: 144448 | G11: 15578 | H11: 89263 | I11: 15578 | J11: 165138 | K11: 15578 | L11: 89263 | W11: =AVERAGE(C11:V11) -> 65526.5
A12: Predis FMa 70 20 | B12: PR00 | C12: 11979 | D12: 65783 | E12: 11979 | F12: 110195 | G12: 11979 | H12: 74022 | I12: 11979 | J12: 133296 | K12: 11979 | L12: 65783 | W12: =AVERAGE(C12:V12) -> 50897.4
A13: Predis FMa 70 20 | B13: PR00 | C13: 11979 | D13: 65783 | E13: 11979 | F13: 110195 | G13: 11979 | H13: 65783 | I13: 11979 | J13: 110195 | K13: 11979 | L13: 65783 | W13: =AVERAGE(C13:V13) -> 47763.4
A14: Predis FMa 70 20 | B14: PR00 | C14: 11979 | D14: 65783 | E14: 11979 | F14: 110195 | G14: 11979 | H14: 74022 | I14: 11979 | J14: 133296 | K14: 11979 | L14: 65783 | W14: =AVERAGE(C14:V14) -> 50897.4
A15: Predis FMa 70 20 | B15: PR00 | C15: 11979 | D15: 65783 | E15: 11979 | F15: 110195 | G15: 11979 | H15: 74022 | I15: 11979 | J15: 133296 | K15: 11979 | L15: 65783 | W15: =AVERAGE(C15:V15) -> 50897.4
A16: Predis FMa 40 15 p.113 | B16: PR00 | C16: 15578 | D16: 89263 | E16: 15578 | F16: 144448 | G16: 15578 | H16: 89263 | I16: 15578 | J16: 165138 | K16: 15578 | L16: 89263 | W16: =AVERAGE(C16:V16) -> 65526.5
A17: Predis Capdis FMa 120 36K | B17: PR00 | C17: 14140 | D17: 99246 | E17: 14140 | F17: 212926 | G17: 14140 | H17: 128343.6 | I17: 14140 | J17: 248179.4 | K17: 14140 | L17: 99246 | W17: =AVERAGE(C17:V17) -> 85864.1

Sheet Depalletizer & Palletizer
B1: CMU | C1: 1.12
A4: PR00
A5: Scheduled maintenance parts (ISO13306) | C5: 3000 | D5: 6000 | E5: 9000 | F5: 12000 | G5: 15000 | H5: 18000 | I5: 21000 | J5: 24000 | K5: 27000 | L5: 30000 | M5: =L5+3000 -> 33000 | N5: =M5+3000 -> 36000 | O5: =N5+3000 -> 39000 | P5: =O5+3000 -> 42000 | Q5: =P5+3000 -> 45000 | R5: =Q5+3000 -> 48000 | S5: =R5+3000 -> 51000 | T5: =S5+3000 -> 54000 | ... V5: =U5+3000 -> 60000 | W5: Average
A6: Depalletizer | C6: 3849 | E6: 13957 | G6: 13977 | I6: 13709 | K6: 3849 | W6: =AVERAGE(C6:V6) -> 9868.2
