Workbook

Sheet Instructions
A1: Société BonPiedBonOeil
A3: Votre société vous demande d'automatiser le rapport de vente journalier dont la structure est présentée dans l'onglet "Rapport de ventes".
A5: Pour cela vous avez à votre disposition un certain nombre de données source:
B6: - un fichier client (onglet "Clients")
B7: - un journal des ventes du mois (onglet "Données")
B8: - une table statistique reprenant le chiffre d'affaire devant être réalisé en fonction du nombre de jours ouvrés dans un mois et du nombre de jours effectivement travaillés (onglet "Statistiques").
B9: Exemple : si un mois contient 20 jours ouvrés et qu'à la date d'aujourd'hui 9 jours ont été travaillés, alors, statistiquement, le chiffre d'affaire devrait être réalisé à hauteur de 38.28%.
A11: Au regard des valeurs en A1:A3 de l'onglet "Données", le dernier jour travaillé est le 16/09/2015, ce qui correspond au 12ième jour travaillé dans le mois.
A13: N'oubliez pas de mettre en place des contrôles de cohérence.
A15: En colonne I, votre direction souhaiterait avoir représentation visuelle de l'avancement de la réalisation du chiffre d'affaire réalisé par rapport au chiffre d'affaire prévisionnel.

Sheet Clients
A1: Code client | B1: Nom client | C1: Segment | F1: Segment | G1: Nom Segment
A2: 28431 | B2: ARVIN | C2: MDD | F2: MDD | G2: Marque De Distributeur
A3: 28440 | B3: THOMAS | C3: MP | F3: MP | G3: Marque Propre
A4: 28486 | B4: LUNA | C4: PP | F4: PP | G4: Premier Prix
A5: 28491 | B5: CASINI | C5: MP
A6: 28494 | B6: ANDRE | C6: MDD
A7: 28497 | B7: CARLO | C7: MP
A8: 28499 | B8: CLEM | C8: MDD
A9: 28502 | B9: BRUNO | C9: MP
A10: 28530 | B10: RODOLPHE | C10: PP
A11: 28534 | B11: LEILA | C11: MP
A12: 28536 | B12: CARINE | C12: MDD
A13: 28544 | B13: MARCEL | C13: MDD

Sheet Statistiques
A2: Codification mois | B2: 1 | C2: 2 | D2: 3 | E2: 4 | F2: 5 | G2: 6 | H2: 7 | I2: 8 | J2: 9
A4: Nb jours ouvrés / mois | B4: 17 | C4: 18 | D4: 19 | E4: 20 | F4: 21 | G4: 22 | H4: 23 | I4: 24 | J4: 25
A5: 1 | B5: 0.05009063 | C5: 0.04965776 | D5: 0.047728607 | E5: 0.017781082 | F5: 0.032064998 | G5: 0.027522964 | H5: 0.032435493 | I5: 0.032 | J5: 0.017898973
A6: 2 | B6: 0.10018126 | C6: 0.098255255 | D6: 0.095040847 | E6: 0.060526998 | F6: 0.064129997 | G6: 0.055045928 | H6: 0.064870987 | I6: 0.064 | J6: 0.045756037
A7: 3 | B7: 0.15027189 | C7: 0.15488083 | D7: 0.15749735 | E7: 0.10171389 | F7: 0.096194995 | G7: 0.082568892 | H7: 0.09730648 | I7: 0.096 | J7: 0.080080737
A8: 4 | B8: 0.20036252 | C8: 0.19832153 | D8: 0.20158208 | E8: 0.156956 | F8: 0.12825999 | G8: 0.11009186 | H8: 0.12974197 | I8: 0.128 | J8: 0.11669493
A9: 5 | B9: 0.25045315 | C9: 0.24137647 | D9: 0.24147953 | E9: 0.19948924 | F9: 0.16032499 | G9: 0.13761482 | H9: 0.16217747 | I9: 0.16 | J9: 0.15253166
A10: 6 | B10: 0.29670794 | C10: 0.27469844 | D10: 0.27716899 | E10: 0.23876912 | F10: 0.20563425 | G10: 0.17557488 | H10: 0.20958633 | I10: 0.198 | J10: 0.17555651
A11: 7 | B11: 0.33996273 | C11: 0.30576281 | D11: 0.33729602 | E11: 0.27772946 | F11: 0.25094352 | G11: 0.21353494 | H11: 0.25699519 | I11: 0.236 | J11: 0.21245927
A12: 8 | B12: 0.38821752 | C12: 0.35462039 | D12: 0.38789706 | E12: 0.32717546 | F12: 0.29625278 | G12: 0.25149499 | H12: 0.30440406 | I12: 0.274 | J12: 0.25018969
A13: 9 | B13: 0.42947231 | C13: 0.38836179 | D13: 0.43032897 | E13: 0.38278702 | F13: 0.34156204 | G13: 0.28945505 | H13: 0.35181292 | I13: 0.312 | J13: 0.29217546
A14: 10 | B14: 0.4787271 | C14: 0.43834131 | D14: 0.46570793 | E14: 0.42930125 | F14: 0.38687131 | G14: 0.32741511 | H14: 0.39922179 | I14: 0.35 | J14: 0.3331962
A15: 11 | B15: 0.53985253 | C15: 0.48275235 | D15: 0.51587312 | E15: 0.46681364 | F15: 0.43007227 | G15: 0.36926652 | H15: 0.44685744 | I15: 0.392 | J15: 0.36789223
A16: 12 | B16: 0.60397797 | C16: 0.56092093 | D16: 0.57085575 | E16: 0.52313086 | F16: 0.47327324 | G16: 0.41111792 | H16: 0.49449308 | I16: 0.434 | J16: 0.40310943
... A21: 17 | B21: 1 | C21: 0.91016094 | D21: 0.84872292 | E21: 0.79960509 | F21: 0.73525076 | G21: 0.66905154 | H21: 0.69669973 | I21: 0.652 | J21: 0.5997218
A22: 18 | C22: 1 | D22: 0.92643535 | E22: 0.8687552 | F22: 0.80143807 | G22: 0.73524123 | H22: 0.72634958 | I22: 0.698 | J22: 0.64573976
A23: 19 | D23: 1 | E23: 0.94164066 | F23: 0.86762538 | G23: 0.80143092 | H23: 0.75599942 | I23: 0.744 | J23: 0.70023525
A24: 20 | E24: 1 | F24: 0.93381269 | G24: 0.86762061 | H24: 0.78564927 | I24: 0.79 | J24: 0.73798819
A25: 21 | F25: 1 | G25: 0.93381031 | H25: 0.85709952 | I25: 0.8425 | J25: 0.7811161
A26: 22 | G26: 1 | H26: 0.92854976 | I26: 0.895 | J26: 0.83145477
A27: 23 | H27: 1 | I27: 0.9475 | J27: 0.88311421
A28: 24 | I28: 1 | J28: 0.9462261
A29: 25 | J29: 1

Sheet Données
A1: 42263 | B1: Date
A2: 9 | B2: Code relatif au nombre de jours travaillés dans le mois
A3: 12 | B3: Numéro jour
A5: Code client | B5: Nom client | C5: Montant | D5: Date facturation
A6: 28431 | B6: ARVIN | C6: 3000 | D6: 42249
A7: 28440 | B7: THOMAS | C7: 1050 | D7: 42249
A8: 28486 | B8: LUNA | C8: 5000 | D8: 42249
A9: 28491 | B9: CASINI | C9: 660 | D9: 42249
A10: 28494 | B10: ANDRE | C10: 1120 | D10: 42249
A11: 28497 | B11: CARLO | C11: 5000 | D11: 42250
A12: 28499 | B12: CLEM | C12: 2250 | D12: 42250
A13: 28502 | B13: BRUNO | C13: 2500 | D13: 42250
A14: 28530 | B14: RODOLPHE | C14: 1925 | D14: 42250
A15: 28534 | B15: LEILA | C15: 2100 | D15: 42250
A16: 28536 | B16: CARINE | C16: 2275 | D16: 42250
A17: 28544 | B17: MARCEL | C17: 5740 | D17: 42250
... A86: 28544 | B86: MARCEL | C86: 700 | D86: 42263

Sheet Rapport de ventes
A1: Société Bonpiedbonoeil
A4: =+Données!A1 -> 42263
C7: Prévisionnel | F7: Réalisé | I7: % réalisé vs total mois (prévisionnel) | K7: Ecart MTD
C8: Total | D8: Cumul | F8: Ventes | G8: Cumul | K8: vs
A9: Clients | C9: Mois | D9: jours écoulés | F9: jour | G9: jours écoulés | K9: prévisionnel
A11: Marque propre
A12: THOMAS | C12: 45700 | D12: =C12*INDEX(Statistiques!$B$5:$J$29,MATCH(Données!$A$3,Statistiques!$A$5:$A$29,0),MATCH(Données!A$2,Statistiques!$B$2:$J$2,0)) -> 18422.101 | F12: =SUMIFS(Données!$C$6:$C$86,Données!$B$6:$B$86,'Rapport de ventes'!A12,Données!$D$6:$D$86,Données!$A$1) -> 1000 | G12: =SUMIFS(Données!$C$6:$C$86,Données!$B$6:$B$86,'Rapport de ventes'!A12) -> 7870 | I12: =G12/C12 -> 0.17221007 | K12: =+G12-D12 -> -10552.101
A13: CASINI | C13: 17541 | D13: =C13*INDEX(Statistiques!$B$5:$J$29,MATCH(Données!$A$3,Statistiques!$A$5:$A$29,0),MATCH(Données!A$2,Statistiques!$B$2:$J$2,0)) -> 7070.9425 | F13: =SUMIFS(Données!$C$6:$C$86,Données!$B$6:$B$86,'Rapport de ventes'!A13,Données!$D$6:$D$86,Données!$A$1) -> 960 | G13: =SUMIFS(Données!$C$6:$C$86,Données!$B$6:$B$86,'Rapport de ventes'!A13) -> 6360 | I13: =G13/C13 -> 0.3625791 | K13: =+G13-D13 -> -710.94246
A14: CARLO | C14: 71351.6 | D14: =C14*INDEX(Statistiques!$B$5:$J$29,MATCH(Données!$A$3,Statistiques!$A$5:$A$29,0),MATCH(Données!A$2,Statistiques!$B$2:$J$2,0)) -> 28762.503 | F14: =SUMIFS(Données!$C$6:$C$86,Données!$B$6:$B$86,'Rapport de ventes'!A14,Données!$D$6:$D$86,Données!$A$1) -> 5000 | G14: =SUMIFS(Données!$C$6:$C$86,Données!$B$6:$B$86,'Rapport de ventes'!A14) -> 20000 | I14: =G14/C14 -> 0.28030205 | K14: =+G14-D14 -> -8762.5026
A15: Autres MP | C15: 29145 | D15: =C15*INDEX(Statistiques!$B$5:$J$29,MATCH(Données!$A$3,Statistiques!$A$5:$A$29,0),MATCH(Données!A$2,Statistiques!$B$2:$J$2,0)) -> 11748.624 | I15: =G15/C15 -> 0 | K15: =+G15-D15 -> -11748.624
A16: Total MP | C16: =SUM(C12:C15) -> 163737.6 | D16: =C16*INDEX(Statistiques!$B$5:$J$29,MATCH(Données!$A$3,Statistiques!$A$5:$A$29,0),MATCH(Données!A$2,Statistiques!$B$2:$J$2,0)) -> 66004.17 | I16: =G16/C16 -> 0 | K16: =+G16-D16 -> -66004.17
D17: =C17*INDEX(Statistiques!$B$5:$J$29,MATCH(Données!$A$3,Statistiques!$A$5:$A$29,0),MATCH(Données!A$2,Statistiques!$B$2:$J$2,0)) -> 0
A18: Marque distributeur | D18: =C18*INDEX(Statistiques!$B$5:$J$29,MATCH(Données!$A$3,Statistiques!$A$5:$A$29,0),MATCH(Données!A$2,Statistiques!$B$2:$J$2,0)) -> 0
A19: ARVIN | C19: 64788 | D19: =C19*INDEX(Statistiques!$B$5:$J$29,MATCH(Données!$A$3,Statistiques!$A$5:$A$29,0),MATCH(Données!A$2,Statistiques!$B$2:$J$2,0)) -> 26116.654 | F19: =SUMIFS(Données!$C$6:$C$86,Données!$B$6:$B$86,'Rapport de ventes'!A19,Données!$D$6:$D$86,Données!$A$1) -> 4987.5 | G19: =SUMIFS(Données!$C$6:$C$86,Données!$B$6:$B$86,'Rapport de ventes'!A19) -> 15712.5 | I19: =G19/C19 -> 0.24252176 | K19: =+G19-D19 -> -10404.154
A20: ANDRE | C20: 87025 | D20: =C20*INDEX(Statistiques!$B$5:$J$29,MATCH(Données!$A$3,Statistiques!$A$5:$A$29,0),MATCH(Données!A$2,Statistiques!$B$2:$J$2,0)) -> 35080.598 | F20: =SUMIFS(Données!$C$6:$C$86,Données!$B$6:$B$86,'Rapport de ventes'!A20,Données!$D$6:$D$86,Données!$A$1) -> 11500 | G20: =SUMIFS(Données!$C$6:$C$86,Données!$B$6:$B$86,'Rapport de ventes'!A20) -> 57300 | I20: =G20/C20 -> 0.65843149 | K20: =+G20-D20 -> 22219.402
A21: CLEM | C21: 24004 | D21: =C21*INDEX(Statistiques!$B$5:$J$29,MATCH(Données!$A$3,Statistiques!$A$5:$A$29,0),MATCH(Données!A$2,Statistiques!$B$2:$J$2,0)) -> 9676.2387 | F21: =SUMIFS(Données!$C$6:$C$86,Données!$B$6:$B$86,'Rapport de ventes'!A21,Données!$D$6:$D$86,Données!$A$1) -> 2250 | G21: =SUMIFS(Données!$C$6:$C$86,Données!$B$6:$B$86,'Rapport de ventes'!A21) -> 9000 | I21: =G21/C21 -> 0.37493751 | K21: =+G21-D21 -> -676.23869
A22: Autres MDD | C22: 68004 | D22: =C22*INDEX(Statistiques!$B$5:$J$29,MATCH(Données!$A$3,Statistiques!$A$5:$A$29,0),MATCH(Données!A$2,Statistiques!$B$2:$J$2,0)) -> 27413.053 | I22: =G22/C22 -> 0 | K22: =+G22-D22 -> -27413.053
A23: Total MDD | C23: =SUM(C19:C22) -> 243821 | D23: =C23*INDEX(Statistiques!$B$5:$J$29,MATCH(Données!$A$3,Statistiques!$A$5:$A$29,0),MATCH(Données!A$2,Statistiques!$B$2:$J$2,0)) -> 98286.544 | I23: =G23/C23 -> 0 | K23: =+G23-D23 -> -98286.544
D24: =C24*INDEX(Statistiques!$B$5:$J$29,MATCH(Données!$A$3,Statistiques!$A$5:$A$29,0),MATCH(Données!A$2,Statistiques!$B$2:$J$2,0)) -> 0
A25: Premier Prix | D25: =C25*INDEX(Statistiques!$B$5:$J$29,MATCH(Données!$A$3,Statistiques!$A$5:$A$29,0),MATCH(Données!A$2,Statistiques!$B$2:$J$2,0)) -> 0
A26: LUNA | C26: 55168.275 | D26: =C26*INDEX(Statistiques!$B$5:$J$29,MATCH(Données!$A$3,Statistiques!$A$5:$A$29,0),MATCH(Données!A$2,Statistiques!$B$2:$J$2,0)) -> 22238.852 | F26: =SUMIFS(Données!$C$6:$C$86,Données!$B$6:$B$86,'Rapport de ventes'!A26,Données!$D$6:$D$86,Données!$A$1) -> 5000 | G26: =SUMIFS(Données!$C$6:$C$86,Données!$B$6:$B$86,'Rapport de ventes'!A26) -> 20000 | I26: =G26/C26 -> 0.36252719 | K26: =+G26-D26 -> -2238.8519
A27: RODOLPHE | C27: 30000 | D27: =C27*INDEX(Statistiques!$B$5:$J$29,MATCH(Données!$A$3,Statistiques!$A$5:$A$29,0),MATCH(Données!A$2,Statistiques!$B$2:$J$2,0)) -> 12093.283 | F27: =SUMIFS(Données!$C$6:$C$86,Données!$B$6:$B$86,'Rapport de ventes'!A27,Données!$D$6:$D$86,Données!$A$1) -> 3850 | G27: =SUMIFS(Données!$C$6:$C$86,Données!$B$6:$B$86,'Rapport de ventes'!A27) -> 25025 | I27: =G27/C27 -> 0.83416667 | K27: =+G27-D27 -> 12931.717
A28: Total PP | C28: =SUM(C26:C27) -> 85168.275 | D28: =C28*INDEX(Statistiques!$B$5:$J$29,MATCH(Données!$A$3,Statistiques!$A$5:$A$29,0),MATCH(Données!A$2,Statistiques!$B$2:$J$2,0)) -> 34332.135 | F28: =SUM(F26:F27) -> 8850 | I28: =G28/C28 -> 0 | K28: =+G28-D28 -> -34332.135
A31: Total Ventes | C31: =C28+C23+C16 -> 492726.88 | D31: =D28+D23+D16 -> 198622.85 | F31: =F28+F23+F16 -> 8850 | G31: =G28+G23+G16 -> 0 | I31: =G31/C31 -> 0 | K31: =K28+K23+K16 -> -198622.85
