Workbook
Name ABC: Feuil3!$A$2:$A$6
Name EBTS: Tableau4[ETABLISSEMENT]
Name MaListe: OFFSET(Feuil2!$A$2,,,COUNTIF(Feuil2!$A:$A,"><"))
Name SansDoublons: OFFSET(Feuil2!$A$2,,,COUNTIF(MaListe,"?*"))

Sheet Feuil1
B2: inventaire box
B4: TAP MACHINES | D4: ETABLISSEMENT | E4: DATE DE LIVRAISON | F4: GRATUITES | G4: FREEZERS | I4: ETABLISSEMENT | J4: DATE DE LIVRAISON | K4: GRATUITES
B5: 604172253 | D5: AAA | M5: {=COUNTIF(EBTS,"<"&EBTS)} -> 0 | N5: {=SUM(COUNTIF(EBTS,Feuil2!$A$1:A1))} -> 0 | U5: gratuités envoyées
B6: 60746 | D6: AE M RODOLPHE SAULAS | E6: 43384 | F6: 12 | M6: 1 | N6: {=SUM(COUNTIF(EBTS,Feuil2!$A$1:A2))} -> 1
B7: 67931 | D7: AE M RODOLPHE SAULAS | E7: 43384 | F7: 12 | L7: TOTAL MACHINES VENDUES | M7: 1 | N7: {=SUM(COUNTIF(EBTS,Feuil2!$A$1:A3))} -> 3 | R7: =COUNTA(D5:D178) -> 97 | T7: premiere commande | U7: deuxieme commande | V7: troisieme commande | W7: quatrieme commande
B8: 67926 | D8: BAR DES PAPAS | E8: 43247 | F8: 12 | M8: 3 | N8: {=SUM(COUNTIF(EBTS,Feuil2!$A$1:A4))} -> 6
B9: 67929 | D9: BAR DES PAPAS | E9: 43247 | F9: 12 | L9: TOTAL FREEZERS | M9: 3 | N9: {=SUM(COUNTIF(EBTS,Feuil2!$A$1:A5))} -> 7 | R9: =SUM(H5:H211) -> 0
B10: 67928 | D10: BAR DES PAPAS | E10: 43438 | F10: 12 | M10: 3 | N10: {=SUM(COUNTIF(EBTS,Feuil2!$A$1:A6))} -> 9
B11: 67935 | D11: BISTROT DU TANDEM | E11: 43375 | F11: 12 | M11: 6 | N11: {=SUM(COUNTIF(EBTS,Feuil2!$A$1:A7))} -> 15 | T11: total des gratuites | U11: =SUM(T8:W8) -> 0
B12: 67925 | D12: CARA CLUB | E12: 43250 | F12: 12 | M12: 7 | N12: {=SUM(COUNTIF(EBTS,Feuil2!$A$1:A8))} -> 16
B13: 67924 | D13: CARA CLUB | E13: 43250 | F13: 12 | M13: 7 | N13: {=SUM(COUNTIF(EBTS,Feuil2!$A$1:A9))} -> 17
B14: 67927 | D14: DROP N SHOOT | E14: 43247 | F14: 12 | L14: Gratuites TAP machine | M14: 9 | N14: {=SUM(COUNTIF(EBTS,Feuil2!$A$1:A10))} -> 18 | R14: =SUM(F5:F211) -> 1098
B15: 67664 | D15: DROP N SHOOT | E15: 43247 | F15: 12 | L15: Gratuites TAP freezers | M15: 9 | N15: {=SUM(COUNTIF(EBTS,Feuil2!$A$1:A11))} -> 23 | R15: =SUM(K5:K211) -> 0
B16: 67759 | D16: DROP N SHOOT | E16: 43356 | F16: 12 | M16: 9 | N16: {=SUM(COUNTIF(EBTS,Feuil2!$A$1:A12))} -> 24
B17: 67934 | D17: DROP N SHOOT | E17: 43356 | F17: 12 | M17: 9 | N17: {=SUM(COUNTIF(EBTS,Feuil2!$A$1:A13))} -> 25
B18: 67767 | D18: DROP N SHOOT | E18: 43356 | F18: 12 | L18: Total gratuites | M18: 9 | N18: {=SUM(COUNTIF(EBTS,Feuil2!$A$1:A14))} -> 26 | R18: =SUM(R14:R15) -> 1098
B19: 67760 | D19: DROP N SHOOT | E19: 43356 | F19: 12 | M19: 9 | N19: {=SUM(COUNTIF(EBTS,Feuil2!$A$1:A15))} -> 27
B20: 67933 | D20: echange EST OUEST dysf groupe froid | E20: 43247 | F20: 12 | M20: 15 | N20: {=SUM(COUNTIF(EBTS,Feuil2!$A$1:A16))} -> 28
B21: 67756 | D21: EOAAAAA | M21: 16 | N21: {=SUM(COUNTIF(EBTS,Feuil2!$A$1:A17))} -> 30
B22: 67762 | D22: ETS NUGET NAVEAU | E22: 43174 | F22: 12 | M22: 17 | N22: {=SUM(COUNTIF(EBTS,Feuil2!$A$1:A18))} -> 31
B23: 67763 | D23: FALSTAFF | E23: 43250 | F23: 12 | M23: 18 | N23: {=SUM(COUNTIF(EBTS,Feuil2!$A$1:A19))} -> 32
B24: 67757 | D24: FALSTAFF | E24: 43250 | F24: 12 | M24: 18 | N24: {=SUM(COUNTIF(EBTS,Feuil2!$A$1:A20))} -> 33
B25: 67761 | D25: FALSTAFF | E25: 43250 | F25: 12 | M25: 18 | N25: {=SUM(COUNTIF(EBTS,Feuil2!$A$1:A21))} -> 34
B26: 67932 | D26: FALSTAFF | E26: 43250 | F26: 12 | M26: 18 | N26: {=SUM(COUNTIF(EBTS,Feuil2!$A$1:A22))} -> 35
B27: 67765 | D27: FALSTAFF | E27: 43250 | F27: 12 | M27: 18 | N27: {=SUM(COUNTIF(EBTS,Feuil2!$A$1:A23))} -> 36
B28: 67930 | D28: FMDM LE GAINZBAR | E28: 43378 | F28: 12 | M28: 23 | N28: {=SUM(COUNTIF(EBTS,Feuil2!$A$1:A24))} -> 37
B29: 67811 | D29: GALA POLYTECH TOURS | E29: 43352 | F29: 12 | M29: 24 | N29: {=SUM(COUNTIF(EBTS,Feuil2!$A$1:A25))} -> 42
B30: 67827 | D30: IIII | M30: 25 | N30: {=SUM(COUNTIF(EBTS,Feuil2!$A$1:A26))} -> 43
B31: 67816 | D31: JOB | M31: 26 | N31: {=SUM(COUNTIF(EBTS,Feuil2!$A$1:A27))} -> 44
B32: 67817 | D32: JP STARS | E32: 43168 | F32: 12 | M32: 27 | N32: {=SUM(COUNTIF(EBTS,Feuil2!$A$1:A28))} -> 45
B33: 67819 | D33: LA MAKINA | E33: 43410 | F33: 12 | M33: 28 | N33: {=SUM(COUNTIF(EBTS,Feuil2!$A$1:A29))} -> 47
B34: 67805 | D34: LA MAKINA | E34: 43410 | F34: 12 | M34: 28 | N34: {=SUM(COUNTIF(EBTS,Feuil2!$A$1:A30))} -> 48
B35: 67810 | D35: LA MORINIERE | E35: 43381 | F35: 12 | M35: 30 | N35: {=SUM(COUNTIF(EBTS,Feuil2!$A$1:A31))} -> 49
B36: 68104 | D36: LA TAVERNE | E36: 43236 | F36: 12 | M36: 31 | N36: {=SUM(COUNTIF(EBTS,Feuil2!$A$1:A32))} -> 51
B37: 60750 | D37: LA VIVARAISE | E37: 43174 | F37: 12 | M37: 32 | N37: {=SUM(COUNTIF(EBTS,Feuil2!$A$1:A33))} -> 53
B38: 67772 | D38: L'ALIBI | E38: 43378 | F38: 12 | M38: 33 | N38: {=SUM(COUNTIF(EBTS,Feuil2!$A$1:A34))} -> 54
B39: 67758 | D39: LE 49 | E39: 43378 | F39: 12 | M39: 34 | N39: {=SUM(COUNTIF(EBTS,Feuil2!$A$1:A35))} -> 55
B40: 67808 | D40: LE BULC - ech 62514 dysf gpe froid | E40: 43367 | F40: 12 | M40: 35 | N40: {=SUM(COUNTIF(EBTS,Feuil2!$A$1:A36))} -> 57
B41: 67776 | D41: LE CHAURAY | E41: 43153 | F41: 12 | M41: 36 | N41: {=SUM(COUNTIF(EBTS,Feuil2!$A$1:A37))} -> 62
B42: 67818 | D42: LE CUTTY SARK | E42: 43251 | F42: 12 | M42: 37 | N42: {=SUM(COUNTIF(EBTS,Feuil2!$A$1:A38))} -> 64
...

Sheet Feuil2
B1: AAA
A2: {=IFERROR(INDEX(EBTS,MATCH(0,COUNTIF(EBTS,"<"&EBTS)-SUM(COUNTIF(EBTS,A$1:A1)),0)),"")} -> AAA | E2: la bonne formule de tri sans double et en plus Alphabetique | N2: {=COUNTIF(EBTS,"<"&EBTS)} -> 0 | O2: {=SUM(COUNTIF(EBTS,A$1:A1))} -> 0 | Q2: {=MATCH(0,COUNTIF(EBTS,"<"&EBTS)-SUM(COUNTIF(EBTS,A$1:A1)),0)} -> 1 | R2: {=INDEX(EBTS,Q2)} -> AAA
A3: {=IFERROR(INDEX(EBTS,MATCH(0,COUNTIF(EBTS,"<"&EBTS)-SUM(COUNTIF(EBTS,A$1:A2)),0)),"")} -> AE M RODOLPHE SAULAS | E3: SIERREUR(INDEX(EBTS;EQUIV(0;NB.SI(EBTS;"<"&EBTS)-SOMME(NB.SI(EBTS;A$1:A1));0));"") | L3: fonction matricielle | N3: 1 | O3: {=SUM(COUNTIF(EBTS,A$1:A2))} -> 1 | Q3: {=MATCH(0,COUNTIF(EBTS,"<"&EBTS)-SUM(COUNTIF(EBTS,A$1:A2)),0)} -> 2 | R3: {=INDEX(EBTS,Q3)} -> AE M RODOLPHE SAULAS
A4: {=IFERROR(INDEX(EBTS,MATCH(0,COUNTIF(EBTS,"<"&EBTS)-SUM(COUNTIF(EBTS,A$1:A3)),0)),"")} -> BAR DES PAPAS | N4: 1 | O4: {=SUM(COUNTIF(EBTS,A$1:A3))} -> 3 | Q4: {=MATCH(0,COUNTIF(EBTS,"<"&EBTS)-SUM(COUNTIF(EBTS,A$1:A3)),0)} -> 4 | R4: {=INDEX(EBTS,Q4)} -> BAR DES PAPAS
A5: {=IFERROR(INDEX(EBTS,MATCH(0,COUNTIF(EBTS,"<"&EBTS)-SUM(COUNTIF(EBTS,A$1:A4)),0)),"")} -> BISTROT DU TANDEM | E5: la bonne formule pour dimensionner une liste de noms | N5: 3 | O5: {=SUM(COUNTIF(EBTS,A$1:A4))} -> 6 | Q5: {=MATCH(0,COUNTIF(EBTS,"<"&EBTS)-SUM(COUNTIF(EBTS,A$1:A4)),0)} -> 7 | R5: {=INDEX(EBTS,Q5)} -> BISTROT DU TANDEM
A6: {=IFERROR(INDEX(EBTS,MATCH(0,COUNTIF(EBTS,"<"&EBTS)-SUM(COUNTIF(EBTS,A$1:A5)),0)),"")} -> CARA CLUB | E6: =DECALER(Feuil2!$A$2;;;NB.SI(Feuil2!$A:$A;"><")) | N6: 3 | O6: {=SUM(COUNTIF(EBTS,A$1:A5))} -> 7 | Q6: {=MATCH(0,COUNTIF(EBTS,"<"&EBTS)-SUM(COUNTIF(EBTS,A$1:A5)),0)} -> 8 | R6: {=INDEX(EBTS,Q6)} -> CARA CLUB
A7: {=IFERROR(INDEX(EBTS,MATCH(0,COUNTIF(EBTS,"<"&EBTS)-SUM(COUNTIF(EBTS,A$1:A6)),0)),"")} -> DROP N SHOOT | E7: c'est Maliste qui sert dans validation | N7: 3 | O7: {=SUM(COUNTIF(EBTS,A$1:A6))} -> 9 | Q7: {=MATCH(0,COUNTIF(EBTS,"<"&EBTS)-SUM(COUNTIF(EBTS,A$1:A6)),0)} -> 10 | R7: {=INDEX(EBTS,Q7)} -> DROP N SHOOT
A8: {=IFERROR(INDEX(EBTS,MATCH(0,COUNTIF(EBTS,"<"&EBTS)-SUM(COUNTIF(EBTS,A$1:A7)),0)),"")} -> echange EST OUEST dysf groupe froid | E8: plus besoin de sans double | N8: 6 | O8: {=SUM(COUNTIF(EBTS,A$1:A7))} -> 15 | Q8: {=MATCH(0,COUNTIF(EBTS,"<"&EBTS)-SUM(COUNTIF(EBTS,A$1:A7)),0)} -> 16 | R8: {=INDEX(EBTS,Q8)} -> echange EST OUEST dysf groupe froid
A9: {=IFERROR(INDEX(EBTS,MATCH(0,COUNTIF(EBTS,"<"&EBTS)-SUM(COUNTIF(EBTS,A$1:A8)),0)),"")} -> EOAAAAA | N9: 7 | O9: {=SUM(COUNTIF(EBTS,A$1:A8))} -> 16 | Q9: {=MATCH(0,COUNTIF(EBTS,"<"&EBTS)-SUM(COUNTIF(EBTS,A$1:A8)),0)} -> 17
A10: {=IFERROR(INDEX(EBTS,MATCH(0,COUNTIF(EBTS,"<"&EBTS)-SUM(COUNTIF(EBTS,A$1:A9)),0)),"")} -> ETS NUGET NAVEAU | N10: 7 | O10: {=SUM(COUNTIF(EBTS,A$1:A9))} -> 17 | Q10: {=MATCH(0,COUNTIF(EBTS,"<"&EBTS)-SUM(COUNTIF(EBTS,A$1:A9)),0)} -> 18
A11: {=IFERROR(INDEX(EBTS,MATCH(0,COUNTIF(EBTS,"<"&EBTS)-SUM(COUNTIF(EBTS,A$1:A10)),0)),"")} -> FALSTAFF | N11: 9 | O11: {=SUM(COUNTIF(EBTS,A$1:A10))} -> 18 | Q11: {=MATCH(0,COUNTIF(EBTS,"<"&EBTS)-SUM(COUNTIF(EBTS,A$1:A10)),0)} -> 19
A12: {=IFERROR(INDEX(EBTS,MATCH(0,COUNTIF(EBTS,"<"&EBTS)-SUM(COUNTIF(EBTS,A$1:A11)),0)),"")} -> FMDM LE GAINZBAR | I12: {=SUM(COUNTIF(EBTS,A$1:A2))} -> 1 | N12: 9 | O12: {=SUM(COUNTIF(EBTS,A$1:A11))} -> 23 | Q12: {=MATCH(0,COUNTIF(EBTS,"<"&EBTS)-SUM(COUNTIF(EBTS,A$1:A11)),0)} -> 24
A13: {=IFERROR(INDEX(EBTS,MATCH(0,COUNTIF(EBTS,"<"&EBTS)-SUM(COUNTIF(EBTS,A$1:A12)),0)),"")} -> GALA POLYTECH TOURS | I13: {=SUM(COUNTIF(EBTS,A$1:A3))} -> 3 | N13: 9 | O13: {=SUM(COUNTIF(EBTS,A$1:A12))} -> 24 | Q13: {=MATCH(0,COUNTIF(EBTS,"<"&EBTS)-SUM(COUNTIF(EBTS,A$1:A12)),0)} -> 25
A14: {=IFERROR(INDEX(EBTS,MATCH(0,COUNTIF(EBTS,"<"&EBTS)-SUM(COUNTIF(EBTS,A$1:A13)),0)),"")} -> IIII | I14: {=SUM(COUNTIF(EBTS,A$1:A4))} -> 6 | N14: 9 | O14: {=SUM(COUNTIF(EBTS,A$1:A13))} -> 25 | Q14: {=MATCH(0,COUNTIF(EBTS,"<"&EBTS)-SUM(COUNTIF(EBTS,A$1:A13)),0)} -> 26
A15: {=IFERROR(INDEX(EBTS,MATCH(0,COUNTIF(EBTS,"<"&EBTS)-SUM(COUNTIF(EBTS,A$1:A14)),0)),"")} -> JOB | I15: {=SUM(COUNTIF(EBTS,A$1:A5))} -> 7 | N15: 9 | O15: {=SUM(COUNTIF(EBTS,A$1:A14))} -> 26 | Q15: {=MATCH(0,COUNTIF(EBTS,"<"&EBTS)-SUM(COUNTIF(EBTS,A$1:A14)),0)} -> 27
A16: {=IFERROR(INDEX(EBTS,MATCH(0,COUNTIF(EBTS,"<"&EBTS)-SUM(COUNTIF(EBTS,A$1:A15)),0)),"")} -> JP STARS | I16: {=SUM(COUNTIF(EBTS,A$1:A6))} -> 9 | N16: 9 | O16: {=SUM(COUNTIF(EBTS,A$1:A15))} -> 27 | Q16: {=MATCH(0,COUNTIF(EBTS,"<"&EBTS)-SUM(COUNTIF(EBTS,A$1:A15)),0)} -> 28
A17: {=IFERROR(INDEX(EBTS,MATCH(0,COUNTIF(EBTS,"<"&EBTS)-SUM(COUNTIF(EBTS,A$1:A16)),0)),"")} -> LA MAKINA | N17: 15 | O17: {=SUM(COUNTIF(EBTS,A$1:A16))} -> 28 | Q17: {=MATCH(0,COUNTIF(EBTS,"<"&EBTS)-SUM(COUNTIF(EBTS,A$1:A16)),0)} -> 29
A18: {=IFERROR(INDEX(EBTS,MATCH(0,COUNTIF(EBTS,"<"&EBTS)-SUM(COUNTIF(EBTS,A$1:A17)),0)),"")} -> LA MORINIERE | N18: 16 | O18: {=SUM(COUNTIF(EBTS,A$1:A17))} -> 30 | Q18: {=MATCH(0,COUNTIF(EBTS,"<"&EBTS)-SUM(COUNTIF(EBTS,A$1:A17)),0)} -> 31
A19: {=IFERROR(INDEX(EBTS,MATCH(0,COUNTIF(EBTS,"<"&EBTS)-SUM(COUNTIF(EBTS,A$1:A18)),0)),"")} -> LA TAVERNE | N19: 17 | O19: {=SUM(COUNTIF(EBTS,A$1:A18))} -> 31 | Q19: {=MATCH(0,COUNTIF(EBTS,"<"&EBTS)-SUM(COUNTIF(EBTS,A$1:A18)),0)} -> 32
A20: {=IFERROR(INDEX(EBTS,MATCH(0,COUNTIF(EBTS,"<"&EBTS)-SUM(COUNTIF(EBTS,A$1:A19)),0)),"")} -> LA VIVARAISE | N20: 18 | O20: {=SUM(COUNTIF(EBTS,A$1:A19))} -> 32 | Q20: {=MATCH(0,COUNTIF(EBTS,"<"&EBTS)-SUM(COUNTIF(EBTS,A$1:A19)),0)} -> 33
A21: {=IFERROR(INDEX(EBTS,MATCH(0,COUNTIF(EBTS,"<"&EBTS)-SUM(COUNTIF(EBTS,A$1:A20)),0)),"")} -> L'ALIBI | N21: 18 | O21: {=SUM(COUNTIF(EBTS,A$1:A20))} -> 33 | Q21: {=MATCH(0,COUNTIF(EBTS,"<"&EBTS)-SUM(COUNTIF(EBTS,A$1:A20)),0)} -> 34
A22: {=IFERROR(INDEX(EBTS,MATCH(0,COUNTIF(EBTS,"<"&EBTS)-SUM(COUNTIF(EBTS,A$1:A21)),0)),"")} -> LE 49 | N22: 18 | O22: {=SUM(COUNTIF(EBTS,A$1:A21))} -> 34 | Q22: {=MATCH(0,COUNTIF(EBTS,"<"&EBTS)-SUM(COUNTIF(EBTS,A$1:A21)),0)} -> 35
A23: {=IFERROR(INDEX(EBTS,MATCH(0,COUNTIF(EBTS,"<"&EBTS)-SUM(COUNTIF(EBTS,A$1:A22)),0)),"")} -> LE BULC - ech 62514 dysf gpe froid | N23: 18 | O23: {=SUM(COUNTIF(EBTS,A$1:A22))} -> 35 | Q23: {=MATCH(0,COUNTIF(EBTS,"<"&EBTS)-SUM(COUNTIF(EBTS,A$1:A22)),0)} -> 36
A24: {=IFERROR(INDEX(EBTS,MATCH(0,COUNTIF(EBTS,"<"&EBTS)-SUM(COUNTIF(EBTS,A$1:A23)),0)),"")} -> LE CHAURAY | N24: 18 | O24: {=SUM(COUNTIF(EBTS,A$1:A23))} -> 36 | Q24: {=MATCH(0,COUNTIF(EBTS,"<"&EBTS)-SUM(COUNTIF(EBTS,A$1:A23)),0)} -> 37
A25: {=IFERROR(INDEX(EBTS,MATCH(0,COUNTIF(EBTS,"<"&EBTS)-SUM(COUNTIF(EBTS,A$1:A24)),0)),"")} -> LE CUTTY SARK | N25: 23 | O25: {=SUM(COUNTIF(EBTS,A$1:A24))} -> 37 | Q25: {=MATCH(0,COUNTIF(EBTS,"<"&EBTS)-SUM(COUNTIF(EBTS,A$1:A24)),0)} -> 38
A26: {=IFERROR(INDEX(EBTS,MATCH(0,COUNTIF(EBTS,"<"&EBTS)-SUM(COUNTIF(EBTS,A$1:A25)),0)),"")} -> LE FACTORY | N26: 24 | O26: {=SUM(COUNTIF(EBTS,A$1:A25))} -> 42 | Q26: {=MATCH(0,COUNTIF(EBTS,"<"&EBTS)-SUM(COUNTIF(EBTS,A$1:A25)),0)} -> 43
A27: {=IFERROR(INDEX(EBTS,MATCH(0,COUNTIF(EBTS,"<"&EBTS)-SUM(COUNTIF(EBTS,A$1:A26)),0)),"")} -> LE POINT BAR L'ASCOT | N27: 25 | O27: {=SUM(COUNTIF(EBTS,A$1:A26))} -> 43 | Q27: {=MATCH(0,COUNTIF(EBTS,"<"&EBTS)-SUM(COUNTIF(EBTS,A$1:A26)),0)} -> 44
A28: {=IFERROR(INDEX(EBTS,MATCH(0,COUNTIF(EBTS,"<"&EBTS)-SUM(COUNTIF(EBTS,A$1:A27)),0)),"")} -> LE Q | N28: 26 | O28: {=SUM(COUNTIF(EBTS,A$1:A27))} -> 44 | Q28: {=MATCH(0,COUNTIF(EBTS,"<"&EBTS)-SUM(COUNTIF(EBTS,A$1:A27)),0)} -> 45
... A35: {=IFERROR(INDEX(EBTS,MATCH(0,COUNTIF(EBTS,"<"&EBTS)-SUM(COUNTIF(EBTS,A$1:A34)),0)),"")} -> MISTER WRAPS | N35: 33 | O35: {=SUM(COUNTIF(EBTS,A$1:A34))} -> 54 | Q35: {=MATCH(0,COUNTIF(EBTS,"<"&EBTS)-SUM(COUNTIF(EBTS,A$1:A34)),0)} -> 55
A36: {=IFERROR(INDEX(EBTS,MATCH(0,COUNTIF(EBTS,"<"&EBTS)-SUM(COUNTIF(EBTS,A$1:A35)),0)),"")} -> Nulle Part Ailleurs | N36: 34 | O36: {=SUM(COUNTIF(EBTS,A$1:A35))} -> 55
A37: {=IFERROR(INDEX(EBTS,MATCH(0,COUNTIF(EBTS,"<"&EBTS)-SUM(COUNTIF(EBTS,A$1:A36)),0)),"")} -> O BASQUE MY BODEGA | N37: 35 | O37: {=SUM(COUNTIF(EBTS,A$1:A36))} -> 57
A38: {=IFERROR(INDEX(EBTS,MATCH(0,COUNTIF(EBTS,"<"&EBTS)-SUM(COUNTIF(EBTS,A$1:A37)),0)),"")} -> OXFORD PUB | N38: 36 | O38: {=SUM(COUNTIF(EBTS,A$1:A37))} -> 62
A39: {=IFERROR(INDEX(EBTS,MATCH(0,COUNTIF(EBTS,"<"&EBTS)-SUM(COUNTIF(EBTS,A$1:A38)),0)),"")} -> RUBIS CLUB | N39: 37 | O39: {=SUM(COUNTIF(EBTS,A$1:A38))} -> 64
A40: {=IFERROR(INDEX(EBTS,MATCH(0,COUNTIF(EBTS,"<"&EBTS)-SUM(COUNTIF(EBTS,A$1:A39)),0)),"")} -> SA JMCM LA MANUFACTU | N40: 37 | O40: {=SUM(COUNTIF(EBTS,A$1:A39))} -> 66
A41: {=IFERROR(INDEX(EBTS,MATCH(0,COUNTIF(EBTS,"<"&EBTS)-SUM(COUNTIF(EBTS,A$1:A40)),0)),"")} -> SARL AU FUT SG | N41: 37 | O41: {=SUM(COUNTIF(EBTS,A$1:A40))} -> 67
A42: {=IFERROR(INDEX(EBTS,MATCH(0,COUNTIF(EBTS,"<"&EBTS)-SUM(COUNTIF(EBTS,A$1:A41)),0)),"")} -> SARL JENNIFER | N42: 37 | O42: {=SUM(COUNTIF(EBTS,A$1:A41))} -> 69
A43: {=IFERROR(INDEX(EBTS,MATCH(0,COUNTIF(EBTS,"<"&EBTS)-SUM(COUNTIF(EBTS,A$1:A42)),0)),"")} -> SARL L’ENVOL | N43: 37 | O43: {=SUM(COUNTIF(EBTS,A$1:A42))} -> 75
A44: {=IFERROR(INDEX(EBTS,MATCH(0,COUNTIF(EBTS,"<"&EBTS)-SUM(COUNTIF(EBTS,A$1:A43)),0)),"")} -> SARL LES PIONNIERS | N44: 42 | O44: {=SUM(COUNTIF(EBTS,A$1:A43))} -> 77
A45: {=IFERROR(INDEX(EBTS,MATCH(0,COUNTIF(EBTS,"<"&EBTS)-SUM(COUNTIF(EBTS,A$1:A44)),0)),"")} -> SARL MAMD CARA CLUB 49 | N45: 43 | O45: {=SUM(COUNTIF(EBTS,A$1:A44))} -> 78
A46: {=IFERROR(INDEX(EBTS,MATCH(0,COUNTIF(EBTS,"<"&EBTS)-SUM(COUNTIF(EBTS,A$1:A45)),0)),"")} -> SARL MAMD CARA CLUB 50 | N46: 44 | O46: {=SUM(COUNTIF(EBTS,A$1:A45))} -> 79
...

Sheet Feuil3
A2: A | D2: {=INDEX(ABC,MATCH(0,COUNTIF(ABC,"<"&ABC)-SUM(COUNTIF(ABC,$D$1:D1)),0))} -> A | E2: {=MATCH(0,COUNTIF(ABC,"<"&ABC)-SUM(COUNTIF(ABC,$D$1:D1)),0)} -> 1 | F2: {=COUNTIF(ABC,"<"&ABC)} -> 0 | G2: {=COUNTIF(ABC,$D$1:D1)} -> 0
A3: D | D3: {=INDEX(ABC,MATCH(0,COUNTIF(ABC,"<"&ABC)-SUM(COUNTIF(ABC,$D$1:D2)),0))} -> B | E3: {=MATCH(0,COUNTIF(ABC,"<"&ABC)-SUM(COUNTIF(ABC,$D$1:D2)),0)} -> 4 | F3: 3 | G3: {=COUNTIF(ABC,$D$1:D2)} -> 0
A4: C | D4: {=INDEX(ABC,MATCH(0,COUNTIF(ABC,"<"&ABC)-SUM(COUNTIF(ABC,$D$1:D3)),0))} -> C | E4: {=MATCH(0,COUNTIF(ABC,"<"&ABC)-SUM(COUNTIF(ABC,$D$1:D3)),0)} -> 3 | F4: 2 | G4: 1
A5: B | D5: {=INDEX(ABC,MATCH(0,COUNTIF(ABC,"<"&ABC)-SUM(COUNTIF(ABC,$D$1:D4)),0))} -> D | E5: {=MATCH(0,COUNTIF(ABC,"<"&ABC)-SUM(COUNTIF(ABC,$D$1:D4)),0)} -> 2 | F5: 1
A6: E | D6: {=INDEX(ABC,MATCH(0,COUNTIF(ABC,"<"&ABC)-SUM(COUNTIF(ABC,$D$1:D5)),0))} -> E | E6: {=MATCH(0,COUNTIF(ABC,"<"&ABC)-SUM(COUNTIF(ABC,$D$1:D5)),0)} -> 5 | F6: 4
D7: {=INDEX(ABC,MATCH(0,COUNTIF(ABC,"<"&ABC)-SUM(COUNTIF(ABC,$D$1:D6)),0))} -> #N/A | E7: {=MATCH(0,COUNTIF(ABC,"<"&ABC)-SUM(COUNTIF(ABC,$D$1:D6)),0)} -> #N/A
D8: {=INDEX(ABC,MATCH(0,COUNTIF(ABC,"<"&ABC)-SUM(COUNTIF(ABC,$D$1:D7)),0))} -> #N/A | E8: {=MATCH(0,COUNTIF(ABC,"<"&ABC)-SUM(COUNTIF(ABC,$D$1:D7)),0)} -> #N/A
