Workbook

Sheet MOIS Ier
Z2: NET A REMBOUSER : | AE2: MOIS : | AG2: NOVEMBRE | AJ2: =IF(A10>DATE(YEAR(AG5),MONTH(AG5),15),"2","1") -> 1
D4: NOM Cial : | G4: Sébastien HAUGMARD | Z4: =AK28 -> 0
AE5: DATES | AG5: 43770 | AI5: 43784
A8: DATE | B8: horaires | D8: Villes | E8: péages / parking | J8: Hotel | K8: Restaurant individuel | N8: Consommation individuelle | R8: Invitations clients (commercial inclus) | Y8: Poste | AA8: Carburant | AB8: Taxis / Train / Avion | AE8: Entretien voiture | AH8: Divers | AK8: TOTAUX /JOUR
B9: départ | C9: retour | R9: restaurants | T9: consommations
A10: 43746 | AK10: =+SUM(E10:AJ10) -> 0
AK11: =SUM(E11:AJ11) -> 0
AK12: =SUM(E12:AJ12) -> 0
A13: 43773 | AK13: =SUM(E13:AJ13) -> 0
A14: 43774 | AK14: =SUM(E14:AJ14) -> 0
A15: 43775 | AK15: =SUM(E15:AJ15) -> 0 | AO15: =AO16+AO17&"TOTAL" -> 3TOTAL
A16: 43776 | AK16: =SUM(E16:AJ16) -> 0 | AM16: =COUNTBLANK(AM11:AM13) -> 3 | AO16: 1
A17: 43777 | AK17: =SUM(E17:AJ17) -> 0 | AO17: 2
A18: 43778 | AK18: =SUM(E18:AJ18) -> 0
A19: 43779 | AK19: =SUM(E19:AJ19) -> 0 | AN19: =IF(AH41,AK28/AH41,"AUCUNE ENTREE") -> AUCUNE ENTREE
A20: 43780 | AK20: =SUM(E20:AJ20) -> 0
A21: 43781 | AK21: =SUM(E21:AJ21) -> 0
A22: 43782 | AK22: =SUM(E22:AJ22) -> 0
A23: 43783 | AK23: =SUM(E23:AJ23) -> 0
A24: 43784 | AK24: =SUM(E24:AJ24) -> 0
AK25: =SUM(E25:AJ25) -> 0
AK26: =SUM(E26:AJ26) -> 0
AK27: =SUM(E27:AJ27) -> 0 | AN27: =IF(COUNTIF(AK10:AK27,">0"),"AE") -> FALSE
A28: TOTAUX | E28: =SUM(E10:I27) -> 0 | J28: =SUM(J10:J27) -> 0 | K28: =SUM(K10:M27) -> 0 | N28: =SUM(N10:Q27) -> 0 | R28: =SUM(R10:S27) -> 0 | T28: =SUM(T10:X27) -> 0 | Y28: =SUM(Y10:Z27) -> 0 | AA28: =SUM(AA10:AA27) -> 0 | AB28: =SUM(AB10:AD27) -> 0 | AE28: =SUM(AE10:AG27) -> 0 | AH28: =SUM(AH10:AJ27) -> 0 | AK28: =SUM(AK10:AK27) -> 0
AH29: TOTAL FRAIS :
A30: Signature demandeur : | J30: Signature responsable :
AH31: =AK28 -> 0
A34: Ce document est à compléter en respectant la Charte de remboursement des frais professionnels remise à chaque salarié. En aucun cas il ne s'agit d'un suivi de rapport d'activité quotidienne pour faire valoir un temps de travail. Chaque salarié est prié de faire apparaitre chaque jour de la quinzaine y compris les jours de congés, repos, week ends travaillés pour que la personne en charge de vérifier les notes de frais soit informée et n'ait pas à questionner les salariés sur d'éventuelles dépenses en dehors des jours de travail habituels.
AH36: =IF(AH41="AUCUN JOUR DE FRAIS","AUCUNE DEP",AK28/AL38&" € MOY. DEPENSE(S)/JOUR") -> #DIV/0! | AM36: =MAX(AK10:AK27)&" € max. depens./jour" -> 0 € max. depens./jour | AO36: =_xlfn.MINIFS(AK10:AK27,AK10:AK27,">0")&" € min. depens./jour" -> 0 € min. depens./jour
N37: TOTAL CONSO PERSO
N38: =SUM($N$10:$Q$27,'MOIS IInd'!$N$10:$Q$27) -> 0 | AH38: =IF(COUNTIF(AK10:AK27,">0"),COUNTIF(AK10:AK27,">0")&" JOUR(S) DE FRAIS REAL.","AUCUN JOUR DE FRAIS") -> AUCUN JOUR DE FRAIS | AL38: =COUNTIF(AK10:AK27,">0") -> 0
S39: =SUM(N38,N42) -> 0 | V39: =S39 -> 0 | X39: =S39 -> 0
N41: TOTAL INVIT.
N42: =SUM($R$28:$X$28,'MOIS IInd'!$R$28:$X$28) -> 0
AK48: =IF(COUNTIF(AK10:AK27,">0"),COUNTIF(AK10:AK27,">0")&" JOURS DE FRAIS","AUCUN JOUR DE FRAIS") -> AUCUN JOUR DE FRAIS

Sheet MOIS IInd
Z2: NET A REMBOUSER : | AD2: =YEAR(TODAY()) -> 2019 | AE2: MOIS : | AG2: FEVRIER | AJ2: =IF(A10>DATE(YEAR(AG5),MONTH(AG5),15),"2","1") -> 2
D4: NOM Cial : | G4: Sébastien HAUGMARD | Z4: =AK28 -> 0
AE5: DATES | AG5: 43785 | AI5: 43799
A8: DATE | B8: horaires | D8: Villes | E8: péages / parking | J8: Hotel | K8: Restaurant individuel | N8: Consommation individuelle | R8: Invitations clients (commercial inclus) | Y8: Poste | AA8: Carburant | AB8: Taxis / Train / Avion | AE8: Entretien voiture | AH8: Divers | AK8: TOTAUX /JOUR
B9: départ | C9: retour | R9: restaurants | T9: consommations
A10: 43785 | AK10: =+SUM(E10:AJ10) -> 0 | AL10: =DATEDIF(A10,DATE(AD2,AG2,15),"md") -> #VALUE!
A11: 43786 | AK11: =SUM(E11:AJ11) -> 0 | AL11: =DATE(2019,11,15) -> 43784 | AM11: =MONTH(AG5) -> 11 | AN11: =IF(A10>DATE(YEAR(AG5),MONTH(AG5),15),"2","1") -> 2
A12: 43787 | AK12: =SUM(E12:AJ12) -> 0 | AL12: =IF(DATEDIF(A10,DATE(YEAR(TODAY()),MONTH(TODAY()),15),"md")>2,"vai","faux") -> vai | AM12: =DATE(YEAR(TODAY()),EDATE(TODAY(),1),15) -> #NUM!
A13: 43788 | AK13: =SUM(E13:AJ13) -> 0 | AM13: =YEAR(TODAY()) -> 2019
A14: 43789 | AK14: =SUM(E14:AJ14) -> 0 | AQ14: =MOIS.DECA -> #NAME?
A15: 43790 | AK15: =SUM(E15:AJ15) -> 0 | AO15: =AO16+AO17&"TOTAL" -> 3TOTAL
A16: 43791 | AK16: =SUM(E16:AJ16) -> 0 | AM16: =COUNTBLANK(AM11:AM13) -> 0 | AO16: 1
A17: 43792 | AK17: =SUM(E17:AJ17) -> 0 | AO17: 2
A18: 43793 | AK18: =SUM(E18:AJ18) -> 0
A19: 43794 | AK19: =SUM(E19:AJ19) -> 0 | AN19: =IF(AH41,AK28/AH41,"AUCUNE ENTREE") -> AUCUNE ENTREE
A20: 43795 | AK20: =SUM(E20:AJ20) -> 0
A21: 43796 | AK21: =SUM(E21:AJ21) -> 0
A22: 43797 | AK22: =SUM(E22:AJ22) -> 0
A23: 43798 | AK23: =SUM(E23:AJ23) -> 0
A24: 43799 | AK24: =SUM(E24:AJ24) -> 0
AK25: =SUM(E25:AJ25) -> 0
AK26: =SUM(E26:AJ26) -> 0
AK27: =SUM(E27:AJ27) -> 0 | AN27: =IF(COUNTIF(AK10:AK27,">0"),"AE") -> FALSE
A28: TOTAUX | E28: =SUM(E10:I27) -> 0 | J28: =SUM(J10:J27) -> 0 | K28: =SUM(K10:M27) -> 0 | N28: =SUM(N10:Q27) -> 0 | R28: =SUM(R10:S27) -> 0 | T28: =SUM(T10:X27) -> 0 | Y28: =SUM(Y10:Z27) -> 0 | AA28: =SUM(AA10:AA27) -> 0 | AB28: =SUM(AB10:AD27) -> 0 | AE28: =SUM(AE10:AG27) -> 0 | AH28: =SUM(AH10:AJ27) -> 0 | AK28: =SUM(AK10:AK27) -> 0
AH29: TOTAL FRAIS :
A30: Signature demandeur : | J30: Signature responsable :
AH31: =AK28 -> 0
A34: Ce document est à compléter en respectant la Charte de remboursement des frais professionnels remise à chaque salarié. En aucun cas il ne s'agit d'un suivi de rapport d'activité quotidienne pour faire valoir un temps de travail. Chaque salarié est prié de faire apparaitre chaque jour de la quinzaine y compris les jours de congés, repos, week ends travaillés pour que la personne en charge de vérifier les notes de frais soit informée et n'ait pas à questionner les salariés sur d'éventuelles dépenses en dehors des jours de travail habituels.
AH36: =IF(AH38="AUCUN JOUR DE FRAIS","AUCUNE DEP",AK28/AL38&" € MOY. DEPENSE(S)/JOUR") -> AUCUNE DEP | AM36: =MAX(AK10:AK27)&" € max. depens./jour" -> 0 € max. depens./jour | AO36: =_xlfn.MINIFS(AK10:AK27,AK10:AK27,">0")&" € min. depens./jour" -> 0 € min. depens./jour
N37: TOTAL CONSO PERSO
N38: =SUM($N$10:$Q$27,'MOIS Ier'!$N$10:$Q$27) -> 0 | AH38: =IF(COUNTIF(AK10:AK27,">0"),COUNTIF(AK10:AK27,">0")&" JOUR(S) DE FRAIS REAL.","AUCUN JOUR DE FRAIS") -> AUCUN JOUR DE FRAIS | AL38: =COUNTIF(AK10:AK27,">0") -> 0
S39: =SUM(N38,N42) -> 0 | V39: =S39 -> 0 | X39: =S39 -> 0
N41: TOTAL INVIT.
N42: =SUM($R$28:$X$28,'MOIS Ier'!$R$28:$X$28) -> 0
AK48: =IF(COUNTIF(AK10:AK27,">0"),COUNTIF(AK10:AK27,">0")&" JOURS DE FRAIS","AUCUN JOUR DE FRAIS") -> AUCUN JOUR DE FRAIS

Sheet INVITATION BUDGET
A1: TOTAL CONSO PERSO | F1: RESTANT MOIS
A2: =SUM('MOIS IInd'!N10:Q27,'MOIS Ier'!$N$10:$Q$27) -> 0 | F2: =80-A2 -> 80
A5: TOTAL INVIT.
A6: =SUM('MOIS IInd'!R10:X27,'MOIS Ier'!$R$28:$X$28) -> 0 | F6: =250-A6 -> 250
A9: =SUM(A2,A6) -> 0 | D9: =A9 -> 0 | F9: =A9 -> 0
