Workbook
Name Liste_CL_Conditionnement: Grille_Tarifs_Modulable!$AA$10:$AA$104
Name Liste_Refs: Grille_Tarifs_Modulable!$T$10:$T$114
Name Segment_Designation: #N/A
Name Segment_Designation1: #N/A
Name Segment_Designation2: #N/A
Name Segment_Nom_produit: #N/A

Sheet TCD_Evol Qte btl par Cde
A3: Étiquettes de lignes | B3: CROISSANCE VOLUMETRIQUE / CDE
A4: 2016 | B4: 85.745948
A5: 2017 | B5: 105.79855
A6: 2018 | B6: 101.17016
A7: 2019 | B7: 121.20808
A8: Total général | B8: 104.78757

Sheet Feuil10
A3: Étiquettes de lignes | B3: Somme de CA_TTC | C3: Somme de CA_HT
A4: 2016 | B4: 11840.4 | C4: 9867
A5: 2017 | B5: 30856.8 | C5: 25714
A6: 2018 | B6: 33368.4 | C6: 27807
A7: 2019 | B7: 48019.2 | C7: 40016
A8: 2020 | B8: 3229.2 | C8: 2691
A9: Total général | B9: 127314 | C9: 106095

Sheet Evol_Volumétrie_Réfs Spi Prio
A3: Étiquettes de lignes | B3: Total distinct de Nu_Cde | C3: Somme de Qte_Unit_btl | D3: CROISSANCE_VOLUMETRIE_PAR_CDE
A4: 2016 | B4: 9 | C4: 69 | D4: 0.46969332
A5: 2017 | B5: 20 | C5: 140.61 | D5: 0.43071899
A6: 2018 | B6: 105 | C6: 1766.62 | D6: 1.0307697
A7: 2019 | B7: 82 | C7: 1761.67 | D7: 1.3161898
A8: 2020 | B8: 13 | D8: 0
A9: Total général | B9: 229 | C9: 3737.9 | D9: 1

Sheet Evol_CA_Réfs Spi Prio
A3: Étiquettes de lignes | B3: Total distinct de Nu_Cde | C3: Somme de CA_TTC | D3: CROISSANCE_CA_PAR_CDE
A4: 2016 | B4: 9 | C4: 1498.61 | D4: 166.51222
A5: 2017 | B5: 20 | C5: 5586.88 | D5: 279.344
A6: 2018 | B6: 105 | C6: 48327.22 | D6: 460.25924
A7: 2019 | B7: 82 | C7: 48787.74 | D7: 594.97244
A8: 2020 | B8: 13 | C8: 13814.89 | D8: 1062.6838
A9: Total général | B9: 229 | C9: 118015.34 | D9: 515.35083

Sheet Evol_Vtes_JGM_TM
A1: Type_Produit | B1: JGR_TM
A3: Étiquettes de lignes | B3: Somme de Qte_commande | C3: Somme de CA_TTC
A4: 2016 | B4: 74 | C4: 18679.2
A5: 2017 | B5: 93 | C5: 32024.4
A6: 2018 | B6: 93 | C6: 33368.4
A7: 2019 | B7: 134 | C7: 48019.2
A8: 2020 | B8: 9 | C8: 3229.2
A9: Total général | B9: 403 | C9: 135320.4

Sheet Evol_CA_Global
A1: Type_Produit | B1: (Plusieurs éléments)
A3: Étiquettes de lignes | B3: Somme de CA_TTC | C3: Somme de CA_TTC2
A4: 2016 | B4: 170146.03 | C4: 0.14520982
A5: 2017 | B5: 195071.88 | C5: 0.16648259
A6: 2018 | B6: 341354.62 | C6: 0.29132647
A7: 2019 | B7: 420799.87 | C7: 0.3591284
A8: 2020 | B8: 44352.99 | C8: 0.037852717
A9: Total général | B9: 1171725.4 | C9: 1

Sheet Feuil1
A3: Somme de Qte_Unit_btl2 | B3: Étiquettes de colonnes
A4: Étiquettes de lignes | B4: Félin Arima sans étui | C4: Meukow 90' boite métal | D4: Meukow Cognac Flavouring regular | E4: Meukow Cognac Flavouring xo | F4: Meukow Vanilla | G4: Meukow VS | H4: Meukow VSOP | I4: Meukow XO Boite Métal | J4: Meukow XO Etui | K4: Meukow XO Grde Champagne Etui | L4: Meukow Xpresso | M4: Bitter Lemon | N4: Cherry Blossom | O4: COGNAC BRUGEROLLE VS | P4: Danzinger Goldwasser | Q4: Elderflower | R4: FRAIS | S4: FREEZER JÄGERMEISTER | T4: Gerin Rouge | U4: Ginger Ale | V4: Gran Reserva | W4: Guerin Blanc | X4: Jägermeister | Y4: Jägermeister distributeur miniatures | Z4: Jägermeister Scharf | AA4: Limoncello di Capri | AB4: LIQUEUR JÄGERMEISTER SPICE | AC4: London Dry Gin | AD4: Mate Mate | AE4: Meukow Extra Coffret | AF4: Mezcal Nuestra Soledad | AG4: Peach | AH4: PINEAU 2 PAYSANS BLANC | AI4: PINEAU 2 PAYSANS ROSE | AJ4: Saar Dry Gin Ferdinand's | AK4: Sambuca Molinari Caffé | AL4: Sambuca Molinari Extra | AM4: Santiago de Cuba Anejo | AN4: Santiago de Cuba, 12 ans | AO4: Santiago de Cuba, 20 ans | AP4: Santiago de Cuba, 25 ans | AQ4: Santiago de Cuba, Carta Blanca | AR4: Seve Feu de Joie | AS4: SHOT GLASSES FREEZER JAGERMEIS | AT4: Soda Water | AU4: Spicy Ginger Beer | AV4: TAP MACHINE JÄGER SPEED POURER | AW4: TAP MACHINE JÄGERMEISTER | AX4: TAP MACHINE JÄGERMEISTER 1 bll | AY4: Tonic Water | AZ4: TRANSPORT | BA4: VERRE SHOOTER JÄGER | BB4: VODKA IMPERIAL GOLD | BC4: WILD TURKEY 101' | BD4: WILD TURKEY 81' | BE4: WILD TURKEY RYE 101' | BF4: Total général
A5: 2016 | F5: 7 | G5: 19 | H5: 6 | L5: 7 | M5: 164.57143 | N5: 27.428571 | O5: 6 | P5: 78 | Q5: 157.71429 | S5: 27 | U5: 54.857143 | X5: 9192.2857 | AA5: 30 | AB5: 24 | AD5: 1871.4286 | AH5: 19.285714 | AI5: 38.571429 | AL5: 14.571429 | AM5: 346.28571 | AQ5: 384.85714 | AR5: 102 | AS5: 14 | AT5: 27.428571 | AU5: 109.71429 | AW5: 33 | AY5: 48 | AZ5: 0 | BB5: 268 | BC5: 126 | BD5: 132 | BF5: 13336
A6: 2017 | B6: 12 | D6: 2.5714286 | E6: 2.5714286 | F6: 11 | G6: 11 | H6: 6 | I6: 3 | L6: 11 | M6: 253.71429 | N6: 164.57143 | O6: 12 | P6: 60 | Q6: 233.14286 | S6: 6 | U6: 260.57143 | X6: 9127.2857 | AA6: 18 | AD6: 2885.7143 | AH6: 6.4285714 | AI6: 45 | AJ6: 68.571429 | AK6: 6 | AL6: 54 | AM6: 282.85714 | AN6: 4 | AO6: 9 | AP6: 1 | AQ6: 611.14286 | AR6: 84 | AS6: 1 | AU6: 1193.1429 | AW6: 86 | AY6: 411.42857 | BA6: 0 | BB6: 260.85714 | BC6: 30 | BD6: 66 | BE6: 8.5714286 | BF6: 16309.143
A7: 2018 | B7: 251 | F7: 422 | G7: 191 | H7: 30 | I7: 33 | L7: 457 | M7: 336 | N7: 219.42857 | P7: 176 | Q7: 226.28571 | U7: 260.57143 | V7: 77 | X7: 14718 | AA7: 42 | AB7: 18 | AC7: 20 | AD7: 2732 | AF7: 38.571429 | AJ7: 243.57143 | AK7: 18 | AL7: 25.714286 | AM7: 1115.1429 | AQ7: 408.85714 | AR7: 522 | AU7: 857.14286 | AW7: 93 | AY7: 1206.8571 | AZ7: 0 | BB7: 6 | BC7: 24 | BE7: 17.142857 | BF7: 24785.286
A8: 2019 | B8: 199 | C8: 24 | F8: 291 | G8: 306 | H8: 75 | I8: 32 | J8: 4.3571429 | K8: 9 | L8: 276 | M8: 178.28571 | N8: 356.57143 | P8: 120 | Q8: 253.71429 | R8: 0 | T8: 19.285714 | U8: 322.28571 | V8: 48 | X8: 19408.714 | Y8: 20.571429 | Z8: 42 | AA8: 138 | AC8: 87 | AD8: 905.14286 | AG8: 9 | AJ8: 181.42857 | AL8: 6 | AM8: 795.42857 | AN8: 1 | AQ8: 264 | AR8: 246 | AU8: 2064 | AV8: 1 | AW8: 16 | AX8: 117 | AY8: 1508.5714 | AZ8: 0 | BB8: 34.285714 | BF8: 28359.643
A9: 2020 | B9: 23 | F9: 13 | G9: 184 | H9: 12 | K9: 3 | L9: 1 | M9: 20.571429 | P9: 51 | T9: 9.6428571 | U9: 27.428571 | V9: 24 | W9: 9.6428571 | X9: 1460.5714 | Y9: 68.571429 | Z9: 48 | AC9: 72 | AE9: 2 | AG9: 48 | AJ9: 34.285714 | AM9: 36 | AQ9: 162.85714 | AR9: 48 | AU9: 130.28571 | AW9: 9 | AY9: 116.57143 | BB9: 8.5714286 | BF9: 2623
A10: Total général | B10: 485 | C10: 24 | D10: 2.5714286 | E10: 2.5714286 | F10: 744 | G10: 711 | H10: 129 | I10: 68 | J10: 4.3571429 | K10: 12 | L10: 752 | M10: 953.14286 | N10: 768 | O10: 18 | P10: 485 | Q10: 870.85714 | R10: 0 | S10: 33 | T10: 28.928571 | U10: 925.71429 | V10: 149 | W10: 9.6428571 | X10: 53906.857 | Y10: 89.142857 | Z10: 90 | AA10: 228 | AB10: 42 | AC10: 179 | AD10: 8394.2857 | AE10: 2 | AF10: 38.571429 | AG10: 57 | AH10: 25.714286 | AI10: 83.571429 | AJ10: 527.85714 | AK10: 24 | AL10: 100.28571 | AM10: 2575.7143 | AN10: 5 | AO10: 9 | AP10: 1 | AQ10: 1831.7143 | AR10: 1002 | AS10: 15 | AT10: 27.428571 | AU10: 4354.2857 | AV10: 1 | AW10: 237 | AX10: 117 | AY10: 3291.4286 | AZ10: 0 | BA10: 0 | BB10: 577.71429 | BC10: 180 | BD10: 198 | BE10: 25.714286 | BF10: 85413.071

Sheet Feuil2
A3: Étiquettes de lignes | B3: Somme de Qte_Unit_btl2
A4: 2020
A5: Bitter Lemon | B5: 20.571429
A6: Danzinger Goldwasser | B6: 51
A7: Félin Arima sans étui | B7: 23
A8: Gerin Rouge | B8: 9.6428571
A9: Ginger Ale | B9: 27.428571
A10: Gran Reserva | B10: 24
A11: Jägermeister | B11: 1460.5714
A12: Jägermeister distributeur miniatures | B12: 68.571429
A13: Jägermeister Scharf | B13: 48
A14: London Dry Gin | B14: 72
A15: Meukow Vanilla | B15: 13
A16: Meukow VS | B16: 184
... A31: Total général | B31: 2623

Sheet Feuil3
A3: Somme de Qte_Unit_btl2 | B3: Étiquettes de colonnes
B4: 2020 | E4: Total général
A5: Étiquettes de lignes | B5: janv | C5: févr | D5: mars
A6: Félin Arima sans étui | C6: 5 | D6: 18 | E6: 23
A7: Meukow Vanilla | C7: 13 | E7: 13
A8: Meukow VS | B8: 156 | C8: 28 | E8: 184
A9: Meukow VSOP | C9: 12 | E9: 12
A10: Meukow XO Grde Champagne Etui | C10: 3 | E10: 3
A11: Meukow Xpresso | C11: 1 | E11: 1
A12: Total général | B12: 156 | C12: 62 | D12: 18 | E12: 236

Sheet MJGES01_00028_2
A1: Date_Cde | B1: Nu_Cde | C1: Tiers_Nom_Ebt | D1: Tiers_ville | E1: Code Ebt | F1: Type ebt | G1: Tarificat° client | H1: Type_Produit | I1: Designation | J1: CL | K1: EAN | L1: Prix_Unit_HT | M1: Prix_Unit_TTC | N1: Qte_commande | O1: CA_HT | P1: CA_TTC | Q1: Qte_Unit_btl | R1: Qte_Unit_btl2
A2: 42381 | B2: 16V01106 | C2: NIGHTWAY | D2: ORLEANS | G2: CHR | H2: JGR_TM | I2: TAP MACHINE JÄGERMEISTER | J2: 3 | K2: {=IFERROR(INDEX(Grille_Tarifs_Modulable!$B$2:$B$204,MATCH(Tableau1[[#This Row],[Designation]]&Tableau1[[#This Row],[CL]],Grille_Tarifs_Modulable!$C$2:$C$204&Grille_Tarifs_Modulable!$F$2:$F$204,0)),0)} -> 121 | L2: =IF(Tableau1[[#This Row],[EAN]]=0,0,INDEX(Grille_Tarifs_Modulable!$B$7:$N$114,MATCH(Tableau1[[#This Row],[EAN]],Grille_Tarifs_Modulable!$B$7:$B$114,0),MATCH(Tableau1[[#This Row],[Tarificat° client]],Grille_Tarifs_Modulable!$7:$7,0)-1)+INDEX(Grille_Tarifs_Modulable!$M$7:$N$114,MATCH(Tableau1[[#This Row],[EAN]],Grille_Tarifs_Modulable!$B$7:$B$114,0),1)+INDEX(Grille_Tarifs_Modulable!$M$7:$N$114,MATCH(Tableau1[[#This Row],[EAN]],Grille_Tarifs_Modulable!$B$7:$B$114,0),2)) -> 299 | M2: =IF(Tableau1[[#This Row],[Prix_Unit_HT]]=0,0,Tableau1[[#This Row],[Prix_Unit_HT]]+(Tableau1[[#This Row],[Prix_Unit_HT]]*VLOOKUP(Tableau1[[#This Row],[EAN]],Grille_Tarifs_Modulable!$B$10:$Q$204,16,FALSE))) -> 358.8 | N2: 2 | O2: =ROUND(Tableau1[[#This Row],[Prix_Unit_HT]],2)*Tableau1[[#This Row],[Qte_commande]] -> 598 | P2: =ROUND(Tableau1[[#This Row],[Prix_Unit_TTC]],2)*Tableau1[[#This Row],[Qte_commande]] -> 717.6 | Q2: 2 | R2: =VALUE(IF(COUNTIF(Tableau1[[#This Row],[Type_Produit]],"*Boisson*"),PRODUCT(Tableau1[[#This Row],[CL]],Tableau1[[#This Row],[Qte_commande]])/100/0.7,IF(COUNTIF(Tableau1[[#This Row],[Type_Produit]],"*JGR*"),Tableau1[[#This Row],[Qte_commande]],0))) -> 2 | S2: =ISNUMBER(Tableau1[[#This Row],[Qte_Unit_btl2]]) -> TRUE
A3: 42384 | B3: 16V01154 | C3: AU BUREAU | D3: TOURS | G3: GROS | H3: Boisson_Spirit | I3: Santiago de Cuba Anejo | J3: 100 | K3: {=IFERROR(INDEX(Grille_Tarifs_Modulable!$B$2:$B$204,MATCH(Tableau1[[#This Row],[Designation]]&Tableau1[[#This Row],[CL]],Grille_Tarifs_Modulable!$C$2:$C$204&Grille_Tarifs_Modulable!$F$2:$F$204,0)),0)} -> 3257150410167 | L3: =IF(Tableau1[[#This Row],[EAN]]=0,0,INDEX(Grille_Tarifs_Modulable!$B$7:$N$114,MATCH(Tableau1[[#This Row],[EAN]],Grille_Tarifs_Modulable!$B$7:$B$114,0),MATCH(Tableau1[[#This Row],[Tarificat° client]],Grille_Tarifs_Modulable!$7:$7,0)-1)+INDEX(Grille_Tarifs_Modulable!$M$7:$N$114,MATCH(Tableau1[[#This Row],[EAN]],Grille_Tarifs_Modulable!$B$7:$B$114,0),1)+INDEX(Grille_Tarifs_Modulable!$M$7:$N$114,MATCH(Tableau1[[#This Row],[EAN]],Grille_Tarifs_Modulable!$B$7:$B$114,0),2)) -> 15.778874 | M3: =IF(Tableau1[[#This Row],[Prix_Unit_HT]]=0,0,Tableau1[[#This Row],[Prix_Unit_HT]]+(Tableau1[[#This Row],[Prix_Unit_HT]]*VLOOKUP(Tableau1[[#This Row],[EAN]],Grille_Tarifs_Modulable!$B$10:$Q$204,16,FALSE))) -> 18.934649 | N3: 48 | O3: =ROUND(Tableau1[[#This Row],[Prix_Unit_HT]],2)*Tableau1[[#This Row],[Qte_commande]] -> 757.44 | P3: =ROUND(Tableau1[[#This Row],[Prix_Unit_TTC]],2)*Tableau1[[#This Row],[Qte_commande]] -> 908.64 | Q3: 68.57 | R3: =VALUE(IF(COUNTIF(Tableau1[[#This Row],[Type_Produit]],"*Boisson*"),PRODUCT(Tableau1[[#This Row],[CL]],Tableau1[[#This Row],[Qte_commande]])/100/0.7,IF(COUNTIF(Tableau1[[#This Row],[Type_Produit]],"*JGR*"),Tableau1[[#This Row],[Qte_commande]],0))) -> 68.571429
A4: 42384 | B4: 16V01175 | C4: SHANNON | D4: ORLEANS | G4: CHR | H4: JGR_TM | I4: TAP MACHINE JÄGERMEISTER | J4: 3 | K4: {=IFERROR(INDEX(Grille_Tarifs_Modulable!$B$2:$B$204,MATCH(Tableau1[[#This Row],[Designation]]&Tableau1[[#This Row],[CL]],Grille_Tarifs_Modulable!$C$2:$C$204&Grille_Tarifs_Modulable!$F$2:$F$204,0)),0)} -> 121 | L4: =IF(Tableau1[[#This Row],[EAN]]=0,0,INDEX(Grille_Tarifs_Modulable!$B$7:$N$114,MATCH(Tableau1[[#This Row],[EAN]],Grille_Tarifs_Modulable!$B$7:$B$114,0),MATCH(Tableau1[[#This Row],[Tarificat° client]],Grille_Tarifs_Modulable!$7:$7,0)-1)+INDEX(Grille_Tarifs_Modulable!$M$7:$N$114,MATCH(Tableau1[[#This Row],[EAN]],Grille_Tarifs_Modulable!$B$7:$B$114,0),1)+INDEX(Grille_Tarifs_Modulable!$M$7:$N$114,MATCH(Tableau1[[#This Row],[EAN]],Grille_Tarifs_Modulable!$B$7:$B$114,0),2)) -> 299 | M4: =IF(Tableau1[[#This Row],[Prix_Unit_HT]]=0,0,Tableau1[[#This Row],[Prix_Unit_HT]]+(Tableau1[[#This Row],[Prix_Unit_HT]]*VLOOKUP(Tableau1[[#This Row],[EAN]],Grille_Tarifs_Modulable!$B$10:$Q$204,16,FALSE))) -> 358.8 | N4: 1 | O4: =ROUND(Tableau1[[#This Row],[Prix_Unit_HT]],2)*Tableau1[[#This Row],[Qte_commande]] -> 299 | P4: =ROUND(Tableau1[[#This Row],[Prix_Unit_TTC]],2)*Tableau1[[#This Row],[Qte_commande]] -> 358.8 | Q4: 1 | R4: =VALUE(IF(COUNTIF(Tableau1[[#This Row],[Type_Produit]],"*Boisson*"),PRODUCT(Tableau1[[#This Row],[CL]],Tableau1[[#This Row],[Qte_commande]])/100/0.7,IF(COUNTIF(Tableau1[[#This Row],[Type_Produit]],"*JGR*"),Tableau1[[#This Row],[Qte_commande]],0))) -> 1
A5: 42390 | B5: 16V01213 | C5: POITOU | D5: CHASSENEUIL DU POITOU | G5: GROS | H5: Boisson_Spirit | I5: Jägermeister | J5: 70 | K5: {=IFERROR(INDEX(Grille_Tarifs_Modulable!$B$2:$B$204,MATCH(Tableau1[[#This Row],[Designation]]&Tableau1[[#This Row],[CL]],Grille_Tarifs_Modulable!$C$2:$C$204&Grille_Tarifs_Modulable!$F$2:$F$204,0)),0)} -> 4067700013859 | L5: =IF(Tableau1[[#This Row],[EAN]]=0,0,INDEX(Grille_Tarifs_Modulable!$B$7:$N$114,MATCH(Tableau1[[#This Row],[EAN]],Grille_Tarifs_Modulable!$B$7:$B$114,0),MATCH(Tableau1[[#This Row],[Tarificat° client]],Grille_Tarifs_Modulable!$7:$7,0)-1)+INDEX(Grille_Tarifs_Modulable!$M$7:$N$114,MATCH(Tableau1[[#This Row],[EAN]],Grille_Tarifs_Modulable!$B$7:$B$114,0),1)+INDEX(Grille_Tarifs_Modulable!$M$7:$N$114,MATCH(Tableau1[[#This Row],[EAN]],Grille_Tarifs_Modulable!$B$7:$B$114,0),2)) -> 12.532563 | M5: =IF(Tableau1[[#This Row],[Prix_Unit_HT]]=0,0,Tableau1[[#This Row],[Prix_Unit_HT]]+(Tableau1[[#This Row],[Prix_Unit_HT]]*VLOOKUP(Tableau1[[#This Row],[EAN]],Grille_Tarifs_Modulable!$B$10:$Q$204,16,FALSE))) -> 15.039076 | N5: 150 | O5: =ROUND(Tableau1[[#This Row],[Prix_Unit_HT]],2)*Tableau1[[#This Row],[Qte_commande]] -> 1879.5 | P5: =ROUND(Tableau1[[#This Row],[Prix_Unit_TTC]],2)*Tableau1[[#This Row],[Qte_commande]] -> 2256 | Q5: 150 | R5: =VALUE(IF(COUNTIF(Tableau1[[#This Row],[Type_Produit]],"*Boisson*"),PRODUCT(Tableau1[[#This Row],[CL]],Tableau1[[#This Row],[Qte_commande]])/100/0.7,IF(COUNTIF(Tableau1[[#This Row],[Type_Produit]],"*JGR*"),Tableau1[[#This Row],[Qte_commande]],0))) -> 150
A6: 42391 | B6: 16V01220 | C6: RLM DISTRI | D6: SAVIGNE | G6: GROS | H6: Boisson_Spirit | I6: Seve Feu de Joie | J6: 70 | K6: {=IFERROR(INDEX(Grille_Tarifs_Modulable!$B$2:$B$204,MATCH(Tableau1[[#This Row],[Designation]]&Tableau1[[#This Row],[CL]],Grille_Tarifs_Modulable!$C$2:$C$204&Grille_Tarifs_Modulable!$F$2:$F$204,0)),0)} -> 3257150688009 | L6: =IF(Tableau1[[#This Row],[EAN]]=0,0,INDEX(Grille_Tarifs_Modulable!$B$7:$N$114,MATCH(Tableau1[[#This Row],[EAN]],Grille_Tarifs_Modulable!$B$7:$B$114,0),MATCH(Tableau1[[#This Row],[Tarificat° client]],Grille_Tarifs_Modulable!$7:$7,0)-1)+INDEX(Grille_Tarifs_Modulable!$M$7:$N$114,MATCH(Tableau1[[#This Row],[EAN]],Grille_Tarifs_Modulable!$B$7:$B$114,0),1)+INDEX(Grille_Tarifs_Modulable!$M$7:$N$114,MATCH(Tableau1[[#This Row],[EAN]],Grille_Tarifs_Modulable!$B$7:$B$114,0),2)) -> 12.556915 | M6: =IF(Tableau1[[#This Row],[Prix_Unit_HT]]=0,0,Tableau1[[#This Row],[Prix_Unit_HT]]+(Tableau1[[#This Row],[Prix_Unit_HT]]*VLOOKUP(Tableau1[[#This Row],[EAN]],Grille_Tarifs_Modulable!$B$10:$Q$204,16,FALSE))) -> 15.068298 | N6: 18 | O6: =ROUND(Tableau1[[#This Row],[Prix_Unit_HT]],2)*Tableau1[[#This Row],[Qte_commande]] -> 226.08 | P6: =ROUND(Tableau1[[#This Row],[Prix_Unit_TTC]],2)*Tableau1[[#This Row],[Qte_commande]] -> 271.26 | Q6: 18 | R6: =VALUE(IF(COUNTIF(Tableau1[[#This Row],[Type_Produit]],"*Boisson*"),PRODUCT(Tableau1[[#This Row],[CL]],Tableau1[[#This Row],[Qte_commande]])/100/0.7,IF(COUNTIF(Tableau1[[#This Row],[Type_Produit]],"*JGR*"),Tableau1[[#This Row],[Qte_commande]],0))) -> 18
A7: 42397 | B7: 16V01311 | C7: SCHOEN | D7: CHATEAUROUX | G7: GROS | H7: Boisson_Spirit | I7: Jägermeister | J7: 175 | K7: {=IFERROR(INDEX(Grille_Tarifs_Modulable!$B$2:$B$204,MATCH(Tableau1[[#This Row],[Designation]]&Tableau1[[#This Row],[CL]],Grille_Tarifs_Modulable!$C$2:$C$204&Grille_Tarifs_Modulable!$F$2:$F$204,0)),0)} -> 4067700013835 | L7: =IF(Tableau1[[#This Row],[EAN]]=0,0,INDEX(Grille_Tarifs_Modulable!$B$7:$N$114,MATCH(Tableau1[[#This Row],[EAN]],Grille_Tarifs_Modulable!$B$7:$B$114,0),MATCH(Tableau1[[#This Row],[Tarificat° client]],Grille_Tarifs_Modulable!$7:$7,0)-1)+INDEX(Grille_Tarifs_Modulable!$M$7:$N$114,MATCH(Tableau1[[#This Row],[EAN]],Grille_Tarifs_Modulable!$B$7:$B$114,0),1)+INDEX(Grille_Tarifs_Modulable!$M$7:$N$114,MATCH(Tableau1[[#This Row],[EAN]],Grille_Tarifs_Modulable!$B$7:$B$114,0),2)) -> 28.916409 | M7: =IF(Tableau1[[#This Row],[Prix_Unit_HT]]=0,0,Tableau1[[#This Row],[Prix_Unit_HT]]+(Tableau1[[#This Row],[Prix_Unit_HT]]*VLOOKUP(Tableau1[[#This Row],[EAN]],Grille_Tarifs_Modulable!$B$10:$Q$204,16,FALSE))) -> 34.699691 | N7: 36 | O7: =ROUND(Tableau1[[#This Row],[Prix_Unit_HT]],2)*Tableau1[[#This Row],[Qte_commande]] -> 1041.12 | P7: =ROUND(Tableau1[[#This Row],[Prix_Unit_TTC]],2)*Tableau1[[#This Row],[Qte_commande]] -> 1249.2 | Q7: 90 | R7: =VALUE(IF(COUNTIF(Tableau1[[#This Row],[Type_Produit]],"*Boisson*"),PRODUCT(Tableau1[[#This Row],[CL]],Tableau1[[#This Row],[Qte_commande]])/100/0.7,IF(COUNTIF(Tableau1[[#This Row],[Type_Produit]],"*JGR*"),Tableau1[[#This Row],[Qte_commande]],0))) -> 90
A8: 42398 | B8: 16V01323 | C8: SCHOEN | D8: JOUE LES TOURS | G8: GROS | H8: Boisson_Spirit | I8: Jägermeister | J8: 70 | K8: {=IFERROR(INDEX(Grille_Tarifs_Modulable!$B$2:$B$204,MATCH(Tableau1[[#This Row],[Designation]]&Tableau1[[#This Row],[CL]],Grille_Tarifs_Modulable!$C$2:$C$204&Grille_Tarifs_Modulable!$F$2:$F$204,0)),0)} -> 4067700013859 | L8: =IF(Tableau1[[#This Row],[EAN]]=0,0,INDEX(Grille_Tarifs_Modulable!$B$7:$N$114,MATCH(Tableau1[[#This Row],[EAN]],Grille_Tarifs_Modulable!$B$7:$B$114,0),MATCH(Tableau1[[#This Row],[Tarificat° client]],Grille_Tarifs_Modulable!$7:$7,0)-1)+INDEX(Grille_Tarifs_Modulable!$M$7:$N$114,MATCH(Tableau1[[#This Row],[EAN]],Grille_Tarifs_Modulable!$B$7:$B$114,0),1)+INDEX(Grille_Tarifs_Modulable!$M$7:$N$114,MATCH(Tableau1[[#This Row],[EAN]],Grille_Tarifs_Modulable!$B$7:$B$114,0),2)) -> 12.532563 | M8: =IF(Tableau1[[#This Row],[Prix_Unit_HT]]=0,0,Tableau1[[#This Row],[Prix_Unit_HT]]+(Tableau1[[#This Row],[Prix_Unit_HT]]*VLOOKUP(Tableau1[[#This Row],[EAN]],Grille_Tarifs_Modulable!$B$10:$Q$204,16,FALSE))) -> 15.039076 | N8: 60 | O8: =ROUND(Tableau1[[#This Row],[Prix_Unit_HT]],2)*Tableau1[[#This Row],[Qte_commande]] -> 751.8 | P8: =ROUND(Tableau1[[#This Row],[Prix_Unit_TTC]],2)*Tableau1[[#This Row],[Qte_commande]] -> 902.4 | Q8: 60 | R8: =VALUE(IF(COUNTIF(Tableau1[[#This Row],[Type_Produit]],"*Boisson*"),PRODUCT(Tableau1[[#This Row],[CL]],Tableau1[[#This Row],[Qte_commande]])/100/0.7,IF(COUNTIF(Tableau1[[#This Row],[Type_Produit]],"*JGR*"),Tableau1[[#This Row],[Qte_commande]],0))) -> 60
A9: 42398 | B9: 16V01324 | C9: PLUMEJEAU | D9: LA POMMERAYE | G9: GROS | H9: Boisson_Spirit | I9: Jägermeister | J9: 70 | K9: {=IFERROR(INDEX(Grille_Tarifs_Modulable!$B$2:$B$204,MATCH(Tableau1[[#This Row],[Designation]]&Tableau1[[#This Row],[CL]],Grille_Tarifs_Modulable!$C$2:$C$204&Grille_Tarifs_Modulable!$F$2:$F$204,0)),0)} -> 4067700013859 | L9: =IF(Tableau1[[#This Row],[EAN]]=0,0,INDEX(Grille_Tarifs_Modulable!$B$7:$N$114,MATCH(Tableau1[[#This Row],[EAN]],Grille_Tarifs_Modulable!$B$7:$B$114,0),MATCH(Tableau1[[#This Row],[Tarificat° client]],Grille_Tarifs_Modulable!$7:$7,0)-1)+INDEX(Grille_Tarifs_Modulable!$M$7:$N$114,MATCH(Tableau1[[#This Row],[EAN]],Grille_Tarifs_Modulable!$B$7:$B$114,0),1)+INDEX(Grille_Tarifs_Modulable!$M$7:$N$114,MATCH(Tableau1[[#This Row],[EAN]],Grille_Tarifs_Modulable!$B$7:$B$114,0),2)) -> 12.532563 | M9: =IF(Tableau1[[#This Row],[Prix_Unit_HT]]=0,0,Tableau1[[#This Row],[Prix_Unit_HT]]+(Tableau1[[#This Row],[Prix_Unit_HT]]*VLOOKUP(Tableau1[[#This Row],[EAN]],Grille_Tarifs_Modulable!$B$10:$Q$204,16,FALSE))) -> 15.039076 | N9: 180 | O9: =ROUND(Tableau1[[#This Row],[Prix_Unit_HT]],2)*Tableau1[[#This Row],[Qte_commande]] -> 2255.4 | P9: =ROUND(Tableau1[[#This Row],[Prix_Unit_TTC]],2)*Tableau1[[#This Row],[Qte_commande]] -> 2707.2 | Q9: 180 | R9: =VALUE(IF(COUNTIF(Tableau1[[#This Row],[Type_Produit]],"*Boisson*"),PRODUCT(Tableau1[[#This Row],[CL]],Tableau1[[#This Row],[Qte_commande]])/100/0.7,IF(COUNTIF(Tableau1[[#This Row],[Type_Produit]],"*JGR*"),Tableau1[[#This Row],[Qte_commande]],0))) -> 180
A10: 42398 | B10: 16V01323 | C10: SCHOEN | D10: JOUE LES TOURS | G10: GROS | H10: Boisson_Spirit | I10: Jägermeister | J10: 100 | K10: {=IFERROR(INDEX(Grille_Tarifs_Modulable!$B$2:$B$204,MATCH(Tableau1[[#This Row],[Designation]]&Tableau1[[#This Row],[CL]],Grille_Tarifs_Modulable!$C$2:$C$204&Grille_Tarifs_Modulable!$F$2:$F$204,0)),0)} -> 4067700013842 | L10: =IF(Tableau1[[#This Row],[EAN]]=0,0,INDEX(Grille_Tarifs_Modulable!$B$7:$N$114,MATCH(Tableau1[[#This Row],[EAN]],Grille_Tarifs_Modulable!$B$7:$B$114,0),MATCH(Tableau1[[#This Row],[Tarificat° client]],Grille_Tarifs_Modulable!$7:$7,0)-1)+INDEX(Grille_Tarifs_Modulable!$M$7:$N$114,MATCH(Tableau1[[#This Row],[EAN]],Grille_Tarifs_Modulable!$B$7:$B$114,0),1)+INDEX(Grille_Tarifs_Modulable!$M$7:$N$114,MATCH(Tableau1[[#This Row],[EAN]],Grille_Tarifs_Modulable!$B$7:$B$114,0),2)) -> 17.100805 | M10: =IF(Tableau1[[#This Row],[Prix_Unit_HT]]=0,0,Tableau1[[#This Row],[Prix_Unit_HT]]+(Tableau1[[#This Row],[Prix_Unit_HT]]*VLOOKUP(Tableau1[[#This Row],[EAN]],Grille_Tarifs_Modulable!$B$10:$Q$204,16,FALSE))) -> 20.520966 | N10: 120 | O10: =ROUND(Tableau1[[#This Row],[Prix_Unit_HT]],2)*Tableau1[[#This Row],[Qte_commande]] -> 2052 | P10: =ROUND(Tableau1[[#This Row],[Prix_Unit_TTC]],2)*Tableau1[[#This Row],[Qte_commande]] -> 2462.4 | Q10: 171.43 | R10: =VALUE(IF(COUNTIF(Tableau1[[#This Row],[Type_Produit]],"*Boisson*"),PRODUCT(Tableau1[[#This Row],[CL]],Tableau1[[#This Row],[Qte_commande]])/100/0.7,IF(COUNTIF(Tableau1[[#This Row],[Type_Produit]],"*JGR*"),Tableau1[[#This Row],[Qte_commande]],0))) -> 171.42857
A11: 42402 | B11: 16V01327 | C11: LE JEAN | D11: CHATEAU RENAULT | G11: CHR | H11: Boisson_Spirit | I11: Jägermeister | J11: 100 | K11: {=IFERROR(INDEX(Grille_Tarifs_Modulable!$B$2:$B$204,MATCH(Tableau1[[#This Row],[Designation]]&Tableau1[[#This Row],[CL]],Grille_Tarifs_Modulable!$C$2:$C$204&Grille_Tarifs_Modulable!$F$2:$F$204,0)),0)} -> 4067700013842 | L11: =IF(Tableau1[[#This Row],[EAN]]=0,0,INDEX(Grille_Tarifs_Modulable!$B$7:$N$114,MATCH(Tableau1[[#This Row],[EAN]],Grille_Tarifs_Modulable!$B$7:$B$114,0),MATCH(Tableau1[[#This Row],[Tarificat° client]],Grille_Tarifs_Modulable!$7:$7,0)-1)+INDEX(Grille_Tarifs_Modulable!$M$7:$N$114,MATCH(Tableau1[[#This Row],[EAN]],Grille_Tarifs_Modulable!$B$7:$B$114,0),1)+INDEX(Grille_Tarifs_Modulable!$M$7:$N$114,MATCH(Tableau1[[#This Row],[EAN]],Grille_Tarifs_Modulable!$B$7:$B$114,0),2)) -> 19.150805 | M11: =IF(Tableau1[[#This Row],[Prix_Unit_HT]]=0,0,Tableau1[[#This Row],[Prix_Unit_HT]]+(Tableau1[[#This Row],[Prix_Unit_HT]]*VLOOKUP(Tableau1[[#This Row],[EAN]],Grille_Tarifs_Modulable!$B$10:$Q$204,16,FALSE))) -> 22.980966 | N11: 30 | O11: =ROUND(Tableau1[[#This Row],[Prix_Unit_HT]],2)*Tableau1[[#This Row],[Qte_commande]] -> 574.5 | P11: =ROUND(Tableau1[[#This Row],[Prix_Unit_TTC]],2)*Tableau1[[#This Row],[Qte_commande]] -> 689.4 | Q11: 42.86 | R11: =VALUE(IF(COUNTIF(Tableau1[[#This Row],[Type_Produit]],"*Boisson*"),PRODUCT(Tableau1[[#This Row],[CL]],Tableau1[[#This Row],[Qte_commande]])/100/0.7,IF(COUNTIF(Tableau1[[#This Row],[Type_Produit]],"*JGR*"),Tableau1[[#This Row],[Qte_commande]],0))) -> 42.857143
A12: 42402 | B12: 16V02016 | C12: PROMOCASH | D12: SAINT PIERRE DES CORPS | G12: GROS | H12: Boisson_Spirit | I12: Jägermeister | J12: 100 | K12: {=IFERROR(INDEX(Grille_Tarifs_Modulable!$B$2:$B$204,MATCH(Tableau1[[#This Row],[Designation]]&Tableau1[[#This Row],[CL]],Grille_Tarifs_Modulable!$C$2:$C$204&Grille_Tarifs_Modulable!$F$2:$F$204,0)),0)} -> 4067700013842 | L12: =IF(Tableau1[[#This Row],[EAN]]=0,0,INDEX(Grille_Tarifs_Modulable!$B$7:$N$114,MATCH(Tableau1[[#This Row],[EAN]],Grille_Tarifs_Modulable!$B$7:$B$114,0),MATCH(Tableau1[[#This Row],[Tarificat° client]],Grille_Tarifs_Modulable!$7:$7,0)-1)+INDEX(Grille_Tarifs_Modulable!$M$7:$N$114,MATCH(Tableau1[[#This Row],[EAN]],Grille_Tarifs_Modulable!$B$7:$B$114,0),1)+INDEX(Grille_Tarifs_Modulable!$M$7:$N$114,MATCH(Tableau1[[#This Row],[EAN]],Grille_Tarifs_Modulable!$B$7:$B$114,0),2)) -> 17.100805 | M12: =IF(Tableau1[[#This Row],[Prix_Unit_HT]]=0,0,Tableau1[[#This Row],[Prix_Unit_HT]]+(Tableau1[[#This Row],[Prix_Unit_HT]]*VLOOKUP(Tableau1[[#This Row],[EAN]],Grille_Tarifs_Modulable!$B$10:$Q$204,16,FALSE))) -> 20.520966 | N12: 120 | O12: =ROUND(Tableau1[[#This Row],[Prix_Unit_HT]],2)*Tableau1[[#This Row],[Qte_commande]] -> 2052 | P12: =ROUND(Tableau1[[#This Row],[Prix_Unit_TTC]],2)*Tableau1[[#This Row],[Qte_commande]] -> 2462.4 | Q12: 171.43 | R12: =VALUE(IF(COUNTIF(Tableau1[[#This Row],[Type_Produit]],"*Boisson*"),PRODUCT(Tableau1[[#This Row],[CL]],Tableau1[[#This Row],[Qte_commande]])/100/0.7,IF(COUNTIF(Tableau1[[#This Row],[Type_Produit]],"*JGR*"),Tableau1[[#This Row],[Qte_commande]],0))) -> 171.42857
A13: 42402 | B13: 16V01327 | C13: LE JEAN | D13: CHATEAU RENAULT | G13: CHR | H13: Boisson_Spirit | I13: Santiago de Cuba Anejo | J13: 70 | K13: {=IFERROR(INDEX(Grille_Tarifs_Modulable!$B$2:$B$204,MATCH(Tableau1[[#This Row],[Designation]]&Tableau1[[#This Row],[CL]],Grille_Tarifs_Modulable!$C$2:$C$204&Grille_Tarifs_Modulable!$F$2:$F$204,0)),0)} -> 8500000917015 | L13: =IF(Tableau1[[#This Row],[EAN]]=0,0,INDEX(Grille_Tarifs_Modulable!$B$7:$N$114,MATCH(Tableau1[[#This Row],[EAN]],Grille_Tarifs_Modulable!$B$7:$B$114,0),MATCH(Tableau1[[#This Row],[Tarificat° client]],Grille_Tarifs_Modulable!$7:$7,0)-1)+INDEX(Grille_Tarifs_Modulable!$M$7:$N$114,MATCH(Tableau1[[#This Row],[EAN]],Grille_Tarifs_Modulable!$B$7:$B$114,0),1)+INDEX(Grille_Tarifs_Modulable!$M$7:$N$114,MATCH(Tableau1[[#This Row],[EAN]],Grille_Tarifs_Modulable!$B$7:$B$114,0),2)) -> 12.738212 | M13: =IF(Tableau1[[#This Row],[Prix_Unit_HT]]=0,0,Tableau1[[#This Row],[Prix_Unit_HT]]+(Tableau1[[#This Row],[Prix_Unit_HT]]*VLOOKUP(Tableau1[[#This Row],[EAN]],Grille_Tarifs_Modulable!$B$10:$Q$204,16,FALSE))) -> 15.285854 | N13: 6 | O13: =ROUND(Tableau1[[#This Row],[Prix_Unit_HT]],2)*Tableau1[[#This Row],[Qte_commande]] -> 76.44 | P13: =ROUND(Tableau1[[#This Row],[Prix_Unit_TTC]],2)*Tableau1[[#This Row],[Qte_commande]] -> 91.74 | Q13: 6 | R13: =VALUE(IF(COUNTIF(Tableau1[[#This Row],[Type_Produit]],"*Boisson*"),PRODUCT(Tableau1[[#This Row],[CL]],Tableau1[[#This Row],[Qte_commande]])/100/0.7,IF(COUNTIF(Tableau1[[#This Row],[Type_Produit]],"*JGR*"),Tableau1[[#This Row],[Qte_commande]],0))) -> 6
A14: 42402 | B14: 16V01327 | C14: LE JEAN | D14: CHATEAU RENAULT | G14: CHR | H14: Boisson_Spirit | I14: WILD TURKEY 101' | J14: 70 | K14: {=IFERROR(INDEX(Grille_Tarifs_Modulable!$B$2:$B$204,MATCH(Tableau1[[#This Row],[Designation]]&Tableau1[[#This Row],[CL]],Grille_Tarifs_Modulable!$C$2:$C$204&Grille_Tarifs_Modulable!$F$2:$F$204,0)),0)} -> 0 | L14: =IF(Tableau1[[#This Row],[EAN]]=0,0,INDEX(Grille_Tarifs_Modulable!$B$7:$N$114,MATCH(Tableau1[[#This Row],[EAN]],Grille_Tarifs_Modulable!$B$7:$B$114,0),MATCH(Tableau1[[#This Row],[Tarificat° client]],Grille_Tarifs_Modulable!$7:$7,0)-1)+INDEX(Grille_Tarifs_Modulable!$M$7:$N$114,MATCH(Tableau1[[#This Row],[EAN]],Grille_Tarifs_Modulable!$B$7:$B$114,0),1)+INDEX(Grille_Tarifs_Modulable!$M$7:$N$114,MATCH(Tableau1[[#This Row],[EAN]],Grille_Tarifs_Modulable!$B$7:$B$114,0),2)) -> 0 | M14: =IF(Tableau1[[#This Row],[Prix_Unit_HT]]=0,0,Tableau1[[#This Row],[Prix_Unit_HT]]+(Tableau1[[#This Row],[Prix_Unit_HT]]*VLOOKUP(Tableau1[[#This Row],[EAN]],Grille_Tarifs_Modulable!$B$10:$Q$204,16,FALSE))) -> 0 | N14: 6 | O14: =ROUND(Tableau1[[#This Row],[Prix_Unit_HT]],2)*Tableau1[[#This Row],[Qte_commande]] -> 0 | P14: =ROUND(Tableau1[[#This Row],[Prix_Unit_TTC]],2)*Tableau1[[#This Row],[Qte_commande]] -> 0 | Q14: 6 | R14: =VALUE(IF(COUNTIF(Tableau1[[#This Row],[Type_Produit]],"*Boisson*"),PRODUCT(Tableau1[[#This Row],[CL]],Tableau1[[#This Row],[Qte_commande]])/100/0.7,IF(COUNTIF(Tableau1[[#This Row],[Type_Produit]],"*JGR*"),Tableau1[[#This Row],[Qte_commande]],0))) -> 6
... A23: 42410 | B23: 16V02116 | C23: POITOU | D23: CHASSENEUIL DU POITOU | G23: GROS | H23: Boisson_Spirit | I23: Jägermeister | J23: 70 | K23: {=IFERROR(INDEX(Grille_Tarifs_Modulable!$B$2:$B$204,MATCH(Tableau1[[#This Row],[Designation]]&Tableau1[[#This Row],[CL]],Grille_Tarifs_Modulable!$C$2:$C$204&Grille_Tarifs_Modulable!$F$2:$F$204,0)),0)} -> 4067700013859 | L23: =IF(Tableau1[[#This Row],[EAN]]=0,0,INDEX(Grille_Tarifs_Modulable!$B$7:$N$114,MATCH(Tableau1[[#This Row],[EAN]],Grille_Tarifs_Modulable!$B$7:$B$114,0),MATCH(Tableau1[[#This Row],[Tarificat° client]],Grille_Tarifs_Modulable!$7:$7,0)-1)+INDEX(Grille_Tarifs_Modulable!$M$7:$N$114,MATCH(Tableau1[[#This Row],[EAN]],Grille_Tarifs_Modulable!$B$7:$B$114,0),1)+INDEX(Grille_Tarifs_Modulable!$M$7:$N$114,MATCH(Tableau1[[#This Row],[EAN]],Grille_Tarifs_Modulable!$B$7:$B$114,0),2)) -> 12.532563 | M23: =IF(Tableau1[[#This Row],[Prix_Unit_HT]]=0,0,Tableau1[[#This Row],[Prix_Unit_HT]]+(Tableau1[[#This Row],[Prix_Unit_HT]]*VLOOKUP(Tableau1[[#This Row],[EAN]],Grille_Tarifs_Modulable!$B$10:$Q$204,16,FALSE))) -> 15.039076 | N23: 150 | O23: =ROUND(Tableau1[[#This Row],[Prix_Unit_HT]],2)*Tableau1[[#This Row],[Qte_commande]] -> 1879.5 | P23: =ROUND(Tableau1[[#This Row],[Prix_Unit_TTC]],2)*Tableau1[[#This Row],[Qte_commande]] -> 2256 | Q23: 150 | R23: =VALUE(IF(COUNTIF(Tableau1[[#This Row],[Type_Produit]],"*Boisson*"),PRODUCT(Tableau1[[#This Row],[CL]],Tableau1[[#This Row],[Qte_commande]])/100/0.7,IF(COUNTIF(Tableau1[[#This Row],[Type_Produit]],"*JGR*"),Tableau1[[#This Row],[Qte_commande]],0))) -> 150
A24: 42416 | B24: 16V02226 | C24: DIAMS TONIC | D24: JALLAIS | F24: CHR_CLUB | G24: CHR | H24: Boisson_Spirit | I24: Jägermeister | J24: 175 | K24: {=IFERROR(INDEX(Grille_Tarifs_Modulable!$B$2:$B$204,MATCH(Tableau1[[#This Row],[Designation]]&Tableau1[[#This Row],[CL]],Grille_Tarifs_Modulable!$C$2:$C$204&Grille_Tarifs_Modulable!$F$2:$F$204,0)),0)} -> 4067700013835 | L24: =IF(Tableau1[[#This Row],[EAN]]=0,0,INDEX(Grille_Tarifs_Modulable!$B$7:$N$114,MATCH(Tableau1[[#This Row],[EAN]],Grille_Tarifs_Modulable!$B$7:$B$114,0),MATCH(Tableau1[[#This Row],[Tarificat° client]],Grille_Tarifs_Modulable!$7:$7,0)-1)+INDEX(Grille_Tarifs_Modulable!$M$7:$N$114,MATCH(Tableau1[[#This Row],[EAN]],Grille_Tarifs_Modulable!$B$7:$B$114,0),1)+INDEX(Grille_Tarifs_Modulable!$M$7:$N$114,MATCH(Tableau1[[#This Row],[EAN]],Grille_Tarifs_Modulable!$B$7:$B$114,0),2)) -> 32.266409 | M24: =IF(Tableau1[[#This Row],[Prix_Unit_HT]]=0,0,Tableau1[[#This Row],[Prix_Unit_HT]]+(Tableau1[[#This Row],[Prix_Unit_HT]]*VLOOKUP(Tableau1[[#This Row],[EAN]],Grille_Tarifs_Modulable!$B$10:$Q$204,16,FALSE))) -> 38.71969 | N24: 36 | O24: =ROUND(Tableau1[[#This Row],[Prix_Unit_HT]],2)*Tableau1[[#This Row],[Qte_commande]] -> 1161.72 | P24: =ROUND(Tableau1[[#This Row],[Prix_Unit_TTC]],2)*Tableau1[[#This Row],[Qte_commande]] -> 1393.92 | Q24: 90 | R24: =VALUE(IF(COUNTIF(Tableau1[[#This Row],[Type_Produit]],"*Boisson*"),PRODUCT(Tableau1[[#This Row],[CL]],Tableau1[[#This Row],[Qte_commande]])/100/0.7,IF(COUNTIF(Tableau1[[#This Row],[Type_Produit]],"*JGR*"),Tableau1[[#This Row],[Qte_commande]],0))) -> 90
A25: 42419 | B25: 16V02310 | C25: DIAMS TONIC | D25: JALLAIS | F25: CHR_CLUB | G25: CHR | H25: Boisson_Spirit | I25: Jägermeister | J25: 175 | K25: {=IFERROR(INDEX(Grille_Tarifs_Modulable!$B$2:$B$204,MATCH(Tableau1[[#This Row],[Designation]]&Tableau1[[#This Row],[CL]],Grille_Tarifs_Modulable!$C$2:$C$204&Grille_Tarifs_Modulable!$F$2:$F$204,0)),0)} -> 4067700013835 | L25: =IF(Tableau1[[#This Row],[EAN]]=0,0,INDEX(Grille_Tarifs_Modulable!$B$7:$N$114,MATCH(Tableau1[[#This Row],[EAN]],Grille_Tarifs_Modulable!$B$7:$B$114,0),MATCH(Tableau1[[#This Row],[Tarificat° client]],Grille_Tarifs_Modulable!$7:$7,0)-1)+INDEX(Grille_Tarifs_Modulable!$M$7:$N$114,MATCH(Tableau1[[#This Row],[EAN]],Grille_Tarifs_Modulable!$B$7:$B$114,0),1)+INDEX(Grille_Tarifs_Modulable!$M$7:$N$114,MATCH(Tableau1[[#This Row],[EAN]],Grille_Tarifs_Modulable!$B$7:$B$114,0),2)) -> 32.266409 | M25: =IF(Tableau1[[#This Row],[Prix_Unit_HT]]=0,0,Tableau1[[#This Row],[Prix_Unit_HT]]+(Tableau1[[#This Row],[Prix_Unit_HT]]*VLOOKUP(Tableau1[[#This Row],[EAN]],Grille_Tarifs_Modulable!$B$10:$Q$204,16,FALSE))) -> 38.71969 | N25: 36 | O25: =ROUND(Tableau1[[#This Row],[Prix_Unit_HT]],2)*Tableau1[[#This Row],[Qte_commande]] -> 1161.72 | P25: =ROUND(Tableau1[[#This Row],[Prix_Unit_TTC]],2)*Tableau1[[#This Row],[Qte_commande]] -> 1393.92 | Q25: 90 | R25: =VALUE(IF(COUNTIF(Tableau1[[#This Row],[Type_Produit]],"*Boisson*"),PRODUCT(Tableau1[[#This Row],[CL]],Tableau1[[#This Row],[Qte_commande]])/100/0.7,IF(COUNTIF(Tableau1[[#This Row],[Type_Produit]],"*JGR*"),Tableau1[[#This Row],[Qte_commande]],0))) -> 90
A26: 42419 | B26: 16V02265 | C26: NIGHT WAY | D26: SARAN | G26: CHR | H26: Boisson_Spirit | I26: VODKA IMPERIAL GOLD | J26: 70 | K26: {=IFERROR(INDEX(Grille_Tarifs_Modulable!$B$2:$B$204,MATCH(Tableau1[[#This Row],[Designation]]&Tableau1[[#This Row],[CL]],Grille_Tarifs_Modulable!$C$2:$C$204&Grille_Tarifs_Modulable!$F$2:$F$204,0)),0)} -> 0 | L26: =IF(Tableau1[[#This Row],[EAN]]=0,0,INDEX(Grille_Tarifs_Modulable!$B$7:$N$114,MATCH(Tableau1[[#This Row],[EAN]],Grille_Tarifs_Modulable!$B$7:$B$114,0),MATCH(Tableau1[[#This Row],[Tarificat° client]],Grille_Tarifs_Modulable!$7:$7,0)-1)+INDEX(Grille_Tarifs_Modulable!$M$7:$N$114,MATCH(Tableau1[[#This Row],[EAN]],Grille_Tarifs_Modulable!$B$7:$B$114,0),1)+INDEX(Grille_Tarifs_Modulable!$M$7:$N$114,MATCH(Tableau1[[#This Row],[EAN]],Grille_Tarifs_Modulable!$B$7:$B$114,0),2)) -> 0 | M26: =IF(Tableau1[[#This Row],[Prix_Unit_HT]]=0,0,Tableau1[[#This Row],[Prix_Unit_HT]]+(Tableau1[[#This Row],[Prix_Unit_HT]]*VLOOKUP(Tableau1[[#This Row],[EAN]],Grille_Tarifs_Modulable!$B$10:$Q$204,16,FALSE))) -> 0 | N26: 18 | O26: =ROUND(Tableau1[[#This Row],[Prix_Unit_HT]],2)*Tableau1[[#This Row],[Qte_commande]] -> 0 | P26: =ROUND(Tableau1[[#This Row],[Prix_Unit_TTC]],2)*Tableau1[[#This Row],[Qte_commande]] -> 0 | Q26: 18 | R26: =VALUE(IF(COUNTIF(Tableau1[[#This Row],[Type_Produit]],"*Boisson*"),PRODUCT(Tableau1[[#This Row],[CL]],Tableau1[[#This Row],[Qte_commande]])/100/0.7,IF(COUNTIF(Tableau1[[#This Row],[Type_Produit]],"*JGR*"),Tableau1[[#This Row],[Qte_commande]],0))) -> 18
A27: 42419 | B27: 16V02265 | C27: NIGHT WAY | D27: SARAN | G27: CHR | H27: Boisson_Spirit | I27: VODKA IMPERIAL GOLD | J27: 175 | K27: {=IFERROR(INDEX(Grille_Tarifs_Modulable!$B$2:$B$204,MATCH(Tableau1[[#This Row],[Designation]]&Tableau1[[#This Row],[CL]],Grille_Tarifs_Modulable!$C$2:$C$204&Grille_Tarifs_Modulable!$F$2:$F$204,0)),0)} -> 0 | L27: =IF(Tableau1[[#This Row],[EAN]]=0,0,INDEX(Grille_Tarifs_Modulable!$B$7:$N$114,MATCH(Tableau1[[#This Row],[EAN]],Grille_Tarifs_Modulable!$B$7:$B$114,0),MATCH(Tableau1[[#This Row],[Tarificat° client]],Grille_Tarifs_Modulable!$7:$7,0)-1)+INDEX(Grille_Tarifs_Modulable!$M$7:$N$114,MATCH(Tableau1[[#This Row],[EAN]],Grille_Tarifs_Modulable!$B$7:$B$114,0),1)+INDEX(Grille_Tarifs_Modulable!$M$7:$N$114,MATCH(Tableau1[[#This Row],[EAN]],Grille_Tarifs_Modulable!$B$7:$B$114,0),2)) -> 0 | M27: =IF(Tableau1[[#This Row],[Prix_Unit_HT]]=0,0,Tableau1[[#This Row],[Prix_Unit_HT]]+(Tableau1[[#This Row],[Prix_Unit_HT]]*VLOOKUP(Tableau1[[#This Row],[EAN]],Grille_Tarifs_Modulable!$B$10:$Q$204,16,FALSE))) -> 0 | N27: 4 | O27: =ROUND(Tableau1[[#This Row],[Prix_Unit_HT]],2)*Tableau1[[#This Row],[Qte_commande]] -> 0 | P27: =ROUND(Tableau1[[#This Row],[Prix_Unit_TTC]],2)*Tableau1[[#This Row],[Qte_commande]] -> 0 | Q27: 10 | R27: =VALUE(IF(COUNTIF(Tableau1[[#This Row],[Type_Produit]],"*Boisson*"),PRODUCT(Tableau1[[#This Row],[CL]],Tableau1[[#This Row],[Qte_commande]])/100/0.7,IF(COUNTIF(Tableau1[[#This Row],[Type_Produit]],"*JGR*"),Tableau1[[#This Row],[Qte_commande]],0))) -> 10
A28: 42419 | B28: 16V02265 | C28: NIGHT WAY | D28: SARAN | G28: CHR | H28: Boisson_Spirit | I28: VODKA IMPERIAL GOLD | J28: 600 | K28: {=IFERROR(INDEX(Grille_Tarifs_Modulable!$B$2:$B$204,MATCH(Tableau1[[#This Row],[Designation]]&Tableau1[[#This Row],[CL]],Grille_Tarifs_Modulable!$C$2:$C$204&Grille_Tarifs_Modulable!$F$2:$F$204,0)),0)} -> 0 | L28: =IF(Tableau1[[#This Row],[EAN]]=0,0,INDEX(Grille_Tarifs_Modulable!$B$7:$N$114,MATCH(Tableau1[[#This Row],[EAN]],Grille_Tarifs_Modulable!$B$7:$B$114,0),MATCH(Tableau1[[#This Row],[Tarificat° client]],Grille_Tarifs_Modulable!$7:$7,0)-1)+INDEX(Grille_Tarifs_Modulable!$M$7:$N$114,MATCH(Tableau1[[#This Row],[EAN]],Grille_Tarifs_Modulable!$B$7:$B$114,0),1)+INDEX(Grille_Tarifs_Modulable!$M$7:$N$114,MATCH(Tableau1[[#This Row],[EAN]],Grille_Tarifs_Modulable!$B$7:$B$114,0),2)) -> 0 | M28: =IF(Tableau1[[#This Row],[Prix_Unit_HT]]=0,0,Tableau1[[#This Row],[Prix_Unit_HT]]+(Tableau1[[#This Row],[Prix_Unit_HT]]*VLOOKUP(Tableau1[[#This Row],[EAN]],Grille_Tarifs_Modulable!$B$10:$Q$204,16,FALSE))) -> 0 | N28: 1 | O28: =ROUND(Tableau1[[#This Row],[Prix_Unit_HT]],2)*Tableau1[[#This Row],[Qte_commande]] -> 0 | P28: =ROUND(Tableau1[[#This Row],[Prix_Unit_TTC]],2)*Tableau1[[#This Row],[Qte_commande]] -> 0 | Q28: 8.57 | R28: =VALUE(IF(COUNTIF(Tableau1[[#This Row],[Type_Produit]],"*Boisson*"),PRODUCT(Tableau1[[#This Row],[CL]],Tableau1[[#This Row],[Qte_commande]])/100/0.7,IF(COUNTIF(Tableau1[[#This Row],[Type_Produit]],"*JGR*"),Tableau1[[#This Row],[Qte_commande]],0))) -> 8.5714286
A29: 42422 | B29: 16V02335 | C29: DIAMS TONIC | D29: JALLAIS | F29: CHR_CLUB | G29: CHR | H29: Boisson_Spirit | I29: Jägermeister | J29: 175 | K29: {=IFERROR(INDEX(Grille_Tarifs_Modulable!$B$2:$B$204,MATCH(Tableau1[[#This Row],[Designation]]&Tableau1[[#This Row],[CL]],Grille_Tarifs_Modulable!$C$2:$C$204&Grille_Tarifs_Modulable!$F$2:$F$204,0)),0)} -> 4067700013835 | L29: =IF(Tableau1[[#This Row],[EAN]]=0,0,INDEX(Grille_Tarifs_Modulable!$B$7:$N$114,MATCH(Tableau1[[#This Row],[EAN]],Grille_Tarifs_Modulable!$B$7:$B$114,0),MATCH(Tableau1[[#This Row],[Tarificat° client]],Grille_Tarifs_Modulable!$7:$7,0)-1)+INDEX(Grille_Tarifs_Modulable!$M$7:$N$114,MATCH(Tableau1[[#This Row],[EAN]],Grille_Tarifs_Modulable!$B$7:$B$114,0),1)+INDEX(Grille_Tarifs_Modulable!$M$7:$N$114,MATCH(Tableau1[[#This Row],[EAN]],Grille_Tarifs_Modulable!$B$7:$B$114,0),2)) -> 32.266409 | M29: =IF(Tableau1[[#This Row],[Prix_Unit_HT]]=0,0,Tableau1[[#This Row],[Prix_Unit_HT]]+(Tableau1[[#This Row],[Prix_Unit_HT]]*VLOOKUP(Tableau1[[#This Row],[EAN]],Grille_Tarifs_Modulable!$B$10:$Q$204,16,FALSE))) -> 38.71969 | N29: -24 | O29: =ROUND(Tableau1[[#This Row],[Prix_Unit_HT]],2)*Tableau1[[#This Row],[Qte_commande]] -> -774.48 | P29: =ROUND(Tableau1[[#This Row],[Prix_Unit_TTC]],2)*Tableau1[[#This Row],[Qte_commande]] -> -929.28 | Q29: -60 | R29: =VALUE(IF(COUNTIF(Tableau1[[#This Row],[Type_Produit]],"*Boisson*"),PRODUCT(Tableau1[[#This Row],[CL]],Tableau1[[#This Row],[Qte_commande]])/100/0.7,IF(COUNTIF(Tableau1[[#This Row],[Type_Produit]],"*JGR*"),Tableau1[[#This Row],[Qte_commande]],0))) -> -60
A30: 42422 | B30: 16V02336 | C30: DIAMS TONIC | D30: JALLAIS | F30: CHR_CLUB | G30: CHR | H30: Boisson_Spirit | I30: Jägermeister | J30: 175 | K30: {=IFERROR(INDEX(Grille_Tarifs_Modulable!$B$2:$B$204,MATCH(Tableau1[[#This Row],[Designation]]&Tableau1[[#This Row],[CL]],Grille_Tarifs_Modulable!$C$2:$C$204&Grille_Tarifs_Modulable!$F$2:$F$204,0)),0)} -> 4067700013835 | L30: =IF(Tableau1[[#This Row],[EAN]]=0,0,INDEX(Grille_Tarifs_Modulable!$B$7:$N$114,MATCH(Tableau1[[#This Row],[EAN]],Grille_Tarifs_Modulable!$B$7:$B$114,0),MATCH(Tableau1[[#This Row],[Tarificat° client]],Grille_Tarifs_Modulable!$7:$7,0)-1)+INDEX(Grille_Tarifs_Modulable!$M$7:$N$114,MATCH(Tableau1[[#This Row],[EAN]],Grille_Tarifs_Modulable!$B$7:$B$114,0),1)+INDEX(Grille_Tarifs_Modulable!$M$7:$N$114,MATCH(Tableau1[[#This Row],[EAN]],Grille_Tarifs_Modulable!$B$7:$B$114,0),2)) -> 32.266409 | M30: =IF(Tableau1[[#This Row],[Prix_Unit_HT]]=0,0,Tableau1[[#This Row],[Prix_Unit_HT]]+(Tableau1[[#This Row],[Prix_Unit_HT]]*VLOOKUP(Tableau1[[#This Row],[EAN]],Grille_Tarifs_Modulable!$B$10:$Q$204,16,FALSE))) -> 38.71969 | N30: 0 | O30: =ROUND(Tableau1[[#This Row],[Prix_Unit_HT]],2)*Tableau1[[#This Row],[Qte_commande]] -> 0 | P30: =ROUND(Tableau1[[#This Row],[Prix_Unit_TTC]],2)*Tableau1[[#This Row],[Qte_commande]] -> 0 | Q30: 0 | R30: =VALUE(IF(COUNTIF(Tableau1[[#This Row],[Type_Produit]],"*Boisson*"),PRODUCT(Tableau1[[#This Row],[CL]],Tableau1[[#This Row],[Qte_commande]])/100/0.7,IF(COUNTIF(Tableau1[[#This Row],[Type_Produit]],"*JGR*"),Tableau1[[#This Row],[Qte_commande]],0))) -> 0
A31: 42422 | B31: 16V02335 | C31: DIAMS TONIC | D31: JALLAIS | F31: CHR_CLUB | G31: CHR | H31: Boisson_Spirit | I31: Jägermeister | J31: 175 | K31: {=IFERROR(INDEX(Grille_Tarifs_Modulable!$B$2:$B$204,MATCH(Tableau1[[#This Row],[Designation]]&Tableau1[[#This Row],[CL]],Grille_Tarifs_Modulable!$C$2:$C$204&Grille_Tarifs_Modulable!$F$2:$F$204,0)),0)} -> 4067700013835 | L31: =IF(Tableau1[[#This Row],[EAN]]=0,0,INDEX(Grille_Tarifs_Modulable!$B$7:$N$114,MATCH(Tableau1[[#This Row],[EAN]],Grille_Tarifs_Modulable!$B$7:$B$114,0),MATCH(Tableau1[[#This Row],[Tarificat° client]],Grille_Tarifs_Modulable!$7:$7,0)-1)+INDEX(Grille_Tarifs_Modulable!$M$7:$N$114,MATCH(Tableau1[[#This Row],[EAN]],Grille_Tarifs_Modulable!$B$7:$B$114,0),1)+INDEX(Grille_Tarifs_Modulable!$M$7:$N$114,MATCH(Tableau1[[#This Row],[EAN]],Grille_Tarifs_Modulable!$B$7:$B$114,0),2)) -> 32.266409 | M31: =IF(Tableau1[[#This Row],[Prix_Unit_HT]]=0,0,Tableau1[[#This Row],[Prix_Unit_HT]]+(Tableau1[[#This Row],[Prix_Unit_HT]]*VLOOKUP(Tableau1[[#This Row],[EAN]],Grille_Tarifs_Modulable!$B$10:$Q$204,16,FALSE))) -> 38.71969 | N31: -4 | O31: =ROUND(Tableau1[[#This Row],[Prix_Unit_HT]],2)*Tableau1[[#This Row],[Qte_commande]] -> -129.08 | P31: =ROUND(Tableau1[[#This Row],[Prix_Unit_TTC]],2)*Tableau1[[#This Row],[Qte_commande]] -> -154.88 | Q31: -10 | R31: =VALUE(IF(COUNTIF(Tableau1[[#This Row],[Type_Produit]],"*Boisson*"),PRODUCT(Tableau1[[#This Row],[CL]],Tableau1[[#This Row],[Qte_commande]])/100/0.7,IF(COUNTIF(Tableau1[[#This Row],[Type_Produit]],"*JGR*"),Tableau1[[#This Row],[Qte_commande]],0))) -> -10
A32: 42422 | B32: 16V02336 | C32: DIAMS TONIC | D32: JALLAIS | F32: CHR_CLUB | G32: CHR | H32: Boisson_Spirit | I32: Jägermeister | J32: 175 | K32: {=IFERROR(INDEX(Grille_Tarifs_Modulable!$B$2:$B$204,MATCH(Tableau1[[#This Row],[Designation]]&Tableau1[[#This Row],[CL]],Grille_Tarifs_Modulable!$C$2:$C$204&Grille_Tarifs_Modulable!$F$2:$F$204,0)),0)} -> 4067700013835 | L32: =IF(Tableau1[[#This Row],[EAN]]=0,0,INDEX(Grille_Tarifs_Modulable!$B$7:$N$114,MATCH(Tableau1[[#This Row],[EAN]],Grille_Tarifs_Modulable!$B$7:$B$114,0),MATCH(Tableau1[[#This Row],[Tarificat° client]],Grille_Tarifs_Modulable!$7:$7,0)-1)+INDEX(Grille_Tarifs_Modulable!$M$7:$N$114,MATCH(Tableau1[[#This Row],[EAN]],Grille_Tarifs_Modulable!$B$7:$B$114,0),1)+INDEX(Grille_Tarifs_Modulable!$M$7:$N$114,MATCH(Tableau1[[#This Row],[EAN]],Grille_Tarifs_Modulable!$B$7:$B$114,0),2)) -> 32.266409 | M32: =IF(Tableau1[[#This Row],[Prix_Unit_HT]]=0,0,Tableau1[[#This Row],[Prix_Unit_HT]]+(Tableau1[[#This Row],[Prix_Unit_HT]]*VLOOKUP(Tableau1[[#This Row],[EAN]],Grille_Tarifs_Modulable!$B$10:$Q$204,16,FALSE))) -> 38.71969 | N32: 0 | O32: =ROUND(Tableau1[[#This Row],[Prix_Unit_HT]],2)*Tableau1[[#This Row],[Qte_commande]] -> 0 | P32: =ROUND(Tableau1[[#This Row],[Prix_Unit_TTC]],2)*Tableau1[[#This Row],[Qte_commande]] -> 0 | Q32: 0 | R32: =VALUE(IF(COUNTIF(Tableau1[[#This Row],[Type_Produit]],"*Boisson*"),PRODUCT(Tableau1[[#This Row],[CL]],Tableau1[[#This Row],[Qte_commande]])/100/0.7,IF(COUNTIF(Tableau1[[#This Row],[Type_Produit]],"*JGR*"),Tableau1[[#This Row],[Qte_commande]],0))) -> 0
A33: 42424 | B33: 16V02367 | C33: WALLABY | D33: ANGERS | G33: CHR | H33: Boisson_Spirit | I33: Danzinger Goldwasser | J33: 70 | K33: {=IFERROR(INDEX(Grille_Tarifs_Modulable!$B$2:$B$204,MATCH(Tableau1[[#This Row],[Designation]]&Tableau1[[#This Row],[CL]],Grille_Tarifs_Modulable!$C$2:$C$204&Grille_Tarifs_Modulable!$F$2:$F$204,0)),0)} -> 4055800060200 | L33: =IF(Tableau1[[#This Row],[EAN]]=0,0,INDEX(Grille_Tarifs_Modulable!$B$7:$N$114,MATCH(Tableau1[[#This Row],[EAN]],Grille_Tarifs_Modulable!$B$7:$B$114,0),MATCH(Tableau1[[#This Row],[Tarificat° client]],Grille_Tarifs_Modulable!$7:$7,0)-1)+INDEX(Grille_Tarifs_Modulable!$M$7:$N$114,MATCH(Tableau1[[#This Row],[EAN]],Grille_Tarifs_Modulable!$B$7:$B$114,0),1)+INDEX(Grille_Tarifs_Modulable!$M$7:$N$114,MATCH(Tableau1[[#This Row],[EAN]],Grille_Tarifs_Modulable!$B$7:$B$114,0),2)) -> 18.588644 | M33: =IF(Tableau1[[#This Row],[Prix_Unit_HT]]=0,0,Tableau1[[#This Row],[Prix_Unit_HT]]+(Tableau1[[#This Row],[Prix_Unit_HT]]*VLOOKUP(Tableau1[[#This Row],[EAN]],Grille_Tarifs_Modulable!$B$10:$Q$204,16,FALSE))) -> 22.306373 | N33: 12 | O33: =ROUND(Tableau1[[#This Row],[Prix_Unit_HT]],2)*Tableau1[[#This Row],[Qte_commande]] -> 223.08 | P33: =ROUND(Tableau1[[#This Row],[Prix_Unit_TTC]],2)*Tableau1[[#This Row],[Qte_commande]] -> 267.72 | Q33: 12 | R33: =VALUE(IF(COUNTIF(Tableau1[[#This Row],[Type_Produit]],"*Boisson*"),PRODUCT(Tableau1[[#This Row],[CL]],Tableau1[[#This Row],[Qte_commande]])/100/0.7,IF(COUNTIF(Tableau1[[#This Row],[Type_Produit]],"*JGR*"),Tableau1[[#This Row],[Qte_commande]],0))) -> 12
A34: 42424 | B34: 16V02349 | C34: SCHOEN | D34: JOUE LES TOURS | G34: GROS | H34: Boisson_Spirit | I34: Jägermeister | J34: 70 | K34: {=IFERROR(INDEX(Grille_Tarifs_Modulable!$B$2:$B$204,MATCH(Tableau1[[#This Row],[Designation]]&Tableau1[[#This Row],[CL]],Grille_Tarifs_Modulable!$C$2:$C$204&Grille_Tarifs_Modulable!$F$2:$F$204,0)),0)} -> 4067700013859 | L34: =IF(Tableau1[[#This Row],[EAN]]=0,0,INDEX(Grille_Tarifs_Modulable!$B$7:$N$114,MATCH(Tableau1[[#This Row],[EAN]],Grille_Tarifs_Modulable!$B$7:$B$114,0),MATCH(Tableau1[[#This Row],[Tarificat° client]],Grille_Tarifs_Modulable!$7:$7,0)-1)+INDEX(Grille_Tarifs_Modulable!$M$7:$N$114,MATCH(Tableau1[[#This Row],[EAN]],Grille_Tarifs_Modulable!$B$7:$B$114,0),1)+INDEX(Grille_Tarifs_Modulable!$M$7:$N$114,MATCH(Tableau1[[#This Row],[EAN]],Grille_Tarifs_Modulable!$B$7:$B$114,0),2)) -> 12.532563 | M34: =IF(Tableau1[[#This Row],[Prix_Unit_HT]]=0,0,Tableau1[[#This Row],[Prix_Unit_HT]]+(Tableau1[[#This Row],[Prix_Unit_HT]]*VLOOKUP(Tableau1[[#This Row],[EAN]],Grille_Tarifs_Modulable!$B$10:$Q$204,16,FALSE))) -> 15.039076 | N34: 120 | O34: =ROUND(Tableau1[[#This Row],[Prix_Unit_HT]],2)*Tableau1[[#This Row],[Qte_commande]] -> 1503.6 | P34: =ROUND(Tableau1[[#This Row],[Prix_Unit_TTC]],2)*Tableau1[[#This Row],[Qte_commande]] -> 1804.8 | Q34: 120 | R34: =VALUE(IF(COUNTIF(Tableau1[[#This Row],[Type_Produit]],"*Boisson*"),PRODUCT(Tableau1[[#This Row],[CL]],Tableau1[[#This Row],[Qte_commande]])/100/0.7,IF(COUNTIF(Tableau1[[#This Row],[Type_Produit]],"*JGR*"),Tableau1[[#This Row],[Qte_commande]],0))) -> 120
A35: 42424 | B35: 16V02349 | C35: SCHOEN | D35: JOUE LES TOURS | G35: GROS | H35: Boisson_Spirit | I35: Jägermeister | J35: 100 | K35: {=IFERROR(INDEX(Grille_Tarifs_Modulable!$B$2:$B$204,MATCH(Tableau1[[#This Row],[Designation]]&Tableau1[[#This Row],[CL]],Grille_Tarifs_Modulable!$C$2:$C$204&Grille_Tarifs_Modulable!$F$2:$F$204,0)),0)} -> 4067700013842 | L35: =IF(Tableau1[[#This Row],[EAN]]=0,0,INDEX(Grille_Tarifs_Modulable!$B$7:$N$114,MATCH(Tableau1[[#This Row],[EAN]],Grille_Tarifs_Modulable!$B$7:$B$114,0),MATCH(Tableau1[[#This Row],[Tarificat° client]],Grille_Tarifs_Modulable!$7:$7,0)-1)+INDEX(Grille_Tarifs_Modulable!$M$7:$N$114,MATCH(Tableau1[[#This Row],[EAN]],Grille_Tarifs_Modulable!$B$7:$B$114,0),1)+INDEX(Grille_Tarifs_Modulable!$M$7:$N$114,MATCH(Tableau1[[#This Row],[EAN]],Grille_Tarifs_Modulable!$B$7:$B$114,0),2)) -> 17.100805 | M35: =IF(Tableau1[[#This Row],[Prix_Unit_HT]]=0,0,Tableau1[[#This Row],[Prix_Unit_HT]]+(Tableau1[[#This Row],[Prix_Unit_HT]]*VLOOKUP(Tableau1[[#This Row],[EAN]],Grille_Tarifs_Modulable!$B$10:$Q$204,16,FALSE))) -> 20.520966 | N35: 90 | O35: =ROUND(Tableau1[[#This Row],[Prix_Unit_HT]],2)*Tableau1[[#This Row],[Qte_commande]] -> 1539 | P35: =ROUND(Tableau1[[#This Row],[Prix_Unit_TTC]],2)*Tableau1[[#This Row],[Qte_commande]] -> 1846.8 | Q35: 128.57 | R35: =VALUE(IF(COUNTIF(Tableau1[[#This Row],[Type_Produit]],"*Boisson*"),PRODUCT(Tableau1[[#This Row],[CL]],Tableau1[[#This Row],[Qte_commande]])/100/0.7,IF(COUNTIF(Tableau1[[#This Row],[Type_Produit]],"*JGR*"),Tableau1[[#This Row],[Qte_commande]],0))) -> 128.57143
A36: 42424 | B36: 16V02349 | C36: SCHOEN | D36: JOUE LES TOURS | G36: GROS | H36: Boisson_Spirit | I36: Jägermeister | J36: 100 | K36: {=IFERROR(INDEX(Grille_Tarifs_Modulable!$B$2:$B$204,MATCH(Tableau1[[#This Row],[Designation]]&Tableau1[[#This Row],[CL]],Grille_Tarifs_Modulable!$C$2:$C$204&Grille_Tarifs_Modulable!$F$2:$F$204,0)),0)} -> 4067700013842 | L36: =IF(Tableau1[[#This Row],[EAN]]=0,0,INDEX(Grille_Tarifs_Modulable!$B$7:$N$114,MATCH(Tableau1[[#This Row],[EAN]],Grille_Tarifs_Modulable!$B$7:$B$114,0),MATCH(Tableau1[[#This Row],[Tarificat° client]],Grille_Tarifs_Modulable!$7:$7,0)-1)+INDEX(Grille_Tarifs_Modulable!$M$7:$N$114,MATCH(Tableau1[[#This Row],[EAN]],Grille_Tarifs_Modulable!$B$7:$B$114,0),1)+INDEX(Grille_Tarifs_Modulable!$M$7:$N$114,MATCH(Tableau1[[#This Row],[EAN]],Grille_Tarifs_Modulable!$B$7:$B$114,0),2)) -> 17.100805 | M36: =IF(Tableau1[[#This Row],[Prix_Unit_HT]]=0,0,Tableau1[[#This Row],[Prix_Unit_HT]]+(Tableau1[[#This Row],[Prix_Unit_HT]]*VLOOKUP(Tableau1[[#This Row],[EAN]],Grille_Tarifs_Modulable!$B$10:$Q$204,16,FALSE))) -> 20.520966 | N36: 30 | O36: =ROUND(Tableau1[[#This Row],[Prix_Unit_HT]],2)*Tableau1[[#This Row],[Qte_commande]] -> 513 | P36: =ROUND(Tableau1[[#This Row],[Prix_Unit_TTC]],2)*Tableau1[[#This Row],[Qte_commande]] -> 615.6 | Q36: 42.86 | R36: =VALUE(IF(COUNTIF(Tableau1[[#This Row],[Type_Produit]],"*Boisson*"),PRODUCT(Tableau1[[#This Row],[CL]],Tableau1[[#This Row],[Qte_commande]])/100/0.7,IF(COUNTIF(Tableau1[[#This Row],[Type_Produit]],"*JGR*"),Tableau1[[#This Row],[Qte_commande]],0))) -> 42.857143
A37: 42424 | B37: 16V02367 | C37: WALLABY | D37: ANGERS | G37: CHR | H37: Boisson_Spirit | I37: Jägermeister | J37: 100 | K37: {=IFERROR(INDEX(Grille_Tarifs_Modulable!$B$2:$B$204,MATCH(Tableau1[[#This Row],[Designation]]&Tableau1[[#This Row],[CL]],Grille_Tarifs_Modulable!$C$2:$C$204&Grille_Tarifs_Modulable!$F$2:$F$204,0)),0)} -> 4067700013842 | L37: =IF(Tableau1[[#This Row],[EAN]]=0,0,INDEX(Grille_Tarifs_Modulable!$B$7:$N$114,MATCH(Tableau1[[#This Row],[EAN]],Grille_Tarifs_Modulable!$B$7:$B$114,0),MATCH(Tableau1[[#This Row],[Tarificat° client]],Grille_Tarifs_Modulable!$7:$7,0)-1)+INDEX(Grille_Tarifs_Modulable!$M$7:$N$114,MATCH(Tableau1[[#This Row],[EAN]],Grille_Tarifs_Modulable!$B$7:$B$114,0),1)+INDEX(Grille_Tarifs_Modulable!$M$7:$N$114,MATCH(Tableau1[[#This Row],[EAN]],Grille_Tarifs_Modulable!$B$7:$B$114,0),2)) -> 19.150805 | M37: =IF(Tableau1[[#This Row],[Prix_Unit_HT]]=0,0,Tableau1[[#This Row],[Prix_Unit_HT]]+(Tableau1[[#This Row],[Prix_Unit_HT]]*VLOOKUP(Tableau1[[#This Row],[EAN]],Grille_Tarifs_Modulable!$B$10:$Q$204,16,FALSE))) -> 22.980966 | N37: 36 | O37: =ROUND(Tableau1[[#This Row],[Prix_Unit_HT]],2)*Tableau1[[#This Row],[Qte_commande]] -> 689.4 | P37: =ROUND(Tableau1[[#This Row],[Prix_Unit_TTC]],2)*Tableau1[[#This Row],[Qte_commande]] -> 827.28 | Q37: 51.43 | R37: =VALUE(IF(COUNTIF(Tableau1[[#This Row],[Type_Produit]],"*Boisson*"),PRODUCT(Tableau1[[#This Row],[CL]],Tableau1[[#This Row],[Qte_commande]])/100/0.7,IF(COUNTIF(Tableau1[[#This Row],[Type_Produit]],"*JGR*"),Tableau1[[#This Row],[Qte_commande]],0))) -> 51.428571
A38: 42424 | B38: 16V02367 | C38: WALLABY | D38: ANGERS | G38: CHR | H38: Boisson_Spirit | I38: Limoncello di Capri | J38: 70 | K38: {=IFERROR(INDEX(Grille_Tarifs_Modulable!$B$2:$B$204,MATCH(Tableau1[[#This Row],[Designation]]&Tableau1[[#This Row],[CL]],Grille_Tarifs_Modulable!$C$2:$C$204&Grille_Tarifs_Modulable!$F$2:$F$204,0)),0)} -> 8017450002104 | L38: =IF(Tableau1[[#This Row],[EAN]]=0,0,INDEX(Grille_Tarifs_Modulable!$B$7:$N$114,MATCH(Tableau1[[#This Row],[EAN]],Grille_Tarifs_Modulable!$B$7:$B$114,0),MATCH(Tableau1[[#This Row],[Tarificat° client]],Grille_Tarifs_Modulable!$7:$7,0)-1)+INDEX(Grille_Tarifs_Modulable!$M$7:$N$114,MATCH(Tableau1[[#This Row],[EAN]],Grille_Tarifs_Modulable!$B$7:$B$114,0),1)+INDEX(Grille_Tarifs_Modulable!$M$7:$N$114,MATCH(Tableau1[[#This Row],[EAN]],Grille_Tarifs_Modulable!$B$7:$B$114,0),2)) -> 14.266483 | M38: =IF(Tableau1[[#This Row],[Prix_Unit_HT]]=0,0,Tableau1[[#This Row],[Prix_Unit_HT]]+(Tableau1[[#This Row],[Prix_Unit_HT]]*VLOOKUP(Tableau1[[#This Row],[EAN]],Grille_Tarifs_Modulable!$B$10:$Q$204,16,FALSE))) -> 17.11978 | N38: 6 | O38: =ROUND(Tableau1[[#This Row],[Prix_Unit_HT]],2)*Tableau1[[#This Row],[Qte_commande]] -> 85.62 | P38: =ROUND(Tableau1[[#This Row],[Prix_Unit_TTC]],2)*Tableau1[[#This Row],[Qte_commande]] -> 102.72 | Q38: 6 | R38: =VALUE(IF(COUNTIF(Tableau1[[#This Row],[Type_Produit]],"*Boisson*"),PRODUCT(Tableau1[[#This Row],[CL]],Tableau1[[#This Row],[Qte_commande]])/100/0.7,IF(COUNTIF(Tableau1[[#This Row],[Type_Produit]],"*JGR*"),Tableau1[[#This Row],[Qte_commande]],0))) -> 6
A39: 42429 | B39: 16V02371 | C39: POITOU | D39: CHASSENEUIL DU POITOU | G39: GROS | H39: Boisson_Spirit | I39: Jägermeister | J39: 70 | K39: {=IFERROR(INDEX(Grille_Tarifs_Modulable!$B$2:$B$204,MATCH(Tableau1[[#This Row],[Designation]]&Tableau1[[#This Row],[CL]],Grille_Tarifs_Modulable!$C$2:$C$204&Grille_Tarifs_Modulable!$F$2:$F$204,0)),0)} -> 4067700013859 | L39: =IF(Tableau1[[#This Row],[EAN]]=0,0,INDEX(Grille_Tarifs_Modulable!$B$7:$N$114,MATCH(Tableau1[[#This Row],[EAN]],Grille_Tarifs_Modulable!$B$7:$B$114,0),MATCH(Tableau1[[#This Row],[Tarificat° client]],Grille_Tarifs_Modulable!$7:$7,0)-1)+INDEX(Grille_Tarifs_Modulable!$M$7:$N$114,MATCH(Tableau1[[#This Row],[EAN]],Grille_Tarifs_Modulable!$B$7:$B$114,0),1)+INDEX(Grille_Tarifs_Modulable!$M$7:$N$114,MATCH(Tableau1[[#This Row],[EAN]],Grille_Tarifs_Modulable!$B$7:$B$114,0),2)) -> 12.532563 | M39: =IF(Tableau1[[#This Row],[Prix_Unit_HT]]=0,0,Tableau1[[#This Row],[Prix_Unit_HT]]+(Tableau1[[#This Row],[Prix_Unit_HT]]*VLOOKUP(Tableau1[[#This Row],[EAN]],Grille_Tarifs_Modulable!$B$10:$Q$204,16,FALSE))) -> 15.039076 | N39: 150 | O39: =ROUND(Tableau1[[#This Row],[Prix_Unit_HT]],2)*Tableau1[[#This Row],[Qte_commande]] -> 1879.5 | P39: =ROUND(Tableau1[[#This Row],[Prix_Unit_TTC]],2)*Tableau1[[#This Row],[Qte_commande]] -> 2256 | Q39: 150 | R39: =VALUE(IF(COUNTIF(Tableau1[[#This Row],[Type_Produit]],"*Boisson*"),PRODUCT(Tableau1[[#This Row],[CL]],Tableau1[[#This Row],[Qte_commande]])/100/0.7,IF(COUNTIF(Tableau1[[#This Row],[Type_Produit]],"*JGR*"),Tableau1[[#This Row],[Qte_commande]],0))) -> 150
A40: 42432 | B40: 16V03061 | C40: LE RUBIS | D40: CHOLET | G40: CHR | H40: JGR_TM | I40: TAP MACHINE JÄGERMEISTER | J40: 3 | K40: {=IFERROR(INDEX(Grille_Tarifs_Modulable!$B$2:$B$204,MATCH(Tableau1[[#This Row],[Designation]]&Tableau1[[#This Row],[CL]],Grille_Tarifs_Modulable!$C$2:$C$204&Grille_Tarifs_Modulable!$F$2:$F$204,0)),0)} -> 121 | L40: =IF(Tableau1[[#This Row],[EAN]]=0,0,INDEX(Grille_Tarifs_Modulable!$B$7:$N$114,MATCH(Tableau1[[#This Row],[EAN]],Grille_Tarifs_Modulable!$B$7:$B$114,0),MATCH(Tableau1[[#This Row],[Tarificat° client]],Grille_Tarifs_Modulable!$7:$7,0)-1)+INDEX(Grille_Tarifs_Modulable!$M$7:$N$114,MATCH(Tableau1[[#This Row],[EAN]],Grille_Tarifs_Modulable!$B$7:$B$114,0),1)+INDEX(Grille_Tarifs_Modulable!$M$7:$N$114,MATCH(Tableau1[[#This Row],[EAN]],Grille_Tarifs_Modulable!$B$7:$B$114,0),2)) -> 299 | M40: =IF(Tableau1[[#This Row],[Prix_Unit_HT]]=0,0,Tableau1[[#This Row],[Prix_Unit_HT]]+(Tableau1[[#This Row],[Prix_Unit_HT]]*VLOOKUP(Tableau1[[#This Row],[EAN]],Grille_Tarifs_Modulable!$B$10:$Q$204,16,FALSE))) -> 358.8 | N40: 1 | O40: =ROUND(Tableau1[[#This Row],[Prix_Unit_HT]],2)*Tableau1[[#This Row],[Qte_commande]] -> 299 | P40: =ROUND(Tableau1[[#This Row],[Prix_Unit_TTC]],2)*Tableau1[[#This Row],[Qte_commande]] -> 358.8 | Q40: 1 | R40: =VALUE(IF(COUNTIF(Tableau1[[#This Row],[Type_Produit]],"*Boisson*"),PRODUCT(Tableau1[[#This Row],[CL]],Tableau1[[#This Row],[Qte_commande]])/100/0.7,IF(COUNTIF(Tableau1[[#This Row],[Type_Produit]],"*JGR*"),Tableau1[[#This Row],[Qte_commande]],0))) -> 1
A41: 42436 | B41: 16V03045 | C41: AMERICAN | D41: BEAUPREAU | G41: CHR | H41: Boisson_Spirit | I41: Danzinger Goldwasser | J41: 70 | K41: {=IFERROR(INDEX(Grille_Tarifs_Modulable!$B$2:$B$204,MATCH(Tableau1[[#This Row],[Designation]]&Tableau1[[#This Row],[CL]],Grille_Tarifs_Modulable!$C$2:$C$204&Grille_Tarifs_Modulable!$F$2:$F$204,0)),0)} -> 4055800060200 | L41: =IF(Tableau1[[#This Row],[EAN]]=0,0,INDEX(Grille_Tarifs_Modulable!$B$7:$N$114,MATCH(Tableau1[[#This Row],[EAN]],Grille_Tarifs_Modulable!$B$7:$B$114,0),MATCH(Tableau1[[#This Row],[Tarificat° client]],Grille_Tarifs_Modulable!$7:$7,0)-1)+INDEX(Grille_Tarifs_Modulable!$M$7:$N$114,MATCH(Tableau1[[#This Row],[EAN]],Grille_Tarifs_Modulable!$B$7:$B$114,0),1)+INDEX(Grille_Tarifs_Modulable!$M$7:$N$114,MATCH(Tableau1[[#This Row],[EAN]],Grille_Tarifs_Modulable!$B$7:$B$114,0),2)) -> 18.588644 | M41: =IF(Tableau1[[#This Row],[Prix_Unit_HT]]=0,0,Tableau1[[#This Row],[Prix_Unit_HT]]+(Tableau1[[#This Row],[Prix_Unit_HT]]*VLOOKUP(Tableau1[[#This Row],[EAN]],Grille_Tarifs_Modulable!$B$10:$Q$204,16,FALSE))) -> 22.306373 | N41: 6 | O41: =ROUND(Tableau1[[#This Row],[Prix_Unit_HT]],2)*Tableau1[[#This Row],[Qte_commande]] -> 111.54 | P41: =ROUND(Tableau1[[#This Row],[Prix_Unit_TTC]],2)*Tableau1[[#This Row],[Qte_commande]] -> 133.86 | Q41: 6 | R41: =VALUE(IF(COUNTIF(Tableau1[[#This Row],[Type_Produit]],"*Boisson*"),PRODUCT(Tableau1[[#This Row],[CL]],Tableau1[[#This Row],[Qte_commande]])/100/0.7,IF(COUNTIF(Tableau1[[#This Row],[Type_Produit]],"*JGR*"),Tableau1[[#This Row],[Qte_commande]],0))) -> 6
A42: 42436 | B42: 16V03045 | C42: AMERICAN | D42: BEAUPREAU | G42: CHR | H42: Boisson_Spirit | I42: Jägermeister | J42: 70 | K42: {=IFERROR(INDEX(Grille_Tarifs_Modulable!$B$2:$B$204,MATCH(Tableau1[[#This Row],[Designation]]&Tableau1[[#This Row],[CL]],Grille_Tarifs_Modulable!$C$2:$C$204&Grille_Tarifs_Modulable!$F$2:$F$204,0)),0)} -> 4067700013859 | L42: =IF(Tableau1[[#This Row],[EAN]]=0,0,INDEX(Grille_Tarifs_Modulable!$B$7:$N$114,MATCH(Tableau1[[#This Row],[EAN]],Grille_Tarifs_Modulable!$B$7:$B$114,0),MATCH(Tableau1[[#This Row],[Tarificat° client]],Grille_Tarifs_Modulable!$7:$7,0)-1)+INDEX(Grille_Tarifs_Modulable!$M$7:$N$114,MATCH(Tableau1[[#This Row],[EAN]],Grille_Tarifs_Modulable!$B$7:$B$114,0),1)+INDEX(Grille_Tarifs_Modulable!$M$7:$N$114,MATCH(Tableau1[[#This Row],[EAN]],Grille_Tarifs_Modulable!$B$7:$B$114,0),2)) -> 13.942563 | M42: =IF(Tableau1[[#This Row],[Prix_Unit_HT]]=0,0,Tableau1[[#This Row],[Prix_Unit_HT]]+(Tableau1[[#This Row],[Prix_Unit_HT]]*VLOOKUP(Tableau1[[#This Row],[EAN]],Grille_Tarifs_Modulable!$B$10:$Q$204,16,FALSE))) -> 16.731076 | N42: 30 | O42: =ROUND(Tableau1[[#This Row],[Prix_Unit_HT]],2)*Tableau1[[#This Row],[Qte_commande]] -> 418.2 | P42: =ROUND(Tableau1[[#This Row],[Prix_Unit_TTC]],2)*Tableau1[[#This Row],[Qte_commande]] -> 501.9 | Q42: 30 | R42: =VALUE(IF(COUNTIF(Tableau1[[#This Row],[Type_Produit]],"*Boisson*"),PRODUCT(Tableau1[[#This Row],[CL]],Tableau1[[#This Row],[Qte_commande]])/100/0.7,IF(COUNTIF(Tableau1[[#This Row],[Type_Produit]],"*JGR*"),Tableau1[[#This Row],[Qte_commande]],0))) -> 30
A43: 42436 | B43: 16V03045 | C43: AMERICAN | D43: BEAUPREAU | G43: CHR | H43: Boisson_Spirit | I43: Seve Feu de Joie | J43: 70 | K43: {=IFERROR(INDEX(Grille_Tarifs_Modulable!$B$2:$B$204,MATCH(Tableau1[[#This Row],[Designation]]&Tableau1[[#This Row],[CL]],Grille_Tarifs_Modulable!$C$2:$C$204&Grille_Tarifs_Modulable!$F$2:$F$204,0)),0)} -> 3257150688009 | L43: =IF(Tableau1[[#This Row],[EAN]]=0,0,INDEX(Grille_Tarifs_Modulable!$B$7:$N$114,MATCH(Tableau1[[#This Row],[EAN]],Grille_Tarifs_Modulable!$B$7:$B$114,0),MATCH(Tableau1[[#This Row],[Tarificat° client]],Grille_Tarifs_Modulable!$7:$7,0)-1)+INDEX(Grille_Tarifs_Modulable!$M$7:$N$114,MATCH(Tableau1[[#This Row],[EAN]],Grille_Tarifs_Modulable!$B$7:$B$114,0),1)+INDEX(Grille_Tarifs_Modulable!$M$7:$N$114,MATCH(Tableau1[[#This Row],[EAN]],Grille_Tarifs_Modulable!$B$7:$B$114,0),2)) -> 14.516915 | M43: =IF(Tableau1[[#This Row],[Prix_Unit_HT]]=0,0,Tableau1[[#This Row],[Prix_Unit_HT]]+(Tableau1[[#This Row],[Prix_Unit_HT]]*VLOOKUP(Tableau1[[#This Row],[EAN]],Grille_Tarifs_Modulable!$B$10:$Q$204,16,FALSE))) -> 17.420298 | N43: 6 | O43: =ROUND(Tableau1[[#This Row],[Prix_Unit_HT]],2)*Tableau1[[#This Row],[Qte_commande]] -> 87.12 | P43: =ROUND(Tableau1[[#This Row],[Prix_Unit_TTC]],2)*Tableau1[[#This Row],[Qte_commande]] -> 104.52 | Q43: 6 | R43: =VALUE(IF(COUNTIF(Tableau1[[#This Row],[Type_Produit]],"*Boisson*"),PRODUCT(Tableau1[[#This Row],[CL]],Tableau1[[#This Row],[Qte_commande]])/100/0.7,IF(COUNTIF(Tableau1[[#This Row],[Type_Produit]],"*JGR*"),Tableau1[[#This Row],[Qte_commande]],0))) -> 6
A44: 42436 | B44: 16V03045 | C44: AMERICAN | D44: BEAUPREAU | G44: CHR | H44: Boisson_Spirit | I44: WILD TURKEY 101' | J44: 70 | K44: {=IFERROR(INDEX(Grille_Tarifs_Modulable!$B$2:$B$204,MATCH(Tableau1[[#This Row],[Designation]]&Tableau1[[#This Row],[CL]],Grille_Tarifs_Modulable!$C$2:$C$204&Grille_Tarifs_Modulable!$F$2:$F$204,0)),0)} -> 0 | L44: =IF(Tableau1[[#This Row],[EAN]]=0,0,INDEX(Grille_Tarifs_Modulable!$B$7:$N$114,MATCH(Tableau1[[#This Row],[EAN]],Grille_Tarifs_Modulable!$B$7:$B$114,0),MATCH(Tableau1[[#This Row],[Tarificat° client]],Grille_Tarifs_Modulable!$7:$7,0)-1)+INDEX(Grille_Tarifs_Modulable!$M$7:$N$114,MATCH(Tableau1[[#This Row],[EAN]],Grille_Tarifs_Modulable!$B$7:$B$114,0),1)+INDEX(Grille_Tarifs_Modulable!$M$7:$N$114,MATCH(Tableau1[[#This Row],[EAN]],Grille_Tarifs_Modulable!$B$7:$B$114,0),2)) -> 0 | M44: =IF(Tableau1[[#This Row],[Prix_Unit_HT]]=0,0,Tableau1[[#This Row],[Prix_Unit_HT]]+(Tableau1[[#This Row],[Prix_Unit_HT]]*VLOOKUP(Tableau1[[#This Row],[EAN]],Grille_Tarifs_Modulable!$B$10:$Q$204,16,FALSE))) -> 0 | N44: 6 | O44: =ROUND(Tableau1[[#This Row],[Prix_Unit_HT]],2)*Tableau1[[#This Row],[Qte_commande]] -> 0 | P44: =ROUND(Tableau1[[#This Row],[Prix_Unit_TTC]],2)*Tableau1[[#This Row],[Qte_commande]] -> 0 | Q44: 6 | R44: =VALUE(IF(COUNTIF(Tableau1[[#This Row],[Type_Produit]],"*Boisson*"),PRODUCT(Tableau1[[#This Row],[CL]],Tableau1[[#This Row],[Qte_commande]])/100/0.7,IF(COUNTIF(Tableau1[[#This Row],[Type_Produit]],"*JGR*"),Tableau1[[#This Row],[Qte_commande]],0))) -> 6
... A60: 42454 | B60: 16V03340 | C60: FIGUEIREDO | D60: SAINT ROCH | G60: GROS | H60: Boisson_Spirit | I60: WILD TURKEY 81' | J60: 70 | K60: {=IFERROR(INDEX(Grille_Tarifs_Modulable!$B$2:$B$204,MATCH(Tableau1[[#This Row],[Designation]]&Tableau1[[#This Row],[CL]],Grille_Tarifs_Modulable!$C$2:$C$204&Grille_Tarifs_Modulable!$F$2:$F$204,0)),0)} -> 0 | L60: =IF(Tableau1[[#This Row],[EAN]]=0,0,INDEX(Grille_Tarifs_Modulable!$B$7:$N$114,MATCH(Tableau1[[#This Row],[EAN]],Grille_Tarifs_Modulable!$B$7:$B$114,0),MATCH(Tableau1[[#This Row],[Tarificat° client]],Grille_Tarifs_Modulable!$7:$7,0)-1)+INDEX(Grille_Tarifs_Modulable!$M$7:$N$114,MATCH(Tableau1[[#This Row],[EAN]],Grille_Tarifs_Modulable!$B$7:$B$114,0),1)+INDEX(Grille_Tarifs_Modulable!$M$7:$N$114,MATCH(Tableau1[[#This Row],[EAN]],Grille_Tarifs_Modulable!$B$7:$B$114,0),2)) -> 0 | M60: =IF(Tableau1[[#This Row],[Prix_Unit_HT]]=0,0,Tableau1[[#This Row],[Prix_Unit_HT]]+(Tableau1[[#This Row],[Prix_Unit_HT]]*VLOOKUP(Tableau1[[#This Row],[EAN]],Grille_Tarifs_Modulable!$B$10:$Q$204,16,FALSE))) -> 0 | N60: 6 | O60: =ROUND(Tableau1[[#This Row],[Prix_Unit_HT]],2)*Tableau1[[#This Row],[Qte_commande]] -> 0 | P60: =ROUND(Tableau1[[#This Row],[Prix_Unit_TTC]],2)*Tableau1[[#This Row],[Qte_commande]] -> 0 | Q60: 6 | R60: =VALUE(IF(COUNTIF(Tableau1[[#This Row],[Type_Produit]],"*Boisson*"),PRODUCT(Tableau1[[#This Row],[CL]],Tableau1[[#This Row],[Qte_commande]])/100/0.7,IF(COUNTIF(Tableau1[[#This Row],[Type_Produit]],"*JGR*"),Tableau1[[#This Row],[Qte_commande]],0))) -> 6
A61: 42459 | B61: 16V03389 | C61: 0000003300 | D61: EGLETONS | H61: Boisson_Spirit | I61: COGNAC BRUGEROLLE VS | J61: 70 | K61: {=IFERROR(INDEX(Grille_Tarifs_Modulable!$B$2:$B$204,MATCH(Tableau1[[#This Row],[Designation]]&Tableau1[[#This Row],[CL]],Grille_Tarifs_Modulable!$C$2:$C$204&Grille_Tarifs_Modulable!$F$2:$F$204,0)),0)} -> 0 | L61: =IF(Tableau1[[#This Row],[EAN]]=0,0,INDEX(Grille_Tarifs_Modulable!$B$7:$N$114,MATCH(Tableau1[[#This Row],[EAN]],Grille_Tarifs_Modulable!$B$7:$B$114,0),MATCH(Tableau1[[#This Row],[Tarificat° client]],Grille_Tarifs_Modulable!$7:$7,0)-1)+INDEX(Grille_Tarifs_Modulable!$M$7:$N$114,MATCH(Tableau1[[#This Row],[EAN]],Grille_Tarifs_Modulable!$B$7:$B$114,0),1)+INDEX(Grille_Tarifs_Modulable!$M$7:$N$114,MATCH(Tableau1[[#This Row],[EAN]],Grille_Tarifs_Modulable!$B$7:$B$114,0),2)) -> 0 | M61: =IF(Tableau1[[#This Row],[Prix_Unit_HT]]=0,0,Tableau1[[#This Row],[Prix_Unit_HT]]+(Tableau1[[#This Row],[Prix_Unit_HT]]*VLOOKUP(Tableau1[[#This Row],[EAN]],Grille_Tarifs_Modulable!$B$10:$Q$204,16,FALSE))) -> 0 | N61: 6 | O61: =ROUND(Tableau1[[#This Row],[Prix_Unit_HT]],2)*Tableau1[[#This Row],[Qte_commande]] -> 0 | P61: =ROUND(Tableau1[[#This Row],[Prix_Unit_TTC]],2)*Tableau1[[#This Row],[Qte_commande]] -> 0 | Q61: 6 | R61: =VALUE(IF(COUNTIF(Tableau1[[#This Row],[Type_Produit]],"*Boisson*"),PRODUCT(Tableau1[[#This Row],[CL]],Tableau1[[#This Row],[Qte_commande]])/100/0.7,IF(COUNTIF(Tableau1[[#This Row],[Type_Produit]],"*JGR*"),Tableau1[[#This Row],[Qte_commande]],0))) -> 6
A62: 42459 | B62: 16V03388 | C62: DIAMS TONIC | D62: JALLAIS | F62: CHR_CLUB | G62: CHR | H62: Boisson_Spirit | I62: Jägermeister | J62: 175 | K62: {=IFERROR(INDEX(Grille_Tarifs_Modulable!$B$2:$B$204,MATCH(Tableau1[[#This Row],[Designation]]&Tableau1[[#This Row],[CL]],Grille_Tarifs_Modulable!$C$2:$C$204&Grille_Tarifs_Modulable!$F$2:$F$204,0)),0)} -> 4067700013835 | L62: =IF(Tableau1[[#This Row],[EAN]]=0,0,INDEX(Grille_Tarifs_Modulable!$B$7:$N$114,MATCH(Tableau1[[#This Row],[EAN]],Grille_Tarifs_Modulable!$B$7:$B$114,0),MATCH(Tableau1[[#This Row],[Tarificat° client]],Grille_Tarifs_Modulable!$7:$7,0)-1)+INDEX(Grille_Tarifs_Modulable!$M$7:$N$114,MATCH(Tableau1[[#This Row],[EAN]],Grille_Tarifs_Modulable!$B$7:$B$114,0),1)+INDEX(Grille_Tarifs_Modulable!$M$7:$N$114,MATCH(Tableau1[[#This Row],[EAN]],Grille_Tarifs_Modulable!$B$7:$B$114,0),2)) -> 32.266409 | M62: =IF(Tableau1[[#This Row],[Prix_Unit_HT]]=0,0,Tableau1[[#This Row],[Prix_Unit_HT]]+(Tableau1[[#This Row],[Prix_Unit_HT]]*VLOOKUP(Tableau1[[#This Row],[EAN]],Grille_Tarifs_Modulable!$B$10:$Q$204,16,FALSE))) -> 38.71969 | N62: 36 | O62: =ROUND(Tableau1[[#This Row],[Prix_Unit_HT]],2)*Tableau1[[#This Row],[Qte_commande]] -> 1161.72 | P62: =ROUND(Tableau1[[#This Row],[Prix_Unit_TTC]],2)*Tableau1[[#This Row],[Qte_commande]] -> 1393.92 | Q62: 90 | R62: =VALUE(IF(COUNTIF(Tableau1[[#This Row],[Type_Produit]],"*Boisson*"),PRODUCT(Tableau1[[#This Row],[CL]],Tableau1[[#This Row],[Qte_commande]])/100/0.7,IF(COUNTIF(Tableau1[[#This Row],[Type_Produit]],"*JGR*"),Tableau1[[#This Row],[Qte_commande]],0))) -> 90
A63: 42459 | B63: 16V03389 | C63: JM LAC | D63: EGLETONS | F63: CAVISTE | H63: Boisson_Spirit | I63: PINEAU 2 PAYSANS BLANC | J63: 75 | K63: {=IFERROR(INDEX(Grille_Tarifs_Modulable!$B$2:$B$204,MATCH(Tableau1[[#This Row],[Designation]]&Tableau1[[#This Row],[CL]],Grille_Tarifs_Modulable!$C$2:$C$204&Grille_Tarifs_Modulable!$F$2:$F$204,0)),0)} -> 0 | L63: =IF(Tableau1[[#This Row],[EAN]]=0,0,INDEX(Grille_Tarifs_Modulable!$B$7:$N$114,MATCH(Tableau1[[#This Row],[EAN]],Grille_Tarifs_Modulable!$B$7:$B$114,0),MATCH(Tableau1[[#This Row],[Tarificat° client]],Grille_Tarifs_Modulable!$7:$7,0)-1)+INDEX(Grille_Tarifs_Modulable!$M$7:$N$114,MATCH(Tableau1[[#This Row],[EAN]],Grille_Tarifs_Modulable!$B$7:$B$114,0),1)+INDEX(Grille_Tarifs_Modulable!$M$7:$N$114,MATCH(Tableau1[[#This Row],[EAN]],Grille_Tarifs_Modulable!$B$7:$B$114,0),2)) -> 0 | M63: =IF(Tableau1[[#This Row],[Prix_Unit_HT]]=0,0,Tableau1[[#This Row],[Prix_Unit_HT]]+(Tableau1[[#This Row],[Prix_Unit_HT]]*VLOOKUP(Tableau1[[#This Row],[EAN]],Grille_Tarifs_Modulable!$B$10:$Q$204,16,FALSE))) -> 0 | N63: 18 | O63: =ROUND(Tableau1[[#This Row],[Prix_Unit_HT]],2)*Tableau1[[#This Row],[Qte_commande]] -> 0 | P63: =ROUND(Tableau1[[#This Row],[Prix_Unit_TTC]],2)*Tableau1[[#This Row],[Qte_commande]] -> 0 | Q63: 19.29 | R63: =VALUE(IF(COUNTIF(Tableau1[[#This Row],[Type_Produit]],"*Boisson*"),PRODUCT(Tableau1[[#This Row],[CL]],Tableau1[[#This Row],[Qte_commande]])/100/0.7,IF(COUNTIF(Tableau1[[#This Row],[Type_Produit]],"*JGR*"),Tableau1[[#This Row],[Qte_commande]],0))) -> 19.285714
A64: 42459 | B64: 16V03389 | C64: JM LAC | D64: EGLETONS | F64: CAVISTE | H64: Boisson_Spirit | I64: PINEAU 2 PAYSANS ROSE | J64: 75 | K64: {=IFERROR(INDEX(Grille_Tarifs_Modulable!$B$2:$B$204,MATCH(Tableau1[[#This Row],[Designation]]&Tableau1[[#This Row],[CL]],Grille_Tarifs_Modulable!$C$2:$C$204&Grille_Tarifs_Modulable!$F$2:$F$204,0)),0)} -> 0 | L64: =IF(Tableau1[[#This Row],[EAN]]=0,0,INDEX(Grille_Tarifs_Modulable!$B$7:$N$114,MATCH(Tableau1[[#This Row],[EAN]],Grille_Tarifs_Modulable!$B$7:$B$114,0),MATCH(Tableau1[[#This Row],[Tarificat° client]],Grille_Tarifs_Modulable!$7:$7,0)-1)+INDEX(Grille_Tarifs_Modulable!$M$7:$N$114,MATCH(Tableau1[[#This Row],[EAN]],Grille_Tarifs_Modulable!$B$7:$B$114,0),1)+INDEX(Grille_Tarifs_Modulable!$M$7:$N$114,MATCH(Tableau1[[#This Row],[EAN]],Grille_Tarifs_Modulable!$B$7:$B$114,0),2)) -> 0 | M64: =IF(Tableau1[[#This Row],[Prix_Unit_HT]]=0,0,Tableau1[[#This Row],[Prix_Unit_HT]]+(Tableau1[[#This Row],[Prix_Unit_HT]]*VLOOKUP(Tableau1[[#This Row],[EAN]],Grille_Tarifs_Modulable!$B$10:$Q$204,16,FALSE))) -> 0 | N64: 36 | O64: =ROUND(Tableau1[[#This Row],[Prix_Unit_HT]],2)*Tableau1[[#This Row],[Qte_commande]] -> 0 | P64: =ROUND(Tableau1[[#This Row],[Prix_Unit_TTC]],2)*Tableau1[[#This Row],[Qte_commande]] -> 0 | Q64: 38.57 | R64: =VALUE(IF(COUNTIF(Tableau1[[#This Row],[Type_Produit]],"*Boisson*"),PRODUCT(Tableau1[[#This Row],[CL]],Tableau1[[#This Row],[Qte_commande]])/100/0.7,IF(COUNTIF(Tableau1[[#This Row],[Type_Produit]],"*JGR*"),Tableau1[[#This Row],[Qte_commande]],0))) -> 38.571429
A65: 42461 | B65: 16V03411 | C65: SCHOEN | D65: JOUE LES TOURS | G65: GROS | H65: Boisson_Spirit | I65: Jägermeister | J65: 70 | K65: {=IFERROR(INDEX(Grille_Tarifs_Modulable!$B$2:$B$204,MATCH(Tableau1[[#This Row],[Designation]]&Tableau1[[#This Row],[CL]],Grille_Tarifs_Modulable!$C$2:$C$204&Grille_Tarifs_Modulable!$F$2:$F$204,0)),0)} -> 4067700013859 | L65: =IF(Tableau1[[#This Row],[EAN]]=0,0,INDEX(Grille_Tarifs_Modulable!$B$7:$N$114,MATCH(Tableau1[[#This Row],[EAN]],Grille_Tarifs_Modulable!$B$7:$B$114,0),MATCH(Tableau1[[#This Row],[Tarificat° client]],Grille_Tarifs_Modulable!$7:$7,0)-1)+INDEX(Grille_Tarifs_Modulable!$M$7:$N$114,MATCH(Tableau1[[#This Row],[EAN]],Grille_Tarifs_Modulable!$B$7:$B$114,0),1)+INDEX(Grille_Tarifs_Modulable!$M$7:$N$114,MATCH(Tableau1[[#This Row],[EAN]],Grille_Tarifs_Modulable!$B$7:$B$114,0),2)) -> 12.532563 | M65: =IF(Tableau1[[#This Row],[Prix_Unit_HT]]=0,0,Tableau1[[#This Row],[Prix_Unit_HT]]+(Tableau1[[#This Row],[Prix_Unit_HT]]*VLOOKUP(Tableau1[[#This Row],[EAN]],Grille_Tarifs_Modulable!$B$10:$Q$204,16,FALSE))) -> 15.039076 | N65: 60 | O65: =ROUND(Tableau1[[#This Row],[Prix_Unit_HT]],2)*Tableau1[[#This Row],[Qte_commande]] -> 751.8 | P65: =ROUND(Tableau1[[#This Row],[Prix_Unit_TTC]],2)*Tableau1[[#This Row],[Qte_commande]] -> 902.4 | Q65: 60 | R65: =VALUE(IF(COUNTIF(Tableau1[[#This Row],[Type_Produit]],"*Boisson*"),PRODUCT(Tableau1[[#This Row],[CL]],Tableau1[[#This Row],[Qte_commande]])/100/0.7,IF(COUNTIF(Tableau1[[#This Row],[Type_Produit]],"*JGR*"),Tableau1[[#This Row],[Qte_commande]],0))) -> 60
A66: 42461 | B66: 16V03411 | C66: SCHOEN | D66: JOUE LES TOURS | G66: GROS | H66: Boisson_Spirit | I66: Jägermeister | J66: 100 | K66: {=IFERROR(INDEX(Grille_Tarifs_Modulable!$B$2:$B$204,MATCH(Tableau1[[#This Row],[Designation]]&Tableau1[[#This Row],[CL]],Grille_Tarifs_Modulable!$C$2:$C$204&Grille_Tarifs_Modulable!$F$2:$F$204,0)),0)} -> 4067700013842 | L66: =IF(Tableau1[[#This Row],[EAN]]=0,0,INDEX(Grille_Tarifs_Modulable!$B$7:$N$114,MATCH(Tableau1[[#This Row],[EAN]],Grille_Tarifs_Modulable!$B$7:$B$114,0),MATCH(Tableau1[[#This Row],[Tarificat° client]],Grille_Tarifs_Modulable!$7:$7,0)-1)+INDEX(Grille_Tarifs_Modulable!$M$7:$N$114,MATCH(Tableau1[[#This Row],[EAN]],Grille_Tarifs_Modulable!$B$7:$B$114,0),1)+INDEX(Grille_Tarifs_Modulable!$M$7:$N$114,MATCH(Tableau1[[#This Row],[EAN]],Grille_Tarifs_Modulable!$B$7:$B$114,0),2)) -> 17.100805 | M66: =IF(Tableau1[[#This Row],[Prix_Unit_HT]]=0,0,Tableau1[[#This Row],[Prix_Unit_HT]]+(Tableau1[[#This Row],[Prix_Unit_HT]]*VLOOKUP(Tableau1[[#This Row],[EAN]],Grille_Tarifs_Modulable!$B$10:$Q$204,16,FALSE))) -> 20.520966 | N66: 6 | O66: =ROUND(Tableau1[[#This Row],[Prix_Unit_HT]],2)*Tableau1[[#This Row],[Qte_commande]] -> 102.6 | P66: =ROUND(Tableau1[[#This Row],[Prix_Unit_TTC]],2)*Tableau1[[#This Row],[Qte_commande]] -> 123.12 | Q66: 8.57 | R66: =VALUE(IF(COUNTIF(Tableau1[[#This Row],[Type_Produit]],"*Boisson*"),PRODUCT(Tableau1[[#This Row],[CL]],Tableau1[[#This Row],[Qte_commande]])/100/0.7,IF(COUNTIF(Tableau1[[#This Row],[Type_Produit]],"*JGR*"),Tableau1[[#This Row],[Qte_commande]],0))) -> 8.5714286
A67: 42461 | B67: 16V03411 | C67: SCHOEN | D67: JOUE LES TOURS | G67: GROS | H67: Boisson_Spirit | I67: Jägermeister | J67: 100 | K67: {=IFERROR(INDEX(Grille_Tarifs_Modulable!$B$2:$B$204,MATCH(Tableau1[[#This Row],[Designation]]&Tableau1[[#This Row],[CL]],Grille_Tarifs_Modulable!$C$2:$C$204&Grille_Tarifs_Modulable!$F$2:$F$204,0)),0)} -> 4067700013842 | L67: =IF(Tableau1[[#This Row],[EAN]]=0,0,INDEX(Grille_Tarifs_Modulable!$B$7:$N$114,MATCH(Tableau1[[#This Row],[EAN]],Grille_Tarifs_Modulable!$B$7:$B$114,0),MATCH(Tableau1[[#This Row],[Tarificat° client]],Grille_Tarifs_Modulable!$7:$7,0)-1)+INDEX(Grille_Tarifs_Modulable!$M$7:$N$114,MATCH(Tableau1[[#This Row],[EAN]],Grille_Tarifs_Modulable!$B$7:$B$114,0),1)+INDEX(Grille_Tarifs_Modulable!$M$7:$N$114,MATCH(Tableau1[[#This Row],[EAN]],Grille_Tarifs_Modulable!$B$7:$B$114,0),2)) -> 17.100805 | M67: =IF(Tableau1[[#This Row],[Prix_Unit_HT]]=0,0,Tableau1[[#This Row],[Prix_Unit_HT]]+(Tableau1[[#This Row],[Prix_Unit_HT]]*VLOOKUP(Tableau1[[#This Row],[EAN]],Grille_Tarifs_Modulable!$B$10:$Q$204,16,FALSE))) -> 20.520966 | N67: 156 | O67: =ROUND(Tableau1[[#This Row],[Prix_Unit_HT]],2)*Tableau1[[#This Row],[Qte_commande]] -> 2667.6 | P67: =ROUND(Tableau1[[#This Row],[Prix_Unit_TTC]],2)*Tableau1[[#This Row],[Qte_commande]] -> 3201.12 | Q67: 222.86 | R67: =VALUE(IF(COUNTIF(Tableau1[[#This Row],[Type_Produit]],"*Boisson*"),PRODUCT(Tableau1[[#This Row],[CL]],Tableau1[[#This Row],[Qte_commande]])/100/0.7,IF(COUNTIF(Tableau1[[#This Row],[Type_Produit]],"*JGR*"),Tableau1[[#This Row],[Qte_commande]],0))) -> 222.85714
A68: 42461 | B68: 16V03411 | C68: SCHOEN | D68: JOUE LES TOURS | G68: GROS | H68: Boisson_Spirit | I68: Jägermeister | J68: 100 | K68: {=IFERROR(INDEX(Grille_Tarifs_Modulable!$B$2:$B$204,MATCH(Tableau1[[#This Row],[Designation]]&Tableau1[[#This Row],[CL]],Grille_Tarifs_Modulable!$C$2:$C$204&Grille_Tarifs_Modulable!$F$2:$F$204,0)),0)} -> 4067700013842 | L68: =IF(Tableau1[[#This Row],[EAN]]=0,0,INDEX(Grille_Tarifs_Modulable!$B$7:$N$114,MATCH(Tableau1[[#This Row],[EAN]],Grille_Tarifs_Modulable!$B$7:$B$114,0),MATCH(Tableau1[[#This Row],[Tarificat° client]],Grille_Tarifs_Modulable!$7:$7,0)-1)+INDEX(Grille_Tarifs_Modulable!$M$7:$N$114,MATCH(Tableau1[[#This Row],[EAN]],Grille_Tarifs_Modulable!$B$7:$B$114,0),1)+INDEX(Grille_Tarifs_Modulable!$M$7:$N$114,MATCH(Tableau1[[#This Row],[EAN]],Grille_Tarifs_Modulable!$B$7:$B$114,0),2)) -> 17.100805 | M68: =IF(Tableau1[[#This Row],[Prix_Unit_HT]]=0,0,Tableau1[[#This Row],[Prix_Unit_HT]]+(Tableau1[[#This Row],[Prix_Unit_HT]]*VLOOKUP(Tableau1[[#This Row],[EAN]],Grille_Tarifs_Modulable!$B$10:$Q$204,16,FALSE))) -> 20.520966 | N68: 18 | O68: =ROUND(Tableau1[[#This Row],[Prix_Unit_HT]],2)*Tableau1[[#This Row],[Qte_commande]] -> 307.8 | P68: =ROUND(Tableau1[[#This Row],[Prix_Unit_TTC]],2)*Tableau1[[#This Row],[Qte_commande]] -> 369.36 | Q68: 25.71 | R68: =VALUE(IF(COUNTIF(Tableau1[[#This Row],[Type_Produit]],"*Boisson*"),PRODUCT(Tableau1[[#This Row],[CL]],Tableau1[[#This Row],[Qte_commande]])/100/0.7,IF(COUNTIF(Tableau1[[#This Row],[Type_Produit]],"*JGR*"),Tableau1[[#This Row],[Qte_commande]],0))) -> 25.714286
A69: 42465 | B69: 16V04030 | C69: AU BUREAU | D69: TOURS | G69: GROS | H69: Boisson_Spirit | I69: Santiago de Cuba Anejo | J69: 100 | K69: {=IFERROR(INDEX(Grille_Tarifs_Modulable!$B$2:$B$204,MATCH(Tableau1[[#This Row],[Designation]]&Tableau1[[#This Row],[CL]],Grille_Tarifs_Modulable!$C$2:$C$204&Grille_Tarifs_Modulable!$F$2:$F$204,0)),0)} -> 3257150410167 | L69: =IF(Tableau1[[#This Row],[EAN]]=0,0,INDEX(Grille_Tarifs_Modulable!$B$7:$N$114,MATCH(Tableau1[[#This Row],[EAN]],Grille_Tarifs_Modulable!$B$7:$B$114,0),MATCH(Tableau1[[#This Row],[Tarificat° client]],Grille_Tarifs_Modulable!$7:$7,0)-1)+INDEX(Grille_Tarifs_Modulable!$M$7:$N$114,MATCH(Tableau1[[#This Row],[EAN]],Grille_Tarifs_Modulable!$B$7:$B$114,0),1)+INDEX(Grille_Tarifs_Modulable!$M$7:$N$114,MATCH(Tableau1[[#This Row],[EAN]],Grille_Tarifs_Modulable!$B$7:$B$114,0),2)) -> 15.778874 | M69: =IF(Tableau1[[#This Row],[Prix_Unit_HT]]=0,0,Tableau1[[#This Row],[Prix_Unit_HT]]+(Tableau1[[#This Row],[Prix_Unit_HT]]*VLOOKUP(Tableau1[[#This Row],[EAN]],Grille_Tarifs_Modulable!$B$10:$Q$204,16,FALSE))) -> 18.934649 | N69: 48 | O69: =ROUND(Tableau1[[#This Row],[Prix_Unit_HT]],2)*Tableau1[[#This Row],[Qte_commande]] -> 757.44 | P69: =ROUND(Tableau1[[#This Row],[Prix_Unit_TTC]],2)*Tableau1[[#This Row],[Qte_commande]] -> 908.64 | Q69: 68.57 | R69: =VALUE(IF(COUNTIF(Tableau1[[#This Row],[Type_Produit]],"*Boisson*"),PRODUCT(Tableau1[[#This Row],[CL]],Tableau1[[#This Row],[Qte_commande]])/100/0.7,IF(COUNTIF(Tableau1[[#This Row],[Type_Produit]],"*JGR*"),Tableau1[[#This Row],[Qte_commande]],0))) -> 68.571429
A70: 42472 | B70: 16V04176 | C70: FAUSTO | D70: ANGERS | G70: CHR | H70: JGR_TM | I70: FREEZER JÄGERMEISTER | J70: 6 | K70: {=IFERROR(INDEX(Grille_Tarifs_Modulable!$B$2:$B$204,MATCH(Tableau1[[#This Row],[Designation]]&Tableau1[[#This Row],[CL]],Grille_Tarifs_Modulable!$C$2:$C$204&Grille_Tarifs_Modulable!$F$2:$F$204,0)),0)} -> 125 | L70: =IF(Tableau1[[#This Row],[EAN]]=0,0,INDEX(Grille_Tarifs_Modulable!$B$7:$N$114,MATCH(Tableau1[[#This Row],[EAN]],Grille_Tarifs_Modulable!$B$7:$B$114,0),MATCH(Tableau1[[#This Row],[Tarificat° client]],Grille_Tarifs_Modulable!$7:$7,0)-1)+INDEX(Grille_Tarifs_Modulable!$M$7:$N$114,MATCH(Tableau1[[#This Row],[EAN]],Grille_Tarifs_Modulable!$B$7:$B$114,0),1)+INDEX(Grille_Tarifs_Modulable!$M$7:$N$114,MATCH(Tableau1[[#This Row],[EAN]],Grille_Tarifs_Modulable!$B$7:$B$114,0),2)) -> 139 | M70: =IF(Tableau1[[#This Row],[Prix_Unit_HT]]=0,0,Tableau1[[#This Row],[Prix_Unit_HT]]+(Tableau1[[#This Row],[Prix_Unit_HT]]*VLOOKUP(Tableau1[[#This Row],[EAN]],Grille_Tarifs_Modulable!$B$10:$Q$204,16,FALSE))) -> 166.8 | N70: 1 | O70: =ROUND(Tableau1[[#This Row],[Prix_Unit_HT]],2)*Tableau1[[#This Row],[Qte_commande]] -> 139 | P70: =ROUND(Tableau1[[#This Row],[Prix_Unit_TTC]],2)*Tableau1[[#This Row],[Qte_commande]] -> 166.8 | Q70: 1 | R70: =VALUE(IF(COUNTIF(Tableau1[[#This Row],[Type_Produit]],"*Boisson*"),PRODUCT(Tableau1[[#This Row],[CL]],Tableau1[[#This Row],[Qte_commande]])/100/0.7,IF(COUNTIF(Tableau1[[#This Row],[Type_Produit]],"*JGR*"),Tableau1[[#This Row],[Qte_commande]],0))) -> 1
A71: 42472 | B71: 16V04177 | C71: L'ATELIER | D71: ANGERS | G71: CHR | H71: JGR_TM | I71: FREEZER JÄGERMEISTER | J71: 6 | K71: {=IFERROR(INDEX(Grille_Tarifs_Modulable!$B$2:$B$204,MATCH(Tableau1[[#This Row],[Designation]]&Tableau1[[#This Row],[CL]],Grille_Tarifs_Modulable!$C$2:$C$204&Grille_Tarifs_Modulable!$F$2:$F$204,0)),0)} -> 125 | L71: =IF(Tableau1[[#This Row],[EAN]]=0,0,INDEX(Grille_Tarifs_Modulable!$B$7:$N$114,MATCH(Tableau1[[#This Row],[EAN]],Grille_Tarifs_Modulable!$B$7:$B$114,0),MATCH(Tableau1[[#This Row],[Tarificat° client]],Grille_Tarifs_Modulable!$7:$7,0)-1)+INDEX(Grille_Tarifs_Modulable!$M$7:$N$114,MATCH(Tableau1[[#This Row],[EAN]],Grille_Tarifs_Modulable!$B$7:$B$114,0),1)+INDEX(Grille_Tarifs_Modulable!$M$7:$N$114,MATCH(Tableau1[[#This Row],[EAN]],Grille_Tarifs_Modulable!$B$7:$B$114,0),2)) -> 139 | M71: =IF(Tableau1[[#This Row],[Prix_Unit_HT]]=0,0,Tableau1[[#This Row],[Prix_Unit_HT]]+(Tableau1[[#This Row],[Prix_Unit_HT]]*VLOOKUP(Tableau1[[#This Row],[EAN]],Grille_Tarifs_Modulable!$B$10:$Q$204,16,FALSE))) -> 166.8 | N71: 1 | O71: =ROUND(Tableau1[[#This Row],[Prix_Unit_HT]],2)*Tableau1[[#This Row],[Qte_commande]] -> 139 | P71: =ROUND(Tableau1[[#This Row],[Prix_Unit_TTC]],2)*Tableau1[[#This Row],[Qte_commande]] -> 166.8 | Q71: 1 | R71: =VALUE(IF(COUNTIF(Tableau1[[#This Row],[Type_Produit]],"*Boisson*"),PRODUCT(Tableau1[[#This Row],[CL]],Tableau1[[#This Row],[Qte_commande]])/100/0.7,IF(COUNTIF(Tableau1[[#This Row],[Type_Produit]],"*JGR*"),Tableau1[[#This Row],[Qte_commande]],0))) -> 1
A72: 42472 | B72: 16V04121 | C72: POITOU | D72: CHASSENEUIL DU POITOU | G72: GROS | H72: Boisson_Spirit | I72: Jägermeister | J72: 70 | K72: {=IFERROR(INDEX(Grille_Tarifs_Modulable!$B$2:$B$204,MATCH(Tableau1[[#This Row],[Designation]]&Tableau1[[#This Row],[CL]],Grille_Tarifs_Modulable!$C$2:$C$204&Grille_Tarifs_Modulable!$F$2:$F$204,0)),0)} -> 4067700013859 | L72: =IF(Tableau1[[#This Row],[EAN]]=0,0,INDEX(Grille_Tarifs_Modulable!$B$7:$N$114,MATCH(Tableau1[[#This Row],[EAN]],Grille_Tarifs_Modulable!$B$7:$B$114,0),MATCH(Tableau1[[#This Row],[Tarificat° client]],Grille_Tarifs_Modulable!$7:$7,0)-1)+INDEX(Grille_Tarifs_Modulable!$M$7:$N$114,MATCH(Tableau1[[#This Row],[EAN]],Grille_Tarifs_Modulable!$B$7:$B$114,0),1)+INDEX(Grille_Tarifs_Modulable!$M$7:$N$114,MATCH(Tableau1[[#This Row],[EAN]],Grille_Tarifs_Modulable!$B$7:$B$114,0),2)) -> 12.532563 | M72: =IF(Tableau1[[#This Row],[Prix_Unit_HT]]=0,0,Tableau1[[#This Row],[Prix_Unit_HT]]+(Tableau1[[#This Row],[Prix_Unit_HT]]*VLOOKUP(Tableau1[[#This Row],[EAN]],Grille_Tarifs_Modulable!$B$10:$Q$204,16,FALSE))) -> 15.039076 | N72: 144 | O72: =ROUND(Tableau1[[#This Row],[Prix_Unit_HT]],2)*Tableau1[[#This Row],[Qte_commande]] -> 1804.32 | P72: =ROUND(Tableau1[[#This Row],[Prix_Unit_TTC]],2)*Tableau1[[#This Row],[Qte_commande]] -> 2165.76 | Q72: 144 | R72: =VALUE(IF(COUNTIF(Tableau1[[#This Row],[Type_Produit]],"*Boisson*"),PRODUCT(Tableau1[[#This Row],[CL]],Tableau1[[#This Row],[Qte_commande]])/100/0.7,IF(COUNTIF(Tableau1[[#This Row],[Type_Produit]],"*JGR*"),Tableau1[[#This Row],[Qte_commande]],0))) -> 144
A73: 42472 | B73: 16V04121 | C73: POITOU | D73: CHASSENEUIL DU POITOU | G73: GROS | H73: Boisson_Spirit | I73: Jägermeister | J73: 70 | K73: {=IFERROR(INDEX(Grille_Tarifs_Modulable!$B$2:$B$204,MATCH(Tableau1[[#This Row],[Designation]]&Tableau1[[#This Row],[CL]],Grille_Tarifs_Modulable!$C$2:$C$204&Grille_Tarifs_Modulable!$F$2:$F$204,0)),0)} -> 4067700013859 | L73: =IF(Tableau1[[#This Row],[EAN]]=0,0,INDEX(Grille_Tarifs_Modulable!$B$7:$N$114,MATCH(Tableau1[[#This Row],[EAN]],Grille_Tarifs_Modulable!$B$7:$B$114,0),MATCH(Tableau1[[#This Row],[Tarificat° client]],Grille_Tarifs_Modulable!$7:$7,0)-1)+INDEX(Grille_Tarifs_Modulable!$M$7:$N$114,MATCH(Tableau1[[#This Row],[EAN]],Grille_Tarifs_Modulable!$B$7:$B$114,0),1)+INDEX(Grille_Tarifs_Modulable!$M$7:$N$114,MATCH(Tableau1[[#This Row],[EAN]],Grille_Tarifs_Modulable!$B$7:$B$114,0),2)) -> 12.532563 | M73: =IF(Tableau1[[#This Row],[Prix_Unit_HT]]=0,0,Tableau1[[#This Row],[Prix_Unit_HT]]+(Tableau1[[#This Row],[Prix_Unit_HT]]*VLOOKUP(Tableau1[[#This Row],[EAN]],Grille_Tarifs_Modulable!$B$10:$Q$204,16,FALSE))) -> 15.039076 | N73: 6 | O73: =ROUND(Tableau1[[#This Row],[Prix_Unit_HT]],2)*Tableau1[[#This Row],[Qte_commande]] -> 75.18 | P73: =ROUND(Tableau1[[#This Row],[Prix_Unit_TTC]],2)*Tableau1[[#This Row],[Qte_commande]] -> 90.24 | Q73: 6 | R73: =VALUE(IF(COUNTIF(Tableau1[[#This Row],[Type_Produit]],"*Boisson*"),PRODUCT(Tableau1[[#This Row],[CL]],Tableau1[[#This Row],[Qte_commande]])/100/0.7,IF(COUNTIF(Tableau1[[#This Row],[Type_Produit]],"*JGR*"),Tableau1[[#This Row],[Qte_commande]],0))) -> 6
A74: 42472 | B74: 16V04178 | C74: GAROUDA | D74: VILLEPERDUE | G74: CHR | H74: JGR_TM | I74: TAP MACHINE JÄGERMEISTER | J74: 3 | K74: {=IFERROR(INDEX(Grille_Tarifs_Modulable!$B$2:$B$204,MATCH(Tableau1[[#This Row],[Designation]]&Tableau1[[#This Row],[CL]],Grille_Tarifs_Modulable!$C$2:$C$204&Grille_Tarifs_Modulable!$F$2:$F$204,0)),0)} -> 121 | L74: =IF(Tableau1[[#This Row],[EAN]]=0,0,INDEX(Grille_Tarifs_Modulable!$B$7:$N$114,MATCH(Tableau1[[#This Row],[EAN]],Grille_Tarifs_Modulable!$B$7:$B$114,0),MATCH(Tableau1[[#This Row],[Tarificat° client]],Grille_Tarifs_Modulable!$7:$7,0)-1)+INDEX(Grille_Tarifs_Modulable!$M$7:$N$114,MATCH(Tableau1[[#This Row],[EAN]],Grille_Tarifs_Modulable!$B$7:$B$114,0),1)+INDEX(Grille_Tarifs_Modulable!$M$7:$N$114,MATCH(Tableau1[[#This Row],[EAN]],Grille_Tarifs_Modulable!$B$7:$B$114,0),2)) -> 299 | M74: =IF(Tableau1[[#This Row],[Prix_Unit_HT]]=0,0,Tableau1[[#This Row],[Prix_Unit_HT]]+(Tableau1[[#This Row],[Prix_Unit_HT]]*VLOOKUP(Tableau1[[#This Row],[EAN]],Grille_Tarifs_Modulable!$B$10:$Q$204,16,FALSE))) -> 358.8 | N74: 1 | O74: =ROUND(Tableau1[[#This Row],[Prix_Unit_HT]],2)*Tableau1[[#This Row],[Qte_commande]] -> 299 | P74: =ROUND(Tableau1[[#This Row],[Prix_Unit_TTC]],2)*Tableau1[[#This Row],[Qte_commande]] -> 358.8 | Q74: 1 | R74: =VALUE(IF(COUNTIF(Tableau1[[#This Row],[Type_Produit]],"*Boisson*"),PRODUCT(Tableau1[[#This Row],[CL]],Tableau1[[#This Row],[Qte_commande]])/100/0.7,IF(COUNTIF(Tableau1[[#This Row],[Type_Produit]],"*JGR*"),Tableau1[[#This Row],[Qte_commande]],0))) -> 1
A75: 42475 | B75: 16V04207 | C75: SCHOEN | D75: JOUE LES TOURS | G75: GROS | H75: Boisson_Spirit | I75: Jägermeister | J75: 70 | K75: {=IFERROR(INDEX(Grille_Tarifs_Modulable!$B$2:$B$204,MATCH(Tableau1[[#This Row],[Designation]]&Tableau1[[#This Row],[CL]],Grille_Tarifs_Modulable!$C$2:$C$204&Grille_Tarifs_Modulable!$F$2:$F$204,0)),0)} -> 4067700013859 | L75: =IF(Tableau1[[#This Row],[EAN]]=0,0,INDEX(Grille_Tarifs_Modulable!$B$7:$N$114,MATCH(Tableau1[[#This Row],[EAN]],Grille_Tarifs_Modulable!$B$7:$B$114,0),MATCH(Tableau1[[#This Row],[Tarificat° client]],Grille_Tarifs_Modulable!$7:$7,0)-1)+INDEX(Grille_Tarifs_Modulable!$M$7:$N$114,MATCH(Tableau1[[#This Row],[EAN]],Grille_Tarifs_Modulable!$B$7:$B$114,0),1)+INDEX(Grille_Tarifs_Modulable!$M$7:$N$114,MATCH(Tableau1[[#This Row],[EAN]],Grille_Tarifs_Modulable!$B$7:$B$114,0),2)) -> 12.532563 | M75: =IF(Tableau1[[#This Row],[Prix_Unit_HT]]=0,0,Tableau1[[#This Row],[Prix_Unit_HT]]+(Tableau1[[#This Row],[Prix_Unit_HT]]*VLOOKUP(Tableau1[[#This Row],[EAN]],Grille_Tarifs_Modulable!$B$10:$Q$204,16,FALSE))) -> 15.039076 | N75: 60 | O75: =ROUND(Tableau1[[#This Row],[Prix_Unit_HT]],2)*Tableau1[[#This Row],[Qte_commande]] -> 751.8 | P75: =ROUND(Tableau1[[#This Row],[Prix_Unit_TTC]],2)*Tableau1[[#This Row],[Qte_commande]] -> 902.4 | Q75: 60 | R75: =VALUE(IF(COUNTIF(Tableau1[[#This Row],[Type_Produit]],"*Boisson*"),PRODUCT(Tableau1[[#This Row],[CL]],Tableau1[[#This Row],[Qte_commande]])/100/0.7,IF(COUNTIF(Tableau1[[#This Row],[Type_Produit]],"*JGR*"),Tableau1[[#This Row],[Qte_commande]],0))) -> 60
A76: 42475 | B76: 16V04207 | C76: SCHOEN | D76: JOUE LES TOURS | G76: GROS | H76: Boisson_Spirit | I76: Jägermeister | J76: 100 | K76: {=IFERROR(INDEX(Grille_Tarifs_Modulable!$B$2:$B$204,MATCH(Tableau1[[#This Row],[Designation]]&Tableau1[[#This Row],[CL]],Grille_Tarifs_Modulable!$C$2:$C$204&Grille_Tarifs_Modulable!$F$2:$F$204,0)),0)} -> 4067700013842 | L76: =IF(Tableau1[[#This Row],[EAN]]=0,0,INDEX(Grille_Tarifs_Modulable!$B$7:$N$114,MATCH(Tableau1[[#This Row],[EAN]],Grille_Tarifs_Modulable!$B$7:$B$114,0),MATCH(Tableau1[[#This Row],[Tarificat° client]],Grille_Tarifs_Modulable!$7:$7,0)-1)+INDEX(Grille_Tarifs_Modulable!$M$7:$N$114,MATCH(Tableau1[[#This Row],[EAN]],Grille_Tarifs_Modulable!$B$7:$B$114,0),1)+INDEX(Grille_Tarifs_Modulable!$M$7:$N$114,MATCH(Tableau1[[#This Row],[EAN]],Grille_Tarifs_Modulable!$B$7:$B$114,0),2)) -> 17.100805 | M76: =IF(Tableau1[[#This Row],[Prix_Unit_HT]]=0,0,Tableau1[[#This Row],[Prix_Unit_HT]]+(Tableau1[[#This Row],[Prix_Unit_HT]]*VLOOKUP(Tableau1[[#This Row],[EAN]],Grille_Tarifs_Modulable!$B$10:$Q$204,16,FALSE))) -> 20.520966 | N76: 180 | O76: =ROUND(Tableau1[[#This Row],[Prix_Unit_HT]],2)*Tableau1[[#This Row],[Qte_commande]] -> 3078 | P76: =ROUND(Tableau1[[#This Row],[Prix_Unit_TTC]],2)*Tableau1[[#This Row],[Qte_commande]] -> 3693.6 | Q76: 257.14 | R76: =VALUE(IF(COUNTIF(Tableau1[[#This Row],[Type_Produit]],"*Boisson*"),PRODUCT(Tableau1[[#This Row],[CL]],Tableau1[[#This Row],[Qte_commande]])/100/0.7,IF(COUNTIF(Tableau1[[#This Row],[Type_Produit]],"*JGR*"),Tableau1[[#This Row],[Qte_commande]],0))) -> 257.14286
... A79: 42479 | B79: 16V04286 | C79: TEO | D79: BEAUGENCY | G79: CHR | H79: JGR_TM | I79: TAP MACHINE JÄGERMEISTER | J79: 3 | K79: {=IFERROR(INDEX(Grille_Tarifs_Modulable!$B$2:$B$204,MATCH(Tableau1[[#This Row],[Designation]]&Tableau1[[#This Row],[CL]],Grille_Tarifs_Modulable!$C$2:$C$204&Grille_Tarifs_Modulable!$F$2:$F$204,0)),0)} -> 121 | L79: =IF(Tableau1[[#This Row],[EAN]]=0,0,INDEX(Grille_Tarifs_Modulable!$B$7:$N$114,MATCH(Tableau1[[#This Row],[EAN]],Grille_Tarifs_Modulable!$B$7:$B$114,0),MATCH(Tableau1[[#This Row],[Tarificat° client]],Grille_Tarifs_Modulable!$7:$7,0)-1)+INDEX(Grille_Tarifs_Modulable!$M$7:$N$114,MATCH(Tableau1[[#This Row],[EAN]],Grille_Tarifs_Modulable!$B$7:$B$114,0),1)+INDEX(Grille_Tarifs_Modulable!$M$7:$N$114,MATCH(Tableau1[[#This Row],[EAN]],Grille_Tarifs_Modulable!$B$7:$B$114,0),2)) -> 299 | M79: =IF(Tableau1[[#This Row],[Prix_Unit_HT]]=0,0,Tableau1[[#This Row],[Prix_Unit_HT]]+(Tableau1[[#This Row],[Prix_Unit_HT]]*VLOOKUP(Tableau1[[#This Row],[EAN]],Grille_Tarifs_Modulable!$B$10:$Q$204,16,FALSE))) -> 358.8 | N79: 1 | O79: =ROUND(Tableau1[[#This Row],[Prix_Unit_HT]],2)*Tableau1[[#This Row],[Qte_commande]] -> 299 | P79: =ROUND(Tableau1[[#This Row],[Prix_Unit_TTC]],2)*Tableau1[[#This Row],[Qte_commande]] -> 358.8 | Q79: 1 | R79: =VALUE(IF(COUNTIF(Tableau1[[#This Row],[Type_Produit]],"*Boisson*"),PRODUCT(Tableau1[[#This Row],[CL]],Tableau1[[#This Row],[Qte_commande]])/100/0.7,IF(COUNTIF(Tableau1[[#This Row],[Type_Produit]],"*JGR*"),Tableau1[[#This Row],[Qte_commande]],0))) -> 1
A80: 42492 | B80: 16V04450 | C80: BIGWOOD'S | D80: ANGERS | F80: CHR_BAR | G80: CHR | H80: Boisson_Spirit | I80: Danzinger Goldwasser | J80: 70 | K80: {=IFERROR(INDEX(Grille_Tarifs_Modulable!$B$2:$B$204,MATCH(Tableau1[[#This Row],[Designation]]&Tableau1[[#This Row],[CL]],Grille_Tarifs_Modulable!$C$2:$C$204&Grille_Tarifs_Modulable!$F$2:$F$204,0)),0)} -> 4055800060200 | L80: =IF(Tableau1[[#This Row],[EAN]]=0,0,INDEX(Grille_Tarifs_Modulable!$B$7:$N$114,MATCH(Tableau1[[#This Row],[EAN]],Grille_Tarifs_Modulable!$B$7:$B$114,0),MATCH(Tableau1[[#This Row],[Tarificat° client]],Grille_Tarifs_Modulable!$7:$7,0)-1)+INDEX(Grille_Tarifs_Modulable!$M$7:$N$114,MATCH(Tableau1[[#This Row],[EAN]],Grille_Tarifs_Modulable!$B$7:$B$114,0),1)+INDEX(Grille_Tarifs_Modulable!$M$7:$N$114,MATCH(Tableau1[[#This Row],[EAN]],Grille_Tarifs_Modulable!$B$7:$B$114,0),2)) -> 18.588644 | M80: =IF(Tableau1[[#This Row],[Prix_Unit_HT]]=0,0,Tableau1[[#This Row],[Prix_Unit_HT]]+(Tableau1[[#This Row],[Prix_Unit_HT]]*VLOOKUP(Tableau1[[#This Row],[EAN]],Grille_Tarifs_Modulable!$B$10:$Q$204,16,FALSE))) -> 22.306373 | N80: 6 | O80: =ROUND(Tableau1[[#This Row],[Prix_Unit_HT]],2)*Tableau1[[#This Row],[Qte_commande]] -> 111.54 | P80: =ROUND(Tableau1[[#This Row],[Prix_Unit_TTC]],2)*Tableau1[[#This Row],[Qte_commande]] -> 133.86 | Q80: 6 | R80: =VALUE(IF(COUNTIF(Tableau1[[#This Row],[Type_Produit]],"*Boisson*"),PRODUCT(Tableau1[[#This Row],[CL]],Tableau1[[#This Row],[Qte_commande]])/100/0.7,IF(COUNTIF(Tableau1[[#This Row],[Type_Produit]],"*JGR*"),Tableau1[[#This Row],[Qte_commande]],0))) -> 6
A81: 42492 | B81: 16V04444 | C81: DIAMS TONIC | D81: JALLAIS | F81: CHR_CLUB | G81: CHR | H81: Boisson_Spirit | I81: Jägermeister | J81: 175 | K81: {=IFERROR(INDEX(Grille_Tarifs_Modulable!$B$2:$B$204,MATCH(Tableau1[[#This Row],[Designation]]&Tableau1[[#This Row],[CL]],Grille_Tarifs_Modulable!$C$2:$C$204&Grille_Tarifs_Modulable!$F$2:$F$204,0)),0)} -> 4067700013835 | L81: =IF(Tableau1[[#This Row],[EAN]]=0,0,INDEX(Grille_Tarifs_Modulable!$B$7:$N$114,MATCH(Tableau1[[#This Row],[EAN]],Grille_Tarifs_Modulable!$B$7:$B$114,0),MATCH(Tableau1[[#This Row],[Tarificat° client]],Grille_Tarifs_Modulable!$7:$7,0)-1)+INDEX(Grille_Tarifs_Modulable!$M$7:$N$114,MATCH(Tableau1[[#This Row],[EAN]],Grille_Tarifs_Modulable!$B$7:$B$114,0),1)+INDEX(Grille_Tarifs_Modulable!$M$7:$N$114,MATCH(Tableau1[[#This Row],[EAN]],Grille_Tarifs_Modulable!$B$7:$B$114,0),2)) -> 32.266409 | M81: =IF(Tableau1[[#This Row],[Prix_Unit_HT]]=0,0,Tableau1[[#This Row],[Prix_Unit_HT]]+(Tableau1[[#This Row],[Prix_Unit_HT]]*VLOOKUP(Tableau1[[#This Row],[EAN]],Grille_Tarifs_Modulable!$B$10:$Q$204,16,FALSE))) -> 38.71969 | N81: 36 | O81: =ROUND(Tableau1[[#This Row],[Prix_Unit_HT]],2)*Tableau1[[#This Row],[Qte_commande]] -> 1161.72 | P81: =ROUND(Tableau1[[#This Row],[Prix_Unit_TTC]],2)*Tableau1[[#This Row],[Qte_commande]] -> 1393.92 | Q81: 90 | R81: =VALUE(IF(COUNTIF(Tableau1[[#This Row],[Type_Produit]],"*Boisson*"),PRODUCT(Tableau1[[#This Row],[CL]],Tableau1[[#This Row],[Qte_commande]])/100/0.7,IF(COUNTIF(Tableau1[[#This Row],[Type_Produit]],"*JGR*"),Tableau1[[#This Row],[Qte_commande]],0))) -> 90
A82: 42492 | B82: 16V04450 | C82: BIGWOOD'S | D82: ANGERS | F82: CHR_BAR | G82: CHR | H82: Boisson_Soft | I82: Mate Mate | J82: 50 | K82: {=IFERROR(INDEX(Grille_Tarifs_Modulable!$B$2:$B$204,MATCH(Tableau1[[#This Row],[Designation]]&Tableau1[[#This Row],[CL]],Grille_Tarifs_Modulable!$C$2:$C$204&Grille_Tarifs_Modulable!$F$2:$F$204,0)),0)} -> 4260310553382 | L82: =IF(Tableau1[[#This Row],[EAN]]=0,0,INDEX(Grille_Tarifs_Modulable!$B$7:$N$114,MATCH(Tableau1[[#This Row],[EAN]],Grille_Tarifs_Modulable!$B$7:$B$114,0),MATCH(Tableau1[[#This Row],[Tarificat° client]],Grille_Tarifs_Modulable!$7:$7,0)-1)+INDEX(Grille_Tarifs_Modulable!$M$7:$N$114,MATCH(Tableau1[[#This Row],[EAN]],Grille_Tarifs_Modulable!$B$7:$B$114,0),1)+INDEX(Grille_Tarifs_Modulable!$M$7:$N$114,MATCH(Tableau1[[#This Row],[EAN]],Grille_Tarifs_Modulable!$B$7:$B$114,0),2)) -> 1.1 | M82: =IF(Tableau1[[#This Row],[Prix_Unit_HT]]=0,0,Tableau1[[#This Row],[Prix_Unit_HT]]+(Tableau1[[#This Row],[Prix_Unit_HT]]*VLOOKUP(Tableau1[[#This Row],[EAN]],Grille_Tarifs_Modulable!$B$10:$Q$204,16,FALSE))) -> 1.1605 | N82: 40 | O82: =ROUND(Tableau1[[#This Row],[Prix_Unit_HT]],2)*Tableau1[[#This Row],[Qte_commande]] -> 44 | P82: =ROUND(Tableau1[[#This Row],[Prix_Unit_TTC]],2)*Tableau1[[#This Row],[Qte_commande]] -> 46.4 | Q82: 28.57 | R82: =VALUE(IF(COUNTIF(Tableau1[[#This Row],[Type_Produit]],"*Boisson*"),PRODUCT(Tableau1[[#This Row],[CL]],Tableau1[[#This Row],[Qte_commande]])/100/0.7,IF(COUNTIF(Tableau1[[#This Row],[Type_Produit]],"*JGR*"),Tableau1[[#This Row],[Qte_commande]],0))) -> 28.571429
A83: 42492 | B83: 16V04450 | C83: BIGWOOD'S | D83: ANGERS | F83: CHR_BAR | G83: CHR | H83: Boisson_Spirit | I83: Meukow Vanilla | J83: 70 | K83: {=IFERROR(INDEX(Grille_Tarifs_Modulable!$B$2:$B$204,MATCH(Tableau1[[#This Row],[Designation]]&Tableau1[[#This Row],[CL]],Grille_Tarifs_Modulable!$C$2:$C$204&Grille_Tarifs_Modulable!$F$2:$F$204,0)),0)} -> 3257150101904 | L83: =IF(Tableau1[[#This Row],[EAN]]=0,0,INDEX(Grille_Tarifs_Modulable!$B$7:$N$114,MATCH(Tableau1[[#This Row],[EAN]],Grille_Tarifs_Modulable!$B$7:$B$114,0),MATCH(Tableau1[[#This Row],[Tarificat° client]],Grille_Tarifs_Modulable!$7:$7,0)-1)+INDEX(Grille_Tarifs_Modulable!$M$7:$N$114,MATCH(Tableau1[[#This Row],[EAN]],Grille_Tarifs_Modulable!$B$7:$B$114,0),1)+INDEX(Grille_Tarifs_Modulable!$M$7:$N$114,MATCH(Tableau1[[#This Row],[EAN]],Grille_Tarifs_Modulable!$B$7:$B$114,0),2)) -> 18.506483 | M83: =IF(Tableau1[[#This Row],[Prix_Unit_HT]]=0,0,Tableau1[[#This Row],[Prix_Unit_HT]]+(Tableau1[[#This Row],[Prix_Unit_HT]]*VLOOKUP(Tableau1[[#This Row],[EAN]],Grille_Tarifs_Modulable!$B$10:$Q$204,16,FALSE))) -> 22.20778 | N83: 6 | O83: =ROUND(Tableau1[[#This Row],[Prix_Unit_HT]],2)*Tableau1[[#This Row],[Qte_commande]] -> 111.06 | P83: =ROUND(Tableau1[[#This Row],[Prix_Unit_TTC]],2)*Tableau1[[#This Row],[Qte_commande]] -> 133.26 | Q83: 6 | R83: =VALUE(IF(COUNTIF(Tableau1[[#This Row],[Type_Produit]],"*Boisson*"),PRODUCT(Tableau1[[#This Row],[CL]],Tableau1[[#This Row],[Qte_commande]])/100/0.7,IF(COUNTIF(Tableau1[[#This Row],[Type_Produit]],"*JGR*"),Tableau1[[#This Row],[Qte_commande]],0))) -> 6
A84: 42492 | B84: 16V04450 | C84: BIGWOOD'S | D84: ANGERS | F84: CHR_BAR | G84: CHR | H84: Boisson_Spirit | I84: Meukow VSOP | J84: 70 | K84: {=IFERROR(INDEX(Grille_Tarifs_Modulable!$B$2:$B$204,MATCH(Tableau1[[#This Row],[Designation]]&Tableau1[[#This Row],[CL]],Grille_Tarifs_Modulable!$C$2:$C$204&Grille_Tarifs_Modulable!$F$2:$F$204,0)),0)} -> 3257150100167 | L84: =IF(Tableau1[[#This Row],[EAN]]=0,0,INDEX(Grille_Tarifs_Modulable!$B$7:$N$114,MATCH(Tableau1[[#This Row],[EAN]],Grille_Tarifs_Modulable!$B$7:$B$114,0),MATCH(Tableau1[[#This Row],[Tarificat° client]],Grille_Tarifs_Modulable!$7:$7,0)-1)+INDEX(Grille_Tarifs_Modulable!$M$7:$N$114,MATCH(Tableau1[[#This Row],[EAN]],Grille_Tarifs_Modulable!$B$7:$B$114,0),1)+INDEX(Grille_Tarifs_Modulable!$M$7:$N$114,MATCH(Tableau1[[#This Row],[EAN]],Grille_Tarifs_Modulable!$B$7:$B$114,0),2)) -> 29.948644 | M84: =IF(Tableau1[[#This Row],[Prix_Unit_HT]]=0,0,Tableau1[[#This Row],[Prix_Unit_HT]]+(Tableau1[[#This Row],[Prix_Unit_HT]]*VLOOKUP(Tableau1[[#This Row],[EAN]],Grille_Tarifs_Modulable!$B$10:$Q$204,16,FALSE))) -> 35.938373 | N84: 6 | O84: =ROUND(Tableau1[[#This Row],[Prix_Unit_HT]],2)*Tableau1[[#This Row],[Qte_commande]] -> 179.7 | P84: =ROUND(Tableau1[[#This Row],[Prix_Unit_TTC]],2)*Tableau1[[#This Row],[Qte_commande]] -> 215.64 | Q84: 6 | R84: =VALUE(IF(COUNTIF(Tableau1[[#This Row],[Type_Produit]],"*Boisson*"),PRODUCT(Tableau1[[#This Row],[CL]],Tableau1[[#This Row],[Qte_commande]])/100/0.7,IF(COUNTIF(Tableau1[[#This Row],[Type_Produit]],"*JGR*"),Tableau1[[#This Row],[Qte_commande]],0))) -> 6
A85: 42492 | B85: 16V04450 | C85: BIGWOOD'S | D85: ANGERS | F85: CHR_BAR | G85: CHR | H85: Boisson_Spirit | I85: Meukow Xpresso | J85: 70 | K85: {=IFERROR(INDEX(Grille_Tarifs_Modulable!$B$2:$B$204,MATCH(Tableau1[[#This Row],[Designation]]&Tableau1[[#This Row],[CL]],Grille_Tarifs_Modulable!$C$2:$C$204&Grille_Tarifs_Modulable!$F$2:$F$204,0)),0)} -> 3257150102017 | L85: =IF(Tableau1[[#This Row],[EAN]]=0,0,INDEX(Grille_Tarifs_Modulable!$B$7:$N$114,MATCH(Tableau1[[#This Row],[EAN]],Grille_Tarifs_Modulable!$B$7:$B$114,0),MATCH(Tableau1[[#This Row],[Tarificat° client]],Grille_Tarifs_Modulable!$7:$7,0)-1)+INDEX(Grille_Tarifs_Modulable!$M$7:$N$114,MATCH(Tableau1[[#This Row],[EAN]],Grille_Tarifs_Modulable!$B$7:$B$114,0),1)+INDEX(Grille_Tarifs_Modulable!$M$7:$N$114,MATCH(Tableau1[[#This Row],[EAN]],Grille_Tarifs_Modulable!$B$7:$B$114,0),2)) -> 16.854322 | M85: =IF(Tableau1[[#This Row],[Prix_Unit_HT]]=0,0,Tableau1[[#This Row],[Prix_Unit_HT]]+(Tableau1[[#This Row],[Prix_Unit_HT]]*VLOOKUP(Tableau1[[#This Row],[EAN]],Grille_Tarifs_Modulable!$B$10:$Q$204,16,FALSE))) -> 20.225186 | N85: 6 | O85: =ROUND(Tableau1[[#This Row],[Prix_Unit_HT]],2)*Tableau1[[#This Row],[Qte_commande]] -> 101.1 | P85: =ROUND(Tableau1[[#This Row],[Prix_Unit_TTC]],2)*Tableau1[[#This Row],[Qte_commande]] -> 121.38 | Q85: 6 | R85: =VALUE(IF(COUNTIF(Tableau1[[#This Row],[Type_Produit]],"*Boisson*"),PRODUCT(Tableau1[[#This Row],[CL]],Tableau1[[#This Row],[Qte_commande]])/100/0.7,IF(COUNTIF(Tableau1[[#This Row],[Type_Produit]],"*JGR*"),Tableau1[[#This Row],[Qte_commande]],0))) -> 6
A86: 42492 | B86: 16V04450 | C86: BIGWOOD'S | D86: ANGERS | F86: CHR_BAR | G86: CHR | H86: Boisson_Spirit | I86: Santiago de Cuba Anejo | J86: 70 | K86: {=IFERROR(INDEX(Grille_Tarifs_Modulable!$B$2:$B$204,MATCH(Tableau1[[#This Row],[Designation]]&Tableau1[[#This Row],[CL]],Grille_Tarifs_Modulable!$C$2:$C$204&Grille_Tarifs_Modulable!$F$2:$F$204,0)),0)} -> 8500000917015 | L86: =IF(Tableau1[[#This Row],[EAN]]=0,0,INDEX(Grille_Tarifs_Modulable!$B$7:$N$114,MATCH(Tableau1[[#This Row],[EAN]],Grille_Tarifs_Modulable!$B$7:$B$114,0),MATCH(Tableau1[[#This Row],[Tarificat° client]],Grille_Tarifs_Modulable!$7:$7,0)-1)+INDEX(Grille_Tarifs_Modulable!$M$7:$N$114,MATCH(Tableau1[[#This Row],[EAN]],Grille_Tarifs_Modulable!$B$7:$B$114,0),1)+INDEX(Grille_Tarifs_Modulable!$M$7:$N$114,MATCH(Tableau1[[#This Row],[EAN]],Grille_Tarifs_Modulable!$B$7:$B$114,0),2)) -> 12.738212 | M86: =IF(Tableau1[[#This Row],[Prix_Unit_HT]]=0,0,Tableau1[[#This Row],[Prix_Unit_HT]]+(Tableau1[[#This Row],[Prix_Unit_HT]]*VLOOKUP(Tableau1[[#This Row],[EAN]],Grille_Tarifs_Modulable!$B$10:$Q$204,16,FALSE))) -> 15.285854 | N86: 6 | O86: =ROUND(Tableau1[[#This Row],[Prix_Unit_HT]],2)*Tableau1[[#This Row],[Qte_commande]] -> 76.44 | P86: =ROUND(Tableau1[[#This Row],[Prix_Unit_TTC]],2)*Tableau1[[#This Row],[Qte_commande]] -> 91.74 | Q86: 6 | R86: =VALUE(IF(COUNTIF(Tableau1[[#This Row],[Type_Produit]],"*Boisson*"),PRODUCT(Tableau1[[#This Row],[CL]],Tableau1[[#This Row],[Qte_commande]])/100/0.7,IF(COUNTIF(Tableau1[[#This Row],[Type_Produit]],"*JGR*"),Tableau1[[#This Row],[Qte_commande]],0))) -> 6
A87: 42492 | B87: 16V04450 | C87: BIGWOOD'S | D87: ANGERS | F87: CHR_BAR | G87: CHR | H87: Boisson_Spirit | I87: Santiago de Cuba, Carta Blanca | J87: 70 | K87: {=IFERROR(INDEX(Grille_Tarifs_Modulable!$B$2:$B$204,MATCH(Tableau1[[#This Row],[Designation]]&Tableau1[[#This Row],[CL]],Grille_Tarifs_Modulable!$C$2:$C$204&Grille_Tarifs_Modulable!$F$2:$F$204,0)),0)} -> 8500000917008 | L87: =IF(Tableau1[[#This Row],[EAN]]=0,0,INDEX(Grille_Tarifs_Modulable!$B$7:$N$114,MATCH(Tableau1[[#This Row],[EAN]],Grille_Tarifs_Modulable!$B$7:$B$114,0),MATCH(Tableau1[[#This Row],[Tarificat° client]],Grille_Tarifs_Modulable!$7:$7,0)-1)+INDEX(Grille_Tarifs_Modulable!$M$7:$N$114,MATCH(Tableau1[[#This Row],[EAN]],Grille_Tarifs_Modulable!$B$7:$B$114,0),1)+INDEX(Grille_Tarifs_Modulable!$M$7:$N$114,MATCH(Tableau1[[#This Row],[EAN]],Grille_Tarifs_Modulable!$B$7:$B$114,0),2)) -> 11.528212 | M87: =IF(Tableau1[[#This Row],[Prix_Unit_HT]]=0,0,Tableau1[[#This Row],[Prix_Unit_HT]]+(Tableau1[[#This Row],[Prix_Unit_HT]]*VLOOKUP(Tableau1[[#This Row],[EAN]],Grille_Tarifs_Modulable!$B$10:$Q$204,16,FALSE))) -> 13.833854 | N87: 6 | O87: =ROUND(Tableau1[[#This Row],[Prix_Unit_HT]],2)*Tableau1[[#This Row],[Qte_commande]] -> 69.18 | P87: =ROUND(Tableau1[[#This Row],[Prix_Unit_TTC]],2)*Tableau1[[#This Row],[Qte_commande]] -> 82.98 | Q87: 6 | R87: =VALUE(IF(COUNTIF(Tableau1[[#This Row],[Type_Produit]],"*Boisson*"),PRODUCT(Tableau1[[#This Row],[CL]],Tableau1[[#This Row],[Qte_commande]])/100/0.7,IF(COUNTIF(Tableau1[[#This Row],[Type_Produit]],"*JGR*"),Tableau1[[#This Row],[Qte_commande]],0))) -> 6
A88: 42492 | B88: 16V04450 | C88: BIGWOOD'S | D88: ANGERS | F88: CHR_BAR | G88: CHR | H88: Boisson_Spirit | I88: Seve Feu de Joie | J88: 70 | K88: {=IFERROR(INDEX(Grille_Tarifs_Modulable!$B$2:$B$204,MATCH(Tableau1[[#This Row],[Designation]]&Tableau1[[#This Row],[CL]],Grille_Tarifs_Modulable!$C$2:$C$204&Grille_Tarifs_Modulable!$F$2:$F$204,0)),0)} -> 3257150688009 | L88: =IF(Tableau1[[#This Row],[EAN]]=0,0,INDEX(Grille_Tarifs_Modulable!$B$7:$N$114,MATCH(Tableau1[[#This Row],[EAN]],Grille_Tarifs_Modulable!$B$7:$B$114,0),MATCH(Tableau1[[#This Row],[Tarificat° client]],Grille_Tarifs_Modulable!$7:$7,0)-1)+INDEX(Grille_Tarifs_Modulable!$M$7:$N$114,MATCH(Tableau1[[#This Row],[EAN]],Grille_Tarifs_Modulable!$B$7:$B$114,0),1)+INDEX(Grille_Tarifs_Modulable!$M$7:$N$114,MATCH(Tableau1[[#This Row],[EAN]],Grille_Tarifs_Modulable!$B$7:$B$114,0),2)) -> 14.516915 | M88: =IF(Tableau1[[#This Row],[Prix_Unit_HT]]=0,0,Tableau1[[#This Row],[Prix_Unit_HT]]+(Tableau1[[#This Row],[Prix_Unit_HT]]*VLOOKUP(Tableau1[[#This Row],[EAN]],Grille_Tarifs_Modulable!$B$10:$Q$204,16,FALSE))) -> 17.420298 | N88: 12 | O88: =ROUND(Tableau1[[#This Row],[Prix_Unit_HT]],2)*Tableau1[[#This Row],[Qte_commande]] -> 174.24 | P88: =ROUND(Tableau1[[#This Row],[Prix_Unit_TTC]],2)*Tableau1[[#This Row],[Qte_commande]] -> 209.04 | Q88: 12 | R88: =VALUE(IF(COUNTIF(Tableau1[[#This Row],[Type_Produit]],"*Boisson*"),PRODUCT(Tableau1[[#This Row],[CL]],Tableau1[[#This Row],[Qte_commande]])/100/0.7,IF(COUNTIF(Tableau1[[#This Row],[Type_Produit]],"*JGR*"),Tableau1[[#This Row],[Qte_commande]],0))) -> 12
A89: 42492 | B89: 16V04450 | C89: BIGWOOD'S | D89: ANGERS | F89: CHR_BAR | G89: CHR | H89: Boisson_Spirit | I89: WILD TURKEY 101' | J89: 70 | K89: {=IFERROR(INDEX(Grille_Tarifs_Modulable!$B$2:$B$204,MATCH(Tableau1[[#This Row],[Designation]]&Tableau1[[#This Row],[CL]],Grille_Tarifs_Modulable!$C$2:$C$204&Grille_Tarifs_Modulable!$F$2:$F$204,0)),0)} -> 0 | L89: =IF(Tableau1[[#This Row],[EAN]]=0,0,INDEX(Grille_Tarifs_Modulable!$B$7:$N$114,MATCH(Tableau1[[#This Row],[EAN]],Grille_Tarifs_Modulable!$B$7:$B$114,0),MATCH(Tableau1[[#This Row],[Tarificat° client]],Grille_Tarifs_Modulable!$7:$7,0)-1)+INDEX(Grille_Tarifs_Modulable!$M$7:$N$114,MATCH(Tableau1[[#This Row],[EAN]],Grille_Tarifs_Modulable!$B$7:$B$114,0),1)+INDEX(Grille_Tarifs_Modulable!$M$7:$N$114,MATCH(Tableau1[[#This Row],[EAN]],Grille_Tarifs_Modulable!$B$7:$B$114,0),2)) -> 0 | M89: =IF(Tableau1[[#This Row],[Prix_Unit_HT]]=0,0,Tableau1[[#This Row],[Prix_Unit_HT]]+(Tableau1[[#This Row],[Prix_Unit_HT]]*VLOOKUP(Tableau1[[#This Row],[EAN]],Grille_Tarifs_Modulable!$B$10:$Q$204,16,FALSE))) -> 0 | N89: 12 | O89: =ROUND(Tableau1[[#This Row],[Prix_Unit_HT]],2)*Tableau1[[#This Row],[Qte_commande]] -> 0 | P89: =ROUND(Tableau1[[#This Row],[Prix_Unit_TTC]],2)*Tableau1[[#This Row],[Qte_commande]] -> 0 | Q89: 12 | R89: =VALUE(IF(COUNTIF(Tableau1[[#This Row],[Type_Produit]],"*Boisson*"),PRODUCT(Tableau1[[#This Row],[CL]],Tableau1[[#This Row],[Qte_commande]])/100/0.7,IF(COUNTIF(Tableau1[[#This Row],[Type_Produit]],"*JGR*"),Tableau1[[#This Row],[Qte_commande]],0))) -> 12
A90: 42493 | B90: 16V04279 | C90: PLUMEJEAU | D90: LA POMMERAYE | G90: GROS | H90: Boisson_Spirit | I90: Jägermeister | J90: 100 | K90: {=IFERROR(INDEX(Grille_Tarifs_Modulable!$B$2:$B$204,MATCH(Tableau1[[#This Row],[Designation]]&Tableau1[[#This Row],[CL]],Grille_Tarifs_Modulable!$C$2:$C$204&Grille_Tarifs_Modulable!$F$2:$F$204,0)),0)} -> 4067700013842 | L90: =IF(Tableau1[[#This Row],[EAN]]=0,0,INDEX(Grille_Tarifs_Modulable!$B$7:$N$114,MATCH(Tableau1[[#This Row],[EAN]],Grille_Tarifs_Modulable!$B$7:$B$114,0),MATCH(Tableau1[[#This Row],[Tarificat° client]],Grille_Tarifs_Modulable!$7:$7,0)-1)+INDEX(Grille_Tarifs_Modulable!$M$7:$N$114,MATCH(Tableau1[[#This Row],[EAN]],Grille_Tarifs_Modulable!$B$7:$B$114,0),1)+INDEX(Grille_Tarifs_Modulable!$M$7:$N$114,MATCH(Tableau1[[#This Row],[EAN]],Grille_Tarifs_Modulable!$B$7:$B$114,0),2)) -> 17.100805 | M90: =IF(Tableau1[[#This Row],[Prix_Unit_HT]]=0,0,Tableau1[[#This Row],[Prix_Unit_HT]]+(Tableau1[[#This Row],[Prix_Unit_HT]]*VLOOKUP(Tableau1[[#This Row],[EAN]],Grille_Tarifs_Modulable!$B$10:$Q$204,16,FALSE))) -> 20.520966 | N90: 150 | O90: =ROUND(Tableau1[[#This Row],[Prix_Unit_HT]],2)*Tableau1[[#This Row],[Qte_commande]] -> 2565 | P90: =ROUND(Tableau1[[#This Row],[Prix_Unit_TTC]],2)*Tableau1[[#This Row],[Qte_commande]] -> 3078 | Q90: 214.29 | R90: =VALUE(IF(COUNTIF(Tableau1[[#This Row],[Type_Produit]],"*Boisson*"),PRODUCT(Tableau1[[#This Row],[CL]],Tableau1[[#This Row],[Qte_commande]])/100/0.7,IF(COUNTIF(Tableau1[[#This Row],[Type_Produit]],"*JGR*"),Tableau1[[#This Row],[Qte_commande]],0))) -> 214.28571
A91: 42493 | B91: 16V04279 | C91: PLUMEJEAU | D91: LA POMMERAYE | G91: GROS | H91: Boisson_Spirit | I91: Meukow Vanilla | J91: 70 | K91: {=IFERROR(INDEX(Grille_Tarifs_Modulable!$B$2:$B$204,MATCH(Tableau1[[#This Row],[Designation]]&Tableau1[[#This Row],[CL]],Grille_Tarifs_Modulable!$C$2:$C$204&Grille_Tarifs_Modulable!$F$2:$F$204,0)),0)} -> 3257150101904 | L91: =IF(Tableau1[[#This Row],[EAN]]=0,0,INDEX(Grille_Tarifs_Modulable!$B$7:$N$114,MATCH(Tableau1[[#This Row],[EAN]],Grille_Tarifs_Modulable!$B$7:$B$114,0),MATCH(Tableau1[[#This Row],[Tarificat° client]],Grille_Tarifs_Modulable!$7:$7,0)-1)+INDEX(Grille_Tarifs_Modulable!$M$7:$N$114,MATCH(Tableau1[[#This Row],[EAN]],Grille_Tarifs_Modulable!$B$7:$B$114,0),1)+INDEX(Grille_Tarifs_Modulable!$M$7:$N$114,MATCH(Tableau1[[#This Row],[EAN]],Grille_Tarifs_Modulable!$B$7:$B$114,0),2)) -> 16.346483 | M91: =IF(Tableau1[[#This Row],[Prix_Unit_HT]]=0,0,Tableau1[[#This Row],[Prix_Unit_HT]]+(Tableau1[[#This Row],[Prix_Unit_HT]]*VLOOKUP(Tableau1[[#This Row],[EAN]],Grille_Tarifs_Modulable!$B$10:$Q$204,16,FALSE))) -> 19.61578 | N91: 1 | O91: =ROUND(Tableau1[[#This Row],[Prix_Unit_HT]],2)*Tableau1[[#This Row],[Qte_commande]] -> 16.35 | P91: =ROUND(Tableau1[[#This Row],[Prix_Unit_TTC]],2)*Tableau1[[#This Row],[Qte_commande]] -> 19.62 | Q91: 1 | R91: =VALUE(IF(COUNTIF(Tableau1[[#This Row],[Type_Produit]],"*Boisson*"),PRODUCT(Tableau1[[#This Row],[CL]],Tableau1[[#This Row],[Qte_commande]])/100/0.7,IF(COUNTIF(Tableau1[[#This Row],[Type_Produit]],"*JGR*"),Tableau1[[#This Row],[Qte_commande]],0))) -> 1
A92: 42493 | B92: 16V04279 | C92: PLUMEJEAU | D92: LA POMMERAYE | G92: GROS | H92: Boisson_Spirit | I92: Meukow VS | J92: 70 | K92: {=IFERROR(INDEX(Grille_Tarifs_Modulable!$B$2:$B$204,MATCH(Tableau1[[#This Row],[Designation]]&Tableau1[[#This Row],[CL]],Grille_Tarifs_Modulable!$C$2:$C$204&Grille_Tarifs_Modulable!$F$2:$F$204,0)),0)} -> 3257150100228 | L92: =IF(Tableau1[[#This Row],[EAN]]=0,0,INDEX(Grille_Tarifs_Modulable!$B$7:$N$114,MATCH(Tableau1[[#This Row],[EAN]],Grille_Tarifs_Modulable!$B$7:$B$114,0),MATCH(Tableau1[[#This Row],[Tarificat° client]],Grille_Tarifs_Modulable!$7:$7,0)-1)+INDEX(Grille_Tarifs_Modulable!$M$7:$N$114,MATCH(Tableau1[[#This Row],[EAN]],Grille_Tarifs_Modulable!$B$7:$B$114,0),1)+INDEX(Grille_Tarifs_Modulable!$M$7:$N$114,MATCH(Tableau1[[#This Row],[EAN]],Grille_Tarifs_Modulable!$B$7:$B$114,0),2)) -> 19.998644 | M92: =IF(Tableau1[[#This Row],[Prix_Unit_HT]]=0,0,Tableau1[[#This Row],[Prix_Unit_HT]]+(Tableau1[[#This Row],[Prix_Unit_HT]]*VLOOKUP(Tableau1[[#This Row],[EAN]],Grille_Tarifs_Modulable!$B$10:$Q$204,16,FALSE))) -> 23.998373 | N92: 1 | O92: =ROUND(Tableau1[[#This Row],[Prix_Unit_HT]],2)*Tableau1[[#This Row],[Qte_commande]] -> 20 | P92: =ROUND(Tableau1[[#This Row],[Prix_Unit_TTC]],2)*Tableau1[[#This Row],[Qte_commande]] -> 24 | Q92: 1 | R92: =VALUE(IF(COUNTIF(Tableau1[[#This Row],[Type_Produit]],"*Boisson*"),PRODUCT(Tableau1[[#This Row],[CL]],Tableau1[[#This Row],[Qte_commande]])/100/0.7,IF(COUNTIF(Tableau1[[#This Row],[Type_Produit]],"*JGR*"),Tableau1[[#This Row],[Qte_commande]],0))) -> 1
A93: 42493 | B93: 16V04279 | C93: PLUMEJEAU | D93: LA POMMERAYE | G93: GROS | H93: Boisson_Spirit | I93: Meukow Xpresso | J93: 70 | K93: {=IFERROR(INDEX(Grille_Tarifs_Modulable!$B$2:$B$204,MATCH(Tableau1[[#This Row],[Designation]]&Tableau1[[#This Row],[CL]],Grille_Tarifs_Modulable!$C$2:$C$204&Grille_Tarifs_Modulable!$F$2:$F$204,0)),0)} -> 3257150102017 | L93: =IF(Tableau1[[#This Row],[EAN]]=0,0,INDEX(Grille_Tarifs_Modulable!$B$7:$N$114,MATCH(Tableau1[[#This Row],[EAN]],Grille_Tarifs_Modulable!$B$7:$B$114,0),MATCH(Tableau1[[#This Row],[Tarificat° client]],Grille_Tarifs_Modulable!$7:$7,0)-1)+INDEX(Grille_Tarifs_Modulable!$M$7:$N$114,MATCH(Tableau1[[#This Row],[EAN]],Grille_Tarifs_Modulable!$B$7:$B$114,0),1)+INDEX(Grille_Tarifs_Modulable!$M$7:$N$114,MATCH(Tableau1[[#This Row],[EAN]],Grille_Tarifs_Modulable!$B$7:$B$114,0),2)) -> 14.694322 | M93: =IF(Tableau1[[#This Row],[Prix_Unit_HT]]=0,0,Tableau1[[#This Row],[Prix_Unit_HT]]+(Tableau1[[#This Row],[Prix_Unit_HT]]*VLOOKUP(Tableau1[[#This Row],[EAN]],Grille_Tarifs_Modulable!$B$10:$Q$204,16,FALSE))) -> 17.633186 | N93: 1 | O93: =ROUND(Tableau1[[#This Row],[Prix_Unit_HT]],2)*Tableau1[[#This Row],[Qte_commande]] -> 14.69 | P93: =ROUND(Tableau1[[#This Row],[Prix_Unit_TTC]],2)*Tableau1[[#This Row],[Qte_commande]] -> 17.63 | Q93: 1 | R93: =VALUE(IF(COUNTIF(Tableau1[[#This Row],[Type_Produit]],"*Boisson*"),PRODUCT(Tableau1[[#This Row],[CL]],Tableau1[[#This Row],[Qte_commande]])/100/0.7,IF(COUNTIF(Tableau1[[#This Row],[Type_Produit]],"*JGR*"),Tableau1[[#This Row],[Qte_commande]],0))) -> 1
A94: 42500 | B94: 16V05073 | C94: POITOU | D94: CHASSENEUIL DU POITOU | G94: GROS | H94: Boisson_Spirit | I94: Jägermeister | J94: 70 | K94: {=IFERROR(INDEX(Grille_Tarifs_Modulable!$B$2:$B$204,MATCH(Tableau1[[#This Row],[Designation]]&Tableau1[[#This Row],[CL]],Grille_Tarifs_Modulable!$C$2:$C$204&Grille_Tarifs_Modulable!$F$2:$F$204,0)),0)} -> 4067700013859 | L94: =IF(Tableau1[[#This Row],[EAN]]=0,0,INDEX(Grille_Tarifs_Modulable!$B$7:$N$114,MATCH(Tableau1[[#This Row],[EAN]],Grille_Tarifs_Modulable!$B$7:$B$114,0),MATCH(Tableau1[[#This Row],[Tarificat° client]],Grille_Tarifs_Modulable!$7:$7,0)-1)+INDEX(Grille_Tarifs_Modulable!$M$7:$N$114,MATCH(Tableau1[[#This Row],[EAN]],Grille_Tarifs_Modulable!$B$7:$B$114,0),1)+INDEX(Grille_Tarifs_Modulable!$M$7:$N$114,MATCH(Tableau1[[#This Row],[EAN]],Grille_Tarifs_Modulable!$B$7:$B$114,0),2)) -> 12.532563 | M94: =IF(Tableau1[[#This Row],[Prix_Unit_HT]]=0,0,Tableau1[[#This Row],[Prix_Unit_HT]]+(Tableau1[[#This Row],[Prix_Unit_HT]]*VLOOKUP(Tableau1[[#This Row],[EAN]],Grille_Tarifs_Modulable!$B$10:$Q$204,16,FALSE))) -> 15.039076 | N94: 150 | O94: =ROUND(Tableau1[[#This Row],[Prix_Unit_HT]],2)*Tableau1[[#This Row],[Qte_commande]] -> 1879.5 | P94: =ROUND(Tableau1[[#This Row],[Prix_Unit_TTC]],2)*Tableau1[[#This Row],[Qte_commande]] -> 2256 | Q94: 150 | R94: =VALUE(IF(COUNTIF(Tableau1[[#This Row],[Type_Produit]],"*Boisson*"),PRODUCT(Tableau1[[#This Row],[CL]],Tableau1[[#This Row],[Qte_commande]])/100/0.7,IF(COUNTIF(Tableau1[[#This Row],[Type_Produit]],"*JGR*"),Tableau1[[#This Row],[Qte_commande]],0))) -> 150
A95: 42500 | B95: 16V05085 | C95: AU BUREAU | D95: TOURS | G95: GROS | H95: Boisson_Spirit | I95: Santiago de Cuba Anejo | J95: 100 | K95: {=IFERROR(INDEX(Grille_Tarifs_Modulable!$B$2:$B$204,MATCH(Tableau1[[#This Row],[Designation]]&Tableau1[[#This Row],[CL]],Grille_Tarifs_Modulable!$C$2:$C$204&Grille_Tarifs_Modulable!$F$2:$F$204,0)),0)} -> 3257150410167 | L95: =IF(Tableau1[[#This Row],[EAN]]=0,0,INDEX(Grille_Tarifs_Modulable!$B$7:$N$114,MATCH(Tableau1[[#This Row],[EAN]],Grille_Tarifs_Modulable!$B$7:$B$114,0),MATCH(Tableau1[[#This Row],[Tarificat° client]],Grille_Tarifs_Modulable!$7:$7,0)-1)+INDEX(Grille_Tarifs_Modulable!$M$7:$N$114,MATCH(Tableau1[[#This Row],[EAN]],Grille_Tarifs_Modulable!$B$7:$B$114,0),1)+INDEX(Grille_Tarifs_Modulable!$M$7:$N$114,MATCH(Tableau1[[#This Row],[EAN]],Grille_Tarifs_Modulable!$B$7:$B$114,0),2)) -> 15.778874 | M95: =IF(Tableau1[[#This Row],[Prix_Unit_HT]]=0,0,Tableau1[[#This Row],[Prix_Unit_HT]]+(Tableau1[[#This Row],[Prix_Unit_HT]]*VLOOKUP(Tableau1[[#This Row],[EAN]],Grille_Tarifs_Modulable!$B$10:$Q$204,16,FALSE))) -> 18.934649 | N95: 48 | O95: =ROUND(Tableau1[[#This Row],[Prix_Unit_HT]],2)*Tableau1[[#This Row],[Qte_commande]] -> 757.44 | P95: =ROUND(Tableau1[[#This Row],[Prix_Unit_TTC]],2)*Tableau1[[#This Row],[Qte_commande]] -> 908.64 | Q95: 68.57 | R95: =VALUE(IF(COUNTIF(Tableau1[[#This Row],[Type_Produit]],"*Boisson*"),PRODUCT(Tableau1[[#This Row],[CL]],Tableau1[[#This Row],[Qte_commande]])/100/0.7,IF(COUNTIF(Tableau1[[#This Row],[Type_Produit]],"*JGR*"),Tableau1[[#This Row],[Qte_commande]],0))) -> 68.571429
A96: 42508 | B96: 16V05219 | C96: CLIPPER | D96: BLOIS | G96: GROS | H96: Boisson_Spirit | I96: Danzinger Goldwasser | J96: 70 | K96: {=IFERROR(INDEX(Grille_Tarifs_Modulable!$B$2:$B$204,MATCH(Tableau1[[#This Row],[Designation]]&Tableau1[[#This Row],[CL]],Grille_Tarifs_Modulable!$C$2:$C$204&Grille_Tarifs_Modulable!$F$2:$F$204,0)),0)} -> 4055800060200 | L96: =IF(Tableau1[[#This Row],[EAN]]=0,0,INDEX(Grille_Tarifs_Modulable!$B$7:$N$114,MATCH(Tableau1[[#This Row],[EAN]],Grille_Tarifs_Modulable!$B$7:$B$114,0),MATCH(Tableau1[[#This Row],[Tarificat° client]],Grille_Tarifs_Modulable!$7:$7,0)-1)+INDEX(Grille_Tarifs_Modulable!$M$7:$N$114,MATCH(Tableau1[[#This Row],[EAN]],Grille_Tarifs_Modulable!$B$7:$B$114,0),1)+INDEX(Grille_Tarifs_Modulable!$M$7:$N$114,MATCH(Tableau1[[#This Row],[EAN]],Grille_Tarifs_Modulable!$B$7:$B$114,0),2)) -> 17.408644 | M96: =IF(Tableau1[[#This Row],[Prix_Unit_HT]]=0,0,Tableau1[[#This Row],[Prix_Unit_HT]]+(Tableau1[[#This Row],[Prix_Unit_HT]]*VLOOKUP(Tableau1[[#This Row],[EAN]],Grille_Tarifs_Modulable!$B$10:$Q$204,16,FALSE))) -> 20.890373 | N96: 6 | O96: =ROUND(Tableau1[[#This Row],[Prix_Unit_HT]],2)*Tableau1[[#This Row],[Qte_commande]] -> 104.46 | P96: =ROUND(Tableau1[[#This Row],[Prix_Unit_TTC]],2)*Tableau1[[#This Row],[Qte_commande]] -> 125.34 | Q96: 6 | R96: =VALUE(IF(COUNTIF(Tableau1[[#This Row],[Type_Produit]],"*Boisson*"),PRODUCT(Tableau1[[#This Row],[CL]],Tableau1[[#This Row],[Qte_commande]])/100/0.7,IF(COUNTIF(Tableau1[[#This Row],[Type_Produit]],"*JGR*"),Tableau1[[#This Row],[Qte_commande]],0))) -> 6
A97: 42508 | B97: 16V05210 | C97: PLUMEJEAU | D97: LA POMMERAYE | G97: GROS | H97: Boisson_Spirit | I97: Jägermeister | J97: 100 | K97: {=IFERROR(INDEX(Grille_Tarifs_Modulable!$B$2:$B$204,MATCH(Tableau1[[#This Row],[Designation]]&Tableau1[[#This Row],[CL]],Grille_Tarifs_Modulable!$C$2:$C$204&Grille_Tarifs_Modulable!$F$2:$F$204,0)),0)} -> 4067700013842 | L97: =IF(Tableau1[[#This Row],[EAN]]=0,0,INDEX(Grille_Tarifs_Modulable!$B$7:$N$114,MATCH(Tableau1[[#This Row],[EAN]],Grille_Tarifs_Modulable!$B$7:$B$114,0),MATCH(Tableau1[[#This Row],[Tarificat° client]],Grille_Tarifs_Modulable!$7:$7,0)-1)+INDEX(Grille_Tarifs_Modulable!$M$7:$N$114,MATCH(Tableau1[[#This Row],[EAN]],Grille_Tarifs_Modulable!$B$7:$B$114,0),1)+INDEX(Grille_Tarifs_Modulable!$M$7:$N$114,MATCH(Tableau1[[#This Row],[EAN]],Grille_Tarifs_Modulable!$B$7:$B$114,0),2)) -> 17.100805 | M97: =IF(Tableau1[[#This Row],[Prix_Unit_HT]]=0,0,Tableau1[[#This Row],[Prix_Unit_HT]]+(Tableau1[[#This Row],[Prix_Unit_HT]]*VLOOKUP(Tableau1[[#This Row],[EAN]],Grille_Tarifs_Modulable!$B$10:$Q$204,16,FALSE))) -> 20.520966 | N97: 180 | O97: =ROUND(Tableau1[[#This Row],[Prix_Unit_HT]],2)*Tableau1[[#This Row],[Qte_commande]] -> 3078 | P97: =ROUND(Tableau1[[#This Row],[Prix_Unit_TTC]],2)*Tableau1[[#This Row],[Qte_commande]] -> 3693.6 | Q97: 257.14 | R97: =VALUE(IF(COUNTIF(Tableau1[[#This Row],[Type_Produit]],"*Boisson*"),PRODUCT(Tableau1[[#This Row],[CL]],Tableau1[[#This Row],[Qte_commande]])/100/0.7,IF(COUNTIF(Tableau1[[#This Row],[Type_Produit]],"*JGR*"),Tableau1[[#This Row],[Qte_commande]],0))) -> 257.14286
A98: 42508 | B98: 16V05219 | C98: CLIPPER | D98: BLOIS | G98: GROS | H98: Boisson_Spirit | I98: Jägermeister | J98: 100 | K98: {=IFERROR(INDEX(Grille_Tarifs_Modulable!$B$2:$B$204,MATCH(Tableau1[[#This Row],[Designation]]&Tableau1[[#This Row],[CL]],Grille_Tarifs_Modulable!$C$2:$C$204&Grille_Tarifs_Modulable!$F$2:$F$204,0)),0)} -> 4067700013842 | L98: =IF(Tableau1[[#This Row],[EAN]]=0,0,INDEX(Grille_Tarifs_Modulable!$B$7:$N$114,MATCH(Tableau1[[#This Row],[EAN]],Grille_Tarifs_Modulable!$B$7:$B$114,0),MATCH(Tableau1[[#This Row],[Tarificat° client]],Grille_Tarifs_Modulable!$7:$7,0)-1)+INDEX(Grille_Tarifs_Modulable!$M$7:$N$114,MATCH(Tableau1[[#This Row],[EAN]],Grille_Tarifs_Modulable!$B$7:$B$114,0),1)+INDEX(Grille_Tarifs_Modulable!$M$7:$N$114,MATCH(Tableau1[[#This Row],[EAN]],Grille_Tarifs_Modulable!$B$7:$B$114,0),2)) -> 17.100805 | M98: =IF(Tableau1[[#This Row],[Prix_Unit_HT]]=0,0,Tableau1[[#This Row],[Prix_Unit_HT]]+(Tableau1[[#This Row],[Prix_Unit_HT]]*VLOOKUP(Tableau1[[#This Row],[EAN]],Grille_Tarifs_Modulable!$B$10:$Q$204,16,FALSE))) -> 20.520966 | N98: 18 | O98: =ROUND(Tableau1[[#This Row],[Prix_Unit_HT]],2)*Tableau1[[#This Row],[Qte_commande]] -> 307.8 | P98: =ROUND(Tableau1[[#This Row],[Prix_Unit_TTC]],2)*Tableau1[[#This Row],[Qte_commande]] -> 369.36 | Q98: 25.71 | R98: =VALUE(IF(COUNTIF(Tableau1[[#This Row],[Type_Produit]],"*Boisson*"),PRODUCT(Tableau1[[#This Row],[CL]],Tableau1[[#This Row],[Qte_commande]])/100/0.7,IF(COUNTIF(Tableau1[[#This Row],[Type_Produit]],"*JGR*"),Tableau1[[#This Row],[Qte_commande]],0))) -> 25.714286
A99: 42508 | B99: 16V05218 | C99: REMY BREGE | D99: LA MOTTE BEUVRON | G99: GROS | H99: Boisson_Spirit | I99: Limoncello di Capri | J99: 70 | K99: {=IFERROR(INDEX(Grille_Tarifs_Modulable!$B$2:$B$204,MATCH(Tableau1[[#This Row],[Designation]]&Tableau1[[#This Row],[CL]],Grille_Tarifs_Modulable!$C$2:$C$204&Grille_Tarifs_Modulable!$F$2:$F$204,0)),0)} -> 8017450002104 | L99: =IF(Tableau1[[#This Row],[EAN]]=0,0,INDEX(Grille_Tarifs_Modulable!$B$7:$N$114,MATCH(Tableau1[[#This Row],[EAN]],Grille_Tarifs_Modulable!$B$7:$B$114,0),MATCH(Tableau1[[#This Row],[Tarificat° client]],Grille_Tarifs_Modulable!$7:$7,0)-1)+INDEX(Grille_Tarifs_Modulable!$M$7:$N$114,MATCH(Tableau1[[#This Row],[EAN]],Grille_Tarifs_Modulable!$B$7:$B$114,0),1)+INDEX(Grille_Tarifs_Modulable!$M$7:$N$114,MATCH(Tableau1[[#This Row],[EAN]],Grille_Tarifs_Modulable!$B$7:$B$114,0),2)) -> 14.266483 | M99: =IF(Tableau1[[#This Row],[Prix_Unit_HT]]=0,0,Tableau1[[#This Row],[Prix_Unit_HT]]+(Tableau1[[#This Row],[Prix_Unit_HT]]*VLOOKUP(Tableau1[[#This Row],[EAN]],Grille_Tarifs_Modulable!$B$10:$Q$204,16,FALSE))) -> 17.11978 | N99: 12 | O99: =ROUND(Tableau1[[#This Row],[Prix_Unit_HT]],2)*Tableau1[[#This Row],[Qte_commande]] -> 171.24 | P99: =ROUND(Tableau1[[#This Row],[Prix_Unit_TTC]],2)*Tableau1[[#This Row],[Qte_commande]] -> 205.44 | Q99: 12 | R99: =VALUE(IF(COUNTIF(Tableau1[[#This Row],[Type_Produit]],"*Boisson*"),PRODUCT(Tableau1[[#This Row],[CL]],Tableau1[[#This Row],[Qte_commande]])/100/0.7,IF(COUNTIF(Tableau1[[#This Row],[Type_Produit]],"*JGR*"),Tableau1[[#This Row],[Qte_commande]],0))) -> 12
A100: 42508 | B100: 16V05219 | C100: CLIPPER | D100: BLOIS | G100: GROS | H100: Boisson_Soft | I100: Mate Mate | J100: 50 | K100: {=IFERROR(INDEX(Grille_Tarifs_Modulable!$B$2:$B$204,MATCH(Tableau1[[#This Row],[Designation]]&Tableau1[[#This Row],[CL]],Grille_Tarifs_Modulable!$C$2:$C$204&Grille_Tarifs_Modulable!$F$2:$F$204,0)),0)} -> 4260310553382 | L100: =IF(Tableau1[[#This Row],[EAN]]=0,0,INDEX(Grille_Tarifs_Modulable!$B$7:$N$114,MATCH(Tableau1[[#This Row],[EAN]],Grille_Tarifs_Modulable!$B$7:$B$114,0),MATCH(Tableau1[[#This Row],[Tarificat° client]],Grille_Tarifs_Modulable!$7:$7,0)-1)+INDEX(Grille_Tarifs_Modulable!$M$7:$N$114,MATCH(Tableau1[[#This Row],[EAN]],Grille_Tarifs_Modulable!$B$7:$B$114,0),1)+INDEX(Grille_Tarifs_Modulable!$M$7:$N$114,MATCH(Tableau1[[#This Row],[EAN]],Grille_Tarifs_Modulable!$B$7:$B$114,0),2)) -> 1 | M100: =IF(Tableau1[[#This Row],[Prix_Unit_HT]]=0,0,Tableau1[[#This Row],[Prix_Unit_HT]]+(Tableau1[[#This Row],[Prix_Unit_HT]]*VLOOKUP(Tableau1[[#This Row],[EAN]],Grille_Tarifs_Modulable!$B$10:$Q$204,16,FALSE))) -> 1.055 | N100: 40 | O100: =ROUND(Tableau1[[#This Row],[Prix_Unit_HT]],2)*Tableau1[[#This Row],[Qte_commande]] -> 40 | P100: =ROUND(Tableau1[[#This Row],[Prix_Unit_TTC]],2)*Tableau1[[#This Row],[Qte_commande]] -> 42.4 | Q100: 28.57 | R100: =VALUE(IF(COUNTIF(Tableau1[[#This Row],[Type_Produit]],"*Boisson*"),PRODUCT(Tableau1[[#This Row],[CL]],Tableau1[[#This Row],[Qte_commande]])/100/0.7,IF(COUNTIF(Tableau1[[#This Row],[Type_Produit]],"*JGR*"),Tableau1[[#This Row],[Qte_commande]],0))) -> 28.571429
A101: 42508 | B101: 16V05219 | C101: CLIPPER | D101: BLOIS | G101: GROS | H101: Boisson_Spirit | I101: Santiago de Cuba Anejo | J101: 100 | K101: {=IFERROR(INDEX(Grille_Tarifs_Modulable!$B$2:$B$204,MATCH(Tableau1[[#This Row],[Designation]]&Tableau1[[#This Row],[CL]],Grille_Tarifs_Modulable!$C$2:$C$204&Grille_Tarifs_Modulable!$F$2:$F$204,0)),0)} -> 3257150410167 | L101: =IF(Tableau1[[#This Row],[EAN]]=0,0,INDEX(Grille_Tarifs_Modulable!$B$7:$N$114,MATCH(Tableau1[[#This Row],[EAN]],Grille_Tarifs_Modulable!$B$7:$B$114,0),MATCH(Tableau1[[#This Row],[Tarificat° client]],Grille_Tarifs_Modulable!$7:$7,0)-1)+INDEX(Grille_Tarifs_Modulable!$M$7:$N$114,MATCH(Tableau1[[#This Row],[EAN]],Grille_Tarifs_Modulable!$B$7:$B$114,0),1)+INDEX(Grille_Tarifs_Modulable!$M$7:$N$114,MATCH(Tableau1[[#This Row],[EAN]],Grille_Tarifs_Modulable!$B$7:$B$114,0),2)) -> 15.778874 | M101: =IF(Tableau1[[#This Row],[Prix_Unit_HT]]=0,0,Tableau1[[#This Row],[Prix_Unit_HT]]+(Tableau1[[#This Row],[Prix_Unit_HT]]*VLOOKUP(Tableau1[[#This Row],[EAN]],Grille_Tarifs_Modulable!$B$10:$Q$204,16,FALSE))) -> 18.934649 | N101: 18 | O101: =ROUND(Tableau1[[#This Row],[Prix_Unit_HT]],2)*Tableau1[[#This Row],[Qte_commande]] -> 284.04 | P101: =ROUND(Tableau1[[#This Row],[Prix_Unit_TTC]],2)*Tableau1[[#This Row],[Qte_commande]] -> 340.74 | Q101: 25.71 | R101: =VALUE(IF(COUNTIF(Tableau1[[#This Row],[Type_Produit]],"*Boisson*"),PRODUCT(Tableau1[[#This Row],[CL]],Tableau1[[#This Row],[Qte_commande]])/100/0.7,IF(COUNTIF(Tableau1[[#This Row],[Type_Produit]],"*JGR*"),Tableau1[[#This Row],[Qte_commande]],0))) -> 25.714286
... A130: 42529 | B130: 16V06057 | C130: FIGUEIREDO | D130: SAINT ROCH | G130: GROS | H130: Boisson_Spirit | I130: WILD TURKEY 81' | J130: 70 | K130: {=IFERROR(INDEX(Grille_Tarifs_Modulable!$B$2:$B$204,MATCH(Tableau1[[#This Row],[Designation]]&Tableau1[[#This Row],[CL]],Grille_Tarifs_Modulable!$C$2:$C$204&Grille_Tarifs_Modulable!$F$2:$F$204,0)),0)} -> 0 | L130: =IF(Tableau1[[#This Row],[EAN]]=0,0,INDEX(Grille_Tarifs_Modulable!$B$7:$N$114,MATCH(Tableau1[[#This Row],[EAN]],Grille_Tarifs_Modulable!$B$7:$B$114,0),MATCH(Tableau1[[#This Row],[Tarificat° client]],Grille_Tarifs_Modulable!$7:$7,0)-1)+INDEX(Grille_Tarifs_Modulable!$M$7:$N$114,MATCH(Tableau1[[#This Row],[EAN]],Grille_Tarifs_Modulable!$B$7:$B$114,0),1)+INDEX(Grille_Tarifs_Modulable!$M$7:$N$114,MATCH(Tableau1[[#This Row],[EAN]],Grille_Tarifs_Modulable!$B$7:$B$114,0),2)) -> 0 | M130: =IF(Tableau1[[#This Row],[Prix_Unit_HT]]=0,0,Tableau1[[#This Row],[Prix_Unit_HT]]+(Tableau1[[#This Row],[Prix_Unit_HT]]*VLOOKUP(Tableau1[[#This Row],[EAN]],Grille_Tarifs_Modulable!$B$10:$Q$204,16,FALSE))) -> 0 | N130: 12 | O130: =ROUND(Tableau1[[#This Row],[Prix_Unit_HT]],2)*Tableau1[[#This Row],[Qte_commande]] -> 0 | P130: =ROUND(Tableau1[[#This Row],[Prix_Unit_TTC]],2)*Tableau1[[#This Row],[Qte_commande]] -> 0 | Q130: 12 | R130: =VALUE(IF(COUNTIF(Tableau1[[#This Row],[Type_Produit]],"*Boisson*"),PRODUCT(Tableau1[[#This Row],[CL]],Tableau1[[#This Row],[Qte_commande]])/100/0.7,IF(COUNTIF(Tableau1[[#This Row],[Type_Produit]],"*JGR*"),Tableau1[[#This Row],[Qte_commande]],0))) -> 12
A131: 42536 | B131: 16V06194 | C131: BIGWOOD'S | D131: ANGERS | F131: CHR_BAR | G131: CHR | H131: Boisson_Soft | I131: Mate Mate | J131: 50 | K131: {=IFERROR(INDEX(Grille_Tarifs_Modulable!$B$2:$B$204,MATCH(Tableau1[[#This Row],[Designation]]&Tableau1[[#This Row],[CL]],Grille_Tarifs_Modulable!$C$2:$C$204&Grille_Tarifs_Modulable!$F$2:$F$204,0)),0)} -> 4260310553382 | L131: =IF(Tableau1[[#This Row],[EAN]]=0,0,INDEX(Grille_Tarifs_Modulable!$B$7:$N$114,MATCH(Tableau1[[#This Row],[EAN]],Grille_Tarifs_Modulable!$B$7:$B$114,0),MATCH(Tableau1[[#This Row],[Tarificat° client]],Grille_Tarifs_Modulable!$7:$7,0)-1)+INDEX(Grille_Tarifs_Modulable!$M$7:$N$114,MATCH(Tableau1[[#This Row],[EAN]],Grille_Tarifs_Modulable!$B$7:$B$114,0),1)+INDEX(Grille_Tarifs_Modulable!$M$7:$N$114,MATCH(Tableau1[[#This Row],[EAN]],Grille_Tarifs_Modulable!$B$7:$B$114,0),2)) -> 1.1 | M131: =IF(Tableau1[[#This Row],[Prix_Unit_HT]]=0,0,Tableau1[[#This Row],[Prix_Unit_HT]]+(Tableau1[[#This Row],[Prix_Unit_HT]]*VLOOKUP(Tableau1[[#This Row],[EAN]],Grille_Tarifs_Modulable!$B$10:$Q$204,16,FALSE))) -> 1.1605 | N131: 100 | O131: =ROUND(Tableau1[[#This Row],[Prix_Unit_HT]],2)*Tableau1[[#This Row],[Qte_commande]] -> 110 | P131: =ROUND(Tableau1[[#This Row],[Prix_Unit_TTC]],2)*Tableau1[[#This Row],[Qte_commande]] -> 116 | Q131: 71.43 | R131: =VALUE(IF(COUNTIF(Tableau1[[#This Row],[Type_Produit]],"*Boisson*"),PRODUCT(Tableau1[[#This Row],[CL]],Tableau1[[#This Row],[Qte_commande]])/100/0.7,IF(COUNTIF(Tableau1[[#This Row],[Type_Produit]],"*JGR*"),Tableau1[[#This Row],[Qte_commande]],0))) -> 71.428571
A132: 42537 | B132: 16V06197 | C132: SCHOEN | D132: CHATEAUROUX | G132: GROS | H132: Boisson_Spirit | I132: Jägermeister | J132: 175 | K132: {=IFERROR(INDEX(Grille_Tarifs_Modulable!$B$2:$B$204,MATCH(Tableau1[[#This Row],[Designation]]&Tableau1[[#This Row],[CL]],Grille_Tarifs_Modulable!$C$2:$C$204&Grille_Tarifs_Modulable!$F$2:$F$204,0)),0)} -> 4067700013835 | L132: =IF(Tableau1[[#This Row],[EAN]]=0,0,INDEX(Grille_Tarifs_Modulable!$B$7:$N$114,MATCH(Tableau1[[#This Row],[EAN]],Grille_Tarifs_Modulable!$B$7:$B$114,0),MATCH(Tableau1[[#This Row],[Tarificat° client]],Grille_Tarifs_Modulable!$7:$7,0)-1)+INDEX(Grille_Tarifs_Modulable!$M$7:$N$114,MATCH(Tableau1[[#This Row],[EAN]],Grille_Tarifs_Modulable!$B$7:$B$114,0),1)+INDEX(Grille_Tarifs_Modulable!$M$7:$N$114,MATCH(Tableau1[[#This Row],[EAN]],Grille_Tarifs_Modulable!$B$7:$B$114,0),2)) -> 28.916409 | M132: =IF(Tableau1[[#This Row],[Prix_Unit_HT]]=0,0,Tableau1[[#This Row],[Prix_Unit_HT]]+(Tableau1[[#This Row],[Prix_Unit_HT]]*VLOOKUP(Tableau1[[#This Row],[EAN]],Grille_Tarifs_Modulable!$B$10:$Q$204,16,FALSE))) -> 34.699691 | N132: 42 | O132: =ROUND(Tableau1[[#This Row],[Prix_Unit_HT]],2)*Tableau1[[#This Row],[Qte_commande]] -> 1214.64 | P132: =ROUND(Tableau1[[#This Row],[Prix_Unit_TTC]],2)*Tableau1[[#This Row],[Qte_commande]] -> 1457.4 | Q132: 105 | R132: =VALUE(IF(COUNTIF(Tableau1[[#This Row],[Type_Produit]],"*Boisson*"),PRODUCT(Tableau1[[#This Row],[CL]],Tableau1[[#This Row],[Qte_commande]])/100/0.7,IF(COUNTIF(Tableau1[[#This Row],[Type_Produit]],"*JGR*"),Tableau1[[#This Row],[Qte_commande]],0))) -> 105
A133: 42538 | B133: 16V06216 | C133: PROMOCASH | D133: SAINT PIERRE DES CORPS | G133: GROS | H133: Boisson_Spirit | I133: Jägermeister | J133: 100 | K133: {=IFERROR(INDEX(Grille_Tarifs_Modulable!$B$2:$B$204,MATCH(Tableau1[[#This Row],[Designation]]&Tableau1[[#This Row],[CL]],Grille_Tarifs_Modulable!$C$2:$C$204&Grille_Tarifs_Modulable!$F$2:$F$204,0)),0)} -> 4067700013842 | L133: =IF(Tableau1[[#This Row],[EAN]]=0,0,INDEX(Grille_Tarifs_Modulable!$B$7:$N$114,MATCH(Tableau1[[#This Row],[EAN]],Grille_Tarifs_Modulable!$B$7:$B$114,0),MATCH(Tableau1[[#This Row],[Tarificat° client]],Grille_Tarifs_Modulable!$7:$7,0)-1)+INDEX(Grille_Tarifs_Modulable!$M$7:$N$114,MATCH(Tableau1[[#This Row],[EAN]],Grille_Tarifs_Modulable!$B$7:$B$114,0),1)+INDEX(Grille_Tarifs_Modulable!$M$7:$N$114,MATCH(Tableau1[[#This Row],[EAN]],Grille_Tarifs_Modulable!$B$7:$B$114,0),2)) -> 17.100805 | M133: =IF(Tableau1[[#This Row],[Prix_Unit_HT]]=0,0,Tableau1[[#This Row],[Prix_Unit_HT]]+(Tableau1[[#This Row],[Prix_Unit_HT]]*VLOOKUP(Tableau1[[#This Row],[EAN]],Grille_Tarifs_Modulable!$B$10:$Q$204,16,FALSE))) -> 20.520966 | N133: 120 | O133: =ROUND(Tableau1[[#This Row],[Prix_Unit_HT]],2)*Tableau1[[#This Row],[Qte_commande]] -> 2052 | P133: =ROUND(Tableau1[[#This Row],[Prix_Unit_TTC]],2)*Tableau1[[#This Row],[Qte_commande]] -> 2462.4 | Q133: 171.43 | R133: =VALUE(IF(COUNTIF(Tableau1[[#This Row],[Type_Produit]],"*Boisson*"),PRODUCT(Tableau1[[#This Row],[CL]],Tableau1[[#This Row],[Qte_commande]])/100/0.7,IF(COUNTIF(Tableau1[[#This Row],[Type_Produit]],"*JGR*"),Tableau1[[#This Row],[Qte_commande]],0))) -> 171.42857
A134: 42541 | B134: 16V06198 | C134: POITOU | D134: CHASSENEUIL DU POITOU | G134: GROS | H134: Boisson_Spirit | I134: Jägermeister | J134: 70 | K134: {=IFERROR(INDEX(Grille_Tarifs_Modulable!$B$2:$B$204,MATCH(Tableau1[[#This Row],[Designation]]&Tableau1[[#This Row],[CL]],Grille_Tarifs_Modulable!$C$2:$C$204&Grille_Tarifs_Modulable!$F$2:$F$204,0)),0)} -> 4067700013859 | L134: =IF(Tableau1[[#This Row],[EAN]]=0,0,INDEX(Grille_Tarifs_Modulable!$B$7:$N$114,MATCH(Tableau1[[#This Row],[EAN]],Grille_Tarifs_Modulable!$B$7:$B$114,0),MATCH(Tableau1[[#This Row],[Tarificat° client]],Grille_Tarifs_Modulable!$7:$7,0)-1)+INDEX(Grille_Tarifs_Modulable!$M$7:$N$114,MATCH(Tableau1[[#This Row],[EAN]],Grille_Tarifs_Modulable!$B$7:$B$114,0),1)+INDEX(Grille_Tarifs_Modulable!$M$7:$N$114,MATCH(Tableau1[[#This Row],[EAN]],Grille_Tarifs_Modulable!$B$7:$B$114,0),2)) -> 12.532563 | M134: =IF(Tableau1[[#This Row],[Prix_Unit_HT]]=0,0,Tableau1[[#This Row],[Prix_Unit_HT]]+(Tableau1[[#This Row],[Prix_Unit_HT]]*VLOOKUP(Tableau1[[#This Row],[EAN]],Grille_Tarifs_Modulable!$B$10:$Q$204,16,FALSE))) -> 15.039076 | N134: 150 | O134: =ROUND(Tableau1[[#This Row],[Prix_Unit_HT]],2)*Tableau1[[#This Row],[Qte_commande]] -> 1879.5 | P134: =ROUND(Tableau1[[#This Row],[Prix_Unit_TTC]],2)*Tableau1[[#This Row],[Qte_commande]] -> 2256 | Q134: 150 | R134: =VALUE(IF(COUNTIF(Tableau1[[#This Row],[Type_Produit]],"*Boisson*"),PRODUCT(Tableau1[[#This Row],[CL]],Tableau1[[#This Row],[Qte_commande]])/100/0.7,IF(COUNTIF(Tableau1[[#This Row],[Type_Produit]],"*JGR*"),Tableau1[[#This Row],[Qte_commande]],0))) -> 150
A135: 42541 | B135: 16V06250 | C135: AU BUREAU | D135: TOURS | G135: GROS | H135: Boisson_Spirit | I135: Santiago de Cuba Anejo | J135: 100 | K135: {=IFERROR(INDEX(Grille_Tarifs_Modulable!$B$2:$B$204,MATCH(Tableau1[[#This Row],[Designation]]&Tableau1[[#This Row],[CL]],Grille_Tarifs_Modulable!$C$2:$C$204&Grille_Tarifs_Modulable!$F$2:$F$204,0)),0)} -> 3257150410167 | L135: =IF(Tableau1[[#This Row],[EAN]]=0,0,INDEX(Grille_Tarifs_Modulable!$B$7:$N$114,MATCH(Tableau1[[#This Row],[EAN]],Grille_Tarifs_Modulable!$B$7:$B$114,0),MATCH(Tableau1[[#This Row],[Tarificat° client]],Grille_Tarifs_Modulable!$7:$7,0)-1)+INDEX(Grille_Tarifs_Modulable!$M$7:$N$114,MATCH(Tableau1[[#This Row],[EAN]],Grille_Tarifs_Modulable!$B$7:$B$114,0),1)+INDEX(Grille_Tarifs_Modulable!$M$7:$N$114,MATCH(Tableau1[[#This Row],[EAN]],Grille_Tarifs_Modulable!$B$7:$B$114,0),2)) -> 15.778874 | M135: =IF(Tableau1[[#This Row],[Prix_Unit_HT]]=0,0,Tableau1[[#This Row],[Prix_Unit_HT]]+(Tableau1[[#This Row],[Prix_Unit_HT]]*VLOOKUP(Tableau1[[#This Row],[EAN]],Grille_Tarifs_Modulable!$B$10:$Q$204,16,FALSE))) -> 18.934649 | N135: 36 | O135: =ROUND(Tableau1[[#This Row],[Prix_Unit_HT]],2)*Tableau1[[#This Row],[Qte_commande]] -> 568.08 | P135: =ROUND(Tableau1[[#This Row],[Prix_Unit_TTC]],2)*Tableau1[[#This Row],[Qte_commande]] -> 681.48 | Q135: 51.43 | R135: =VALUE(IF(COUNTIF(Tableau1[[#This Row],[Type_Produit]],"*Boisson*"),PRODUCT(Tableau1[[#This Row],[CL]],Tableau1[[#This Row],[Qte_commande]])/100/0.7,IF(COUNTIF(Tableau1[[#This Row],[Type_Produit]],"*JGR*"),Tableau1[[#This Row],[Qte_commande]],0))) -> 51.428571
A136: 42541 | B136: 16V06251 | C136: CLIPPER | D136: BLOIS | G136: GROS | H136: Boisson_Spirit | I136: Santiago de Cuba Anejo | J136: 100 | K136: {=IFERROR(INDEX(Grille_Tarifs_Modulable!$B$2:$B$204,MATCH(Tableau1[[#This Row],[Designation]]&Tableau1[[#This Row],[CL]],Grille_Tarifs_Modulable!$C$2:$C$204&Grille_Tarifs_Modulable!$F$2:$F$204,0)),0)} -> 3257150410167 | L136: =IF(Tableau1[[#This Row],[EAN]]=0,0,INDEX(Grille_Tarifs_Modulable!$B$7:$N$114,MATCH(Tableau1[[#This Row],[EAN]],Grille_Tarifs_Modulable!$B$7:$B$114,0),MATCH(Tableau1[[#This Row],[Tarificat° client]],Grille_Tarifs_Modulable!$7:$7,0)-1)+INDEX(Grille_Tarifs_Modulable!$M$7:$N$114,MATCH(Tableau1[[#This Row],[EAN]],Grille_Tarifs_Modulable!$B$7:$B$114,0),1)+INDEX(Grille_Tarifs_Modulable!$M$7:$N$114,MATCH(Tableau1[[#This Row],[EAN]],Grille_Tarifs_Modulable!$B$7:$B$114,0),2)) -> 15.778874 | M136: =IF(Tableau1[[#This Row],[Prix_Unit_HT]]=0,0,Tableau1[[#This Row],[Prix_Unit_HT]]+(Tableau1[[#This Row],[Prix_Unit_HT]]*VLOOKUP(Tableau1[[#This Row],[EAN]],Grille_Tarifs_Modulable!$B$10:$Q$204,16,FALSE))) -> 18.934649 | N136: 36 | O136: =ROUND(Tableau1[[#This Row],[Prix_Unit_HT]],2)*Tableau1[[#This Row],[Qte_commande]] -> 568.08 | P136: =ROUND(Tableau1[[#This Row],[Prix_Unit_TTC]],2)*Tableau1[[#This Row],[Qte_commande]] -> 681.48 | Q136: 51.43 | R136: =VALUE(IF(COUNTIF(Tableau1[[#This Row],[Type_Produit]],"*Boisson*"),PRODUCT(Tableau1[[#This Row],[CL]],Tableau1[[#This Row],[Qte_commande]])/100/0.7,IF(COUNTIF(Tableau1[[#This Row],[Type_Produit]],"*JGR*"),Tableau1[[#This Row],[Qte_commande]],0))) -> 51.428571
A137: 42545 | B137: 16V06348 | C137: LES TROIS | D137: BOURGES | G137: CHR | H137: JGR_TM | I137: TAP MACHINE JÄGERMEISTER | J137: 3 | K137: {=IFERROR(INDEX(Grille_Tarifs_Modulable!$B$2:$B$204,MATCH(Tableau1[[#This Row],[Designation]]&Tableau1[[#This Row],[CL]],Grille_Tarifs_Modulable!$C$2:$C$204&Grille_Tarifs_Modulable!$F$2:$F$204,0)),0)} -> 121 | L137: =IF(Tableau1[[#This Row],[EAN]]=0,0,INDEX(Grille_Tarifs_Modulable!$B$7:$N$114,MATCH(Tableau1[[#This Row],[EAN]],Grille_Tarifs_Modulable!$B$7:$B$114,0),MATCH(Tableau1[[#This Row],[Tarificat° client]],Grille_Tarifs_Modulable!$7:$7,0)-1)+INDEX(Grille_Tarifs_Modulable!$M$7:$N$114,MATCH(Tableau1[[#This Row],[EAN]],Grille_Tarifs_Modulable!$B$7:$B$114,0),1)+INDEX(Grille_Tarifs_Modulable!$M$7:$N$114,MATCH(Tableau1[[#This Row],[EAN]],Grille_Tarifs_Modulable!$B$7:$B$114,0),2)) -> 299 | M137: =IF(Tableau1[[#This Row],[Prix_Unit_HT]]=0,0,Tableau1[[#This Row],[Prix_Unit_HT]]+(Tableau1[[#This Row],[Prix_Unit_HT]]*VLOOKUP(Tableau1[[#This Row],[EAN]],Grille_Tarifs_Modulable!$B$10:$Q$204,16,FALSE))) -> 358.8 | N137: 1 | O137: =ROUND(Tableau1[[#This Row],[Prix_Unit_HT]],2)*Tableau1[[#This Row],[Qte_commande]] -> 299 | P137: =ROUND(Tableau1[[#This Row],[Prix_Unit_TTC]],2)*Tableau1[[#This Row],[Qte_commande]] -> 358.8 | Q137: 1 | R137: =VALUE(IF(COUNTIF(Tableau1[[#This Row],[Type_Produit]],"*Boisson*"),PRODUCT(Tableau1[[#This Row],[CL]],Tableau1[[#This Row],[Qte_commande]])/100/0.7,IF(COUNTIF(Tableau1[[#This Row],[Type_Produit]],"*JGR*"),Tableau1[[#This Row],[Qte_commande]],0))) -> 1
A138: 42548 | B138: 16V06352 | C138: BISTROT 64 | D138: TOURS | G138: CHR | H138: Boisson_Spirit | I138: Jägermeister | J138: 70 | K138: {=IFERROR(INDEX(Grille_Tarifs_Modulable!$B$2:$B$204,MATCH(Tableau1[[#This Row],[Designation]]&Tableau1[[#This Row],[CL]],Grille_Tarifs_Modulable!$C$2:$C$204&Grille_Tarifs_Modulable!$F$2:$F$204,0)),0)} -> 4067700013859 | L138: =IF(Tableau1[[#This Row],[EAN]]=0,0,INDEX(Grille_Tarifs_Modulable!$B$7:$N$114,MATCH(Tableau1[[#This Row],[EAN]],Grille_Tarifs_Modulable!$B$7:$B$114,0),MATCH(Tableau1[[#This Row],[Tarificat° client]],Grille_Tarifs_Modulable!$7:$7,0)-1)+INDEX(Grille_Tarifs_Modulable!$M$7:$N$114,MATCH(Tableau1[[#This Row],[EAN]],Grille_Tarifs_Modulable!$B$7:$B$114,0),1)+INDEX(Grille_Tarifs_Modulable!$M$7:$N$114,MATCH(Tableau1[[#This Row],[EAN]],Grille_Tarifs_Modulable!$B$7:$B$114,0),2)) -> 13.942563 | M138: =IF(Tableau1[[#This Row],[Prix_Unit_HT]]=0,0,Tableau1[[#This Row],[Prix_Unit_HT]]+(Tableau1[[#This Row],[Prix_Unit_HT]]*VLOOKUP(Tableau1[[#This Row],[EAN]],Grille_Tarifs_Modulable!$B$10:$Q$204,16,FALSE))) -> 16.731076 | N138: 6 | O138: =ROUND(Tableau1[[#This Row],[Prix_Unit_HT]],2)*Tableau1[[#This Row],[Qte_commande]] -> 83.64 | P138: =ROUND(Tableau1[[#This Row],[Prix_Unit_TTC]],2)*Tableau1[[#This Row],[Qte_commande]] -> 100.38 | Q138: 6 | R138: =VALUE(IF(COUNTIF(Tableau1[[#This Row],[Type_Produit]],"*Boisson*"),PRODUCT(Tableau1[[#This Row],[CL]],Tableau1[[#This Row],[Qte_commande]])/100/0.7,IF(COUNTIF(Tableau1[[#This Row],[Type_Produit]],"*JGR*"),Tableau1[[#This Row],[Qte_commande]],0))) -> 6
A139: 42548 | B139: 16V06352 | C139: BISTROT 64 | D139: TOURS | G139: CHR | H139: Boisson_Spirit | I139: Limoncello di Capri | J139: 70 | K139: {=IFERROR(INDEX(Grille_Tarifs_Modulable!$B$2:$B$204,MATCH(Tableau1[[#This Row],[Designation]]&Tableau1[[#This Row],[CL]],Grille_Tarifs_Modulable!$C$2:$C$204&Grille_Tarifs_Modulable!$F$2:$F$204,0)),0)} -> 8017450002104 | L139: =IF(Tableau1[[#This Row],[EAN]]=0,0,INDEX(Grille_Tarifs_Modulable!$B$7:$N$114,MATCH(Tableau1[[#This Row],[EAN]],Grille_Tarifs_Modulable!$B$7:$B$114,0),MATCH(Tableau1[[#This Row],[Tarificat° client]],Grille_Tarifs_Modulable!$7:$7,0)-1)+INDEX(Grille_Tarifs_Modulable!$M$7:$N$114,MATCH(Tableau1[[#This Row],[EAN]],Grille_Tarifs_Modulable!$B$7:$B$114,0),1)+INDEX(Grille_Tarifs_Modulable!$M$7:$N$114,MATCH(Tableau1[[#This Row],[EAN]],Grille_Tarifs_Modulable!$B$7:$B$114,0),2)) -> 14.266483 | M139: =IF(Tableau1[[#This Row],[Prix_Unit_HT]]=0,0,Tableau1[[#This Row],[Prix_Unit_HT]]+(Tableau1[[#This Row],[Prix_Unit_HT]]*VLOOKUP(Tableau1[[#This Row],[EAN]],Grille_Tarifs_Modulable!$B$10:$Q$204,16,FALSE))) -> 17.11978 | N139: 6 | O139: =ROUND(Tableau1[[#This Row],[Prix_Unit_HT]],2)*Tableau1[[#This Row],[Qte_commande]] -> 85.62 | P139: =ROUND(Tableau1[[#This Row],[Prix_Unit_TTC]],2)*Tableau1[[#This Row],[Qte_commande]] -> 102.72 | Q139: 6 | R139: =VALUE(IF(COUNTIF(Tableau1[[#This Row],[Type_Produit]],"*Boisson*"),PRODUCT(Tableau1[[#This Row],[CL]],Tableau1[[#This Row],[Qte_commande]])/100/0.7,IF(COUNTIF(Tableau1[[#This Row],[Type_Produit]],"*JGR*"),Tableau1[[#This Row],[Qte_commande]],0))) -> 6
A140: 42548 | B140: 16V06352 | C140: BISTROT 64 | D140: TOURS | G140: CHR | H140: Boisson_Soft | I140: Mate Mate | J140: 50 | K140: {=IFERROR(INDEX(Grille_Tarifs_Modulable!$B$2:$B$204,MATCH(Tableau1[[#This Row],[Designation]]&Tableau1[[#This Row],[CL]],Grille_Tarifs_Modulable!$C$2:$C$204&Grille_Tarifs_Modulable!$F$2:$F$204,0)),0)} -> 4260310553382 | L140: =IF(Tableau1[[#This Row],[EAN]]=0,0,INDEX(Grille_Tarifs_Modulable!$B$7:$N$114,MATCH(Tableau1[[#This Row],[EAN]],Grille_Tarifs_Modulable!$B$7:$B$114,0),MATCH(Tableau1[[#This Row],[Tarificat° client]],Grille_Tarifs_Modulable!$7:$7,0)-1)+INDEX(Grille_Tarifs_Modulable!$M$7:$N$114,MATCH(Tableau1[[#This Row],[EAN]],Grille_Tarifs_Modulable!$B$7:$B$114,0),1)+INDEX(Grille_Tarifs_Modulable!$M$7:$N$114,MATCH(Tableau1[[#This Row],[EAN]],Grille_Tarifs_Modulable!$B$7:$B$114,0),2)) -> 1.1 | M140: =IF(Tableau1[[#This Row],[Prix_Unit_HT]]=0,0,Tableau1[[#This Row],[Prix_Unit_HT]]+(Tableau1[[#This Row],[Prix_Unit_HT]]*VLOOKUP(Tableau1[[#This Row],[EAN]],Grille_Tarifs_Modulable!$B$10:$Q$204,16,FALSE))) -> 1.1605 | N140: 40 | O140: =ROUND(Tableau1[[#This Row],[Prix_Unit_HT]],2)*Tableau1[[#This Row],[Qte_commande]] -> 44 | P140: =ROUND(Tableau1[[#This Row],[Prix_Unit_TTC]],2)*Tableau1[[#This Row],[Qte_commande]] -> 46.4 | Q140: 28.57 | R140: =VALUE(IF(COUNTIF(Tableau1[[#This Row],[Type_Produit]],"*Boisson*"),PRODUCT(Tableau1[[#This Row],[CL]],Tableau1[[#This Row],[Qte_commande]])/100/0.7,IF(COUNTIF(Tableau1[[#This Row],[Type_Produit]],"*JGR*"),Tableau1[[#This Row],[Qte_commande]],0))) -> 28.571429
A141: 42548 | B141: 16V06352 | C141: BISTROT 64 | D141: TOURS | G141: CHR | H141: Boisson_Spirit | I141: Sambuca Molinari Extra | J141: 70 | K141: {=IFERROR(INDEX(Grille_Tarifs_Modulable!$B$2:$B$204,MATCH(Tableau1[[#This Row],[Designation]]&Tableau1[[#This Row],[CL]],Grille_Tarifs_Modulable!$C$2:$C$204&Grille_Tarifs_Modulable!$F$2:$F$204,0)),0)} -> 8002095100001 | L141: =IF(Tableau1[[#This Row],[EAN]]=0,0,INDEX(Grille_Tarifs_Modulable!$B$7:$N$114,MATCH(Tableau1[[#This Row],[EAN]],Grille_Tarifs_Modulable!$B$7:$B$114,0),MATCH(Tableau1[[#This Row],[Tarificat° client]],Grille_Tarifs_Modulable!$7:$7,0)-1)+INDEX(Grille_Tarifs_Modulable!$M$7:$N$114,MATCH(Tableau1[[#This Row],[EAN]],Grille_Tarifs_Modulable!$B$7:$B$114,0),1)+INDEX(Grille_Tarifs_Modulable!$M$7:$N$114,MATCH(Tableau1[[#This Row],[EAN]],Grille_Tarifs_Modulable!$B$7:$B$114,0),2)) -> 16.028644 | M141: =IF(Tableau1[[#This Row],[Prix_Unit_HT]]=0,0,Tableau1[[#This Row],[Prix_Unit_HT]]+(Tableau1[[#This Row],[Prix_Unit_HT]]*VLOOKUP(Tableau1[[#This Row],[EAN]],Grille_Tarifs_Modulable!$B$10:$Q$204,16,FALSE))) -> 19.234373 | N141: 6 | O141: =ROUND(Tableau1[[#This Row],[Prix_Unit_HT]],2)*Tableau1[[#This Row],[Qte_commande]] -> 96.18 | P141: =ROUND(Tableau1[[#This Row],[Prix_Unit_TTC]],2)*Tableau1[[#This Row],[Qte_commande]] -> 115.38 | Q141: 6 | R141: =VALUE(IF(COUNTIF(Tableau1[[#This Row],[Type_Produit]],"*Boisson*"),PRODUCT(Tableau1[[#This Row],[CL]],Tableau1[[#This Row],[Qte_commande]])/100/0.7,IF(COUNTIF(Tableau1[[#This Row],[Type_Produit]],"*JGR*"),Tableau1[[#This Row],[Qte_commande]],0))) -> 6
A142: 42548 | B142: 16V06352 | C142: BISTROT 64 | D142: TOURS | G142: CHR | H142: Boisson_Spirit | I142: Seve Feu de Joie | J142: 70 | K142: {=IFERROR(INDEX(Grille_Tarifs_Modulable!$B$2:$B$204,MATCH(Tableau1[[#This Row],[Designation]]&Tableau1[[#This Row],[CL]],Grille_Tarifs_Modulable!$C$2:$C$204&Grille_Tarifs_Modulable!$F$2:$F$204,0)),0)} -> 3257150688009 | L142: =IF(Tableau1[[#This Row],[EAN]]=0,0,INDEX(Grille_Tarifs_Modulable!$B$7:$N$114,MATCH(Tableau1[[#This Row],[EAN]],Grille_Tarifs_Modulable!$B$7:$B$114,0),MATCH(Tableau1[[#This Row],[Tarificat° client]],Grille_Tarifs_Modulable!$7:$7,0)-1)+INDEX(Grille_Tarifs_Modulable!$M$7:$N$114,MATCH(Tableau1[[#This Row],[EAN]],Grille_Tarifs_Modulable!$B$7:$B$114,0),1)+INDEX(Grille_Tarifs_Modulable!$M$7:$N$114,MATCH(Tableau1[[#This Row],[EAN]],Grille_Tarifs_Modulable!$B$7:$B$114,0),2)) -> 14.516915 | M142: =IF(Tableau1[[#This Row],[Prix_Unit_HT]]=0,0,Tableau1[[#This Row],[Prix_Unit_HT]]+(Tableau1[[#This Row],[Prix_Unit_HT]]*VLOOKUP(Tableau1[[#This Row],[EAN]],Grille_Tarifs_Modulable!$B$10:$Q$204,16,FALSE))) -> 17.420298 | N142: 6 | O142: =ROUND(Tableau1[[#This Row],[Prix_Unit_HT]],2)*Tableau1[[#This Row],[Qte_commande]] -> 87.12 | P142: =ROUND(Tableau1[[#This Row],[Prix_Unit_TTC]],2)*Tableau1[[#This Row],[Qte_commande]] -> 104.52 | Q142: 6 | R142: =VALUE(IF(COUNTIF(Tableau1[[#This Row],[Type_Produit]],"*Boisson*"),PRODUCT(Tableau1[[#This Row],[CL]],Tableau1[[#This Row],[Qte_commande]])/100/0.7,IF(COUNTIF(Tableau1[[#This Row],[Type_Produit]],"*JGR*"),Tableau1[[#This Row],[Qte_commande]],0))) -> 6
A143: 42548 | B143: 16V06356 | C143: LE QG | D143: BENAIS | G143: CHR | H143: JGR_TM | I143: TAP MACHINE JÄGERMEISTER | J143: 3 | K143: {=IFERROR(INDEX(Grille_Tarifs_Modulable!$B$2:$B$204,MATCH(Tableau1[[#This Row],[Designation]]&Tableau1[[#This Row],[CL]],Grille_Tarifs_Modulable!$C$2:$C$204&Grille_Tarifs_Modulable!$F$2:$F$204,0)),0)} -> 121 | L143: =IF(Tableau1[[#This Row],[EAN]]=0,0,INDEX(Grille_Tarifs_Modulable!$B$7:$N$114,MATCH(Tableau1[[#This Row],[EAN]],Grille_Tarifs_Modulable!$B$7:$B$114,0),MATCH(Tableau1[[#This Row],[Tarificat° client]],Grille_Tarifs_Modulable!$7:$7,0)-1)+INDEX(Grille_Tarifs_Modulable!$M$7:$N$114,MATCH(Tableau1[[#This Row],[EAN]],Grille_Tarifs_Modulable!$B$7:$B$114,0),1)+INDEX(Grille_Tarifs_Modulable!$M$7:$N$114,MATCH(Tableau1[[#This Row],[EAN]],Grille_Tarifs_Modulable!$B$7:$B$114,0),2)) -> 299 | M143: =IF(Tableau1[[#This Row],[Prix_Unit_HT]]=0,0,Tableau1[[#This Row],[Prix_Unit_HT]]+(Tableau1[[#This Row],[Prix_Unit_HT]]*VLOOKUP(Tableau1[[#This Row],[EAN]],Grille_Tarifs_Modulable!$B$10:$Q$204,16,FALSE))) -> 358.8 | N143: 1 | O143: =ROUND(Tableau1[[#This Row],[Prix_Unit_HT]],2)*Tableau1[[#This Row],[Qte_commande]] -> 299 | P143: =ROUND(Tableau1[[#This Row],[Prix_Unit_TTC]],2)*Tableau1[[#This Row],[Qte_commande]] -> 358.8 | Q143: 1 | R143: =VALUE(IF(COUNTIF(Tableau1[[#This Row],[Type_Produit]],"*Boisson*"),PRODUCT(Tableau1[[#This Row],[CL]],Tableau1[[#This Row],[Qte_commande]])/100/0.7,IF(COUNTIF(Tableau1[[#This Row],[Type_Produit]],"*JGR*"),Tableau1[[#This Row],[Qte_commande]],0))) -> 1
... A160: 42578 | B160: 16V07330 | C160: L'OLIVIER | D160: ORLEANS | G160: CHR | H160: Boisson_Spirit | I160: VODKA IMPERIAL GOLD | J160: 70 | K160: {=IFERROR(INDEX(Grille_Tarifs_Modulable!$B$2:$B$204,MATCH(Tableau1[[#This Row],[Designation]]&Tableau1[[#This Row],[CL]],Grille_Tarifs_Modulable!$C$2:$C$204&Grille_Tarifs_Modulable!$F$2:$F$204,0)),0)} -> 0 | L160: =IF(Tableau1[[#This Row],[EAN]]=0,0,INDEX(Grille_Tarifs_Modulable!$B$7:$N$114,MATCH(Tableau1[[#This Row],[EAN]],Grille_Tarifs_Modulable!$B$7:$B$114,0),MATCH(Tableau1[[#This Row],[Tarificat° client]],Grille_Tarifs_Modulable!$7:$7,0)-1)+INDEX(Grille_Tarifs_Modulable!$M$7:$N$114,MATCH(Tableau1[[#This Row],[EAN]],Grille_Tarifs_Modulable!$B$7:$B$114,0),1)+INDEX(Grille_Tarifs_Modulable!$M$7:$N$114,MATCH(Tableau1[[#This Row],[EAN]],Grille_Tarifs_Modulable!$B$7:$B$114,0),2)) -> 0 | M160: =IF(Tableau1[[#This Row],[Prix_Unit_HT]]=0,0,Tableau1[[#This Row],[Prix_Unit_HT]]+(Tableau1[[#This Row],[Prix_Unit_HT]]*VLOOKUP(Tableau1[[#This Row],[EAN]],Grille_Tarifs_Modulable!$B$10:$Q$204,16,FALSE))) -> 0 | N160: 6 | O160: =ROUND(Tableau1[[#This Row],[Prix_Unit_HT]],2)*Tableau1[[#This Row],[Qte_commande]] -> 0 | P160: =ROUND(Tableau1[[#This Row],[Prix_Unit_TTC]],2)*Tableau1[[#This Row],[Qte_commande]] -> 0 | Q160: 6 | R160: =VALUE(IF(COUNTIF(Tableau1[[#This Row],[Type_Produit]],"*Boisson*"),PRODUCT(Tableau1[[#This Row],[CL]],Tableau1[[#This Row],[Qte_commande]])/100/0.7,IF(COUNTIF(Tableau1[[#This Row],[Type_Produit]],"*JGR*"),Tableau1[[#This Row],[Qte_commande]],0))) -> 6
A161: 42579 | B161: 16V07338 | C161: DIAMS TONIC | D161: JALLAIS | F161: CHR_CLUB | G161: CHR | H161: Boisson_Spirit | I161: Jägermeister | J161: 175 | K161: {=IFERROR(INDEX(Grille_Tarifs_Modulable!$B$2:$B$204,MATCH(Tableau1[[#This Row],[Designation]]&Tableau1[[#This Row],[CL]],Grille_Tarifs_Modulable!$C$2:$C$204&Grille_Tarifs_Modulable!$F$2:$F$204,0)),0)} -> 4067700013835 | L161: =IF(Tableau1[[#This Row],[EAN]]=0,0,INDEX(Grille_Tarifs_Modulable!$B$7:$N$114,MATCH(Tableau1[[#This Row],[EAN]],Grille_Tarifs_Modulable!$B$7:$B$114,0),MATCH(Tableau1[[#This Row],[Tarificat° client]],Grille_Tarifs_Modulable!$7:$7,0)-1)+INDEX(Grille_Tarifs_Modulable!$M$7:$N$114,MATCH(Tableau1[[#This Row],[EAN]],Grille_Tarifs_Modulable!$B$7:$B$114,0),1)+INDEX(Grille_Tarifs_Modulable!$M$7:$N$114,MATCH(Tableau1[[#This Row],[EAN]],Grille_Tarifs_Modulable!$B$7:$B$114,0),2)) -> 32.266409 | M161: =IF(Tableau1[[#This Row],[Prix_Unit_HT]]=0,0,Tableau1[[#This Row],[Prix_Unit_HT]]+(Tableau1[[#This Row],[Prix_Unit_HT]]*VLOOKUP(Tableau1[[#This Row],[EAN]],Grille_Tarifs_Modulable!$B$10:$Q$204,16,FALSE))) -> 38.71969 | N161: 24 | O161: =ROUND(Tableau1[[#This Row],[Prix_Unit_HT]],2)*Tableau1[[#This Row],[Qte_commande]] -> 774.48 | P161: =ROUND(Tableau1[[#This Row],[Prix_Unit_TTC]],2)*Tableau1[[#This Row],[Qte_commande]] -> 929.28 | Q161: 60 | R161: =VALUE(IF(COUNTIF(Tableau1[[#This Row],[Type_Produit]],"*Boisson*"),PRODUCT(Tableau1[[#This Row],[CL]],Tableau1[[#This Row],[Qte_commande]])/100/0.7,IF(COUNTIF(Tableau1[[#This Row],[Type_Produit]],"*JGR*"),Tableau1[[#This Row],[Qte_commande]],0))) -> 60
A162: 42583 | B162: 16V07209 | C162: LA DATCHA | D162: ORLEANS | G162: CHR | H162: Boisson_Soft | I162: Mate Mate | J162: 50 | K162: {=IFERROR(INDEX(Grille_Tarifs_Modulable!$B$2:$B$204,MATCH(Tableau1[[#This Row],[Designation]]&Tableau1[[#This Row],[CL]],Grille_Tarifs_Modulable!$C$2:$C$204&Grille_Tarifs_Modulable!$F$2:$F$204,0)),0)} -> 4260310553382 | L162: =IF(Tableau1[[#This Row],[EAN]]=0,0,INDEX(Grille_Tarifs_Modulable!$B$7:$N$114,MATCH(Tableau1[[#This Row],[EAN]],Grille_Tarifs_Modulable!$B$7:$B$114,0),MATCH(Tableau1[[#This Row],[Tarificat° client]],Grille_Tarifs_Modulable!$7:$7,0)-1)+INDEX(Grille_Tarifs_Modulable!$M$7:$N$114,MATCH(Tableau1[[#This Row],[EAN]],Grille_Tarifs_Modulable!$B$7:$B$114,0),1)+INDEX(Grille_Tarifs_Modulable!$M$7:$N$114,MATCH(Tableau1[[#This Row],[EAN]],Grille_Tarifs_Modulable!$B$7:$B$114,0),2)) -> 1.1 | M162: =IF(Tableau1[[#This Row],[Prix_Unit_HT]]=0,0,Tableau1[[#This Row],[Prix_Unit_HT]]+(Tableau1[[#This Row],[Prix_Unit_HT]]*VLOOKUP(Tableau1[[#This Row],[EAN]],Grille_Tarifs_Modulable!$B$10:$Q$204,16,FALSE))) -> 1.1605 | N162: 100 | O162: =ROUND(Tableau1[[#This Row],[Prix_Unit_HT]],2)*Tableau1[[#This Row],[Qte_commande]] -> 110 | P162: =ROUND(Tableau1[[#This Row],[Prix_Unit_TTC]],2)*Tableau1[[#This Row],[Qte_commande]] -> 116 | Q162: 71.43 | R162: =VALUE(IF(COUNTIF(Tableau1[[#This Row],[Type_Produit]],"*Boisson*"),PRODUCT(Tableau1[[#This Row],[CL]],Tableau1[[#This Row],[Qte_commande]])/100/0.7,IF(COUNTIF(Tableau1[[#This Row],[Type_Produit]],"*JGR*"),Tableau1[[#This Row],[Qte_commande]],0))) -> 71.428571
A163: 42583 | B163: 16V07230 | C163: L'ANT'HIC | D163: ORLEANS | G163: CHR | H163: Boisson_Soft | I163: Mate Mate | J163: 50 | K163: {=IFERROR(INDEX(Grille_Tarifs_Modulable!$B$2:$B$204,MATCH(Tableau1[[#This Row],[Designation]]&Tableau1[[#This Row],[CL]],Grille_Tarifs_Modulable!$C$2:$C$204&Grille_Tarifs_Modulable!$F$2:$F$204,0)),0)} -> 4260310553382 | L163: =IF(Tableau1[[#This Row],[EAN]]=0,0,INDEX(Grille_Tarifs_Modulable!$B$7:$N$114,MATCH(Tableau1[[#This Row],[EAN]],Grille_Tarifs_Modulable!$B$7:$B$114,0),MATCH(Tableau1[[#This Row],[Tarificat° client]],Grille_Tarifs_Modulable!$7:$7,0)-1)+INDEX(Grille_Tarifs_Modulable!$M$7:$N$114,MATCH(Tableau1[[#This Row],[EAN]],Grille_Tarifs_Modulable!$B$7:$B$114,0),1)+INDEX(Grille_Tarifs_Modulable!$M$7:$N$114,MATCH(Tableau1[[#This Row],[EAN]],Grille_Tarifs_Modulable!$B$7:$B$114,0),2)) -> 1.1 | M163: =IF(Tableau1[[#This Row],[Prix_Unit_HT]]=0,0,Tableau1[[#This Row],[Prix_Unit_HT]]+(Tableau1[[#This Row],[Prix_Unit_HT]]*VLOOKUP(Tableau1[[#This Row],[EAN]],Grille_Tarifs_Modulable!$B$10:$Q$204,16,FALSE))) -> 1.1605 | N163: 40 | O163: =ROUND(Tableau1[[#This Row],[Prix_Unit_HT]],2)*Tableau1[[#This Row],[Qte_commande]] -> 44 | P163: =ROUND(Tableau1[[#This Row],[Prix_Unit_TTC]],2)*Tableau1[[#This Row],[Qte_commande]] -> 46.4 | Q163: 28.57 | R163: =VALUE(IF(COUNTIF(Tableau1[[#This Row],[Type_Produit]],"*Boisson*"),PRODUCT(Tableau1[[#This Row],[CL]],Tableau1[[#This Row],[Qte_commande]])/100/0.7,IF(COUNTIF(Tableau1[[#This Row],[Type_Produit]],"*JGR*"),Tableau1[[#This Row],[Qte_commande]],0))) -> 28.571429
A164: 42583 | B164: 16V07230 | C164: L'ANT'HIC | D164: ORLEANS | G164: CHR | H164: Boisson_Spirit | I164: Meukow VS | J164: 70 | K164: {=IFERROR(INDEX(Grille_Tarifs_Modulable!$B$2:$B$204,MATCH(Tableau1[[#This Row],[Designation]]&Tableau1[[#This Row],[CL]],Grille_Tarifs_Modulable!$C$2:$C$204&Grille_Tarifs_Modulable!$F$2:$F$204,0)),0)} -> 3257150100228 | L164: =IF(Tableau1[[#This Row],[EAN]]=0,0,INDEX(Grille_Tarifs_Modulable!$B$7:$N$114,MATCH(Tableau1[[#This Row],[EAN]],Grille_Tarifs_Modulable!$B$7:$B$114,0),MATCH(Tableau1[[#This Row],[Tarificat° client]],Grille_Tarifs_Modulable!$7:$7,0)-1)+INDEX(Grille_Tarifs_Modulable!$M$7:$N$114,MATCH(Tableau1[[#This Row],[EAN]],Grille_Tarifs_Modulable!$B$7:$B$114,0),1)+INDEX(Grille_Tarifs_Modulable!$M$7:$N$114,MATCH(Tableau1[[#This Row],[EAN]],Grille_Tarifs_Modulable!$B$7:$B$114,0),2)) -> 21.488644 | M164: =IF(Tableau1[[#This Row],[Prix_Unit_HT]]=0,0,Tableau1[[#This Row],[Prix_Unit_HT]]+(Tableau1[[#This Row],[Prix_Unit_HT]]*VLOOKUP(Tableau1[[#This Row],[EAN]],Grille_Tarifs_Modulable!$B$10:$Q$204,16,FALSE))) -> 25.786373 | N164: 6 | O164: =ROUND(Tableau1[[#This Row],[Prix_Unit_HT]],2)*Tableau1[[#This Row],[Qte_commande]] -> 128.94 | P164: =ROUND(Tableau1[[#This Row],[Prix_Unit_TTC]],2)*Tableau1[[#This Row],[Qte_commande]] -> 154.74 | Q164: 6 | R164: =VALUE(IF(COUNTIF(Tableau1[[#This Row],[Type_Produit]],"*Boisson*"),PRODUCT(Tableau1[[#This Row],[CL]],Tableau1[[#This Row],[Qte_commande]])/100/0.7,IF(COUNTIF(Tableau1[[#This Row],[Type_Produit]],"*JGR*"),Tableau1[[#This Row],[Qte_commande]],0))) -> 6
A165: 42583 | B165: 16V07230 | C165: L'ANT'HIC | D165: ORLEANS | G165: CHR | H165: Boisson_Spirit | I165: VODKA IMPERIAL GOLD | J165: 70 | K165: {=IFERROR(INDEX(Grille_Tarifs_Modulable!$B$2:$B$204,MATCH(Tableau1[[#This Row],[Designation]]&Tableau1[[#This Row],[CL]],Grille_Tarifs_Modulable!$C$2:$C$204&Grille_Tarifs_Modulable!$F$2:$F$204,0)),0)} -> 0 | L165: =IF(Tableau1[[#This Row],[EAN]]=0,0,INDEX(Grille_Tarifs_Modulable!$B$7:$N$114,MATCH(Tableau1[[#This Row],[EAN]],Grille_Tarifs_Modulable!$B$7:$B$114,0),MATCH(Tableau1[[#This Row],[Tarificat° client]],Grille_Tarifs_Modulable!$7:$7,0)-1)+INDEX(Grille_Tarifs_Modulable!$M$7:$N$114,MATCH(Tableau1[[#This Row],[EAN]],Grille_Tarifs_Modulable!$B$7:$B$114,0),1)+INDEX(Grille_Tarifs_Modulable!$M$7:$N$114,MATCH(Tableau1[[#This Row],[EAN]],Grille_Tarifs_Modulable!$B$7:$B$114,0),2)) -> 0 | M165: =IF(Tableau1[[#This Row],[Prix_Unit_HT]]=0,0,Tableau1[[#This Row],[Prix_Unit_HT]]+(Tableau1[[#This Row],[Prix_Unit_HT]]*VLOOKUP(Tableau1[[#This Row],[EAN]],Grille_Tarifs_Modulable!$B$10:$Q$204,16,FALSE))) -> 0 | N165: 6 | O165: =ROUND(Tableau1[[#This Row],[Prix_Unit_HT]],2)*Tableau1[[#This Row],[Qte_commande]] -> 0 | P165: =ROUND(Tableau1[[#This Row],[Prix_Unit_TTC]],2)*Tableau1[[#This Row],[Qte_commande]] -> 0 | Q165: 6 | R165: =VALUE(IF(COUNTIF(Tableau1[[#This Row],[Type_Produit]],"*Boisson*"),PRODUCT(Tableau1[[#This Row],[CL]],Tableau1[[#This Row],[Qte_commande]])/100/0.7,IF(COUNTIF(Tableau1[[#This Row],[Type_Produit]],"*JGR*"),Tableau1[[#This Row],[Qte_commande]],0))) -> 6
A166: 42583 | B166: 16V07230 | C166: L'ANT'HIC | D166: ORLEANS | G166: CHR | H166: Boisson_Spirit | I166: WILD TURKEY 81' | J166: 70 | K166: {=IFERROR(INDEX(Grille_Tarifs_Modulable!$B$2:$B$204,MATCH(Tableau1[[#This Row],[Designation]]&Tableau1[[#This Row],[CL]],Grille_Tarifs_Modulable!$C$2:$C$204&Grille_Tarifs_Modulable!$F$2:$F$204,0)),0)} -> 0 | L166: =IF(Tableau1[[#This Row],[EAN]]=0,0,INDEX(Grille_Tarifs_Modulable!$B$7:$N$114,MATCH(Tableau1[[#This Row],[EAN]],Grille_Tarifs_Modulable!$B$7:$B$114,0),MATCH(Tableau1[[#This Row],[Tarificat° client]],Grille_Tarifs_Modulable!$7:$7,0)-1)+INDEX(Grille_Tarifs_Modulable!$M$7:$N$114,MATCH(Tableau1[[#This Row],[EAN]],Grille_Tarifs_Modulable!$B$7:$B$114,0),1)+INDEX(Grille_Tarifs_Modulable!$M$7:$N$114,MATCH(Tableau1[[#This Row],[EAN]],Grille_Tarifs_Modulable!$B$7:$B$114,0),2)) -> 0 | M166: =IF(Tableau1[[#This Row],[Prix_Unit_HT]]=0,0,Tableau1[[#This Row],[Prix_Unit_HT]]+(Tableau1[[#This Row],[Prix_Unit_HT]]*VLOOKUP(Tableau1[[#This Row],[EAN]],Grille_Tarifs_Modulable!$B$10:$Q$204,16,FALSE))) -> 0 | N166: 12 | O166: =ROUND(Tableau1[[#This Row],[Prix_Unit_HT]],2)*Tableau1[[#This Row],[Qte_commande]] -> 0 | P166: =ROUND(Tableau1[[#This Row],[Prix_Unit_TTC]],2)*Tableau1[[#This Row],[Qte_commande]] -> 0 | Q166: 12 | R166: =VALUE(IF(COUNTIF(Tableau1[[#This Row],[Type_Produit]],"*Boisson*"),PRODUCT(Tableau1[[#This Row],[CL]],Tableau1[[#This Row],[Qte_commande]])/100/0.7,IF(COUNTIF(Tableau1[[#This Row],[Type_Produit]],"*JGR*"),Tableau1[[#This Row],[Qte_commande]],0))) -> 12
A167: 42584 | B167: 16V08015 | C167: ALMERIA | D167: SALBRIS | G167: CHR | H167: JGR_TM | I167: TAP MACHINE JÄGERMEISTER | J167: 3 | K167: {=IFERROR(INDEX(Grille_Tarifs_Modulable!$B$2:$B$204,MATCH(Tableau1[[#This Row],[Designation]]&Tableau1[[#This Row],[CL]],Grille_Tarifs_Modulable!$C$2:$C$204&Grille_Tarifs_Modulable!$F$2:$F$204,0)),0)} -> 121 | L167: =IF(Tableau1[[#This Row],[EAN]]=0,0,INDEX(Grille_Tarifs_Modulable!$B$7:$N$114,MATCH(Tableau1[[#This Row],[EAN]],Grille_Tarifs_Modulable!$B$7:$B$114,0),MATCH(Tableau1[[#This Row],[Tarificat° client]],Grille_Tarifs_Modulable!$7:$7,0)-1)+INDEX(Grille_Tarifs_Modulable!$M$7:$N$114,MATCH(Tableau1[[#This Row],[EAN]],Grille_Tarifs_Modulable!$B$7:$B$114,0),1)+INDEX(Grille_Tarifs_Modulable!$M$7:$N$114,MATCH(Tableau1[[#This Row],[EAN]],Grille_Tarifs_Modulable!$B$7:$B$114,0),2)) -> 299 | M167: =IF(Tableau1[[#This Row],[Prix_Unit_HT]]=0,0,Tableau1[[#This Row],[Prix_Unit_HT]]+(Tableau1[[#This Row],[Prix_Unit_HT]]*VLOOKUP(Tableau1[[#This Row],[EAN]],Grille_Tarifs_Modulable!$B$10:$Q$204,16,FALSE))) -> 358.8 | N167: 1 | O167: =ROUND(Tableau1[[#This Row],[Prix_Unit_HT]],2)*Tableau1[[#This Row],[Qte_commande]] -> 299 | P167: =ROUND(Tableau1[[#This Row],[Prix_Unit_TTC]],2)*Tableau1[[#This Row],[Qte_commande]] -> 358.8 | Q167: 1 | R167: =VALUE(IF(COUNTIF(Tableau1[[#This Row],[Type_Produit]],"*Boisson*"),PRODUCT(Tableau1[[#This Row],[CL]],Tableau1[[#This Row],[Qte_commande]])/100/0.7,IF(COUNTIF(Tableau1[[#This Row],[Type_Produit]],"*JGR*"),Tableau1[[#This Row],[Qte_commande]],0))) -> 1
A168: 42590 | B168: 16V08072 | C168: CODIFRANCE | D168: CHATEAUNEUF LOIRE | G168: GROS | H168: Boisson_Spirit | I168: Jägermeister | J168: 70 | K168: {=IFERROR(INDEX(Grille_Tarifs_Modulable!$B$2:$B$204,MATCH(Tableau1[[#This Row],[Designation]]&Tableau1[[#This Row],[CL]],Grille_Tarifs_Modulable!$C$2:$C$204&Grille_Tarifs_Modulable!$F$2:$F$204,0)),0)} -> 4067700013859 | L168: =IF(Tableau1[[#This Row],[EAN]]=0,0,INDEX(Grille_Tarifs_Modulable!$B$7:$N$114,MATCH(Tableau1[[#This Row],[EAN]],Grille_Tarifs_Modulable!$B$7:$B$114,0),MATCH(Tableau1[[#This Row],[Tarificat° client]],Grille_Tarifs_Modulable!$7:$7,0)-1)+INDEX(Grille_Tarifs_Modulable!$M$7:$N$114,MATCH(Tableau1[[#This Row],[EAN]],Grille_Tarifs_Modulable!$B$7:$B$114,0),1)+INDEX(Grille_Tarifs_Modulable!$M$7:$N$114,MATCH(Tableau1[[#This Row],[EAN]],Grille_Tarifs_Modulable!$B$7:$B$114,0),2)) -> 12.532563 | M168: =IF(Tableau1[[#This Row],[Prix_Unit_HT]]=0,0,Tableau1[[#This Row],[Prix_Unit_HT]]+(Tableau1[[#This Row],[Prix_Unit_HT]]*VLOOKUP(Tableau1[[#This Row],[EAN]],Grille_Tarifs_Modulable!$B$10:$Q$204,16,FALSE))) -> 15.039076 | N168: 480 | O168: =ROUND(Tableau1[[#This Row],[Prix_Unit_HT]],2)*Tableau1[[#This Row],[Qte_commande]] -> 6014.4 | P168: =ROUND(Tableau1[[#This Row],[Prix_Unit_TTC]],2)*Tableau1[[#This Row],[Qte_commande]] -> 7219.2 | Q168: 480 | R168: =VALUE(IF(COUNTIF(Tableau1[[#This Row],[Type_Produit]],"*Boisson*"),PRODUCT(Tableau1[[#This Row],[CL]],Tableau1[[#This Row],[Qte_commande]])/100/0.7,IF(COUNTIF(Tableau1[[#This Row],[Type_Produit]],"*JGR*"),Tableau1[[#This Row],[Qte_commande]],0))) -> 480
A169: 42592 | B169: 16V08091 | C169: BISTROT | D169: ESVRES SUR INDRE | G169: CHR | H169: Boisson_Soft | I169: Mate Mate | J169: 50 | K169: {=IFERROR(INDEX(Grille_Tarifs_Modulable!$B$2:$B$204,MATCH(Tableau1[[#This Row],[Designation]]&Tableau1[[#This Row],[CL]],Grille_Tarifs_Modulable!$C$2:$C$204&Grille_Tarifs_Modulable!$F$2:$F$204,0)),0)} -> 4260310553382 | L169: =IF(Tableau1[[#This Row],[EAN]]=0,0,INDEX(Grille_Tarifs_Modulable!$B$7:$N$114,MATCH(Tableau1[[#This Row],[EAN]],Grille_Tarifs_Modulable!$B$7:$B$114,0),MATCH(Tableau1[[#This Row],[Tarificat° client]],Grille_Tarifs_Modulable!$7:$7,0)-1)+INDEX(Grille_Tarifs_Modulable!$M$7:$N$114,MATCH(Tableau1[[#This Row],[EAN]],Grille_Tarifs_Modulable!$B$7:$B$114,0),1)+INDEX(Grille_Tarifs_Modulable!$M$7:$N$114,MATCH(Tableau1[[#This Row],[EAN]],Grille_Tarifs_Modulable!$B$7:$B$114,0),2)) -> 1.1 | M169: =IF(Tableau1[[#This Row],[Prix_Unit_HT]]=0,0,Tableau1[[#This Row],[Prix_Unit_HT]]+(Tableau1[[#This Row],[Prix_Unit_HT]]*VLOOKUP(Tableau1[[#This Row],[EAN]],Grille_Tarifs_Modulable!$B$10:$Q$204,16,FALSE))) -> 1.1605 | N169: 40 | O169: =ROUND(Tableau1[[#This Row],[Prix_Unit_HT]],2)*Tableau1[[#This Row],[Qte_commande]] -> 44 | P169: =ROUND(Tableau1[[#This Row],[Prix_Unit_TTC]],2)*Tableau1[[#This Row],[Qte_commande]] -> 46.4 | Q169: 28.57 | R169: =VALUE(IF(COUNTIF(Tableau1[[#This Row],[Type_Produit]],"*Boisson*"),PRODUCT(Tableau1[[#This Row],[CL]],Tableau1[[#This Row],[Qte_commande]])/100/0.7,IF(COUNTIF(Tableau1[[#This Row],[Type_Produit]],"*JGR*"),Tableau1[[#This Row],[Qte_commande]],0))) -> 28.571429
...

Sheet Grille_Tarifs_Modulable
B1: TARIFS
M5: 2020 | O5: GROS
B6: EAN | C6: DESIGNATION | F6: CL | G6: D° | H6: NB | I6: PRIX ACQUITES | M6: Droits | N6: Vign | O6: TOTAL HT | P6: TOTAL TTC | Q6: TVA
I7: CHR | J7: GROS | K7: GMS | M7: =VLOOKUP(VALUE(RIGHT(M5,4)),Table_indices_Taxes_Alcool!A5:C9,2,FALSE) -> 1786.59 | N7: =VLOOKUP(VALUE(RIGHT(M5,4)),Table_indices_Taxes_Alcool!A5:C9,3,FALSE) -> 573.64
M8: 193.73
B9: Jägermeister
B10: 4067700013835 | C10: Jägermeister | F10: 175 | G10: 35 | H10: 6 | I10: 17.81 | J10: 14.46 | M10: =IF(G10>=18,($M$7/10000)*$F10*($G10/100),IF(G10>0,($M$8/10000)*F10,0)) -> 10.942864 | N10: =IF(G10>18,($N$7/10000)*$F10*($G10/100),0) -> 3.513545 | O10: =IF(HLOOKUP($O$5,$I$7:$P$236,ROW()-6,FALSE)>0,HLOOKUP($O$5,$I$7:$P$236,ROW()-6,FALSE)+M10+N10," ") -> 28.916409 | P10: =IF(OR(COUNT(O10)=0,COUNT(Q10)=0),0,O10+(O10*Q10)) -> 34.699691 | Q10: =IF(OR(G10>0,H10="IT"),0.2,0.055) -> 0.2 | T10: {=IFERROR(INDEX(Tableau2[],MATCH(0,IF(Tableau2[]<>"",COUNTIF($T$9:T9,Tableau2[])),0)),"")} -> Jägermeister | W10: {=OFFSET($T$10,,,COUNTIF(Liste_Refs,"?*"))} -> Jägermeister | AA10: {=IFERROR(INDEX(Tableau3[],MATCH(0,IF(ISNUMBER(Tableau3[]),COUNTIF($AA$9:AA9,Tableau3[])),0))," ")} -> 175 | AB10: {=OFFSET(Grille_Tarifs_Modulable!$AA$10,,,COUNTIF(Liste_CL_Conditionnement,">"&0))} -> 175
B11: 4067700013842 | C11: Jägermeister | F11: 100 | G11: 35 | H11: 6 | I11: 10.89 | J11: 8.84 | M11: =IF(G11>=18,($M$7/10000)*$F11*($G11/100),IF(G11>0,($M$8/10000)*F11,0)) -> 6.253065 | N11: =IF(G11>18,($N$7/10000)*$F11*($G11/100),0) -> 2.00774 | O11: =IF(HLOOKUP($O$5,$I$7:$P$236,ROW()-6,FALSE)>0,HLOOKUP($O$5,$I$7:$P$236,ROW()-6,FALSE)+M11+N11," ") -> 17.100805 | P11: =IF(OR(COUNT(O11)=0,COUNT(Q11)=0),0,O11+(O11*Q11)) -> 20.520966 | Q11: =IF(OR(G11>0,H11="IT"),0.2,0.055) -> 0.2 | T11: {=IFERROR(INDEX(Tableau2[],MATCH(0,IF(Tableau2[]<>"",COUNTIF($T$9:T10,Tableau2[])),0)),"")} -> Jägermeister Scharf | W11: Jägermeister Scharf | AA11: {=IFERROR(INDEX(Tableau3[],MATCH(0,IF(ISNUMBER(Tableau3[]),COUNTIF($AA$9:AA10,Tableau3[])),0))," ")} -> 100 | AB11: 100
B12: 4067700013859 | C12: Jägermeister | F12: 70 | G12: 35 | H12: 6 | I12: 8.16 | J12: 6.75 | M12: =IF(G12>=18,($M$7/10000)*$F12*($G12/100),IF(G12>0,($M$8/10000)*F12,0)) -> 4.3771455 | N12: =IF(G12>18,($N$7/10000)*$F12*($G12/100),0) -> 1.405418 | O12: =IF(HLOOKUP($O$5,$I$7:$P$236,ROW()-6,FALSE)>0,HLOOKUP($O$5,$I$7:$P$236,ROW()-6,FALSE)+M12+N12," ") -> 12.532563 | P12: =IF(OR(COUNT(O12)=0,COUNT(Q12)=0),0,O12+(O12*Q12)) -> 15.039076 | Q12: =IF(OR(G12>0,H12="IT"),0.2,0.055) -> 0.2 | T12: {=IFERROR(INDEX(Tableau2[],MATCH(0,IF(Tableau2[]<>"",COUNTIF($T$9:T11,Tableau2[])),0)),"")} -> Jägermeister distributeur miniatures | W12: Jägermeister distributeur miniatures | AA12: {=IFERROR(INDEX(Tableau3[],MATCH(0,IF(ISNUMBER(Tableau3[]),COUNTIF($AA$9:AA11,Tableau3[])),0))," ")} -> 70 | AB12: 70
B13: 4067700012085 | C13: Jägermeister Scharf | F13: 70 | G13: 33 | H13: 6 | I13: 8.16 | J13: 6.75 | M13: =IF(G13>=18,($M$7/10000)*$F13*($G13/100),IF(G13>0,($M$8/10000)*F13,0)) -> 4.1270229 | N13: =IF(G13>18,($N$7/10000)*$F13*($G13/100),0) -> 1.3251084 | O13: =IF(HLOOKUP($O$5,$I$7:$P$236,ROW()-6,FALSE)>0,HLOOKUP($O$5,$I$7:$P$236,ROW()-6,FALSE)+M13+N13," ") -> 12.202131 | P13: =IF(OR(COUNT(O13)=0,COUNT(Q13)=0),0,O13+(O13*Q13)) -> 14.642558 | Q13: =IF(OR(G13>0,H13="IT"),0.2,0.055) -> 0.2 | T13: {=IFERROR(INDEX(Tableau2[],MATCH(0,IF(Tableau2[]<>"",COUNTIF($T$9:T12,Tableau2[])),0)),"")} -> Sambuca Molinari Extra | W13: Sambuca Molinari Extra | AA13: {=IFERROR(INDEX(Tableau3[],MATCH(0,IF(ISNUMBER(Tableau3[]),COUNTIF($AA$9:AA12,Tableau3[])),0))," ")} -> 35 | AB13: 35
B14: 4067700013866 | C14: Jägermeister | F14: 35 | G14: 35 | H14: 6 | I14: 4.08 | J14: 3.38 | M14: =IF(G14>=18,($M$7/10000)*$F14*($G14/100),IF(G14>0,($M$8/10000)*F14,0)) -> 2.1885727 | N14: =IF(G14>18,($N$7/10000)*$F14*($G14/100),0) -> 0.702709 | O14: =IF(HLOOKUP($O$5,$I$7:$P$236,ROW()-6,FALSE)>0,HLOOKUP($O$5,$I$7:$P$236,ROW()-6,FALSE)+M14+N14," ") -> 6.2712817 | P14: =IF(OR(COUNT(O14)=0,COUNT(Q14)=0),0,O14+(O14*Q14)) -> 7.5255381 | Q14: =IF(OR(G14>0,H14="IT"),0.2,0.055) -> 0.2 | T14: {=IFERROR(INDEX(Tableau2[],MATCH(0,IF(Tableau2[]<>"",COUNTIF($T$9:T13,Tableau2[])),0)),"")} -> Sambuca Molinari Caffé | W14: Sambuca Molinari Caffé | AA14: {=IFERROR(INDEX(Tableau3[],MATCH(0,IF(ISNUMBER(Tableau3[]),COUNTIF($AA$9:AA13,Tableau3[])),0))," ")} -> 2 | AB14: 2
B15: 4067700015884 | C15: Jägermeister distributeur miniatures | F15: 2 | G15: 35 | H15: 6 | I15: 0.56 | J15: 0.47 | M15: =IF(G15>=18,($M$7/10000)*$F15*($G15/100),IF(G15>0,($M$8/10000)*F15,0)) -> 0.1250613 | N15: =IF(G15>18,($N$7/10000)*$F15*($G15/100),0) -> 0.0401548 | O15: =IF(HLOOKUP($O$5,$I$7:$P$236,ROW()-6,FALSE)>0,HLOOKUP($O$5,$I$7:$P$236,ROW()-6,FALSE)+M15+N15," ") -> 0.6352161 | P15: =IF(OR(COUNT(O15)=0,COUNT(Q15)=0),0,O15+(O15*Q15)) -> 0.76225932 | Q15: =IF(OR(G15>0,H15="IT"),0.2,0.055) -> 0.2 | T15: {=IFERROR(INDEX(Tableau2[],MATCH(0,IF(Tableau2[]<>"",COUNTIF($T$9:T14,Tableau2[])),0)),"")} -> Limoncello di Capri | W15: Limoncello di Capri | AA15: {=IFERROR(INDEX(Tableau3[],MATCH(0,IF(ISNUMBER(Tableau3[]),COUNTIF($AA$9:AA14,Tableau3[])),0))," ")} -> 50 | AB15: 50
T16: {=IFERROR(INDEX(Tableau2[],MATCH(0,IF(Tableau2[]<>"",COUNTIF($T$9:T15,Tableau2[])),0)),"")} -> Danzinger Goldwasser | W16: Danzinger Goldwasser | AA16: {=IFERROR(INDEX(Tableau3[],MATCH(0,IF(ISNUMBER(Tableau3[]),COUNTIF($AA$9:AA15,Tableau3[])),0))," ")} -> 75 | AB16: 75
B17: Sambuca Molinari | T17: {=IFERROR(INDEX(Tableau2[],MATCH(0,IF(Tableau2[]<>"",COUNTIF($T$9:T16,Tableau2[])),0)),"")} -> Santiago de Cuba, Carta Blanca | W17: Santiago de Cuba, Carta Blanca | AA17: {=IFERROR(INDEX(Tableau3[],MATCH(0,IF(ISNUMBER(Tableau3[]),COUNTIF($AA$9:AA16,Tableau3[])),0))," ")} -> 10 | AB17: 10
B18: 8002095200039 | C18: Sambuca Molinari Extra | F18: 100 | G18: 40 | H18: 6 | I18: 11.35 | J18: 11.35 | M18: =IF(G18>=18,($M$7/10000)*$F18*($G18/100),IF(G18>0,($M$8/10000)*F18,0)) -> 7.14636 | N18: =IF(G18>18,($N$7/10000)*$F18*($G18/100),0) -> 2.29456 | O18: =IF(HLOOKUP($O$5,$I$7:$P$236,ROW()-6,FALSE)>0,HLOOKUP($O$5,$I$7:$P$236,ROW()-6,FALSE)+M18+N18," ") -> 20.79092 | P18: =IF(OR(COUNT(O18)=0,COUNT(Q18)=0),0,O18+(O18*Q18)) -> 24.949104 | Q18: =IF(OR(G18>0,H18="IT"),0.2,0.055) -> 0.2 | T18: {=IFERROR(INDEX(Tableau2[],MATCH(0,IF(Tableau2[]<>"",COUNTIF($T$9:T17,Tableau2[])),0)),"")} -> Santiago de Cuba Anejo | W18: Santiago de Cuba Anejo | AA18: {=IFERROR(INDEX(Tableau3[],MATCH(0,IF(ISNUMBER(Tableau3[]),COUNTIF($AA$9:AA17,Tableau3[])),0))," ")} -> 5 | AB18: 5
B19: 8002095100001 | C19: Sambuca Molinari Extra | F19: 70 | G19: 40 | H19: 6 | I19: 9.42 | J19: 9.42 | M19: =IF(G19>=18,($M$7/10000)*$F19*($G19/100),IF(G19>0,($M$8/10000)*F19,0)) -> 5.002452 | N19: =IF(G19>18,($N$7/10000)*$F19*($G19/100),0) -> 1.606192 | O19: =IF(HLOOKUP($O$5,$I$7:$P$236,ROW()-6,FALSE)>0,HLOOKUP($O$5,$I$7:$P$236,ROW()-6,FALSE)+M19+N19," ") -> 16.028644 | P19: =IF(OR(COUNT(O19)=0,COUNT(Q19)=0),0,O19+(O19*Q19)) -> 19.234373 | Q19: =IF(OR(G19>0,H19="IT"),0.2,0.055) -> 0.2 | T19: {=IFERROR(INDEX(Tableau2[],MATCH(0,IF(Tableau2[]<>"",COUNTIF($T$9:T18,Tableau2[])),0)),"")} -> Santiago de Cuba, 12 ans | W19: Santiago de Cuba, 12 ans | AA19: {=IFERROR(INDEX(Tableau3[],MATCH(0,IF(ISNUMBER(Tableau3[]),COUNTIF($AA$9:AA18,Tableau3[])),0))," ")} -> 20 | AB19: 20
B20: 8002095736606 | C20: Sambuca Molinari Caffé | F20: 70 | G20: 36 | H20: 6 | I20: 9.8 | J20: 9.8 | M20: =IF(G20>=18,($M$7/10000)*$F20*($G20/100),IF(G20>0,($M$8/10000)*F20,0)) -> 4.5022068 | N20: =IF(G20>18,($N$7/10000)*$F20*($G20/100),0) -> 1.4455728 | O20: =IF(HLOOKUP($O$5,$I$7:$P$236,ROW()-6,FALSE)>0,HLOOKUP($O$5,$I$7:$P$236,ROW()-6,FALSE)+M20+N20," ") -> 15.74778 | P20: =IF(OR(COUNT(O20)=0,COUNT(Q20)=0),0,O20+(O20*Q20)) -> 18.897336 | Q20: =IF(OR(G20>0,H20="IT"),0.2,0.055) -> 0.2 | T20: {=IFERROR(INDEX(Tableau2[],MATCH(0,IF(Tableau2[]<>"",COUNTIF($T$9:T19,Tableau2[])),0)),"")} -> Santiago de Cuba, 20 ans | W20: Santiago de Cuba, 20 ans | AA20: {=IFERROR(INDEX(Tableau3[],MATCH(0,IF(ISNUMBER(Tableau3[]),COUNTIF($AA$9:AA19,Tableau3[])),0))," ")} -> 3 | AB20: 3
T21: {=IFERROR(INDEX(Tableau2[],MATCH(0,IF(Tableau2[]<>"",COUNTIF($T$9:T20,Tableau2[])),0)),"")} -> Santiago de Cuba, 25 ans | W21: Santiago de Cuba, 25 ans | AA21: {=IFERROR(INDEX(Tableau3[],MATCH(0,IF(ISNUMBER(Tableau3[]),COUNTIF($AA$9:AA20,Tableau3[])),0))," ")} -> 1 | AB21: 1
B22: Limoncello Di Capri | T22: {=IFERROR(INDEX(Tableau2[],MATCH(0,IF(Tableau2[]<>"",COUNTIF($T$9:T21,Tableau2[])),0)),"")} -> Meukow Vanilla | W22: Meukow Vanilla | AA22: {=IFERROR(INDEX(Tableau3[],MATCH(0,IF(ISNUMBER(Tableau3[]),COUNTIF($AA$9:AA21,Tableau3[])),0))," ")} -> 4 | AB22: 4
B23: 8017450003507 | C23: Limoncello di Capri | F23: 50 | G23: 30 | H23: 6 | I23: 8.92 | J23: 8.92 | M23: =IF(G23>=18,($M$7/10000)*$F23*($G23/100),IF(G23>0,($M$8/10000)*F23,0)) -> 2.679885 | N23: =IF(G23>18,($N$7/10000)*$F23*($G23/100),0) -> 0.86046 | O23: =IF(HLOOKUP($O$5,$I$7:$P$236,ROW()-6,FALSE)>0,HLOOKUP($O$5,$I$7:$P$236,ROW()-6,FALSE)+M23+N23," ") -> 12.460345 | P23: =IF(OR(COUNT(O23)=0,COUNT(Q23)=0),0,O23+(O23*Q23)) -> 14.952414 | Q23: =IF(OR(G23>0,H23="IT"),0.2,0.055) -> 0.2 | T23: {=IFERROR(INDEX(Tableau2[],MATCH(0,IF(Tableau2[]<>"",COUNTIF($T$9:T22,Tableau2[])),0)),"")} -> Meukow Xpresso | W23: Meukow Xpresso | AA23: {=IFERROR(INDEX(Tableau3[],MATCH(0,IF(ISNUMBER(Tableau3[]),COUNTIF($AA$9:AA22,Tableau3[])),0))," ")} -> 6 | AB23: 6
B24: 8017450002104 | C24: Limoncello di Capri | F24: 70 | G24: 30 | H24: 6 | I24: 9.31 | J24: 9.31 | M24: =IF(G24>=18,($M$7/10000)*$F24*($G24/100),IF(G24>0,($M$8/10000)*F24,0)) -> 3.751839 | N24: =IF(G24>18,($N$7/10000)*$F24*($G24/100),0) -> 1.204644 | O24: =IF(HLOOKUP($O$5,$I$7:$P$236,ROW()-6,FALSE)>0,HLOOKUP($O$5,$I$7:$P$236,ROW()-6,FALSE)+M24+N24," ") -> 14.266483 | P24: =IF(OR(COUNT(O24)=0,COUNT(Q24)=0),0,O24+(O24*Q24)) -> 17.11978 | Q24: =IF(OR(G24>0,H24="IT"),0.2,0.055) -> 0.2 | T24: {=IFERROR(INDEX(Tableau2[],MATCH(0,IF(Tableau2[]<>"",COUNTIF($T$9:T23,Tableau2[])),0)),"")} -> Meukow VS | W24: Meukow VS | AA24: {=IFERROR(INDEX(Tableau3[],MATCH(0,IF(ISNUMBER(Tableau3[]),COUNTIF($AA$9:AA23,Tableau3[])),0))," ")}
T25: {=IFERROR(INDEX(Tableau2[],MATCH(0,IF(Tableau2[]<>"",COUNTIF($T$9:T24,Tableau2[])),0)),"")} -> Meukow VS coffret 2 verres | W25: Meukow VS coffret 2 verres | AA25: {=IFERROR(INDEX(Tableau3[],MATCH(0,IF(ISNUMBER(Tableau3[]),COUNTIF($AA$9:AA24,Tableau3[])),0))," ")}
B26: Danziger Goldwasser | T26: {=IFERROR(INDEX(Tableau2[],MATCH(0,IF(Tableau2[]<>"",COUNTIF($T$9:T25,Tableau2[])),0)),"")} -> Meukow 90' | W26: Meukow 90' | AA26: {=IFERROR(INDEX(Tableau3[],MATCH(0,IF(ISNUMBER(Tableau3[]),COUNTIF($AA$9:AA25,Tableau3[])),0))," ")}
B27: 4055800060200 | C27: Danzinger Goldwasser | F27: 70 | G27: 40 | H27: 6 | I27: 11.98 | J27: 10.8 | M27: =IF(G27>=18,($M$7/10000)*$F27*($G27/100),IF(G27>0,($M$8/10000)*F27,0)) -> 5.002452 | N27: =IF(G27>18,($N$7/10000)*$F27*($G27/100),0) -> 1.606192 | O27: =IF(HLOOKUP($O$5,$I$7:$P$236,ROW()-6,FALSE)>0,HLOOKUP($O$5,$I$7:$P$236,ROW()-6,FALSE)+M27+N27," ") -> 17.408644 | P27: =IF(OR(COUNT(O27)=0,COUNT(Q27)=0),0,O27+(O27*Q27)) -> 20.890373 | Q27: =IF(OR(G27>0,H27="IT"),0.2,0.055) -> 0.2 | T27: {=IFERROR(INDEX(Tableau2[],MATCH(0,IF(Tableau2[]<>"",COUNTIF($T$9:T26,Tableau2[])),0)),"")} -> Meukow 90' boite métal | W27: Meukow 90' boite métal | AA27: {=IFERROR(INDEX(Tableau3[],MATCH(0,IF(ISNUMBER(Tableau3[]),COUNTIF($AA$9:AA26,Tableau3[])),0))," ")}
T28: {=IFERROR(INDEX(Tableau2[],MATCH(0,IF(Tableau2[]<>"",COUNTIF($T$9:T27,Tableau2[])),0)),"")} -> Meukow VSOP | W28: Meukow VSOP | AA28: {=IFERROR(INDEX(Tableau3[],MATCH(0,IF(ISNUMBER(Tableau3[]),COUNTIF($AA$9:AA27,Tableau3[])),0))," ")}
B29: Rhum Santiago | T29: {=IFERROR(INDEX(Tableau2[],MATCH(0,IF(Tableau2[]<>"",COUNTIF($T$9:T28,Tableau2[])),0)),"")} -> Meukow VSOP boite métal | W29: Meukow VSOP boite métal | AA29: {=IFERROR(INDEX(Tableau3[],MATCH(0,IF(ISNUMBER(Tableau3[]),COUNTIF($AA$9:AA28,Tableau3[])),0))," ")}
B30: 3257150410068 | C30: Santiago de Cuba, Carta Blanca | F30: 100 | G30: 38 | H30: 6 | I30: 5.77 | J30: 5.22 | M30: =IF(G30>=18,($M$7/10000)*$F30*($G30/100),IF(G30>0,($M$8/10000)*F30,0)) -> 6.789042 | N30: =IF(G30>18,($N$7/10000)*$F30*($G30/100),0) -> 2.179832 | O30: =IF(HLOOKUP($O$5,$I$7:$P$236,ROW()-6,FALSE)>0,HLOOKUP($O$5,$I$7:$P$236,ROW()-6,FALSE)+M30+N30," ") -> 14.188874 | P30: =IF(OR(COUNT(O30)=0,COUNT(Q30)=0),0,O30+(O30*Q30)) -> 17.026649 | Q30: =IF(OR(G30>0,H30="IT"),0.2,0.055) -> 0.2 | T30: {=IFERROR(INDEX(Tableau2[],MATCH(0,IF(Tableau2[]<>"",COUNTIF($T$9:T29,Tableau2[])),0)),"")} -> Meukow VSOP coffret 2 verres | W30: Meukow VSOP coffret 2 verres
B31: 8500000917008 | C31: Santiago de Cuba, Carta Blanca | F31: 70 | G31: 38 | H31: 6 | I31: 5.25 | J31: 4.75 | M31: =IF(G31>=18,($M$7/10000)*$F31*($G31/100),IF(G31>0,($M$8/10000)*F31,0)) -> 4.7523294 | N31: =IF(G31>18,($N$7/10000)*$F31*($G31/100),0) -> 1.5258824 | O31: =IF(HLOOKUP($O$5,$I$7:$P$236,ROW()-6,FALSE)>0,HLOOKUP($O$5,$I$7:$P$236,ROW()-6,FALSE)+M31+N31," ") -> 11.028212 | P31: =IF(OR(COUNT(O31)=0,COUNT(Q31)=0),0,O31+(O31*Q31)) -> 13.233854 | Q31: =IF(OR(G31>0,H31="IT"),0.2,0.055) -> 0.2 | T31: {=IFERROR(INDEX(Tableau2[],MATCH(0,IF(Tableau2[]<>"",COUNTIF($T$9:T30,Tableau2[])),0)),"")} -> Félin Arima sans étui | W31: Félin Arima sans étui
B32: 3257150410167 | C32: Santiago de Cuba Anejo | F32: 100 | G32: 38 | H32: 6 | I32: 7.52 | J32: 6.81 | M32: =IF(G32>=18,($M$7/10000)*$F32*($G32/100),IF(G32>0,($M$8/10000)*F32,0)) -> 6.789042 | N32: =IF(G32>18,($N$7/10000)*$F32*($G32/100),0) -> 2.179832 | O32: =IF(HLOOKUP($O$5,$I$7:$P$236,ROW()-6,FALSE)>0,HLOOKUP($O$5,$I$7:$P$236,ROW()-6,FALSE)+M32+N32," ") -> 15.778874 | P32: =IF(OR(COUNT(O32)=0,COUNT(Q32)=0),0,O32+(O32*Q32)) -> 18.934649 | Q32: =IF(OR(G32>0,H32="IT"),0.2,0.055) -> 0.2 | T32: {=IFERROR(INDEX(Tableau2[],MATCH(0,IF(Tableau2[]<>"",COUNTIF($T$9:T31,Tableau2[])),0)),"")} -> Meukow Icône Etui | W32: Meukow Icône Etui
B33: 8500000917015 | C33: Santiago de Cuba Anejo | F33: 70 | G33: 38 | H33: 6 | I33: 6.46 | J33: 5.62 | M33: =IF(G33>=18,($M$7/10000)*$F33*($G33/100),IF(G33>0,($M$8/10000)*F33,0)) -> 4.7523294 | N33: =IF(G33>18,($N$7/10000)*$F33*($G33/100),0) -> 1.5258824 | O33: =IF(HLOOKUP($O$5,$I$7:$P$236,ROW()-6,FALSE)>0,HLOOKUP($O$5,$I$7:$P$236,ROW()-6,FALSE)+M33+N33," ") -> 11.898212 | P33: =IF(OR(COUNT(O33)=0,COUNT(Q33)=0),0,O33+(O33*Q33)) -> 14.277854 | Q33: =IF(OR(G33>0,H33="IT"),0.2,0.055) -> 0.2 | T33: {=IFERROR(INDEX(Tableau2[],MATCH(0,IF(Tableau2[]<>"",COUNTIF($T$9:T32,Tableau2[])),0)),"")} -> Meukow XO Boite Métal | W33: Meukow XO Boite Métal
B34: 8500000916445 | C34: Santiago de Cuba, 12 ans | F34: 70 | G34: 40 | H34: 6 | I34: 37 | J34: 30.8 | M34: =IF(G34>=18,($M$7/10000)*$F34*($G34/100),IF(G34>0,($M$8/10000)*F34,0)) -> 5.002452 | N34: =IF(G34>18,($N$7/10000)*$F34*($G34/100),0) -> 1.606192 | O34: =IF(HLOOKUP($O$5,$I$7:$P$236,ROW()-6,FALSE)>0,HLOOKUP($O$5,$I$7:$P$236,ROW()-6,FALSE)+M34+N34," ") -> 37.408644 | P34: =IF(OR(COUNT(O34)=0,COUNT(Q34)=0),0,O34+(O34*Q34)) -> 44.890373 | Q34: =IF(OR(G34>0,H34="IT"),0.2,0.055) -> 0.2 | T34: {=IFERROR(INDEX(Tableau2[],MATCH(0,IF(Tableau2[]<>"",COUNTIF($T$9:T33,Tableau2[])),0)),"")} -> Meukow XO Etui | W34: Meukow XO Etui
B35: 8500000917022 | C35: Santiago de Cuba, 20 ans | F35: 70 | G35: 40 | H35: 6 | I35: 74 | J35: 61.6 | M35: =IF(G35>=18,($M$7/10000)*$F35*($G35/100),IF(G35>0,($M$8/10000)*F35,0)) -> 5.002452 | N35: =IF(G35>18,($N$7/10000)*$F35*($G35/100),0) -> 1.606192 | O35: =IF(HLOOKUP($O$5,$I$7:$P$236,ROW()-6,FALSE)>0,HLOOKUP($O$5,$I$7:$P$236,ROW()-6,FALSE)+M35+N35," ") -> 68.208644 | P35: =IF(OR(COUNT(O35)=0,COUNT(Q35)=0),0,O35+(O35*Q35)) -> 81.850373 | Q35: =IF(OR(G35>0,H35="IT"),0.2,0.055) -> 0.2 | T35: {=IFERROR(INDEX(Tableau2[],MATCH(0,IF(Tableau2[]<>"",COUNTIF($T$9:T34,Tableau2[])),0)),"")} -> Meukow XO Grde Champagne Etui | W35: Meukow XO Grde Champagne Etui
B36: 8500000917039 | C36: Santiago de Cuba, 25 ans | F36: 70 | G36: 40 | H36: 4 | I36: 222 | J36: 184.8 | M36: =IF(G36>=18,($M$7/10000)*$F36*($G36/100),IF(G36>0,($M$8/10000)*F36,0)) -> 5.002452 | N36: =IF(G36>18,($N$7/10000)*$F36*($G36/100),0) -> 1.606192 | O36: =IF(HLOOKUP($O$5,$I$7:$P$236,ROW()-6,FALSE)>0,HLOOKUP($O$5,$I$7:$P$236,ROW()-6,FALSE)+M36+N36," ") -> 191.40864 | P36: =IF(OR(COUNT(O36)=0,COUNT(Q36)=0),0,O36+(O36*Q36)) -> 229.69037 | Q36: =IF(OR(G36>0,H36="IT"),0.2,0.055) -> 0.2 | T36: {=IFERROR(INDEX(Tableau2[],MATCH(0,IF(Tableau2[]<>"",COUNTIF($T$9:T35,Tableau2[])),0)),"")} -> Meukow Palme d OR 1978 | W36: Meukow Palme d OR 1978
T37: {=IFERROR(INDEX(Tableau2[],MATCH(0,IF(Tableau2[]<>"",COUNTIF($T$9:T36,Tableau2[])),0)),"")} -> Meukow Esprit de Famille | W37: Meukow Esprit de Famille
O38: =IF(HLOOKUP($O$5,$I$7:$P$236,ROW()-6,FALSE)>0,HLOOKUP($O$5,$I$7:$P$236,ROW()-6,FALSE)+M38+N38," ") | T38: {=IFERROR(INDEX(Tableau2[],MATCH(0,IF(Tableau2[]<>"",COUNTIF($T$9:T37,Tableau2[])),0)),"")} -> Meukow Extra Coffret | W38: Meukow Extra Coffret
B39: Cognac Meukow | T39: {=IFERROR(INDEX(Tableau2[],MATCH(0,IF(Tableau2[]<>"",COUNTIF($T$9:T38,Tableau2[])),0)),"")} -> Meukow Baccarat Coffret | W39: Meukow Baccarat Coffret
B40: 3257150101904 | C40: Meukow Vanilla | F40: 70 | G40: 30 | H40: 6 | I40: 13.55 | J40: 11.39 | M40: =IF(G40>=18,($M$7/10000)*$F40*($G40/100),IF(G40>0,($M$8/10000)*F40,0)) -> 3.751839 | N40: =IF(G40>18,($N$7/10000)*$F40*($G40/100),0) -> 1.204644 | O40: =IF(HLOOKUP($O$5,$I$7:$P$236,ROW()-6,FALSE)>0,HLOOKUP($O$5,$I$7:$P$236,ROW()-6,FALSE)+M40+N40," ") -> 16.346483 | P40: =IF(OR(COUNT(O40)=0,COUNT(Q40)=0),0,O40+(O40*Q40)) -> 19.61578 | Q40: =IF(OR(G40>0,H40="IT"),0.2,IF(ISBLANK(G40)," ",IF(G40<=0,0.055," "))) -> 0.2 | T40: {=IFERROR(INDEX(Tableau2[],MATCH(0,IF(Tableau2[]<>"",COUNTIF($T$9:T39,Tableau2[])),0)),"")} -> Meukow Cognac Flavouring regular | W40: Meukow Cognac Flavouring regular
B41: 3257150102017 | C41: Meukow Xpresso | F41: 70 | G41: 20 | H41: 6 | I41: 13.55 | J41: 11.39 | M41: =IF(G41>=18,($M$7/10000)*$F41*($G41/100),IF(G41>0,($M$8/10000)*F41,0)) -> 2.501226 | N41: =IF(G41>18,($N$7/10000)*$F41*($G41/100),0) -> 0.803096 | O41: =IF(HLOOKUP($O$5,$I$7:$P$236,ROW()-6,FALSE)>0,HLOOKUP($O$5,$I$7:$P$236,ROW()-6,FALSE)+M41+N41," ") -> 14.694322 | P41: =IF(OR(COUNT(O41)=0,COUNT(Q41)=0),0,O41+(O41*Q41)) -> 17.633186 | Q41: =IF(OR(G41>0,H41="IT"),0.2,IF(ISBLANK(G41)," ",IF(G41<=0,0.055," "))) -> 0.2 | T41: {=IFERROR(INDEX(Tableau2[],MATCH(0,IF(Tableau2[]<>"",COUNTIF($T$9:T40,Tableau2[])),0)),"")} -> Meukow Cognac Flavouring xo | W41: Meukow Cognac Flavouring xo
B42: 3257150100228 | C42: Meukow VS | F42: 70 | G42: 40 | H42: 6 | I42: 14.88 | J42: 13.39 | K42: 12.4 | M42: =IF(G42>=18,($M$7/10000)*$F42*($G42/100),IF(G42>0,($M$8/10000)*F42,0)) -> 5.002452 | N42: =IF(G42>18,($N$7/10000)*$F42*($G42/100),0) -> 1.606192 | O42: =IF(HLOOKUP($O$5,$I$7:$P$236,ROW()-6,FALSE)>0,HLOOKUP($O$5,$I$7:$P$236,ROW()-6,FALSE)+M42+N42," ") -> 19.998644 | P42: =IF(OR(COUNT(O42)=0,COUNT(Q42)=0),0,O42+(O42*Q42)) -> 23.998373 | Q42: =IF(OR(G42>0,H42="IT"),0.2,IF(ISBLANK(G42)," ",IF(G42<=0,0.055," "))) -> 0.2 | T42: {=IFERROR(INDEX(Tableau2[],MATCH(0,IF(Tableau2[]<>"",COUNTIF($T$9:T41,Tableau2[])),0)),"")} -> Seve Feu de Joie | W42: Seve Feu de Joie
B43: 3257150102130 | C43: Meukow VS coffret 2 verres | F43: 70 | G43: 40 | H43: 6 | I43: 24.09 | J43: 24.09 | M43: =IF(G43>=18,($M$7/10000)*$F43*($G43/100),IF(G43>0,($M$8/10000)*F43,0)) -> 5.002452 | N43: =IF(G43>18,($N$7/10000)*$F43*($G43/100),0) -> 1.606192 | O43: =IF(HLOOKUP($O$5,$I$7:$P$236,ROW()-6,FALSE)>0,HLOOKUP($O$5,$I$7:$P$236,ROW()-6,FALSE)+M43+N43," ") -> 30.698644 | P43: =IF(OR(COUNT(O43)=0,COUNT(Q43)=0),0,O43+(O43*Q43)) -> 36.838373 | Q43: =IF(OR(G43>0,H43="IT"),0.2,IF(ISBLANK(G43)," ",IF(G43<=0,0.055," "))) -> 0.2 | T43: {=IFERROR(INDEX(Tableau2[],MATCH(0,IF(Tableau2[]<>"",COUNTIF($T$9:T42,Tableau2[])),0)),"")} -> Saar Dry Gin Ferdinand's | W43: Saar Dry Gin Ferdinand's
B44: 3257150100143 | C44: Meukow VS | F44: 35 | G44: 40 | H44: 12 | I44: 10.8 | J44: 9.72 | M44: =IF(G44>=18,($M$7/10000)*$F44*($G44/100),IF(G44>0,($M$8/10000)*F44,0)) -> 2.501226 | N44: =IF(G44>18,($N$7/10000)*$F44*($G44/100),0) -> 0.803096 | O44: =IF(HLOOKUP($O$5,$I$7:$P$236,ROW()-6,FALSE)>0,HLOOKUP($O$5,$I$7:$P$236,ROW()-6,FALSE)+M44+N44," ") -> 13.024322 | P44: =IF(OR(COUNT(O44)=0,COUNT(Q44)=0),0,O44+(O44*Q44)) -> 15.629186 | Q44: =IF(OR(G44>0,H44="IT"),0.2,IF(ISBLANK(G44)," ",IF(G44<=0,0.055," "))) -> 0.2 | T44: {=IFERROR(INDEX(Tableau2[],MATCH(0,IF(Tableau2[]<>"",COUNTIF($T$9:T43,Tableau2[])),0)),"")} -> Gin Dry Sul | W44: Gin Dry Sul
B45: 3257150101485 | C45: Meukow 90' | F45: 70 | G45: 45 | H45: 6 | I45: 19 | J45: 23.04 | M45: =IF(G45>=18,($M$7/10000)*$F45*($G45/100),IF(G45>0,($M$8/10000)*F45,0)) -> 5.6277585 | N45: =IF(G45>18,($N$7/10000)*$F45*($G45/100),0) -> 1.806966 | O45: =IF(HLOOKUP($O$5,$I$7:$P$236,ROW()-6,FALSE)>0,HLOOKUP($O$5,$I$7:$P$236,ROW()-6,FALSE)+M45+N45," ") -> 30.474724 | P45: =IF(OR(COUNT(O45)=0,COUNT(Q45)=0),0,O45+(O45*Q45)) -> 36.569669 | Q45: =IF(OR(G45>0,H45="IT"),0.2,IF(ISBLANK(G45)," ",IF(G45<=0,0.055," "))) -> 0.2 | T45: {=IFERROR(INDEX(Tableau2[],MATCH(0,IF(Tableau2[]<>"",COUNTIF($T$9:T44,Tableau2[])),0)),"")} -> Gran Reserva | W45: Gran Reserva
B46: 3257150101485 | C46: Meukow 90' boite métal | F46: 70 | G46: 45 | H46: 6 | I46: 25.9 | J46: 25.9 | M46: =IF(G46>=18,($M$7/10000)*$F46*($G46/100),IF(G46>0,($M$8/10000)*F46,0)) -> 5.6277585 | N46: =IF(G46>18,($N$7/10000)*$F46*($G46/100),0) -> 1.806966 | O46: =IF(HLOOKUP($O$5,$I$7:$P$236,ROW()-6,FALSE)>0,HLOOKUP($O$5,$I$7:$P$236,ROW()-6,FALSE)+M46+N46," ") -> 33.334725 | P46: =IF(OR(COUNT(O46)=0,COUNT(Q46)=0),0,O46+(O46*Q46)) -> 40.001669 | Q46: =IF(OR(G46>0,H46="IT"),0.2,IF(ISBLANK(G46)," ",IF(G46<=0,0.055," "))) -> 0.2 | T46: {=IFERROR(INDEX(Tableau2[],MATCH(0,IF(Tableau2[]<>"",COUNTIF($T$9:T45,Tableau2[])),0)),"")} -> London Dry Gin | W46: London Dry Gin
B47: 3257150100167 | C47: Meukow VSOP | F47: 70 | G47: 40 | H47: 6 | I47: 23.34 | J47: 21.01 | M47: =IF(G47>=18,($M$7/10000)*$F47*($G47/100),IF(G47>0,($M$8/10000)*F47,0)) -> 5.002452 | N47: =IF(G47>18,($N$7/10000)*$F47*($G47/100),0) -> 1.606192 | O47: =IF(HLOOKUP($O$5,$I$7:$P$236,ROW()-6,FALSE)>0,HLOOKUP($O$5,$I$7:$P$236,ROW()-6,FALSE)+M47+N47," ") -> 27.618644 | P47: =IF(OR(COUNT(O47)=0,COUNT(Q47)=0),0,O47+(O47*Q47)) -> 33.142373 | Q47: =IF(OR(G47>0,H47="IT"),0.2,IF(ISBLANK(G47)," ",IF(G47<=0,0.055," "))) -> 0.2 | T47: {=IFERROR(INDEX(Tableau2[],MATCH(0,IF(Tableau2[]<>"",COUNTIF($T$9:T46,Tableau2[])),0)),"")} -> Peach | W47: Peach
B48: 3257150100419 | C48: Meukow VSOP boite métal | F48: 70 | G48: 40 | H48: 6 | I48: 25.9 | J48: 25.9 | M48: =IF(G48>=18,($M$7/10000)*$F48*($G48/100),IF(G48>0,($M$8/10000)*F48,0)) -> 5.002452 | N48: =IF(G48>18,($N$7/10000)*$F48*($G48/100),0) -> 1.606192 | O48: =IF(HLOOKUP($O$5,$I$7:$P$236,ROW()-6,FALSE)>0,HLOOKUP($O$5,$I$7:$P$236,ROW()-6,FALSE)+M48+N48," ") -> 32.508644 | P48: =IF(OR(COUNT(O48)=0,COUNT(Q48)=0),0,O48+(O48*Q48)) -> 39.010373 | Q48: =IF(OR(G48>0,H48="IT"),0.2,IF(ISBLANK(G48)," ",IF(G48<=0,0.055," "))) -> 0.2 | T48: {=IFERROR(INDEX(Tableau2[],MATCH(0,IF(Tableau2[]<>"",COUNTIF($T$9:T47,Tableau2[])),0)),"")} -> Mezcal San Cosme | W48: Mezcal San Cosme
B49: 3257150100341 | C49: Meukow VSOP coffret 2 verres | F49: 70 | G49: 40 | H49: 6 | I49: 34.13 | J49: 34.13 | M49: =IF(G49>=18,($M$7/10000)*$F49*($G49/100),IF(G49>0,($M$8/10000)*F49,0)) -> 5.002452 | N49: =IF(G49>18,($N$7/10000)*$F49*($G49/100),0) -> 1.606192 | O49: =IF(HLOOKUP($O$5,$I$7:$P$236,ROW()-6,FALSE)>0,HLOOKUP($O$5,$I$7:$P$236,ROW()-6,FALSE)+M49+N49," ") -> 40.738644 | P49: =IF(OR(COUNT(O49)=0,COUNT(Q49)=0),0,O49+(O49*Q49)) -> 48.886373 | Q49: =IF(OR(G49>0,H49="IT"),0.2,IF(ISBLANK(G49)," ",IF(G49<=0,0.055," "))) -> 0.2 | T49: {=IFERROR(INDEX(Tableau2[],MATCH(0,IF(Tableau2[]<>"",COUNTIF($T$9:T48,Tableau2[])),0)),"")} -> Mezcal Nuestra Soledad | W49: Mezcal Nuestra Soledad
B50: 3257150107012 | C50: Félin Arima sans étui | F50: 70 | G50: 40 | H50: 6 | I50: 25.8 | J50: 23.22 | K50: 18 | M50: =IF(G50>=18,($M$7/10000)*$F50*($G50/100),IF(G50>0,($M$8/10000)*F50,0)) -> 5.002452 | N50: =IF(G50>18,($N$7/10000)*$F50*($G50/100),0) -> 1.606192 | O50: =IF(HLOOKUP($O$5,$I$7:$P$236,ROW()-6,FALSE)>0,HLOOKUP($O$5,$I$7:$P$236,ROW()-6,FALSE)+M50+N50," ") -> 29.828644 | P50: =IF(OR(COUNT(O50)=0,COUNT(Q50)=0),0,O50+(O50*Q50)) -> 35.794373 | Q50: =IF(OR(G50>0,H50="IT"),0.2,IF(ISBLANK(G50)," ",IF(G50<=0,0.055," "))) -> 0.2 | T50: {=IFERROR(INDEX(Tableau2[],MATCH(0,IF(Tableau2[]<>"",COUNTIF($T$9:T49,Tableau2[])),0)),"")} -> Vodka Imperial Gold | W50: Vodka Imperial Gold
B51: 3257150101249 | C51: Meukow Icône Etui | F51: 70 | G51: 40 | H51: 12 | I51: 25.8 | J51: 23.22 | M51: =IF(G51>=18,($M$7/10000)*$F51*($G51/100),IF(G51>0,($M$8/10000)*F51,0)) -> 5.002452 | N51: =IF(G51>18,($N$7/10000)*$F51*($G51/100),0) -> 1.606192 | O51: =IF(HLOOKUP($O$5,$I$7:$P$236,ROW()-6,FALSE)>0,HLOOKUP($O$5,$I$7:$P$236,ROW()-6,FALSE)+M51+N51," ") -> 29.828644 | P51: =IF(OR(COUNT(O51)=0,COUNT(Q51)=0),0,O51+(O51*Q51)) -> 35.794373 | Q51: =IF(OR(G51>0,H51="IT"),0.2,IF(ISBLANK(G51)," ",IF(G51<=0,0.055," "))) -> 0.2 | T51: {=IFERROR(INDEX(Tableau2[],MATCH(0,IF(Tableau2[]<>"",COUNTIF($T$9:T50,Tableau2[])),0)),"")} -> Guerin Blanc | W51: Guerin Blanc
B52: 3257150100792 | C52: Meukow XO Boite Métal | F52: 70 | G52: 40 | H52: 6 | I52: 72 | J52: 64.8 | M52: =IF(G52>=18,($M$7/10000)*$F52*($G52/100),IF(G52>0,($M$8/10000)*F52,0)) -> 5.002452 | N52: =IF(G52>18,($N$7/10000)*$F52*($G52/100),0) -> 1.606192 | O52: =IF(HLOOKUP($O$5,$I$7:$P$236,ROW()-6,FALSE)>0,HLOOKUP($O$5,$I$7:$P$236,ROW()-6,FALSE)+M52+N52," ") -> 71.408644 | P52: =IF(OR(COUNT(O52)=0,COUNT(Q52)=0),0,O52+(O52*Q52)) -> 85.690373 | Q52: =IF(OR(G52>0,H52="IT"),0.2,IF(ISBLANK(G52)," ",IF(G52<=0,0.055," "))) -> 0.2 | T52: {=IFERROR(INDEX(Tableau2[],MATCH(0,IF(Tableau2[]<>"",COUNTIF($T$9:T51,Tableau2[])),0)),"")} -> Gerin Rouge | W52: Gerin Rouge
B53: 3257150100822 | C53: Meukow XO Etui | F53: 35 | G53: 40 | H53: 6 | I53: 50.5 | J53: 124.2 | M53: =IF(G53>=18,($M$7/10000)*$F53*($G53/100),IF(G53>0,($M$8/10000)*F53,0)) -> 2.501226 | N53: =IF(G53>18,($N$7/10000)*$F53*($G53/100),0) -> 0.803096 | O53: =IF(HLOOKUP($O$5,$I$7:$P$236,ROW()-6,FALSE)>0,HLOOKUP($O$5,$I$7:$P$236,ROW()-6,FALSE)+M53+N53," ") -> 127.50432 | P53: =IF(OR(COUNT(O53)=0,COUNT(Q53)=0),0,O53+(O53*Q53)) -> 153.00519 | Q53: =IF(OR(G53>0,H53="IT"),0.2,IF(ISBLANK(G53)," ",IF(G53<=0,0.055," "))) -> 0.2 | T53: {=IFERROR(INDEX(Tableau2[],MATCH(0,IF(Tableau2[]<>"",COUNTIF($T$9:T52,Tableau2[])),0)),"")} -> Tonic Water | W53: Tonic Water
B54: 3257150101300 | C54: Meukow XO Grde Champagne Etui | F54: 70 | G54: 40 | H54: 6 | I54: 84 | J54: 75.6 | M54: =IF(G54>=18,($M$7/10000)*$F54*($G54/100),IF(G54>0,($M$8/10000)*F54,0)) -> 5.002452 | N54: =IF(G54>18,($N$7/10000)*$F54*($G54/100),0) -> 1.606192 | O54: =IF(HLOOKUP($O$5,$I$7:$P$236,ROW()-6,FALSE)>0,HLOOKUP($O$5,$I$7:$P$236,ROW()-6,FALSE)+M54+N54," ") -> 82.208644 | P54: =IF(OR(COUNT(O54)=0,COUNT(Q54)=0),0,O54+(O54*Q54)) -> 98.650373 | Q54: =IF(OR(G54>0,H54="IT"),0.2,IF(ISBLANK(G54)," ",IF(G54<=0,0.055," "))) -> 0.2 | T54: {=IFERROR(INDEX(Tableau2[],MATCH(0,IF(Tableau2[]<>"",COUNTIF($T$9:T53,Tableau2[])),0)),"")} -> Ginger Ale | W54: Ginger Ale
B55: 3257150100969 | C55: Meukow XO Etui | F55: 175 | G55: 40 | H55: 6 | I55: 124.2 | J55: 124.2 | M55: =IF(G55>=18,($M$7/10000)*$F55*($G55/100),IF(G55>0,($M$8/10000)*F55,0)) -> 12.50613 | N55: =IF(G55>18,($N$7/10000)*$F55*($G55/100),0) -> 4.01548 | O55: =IF(HLOOKUP($O$5,$I$7:$P$236,ROW()-6,FALSE)>0,HLOOKUP($O$5,$I$7:$P$236,ROW()-6,FALSE)+M55+N55," ") -> 140.72161 | P55: =IF(OR(COUNT(O55)=0,COUNT(Q55)=0),0,O55+(O55*Q55)) -> 168.86593 | Q55: =IF(OR(G55>0,H55="IT"),0.2,IF(ISBLANK(G55)," ",IF(G55<=0,0.055," "))) -> 0.2 | T55: {=IFERROR(INDEX(Tableau2[],MATCH(0,IF(Tableau2[]<>"",COUNTIF($T$9:T54,Tableau2[])),0)),"")} -> Soda Water | W55: Soda Water
B56: 3257150101737 | C56: Meukow Palme d OR 1978 | F56: 70 | G56: 40 | H56: 6 | I56: 120 | J56: 120 | M56: =IF(G56>=18,($M$7/10000)*$F56*($G56/100),IF(G56>0,($M$8/10000)*F56,0)) -> 5.002452 | N56: =IF(G56>18,($N$7/10000)*$F56*($G56/100),0) -> 1.606192 | O56: =IF(HLOOKUP($O$5,$I$7:$P$236,ROW()-6,FALSE)>0,HLOOKUP($O$5,$I$7:$P$236,ROW()-6,FALSE)+M56+N56," ") -> 126.60864 | P56: =IF(OR(COUNT(O56)=0,COUNT(Q56)=0),0,O56+(O56*Q56)) -> 151.93037 | Q56: =IF(OR(G56>0,H56="IT"),0.2,IF(ISBLANK(G56)," ",IF(G56<=0,0.055," "))) -> 0.2 | T56: {=IFERROR(INDEX(Tableau2[],MATCH(0,IF(Tableau2[]<>"",COUNTIF($T$9:T55,Tableau2[])),0)),"")} -> Bitter Lemon | W56: Bitter Lemon
B57: 3257150101607 | C57: Meukow Esprit de Famille | F57: 70 | G57: 40 | H57: 4 | I57: 460 | J57: 460 | M57: =IF(G57>=18,($M$7/10000)*$F57*($G57/100),IF(G57>0,($M$8/10000)*F57,0)) -> 5.002452 | N57: =IF(G57>18,($N$7/10000)*$F57*($G57/100),0) -> 1.606192 | O57: =IF(HLOOKUP($O$5,$I$7:$P$236,ROW()-6,FALSE)>0,HLOOKUP($O$5,$I$7:$P$236,ROW()-6,FALSE)+M57+N57," ") -> 466.60864 | P57: =IF(OR(COUNT(O57)=0,COUNT(Q57)=0),0,O57+(O57*Q57)) -> 559.93037 | Q57: =IF(OR(G57>0,H57="IT"),0.2,IF(ISBLANK(G57)," ",IF(G57<=0,0.055," "))) -> 0.2 | T57: {=IFERROR(INDEX(Tableau2[],MATCH(0,IF(Tableau2[]<>"",COUNTIF($T$9:T56,Tableau2[])),0)),"")} -> Cherry Blossom | W57: Cherry Blossom
B58: 3257150100945 | C58: Meukow Extra Coffret | F58: 70 | G58: 40 | H58: 6 | I58: 130 | J58: 117 | M58: =IF(G58>=18,($M$7/10000)*$F58*($G58/100),IF(G58>0,($M$8/10000)*F58,0)) -> 5.002452 | N58: =IF(G58>18,($N$7/10000)*$F58*($G58/100),0) -> 1.606192 | O58: =IF(HLOOKUP($O$5,$I$7:$P$236,ROW()-6,FALSE)>0,HLOOKUP($O$5,$I$7:$P$236,ROW()-6,FALSE)+M58+N58," ") -> 123.60864 | P58: =IF(OR(COUNT(O58)=0,COUNT(Q58)=0),0,O58+(O58*Q58)) -> 148.33037 | Q58: =IF(OR(G58>0,H58="IT"),0.2,IF(ISBLANK(G58)," ",IF(G58<=0,0.055," "))) -> 0.2 | T58: {=IFERROR(INDEX(Tableau2[],MATCH(0,IF(Tableau2[]<>"",COUNTIF($T$9:T57,Tableau2[])),0)),"")} -> Spicy Ginger Beer | W58: Spicy Ginger Beer
B59: 3257150100907 | C59: Meukow Baccarat Coffret | F59: 75 | G59: 41 | H59: 1 | I59: 1839.6 | J59: 1795.8 | M59: =IF(G59>=18,($M$7/10000)*$F59*($G59/100),IF(G59>0,($M$8/10000)*F59,0)) -> 5.4937642 | N59: =IF(G59>18,($N$7/10000)*$F59*($G59/100),0) -> 1.763943 | O59: =IF(HLOOKUP($O$5,$I$7:$P$236,ROW()-6,FALSE)>0,HLOOKUP($O$5,$I$7:$P$236,ROW()-6,FALSE)+M59+N59," ") -> 1803.0577 | P59: =IF(OR(COUNT(O59)=0,COUNT(Q59)=0),0,O59+(O59*Q59)) -> 2163.6692 | Q59: =IF(OR(G59>0,H59="IT"),0.2,IF(ISBLANK(G59)," ",IF(G59<=0,0.055," "))) -> 0.2 | T59: {=IFERROR(INDEX(Tableau2[],MATCH(0,IF(Tableau2[]<>"",COUNTIF($T$9:T58,Tableau2[])),0)),"")} -> Elderflower | W59: Elderflower
B60: 3257150102314 | C60: Meukow Cognac Flavouring regular | F60: 10 | G60: 60 | H60: 6 | I60: 16.65 | J60: 13.86 | M60: =IF(G60>=18,($M$7/10000)*$F60*($G60/100),IF(G60>0,($M$8/10000)*F60,0)) -> 1.071954 | N60: =IF(G60>18,($N$7/10000)*$F60*($G60/100),0) -> 0.344184 | O60: =IF(HLOOKUP($O$5,$I$7:$P$236,ROW()-6,FALSE)>0,HLOOKUP($O$5,$I$7:$P$236,ROW()-6,FALSE)+M60+N60," ") -> 15.276138 | P60: =IF(OR(COUNT(O60)=0,COUNT(Q60)=0),0,O60+(O60*Q60)) -> 18.331366 | Q60: =IF(OR(G60>0,H60="IT"),0.2,IF(ISBLANK(G60)," ",IF(G60<=0,0.055," "))) -> 0.2 | T60: {=IFERROR(INDEX(Tableau2[],MATCH(0,IF(Tableau2[]<>"",COUNTIF($T$9:T59,Tableau2[])),0)),"")} -> Mate Mate | W60: Mate Mate
B61: 3257150102284 | C61: Meukow Cognac Flavouring xo | F61: 10 | G61: 60 | H61: 6 | I61: 23.13 | J61: 19.25 | M61: =IF(G61>=18,($M$7/10000)*$F61*($G61/100),IF(G61>0,($M$8/10000)*F61,0)) -> 1.071954 | N61: =IF(G61>18,($N$7/10000)*$F61*($G61/100),0) -> 0.344184 | O61: =IF(HLOOKUP($O$5,$I$7:$P$236,ROW()-6,FALSE)>0,HLOOKUP($O$5,$I$7:$P$236,ROW()-6,FALSE)+M61+N61," ") -> 20.666138 | P61: =IF(OR(COUNT(O61)=0,COUNT(Q61)=0),0,O61+(O61*Q61)) -> 24.799366 | Q61: =IF(OR(G61>0,H61="IT"),0.2,IF(ISBLANK(G61)," ",IF(G61<=0,0.055," "))) -> 0.2 | T61: {=IFERROR(INDEX(Tableau2[],MATCH(0,IF(Tableau2[]<>"",COUNTIF($T$9:T60,Tableau2[])),0)),"")} -> TAP MACHINE JÄGERMEISTER | W61: TAP MACHINE JÄGERMEISTER
B62: 3257150100821 | C62: Meukow XO Etui | F62: 5 | G62: 40 | I62: 7.4 | K62: 2.04 | M62: =IF(G62>=18,($M$7/10000)*$F62*($G62/100),IF(G62>0,($M$8/10000)*F62,0)) -> 0.357318 | N62: =IF(G62>18,($N$7/10000)*$F62*($G62/100),0) -> 0.114728 | O62: =IF(HLOOKUP($O$5,$I$7:$P$236,ROW()-6,FALSE)>0,HLOOKUP($O$5,$I$7:$P$236,ROW()-6,FALSE)+M62+N62," ") | P62: =IF(OR(COUNT(O62)=0,COUNT(Q62)=0),0,O62+(O62*Q62)) -> 0 | Q62: =IF(OR(G62>0,H62="IT"),0.2,IF(ISBLANK(G62)," ",IF(G62<=0,0.055," "))) -> 0.2 | T62: {=IFERROR(INDEX(Tableau2[],MATCH(0,IF(Tableau2[]<>"",COUNTIF($T$9:T61,Tableau2[])),0)),"")} -> TAP MACHINE JÄGERMEISTER 1 bll | W62: TAP MACHINE JÄGERMEISTER 1 bll
T63: {=IFERROR(INDEX(Tableau2[],MATCH(0,IF(Tableau2[]<>"",COUNTIF($T$9:T62,Tableau2[])),0)),"")} -> SHOT GLASSES FREEZER JAGERMEIS | W63: SHOT GLASSES FREEZER JAGERMEIS
B64: Seve Feu de Joie | T64: {=IFERROR(INDEX(Tableau2[],MATCH(0,IF(Tableau2[]<>"",COUNTIF($T$9:T63,Tableau2[])),0)),"")} -> TAP MACHINE JÄGER SPEED POURER | W64: TAP MACHINE JÄGER SPEED POURER
B65: 3257150688009 | C65: Seve Feu de Joie | F65: 70 | G65: 32 | H65: 6 | I65: 9.23 | J65: 7.27 | M65: =IF(G65>=18,($M$7/10000)*$F65*($G65/100),IF(G65>0,($M$8/10000)*F65,0)) -> 4.0019616 | N65: =IF(G65>18,($N$7/10000)*$F65*($G65/100),0) -> 1.2849536 | O65: =IF(HLOOKUP($O$5,$I$7:$P$236,ROW()-6,FALSE)>0,HLOOKUP($O$5,$I$7:$P$236,ROW()-6,FALSE)+M65+N65," ") -> 12.556915 | P65: =IF(OR(COUNT(O65)=0,COUNT(Q65)=0),0,O65+(O65*Q65)) -> 15.068298 | Q65: =IF(OR(G65>0,H65="IT"),0.2,IF(ISBLANK(G65)," ",IF(G65<=0,0.055," "))) -> 0.2 | T65: {=IFERROR(INDEX(Tableau2[],MATCH(0,IF(Tableau2[]<>"",COUNTIF($T$9:T64,Tableau2[])),0)),"")} -> FREEZER JÄGERMEISTER | W65: FREEZER JÄGERMEISTER
M66: =IF(G66>=18,($M$7/10000)*$F66*($G66/100),IF(G66>0,($M$8/10000)*F66,0)) -> 0 | N66: =IF(G66>18,($N$7/10000)*$F66*($G66/100),0) -> 0 | O66: =IF(HLOOKUP($O$5,$I$7:$P$236,ROW()-6,FALSE)>0,HLOOKUP($O$5,$I$7:$P$236,ROW()-6,FALSE)+M66+N66," ") | P66: =IF(OR(COUNT(O66)=0,COUNT(Q66)=0),0,O66+(O66*Q66)) -> 0 | T66: {=IFERROR(INDEX(Tableau2[],MATCH(0,IF(Tableau2[]<>"",COUNTIF($T$9:T65,Tableau2[])),0)),"")} -> zzzzz | W66: zzzzz
T67: {=IFERROR(INDEX(Tableau2[],MATCH(0,IF(Tableau2[]<>"",COUNTIF($T$9:T66,Tableau2[])),0)),"")}
B68: Gin Ferdinand's | T68: {=IFERROR(INDEX(Tableau2[],MATCH(0,IF(Tableau2[]<>"",COUNTIF($T$9:T67,Tableau2[])),0)),"")}
B69: 4260270192645 | C69: Saar Dry Gin Ferdinand's | F69: 50 | G69: 44 | H69: 6 | I69: 22.86 | J69: 20 | K69: 20 | M69: =IF(G69>=18,($M$7/10000)*$F69*($G69/100),IF(G69>0,($M$8/10000)*F69,0)) -> 3.930498 | N69: =IF(G69>18,($N$7/10000)*$F69*($G69/100),0) -> 1.262008 | O69: =IF(HLOOKUP($O$5,$I$7:$P$236,ROW()-6,FALSE)>0,HLOOKUP($O$5,$I$7:$P$236,ROW()-6,FALSE)+M69+N69," ") -> 25.192506 | P69: =IF(OR(COUNT(O69)=0,COUNT(Q69)=0),0,O69+(O69*Q69)) -> 30.231007 | Q69: =IF(OR(G69>0,H69="IT"),0.2,IF(ISBLANK(G69)," ",IF(G69<=0,0.055," "))) -> 0.2 | T69: {=IFERROR(INDEX(Tableau2[],MATCH(0,IF(Tableau2[]<>"",COUNTIF($T$9:T68,Tableau2[])),0)),"")}
B71: Gin Sul
B72: 4260372980010 | C72: Gin Dry Sul | F72: 50 | G72: 43 | H72: 6 | I72: 22.86 | J72: 20 | M72: =IF(G72>=18,($M$7/10000)*$F72*($G72/100),IF(G72>0,($M$8/10000)*F72,0)) -> 3.8411685 | N72: =IF(G72>18,($N$7/10000)*$F72*($G72/100),0) -> 1.233326 | O72: =IF(HLOOKUP($O$5,$I$7:$P$236,ROW()-6,FALSE)>0,HLOOKUP($O$5,$I$7:$P$236,ROW()-6,FALSE)+M72+N72," ") -> 25.074495 | P72: =IF(OR(COUNT(O72)=0,COUNT(Q72)=0),0,O72+(O72*Q72)) -> 30.089393 | Q72: =IF(OR(G72>0,H72="IT"),0.2,IF(ISBLANK(G72)," ",IF(G72<=0,0.055," "))) -> 0.2
B74: Gin Blossom
B75: 3257150673005 | C75: Gran Reserva | F75: 70 | G75: 40 | H75: 6 | I75: 20.24 | J75: 13.55 | M75: =IF(G75>=18,($M$7/10000)*$F75*($G75/100),IF(G75>0,($M$8/10000)*F75,0)) -> 5.002452 | N75: =IF(G75>18,($N$7/10000)*$F75*($G75/100),0) -> 1.606192 | O75: =IF(HLOOKUP($O$5,$I$7:$P$236,ROW()-6,FALSE)>0,HLOOKUP($O$5,$I$7:$P$236,ROW()-6,FALSE)+M75+N75," ") -> 20.158644 | P75: =IF(OR(COUNT(O75)=0,COUNT(Q75)=0),0,O75+(O75*Q75)) -> 24.190373 | Q75: =IF(OR(G75>0,H75="IT"),0.2,IF(ISBLANK(G75)," ",IF(G75<=0,0.055," "))) -> 0.2
B76: 3257150673029 | C76: London Dry Gin | F76: 70 | G76: 44 | H76: 6 | I76: 16 | J76: 10.5 | M76: =IF(G76>=18,($M$7/10000)*$F76*($G76/100),IF(G76>0,($M$8/10000)*F76,0)) -> 5.5026972 | N76: =IF(G76>18,($N$7/10000)*$F76*($G76/100),0) -> 1.7668112 | O76: =IF(HLOOKUP($O$5,$I$7:$P$236,ROW()-6,FALSE)>0,HLOOKUP($O$5,$I$7:$P$236,ROW()-6,FALSE)+M76+N76," ") -> 17.769508 | P76: =IF(OR(COUNT(O76)=0,COUNT(Q76)=0),0,O76+(O76*Q76)) -> 21.32341 | Q76: =IF(OR(G76>0,H76="IT"),0.2,IF(ISBLANK(G76)," ",IF(G76<=0,0.055," "))) -> 0.2
B77: 3257150673043 | C77: Peach | F77: 70 | G77: 45 | H77: 6 | I77: 16 | J77: 12.5 | M77: =IF(G77>=18,($M$7/10000)*$F77*($G77/100),IF(G77>0,($M$8/10000)*F77,0)) -> 5.6277585 | N77: =IF(G77>18,($N$7/10000)*$F77*($G77/100),0) -> 1.806966 | O77: =IF(HLOOKUP($O$5,$I$7:$P$236,ROW()-6,FALSE)>0,HLOOKUP($O$5,$I$7:$P$236,ROW()-6,FALSE)+M77+N77," ") -> 19.934724 | P77: =IF(OR(COUNT(O77)=0,COUNT(Q77)=0),0,O77+(O77*Q77)) -> 23.921669 | Q77: =IF(OR(G77>0,H77="IT"),0.2,IF(ISBLANK(G77)," ",IF(G77<=0,0.055," "))) -> 0.2
B79: Mezcal San Cosme
B80: 7503016693004 | C80: Mezcal San Cosme | F80: 70 | G80: 40 | H80: 6 | I80: 19 | J80: 18 | M80: =IF(G80>=18,($M$7/10000)*$F80*($G80/100),IF(G80>0,($M$8/10000)*F80,0)) -> 5.002452 | N80: =IF(G80>18,($N$7/10000)*$F80*($G80/100),0) -> 1.606192 | O80: =IF(HLOOKUP($O$5,$I$7:$P$236,ROW()-6,FALSE)>0,HLOOKUP($O$5,$I$7:$P$236,ROW()-6,FALSE)+M80+N80," ") -> 24.608644 | P80: =IF(OR(COUNT(O80)=0,COUNT(Q80)=0),0,O80+(O80*Q80)) -> 29.530373 | Q80: =IF(OR(G80>0,H80="IT"),0.2,IF(ISBLANK(G80)," ",IF(G80<=0,0.055," "))) -> 0.2
B82: Mezcal Nuestra Sol
B83: 7503011641413 | C83: Mezcal Nuestra Soledad | F83: 75 | G83: 41 | H83: 6 | I83: 19 | J83: 18 | M83: =IF(G83>=18,($M$7/10000)*$F83*($G83/100),IF(G83>0,($M$8/10000)*F83,0)) -> 5.4937642 | N83: =IF(G83>18,($N$7/10000)*$F83*($G83/100),0) -> 1.763943 | O83: =IF(HLOOKUP($O$5,$I$7:$P$236,ROW()-6,FALSE)>0,HLOOKUP($O$5,$I$7:$P$236,ROW()-6,FALSE)+M83+N83," ") -> 25.257707 | P83: =IF(OR(COUNT(O83)=0,COUNT(Q83)=0),0,O83+(O83*Q83)) -> 30.309249 | Q83: =IF(OR(G83>0,H83="IT"),0.2,IF(ISBLANK(G83)," ",IF(G83<=0,0.055," "))) -> 0.2
B85: Vodka Imperial
