Workbook
Name Liste_CL_Conditionnement: Grille_Tarifs_Modulable!$AA$10:$AA$104
Name Liste_Refs: Grille_Tarifs_Modulable!$T$10:$T$114
Name Segment_Designation: #N/A
Name Segment_Designation1: #N/A
Name Segment_Designation2: #N/A
Name Segment_Nom_produit: #N/A

Sheet TCD_Evol Qte btl par Cde
A3: Étiquettes de lignes | B3: CROISSANCE VOLUMETRIQUE / CDE
A4: 2016 | B4: 85.745948
A5: 2017 | B5: 105.79855
A6: 2018 | B6: 101.17016
A7: 2019 | B7: 121.20808
A8: Total général | B8: 104.78757

Sheet Feuil10
A3: Étiquettes de lignes | B3: Somme de CA_TTC | C3: Somme de CA_HT
A4: 2016 | B4: 11840.4 | C4: 9867
A5: 2017 | B5: 30856.8 | C5: 25714
A6: 2018 | B6: 33368.4 | C6: 27807
A7: 2019 | B7: 48019.2 | C7: 40016
A8: 2020 | B8: 3229.2 | C8: 2691
A9: Total général | B9: 127314 | C9: 106095

Sheet Evol_Volumétrie_Réfs Spi Prio
A3: Étiquettes de lignes | B3: Total distinct de Nu_Cde | C3: Somme de Qte_Unit_btl | D3: CROISSANCE_VOLUMETRIE_PAR_CDE
A4: 2016 | B4: 9 | C4: 69 | D4: 0.46969332
A5: 2017 | B5: 20 | C5: 140.61 | D5: 0.43071899
A6: 2018 | B6: 105 | C6: 1766.62 | D6: 1.0307697
A7: 2019 | B7: 82 | C7: 1761.67 | D7: 1.3161898
A8: 2020 | B8: 13 | D8: 0
A9: Total général | B9: 229 | C9: 3737.9 | D9: 1

Sheet Evol_CA_Réfs Spi Prio
A3: Étiquettes de lignes | B3: Total distinct de Nu_Cde | C3: Somme de CA_TTC | D3: CROISSANCE_CA_PAR_CDE
A4: 2016 | B4: 9 | C4: 1498.61 | D4: 166.51222
A5: 2017 | B5: 20 | C5: 5586.88 | D5: 279.344
A6: 2018 | B6: 105 | C6: 48327.22 | D6: 460.25924
A7: 2019 | B7: 82 | C7: 48787.74 | D7: 594.97244
A8: 2020 | B8: 13 | C8: 13814.89 | D8: 1062.6838
A9: Total général | B9: 229 | C9: 118015.34 | D9: 515.35083

Sheet Evol_Vtes_JGM_TM
A1: Type_Produit | B1: JGR_TM
A3: Étiquettes de lignes | B3: Somme de Qte_commande | C3: Somme de CA_TTC
A4: 2016 | B4: 74 | C4: 18679.2
A5: 2017 | B5: 93 | C5: 32024.4
A6: 2018 | B6: 93 | C6: 33368.4
A7: 2019 | B7: 134 | C7: 48019.2
A8: 2020 | B8: 9 | C8: 3229.2
A9: Total général | B9: 403 | C9: 135320.4

Sheet Evol_CA_Global
A1: Type_Produit | B1: (Plusieurs éléments)
A3: Étiquettes de lignes | B3: Somme de CA_TTC | C3: Somme de CA_TTC2
A4: 2016 | B4: 170146.03 | C4: 0.14520982
A5: 2017 | B5: 195071.88 | C5: 0.16648259
A6: 2018 | B6: 341354.62 | C6: 0.29132647
A7: 2019 | B7: 420799.87 | C7: 0.3591284
A8: 2020 | B8: 44352.99 | C8: 0.037852717
A9: Total général | B9: 1171725.4 | C9: 1

Sheet Feuil1
A3: Somme de Qte_Unit_btl2 | B3: Étiquettes de colonnes
A4: Étiquettes de lignes | B4: Félin Arima sans étui | C4: Meukow 90' boite métal | D4: Meukow Cognac Flavouring regular | E4: Meukow Cognac Flavouring xo | F4: Meukow Vanilla | G4: Meukow VS | H4: Meukow VSOP | I4: Meukow XO Boite Métal | J4: Meukow XO Etui | K4: Meukow XO Grde Champagne Etui | L4: Meukow Xpresso | M4: Bitter Lemon | N4: Cherry Blossom | O4: COGNAC BRUGEROLLE VS | P4: Danzinger Goldwasser | Q4: Elderflower | R4: FRAIS | S4: FREEZER JÄGERMEISTER | T4: Gerin Rouge | U4: Ginger Ale | V4: Gran Reserva | W4: Guerin Blanc | X4: Jägermeister | Y4: Jägermeister distributeur miniatures | Z4: Jägermeister Scharf | AA4: Limoncello di Capri | AB4: LIQUEUR JÄGERMEISTER SPICE | AC4: London Dry Gin | AD4: Mate Mate | AE4: Meukow Extra Coffret | AF4: Mezcal Nuestra Soledad | AG4: Peach | AH4: PINEAU 2 PAYSANS BLANC | AI4: PINEAU 2 PAYSANS ROSE | AJ4: Saar Dry Gin Ferdinand's | AK4: Sambuca Molinari Caffé | AL4: Sambuca Molinari Extra | AM4: Santiago de Cuba Anejo | AN4: Santiago de Cuba, 12 ans | AO4: Santiago de Cuba, 20 ans | AP4: Santiago de Cuba, 25 ans | AQ4: Santiago de Cuba, Carta Blanca | AR4: Seve Feu de Joie | AS4: SHOT GLASSES FREEZER JAGERMEIS | AT4: Soda Water | AU4: Spicy Ginger Beer | AV4: TAP MACHINE JÄGER SPEED POURER | AW4: TAP MACHINE JÄGERMEISTER | AX4: TAP MACHINE JÄGERMEISTER 1 bll | AY4: Tonic Water | AZ4: TRANSPORT | BA4: VERRE SHOOTER JÄGER | BB4: VODKA IMPERIAL GOLD | BC4: WILD TURKEY 101' | BD4: WILD TURKEY 81' | BE4: WILD TURKEY RYE 101' | BF4: Total général
A5: 2016 | F5: 7 | G5: 19 | H5: 6 | L5: 7 | M5: 164.57143 | N5: 27.428571 | O5: 6 | P5: 78 | Q5: 157.71429 | S5: 27 | U5: 54.857143 | X5: 9192.2857 | AA5: 30 | AB5: 24 | AD5: 1871.4286 | AH5: 19.285714 | AI5: 38.571429 | AL5: 14.571429 | AM5: 346.28571 | AQ5: 384.85714 | AR5: 102 | AS5: 14 | AT5: 27.428571 | AU5: 109.71429 | AW5: 33 | AY5: 48 | AZ5: 0 | BB5: 268 | BC5: 126 | BD5: 132 | BF5: 13336
A6: 2017 | B6: 12 | D6: 2.5714286 | E6: 2.5714286 | F6: 11 | G6: 11 | H6: 6 | I6: 3 | L6: 11 | M6: 253.71429 | N6: 164.57143 | O6: 12 | P6: 60 | Q6: 233.14286 | S6: 6 | U6: 260.57143 | X6: 9127.2857 | AA6: 18 | AD6: 2885.7143 | AH6: 6.4285714 | AI6: 45 | AJ6: 68.571429 | AK6: 6 | AL6: 54 | AM6: 282.85714 | AN6: 4 | AO6: 9 | AP6: 1 | AQ6: 611.14286 | AR6: 84 | AS6: 1 | AU6: 1193.1429 | AW6: 86 | AY6: 411.42857 | BA6: 0 | BB6: 260.85714 | BC6: 30 | BD6: 66 | BE6: 8.5714286 | BF6: 16309.143
A7: 2018 | B7: 251 | F7: 422 | G7: 191 | H7: 30 | I7: 33 | L7: 457 | M7: 336 | N7: 219.42857 | P7: 176 | Q7: 226.28571 | U7: 260.57143 | V7: 77 | X7: 14718 | AA7: 42 | AB7: 18 | AC7: 20 | AD7: 2732 | AF7: 38.571429 | AJ7: 243.57143 | AK7: 18 | AL7: 25.714286 | AM7: 1115.1429 | AQ7: 408.85714 | AR7: 522 | AU7: 857.14286 | AW7: 93 | AY7: 1206.8571 | AZ7: 0 | BB7: 6 | BC7: 24 | BE7: 17.142857 | BF7: 24785.286
A8: 2019 | B8: 199 | C8: 24 | F8: 291 | G8: 306 | H8: 75 | I8: 32 | J8: 4.3571429 | K8: 9 | L8: 276 | M8: 178.28571 | N8: 356.57143 | P8: 120 | Q8: 253.71429 | R8: 0 | T8: 19.285714 | U8: 322.28571 | V8: 48 | X8: 19408.714 | Y8: 20.571429 | Z8: 42 | AA8: 138 | AC8: 87 | AD8: 905.14286 | AG8: 9 | AJ8: 181.42857 | AL8: 6 | AM8: 795.42857 | AN8: 1 | AQ8: 264 | AR8: 246 | AU8: 2064 | AV8: 1 | AW8: 16 | AX8: 117 | AY8: 1508.5714 | AZ8: 0 | BB8: 34.285714 | BF8: 28359.643
A9: 2020 | B9: 23 | F9: 13 | G9: 184 | H9: 12 | K9: 3 | L9: 1 | M9: 20.571429 | P9: 51 | T9: 9.6428571 | U9: 27.428571 | V9: 24 | W9: 9.6428571 | X9: 1460.5714 | Y9: 68.571429 | Z9: 48 | AC9: 72 | AE9: 2 | AG9: 48 | AJ9: 34.285714 | AM9: 36 | AQ9: 162.85714 | AR9: 48 | AU9: 130.28571 | AW9: 9 | AY9: 116.57143 | BB9: 8.5714286 | BF9: 2623
A10: Total général | B10: 485 | C10: 24 | D10: 2.5714286 | E10: 2.5714286 | F10: 744 | G10: 711 | H10: 129 | I10: 68 | J10: 4.3571429 | K10: 12 | L10: 752 | M10: 953.14286 | N10: 768 | O10: 18 | P10: 485 | Q10: 870.85714 | R10: 0 | S10: 33 | T10: 28.928571 | U10: 925.71429 | V10: 149 | W10: 9.6428571 | X10: 53906.857 | Y10: 89.142857 | Z10: 90 | AA10: 228 | AB10: 42 | AC10: 179 | AD10: 8394.2857 | AE10: 2 | AF10: 38.571429 | AG10: 57 | AH10: 25.714286 | AI10: 83.571429 | AJ10: 527.85714 | AK10: 24 | AL10: 100.28571 | AM10: 2575.7143 | AN10: 5 | AO10: 9 | AP10: 1 | AQ10: 1831.7143 | AR10: 1002 | AS10: 15 | AT10: 27.428571 | AU10: 4354.2857 | AV10: 1 | AW10: 237 | AX10: 117 | AY10: 3291.4286 | AZ10: 0 | BA10: 0 | BB10: 577.71429 | BC10: 180 | BD10: 198 | BE10: 25.714286 | BF10: 85413.071

Sheet Feuil2
A3: Étiquettes de lignes | B3: Somme de Qte_Unit_btl2
A4: 2020
A5: Bitter Lemon | B5: 20.571429
A6: Danzinger Goldwasser | B6: 51
A7: Félin Arima sans étui | B7: 23
A8: Gerin Rouge | B8: 9.6428571
A9: Ginger Ale | B9: 27.428571
A10: Gran Reserva | B10: 24
A11: Jägermeister | B11: 1460.5714
A12: Jägermeister distributeur miniatures | B12: 68.571429
A13: Jägermeister Scharf | B13: 48
A14: London Dry Gin | B14: 72
A15: Meukow Vanilla | B15: 13
A16: Meukow VS | B16: 184
... A31: Total général | B31: 2623

Sheet Feuil3
A3: Somme de Qte_Unit_btl2 | B3: Étiquettes de colonnes
B4: 2020 | E4: Total général
A5: Étiquettes de lignes | B5: janv | C5: févr | D5: mars
A6: Félin Arima sans étui | C6: 5 | D6: 18 | E6: 23
A7: Meukow Vanilla | C7: 13 | E7: 13
A8: Meukow VS | B8: 156 | C8: 28 | E8: 184
A9: Meukow VSOP | C9: 12 | E9: 12
A10: Meukow XO Grde Champagne Etui | C10: 3 | E10: 3
A11: Meukow Xpresso | C11: 1 | E11: 1
A12: Total général | B12: 156 | C12: 62 | D12: 18 | E12: 236

Sheet MJGES01_00028_2
A1: Date_Cde | B1: Nu_Cde | C1: Tiers_Nom_Ebt | D1: Tiers_ville | E1: Code Ebt | F1: Type ebt | G1: Tarificat° client | H1: Type_Produit | I1: Designation | J1: CL | K1: EAN | L1: Prix_Unit_HT | M1: Prix_Unit_TTC | N1: Qte_commande | O1: CA_HT | P1: CA_TTC | Q1: Qte_Unit_btl | R1: Qte_Unit_btl2
A2: 42381 | B2: 16V01106 | C2: NIGHTWAY | D2: ORLEANS | G2: CHR | H2: JGR_TM | I2: TAP MACHINE JÄGERMEISTER | J2: 3 | K2: {=IFERROR(INDEX(Grille_Tarifs_Modulable!$B$2:$B$204,MATCH(Tableau1[[#This Row],[Designation]]&Tableau1[[#This Row],[CL]],Grille_Tarifs_Modulable!$C$2:$C$204&Grille_Tarifs_Modulable!$F$2:$F$204,0)),0)} -> 121 | L2: =IF(Tableau1[[#This Row],[EAN]]=0,0,INDEX(Grille_Tarifs_Modulable!$B$7:$N$114,MATCH(Tableau1[[#This Row],[EAN]],Grille_Tarifs_Modulable!$B$7:$B$114,0),MATCH(Tableau1[[#This Row],[Tarificat° client]],Grille_Tarifs_Modulable!$7:$7,0)-1)+INDEX(Grille_Tarifs_Modulable!$M$7:$N$114,MATCH(Tableau1[[#This Row],[EAN]],Grille_Tarifs_Modulable!$B$7:$B$114,0),1)+INDEX(Grille_Tarifs_Modulable!$M$7:$N$114,MATCH(Tableau1[[#This Row],[EAN]],Grille_Tarifs_Modulable!$B$7:$B$114,0),2)) -> 299 | M2: =IF(Tableau1[[#This Row],[Prix_Unit_HT]]=0,0,Tableau1[[#This Row],[Prix_Unit_HT]]+(Tableau1[[#This Row],[Prix_Unit_HT]]*VLOOKUP(Tableau1[[#This Row],[EAN]],Grille_Tarifs_Modulable!$B$10:$Q$204,16,FALSE))) -> 358.8 | N2: 2 | O2: =ROUND(Tableau1[[#This Row],[Prix_Unit_HT]],2)*Tableau1[[#This Row],[Qte_commande]] -> 598 | P2: =ROUND(Tableau1[[#This Row],[Prix_Unit_TTC]],2)*Tableau1[[#This Row],[Qte_commande]] -> 717.6 | Q2: 2 | R2: =VALUE(IF(COUNTIF(Tableau1[[#This Row],[Type_Produit]],"*Boisson*"),PRODUCT(Tableau1[[#This Row],[CL]],Tableau1[[#This Row],[Qte_commande]])/100/0.7,IF(COUNTIF(Tableau1[[#This Row],[Type_Produit]],"*JGR*"),Tableau1[[#This Row],[Qte_commande]],0))) -> 2 | S2: =ISNUMBER(Tableau1[[#This Row],[Qte_Unit_btl2]]) -> TRUE
A3: 42384 | B3: 16V01154 | C3: AU BUREAU | D3: TOURS | G3: GROS | H3: Boisson_Spirit | I3: Santiago de Cuba Anejo | J3: 100 | K3: {=IFERROR(INDEX(Grille_Tarifs_Modulable!$B$2:$B$204,MATCH(Tableau1[[#This Row],[Designation]]&Tableau1[[#This Row],[CL]],Grille_Tarifs_Modulable!$C$2:$C$204&Grille_Tarifs_Modulable!$F$2:$F$204,0)),0)} -> 3257150410167 | L3: =IF(Tableau1[[#This Row],[EAN]]=0,0,INDEX(Grille_Tarifs_Modulable!$B$7:$N$114,MATCH(Tableau1[[#This Row],[EAN]],Grille_Tarifs_Modulable!$B$7:$B$114,0),MATCH(Tableau1[[#This Row],[Tarificat° client]],Grille_Tarifs_Modulable!$7:$7,0)-1)+INDEX(Grille_Tarifs_Modulable!$M$7:$N$114,MATCH(Tableau1[[#This Row],[EAN]],Grille_Tarifs_Modulable!$B$7:$B$114,0),1)+INDEX(Grille_Tarifs_Modulable!$M$7:$N$114,MATCH(Tableau1[[#This Row],[EAN]],Grille_Tarifs_Modulable!$B$7:$B$114,0),2)) -> 15.778874 | M3: =IF(Tableau1[[#This Row],[Prix_Unit_HT]]=0,0,Tableau1[[#This Row],[Prix_Unit_HT]]+(Tableau1[[#This Row],[Prix_Unit_HT]]*VLOOKUP(Tableau1[[#This Row],[EAN]],Grille_Tarifs_Modulable!$B$10:$Q$204,16,FALSE))) -> 18.934649 | N3: 48 | O3: =ROUND(Tableau1[[#This Row],[Prix_Unit_HT]],2)*Tableau1[[#This Row],[Qte_commande]] -> 757.44 | P3: =ROUND(Tableau1[[#This Row],[Prix_Unit_TTC]],2)*Tableau1[[#This Row],[Qte_commande]] -> 908.64 | Q3: 68.57 | R3: =VALUE(IF(COUNTIF(Tableau1[[#This Row],[Type_Produit]],"*Boisson*"),PRODUCT(Tableau1[[#This Row],[CL]],Tableau1[[#This Row],[Qte_commande]])/100/0.7,IF(COUNTIF(Tableau1[[#This Row],[Type_Produit]],"*JGR*"),Tableau1[[#This Row],[Qte_commande]],0))) -> 68.571429
A4: 42384 | B4: 16V01175 | C4: SHANNON | D4: ORLEANS | G4: CHR | H4: JGR_TM | I4: TAP MACHINE JÄGERMEISTER | J4: 3 | K4: {=IFERROR(INDEX(Grille_Tarifs_Modulable!$B$2:$B$204,MATCH(Tableau1[[#This Row],[Designation]]&Tableau1[[#This Row],[CL]],Grille_Tarifs_Modulable!$C$2:$C$204&Grille_Tarifs_Modulable!$F$2:$F$204,0)),0)} -> 121 | L4: =IF(Tableau1[[#This Row],[EAN]]=0,0,INDEX(Grille_Tarifs_Modulable!$B$7:$N$114,MATCH(Tableau1[[#This Row],[EAN]],Grille_Tarifs_Modulable!$B$7:$B$114,0),MATCH(Tableau1[[#This Row],[Tarificat° client]],Grille_Tarifs_Modulable!$7:$7,0)-1)+INDEX(Grille_Tarifs_Modulable!$M$7:$N$114,MATCH(Tableau1[[#This Row],[EAN]],Grille_Tarifs_Modulable!$B$7:$B$114,0),1)+INDEX(Grille_Tarifs_Modulable!$M$7:$N$114,MATCH(Tableau1[[#This Row],[EAN]],Grille_Tarifs_Modulable!$B$7:$B$114,0),2)) -> 299 | M4: =IF(Tableau1[[#This Row],[Prix_Unit_HT]]=0,0,Tableau1[[#This Row],[Prix_Unit_HT]]+(Tableau1[[#This Row],[Prix_Unit_HT]]*VLOOKUP(Tableau1[[#This Row],[EAN]],Grille_Tarifs_Modulable!$B$10:$Q$204,16,FALSE))) -> 358.8 | N4: 1 | O4: =ROUND(Tableau1[[#This Row],[Prix_Unit_HT]],2)*Tableau1[[#This Row],[Qte_commande]] -> 299 | P4: =ROUND(Tableau1[[#This Row],[Prix_Unit_TTC]],2)*Tableau1[[#This Row],[Qte_commande]] -> 358.8 | Q4: 1 | R4: =VALUE(IF(COUNTIF(Tableau1[[#This Row],[Type_Produit]],"*Boisson*"),PRODUCT(Tableau1[[#This Row],[CL]],Tableau1[[#This Row],[Qte_commande]])/100/0.7,IF(COUNTIF(Tableau1[[#This Row],[Type_Produit]],"*JGR*"),Tableau1[[#This Row],[Qte_commande]],0))) -> 1
A5: 42390 | B5: 16V01213 | C5: POITOU | D5: CHASSENEUIL DU POITOU | G5: GROS | H5: Boisson_Spirit | I5: Jägermeister | J5: 70 | K5: {=IFERROR(INDEX(Grille_Tarifs_Modulable!$B$2:$B$204,MATCH(Tableau1[[#This Row],[Designation]]&Tableau1[[#This Row],[CL]],Grille_Tarifs_Modulable!$C$2:$C$204&Grille_Tarifs_Modulable!$F$2:$F$204,0)),0)} -> 4067700013859 | L5: =IF(Tableau1[[#This Row],[EAN]]=0,0,INDEX(Grille_Tarifs_Modulable!$B$7:$N$114,MATCH(Tableau1[[#This Row],[EAN]],Grille_Tarifs_Modulable!$B$7:$B$114,0),MATCH(Tableau1[[#This Row],[Tarificat° client]],Grille_Tarifs_Modulable!$7:$7,0)-1)+INDEX(Grille_Tarifs_Modulable!$M$7:$N$114,MATCH(Tableau1[[#This Row],[EAN]],Grille_Tarifs_Modulable!$B$7:$B$114,0),1)+INDEX(Grille_Tarifs_Modulable!$M$7:$N$114,MATCH(Tableau1[[#This Row],[EAN]],Grille_Tarifs_Modulable!$B$7:$B$114,0),2)) -> 12.532563 | M5: =IF(Tableau1[[#This Row],[Prix_Unit_HT]]=0,0,Tableau1[[#This Row],[Prix_Unit_HT]]+(Tableau1[[#This Row],[Prix_Unit_HT]]*VLOOKUP(Tableau1[[#This Row],[EAN]],Grille_Tarifs_Modulable!$B$10:$Q$204,16,FALSE))) -> 15.039076 | N5: 150 | O5: =ROUND(Tableau1[[#This Row],[Prix_Unit_HT]],2)*Tableau1[[#This Row],[Qte_commande]] -> 1879.5 | P5: =ROUND(Tableau1[[#This Row],[Prix_Unit_TTC]],2)*Tableau1[[#This Row],[Qte_commande]] -> 2256 | Q5: 150 | R5: =VALUE(IF(COUNTIF(Tableau1[[#This Row],[Type_Produit]],"*Boisson*"),PRODUCT(Tableau1[[#This Row],[CL]],Tableau1[[#This Row],[Qte_commande]])/100/0.7,IF(COUNTIF(Tableau1[[#This Row],[Type_Produit]],"*JGR*"),Tableau1[[#This Row],[Qte_commande]],0))) -> 150
A6: 42391 | B6: 16V01220 | C6: RLM DISTRI | D6: SAVIGNE | G6: GROS | H6: Boisson_Spirit | I6: Seve Feu de Joie | J6: 70 | K6: {=IFERROR(INDEX(Grille_Tarifs_Modulable!$B$2:$B$204,MATCH(Tableau1[[#This Row],[Designation]]&Tableau1[[#This Row],[CL]],Grille_Tarifs_Modulable!$C$2:$C$204&Grille_Tarifs_Modulable!$F$2:$F$204,0)),0)} -> 3257150688009 | L6: =IF(Tableau1[[#This Row],[EAN]]=0,0,INDEX(Grille_Tarifs_Modulable!$B$7:$N$114,MATCH(Tableau1[[#This Row],[EAN]],Grille_Tarifs_Modulable!$B$7:$B$114,0),MATCH(Tableau1[[#This Row],[Tarificat° client]],Grille_Tarifs_Modulable!$7:$7,0)-1)+INDEX(Grille_Tarifs_Modulable!$M$7:$N$114,MATCH(Tableau1[[#This Row],[EAN]],Grille_Tarifs_Modulable!$B$7:$B$114,0),1)+INDEX(Grille_Tarifs_Modulable!$M$7:$N$114,MATCH(Tableau1[[#This Row],[EAN]],Grille_Tarifs_Modulable!$B$7:$B$114,0),2)) -> 12.556915 | M6: =IF(Tableau1[[#This Row],[Prix_Unit_HT]]=0,0,Tableau1[[#This Row],[Prix_Unit_HT]]+(Tableau1[[#This Row],[Prix_Unit_HT]]*VLOOKUP(Tableau1[[#This Row],[EAN]],Grille_Tarifs_Modulable!$B$10:$Q$204,16,FALSE))) -> 15.068298 | N6: 18 | O6: =ROUND(Tableau1[[#This Row],[Prix_Unit_HT]],2)*Tableau1[[#This Row],[Qte_commande]] -> 226.08 | P6: =ROUND(Tableau1[[#This Row],[Prix_Unit_TTC]],2)*Tableau1[[#This Row],[Qte_commande]] -> 271.26 | Q6: 18 | R6: =VALUE(IF(COUNTIF(Tableau1[[#This Row],[Type_Produit]],"*Boisson*"),PRODUCT(Tableau1[[#This Row],[CL]],Tableau1[[#This Row],[Qte_commande]])/100/0.7,IF(COUNTIF(Tableau1[[#This Row],[Type_Produit]],"*JGR*"),Tableau1[[#This Row],[Qte_commande]],0))) -> 18
A7: 42397 | B7: 16V01311 | C7: SCHOEN | D7: CHATEAUROUX | G7: GROS | H7: Boisson_Spirit | I7: Jägermeister | J7: 175 | K7: {=IFERROR(INDEX(Grille_Tarifs_Modulable!$B$2:$B$204,MATCH(Tableau1[[#This Row],[Designation]]&Tableau1[[#This Row],[CL]],Grille_Tarifs_Modulable!$C$2:$C$204&Grille_Tarifs_Modulable!$F$2:$F$204,0)),0)} -> 4067700013835 | L7: =IF(Tableau1[[#This Row],[EAN]]=0,0,INDEX(Grille_Tarifs_Modulable!$B$7:$N$114,MATCH(Tableau1[[#This Row],[EAN]],Grille_Tarifs_Modulable!$B$7:$B$114,0),MATCH(Tableau1[[#This Row],[Tarificat° client]],Grille_Tarifs_Modulable!$7:$7,0)-1)+INDEX(Grille_Tarifs_Modulable!$M$7:$N$114,MATCH(Tableau1[[#This Row],[EAN]],Grille_Tarifs_Modulable!$B$7:$B$114,0),1)+INDEX(Grille_Tarifs_Modulable!$M$7:$N$114,MATCH(Tableau1[[#This Row],[EAN]],Grille_Tarifs_Modulable!$B$7:$B$114,0),2)) -> 28.916409 | M7: =IF(Tableau1[[#This Row],[Prix_Unit_HT]]=0,0,Tableau1[[#This Row],[Prix_Unit_HT]]+(Tableau1[[#This Row],[Prix_Unit_HT]]*VLOOKUP(Tableau1[[#This Row],[EAN]],Grille_Tarifs_Modulable!$B$10:$Q$204,16,FALSE))) -> 34.699691 | N7: 36 | O7: =ROUND(Tableau1[[#This Row],[Prix_Unit_HT]],2)*Tableau1[[#This Row],[Qte_commande]] -> 1041.12 | P7: =ROUND(Tableau1[[#This Row],[Prix_Unit_TTC]],2)*Tableau1[[#This Row],[Qte_commande]] -> 1249.2 | Q7: 90 | R7: =VALUE(IF(COUNTIF(Tableau1[[#This Row],[Type_Produit]],"*Boisson*"),PRODUCT(Tableau1[[#This Row],[CL]],Tableau1[[#This Row],[Qte_commande]])/100/0.7,IF(COUNTIF(Tableau1[[#This Row],[Type_Produit]],"*JGR*"),Tableau1[[#This Row],[Qte_commande]],0))) -> 90
A8: 42398 | B8: 16V01323 | C8: SCHOEN | D8: JOUE LES TOURS | G8: GROS | H8: Boisson_Spirit | I8: Jägermeister | J8: 70 | K8: {=IFERROR(INDEX(Grille_Tarifs_Modulable!$B$2:$B$204,MATCH(Tableau1[[#This Row],[Designation]]&Tableau1[[#This Row],[CL]],Grille_Tarifs_Modulable!$C$2:$C$204&Grille_Tarifs_Modulable!$F$2:$F$204,0)),0)} -> 4067700013859 | L8: =IF(Tableau1[[#This Row],[EAN]]=0,0,INDEX(Grille_Tarifs_Modulable!$B$7:$N$114,MATCH(Tableau1[[#This Row],[EAN]],Grille_Tarifs_Modulable!$B$7:$B$114,0),MATCH(Tableau1[[#This Row],[Tarificat° client]],Grille_Tarifs_Modulable!$7:$7,0)-1)+INDEX(Grille_Tarifs_Modulable!$M$7:$N$114,MATCH(Tableau1[[#This Row],[EAN]],Grille_Tarifs_Modulable!$B$7:$B$114,0),1)+INDEX(Grille_Tarifs_Modulable!$M$7:$N$114,MATCH(Tableau1[[#This Row],[EAN]],Grille_Tarifs_Modulable!$B$7:$B$114,0),2)) -> 12.532563 | M8: =IF(Tableau1[[#This Row],[Prix_Unit_HT]]=0,0,Tableau1[[#This Row],[Prix_Unit_HT]]+(Tableau1[[#This Row],[Prix_Unit_HT]]*VLOOKUP(Tableau1[[#This Row],[EAN]],Grille_Tarifs_Modulable!$B$10:$Q$204,16,FALSE))) -> 15.039076 | N8: 60 | O8: =ROUND(Tableau1[[#This Row],[Prix_Unit_HT]],2)*Tableau1[[#This Row],[Qte_commande]] -> 751.8 | P8: =ROUND(Tableau1[[#This Row],[Prix_Unit_TTC]],2)*Tableau1[[#This Row],[Qte_commande]] -> 902.4 | Q8: 60 | R8: =VALUE(IF(COUNTIF(Tableau1[[#This Row],[Type_Produit]],"*Boisson*"),PRODUCT(Tableau1[[#This Row],[CL]],Tableau1[[#This Row],[Qte_commande]])/100/0.7,IF(COUNTIF(Tableau1[[#This Row],[Type_Produit]],"*JGR*"),Tableau1[[#This Row],[Qte_commande]],0))) -> 60
A9: 42398 | B9: 16V01324 | C9: PLUMEJEAU | D9: LA POMMERAYE | G9: GROS | H9: Boisson_Spirit | I9: Jägermeister | J9: 70 | K9: {=IFERROR(INDEX(Grille_Tarifs_Modulable!$B$2:$B$204,MATCH(Tableau1[[#This Row],[Designation]]&Tableau1[[#This Row],[CL]],Grille_Tarifs_Modulable!$C$2:$C$204&Grille_Tarifs_Modulable!$F$2:$F$204,0)),0)} -> 4067700013859 | L9: =IF(Tableau1[[#This Row],[EAN]]=0,0,INDEX(Grille_Tarifs_Modulable!$B$7:$N$114,MATCH(Tableau1[[#This Row],[EAN]],Grille_Tarifs_Modulable!$B$7:$B$114,0),MATCH(Tableau1[[#This Row],[Tarificat° client]],Grille_Tarifs_Modulable!$7:$7,0)-1)+INDEX(Grille_Tarifs_Modulable!$M$7:$N$114,MATCH(Tableau1[[#This Row],[EAN]],Grille_Tarifs_Modulable!$B$7:$B$114,0),1)+INDEX(Grille_Tarifs_Modulable!$M$7:$N$114,MATCH(Tableau1[[#This Row],[EAN]],Grille_Tarifs_Modulable!$B$7:$B$114,0),2)) -> 12.532563 | M9: =IF(Tableau1[[#This Row],[Prix_Unit_HT]]=0,0,Tableau1[[#This Row],[Prix_Unit_HT]]+(Tableau1[[#This Row],[Prix_Unit_HT]]*VLOOKUP(Tableau1[[#This Row],[EAN]],Grille_Tarifs_Modulable!$B$10:$Q$204,16,FALSE))) -> 15.039076 | N9: 180 | O9: =ROUND(Tableau1[[#This Row],[Prix_Unit_HT]],2)*Tableau1[[#This Row],[Qte_commande]] -> 2255.4 | P9: =ROUND(Tableau1[[#This Row],[Prix_Unit_TTC]],2)*Tableau1[[#This Row],[Qte_commande]] -> 2707.2 | Q9: 180 | R9: =VALUE(IF(COUNTIF(Tableau1[[#This Row],[Type_Produit]],"*Boisson*"),PRODUCT(Tableau1[[#This Row],[CL]],Tableau1[[#This Row],[Qte_commande]])/100/0.7,IF(COUNTIF(Tableau1[[#This Row],[Type_Produit]],"*JGR*"),Tableau1[[#This Row],[Qte_commande]],0))) -> 180
A10: 42398 | B10: 16V01323 | C10: SCHOEN | D10: JOUE LES TOURS | G10: GROS | H10: Boisson_Spirit | I10: Jägermeister | J10: 100 | K10: {=IFERROR(INDEX(Grille_Tarifs_Modulable!$B$2:$B$204,MATCH(Tableau1[[#This Row],[Designation]]&Tableau1[[#This Row],[CL]],Grille_Tarifs_Modulable!$C$2:$C$204&Grille_Tarifs_Modulable!$F$2:$F$204,0)),0)} -> 4067700013842 | L10: =IF(Tableau1[[#This Row],[EAN]]=0,0,INDEX(Grille_Tarifs_Modulable!$B$7:$N$114,MATCH(Tableau1[[#This Row],[EAN]],Grille_Tarifs_Modulable!$B$7:$B$114,0),MATCH(Tableau1[[#This Row],[Tarificat° client]],Grille_Tarifs_Modulable!$7:$7,0)-1)+INDEX(Grille_Tarifs_Modulable!$M$7:$N$114,MATCH(Tableau1[[#This Row],[EAN]],Grille_Tarifs_Modulable!$B$7:$B$114,0),1)+INDEX(Grille_Tarifs_Modulable!$M$7:$N$114,MATCH(Tableau1[[#This Row],[EAN]],Grille_Tarifs_Modulable!$B$7:$B$114,0),2)) -> 17.100805 | M10: =IF(Tableau1[[#This Row],[Prix_Unit_HT]]=0,0,Tableau1[[#This Row],[Prix_Unit_HT]]+(Tableau1[[#This Row],[Prix_Unit_HT]]*VLOOKUP(Tableau1[[#This Row],[EAN]],Grille_Tarifs_Modulable!$B$10:$Q$204,16,FALSE))) -> 20.520966 | N10: 120 | O10: =ROUND(Tableau1[[#This Row],[Prix_Unit_HT]],2)*Tableau1[[#This Row],[Qte_commande]] -> 2052 | P10: =ROUND(Tableau1[[#This Row],[Prix_Unit_TTC]],2)*Tableau1[[#This Row],[Qte_commande]] -> 2462.4 | Q10: 171.43 | R10: =VALUE(IF(COUNTIF(Tableau1[[#This Row],[Type_Produit]],"*Boisson*"),PRODUCT(Tableau1[[#This Row],[CL]],Tableau1[[#This Row],[Qte_commande]])/100/0.7,IF(COUNTIF(Tableau1[[#This Row],[Type_Produit]],"*JGR*"),Tableau1[[#This Row],[Qte_commande]],0))) -> 171.42857
A11: 42402 | B11: 16V01327 | C11: LE JEAN | D11: CHATEAU RENAULT | G11: CHR | H11: Boisson_Spirit | I11: Jägermeister | J11: 100 | K11: {=IFERROR(INDEX(Grille_Tarifs_Modulable!$B$2:$B$204,MATCH(Tableau1[[#This Row],[Designation]]&Tableau1[[#This Row],[CL]],Grille_Tarifs_Modulable!$C$2:$C$204&Grille_Tarifs_Modulable!$F$2:$F$204,0)),0)} -> 4067700013842 | L11: =IF(Tableau1[[#This Row],[EAN]]=0,0,INDEX(Grille_Tarifs_Modulable!$B$7:$N$114,MATCH(Tableau1[[#This Row],[EAN]],Grille_Tarifs_Modulable!$B$7:$B$114,0),MATCH(Tableau1[[#This Row],[Tarificat° client]],Grille_Tarifs_Modulable!$7:$7,0)-1)+INDEX(Grille_Tarifs_Modulable!$M$7:$N$114,MATCH(Tableau1[[#This Row],[EAN]],Grille_Tarifs_Modulable!$B$7:$B$114,0),1)+INDEX(Grille_Tarifs_Modulable!$M$7:$N$114,MATCH(Tableau1[[#This Row],[EAN]],Grille_Tarifs_Modulable!$B$7:$B$114,0),2)) -> 19.150805 | M11: =IF(Tableau1[[#This Row],[Prix_Unit_HT]]=0,0,Tableau1[[#This Row],[Prix_Unit_HT]]+(Tableau1[[#This Row],[Prix_Unit_HT]]*VLOOKUP(Tableau1[[#This Row],[EAN]],Grille_Tarifs_Modulable!$B$10:$Q$204,16,FALSE))) -> 22.980966 | N11: 30 | O11: =ROUND(Tableau1[[#This Row],[Prix_Unit_HT]],2)*Tableau1[[#This Row],[Qte_commande]] -> 574.5 | P11: =ROUND(Tableau1[[#This Row],[Prix_Unit_TTC]],2)*Tableau1[[#This Row],[Qte_commande]] -> 689.4 | Q11: 42.86 | R11: =VALUE(IF(COUNTIF(Tableau1[[#This Row],[Type_Produit]],"*Boisson*"),PRODUCT(Tableau1[[#This Row],[CL]],Tableau1[[#This Row],[Qte_commande]])/100/0.7,IF(COUNTIF(Tableau1[[#This Row],[Type_Produit]],"*JGR*"),Tableau1[[#This Row],[Qte_commande]],0))) -> 42.857143
A12: 42402 | B12: 16V02016 | C12: PROMOCASH | D12: SAINT PIERRE DES CORPS | G12: GROS | H12: Boisson_Spirit | I12: Jägermeister | J12: 100 | K12: {=IFERROR(INDEX(Grille_Tarifs_Modulable!$B$2:$B$204,MATCH(Tableau1[[#This Row],[Designation]]&Tableau1[[#This Row],[CL]],Grille_Tarifs_Modulable!$C$2:$C$204&Grille_Tarifs_Modulable!$F$2:$F$204,0)),0)} -> 4067700013842 | L12: =IF(Tableau1[[#This Row],[EAN]]=0,0,INDEX(Grille_Tarifs_Modulable!$B$7:$N$114,MATCH(Tableau1[[#This Row],[EAN]],Grille_Tarifs_Modulable!$B$7:$B$114,0),MATCH(Tableau1[[#This Row],[Tarificat° client]],Grille_Tarifs_Modulable!$7:$7,0)-1)+INDEX(Grille_Tarifs_Modulable!$M$7:$N$114,MATCH(Tableau1[[#This Row],[EAN]],Grille_Tarifs_Modulable!$B$7:$B$114,0),1)+INDEX(Grille_Tarifs_Modulable!$M$7:$N$114,MATCH(Tableau1[[#This Row],[EAN]],Grille_Tarifs_Modulable!$B$7:$B$114,0),2)) -> 17.100805 | M12: =IF(Tableau1[[#This Row],[Prix_Unit_HT]]=0,0,Tableau1[[#This Row],[Prix_Unit_HT]]+(Tableau1[[#This Row],[Prix_Unit_HT]]*VLOOKUP(Tableau1[[#This Row],[EAN]],Grille_Tarifs_Modulable!$B$10:$Q$204,16,FALSE))) -> 20.520966 | N12: 120 | O12: =ROUND(Tableau1[[#This Row],[Prix_Unit_HT]],2)*Tableau1[[#This Row],[Qte_commande]] -> 2052 | P12: =ROUND(Tableau1[[#This Row],[Prix_Unit_TTC]],2)*Tableau1[[#This Row],[Qte_commande]] -> 2462.4 | Q12: 171.43 | R12: =VALUE(IF(COUNTIF(Tableau1[[#This Row],[Type_Produit]],"*Boisson*"),PRODUCT(Tableau1[[#This Row],[CL]],Tableau1[[#This Row],[Qte_commande]])/100/0.7,IF(COUNTIF(Tableau1[[#This Row],[Type_Produit]],"*JGR*"),Tableau1[[#This Row],[Qte_commande]],0))) -> 171.42857
A13: 42402 | B13: 16V01327 | C13: LE JEAN | D13: CHATEAU RENAULT | G13: CHR | H13: Boisson_Spirit | I13: Santiago de Cuba Anejo | J13: 70 | K13: {=IFERROR(INDEX(Grille_Tarifs_Modulable!$B$2:$B$204,MATCH(Tableau1[[#This Row],[Designation]]&Tableau1[[#This Row],[CL]],Grille_Tarifs_Modulable!$C$2:$C$204&Grille_Tarifs_Modulable!$F$2:$F$204,0)),0)} -> 8500000917015 | L13: =IF(Tableau1[[#This Row],[EAN]]=0,0,INDEX(Grille_Tarifs_Modulable!$B$7:$N$114,MATCH(Tableau1[[#This Row],[EAN]],Grille_Tarifs_Modulable!$B$7:$B$114,0),MATCH(Tableau1[[#This Row],[Tarificat° client]],Grille_Tarifs_Modulable!$7:$7,0)-1)+INDEX(Grille_Tarifs_Modulable!$M$7:$N$114,MATCH(Tableau1[[#This Row],[EAN]],Grille_Tarifs_Modulable!$B$7:$B$114,0),1)+INDEX(Grille_Tarifs_Modulable!$M$7:$N$114,MATCH(Tableau1[[#This Row],[EAN]],Grille_Tarifs_Modulable!$B$7:$B$114,0),2)) -> 12.738212 | M13: =IF(Tableau1[[#This Row],[Prix_Unit_HT]]=0,0,Tableau1[[#This Row],[Prix_Unit_HT]]+(Tableau1[[#This Row],[Prix_Unit_HT]]*VLOOKUP(Tableau1[[#This Row],[EAN]],Grille_Tarifs_Modulable!$B$10:$Q$204,16,FALSE))) -> 15.285854 | N13: 6 | O13: =ROUND(Tableau1[[#This Row],[Prix_Unit_HT]],2)*Tableau1[[#This Row],[Qte_commande]] -> 76.44 | P13: =ROUND(Tableau1[[#This Row],[Prix_Unit_TTC]],2)*Tableau1[[#This Row],[Qte_commande]] -> 91.74 | Q13: 6 | R13: =VALUE(IF(COUNTIF(Tableau1[[#This Row],[Type_Produit]],"*Boisson*"),PRODUCT(Tableau1[[#This Row],[CL]],Tableau1[[#This Row],[Qte_commande]])/100/0.7,IF(COUNTIF(Tableau1[[#This Row],[Type_Produit]],"*JGR*"),Tableau1[[#This Row],[Qte_commande]],0))) -> 6
A14: 42402 | B14: 16V01327 | C14: LE JEAN | D14: CHATEAU RENAULT | G14: CHR | H14: Boisson_Spirit | I14: WILD TURKEY 101' | J14: 70 | K14: {=IFERROR(INDEX(Grille_Tarifs_Modulable!$B$2:$B$204,MATCH(Tableau1[[#This Row],[Designation]]&Tableau1[[#This Row],[CL]],Grille_Tarifs_Modulable!$C$2:$C$204&Grille_Tarifs_Modulable!$F$2:$F$204,0)),0)} -> 0 | L14: =IF(Tableau1[[#This Row],[EAN]]=0,0,INDEX(Grille_Tarifs_Modulable!$B$7:$N$114,MATCH(Tableau1[[#This Row],[EAN]],Grille_Tarifs_Modulable!$B$7:$B$114,0),MATCH(Tableau1[[#This Row],[Tarificat° client]],Grille_Tarifs_Modulable!$7:$7,0)-1)+INDEX(Grille_Tarifs_Modulable!$M$7:$N$114,MATCH(Tableau1[[#This Row],[EAN]],Grille_Tarifs_Modulable!$B$7:$B$114,0),1)+INDEX(Grille_Tarifs_Modulable!$M$7:$N$114,MATCH(Tableau1[[#This Row],[EAN]],Grille_Tarifs_Modulable!$B$7:$B$114,0),2)) -> 0 | M14: =IF(Tableau1[[#This Row],[Prix_Unit_HT]]=0,0,Tableau1[[#This Row],[Prix_Unit_HT]]+(Tableau1[[#This Row],[Prix_Unit_HT]]*VLOOKUP(Tableau1[[#This Row],[EAN]],Grille_Tarifs_Modulable!$B$10:$Q$204,16,FALSE))) -> 0 | N14: 6 | O14: =ROUND(Tableau1[[#This Row],[Prix_Unit_HT]],2)*Tableau1[[#This Row],[Qte_commande]] -> 0 | P14: =ROUND(Tableau1[[#This Row],[Prix_Unit_TTC]],2)*Tableau1[[#This Row],[Qte_commande]] -> 0 | Q14: 6 | R14: =VALUE(IF(COUNTIF(Tableau1[[#This Row],[Type_Produit]],"*Boisson*"),PRODUCT(Tableau1[[#This Row],[CL]],Tableau1[[#This Row],[Qte_commande]])/100/0.7,IF(COUNTIF(Tableau1[[#This Row],[Type_Produit]],"*JGR*"),Tableau1[[#This Row],[Qte_commande]],0))) -> 6
... A23: 42410 | B23: 16V02116 | C23: POITOU | D23: CHASSENEUIL DU POITOU | G23: GROS | H23: Boisson_Spirit | I23: Jägermeister | J23: 70 | K23: {=IFERROR(INDEX(Grille_Tarifs_Modulable!$B$2:$B$204,MATCH(Tableau1[[#This Row],[Designation]]&Tableau1[[#This Row],[CL]],Grille_Tarifs_Modulable!$C$2:$C$204&Grille_Tarifs_Modulable!$F$2:$F$204,0)),0)} -> 4067700013859 | L23: =IF(Tableau1[[#This Row],[EAN]]=0,0,INDEX(Grille_Tarifs_Modulable!$B$7:$N$114,MATCH(Tableau1[[#This Row],[EAN]],Grille_Tarifs_Modulable!$B$7:$B$114,0),MATCH(Tableau1[[#This Row],[Tarificat° client]],Grille_Tarifs_Modulable!$7:$7,0)-1)+INDEX(Grille_Tarifs_Modulable!$M$7:$N$114,MATCH(Tableau1[[#This Row],[EAN]],Grille_Tarifs_Modulable!$B$7:$B$114,0),1)+INDEX(Grille_Tarifs_Modulable!$M$7:$N$114,MATCH(Tableau1[[#This Row],[EAN]],Grille_Tarifs_Modulable!$B$7:$B$114,0),2)) -> 12.532563 | M23: =IF(Tableau1[[#This Row],[Prix_Unit_HT]]=0,0,Tableau1[[#This Row],[Prix_Unit_HT]]+(Tableau1[[#This Row],[Prix_Unit_HT]]*VLOOKUP(Tableau1[[#This Row],[EAN]],Grille_Tarifs_Modulable!$B$10:$Q$204,16,FALSE))) -> 15.039076 | N23: 150 | O23: =ROUND(Tableau1[[#This Row],[Prix_Unit_HT]],2)*Tableau1[[#This Row],[Qte_commande]] -> 1879.5 | P23: =ROUND(Tableau1[[#This Row],[Prix_Unit_TTC]],2)*Tableau1[[#This Row],[Qte_commande]] -> 2256 | Q23: 150 | R23: =VALUE(IF(COUNTIF(Tableau1[[#This Row],[Type_Produit]],"*Boisson*"),PRODUCT(Tableau1[[#This Row],[CL]],Tableau1[[#This Row],[Qte_commande]])/100/0.7,IF(COUNTIF(Tableau1[[#This Row],[Type_Produit]],"*JGR*"),Tableau1[[#This Row],[Qte_commande]],0))) -> 150
A24: 42416 | B24: 16V02226 | C24: DIAMS TONIC | D24: JALLAIS | F24: CHR_CLUB | G24: CHR | H24: Boisson_Spirit | I24: Jägermeister | J24: 175 | K24: {=IFERROR(INDEX(Grille_Tarifs_Modulable!$B$2:$B$204,MATCH(Tableau1[[#This Row],[Designation]]&Tableau1[[#This Row],[CL]],Grille_Tarifs_Modulable!$C$2:$C$204&Grille_Tarifs_Modulable!$F$2:$F$204,0)),0)} -> 4067700013835 | L24: =IF(Tableau1[[#This Row],[EAN]]=0,0,INDEX(Grille_Tarifs_Modulable!$B$7:$N$114,MATCH(Tableau1[[#This Row],[EAN]],Grille_Tarifs_Modulable!$B$7:$B$114,0),MATCH(Tableau1[[#This Row],[Tarificat° client]],Grille_Tarifs_Modulable!$7:$7,0)-1)+INDEX(Grille_Tarifs_Modulable!$M$7:$N$114,MATCH(Tableau1[[#This Row],[EAN]],Grille_Tarifs_Modulable!$B$7:$B$114,0),1)+INDEX(Grille_Tarifs_Modulable!$M$7:$N$114,MATCH(Tableau1[[#This Row],[EAN]],Grille_Tarifs_Modulable!$B$7:$B$114,0),2)) -> 32.266409 | M24: =IF(Tableau1[[#This Row],[Prix_Unit_HT]]=0,0,Tableau1[[#This Row],[Prix_Unit_HT]]+(Tableau1[[#This Row],[Prix_Unit_HT]]*VLOOKUP(Tableau1[[#This Row],[EAN]],Grille_Tarifs_Modulable!$B$10:$Q$204,16,FALSE))) -> 38.71969 | N24: 36 | O24: =ROUND(Tableau1[[#This Row],[Prix_Unit_HT]],2)*Tableau1[[#This Row],[Qte_commande]] -> 1161.72 | P24: =ROUND(Tableau1[[#This Row],[Prix_Unit_TTC]],2)*Tableau1[[#This Row],[Qte_commande]] -> 1393.92 | Q24: 90 | R24: =VALUE(IF(COUNTIF(Tableau1[[#This Row],[Type_Produit]],"*Boisson*"),PRODUCT(Tableau1[[#This Row],[CL]],Tableau1[[#This Row],[Qte_commande]])/100/0.7,IF(COUNTIF(Tableau1[[#This Row],[Type_Produit]],"*JGR*"),Tableau1[[#This Row],[Qte_commande]],0))) -> 90
A25: 42419 | B25: 16V02310 | C25: DIAMS TONIC | D25: JALLAIS | F25: CHR_CLUB | G25: CHR | H25: Boisson_Spirit | I25: Jägermeister | J25: 175 | K25: {=IFERROR(INDEX(Grille_Tarifs_Modulable!$B$2:$B$204,MATCH(Tableau1[[#This Row],[Designation]]&Tableau1[[#This Row],[CL]],Grille_Tarifs_Modulable!$C$2:$C$204&Grille_Tarifs_Modulable!$F$2:$F$204,0)),0)} -> 4067700013835 | L25: =IF(Tableau1[[#This Row],[EAN]]=0,0,INDEX(Grille_Tarifs_Modulable!$B$7:$N$114,MATCH(Tableau1[[#This Row],[EAN]],Grille_Tarifs_Modulable!$B$7:$B$114,0),MATCH(Tableau1[[#This Row],[Tarificat° client]],Grille_Tarifs_Modulable!$7:$7,0)-1)+INDEX(Grille_Tarifs_Modulable!$M$7:$N$114,MATCH(Tableau1[[#This Row],[EAN]],Grille_Tarifs_Modulable!$B$7:$B$114,0),1)+INDEX(Grille_Tarifs_Modulable!$M$7:$N$114,MATCH(Tableau1[[#This Row],[EAN]],Grille_Tarifs_Modulable!$B$7:$B$114,0),2)) -> 32.266409 | M25: =IF(Tableau1[[#This Row],[Prix_Unit_HT]]=0,0,Tableau1[[#This Row],[Prix_Unit_HT]]+(Tableau1[[#This Row],[Prix_Unit_HT]]*VLOOKUP(Tableau1[[#This Row],[EAN]],Grille_Tarifs_Modulable!$B$10:$Q$204,16,FALSE))) -> 38.71969 | N25: 36 | O25: =ROUND(Tableau1[[#This Row],[Prix_Unit_HT]],2)*Tableau1[[#This Row],[Qte_commande]] -> 1161.72 | P25: =ROUND(Tableau1[[#This Row],[Prix_Unit_TTC]],2)*Tableau1[[#This Row],[Qte_commande]] -> 1393.92 | Q25: 90 | R25: =VALUE(IF(COUNTIF(Tableau1[[#This Row],[Type_Produit]],"*Boisson*"),PRODUCT(Tableau1[[#This Row],[CL]],Tableau1[[#This Row],[Qte_commande]])/100/0.7,IF(COUNTIF(Tableau1[[#This Row],[Type_Produit]],"*JGR*"),Tableau1[[#This Row],[Qte_commande]],0))) -> 90
A26: 42419 | B26: 16V02265 | C26: NIGHT WAY | D26: SARAN | G26: CHR | H26: Boisson_Spirit | I26: VODKA IMPERIAL GOLD | J26: 70 | K26: {=IFERROR(INDEX(Grille_Tarifs_Modulable!$B$2:$B$204,MATCH(Tableau1[[#This Row],[Designation]]&Tableau1[[#This Row],[CL]],Grille_Tarifs_Modulable!$C$2:$C$204&Grille_Tarifs_Modulable!$F$2:$F$204,0)),0)} -> 0 | L26: =IF(Tableau1[[#This Row],[EAN]]=0,0,INDEX(Grille_Tarifs_Modulable!$B$7:$N$114,MATCH(Tableau1[[#This Row],[EAN]],Grille_Tarifs_Modulable!$B$7:$B$114,0),MATCH(Tableau1[[#This Row],[Tarificat° client]],Grille_Tarifs_Modulable!$7:$7,0)-1)+INDEX(Grille_Tarifs_Modulable!$M$7:$N$114,MATCH(Tableau1[[#This Row],[EAN]],Grille_Tarifs_Modulable!$B$7:$B$114,0),1)+INDEX(Grille_Tarifs_Modulable!$M$7:$N$114,MATCH(Tableau1[[#This Row],[EAN]],Grille_Tarifs_Modulable!$B$7:$B$114,0),2)) -> 0 | M26: =IF(Tableau1[[#This Row],[Prix_Unit_HT]]=0,0,Tableau1[[#This Row],[Prix_Unit_HT]]+(Tableau1[[#This Row],[Prix_Unit_HT]]*VLOOKUP(Tableau1[[#This Row],[EAN]],Grille_Tarifs_Modulable!$B$10:$Q$204,16,FALSE))) -> 0 | N26: 18 | O26: =ROUND(Tableau1[[#This Row],[Prix_Unit_HT]],2)*Tableau1[[#This Row],[Qte_commande]] -> 0 | P26: =ROUND(Tableau1[[#This Row],[Prix_Unit_TTC]],2)*Tableau1[[#This Row],[Qte_commande]] -> 0 | Q26: 18 | R26: =VALUE(IF(COUNTIF(Tableau1[[#This Row],[Type_Produit]],"*Boisson*"),PRODUCT(Tableau1[[#This Row],[CL]],Tableau1[[#This Row],[Qte_commande]])/100/0.7,IF(COUNTIF(Tableau1[[#This Row],[Type_Produit]],"*JGR*"),Tableau1[[#This Row],[Qte_commande]],0))) -> 18
A27: 42419 | B27: 16V02265 | C27: NIGHT WAY | D27: SARAN | G27: CHR | H27: Boisson_Spirit | I27: VODKA IMPERIAL GOLD | J27: 175 | K27: {=IFERROR(INDEX(Grille_Tarifs_Modulable!$B$2:$B$204,MATCH(Tableau1[[#This Row],[Designation]]&Tableau1[[#This Row],[CL]],Grille_Tarifs_Modulable!$C$2:$C$204&Grille_Tarifs_Modulable!$F$2:$F$204,0)),0)} -> 0 | L27: =IF(Tableau1[[#This Row],[EAN]]=0,0,INDEX(Grille_Tarifs_Modulable!$B$7:$N$114,MATCH(Tableau1[[#This Row],[EAN]],Grille_Tarifs_Modulable!$B$7:$B$114,0),MATCH(Tableau1[[#This Row],[Tarificat° client]],Grille_Tarifs_Modulable!$7:$7,0)-1)+INDEX(Grille_Tarifs_Modulable!$M$7:$N$114,MATCH(Tableau1[[#This Row],[EAN]],Grille_Tarifs_Modulable!$B$7:$B$114,0),1)+INDEX(Grille_Tarifs_Modulable!$M$7:$N$114,MATCH(Tableau1[[#This Row],[EAN]],Grille_Tarifs_Modulable!$B$7:$B$114,0),2)) -> 0 | M27: =IF(Tableau1[[#This Row],[Prix_Unit_HT]]=0,0,Tableau1[[#This Row],[Prix_Unit_HT]]+(Tableau1[[#This Row],[Prix_Unit_HT]]*VLOOKUP(Tableau1[[#This Row],[EAN]],Grille_Tarifs_Modulable!$B$10:$Q$204,16,FALSE))) -> 0 | N27: 4 | O27: =ROUND(Tableau1[[#This Row],[Prix_Unit_HT]],2)*Tableau1[[#This Row],[Qte_commande]] -> 0 | P27: =ROUND(Tableau1[[#This Row],[Prix_Unit_TTC]],2)*Tableau1[[#This Row],[Qte_commande]] -> 0 | Q27: 10 | R27: =VALUE(IF(COUNTIF(Tableau1[[#This Row],[Type_Produit]],"*Boisson*"),PRODUCT(Tableau1[[#This Row],[CL]],Tableau1[[#This Row],[Qte_commande]])/100/0.7,IF(COUNTIF(Tableau1[[#This Row],[Type_Produit]],"*JGR*"),Tableau1[[#This Row],[Qte_commande]],0))) -> 10
A28: 42419 | B28: 16V02265 | C28: NIGHT WAY | D28: SARAN | G28: CHR | H28: Boisson_Spirit | I28: VODKA IMPERIAL GOLD | J28: 600 | K28: {=IFERROR(INDEX(Grille_Tarifs_Modulable!$B$2:$B$204,MATCH(Tableau1[[#This Row],[Designation]]&Tableau1[[#This Row],[CL]],Grille_Tarifs_Modulable!$C$2:$C$204&Grille_Tarifs_Modulable!$F$2:$F$204,0)),0)} -> 0 | L28: =IF(Tableau1[[#This Row],[EAN]]=0,0,INDEX(Grille_Tarifs_Modulable!$B$7:$N$114,MATCH(Tableau1[[#This Row],[EAN]],Grille_Tarifs_Modulable!$B$7:$B$114,0),MATCH(Tableau1[[#This Row],[Tarificat° client]],Grille_Tarifs_Modulable!$7:$7,0)-1)+INDEX(Grille_Tarifs_Modulable!$M$7:$N$114,MATCH(Tableau1[[#This Row],[EAN]],Grille_Tarifs_Modulable!$B$7:$B$114,0),1)+INDEX(Grille_Tarifs_Modulable!$M$7:$N$114,MATCH(Tableau1[[#This Row],[EAN]],Grille_Tarifs_Modulable!$B$7:$B$114,0),2)) -> 0 | M28: =IF(Tableau1[[#This Row],[Prix_Unit_HT]]=0,0,Tableau1[[#This Row],[Prix_Unit_HT]]+(Tableau1[[#This Row],[Prix_Unit_HT]]*VLOOKUP(Tableau1[[#This Row],[EAN]],Grille_Tarifs_Modulable!$B$10:$Q$204,16,FALSE))) -> 0 | N28: 1 | O28: =ROUND(Tableau1[[#This Row],[Prix_Unit_HT]],2)*Tableau1[[#This Row],[Qte_commande]] -> 0 | P28: =ROUND(Tableau1[[#This Row],[Prix_Unit_TTC]],2)*Tableau1[[#This Row],[Qte_commande]] -> 0 | Q28: 8.57 | R28: =VALUE(IF(COUNTIF(Tableau1[[#This Row],[Type_Produit]],"*Boisson*"),PRODUCT(Tableau1[[#This Row],[CL]],Tableau1[[#This Row],[Qte_commande]])/100/0.7,IF(COUNTIF(Tableau1[[#This Row],[Type_Produit]],"*JGR*"),Tableau1[[#This Row],[Qte_commande]],0))) -> 8.5714286
A29: 42422 | B29: 16V02335 | C29: DIAMS TONIC | D29: JALLAIS | F29: CHR_CLUB | G29: CHR | H29: Boisson_Spirit | I29: Jägermeister | J29: 175 | K29: {=IFERROR(INDEX(Grille_Tarifs_Modulable!$B$2:$B$204,MATCH(Tableau1[[#This Row],[Designation]]&Tableau1[[#This Row],[CL]],Grille_Tarifs_Modulable!$C$2:$C$204&Grille_Tarifs_Modulable!$F$2:$F$204,0)),0)} -> 4067700013835 | L29: =IF(Tableau1[[#This Row],[EAN]]=0,0,INDEX(Grille_Tarifs_Modulable!$B$7:$N$114,MATCH(Tableau1[[#This Row],[EAN]],Grille_Tarifs_Modulable!$B$7:$B$114,0),MATCH(Tableau1[[#This Row],[Tarificat° client]],Grille_Tarifs_Modulable!$7:$7,0)-1)+INDEX(Grille_Tarifs_Modulable!$M$7:$N$114,MATCH(Tableau1[[#This Row],[EAN]],Grille_Tarifs_Modulable!$B$7:$B$114,0),1)+INDEX(Grille_Tarifs_Modulable!$M$7:$N$114,MATCH(Tableau1[[#This Row],[EAN]],Grille_Tarifs_Modulable!$B$7:$B$114,0),2)) -> 32.266409 | M29: =IF(Tableau1[[#This Row],[Prix_Unit_HT]]=0,0,Tableau1[[#This Row],[Prix_Unit_HT]]+(Tableau1[[#This Row],[Prix_Unit_HT]]*VLOOKUP(Tableau1[[#This Row],[EAN]],Grille_Tarifs_Modulable!$B$10:$Q$204,16,FALSE))) -> 38.71969 | N29: -24 | O29: =ROUND(Tableau1[[#This Row],[Prix_Unit_HT]],2)*Tableau1[[#This Row],[Qte_commande]] -> -774.48 | P29: =ROUND(Tableau1[[#This Row],[Prix_Unit_TTC]],2)*Tableau1[[#This Row],[Qte_commande]] -> -929.28 | Q29: -60 | R29: =VALUE(IF(COUNTIF(Tableau1[[#This Row],[Type_Produit]],"*Boisson*"),PRODUCT(Tableau1[[#This Row],[CL]],Tableau1[[#This Row],[Qte_commande]])/100/0.7,IF(COUNTIF(Tableau1[[#This Row],[Type_Produit]],"*JGR*"),Tableau1[[#This Row],[Qte_commande]],0))) -> -60
A30: 42422 | B30: 16V02336 | C30: DIAMS TONIC | D30: JALLAIS | F30: CHR_CLUB | G30: CHR | H30: Boisson_Spirit | I30: Jägermeister | J30: 175 | K30: {=IFERROR(INDEX(Grille_Tarifs_Modulable!$B$2:$B$204,MATCH(Tableau1[[#This Row],[Designation]]&Tableau1[[#This Row],[CL]],Grille_Tarifs_Modulable!$C$2:$C$204&Grille_Tarifs_Modulable!$F$2:$F$204,0)),0)} -> 4067700013835 | L30: =IF(Tableau1[[#This Row],[EAN]]=0,0,INDEX(Grille_Tarifs_Modulable!$B$7:$N$114,MATCH(Tableau1[[#This Row],[EAN]],Grille_Tarifs_Modulable!$B$7:$B$114,0),MATCH(Tableau1[[#This Row],[Tarificat° client]],Grille_Tarifs_Modulable!$7:$7,0)-1)+INDEX(Grille_Tarifs_Modulable!$M$7:$N$114,MATCH(Tableau1[[#This Row],[EAN]],Grille_Tarifs_Modulable!$B$7:$B$114,0),1)+INDEX(Grille_Tarifs_Modulable!$M$7:$N$114,MATCH(Tableau1[[#This Row],[EAN]],Grille_Tarifs_Modulable!$B$7:$B$114,0),2)) -> 32.266409 | M30: =IF(Tableau1[[#This Row],[Prix_Unit_HT]]=0,0,Tableau1[[#This Row],[Prix_Unit_HT]]+(Tableau1[[#This Row],[Prix_Unit_HT]]*VLOOKUP(Tableau1[[#This Row],[EAN]],Grille_Tarifs_Modulable!$B$10:$Q$204,16,FALSE))) -> 38.71969 | N30: 0 | O30: =ROUND(Tableau1[[#This Row],[Prix_Unit_HT]],2)*Tableau1[[#This Row],[Qte_commande]] -> 0 | P30: =ROUND(Tableau1[[#This Row],[Prix_Unit_TTC]],2)*Tableau1[[#This Row],[Qte_commande]] -> 0 | Q30: 0 | R30: =VALUE(IF(COUNTIF(Tableau1[[#This Row],[Type_Produit]],"*Boisson*"),PRODUCT(Tableau1[[#This Row],[CL]],Tableau1[[#This Row],[Qte_commande]])/100/0.7,IF(COUNTIF(Tableau1[[#This Row],[Type_Produit]],"*JGR*"),Tableau1[[#This Row],[Qte_commande]],0))) -> 0
A31: 42422 | B31: 16V02335 | C31: DIAMS TONIC | D31: JALLAIS | F31: CHR_CLUB | G31: CHR | H31: Boisson_Spirit | I31: Jägermeister | J31: 175 | K31: {=IFERROR(INDEX(Grille_Tarifs_Modulable!$B$2:$B$204,MATCH(Tableau1[[#This Row],[Designation]]&Tableau1[[#This Row],[CL]],Grille_Tarifs_Modulable!$C$2:$C$204&Grille_Tarifs_Modulable!$F$2:$F$204,0)),0)} -> 4067700013835 | L31: =IF(Tableau1[[#This Row],[EAN]]=0,0,INDEX(Grille_Tarifs_Modulable!$B$7:$N$114,MATCH(Tableau1[[#This Row],[EAN]],Grille_Tarifs_Modulable!$B$7:$B$114,0),MATCH(Tableau1[[#This Row],[Tarificat° client]],Grille_Tarifs_Modulable!$7:$7,0)-1)+INDEX(Grille_Tarifs_Modulable!$M$7:$N$114,MATCH(Tableau1[[#This Row],[EAN]],Grille_Tarifs_Modulable!$B$7:$B$114,0),1)+INDEX(Grille_Tarifs_Modulable!$M$7:$N$114,MATCH(Tableau1[[#This Row],[EAN]],Grille_Tarifs_Modulable!$B$7:$B$114,0),2)) -> 32.266409 | M31: =IF(Tableau1[[#This Row],[Prix_Unit_HT]]=0,0,Tableau1[[#This Row],[Prix_Unit_HT]]+(Tableau1[[#This Row],[Prix_Unit_HT]]*VLOOKUP(Tableau1[[#This Row],[EAN]],Grille_Tarifs_Modulable!$B$10:$Q$204,16,FALSE))) -> 38.71969 | N31: -4 | O31: =ROUND(Tableau1[[#This Row],[Prix_Unit_HT]],2)*Tableau1[[#This Row],[Qte_commande]] -> -129.08 | P31: =ROUND(Tableau1[[#This Row],[Prix_Unit_TTC]],2)*Tableau1[[#This Row],[Qte_commande]] -> -154.88 | Q31: -10 | R31: =VALUE(IF(COUNTIF(Tableau1[[#This Row],[Type_Produit]],"*Boisson*"),PRODUCT(Tableau1[[#This Row],[CL]],Tableau1[[#This Row],[Qte_commande]])/100/0.7,IF(COUNTIF(Tableau1[[#This Row],[Type_Produit]],"*JGR*"),Tableau1[[#This Row],[Qte_commande]],0))) -> -10
A32: 42422 | B32: 16V02336 | C32: DIAMS TONIC | D32: JALLAIS | F32: CHR_CLUB | G32: CHR | H32: Boisson_Spirit | I32: Jägermeister | J32: 175 | K32: {=IFERROR(INDEX(Grille_Tarifs_Modulable!$B$2:$B$204,MATCH(Tableau1[[#This Row],[Designation]]&Tableau1[[#This Row],[CL]],Grille_Tarifs_Modulable!$C$2:$C$204&Grille_Tarifs_Modulable!$F$2:$F$204,0)),0)} -> 4067700013835 | L32: =IF(Tableau1[[#This Row],[EAN]]=0,0,INDEX(Grille_Tarifs_Modulable!$B$7:$N$114,MATCH(Tableau1[[#This Row],[EAN]],Grille_Tarifs_Modulable!$B$7:$B$114,0),MATCH(Tableau1[[#This Row],[Tarificat° client]],Grille_Tarifs_Modulable!$7:$7,0)-1)+INDEX(Grille_Tarifs_Modulable!$M$7:$N$114,MATCH(Tableau1[[#This Row],[EAN]],Grille_Tarifs_Modulable!$B$7:$B$114,0),1)+INDEX(Grille_Tarifs_Modulable!$M$7:$N$114,MATCH(Tableau1[[#This Row],[EAN]],Grille_Tarifs_Modulable!$B$7:$B$114,0),2)) -> 32.266409 | M32: =IF(Tableau1[[#This Row],[Prix_Unit_HT]]=0,0,Tableau1[[#This Row],[Prix_Unit_HT]]+(Tableau1[[#This Row],[Prix_Unit_HT]]*VLOOKUP(Tableau1[[#This Row],[EAN]],Grille_Tarifs_Modulable!$B$10:$Q$204,16,FALSE))) -> 38.71969 | N32: 0 | O32: =ROUND(Tableau1[[#This Row],[Prix_Unit_HT]],2)*Tableau1[[#This Row],[Qte_commande]] -> 0 | P32: =ROUND(Tableau1[[#This Row],[Prix_Unit_TTC]],2)*Tableau1[[#This Row],[Qte_commande]] -> 0 | Q32: 0 | R32: =VALUE(IF(COUNTIF(Tableau1[[#This Row],[Type_Produit]],"*Boisson*"),PRODUCT(Tableau1[[#This Row],[CL]],Tableau1[[#This Row],[Qte_commande]])/100/0.7,IF(COUNTIF(Tableau1[[#This Row],[Type_Produit]],"*JGR*"),Tableau1[[#This Row],[Qte_commande]],0))) -> 0
A33: 42424 | B33: 16V02367 | C33: WALLABY | D33: ANGERS | G33: CHR | H33: Boisson_Spirit | I33: Danzinger Goldwasser | J33: 70 | K33: {=IFERROR(INDEX(Grille_Tarifs_Modulable!$B$2:$B$204,MATCH(Tableau1[[#This Row],[Designation]]&Tableau1[[#This Row],[CL]],Grille_Tarifs_Modulable!$C$2:$C$204&Grille_Tarifs_Modulable!$F$2:$F$204,0)),0)} -> 4055800060200 | L33: =IF(Tableau1[[#This Row],[EAN]]=0,0,INDEX(Grille_Tarifs_Modulable!$B$7:$N$114,MATCH(Tableau1[[#This Row],[EAN]],Grille_Tarifs_Modulable!$B$7:$B$114,0),MATCH(Tableau1[[#This Row],[Tarificat° client]],Grille_Tarifs_Modulable!$7:$7,0)-1)+INDEX(Grille_Tarifs_Modulable!$M$7:$N$114,MATCH(Tableau1[[#This Row],[EAN]],Grille_Tarifs_Modulable!$B$7:$B$114,0),1)+INDEX(Grille_Tarifs_Modulable!$M$7:$N$114,MATCH(Tableau1[[#This Row],[EAN]],Grille_Tarifs_Modulable!$B$7:$B$114,0),2)) -> 18.588644 | M33: =IF(Tableau1[[#This Row],[Prix_Unit_HT]]=0,0,Tableau1[[#This Row],[Prix_Unit_HT]]+(Tableau1[[#This Row],[Prix_Unit_HT]]*VLOOKUP(Tableau1[[#This Row],[EAN]],Grille_Tarifs_Modulable!$B$10:$Q$204,16,FALSE))) -> 22.306373 | N33: 12 | O33: =ROUND(Tableau1[[#This Row],[Prix_Unit_HT]],2)*Tableau1[[#This Row],[Qte_commande]] -> 223.08 | P33: =ROUND(Tableau1[[#This Row],[Prix_Unit_TTC]],2)*Tableau1[[#This Row],[Qte_commande]] -> 267.72 | Q33: 12 | R33: =VALUE(IF(COUNTIF(Tableau1[[#This Row],[Type_Produit]],"*Boisson*"),PRODUCT(Tableau1[[#This Row],[CL]],Tableau1[[#This Row],[Qte_commande]])/100/0.7,IF(COUNTIF(Tableau1[[#This Row],[Type_Produit]],"*JGR*"),Tableau1[[#This Row],[Qte_commande]],0))) -> 12
A34: 42424 | B34: 16V02349 | C34: SCHOEN | D34: JOUE LES TOURS | G34: GROS | H34: Boisson_Spirit | I34: Jägermeister | J34: 70 | K34: {=IFERROR(INDEX(Grille_Tarifs_Modulable!$B$2:$B$204,MATCH(Tableau1[[#This Row],[Designation]]&Tableau1[[#This Row],[CL]],Grille_Tarifs_Modulable!$C$2:$C$204&Grille_Tarifs_Modulable!$F$2:$F$204,0)),0)} -> 4067700013859 | L34: =IF(Tableau1[[#This Row],[EAN]]=0,0,INDEX(Grille_Tarifs_Modulable!$B$7:$N$114,MATCH(Tableau1[[#This Row],[EAN]],Grille_Tarifs_Modulable!$B$7:$B$114,0),MATCH(Tableau1[[#This Row],[Tarificat° client]],Grille_Tarifs_Modulable!$7:$7,0)-1)+INDEX(Grille_Tarifs_Modulable!$M$7:$N$114,MATCH(Tableau1[[#This Row],[EAN]],Grille_Tarifs_Modulable!$B$7:$B$114,0),1)+INDEX(Grille_Tarifs_Modulable!$M$7:$N$114,MATCH(Tableau1[[#This Row],[EAN]],Grille_Tarifs_Modulable!$B$7:$B$114,0),2)) -> 12.532563 | M34: =IF(Tableau1[[#This Row],[Prix_Unit_HT]]=0,0,Tableau1[[#This Row],[Prix_Unit_HT]]+(Tableau1[[#This Row],[Prix_Unit_HT]]*VLOOKUP(Tableau1[[#This Row],[EAN]],Grille_Tarifs_Modulable!$B$10:$Q$204,16,FALSE))) -> 15.039076 | N34: 120 | O34: =ROUND(Tableau1[[#This Row],[Prix_Unit_HT]],2)*Tableau1[[#This Row],[Qte_commande]] -> 1503.6 | P34: =ROUND(Tableau1[[#This Row],[Prix_Unit_TTC]],2)*Tableau1[[#This Row],[Qte_commande]] -> 1804.8 | Q34: 120 | R34: =VALUE(IF(COUNTIF(Tableau1[[#This Row],[Type_Produit]],"*Boisson*"),PRODUCT(Tableau1[[#This Row],[CL]],Tableau1[[#This Row],[Qte_commande]])/100/0.7,IF(COUNTIF(Tableau1[[#This Row],[Type_Produit]],"*JGR*"),Tableau1[[#This Row],[Qte_commande]],0))) -> 120
A35: 42424 | B35: 16V02349 | C35: SCHOEN | D35: JOUE LES TOURS | G35: GROS | H35: Boisson_Spirit | I35: Jägermeister | J35: 100 | K35: {=IFERROR(INDEX(Grille_Tarifs_Modulable!$B$2:$B$204,MATCH(Tableau1[[#This Row],[Designation]]&Tableau1[[#This Row],[CL]],Grille_Tarifs_Modulable!$C$2:$C$204&Grille_Tarifs_Modulable!$F$2:$F$204,0)),0)} -> 4067700013842 | L35: =IF(Tableau1[[#This Row],[EAN]]=0,0,INDEX(Grille_Tarifs_Modulable!$B$7:$N$114,MATCH(Tableau1[[#This Row],[EAN]],Grille_Tarifs_Modulable!$B$7:$B$114,0),MATCH(Tableau1[[#This Row],[Tarificat° client]],Grille_Tarifs_Modulable!$7:$7,0)-1)+INDEX(Grille_Tarifs_Modulable!$M$7:$N$114,MATCH(Tableau1[[#This Row],[EAN]],Grille_Tarifs_Modulable!$B$7:$B$114,0),1)+INDEX(Grille_Tarifs_Modulable!$M$7:$N$114,MATCH(Tableau1[[#This Row],[EAN]],Grille_Tarifs_Modulable!$B$7:$B$114,0),2)) -> 17.100805 | M35: =IF(Tableau1[[#This Row],[Prix_Unit_HT]]=0,0,Tableau1[[#This Row],[Prix_Unit_HT]]+(Tableau1[[#This Row],[Prix_Unit_HT]]*VLOOKUP(Tableau1[[#This Row],[EAN]],Grille_Tarifs_Modulable!$B$10:$Q$204,16,FALSE))) -> 20.520966 | N35: 90 | O35: =ROUND(Tableau1[[#This Row],[Prix_Unit_HT]],2)*Tableau1[[#This Row],[Qte_commande]] -> 1539 | P35: =ROUND(Tableau1[[#This Row],[Prix_Unit_TTC]],2)*Tableau1[[#This Row],[Qte_commande]] -> 1846.8 | Q35: 128.57 | R35: =VALUE(IF(COUNTIF(Tableau1[[#This Row],[Type_Produit]],"*Boisson*"),PRODUCT(Tableau1[[#This Row],[CL]],Tableau1[[#This Row],[Qte_commande]])/100/0.7,IF(COUNTIF(Tableau1[[#This Row],[Type_Produit]],"*JGR*"),Tableau1[[#This Row],[Qte_commande]],0))) -> 128.57143
A36: 42424 | B36: 16V02349 | C36: SCHOEN | D36: JOUE LES TOURS | G36: GROS | H36: Boisson_Spirit | I36: Jägermeister | J36: 100 | K36: {=IFERROR(INDEX(Grille_Tarifs_Modulable!$B$2:$B$204,MATCH(Tableau1[[#This Row],[Designation]]&Tableau1[[#This Row],[CL]],Grille_Tarifs_Modulable!$C$2:$C$204&Grille_Tarifs_Modulable!$F$2:$F$204,0)),0)} -> 4067700013842 | L36: =IF(Tableau1[[#This Row],[EAN]]=0,0,INDEX(Grille_Tarifs_Modulable!$B$7:$N$114,MATCH(Tableau1[[#This Row],[EAN]],Grille_Tarifs_Modulable!$B$7:$B$114,0),MATCH(Tableau1[[#This Row],[Tarificat° client]],Grille_Tarifs_Modulable!$7:$7,0)-1)+INDEX(Grille_Tarifs_Modulable!$M$7:$N$114,MATCH(Tableau1[[#This Row],[EAN]],Grille_Tarifs_Modulable!$B$7:$B$114,0),1)+INDEX(Grille_Tarifs_Modulable!$M$7:$N$114,MATCH(Tableau1[[#This Row],[EAN]],Grille_Tarifs_Modulable!$B$7:$B$114,0),2)) -> 17.100805 | M36: =IF(Tableau1[[#This Row],[Prix_Unit_HT]]=0,0,Tableau1[[#This Row],[Prix_Unit_HT]]+(Tableau1[[#This Row],[Prix_Unit_HT]]*VLOOKUP(Tableau1[[#This Row],[EAN]],Grille_Tarifs_Modulable!$B$10:$Q$204,16,FALSE))) -> 20.520966 | N36: 30 | O36: =ROUND(Tableau1[[#This Row],[Prix_Unit_HT]],2)*Tableau1[[#This Row],[Qte_commande]] -> 513 | P36: =ROUND(Tableau1[[#This Row],[Prix_Unit_TTC]],2)*Tableau1[[#This Row],[Qte_commande]] -> 615.6 | Q36: 42.86 | R36: =VALUE(IF(COUNTIF(Tableau1[[#This Row],[Type_Produit]],"*Boisson*"),PRODUCT(Tableau1[[#This Row],[CL]],Tableau1[[#This Row],[Qte_commande]])/100/0.7,IF(COUNTIF(Tableau1[[#This Row],[Type_Produit]],"*JGR*"),Tableau1[[#This Row],[Qte_commande]],0))) -> 42.857143
A37: 42424 | B37: 16V02367 | C37: WALLABY | D37: ANGERS | G37: CHR | H37: Boisson_Spirit | I37: Jägermeister | J37: 100 | K37: {=IFERROR(INDEX(Grille_Tarifs_Modulable!$B$2:$B$204,MATCH(Tableau1[[#This Row],[Designation]]&Tableau1[[#This Row],[CL]],Grille_Tarifs_Modulable!$C$2:$C$204&Grille_Tarifs_Modulable!$F$2:$F$204,0)),0)} -> 4067700013842 | L37: =IF(Tableau1[[#This Row],[EAN]]=0,0,INDEX(Grille_Tarifs_Modulable!$B$7:$N$114,MATCH(Tableau1[[#This Row],[EAN]],Grille_Tarifs_Modulable!$B$7:$B$114,0),MATCH(Tableau1[[#This Row],[Tarificat° client]],Grille_Tarifs_Modulable!$7:$7,0)-1)+INDEX(Grille_Tarifs_Modulable!$M$7:$N$114,MATCH(Tableau1[[#This Row],[EAN]],Grille_Tarifs_Modulable!$B$7:$B$114,0),1)+INDEX(Grille_Tarifs_Modulable!$M$7:$N$114,MATCH(Tableau1[[#This Row],[EAN]],Grille_Tarifs_Modulable!$B$7:$B$114,0),2)) -> 19.150805 | M37: =IF(Tableau1[[#This Row],[Prix_Unit_HT]]=0,0,Tableau1[[#This Row],[Prix_Unit_HT]]+(Tableau1[[#This Row],[Prix_Unit_HT]]*VLOOKUP(Tableau1[[#This Row],[EAN]],Grille_Tarifs_Modulable!$B$10:$Q$204,16,FALSE))) -> 22.980966 | N37: 36 | O37: =ROUND(Tableau1[[#This Row],[Prix_Unit_HT]],2)*Tableau1[[#This Row],[Qte_commande]] -> 689.4 | P37: =ROUND(Tableau1[[#This Row],[Prix_Unit_TTC]],2)*Tableau1[[#This Row],[Qte_commande]] -> 827.28 | Q37: 51.43 | R37: =VALUE(IF(COUNTIF(Tableau1[[#This Row],[Type_Produit]],"*Boisson*"),PRODUCT(Tableau1[[#This Row],[CL]],Tableau1[[#This Row],[Qte_commande]])/100/0.7,IF(COUNTIF(Tableau1[[#This Row],[Type_Produit]],"*JGR*"),Tableau1[[#This Row],[Qte_commande]],0))) -> 51.428571
A38: 42424 | B38: 16V02367 | C38: WALLABY | D38: ANGERS | G38: CHR | H38: Boisson_Spirit | I38: Limoncello di Capri | J38: 70 | K38: {=IFERROR(INDEX(Grille_Tarifs_Modulable!$B$2:$B$204,MATCH(Tableau1[[#This Row],[Designation]]&Tableau1[[#This Row],[CL]],Grille_Tarifs_Modulable!$C$2:$C$204&Grille_Tarifs_Modulable!$F$2:$F$204,0)),0)} -> 8017450002104 | L38: =IF(Tableau1[[#This Row],[EAN]]=0,0,INDEX(Grille_Tarifs_Modulable!$B$7:$N$114,MATCH(Tableau1[[#This Row],[EAN]],Grille_Tarifs_Modulable!$B$7:$B$114,0),MATCH(Tableau1[[#This Row],[Tarificat° client]],Grille_Tarifs_Modulable!$7:$7,0)-1)+INDEX(Grille_Tarifs_Modulable!$M$7:$N$114,MATCH(Tableau1[[#This Row],[EAN]],Grille_Tarifs_Modulable!$B$7:$B$114,0),1)+INDEX(Grille_Tarifs_Modulable!$M$7:$N$114,MATCH(Tableau1[[#This Row],[EAN]],Grille_Tarifs_Modulable!$B$7:$B$114,0),2)) -> 14.266483 | M38: =IF(Tableau1[[#This Row],[Prix_Unit_HT]]=0,0,Tableau1[[#This Row],[Prix_Unit_HT]]+(Tableau1[[#This Row],[Prix_Unit_HT]]*VLOOKUP(Tableau1[[#This Row],[EAN]],Grille_Tarifs_Modulable!$B$10:$Q$204,16,FALSE))) -> 17.11978 | N38: 6 | O38: =ROUND(Tableau1[[#This Row],[Prix_Unit_HT]],2)*Tableau1[[#This Row],[Qte_commande]] -> 85.62 | P38: =ROUND(Tableau1[[#This Row],[Prix_Unit_TTC]],2)*Tableau1[[#This Row],[Qte_commande]] -> 102.72 | Q38: 6 | R38: =VALUE(IF(COUNTIF(Tableau1[[#This Row],[Type_Produit]],"*Boisson*"),PRODUCT(Tableau1[[#This Row],[CL]],Tableau1[[#This Row],[Qte_commande]])/100/0.7,IF(COUNTIF(Tableau1[[#This Row],[Type_Produit]],"*JGR*"),Tableau1[[#This Row],[Qte_commande]],0))) -> 6
A39: 42429 | B39: 16V02371 | C39: POITOU | D39: CHASSENEUIL DU POITOU | G39: GROS | H39: Boisson_Spirit | I39: Jägermeister | J39: 70 | K39: {=IFERROR(INDEX(Grille_Tarifs_Modulable!$B$2:$B$204,MATCH(Tableau1[[#This Row],[Designation]]&Tableau1[[#This Row],[CL]],Grille_Tarifs_Modulable!$C$2:$C$204&Grille_Tarifs_Modulable!$F$2:$F$204,0)),0)} -> 4067700013859 | L39: =IF(Tableau1[[#This Row],[EAN]]=0,0,INDEX(Grille_Tarifs_Modulable!$B$7:$N$114,MATCH(Tableau1[[#This Row],[EAN]],Grille_Tarifs_Modulable!$B$7:$B$114,0),MATCH(Tableau1[[#This Row],[Tarificat° client]],Grille_Tarifs_Modulable!$7:$7,0)-1)+INDEX(Grille_Tarifs_Modulable!$M$7:$N$114,MATCH(Tableau1[[#This Row],[EAN]],Grille_Tarifs_Modulable!$B$7:$B$114,0),1)+INDEX(Grille_Tarifs_Modulable!$M$7:$N$114,MATCH(Tableau1[[#This Row],[EAN]],Grille_Tarifs_Modulable!$B$7:$B$114,0),2)) -> 12.532563 | M39: =IF(Tableau1[[#This Row],[Prix_Unit_HT]]=0,0,Tableau1[[#This Row],[Prix_Unit_HT]]+(Tableau1[[#This Row],[Prix_Unit_HT]]*VLOOKUP(Tableau1[[#This Row],[EAN]],Grille_Tarifs_Modulable!$B$10:$Q$204,16,FALSE))) -> 15.039076 | N39: 150 | O39: =ROUND(Tableau1[[#This Row],[Prix_Unit_HT]],2)*Tableau1[[#This Row],[Qte_commande]] -> 1879.5 | P39: =ROUND(Tableau1[[#This Row],[Prix_Unit_TTC]],2)*Tableau1[[#This Row],[Qte_commande]] -> 2256 | Q39: 150 | R39: =VALUE(IF(COUNTIF(Tableau1[[#This Row],[Type_Produit]],"*Boisson*"),PRODUCT(Tableau1[[#This Row],[CL]],Tableau1[[#This Row],[Qte_commande]])/100/0.7,IF(COUNTIF(Tableau1[[#This Row],[Type_Produit]],"*JGR*"),Tableau1[[#This Row],[Qte_commande]],0))) -> 150
A40: 42432 | B40: 16V03061 | C40: LE RUBIS | D40: CHOLET | G40: CHR | H40: JGR_TM | I40: TAP MACHINE JÄGERMEISTER | J40: 3 | K40: {=IFERROR(INDEX(Grille_Tarifs_Modulable!$B$2:$B$204,MATCH(Tableau1[[#This Row],[Designation]]&Tableau1[[#This Row],[CL]],Grille_Tarifs_Modulable!$C$2:$C$204&Grille_Tarifs_Modulable!$F$2:$F$204,0)),0)} -> 121 | L40: =IF(Tableau1[[#This Row],[EAN]]=0,0,INDEX(Grille_Tarifs_Modulable!$B$7:$N$114,MATCH(Tableau1[[#This Row],[EAN]],Grille_Tarifs_Modulable!$B$7:$B$114,0),MATCH(Tableau1[[#This Row],[Tarificat° client]],Grille_Tarifs_Modulable!$7:$7,0)-1)+INDEX(Grille_Tarifs_Modulable!$M$7:$N$114,MATCH(Tableau1[[#This Row],[EAN]],Grille_Tarifs_Modulable!$B$7:$B$114,0),1)+INDEX(Grille_Tarifs_Modulable!$M$7:$N$114,MATCH(Tableau1[[#This Row],[EAN]],Grille_Tarifs_Modulable!$B$7:$B$114,0),2)) -> 299 | M40: =IF(Tableau1[[#This Row],[Prix_Unit_HT]]=0,0,Tableau1[[#This Row],[Prix_Unit_HT]]+(Tableau1[[#This Row],[Prix_Unit_HT]]*VLOOKUP(Tableau1[[#This Row],[EAN]],Grille_Tarifs_Modulable!$B$10:$Q$204,16,FALSE))) -> 358.8 | N40: 1 | O40: =ROUND(Tableau1[[#This Row],[Prix_Unit_HT]],2)*Tableau1[[#This Row],[Qte_commande]] -> 299 | P40: =ROUND(Tableau1[[#This Row],[Prix_Unit_TTC]],2)*Tableau1[[#This Row],[Qte_commande]] -> 358.8 | Q40: 1 | R40: =VALUE(IF(COUNTIF(Tableau1[[#This Row],[Type_Produit]],"*Boisson*"),PRODUCT(Tableau1[[#This Row],[CL]],Tableau1[[#This Row],[Qte_commande]])/100/0.7,IF(COUNTIF(Tableau1[[#This Row],[Type_Produit]],"*JGR*"),Tableau1[[#This Row],[Qte_commande]],0))) -> 1
A41: 42436 | B41: 16V03045 | C41: AMERICAN | D41: BEAUPREAU | G41: CHR | H41: Boisson_Spirit | I41: Danzinger Goldwasser | J41: 70 | K41: {=IFERROR(INDEX(Grille_Tarifs_Modulable!$B$2:$B$204,MATCH(Tableau1[[#This Row],[Designation]]&Tableau1[[#This Row],[CL]],Grille_Tarifs_Modulable!$C$2:$C$204&Grille_Tarifs_Modulable!$F$2:$F$204,0)),0)} -> 4055800060200 | L41: =IF(Tableau1[[#This Row],[EAN]]=0,0,INDEX(Grille_Tarifs_Modulable!$B$7:$N$114,MATCH(Tableau1[[#This Row],[EAN]],Grille_Tarifs_Modulable!$B$7:$B$114,0),MATCH(Tableau1[[#This Row],[Tarificat° client]],Grille_Tarifs_Modulable!$7:$7,0)-1)+INDEX(Grille_Tarifs_Modulable!$M$7:$N$114,MATCH(Tableau1[[#This Row],[EAN]],Grille_Tarifs_Modulable!$B$7:$B$114,0),1)+INDEX(Grille_Tarifs_Modulable!$M$7:$N$114,MATCH(Tableau1[[#This Row],[EAN]],Grille_Tarifs_Modulable!$B$7:$B$114,0),2)) -> 18.588644 | M41: =IF(Tableau1[[#This Row],[Prix_Unit_HT]]=0,0,Tableau1[[#This Row],[Prix_Unit_HT]]+(Tableau1[[#This Row],[Prix_Unit_HT]]*VLOOKUP(Tableau1[[#This Row],[EAN]],Grille_Tarifs_Modulable!$B$10:$Q$204,16,FALSE))) -> 22.306373 | N41: 6 | O41: =ROUND(Tableau1[[#This Row],[Prix_Unit_HT]],2)*Tableau1[[#This Row],[Qte_commande]] -> 111.54 | P41: =ROUND(Tableau1[[#This Row],[Prix_Unit_TTC]],2)*Tableau1[[#This Row],[Qte_commande]] -> 133.86 | Q41: 6 | R41: =VALUE(IF(COUNTIF(Tableau1[[#This Row],[Type_Produit]],"*Boisson*"),PRODUCT(Tableau1[[#This Row],[CL]],Tableau1[[#This Row],[Qte_commande]])/100/0.7,IF(COUNTIF(Tableau1[[#This Row],[Type_Produit]],"*JGR*"),Tableau1[[#This Row],[Qte_commande]],0))) -> 6
A42: 42436 | B42: 16V03045 | C42: AMERICAN | D42: BEAUPREAU | G42: CHR | H42: Boisson_Spirit | I42: Jägermeister | J42: 70 | K42: {=IFERROR(INDEX(Grille_Tarifs_Modulable!$B$2:$B$204,MATCH(Tableau1[[#This Row],[Designation]]&Tableau1[[#This Row],[CL]],Grille_Tarifs_Modulable!$C$2:$C$204&Grille_Tarifs_Modulable!$F$2:$F$204,0)),0)} -> 4067700013859 | L42: =IF(Tableau1[[#This Row],[EAN]]=0,0,INDEX(Grille_Tarifs_Modulable!$B$7:$N$114,MATCH(Tableau1[[#This Row],[EAN]],Grille_Tarifs_Modulable!$B$7:$B$114,0),MATCH(Tableau1[[#This Row],[Tarificat° client]],Grille_Tarifs_Modulable!$7:$7,0)-1)+INDEX(Grille_Tarifs_Modulable!$M$7:$N$114,MATCH(Tableau1[[#This Row],[EAN]],Grille_Tarifs_Modulable!$B$7:$B$114,0),1)+INDEX(Grille_Tarifs_Modulable!$M$7:$N$114,MATCH(Tableau1[[#This Row],[EAN]],Grille_Tarifs_Modulable!$B$7:$B$114,0),2)) -> 13.942563 | M42: =IF(Tableau1[[#This Row],[Prix_Unit_HT]]=0,0,Tableau1[[#This Row],[Prix_Unit_HT]]+(Tableau1[[#This Row],[Prix_Unit_HT]]*VLOOKUP(Tableau1[[#This Row],[EAN]],Grille_Tarifs_Modulable!$B$10:$Q$204,16,FALSE))) -> 16.731076 | N42: 30 | O42: =ROUND(Tableau1[[#This Row],[Prix_Unit_HT]],2)*Tableau1[[#This Row],[Qte_commande]] -> 418.2 | P42: =ROUND(Tableau1[[#This Row],[Prix_Unit_TTC]],2)*Tableau1[[#This Row],[Qte_commande]] -> 501.9 | Q42: 30 | R42: =VALUE(IF(COUNTIF(Tableau1[[#This Row],[Type_Produit]],"*Boisson*"),PRODUCT(Tableau1[[#This Row],[CL]],Tableau1[[#This Row],[Qte_commande]])/100/0.7,IF(COUNTIF(Tableau1[[#This Row],[Type_Produit]],"*JGR*"),Tableau1[[#This Row],[Qte_commande]],0))) -> 30
