Workbook
Name CS_M_30_1: OFFSET(Messieurs!$L$2,0,0,3,0)
Name CS_M_30_3: Messieurs!$J$2:$J$915
Name matrice_CS_M_30_3: Messieurs!$A$2:$G$899
Name matrice_SD: Dames!$A$2:$G$200
Name matrice_SM: Messieurs!$A$2:$G$899
Name SD: Dames!$A$2:$A$23
Name SM: OFFSET(Messieurs!$A$2,0,0,COUNTA(Messieurs!$A$2:$A$200),1)

Sheet Messieurs
A1: Nom prénom | B1: Nom | C1: Prénom | D1: Licence | E1: Code Club | F1: classt | G1: Club | H1: Tableau supplémentaire | I1: CS M 30/3 | K1: CS M 30/1 | M1: FT NC M | O1: FT4 M | Q1: FT3 M
A2: =B2&" "&C2 -> ALECSANDRE Pierre | B2: ALECSANDRE | C2: Pierre | D2: 4823239 A | E2: CLUB TULIPE NOIRE HAZEBROUCK | F2: 15/2 | G2: =IF(E2="","",VLOOKUP(E2,'Liste des clubs'!$A:$B,2,FALSE)) -> HAZEBRO | H2: CS M 30/3 | I2: =IF($H2=I$1,$A2,"") -> ALECSANDRE Pierre | J2: {=IFERROR(INDEX(I$2:I$210,SMALL(IF(I$2:I$210<>"",ROW(I$2:I$210)-1),ROW(A1))),"")} -> ALECSANDRE Pierre | K2: =IF($H2=K$1,$A2,"") | L2: {=IFERROR(INDEX(K$2:K$210,SMALL(IF(K$2:K$210<>"",ROW(K$2:K$210)-1),ROW(C1))),"")} -> BASUYAUX Laurent | M2: =IF($H2=M$1,$A2,"") | N2: {=IFERROR(INDEX(M$2:M$210,SMALL(IF(M$2:M$210<>"",ROW(M$2:M$210)-1),ROW(E1))),"")} -> BONNET Stanislas | O2: =IF($H2=O$1,$A2,"") | P2: {=IFERROR(INDEX(O$2:O$210,SMALL(IF(O$2:O$210<>"",ROW(O$2:O$210)-1),ROW(G1))),"")} -> BECUWE Vincent | Q2: =IF($H2=Q$1,$A2,"") | R2: {=IFERROR(INDEX(Q$2:Q$210,SMALL(IF(Q$2:Q$210<>"",ROW(Q$2:Q$210)-1),ROW(I1))),"")} -> BLONDELLE Nicolas | S2: CS M 30/3
A3: =B3&" "&C3 -> BASUYAUX Laurent | B3: BASUYAUX | C3: Laurent | D3: 7122566 U | E3: TC AUCHEL | F3: 15/3 | G3: =IF(E3="","",VLOOKUP(E3,'Liste des clubs'!$A:$B,2,FALSE)) -> AUCHEL | H3: CS M 30/1 | I3: =IF($H3=I$1,$A3,"") | J3: {=IFERROR(INDEX(I$2:I$210,SMALL(IF(I$2:I$210<>"",ROW(I$2:I$210)-1),ROW(A2))),"")} -> BECUE Baptiste | K3: =IF($H3=K$1,$A3,"") -> BASUYAUX Laurent | L3: {=IFERROR(INDEX(K$2:K$210,SMALL(IF(K$2:K$210<>"",ROW(K$2:K$210)-1),ROW(C2))),"")} -> BOULOGNE Herve | M3: =IF($H3=M$1,$A3,"") | N3: {=IFERROR(INDEX(M$2:M$210,SMALL(IF(M$2:M$210<>"",ROW(M$2:M$210)-1),ROW(E2))),"")} | O3: =IF($H3=O$1,$A3,"") | P3: {=IFERROR(INDEX(O$2:O$210,SMALL(IF(O$2:O$210<>"",ROW(O$2:O$210)-1),ROW(G2))),"")} | Q3: =IF($H3=Q$1,$A3,"") | R3: {=IFERROR(INDEX(Q$2:Q$210,SMALL(IF(Q$2:Q$210<>"",ROW(Q$2:Q$210)-1),ROW(I2))),"")} | S3: CS M 30/1
A4: =B4&" "&C4 -> BECUE Baptiste | B4: BECUE | C4: Baptiste | D4: 1148194 L | E4: TC MERVILLE | F4: 15/1 | G4: =IF(E4="","",VLOOKUP(E4,'Liste des clubs'!$A:$B,2,FALSE)) -> MERVILL | H4: CS M 30/3 | I4: =IF($H4=I$1,$A4,"") -> BECUE Baptiste | J4: {=IFERROR(INDEX(I$2:I$210,SMALL(IF(I$2:I$210<>"",ROW(I$2:I$210)-1),ROW(A3))),"")} -> BELLENGIER Julien | K4: =IF($H4=K$1,$A4,"") | L4: {=IFERROR(INDEX(K$2:K$210,SMALL(IF(K$2:K$210<>"",ROW(K$2:K$210)-1),ROW(C3))),"")} | M4: =IF($H4=M$1,$A4,"") | N4: {=IFERROR(INDEX(M$2:M$210,SMALL(IF(M$2:M$210<>"",ROW(M$2:M$210)-1),ROW(E3))),"")} | O4: =IF($H4=O$1,$A4,"") | P4: {=IFERROR(INDEX(O$2:O$210,SMALL(IF(O$2:O$210<>"",ROW(O$2:O$210)-1),ROW(G3))),"")} | Q4: =IF($H4=Q$1,$A4,"") | R4: {=IFERROR(INDEX(Q$2:Q$210,SMALL(IF(Q$2:Q$210<>"",ROW(Q$2:Q$210)-1),ROW(I3))),"")} | S4: FT NC M
A5: =B5&" "&C5 -> BECUWE Vincent | B5: BECUWE | C5: Vincent | D5: 1501057 H | E5: CLUB TULIPE NOIRE HAZEBROUCK | F5: 30/1 | G5: =IF(E5="","",VLOOKUP(E5,'Liste des clubs'!$A:$B,2,FALSE)) -> HAZEBRO | H5: FT4 M | I5: =IF($H5=I$1,$A5,"") | J5: {=IFERROR(INDEX(I$2:I$210,SMALL(IF(I$2:I$210<>"",ROW(I$2:I$210)-1),ROW(A4))),"")} | K5: =IF($H5=K$1,$A5,"") | L5: {=IFERROR(INDEX(K$2:K$210,SMALL(IF(K$2:K$210<>"",ROW(K$2:K$210)-1),ROW(C4))),"")} | M5: =IF($H5=M$1,$A5,"") | N5: {=IFERROR(INDEX(M$2:M$210,SMALL(IF(M$2:M$210<>"",ROW(M$2:M$210)-1),ROW(E4))),"")} | O5: =IF($H5=O$1,$A5,"") -> BECUWE Vincent | P5: {=IFERROR(INDEX(O$2:O$210,SMALL(IF(O$2:O$210<>"",ROW(O$2:O$210)-1),ROW(G4))),"")} | Q5: =IF($H5=Q$1,$A5,"") | R5: {=IFERROR(INDEX(Q$2:Q$210,SMALL(IF(Q$2:Q$210<>"",ROW(Q$2:Q$210)-1),ROW(I4))),"")} | S5: FT4 M
A6: =B6&" "&C6 -> BELLENGIER Julien | B6: BELLENGIER | C6: Julien | D6: 1085714 Y | E6: CLUB TULIPE NOIRE HAZEBROUCK | F6: 15/3 | G6: =IF(E6="","",VLOOKUP(E6,'Liste des clubs'!$A:$B,2,FALSE)) -> HAZEBRO | H6: CS M 30/3 | I6: =IF($H6=I$1,$A6,"") -> BELLENGIER Julien | J6: {=IFERROR(INDEX(I$2:I$210,SMALL(IF(I$2:I$210<>"",ROW(I$2:I$210)-1),ROW(A5))),"")} | K6: =IF($H6=K$1,$A6,"") | L6: {=IFERROR(INDEX(K$2:K$210,SMALL(IF(K$2:K$210<>"",ROW(K$2:K$210)-1),ROW(C5))),"")} | M6: =IF($H6=M$1,$A6,"") | N6: {=IFERROR(INDEX(M$2:M$210,SMALL(IF(M$2:M$210<>"",ROW(M$2:M$210)-1),ROW(E5))),"")} | O6: =IF($H6=O$1,$A6,"") | P6: {=IFERROR(INDEX(O$2:O$210,SMALL(IF(O$2:O$210<>"",ROW(O$2:O$210)-1),ROW(G5))),"")} | Q6: =IF($H6=Q$1,$A6,"") | R6: {=IFERROR(INDEX(Q$2:Q$210,SMALL(IF(Q$2:Q$210<>"",ROW(Q$2:Q$210)-1),ROW(I5))),"")} | S6: FT3 M
A7: =B7&" "&C7 -> BLONDELLE Nicolas | B7: BLONDELLE | C7: Nicolas | D7: 2499378 P | E7: ETOILE SPORTIVE ARQUES | F7: 15/3 | G7: =IF(E7="","",VLOOKUP(E7,'Liste des clubs'!$A:$B,2,FALSE)) -> ARQUES | H7: FT3 M | I7: =IF($H7=I$1,$A7,"") | J7: {=IFERROR(INDEX(I$2:I$210,SMALL(IF(I$2:I$210<>"",ROW(I$2:I$210)-1),ROW(A6))),"")} | K7: =IF($H7=K$1,$A7,"") | L7: {=IFERROR(INDEX(K$2:K$210,SMALL(IF(K$2:K$210<>"",ROW(K$2:K$210)-1),ROW(C6))),"")} | M7: =IF($H7=M$1,$A7,"") | N7: {=IFERROR(INDEX(M$2:M$210,SMALL(IF(M$2:M$210<>"",ROW(M$2:M$210)-1),ROW(E6))),"")} | O7: =IF($H7=O$1,$A7,"") | P7: {=IFERROR(INDEX(O$2:O$210,SMALL(IF(O$2:O$210<>"",ROW(O$2:O$210)-1),ROW(G6))),"")} | Q7: =IF($H7=Q$1,$A7,"") -> BLONDELLE Nicolas | R7: {=IFERROR(INDEX(Q$2:Q$210,SMALL(IF(Q$2:Q$210<>"",ROW(Q$2:Q$210)-1),ROW(I6))),"")}
A8: =B8&" "&C8 -> BONNET Stanislas | B8: BONNET | C8: Stanislas | D8: 6366767 Y | E8: CLUB TULIPE NOIRE HAZEBROUCK | F8: 30/2 | G8: =IF(E8="","",VLOOKUP(E8,'Liste des clubs'!$A:$B,2,FALSE)) -> HAZEBRO | H8: FT NC M | I8: =IF($H8=I$1,$A8,"") | J8: {=IFERROR(INDEX(I$2:I$210,SMALL(IF(I$2:I$210<>"",ROW(I$2:I$210)-1),ROW(A7))),"")} | K8: =IF($H8=K$1,$A8,"") | L8: {=IFERROR(INDEX(K$2:K$210,SMALL(IF(K$2:K$210<>"",ROW(K$2:K$210)-1),ROW(C7))),"")} | M8: =IF($H8=M$1,$A8,"") -> BONNET Stanislas | N8: {=IFERROR(INDEX(M$2:M$210,SMALL(IF(M$2:M$210<>"",ROW(M$2:M$210)-1),ROW(E7))),"")} | O8: =IF($H8=O$1,$A8,"") | P8: {=IFERROR(INDEX(O$2:O$210,SMALL(IF(O$2:O$210<>"",ROW(O$2:O$210)-1),ROW(G7))),"")} | Q8: =IF($H8=Q$1,$A8,"") | R8: {=IFERROR(INDEX(Q$2:Q$210,SMALL(IF(Q$2:Q$210<>"",ROW(Q$2:Q$210)-1),ROW(I7))),"")}
A9: =B9&" "&C9 -> BOULIER Jérémy | B9: BOULIER | C9: Jérémy | D9: 1852704 H | E9: CLUB TULIPE NOIRE HAZEBROUCK | F9: 30/4 | G9: =IF(E9="","",VLOOKUP(E9,'Liste des clubs'!$A:$B,2,FALSE)) -> HAZEBRO | I9: =IF($H9=I$1,$A9,"") | J9: {=IFERROR(INDEX(I$2:I$210,SMALL(IF(I$2:I$210<>"",ROW(I$2:I$210)-1),ROW(A8))),"")} | K9: =IF($H9=K$1,$A9,"") | L9: {=IFERROR(INDEX(K$2:K$210,SMALL(IF(K$2:K$210<>"",ROW(K$2:K$210)-1),ROW(C8))),"")} | M9: =IF($H9=M$1,$A9,"") | N9: {=IFERROR(INDEX(M$2:M$210,SMALL(IF(M$2:M$210<>"",ROW(M$2:M$210)-1),ROW(E8))),"")} | O9: =IF($H9=O$1,$A9,"") | P9: {=IFERROR(INDEX(O$2:O$210,SMALL(IF(O$2:O$210<>"",ROW(O$2:O$210)-1),ROW(G8))),"")} | Q9: =IF($H9=Q$1,$A9,"") | R9: {=IFERROR(INDEX(Q$2:Q$210,SMALL(IF(Q$2:Q$210<>"",ROW(Q$2:Q$210)-1),ROW(I8))),"")}
A10: =B10&" "&C10 -> BOULOGNE Herve | B10: BOULOGNE | C10: Herve | D10: 5641595 T | E10: DIJON A.S.P.T.T. | F10: 5/6 | G10: =IF(E10="","",VLOOKUP(E10,'Liste des clubs'!$A:$B,2,FALSE)) -> DIJON | H10: CS M 30/1 | I10: =IF($H10=I$1,$A10,"") | J10: {=IFERROR(INDEX(I$2:I$210,SMALL(IF(I$2:I$210<>"",ROW(I$2:I$210)-1),ROW(A9))),"")} | K10: =IF($H10=K$1,$A10,"") -> BOULOGNE Herve | L10: {=IFERROR(INDEX(K$2:K$210,SMALL(IF(K$2:K$210<>"",ROW(K$2:K$210)-1),ROW(C9))),"")} | M10: =IF($H10=M$1,$A10,"") | N10: {=IFERROR(INDEX(M$2:M$210,SMALL(IF(M$2:M$210<>"",ROW(M$2:M$210)-1),ROW(E9))),"")} | O10: =IF($H10=O$1,$A10,"") | P10: {=IFERROR(INDEX(O$2:O$210,SMALL(IF(O$2:O$210<>"",ROW(O$2:O$210)-1),ROW(G9))),"")} | Q10: =IF($H10=Q$1,$A10,"") | R10: {=IFERROR(INDEX(Q$2:Q$210,SMALL(IF(Q$2:Q$210<>"",ROW(Q$2:Q$210)-1),ROW(I9))),"")}
A11: =B11&" "&C11 -> BOUSSEKEY Sébastien | B11: BOUSSEKEY | C11: Sébastien | D11: 3164313 V | E11: CLUB TULIPE NOIRE HAZEBROUCK | F11: 30/3 | G11: =IF(E11="","",VLOOKUP(E11,'Liste des clubs'!$A:$B,2,FALSE)) -> HAZEBRO | I11: =IF($H11=I$1,$A11,"") | J11: {=IFERROR(INDEX(I$2:I$210,SMALL(IF(I$2:I$210<>"",ROW(I$2:I$210)-1),ROW(A10))),"")} | K11: =IF($H11=K$1,$A11,"") | L11: {=IFERROR(INDEX(K$2:K$210,SMALL(IF(K$2:K$210<>"",ROW(K$2:K$210)-1),ROW(C10))),"")} | M11: =IF($H11=M$1,$A11,"") | N11: {=IFERROR(INDEX(M$2:M$210,SMALL(IF(M$2:M$210<>"",ROW(M$2:M$210)-1),ROW(E10))),"")} | O11: =IF($H11=O$1,$A11,"") | P11: {=IFERROR(INDEX(O$2:O$210,SMALL(IF(O$2:O$210<>"",ROW(O$2:O$210)-1),ROW(G10))),"")} | Q11: =IF($H11=Q$1,$A11,"") | R11: {=IFERROR(INDEX(Q$2:Q$210,SMALL(IF(Q$2:Q$210<>"",ROW(Q$2:Q$210)-1),ROW(I10))),"")}
A12: =B12&" "&C12 -> BROCVIELLE Maxence | B12: BROCVIELLE | C12: Maxence | D12: 9328749 U | E12: CLUB TULIPE NOIRE HAZEBROUCK | F12: 15/3 | G12: =IF(E12="","",VLOOKUP(E12,'Liste des clubs'!$A:$B,2,FALSE)) -> HAZEBRO | I12: =IF($H12=I$1,$A12,"") | J12: {=IFERROR(INDEX(I$2:I$210,SMALL(IF(I$2:I$210<>"",ROW(I$2:I$210)-1),ROW(A11))),"")} | K12: =IF($H12=K$1,$A12,"") | L12: {=IFERROR(INDEX(K$2:K$210,SMALL(IF(K$2:K$210<>"",ROW(K$2:K$210)-1),ROW(C11))),"")} | M12: =IF($H12=M$1,$A12,"") | N12: {=IFERROR(INDEX(M$2:M$210,SMALL(IF(M$2:M$210<>"",ROW(M$2:M$210)-1),ROW(E11))),"")} | O12: =IF($H12=O$1,$A12,"") | P12: {=IFERROR(INDEX(O$2:O$210,SMALL(IF(O$2:O$210<>"",ROW(O$2:O$210)-1),ROW(G11))),"")} | Q12: =IF($H12=Q$1,$A12,"") | R12: {=IFERROR(INDEX(Q$2:Q$210,SMALL(IF(Q$2:Q$210<>"",ROW(Q$2:Q$210)-1),ROW(I11))),"")}
A13: =B13&" "&C13 -> BURKHART Antoine | B13: BURKHART | C13: Antoine | D13: 1501539 G | E13: TC ARC INTERNATIONAL | F13: 30 | G13: =IF(E13="","",VLOOKUP(E13,'Liste des clubs'!$A:$B,2,FALSE)) -> ARC | I13: =IF($H13=I$1,$A13,"") | J13: {=IFERROR(INDEX(I$2:I$210,SMALL(IF(I$2:I$210<>"",ROW(I$2:I$210)-1),ROW(A12))),"")} | K13: =IF($H13=K$1,$A13,"") | L13: {=IFERROR(INDEX(K$2:K$210,SMALL(IF(K$2:K$210<>"",ROW(K$2:K$210)-1),ROW(C12))),"")} | M13: =IF($H13=M$1,$A13,"") | N13: {=IFERROR(INDEX(M$2:M$210,SMALL(IF(M$2:M$210<>"",ROW(M$2:M$210)-1),ROW(E12))),"")} | O13: =IF($H13=O$1,$A13,"") | P13: {=IFERROR(INDEX(O$2:O$210,SMALL(IF(O$2:O$210<>"",ROW(O$2:O$210)-1),ROW(G12))),"")} | Q13: =IF($H13=Q$1,$A13,"") | R13: {=IFERROR(INDEX(Q$2:Q$210,SMALL(IF(Q$2:Q$210<>"",ROW(Q$2:Q$210)-1),ROW(I12))),"")}
A14: =B14&" "&C14 -> CALESSE Alexis | B14: CALESSE | C14: Alexis | D14: 5974162 D | E14: AT BETHUNE | F14: 30/4 | G14: =IF(E14="","",VLOOKUP(E14,'Liste des clubs'!$A:$B,2,FALSE)) -> BETHUNE | I14: =IF($H14=I$1,$A14,"") | J14: {=IFERROR(INDEX(I$2:I$210,SMALL(IF(I$2:I$210<>"",ROW(I$2:I$210)-1),ROW(A13))),"")} | K14: =IF($H14=K$1,$A14,"") | L14: {=IFERROR(INDEX(K$2:K$210,SMALL(IF(K$2:K$210<>"",ROW(K$2:K$210)-1),ROW(C13))),"")} | M14: =IF($H14=M$1,$A14,"") | N14: {=IFERROR(INDEX(M$2:M$210,SMALL(IF(M$2:M$210<>"",ROW(M$2:M$210)-1),ROW(E13))),"")} | O14: =IF($H14=O$1,$A14,"") | P14: {=IFERROR(INDEX(O$2:O$210,SMALL(IF(O$2:O$210<>"",ROW(O$2:O$210)-1),ROW(G13))),"")} | Q14: =IF($H14=Q$1,$A14,"") | R14: {=IFERROR(INDEX(Q$2:Q$210,SMALL(IF(Q$2:Q$210<>"",ROW(Q$2:Q$210)-1),ROW(I13))),"")}
A15: =B15&" "&C15 -> CALLENS Bruno | B15: CALLENS | C15: Bruno | D15: 0527613 S | E15: CLUB TULIPE NOIRE HAZEBROUCK | F15: 30/1 | G15: =IF(E15="","",VLOOKUP(E15,'Liste des clubs'!$A:$B,2,FALSE)) -> HAZEBRO | I15: =IF($H15=I$1,$A15,"") | J15: {=IFERROR(INDEX(I$2:I$210,SMALL(IF(I$2:I$210<>"",ROW(I$2:I$210)-1),ROW(A14))),"")} | K15: =IF($H15=K$1,$A15,"") | L15: {=IFERROR(INDEX(K$2:K$210,SMALL(IF(K$2:K$210<>"",ROW(K$2:K$210)-1),ROW(C14))),"")} | M15: =IF($H15=M$1,$A15,"") | N15: {=IFERROR(INDEX(M$2:M$210,SMALL(IF(M$2:M$210<>"",ROW(M$2:M$210)-1),ROW(E14))),"")} | O15: =IF($H15=O$1,$A15,"") | P15: {=IFERROR(INDEX(O$2:O$210,SMALL(IF(O$2:O$210<>"",ROW(O$2:O$210)-1),ROW(G14))),"")} | Q15: =IF($H15=Q$1,$A15,"") | R15: {=IFERROR(INDEX(Q$2:Q$210,SMALL(IF(Q$2:Q$210<>"",ROW(Q$2:Q$210)-1),ROW(I14))),"")}
A16: =B16&" "&C16 -> CAMERLYNCK Vincent | B16: CAMERLYNCK | C16: Vincent | D16: 7910775 T | E16: TC FLANDRE-LYS | F16: 30 | G16: =IF(E16="","",VLOOKUP(E16,'Liste des clubs'!$A:$B,2,FALSE)) -> FLAN LYS | I16: =IF($H16=I$1,$A16,"") | J16: {=IFERROR(INDEX(I$2:I$210,SMALL(IF(I$2:I$210<>"",ROW(I$2:I$210)-1),ROW(A15))),"")} | K16: =IF($H16=K$1,$A16,"") | L16: {=IFERROR(INDEX(K$2:K$210,SMALL(IF(K$2:K$210<>"",ROW(K$2:K$210)-1),ROW(C15))),"")} | M16: =IF($H16=M$1,$A16,"") | N16: {=IFERROR(INDEX(M$2:M$210,SMALL(IF(M$2:M$210<>"",ROW(M$2:M$210)-1),ROW(E15))),"")} | O16: =IF($H16=O$1,$A16,"") | P16: {=IFERROR(INDEX(O$2:O$210,SMALL(IF(O$2:O$210<>"",ROW(O$2:O$210)-1),ROW(G15))),"")} | Q16: =IF($H16=Q$1,$A16,"") | R16: {=IFERROR(INDEX(Q$2:Q$210,SMALL(IF(Q$2:Q$210<>"",ROW(Q$2:Q$210)-1),ROW(I15))),"")}
A17: =B17&" "&C17 -> CAMPAGNE Fabian | B17: CAMPAGNE | C17: Fabian | D17: 0293103 P | E17: AUBIERE TENNIS CLUB | F17: 30 | G17: =IF(E17="","",VLOOKUP(E17,'Liste des clubs'!$A:$B,2,FALSE)) -> AUBIERE | I17: =IF($H17=I$1,$A17,"") | J17: {=IFERROR(INDEX(I$2:I$210,SMALL(IF(I$2:I$210<>"",ROW(I$2:I$210)-1),ROW(A16))),"")} | K17: =IF($H17=K$1,$A17,"") | L17: {=IFERROR(INDEX(K$2:K$210,SMALL(IF(K$2:K$210<>"",ROW(K$2:K$210)-1),ROW(C16))),"")} | M17: =IF($H17=M$1,$A17,"") | N17: {=IFERROR(INDEX(M$2:M$210,SMALL(IF(M$2:M$210<>"",ROW(M$2:M$210)-1),ROW(E16))),"")} | O17: =IF($H17=O$1,$A17,"") | P17: {=IFERROR(INDEX(O$2:O$210,SMALL(IF(O$2:O$210<>"",ROW(O$2:O$210)-1),ROW(G16))),"")} | Q17: =IF($H17=Q$1,$A17,"") | R17: {=IFERROR(INDEX(Q$2:Q$210,SMALL(IF(Q$2:Q$210<>"",ROW(Q$2:Q$210)-1),ROW(I16))),"")}
A18: =B18&" "&C18 -> CAPRON Eric | B18: CAPRON | C18: Eric | D18: 3755633 J | E18: TC MERVILLE | F18: 30/1 | G18: =IF(E18="","",VLOOKUP(E18,'Liste des clubs'!$A:$B,2,FALSE)) -> MERVILL | I18: =IF($H18=I$1,$A18,"") | J18: {=IFERROR(INDEX(I$2:I$210,SMALL(IF(I$2:I$210<>"",ROW(I$2:I$210)-1),ROW(A17))),"")} | K18: =IF($H18=K$1,$A18,"") | L18: {=IFERROR(INDEX(K$2:K$210,SMALL(IF(K$2:K$210<>"",ROW(K$2:K$210)-1),ROW(C17))),"")} | M18: =IF($H18=M$1,$A18,"") | N18: {=IFERROR(INDEX(M$2:M$210,SMALL(IF(M$2:M$210<>"",ROW(M$2:M$210)-1),ROW(E17))),"")} | O18: =IF($H18=O$1,$A18,"") | P18: {=IFERROR(INDEX(O$2:O$210,SMALL(IF(O$2:O$210<>"",ROW(O$2:O$210)-1),ROW(G17))),"")} | Q18: =IF($H18=Q$1,$A18,"") | R18: {=IFERROR(INDEX(Q$2:Q$210,SMALL(IF(Q$2:Q$210<>"",ROW(Q$2:Q$210)-1),ROW(I17))),"")}
A19: =B19&" "&C19 -> CARETTE Nicolas | B19: CARETTE | C19: Nicolas | D19: 1538431 G | E19: CLUB TULIPE NOIRE HAZEBROUCK | F19: 30/2 | G19: =IF(E19="","",VLOOKUP(E19,'Liste des clubs'!$A:$B,2,FALSE)) -> HAZEBRO | I19: =IF($H19=I$1,$A19,"") | J19: {=IFERROR(INDEX(I$2:I$210,SMALL(IF(I$2:I$210<>"",ROW(I$2:I$210)-1),ROW(A18))),"")} | K19: =IF($H19=K$1,$A19,"") | L19: {=IFERROR(INDEX(K$2:K$210,SMALL(IF(K$2:K$210<>"",ROW(K$2:K$210)-1),ROW(C18))),"")} | M19: =IF($H19=M$1,$A19,"") | N19: {=IFERROR(INDEX(M$2:M$210,SMALL(IF(M$2:M$210<>"",ROW(M$2:M$210)-1),ROW(E18))),"")} | O19: =IF($H19=O$1,$A19,"") | P19: {=IFERROR(INDEX(O$2:O$210,SMALL(IF(O$2:O$210<>"",ROW(O$2:O$210)-1),ROW(G18))),"")} | Q19: =IF($H19=Q$1,$A19,"") | R19: {=IFERROR(INDEX(Q$2:Q$210,SMALL(IF(Q$2:Q$210<>"",ROW(Q$2:Q$210)-1),ROW(I18))),"")}
A20: =B20&" "&C20 -> CASTELAIN Pierre | B20: CASTELAIN | C20: Pierre | D20: 0685841 D | E20: CLUB TULIPE NOIRE HAZEBROUCK | F20: 30/4 | G20: =IF(E20="","",VLOOKUP(E20,'Liste des clubs'!$A:$B,2,FALSE)) -> HAZEBRO | I20: =IF($H20=I$1,$A20,"") | J20: {=IFERROR(INDEX(I$2:I$210,SMALL(IF(I$2:I$210<>"",ROW(I$2:I$210)-1),ROW(A19))),"")} | K20: =IF($H20=K$1,$A20,"") | L20: {=IFERROR(INDEX(K$2:K$210,SMALL(IF(K$2:K$210<>"",ROW(K$2:K$210)-1),ROW(C19))),"")} | M20: =IF($H20=M$1,$A20,"") | N20: {=IFERROR(INDEX(M$2:M$210,SMALL(IF(M$2:M$210<>"",ROW(M$2:M$210)-1),ROW(E19))),"")} | O20: =IF($H20=O$1,$A20,"") | P20: {=IFERROR(INDEX(O$2:O$210,SMALL(IF(O$2:O$210<>"",ROW(O$2:O$210)-1),ROW(G19))),"")} | Q20: =IF($H20=Q$1,$A20,"") | R20: {=IFERROR(INDEX(Q$2:Q$210,SMALL(IF(Q$2:Q$210<>"",ROW(Q$2:Q$210)-1),ROW(I19))),"")}
A21: =B21&" "&C21 -> CATTEAU Jérémy | B21: CATTEAU | C21: Jérémy | D21: 1347127 T | E21: TC AIRE-SUR-LA-LYS | F21: 30/4 | G21: =IF(E21="","",VLOOKUP(E21,'Liste des clubs'!$A:$B,2,FALSE)) -> AIRE/L | I21: =IF($H21=I$1,$A21,"") | J21: {=IFERROR(INDEX(I$2:I$210,SMALL(IF(I$2:I$210<>"",ROW(I$2:I$210)-1),ROW(A20))),"")} | K21: =IF($H21=K$1,$A21,"") | L21: {=IFERROR(INDEX(K$2:K$210,SMALL(IF(K$2:K$210<>"",ROW(K$2:K$210)-1),ROW(C20))),"")} | M21: =IF($H21=M$1,$A21,"") | N21: {=IFERROR(INDEX(M$2:M$210,SMALL(IF(M$2:M$210<>"",ROW(M$2:M$210)-1),ROW(E20))),"")} | O21: =IF($H21=O$1,$A21,"") | P21: {=IFERROR(INDEX(O$2:O$210,SMALL(IF(O$2:O$210<>"",ROW(O$2:O$210)-1),ROW(G20))),"")} | Q21: =IF($H21=Q$1,$A21,"") | R21: {=IFERROR(INDEX(Q$2:Q$210,SMALL(IF(Q$2:Q$210<>"",ROW(Q$2:Q$210)-1),ROW(I20))),"")}
A22: =B22&" "&C22 -> CAULIER Stéphane | B22: CAULIER | C22: Stéphane | D22: 1889724 X | E22: CLUB TULIPE NOIRE HAZEBROUCK | F22: 30/3 | G22: =IF(E22="","",VLOOKUP(E22,'Liste des clubs'!$A:$B,2,FALSE)) -> HAZEBRO | I22: =IF($H22=I$1,$A22,"") | J22: {=IFERROR(INDEX(I$2:I$210,SMALL(IF(I$2:I$210<>"",ROW(I$2:I$210)-1),ROW(A21))),"")} | K22: =IF($H22=K$1,$A22,"") | L22: {=IFERROR(INDEX(K$2:K$210,SMALL(IF(K$2:K$210<>"",ROW(K$2:K$210)-1),ROW(C21))),"")} | M22: =IF($H22=M$1,$A22,"") | N22: {=IFERROR(INDEX(M$2:M$210,SMALL(IF(M$2:M$210<>"",ROW(M$2:M$210)-1),ROW(E21))),"")} | O22: =IF($H22=O$1,$A22,"") | P22: {=IFERROR(INDEX(O$2:O$210,SMALL(IF(O$2:O$210<>"",ROW(O$2:O$210)-1),ROW(G21))),"")} | Q22: =IF($H22=Q$1,$A22,"") | R22: {=IFERROR(INDEX(Q$2:Q$210,SMALL(IF(Q$2:Q$210<>"",ROW(Q$2:Q$210)-1),ROW(I21))),"")}
... A137: =B137&" "&C137 -> ZEROUAL Abderrahmane | B137: ZEROUAL | C137: Abderrahmane | D137: 4419962 F | E137: CLUB TULIPE NOIRE HAZEBROUCK | F137: 30/4 | G137: =IF(E137="","",VLOOKUP(E137,'Liste des clubs'!$A:$B,2,FALSE)) -> HAZEBRO | I137: =IF($H137=I$1,$A137,"") | J137: {=IFERROR(INDEX(I$2:I$210,SMALL(IF(I$2:I$210<>"",ROW(I$2:I$210)-1),ROW(A136))),"")} | K137: =IF($H137=K$1,$A137,"") | L137: {=IFERROR(INDEX(K$2:K$210,SMALL(IF(K$2:K$210<>"",ROW(K$2:K$210)-1),ROW(C136))),"")} | M137: =IF($H137=M$1,$A137,"") | N137: {=IFERROR(INDEX(M$2:M$210,SMALL(IF(M$2:M$210<>"",ROW(M$2:M$210)-1),ROW(E136))),"")} | O137: =IF($H137=O$1,$A137,"") | P137: {=IFERROR(INDEX(O$2:O$210,SMALL(IF(O$2:O$210<>"",ROW(O$2:O$210)-1),ROW(G136))),"")} | Q137: =IF($H137=Q$1,$A137,"") | R137: {=IFERROR(INDEX(Q$2:Q$210,SMALL(IF(Q$2:Q$210<>"",ROW(Q$2:Q$210)-1),ROW(I136))),"")}
A138: =B138&" "&C138 | G138: =IF(E138="","",VLOOKUP(E138,'Liste des clubs'!$A:$B,2,FALSE)) | I138: =IF($H138=I$1,$A138,"") | J138: {=IFERROR(INDEX(I$2:I$210,SMALL(IF(I$2:I$210<>"",ROW(I$2:I$210)-1),ROW(A137))),"")} | K138: =IF($H138=K$1,$A138,"") | L138: {=IFERROR(INDEX(K$2:K$210,SMALL(IF(K$2:K$210<>"",ROW(K$2:K$210)-1),ROW(C137))),"")} | M138: =IF($H138=M$1,$A138,"") | N138: {=IFERROR(INDEX(M$2:M$210,SMALL(IF(M$2:M$210<>"",ROW(M$2:M$210)-1),ROW(E137))),"")} | O138: =IF($H138=O$1,$A138,"") | P138: {=IFERROR(INDEX(O$2:O$210,SMALL(IF(O$2:O$210<>"",ROW(O$2:O$210)-1),ROW(G137))),"")} | Q138: =IF($H138=Q$1,$A138,"") | R138: {=IFERROR(INDEX(Q$2:Q$210,SMALL(IF(Q$2:Q$210<>"",ROW(Q$2:Q$210)-1),ROW(I137))),"")}
A139: =B139&" "&C139 | G139: =IF(E139="","",VLOOKUP(E139,'Liste des clubs'!$A:$B,2,FALSE)) | I139: =IF($H139=I$1,$A139,"") | J139: {=IFERROR(INDEX(I$2:I$210,SMALL(IF(I$2:I$210<>"",ROW(I$2:I$210)-1),ROW(A138))),"")} | K139: =IF($H139=K$1,$A139,"") | L139: {=IFERROR(INDEX(K$2:K$210,SMALL(IF(K$2:K$210<>"",ROW(K$2:K$210)-1),ROW(C138))),"")} | M139: =IF($H139=M$1,$A139,"") | N139: {=IFERROR(INDEX(M$2:M$210,SMALL(IF(M$2:M$210<>"",ROW(M$2:M$210)-1),ROW(E138))),"")} | O139: =IF($H139=O$1,$A139,"") | P139: {=IFERROR(INDEX(O$2:O$210,SMALL(IF(O$2:O$210<>"",ROW(O$2:O$210)-1),ROW(G138))),"")} | Q139: =IF($H139=Q$1,$A139,"") | R139: {=IFERROR(INDEX(Q$2:Q$210,SMALL(IF(Q$2:Q$210<>"",ROW(Q$2:Q$210)-1),ROW(I138))),"")}
A140: =B140&" "&C140 | G140: =IF(E140="","",VLOOKUP(E140,'Liste des clubs'!$A:$B,2,FALSE)) | I140: =IF($H140=I$1,$A140,"") | J140: {=IFERROR(INDEX(I$2:I$210,SMALL(IF(I$2:I$210<>"",ROW(I$2:I$210)-1),ROW(A139))),"")} | K140: =IF($H140=K$1,$A140,"") | L140: {=IFERROR(INDEX(K$2:K$210,SMALL(IF(K$2:K$210<>"",ROW(K$2:K$210)-1),ROW(C139))),"")} | M140: =IF($H140=M$1,$A140,"") | N140: {=IFERROR(INDEX(M$2:M$210,SMALL(IF(M$2:M$210<>"",ROW(M$2:M$210)-1),ROW(E139))),"")} | O140: =IF($H140=O$1,$A140,"") | P140: {=IFERROR(INDEX(O$2:O$210,SMALL(IF(O$2:O$210<>"",ROW(O$2:O$210)-1),ROW(G139))),"")} | Q140: =IF($H140=Q$1,$A140,"") | R140: {=IFERROR(INDEX(Q$2:Q$210,SMALL(IF(Q$2:Q$210<>"",ROW(Q$2:Q$210)-1),ROW(I139))),"")}
A141: =B141&" "&C141 | G141: =IF(E141="","",VLOOKUP(E141,'Liste des clubs'!$A:$B,2,FALSE)) | I141: =IF($H141=I$1,$A141,"") | J141: {=IFERROR(INDEX(I$2:I$210,SMALL(IF(I$2:I$210<>"",ROW(I$2:I$210)-1),ROW(A140))),"")} | K141: =IF($H141=K$1,$A141,"") | L141: {=IFERROR(INDEX(K$2:K$210,SMALL(IF(K$2:K$210<>"",ROW(K$2:K$210)-1),ROW(C140))),"")} | M141: =IF($H141=M$1,$A141,"") | N141: {=IFERROR(INDEX(M$2:M$210,SMALL(IF(M$2:M$210<>"",ROW(M$2:M$210)-1),ROW(E140))),"")} | O141: =IF($H141=O$1,$A141,"") | P141: {=IFERROR(INDEX(O$2:O$210,SMALL(IF(O$2:O$210<>"",ROW(O$2:O$210)-1),ROW(G140))),"")} | Q141: =IF($H141=Q$1,$A141,"") | R141: {=IFERROR(INDEX(Q$2:Q$210,SMALL(IF(Q$2:Q$210<>"",ROW(Q$2:Q$210)-1),ROW(I140))),"")}
A142: =B142&" "&C142 | G142: =IF(E142="","",VLOOKUP(E142,'Liste des clubs'!$A:$B,2,FALSE)) | I142: =IF($H142=I$1,$A142,"") | J142: {=IFERROR(INDEX(I$2:I$210,SMALL(IF(I$2:I$210<>"",ROW(I$2:I$210)-1),ROW(A141))),"")} | K142: =IF($H142=K$1,$A142,"") | L142: {=IFERROR(INDEX(K$2:K$210,SMALL(IF(K$2:K$210<>"",ROW(K$2:K$210)-1),ROW(C141))),"")} | M142: =IF($H142=M$1,$A142,"") | N142: {=IFERROR(INDEX(M$2:M$210,SMALL(IF(M$2:M$210<>"",ROW(M$2:M$210)-1),ROW(E141))),"")} | O142: =IF($H142=O$1,$A142,"") | P142: {=IFERROR(INDEX(O$2:O$210,SMALL(IF(O$2:O$210<>"",ROW(O$2:O$210)-1),ROW(G141))),"")} | Q142: =IF($H142=Q$1,$A142,"") | R142: {=IFERROR(INDEX(Q$2:Q$210,SMALL(IF(Q$2:Q$210<>"",ROW(Q$2:Q$210)-1),ROW(I141))),"")}
A143: =B143&" "&C143 | G143: =IF(E143="","",VLOOKUP(E143,'Liste des clubs'!$A:$B,2,FALSE)) | I143: =IF($H143=I$1,$A143,"") | J143: {=IFERROR(INDEX(I$2:I$210,SMALL(IF(I$2:I$210<>"",ROW(I$2:I$210)-1),ROW(A142))),"")} | K143: =IF($H143=K$1,$A143,"") | L143: {=IFERROR(INDEX(K$2:K$210,SMALL(IF(K$2:K$210<>"",ROW(K$2:K$210)-1),ROW(C142))),"")} | M143: =IF($H143=M$1,$A143,"") | N143: {=IFERROR(INDEX(M$2:M$210,SMALL(IF(M$2:M$210<>"",ROW(M$2:M$210)-1),ROW(E142))),"")} | O143: =IF($H143=O$1,$A143,"") | P143: {=IFERROR(INDEX(O$2:O$210,SMALL(IF(O$2:O$210<>"",ROW(O$2:O$210)-1),ROW(G142))),"")} | Q143: =IF($H143=Q$1,$A143,"") | R143: {=IFERROR(INDEX(Q$2:Q$210,SMALL(IF(Q$2:Q$210<>"",ROW(Q$2:Q$210)-1),ROW(I142))),"")}
A144: =B144&" "&C144 | G144: =IF(E144="","",VLOOKUP(E144,'Liste des clubs'!$A:$B,2,FALSE)) | I144: =IF($H144=I$1,$A144,"") | J144: {=IFERROR(INDEX(I$2:I$210,SMALL(IF(I$2:I$210<>"",ROW(I$2:I$210)-1),ROW(A143))),"")} | K144: =IF($H144=K$1,$A144,"") | L144: {=IFERROR(INDEX(K$2:K$210,SMALL(IF(K$2:K$210<>"",ROW(K$2:K$210)-1),ROW(C143))),"")} | M144: =IF($H144=M$1,$A144,"") | N144: {=IFERROR(INDEX(M$2:M$210,SMALL(IF(M$2:M$210<>"",ROW(M$2:M$210)-1),ROW(E143))),"")} | O144: =IF($H144=O$1,$A144,"") | P144: {=IFERROR(INDEX(O$2:O$210,SMALL(IF(O$2:O$210<>"",ROW(O$2:O$210)-1),ROW(G143))),"")} | Q144: =IF($H144=Q$1,$A144,"") | R144: {=IFERROR(INDEX(Q$2:Q$210,SMALL(IF(Q$2:Q$210<>"",ROW(Q$2:Q$210)-1),ROW(I143))),"")}
G145: =IF(E145="","",VLOOKUP(E145,'Liste des clubs'!$A:$B,2,FALSE)) | I145: =IF($H145=I$1,$A145,"") | J145: {=IFERROR(INDEX(I$2:I$210,SMALL(IF(I$2:I$210<>"",ROW(I$2:I$210)-1),ROW(A144))),"")} | K145: =IF($H145=K$1,$A145,"") | L145: {=IFERROR(INDEX(K$2:K$210,SMALL(IF(K$2:K$210<>"",ROW(K$2:K$210)-1),ROW(C144))),"")} | M145: =IF($H145=M$1,$A145,"") | N145: {=IFERROR(INDEX(M$2:M$210,SMALL(IF(M$2:M$210<>"",ROW(M$2:M$210)-1),ROW(E144))),"")} | O145: =IF($H145=O$1,$A145,"") | P145: {=IFERROR(INDEX(O$2:O$210,SMALL(IF(O$2:O$210<>"",ROW(O$2:O$210)-1),ROW(G144))),"")} | Q145: =IF($H145=Q$1,$A145,"") | R145: {=IFERROR(INDEX(Q$2:Q$210,SMALL(IF(Q$2:Q$210<>"",ROW(Q$2:Q$210)-1),ROW(I144))),"")}
G146: =IF(E146="","",VLOOKUP(E146,'Liste des clubs'!$A:$B,2,FALSE)) | I146: =IF($H146=I$1,$A146,"") | J146: {=IFERROR(INDEX(I$2:I$210,SMALL(IF(I$2:I$210<>"",ROW(I$2:I$210)-1),ROW(A145))),"")} | K146: =IF($H146=K$1,$A146,"") | L146: {=IFERROR(INDEX(K$2:K$210,SMALL(IF(K$2:K$210<>"",ROW(K$2:K$210)-1),ROW(C145))),"")} | M146: =IF($H146=M$1,$A146,"") | N146: {=IFERROR(INDEX(M$2:M$210,SMALL(IF(M$2:M$210<>"",ROW(M$2:M$210)-1),ROW(E145))),"")} | O146: =IF($H146=O$1,$A146,"") | P146: {=IFERROR(INDEX(O$2:O$210,SMALL(IF(O$2:O$210<>"",ROW(O$2:O$210)-1),ROW(G145))),"")} | Q146: =IF($H146=Q$1,$A146,"") | R146: {=IFERROR(INDEX(Q$2:Q$210,SMALL(IF(Q$2:Q$210<>"",ROW(Q$2:Q$210)-1),ROW(I145))),"")}
G147: =IF(E147="","",VLOOKUP(E147,'Liste des clubs'!$A:$B,2,FALSE)) | I147: =IF($H147=I$1,$A147,"") | J147: {=IFERROR(INDEX(I$2:I$210,SMALL(IF(I$2:I$210<>"",ROW(I$2:I$210)-1),ROW(A146))),"")} | K147: =IF($H147=K$1,$A147,"") | L147: {=IFERROR(INDEX(K$2:K$210,SMALL(IF(K$2:K$210<>"",ROW(K$2:K$210)-1),ROW(C146))),"")} | M147: =IF($H147=M$1,$A147,"") | N147: {=IFERROR(INDEX(M$2:M$210,SMALL(IF(M$2:M$210<>"",ROW(M$2:M$210)-1),ROW(E146))),"")} | O147: =IF($H147=O$1,$A147,"") | P147: {=IFERROR(INDEX(O$2:O$210,SMALL(IF(O$2:O$210<>"",ROW(O$2:O$210)-1),ROW(G146))),"")} | Q147: =IF($H147=Q$1,$A147,"") | R147: {=IFERROR(INDEX(Q$2:Q$210,SMALL(IF(Q$2:Q$210<>"",ROW(Q$2:Q$210)-1),ROW(I146))),"")}
G148: =IF(E148="","",VLOOKUP(E148,'Liste des clubs'!$A:$B,2,FALSE)) | I148: =IF($H148=I$1,$A148,"") | J148: {=IFERROR(INDEX(I$2:I$210,SMALL(IF(I$2:I$210<>"",ROW(I$2:I$210)-1),ROW(A147))),"")} | K148: =IF($H148=K$1,$A148,"") | L148: {=IFERROR(INDEX(K$2:K$210,SMALL(IF(K$2:K$210<>"",ROW(K$2:K$210)-1),ROW(C147))),"")} | M148: =IF($H148=M$1,$A148,"") | N148: {=IFERROR(INDEX(M$2:M$210,SMALL(IF(M$2:M$210<>"",ROW(M$2:M$210)-1),ROW(E147))),"")} | O148: =IF($H148=O$1,$A148,"") | P148: {=IFERROR(INDEX(O$2:O$210,SMALL(IF(O$2:O$210<>"",ROW(O$2:O$210)-1),ROW(G147))),"")} | Q148: =IF($H148=Q$1,$A148,"") | R148: {=IFERROR(INDEX(Q$2:Q$210,SMALL(IF(Q$2:Q$210<>"",ROW(Q$2:Q$210)-1),ROW(I147))),"")}
G149: =IF(E149="","",VLOOKUP(E149,'Liste des clubs'!$A:$B,2,FALSE)) | I149: =IF($H149=I$1,$A149,"") | J149: {=IFERROR(INDEX(I$2:I$210,SMALL(IF(I$2:I$210<>"",ROW(I$2:I$210)-1),ROW(A148))),"")} | K149: =IF($H149=K$1,$A149,"") | L149: {=IFERROR(INDEX(K$2:K$210,SMALL(IF(K$2:K$210<>"",ROW(K$2:K$210)-1),ROW(C148))),"")} | M149: =IF($H149=M$1,$A149,"") | N149: {=IFERROR(INDEX(M$2:M$210,SMALL(IF(M$2:M$210<>"",ROW(M$2:M$210)-1),ROW(E148))),"")} | O149: =IF($H149=O$1,$A149,"") | P149: {=IFERROR(INDEX(O$2:O$210,SMALL(IF(O$2:O$210<>"",ROW(O$2:O$210)-1),ROW(G148))),"")} | Q149: =IF($H149=Q$1,$A149,"") | R149: {=IFERROR(INDEX(Q$2:Q$210,SMALL(IF(Q$2:Q$210<>"",ROW(Q$2:Q$210)-1),ROW(I148))),"")}
G150: =IF(E150="","",VLOOKUP(E150,'Liste des clubs'!$A:$B,2,FALSE)) | I150: =IF($H150=I$1,$A150,"") | J150: {=IFERROR(INDEX(I$2:I$210,SMALL(IF(I$2:I$210<>"",ROW(I$2:I$210)-1),ROW(A149))),"")} | K150: =IF($H150=K$1,$A150,"") | L150: {=IFERROR(INDEX(K$2:K$210,SMALL(IF(K$2:K$210<>"",ROW(K$2:K$210)-1),ROW(C149))),"")} | M150: =IF($H150=M$1,$A150,"") | N150: {=IFERROR(INDEX(M$2:M$210,SMALL(IF(M$2:M$210<>"",ROW(M$2:M$210)-1),ROW(E149))),"")} | O150: =IF($H150=O$1,$A150,"") | P150: {=IFERROR(INDEX(O$2:O$210,SMALL(IF(O$2:O$210<>"",ROW(O$2:O$210)-1),ROW(G149))),"")} | Q150: =IF($H150=Q$1,$A150,"") | R150: {=IFERROR(INDEX(Q$2:Q$210,SMALL(IF(Q$2:Q$210<>"",ROW(Q$2:Q$210)-1),ROW(I149))),"")}
G151: =IF(E151="","",VLOOKUP(E151,'Liste des clubs'!$A:$B,2,FALSE)) | I151: =IF($H151=I$1,$A151,"") | J151: {=IFERROR(INDEX(I$2:I$210,SMALL(IF(I$2:I$210<>"",ROW(I$2:I$210)-1),ROW(A150))),"")} | K151: =IF($H151=K$1,$A151,"") | L151: {=IFERROR(INDEX(K$2:K$210,SMALL(IF(K$2:K$210<>"",ROW(K$2:K$210)-1),ROW(C150))),"")} | M151: =IF($H151=M$1,$A151,"") | N151: {=IFERROR(INDEX(M$2:M$210,SMALL(IF(M$2:M$210<>"",ROW(M$2:M$210)-1),ROW(E150))),"")} | O151: =IF($H151=O$1,$A151,"") | P151: {=IFERROR(INDEX(O$2:O$210,SMALL(IF(O$2:O$210<>"",ROW(O$2:O$210)-1),ROW(G150))),"")} | Q151: =IF($H151=Q$1,$A151,"") | R151: {=IFERROR(INDEX(Q$2:Q$210,SMALL(IF(Q$2:Q$210<>"",ROW(Q$2:Q$210)-1),ROW(I150))),"")}
G152: =IF(E152="","",VLOOKUP(E152,'Liste des clubs'!$A:$B,2,FALSE)) | I152: =IF($H152=I$1,$A152,"") | J152: {=IFERROR(INDEX(I$2:I$210,SMALL(IF(I$2:I$210<>"",ROW(I$2:I$210)-1),ROW(A151))),"")} | K152: =IF($H152=K$1,$A152,"") | L152: {=IFERROR(INDEX(K$2:K$210,SMALL(IF(K$2:K$210<>"",ROW(K$2:K$210)-1),ROW(C151))),"")} | M152: =IF($H152=M$1,$A152,"") | N152: {=IFERROR(INDEX(M$2:M$210,SMALL(IF(M$2:M$210<>"",ROW(M$2:M$210)-1),ROW(E151))),"")} | O152: =IF($H152=O$1,$A152,"") | P152: {=IFERROR(INDEX(O$2:O$210,SMALL(IF(O$2:O$210<>"",ROW(O$2:O$210)-1),ROW(G151))),"")} | Q152: =IF($H152=Q$1,$A152,"") | R152: {=IFERROR(INDEX(Q$2:Q$210,SMALL(IF(Q$2:Q$210<>"",ROW(Q$2:Q$210)-1),ROW(I151))),"")}
G153: =IF(E153="","",VLOOKUP(E153,'Liste des clubs'!$A:$B,2,FALSE)) | I153: =IF($H153=I$1,$A153,"") | J153: {=IFERROR(INDEX(I$2:I$210,SMALL(IF(I$2:I$210<>"",ROW(I$2:I$210)-1),ROW(A152))),"")} | K153: =IF($H153=K$1,$A153,"") | L153: {=IFERROR(INDEX(K$2:K$210,SMALL(IF(K$2:K$210<>"",ROW(K$2:K$210)-1),ROW(C152))),"")} | M153: =IF($H153=M$1,$A153,"") | N153: {=IFERROR(INDEX(M$2:M$210,SMALL(IF(M$2:M$210<>"",ROW(M$2:M$210)-1),ROW(E152))),"")} | O153: =IF($H153=O$1,$A153,"") | P153: {=IFERROR(INDEX(O$2:O$210,SMALL(IF(O$2:O$210<>"",ROW(O$2:O$210)-1),ROW(G152))),"")} | Q153: =IF($H153=Q$1,$A153,"") | R153: {=IFERROR(INDEX(Q$2:Q$210,SMALL(IF(Q$2:Q$210<>"",ROW(Q$2:Q$210)-1),ROW(I152))),"")}
G154: =IF(E154="","",VLOOKUP(E154,'Liste des clubs'!$A:$B,2,FALSE)) | I154: =IF($H154=I$1,$A154,"") | J154: {=IFERROR(INDEX(I$2:I$210,SMALL(IF(I$2:I$210<>"",ROW(I$2:I$210)-1),ROW(A153))),"")} | K154: =IF($H154=K$1,$A154,"") | L154: {=IFERROR(INDEX(K$2:K$210,SMALL(IF(K$2:K$210<>"",ROW(K$2:K$210)-1),ROW(C153))),"")} | M154: =IF($H154=M$1,$A154,"") | N154: {=IFERROR(INDEX(M$2:M$210,SMALL(IF(M$2:M$210<>"",ROW(M$2:M$210)-1),ROW(E153))),"")} | O154: =IF($H154=O$1,$A154,"") | P154: {=IFERROR(INDEX(O$2:O$210,SMALL(IF(O$2:O$210<>"",ROW(O$2:O$210)-1),ROW(G153))),"")} | Q154: =IF($H154=Q$1,$A154,"") | R154: {=IFERROR(INDEX(Q$2:Q$210,SMALL(IF(Q$2:Q$210<>"",ROW(Q$2:Q$210)-1),ROW(I153))),"")}
...

Sheet Dames
A1: Nom prénom | B1: Nom | C1: Prénom | D1: Licence | E1: Code Club | F1: classt | G1: Club | H1: Tableau supplémentaire | I1: CS F 30/3 | K1: CS F 30/1 | M1: FT NC F | O1: FT4 F | Q1: FT3 F
A2: =B2&" "&C2 -> ALECSANDRE Angèle | B2: ALECSANDRE | C2: Angèle | D2: 0204944 P | E2: CLUB TULIPE NOIRE HAZEBROUCK | F2: 30/3 | G2: =IF(E2="","",VLOOKUP(E2,'Liste des clubs'!$A:$B,2,FALSE)) -> HAZEBRO | H2: CS F 30/3 | I2: =IF($H2=I$1,$A2,"") -> ALECSANDRE Angèle | J2: {=IFERROR(INDEX(I$2:I$210,SMALL(IF(I$2:I$210<>"",ROW(I$2:I$210)-1),ROW(A1))),"")} -> ALECSANDRE Angèle | K2: =IF($H2=K$1,$A2,"") | L2: {=IFERROR(INDEX(K$2:K$210,SMALL(IF(K$2:K$210<>"",ROW(K$2:K$210)-1),ROW(C1))),"")} -> AVEZ Béatrice | M2: =IF($H2=M$1,$A2,"") | N2: {=IFERROR(INDEX(M$2:M$210,SMALL(IF(M$2:M$210<>"",ROW(M$2:M$210)-1),ROW(E1))),"")} -> BONAMI Sarah | O2: =IF($H2=O$1,$A2,"") | P2: {=IFERROR(INDEX(O$2:O$210,SMALL(IF(O$2:O$210<>"",ROW(O$2:O$210)-1),ROW(G1))),"")} -> BOULINGUIEZ Camille | Q2: =IF($H2=Q$1,$A2,"") | R2: {=IFERROR(INDEX(Q$2:Q$210,SMALL(IF(Q$2:Q$210<>"",ROW(Q$2:Q$210)-1),ROW(I1))),"")} -> DUDZIK Faustine | S2: CS F 30/3
A3: =B3&" "&C3 -> AVEZ Béatrice | B3: AVEZ | C3: Béatrice | D3: 1077272 X | E3: CLUB TULIPE NOIRE HAZEBROUCK | F3: 30/4 | G3: =IF(E3="","",VLOOKUP(E3,'Liste des clubs'!$A:$B,2,FALSE)) -> HAZEBRO | H3: CS F 30/1 | I3: =IF($H3=I$1,$A3,"") | J3: {=IFERROR(INDEX(I$2:I$210,SMALL(IF(I$2:I$210<>"",ROW(I$2:I$210)-1),ROW(A2))),"")} -> BOUSSEKEY Claudine | K3: =IF($H3=K$1,$A3,"") -> AVEZ Béatrice | L3: {=IFERROR(INDEX(K$2:K$210,SMALL(IF(K$2:K$210<>"",ROW(K$2:K$210)-1),ROW(C2))),"")} -> BRYGO Clotilde | M3: =IF($H3=M$1,$A3,"") | N3: {=IFERROR(INDEX(M$2:M$210,SMALL(IF(M$2:M$210<>"",ROW(M$2:M$210)-1),ROW(E2))),"")} -> CAULIER CLEMENCE | O3: =IF($H3=O$1,$A3,"") | P3: {=IFERROR(INDEX(O$2:O$210,SMALL(IF(O$2:O$210<>"",ROW(O$2:O$210)-1),ROW(G2))),"")} -> DELPIERRE Ludivine | Q3: =IF($H3=Q$1,$A3,"") | R3: {=IFERROR(INDEX(Q$2:Q$210,SMALL(IF(Q$2:Q$210<>"",ROW(Q$2:Q$210)-1),ROW(I2))),"")} -> EVRARD Valentine | S3: CS F 30/1
A4: =B4&" "&C4 -> BONAMI Sarah | B4: BONAMI | C4: Sarah | D4: 8276486 E | E4: TC RONCQ | F4: 4/6 | G4: =IF(E4="","",VLOOKUP(E4,'Liste des clubs'!$A:$B,2,FALSE)) -> RONCQ | H4: FT NC F | I4: =IF($H4=I$1,$A4,"") | J4: {=IFERROR(INDEX(I$2:I$210,SMALL(IF(I$2:I$210<>"",ROW(I$2:I$210)-1),ROW(A3))),"")} | K4: =IF($H4=K$1,$A4,"") | L4: {=IFERROR(INDEX(K$2:K$210,SMALL(IF(K$2:K$210<>"",ROW(K$2:K$210)-1),ROW(C3))),"")} | M4: =IF($H4=M$1,$A4,"") -> BONAMI Sarah | N4: {=IFERROR(INDEX(M$2:M$210,SMALL(IF(M$2:M$210<>"",ROW(M$2:M$210)-1),ROW(E3))),"")} | O4: =IF($H4=O$1,$A4,"") | P4: {=IFERROR(INDEX(O$2:O$210,SMALL(IF(O$2:O$210<>"",ROW(O$2:O$210)-1),ROW(G3))),"")} | Q4: =IF($H4=Q$1,$A4,"") | R4: {=IFERROR(INDEX(Q$2:Q$210,SMALL(IF(Q$2:Q$210<>"",ROW(Q$2:Q$210)-1),ROW(I3))),"")} | S4: FT NC F
A5: =B5&" "&C5 -> BOULINGUIEZ Camille | B5: BOULINGUIEZ | C5: Camille | D5: 1139132 L | E5: TC MERVILLE | F5: 15/5 | G5: =IF(E5="","",VLOOKUP(E5,'Liste des clubs'!$A:$B,2,FALSE)) -> MERVILL | H5: FT4 F | I5: =IF($H5=I$1,$A5,"") | J5: {=IFERROR(INDEX(I$2:I$210,SMALL(IF(I$2:I$210<>"",ROW(I$2:I$210)-1),ROW(A4))),"")} | K5: =IF($H5=K$1,$A5,"") | L5: {=IFERROR(INDEX(K$2:K$210,SMALL(IF(K$2:K$210<>"",ROW(K$2:K$210)-1),ROW(C4))),"")} | M5: =IF($H5=M$1,$A5,"") | N5: {=IFERROR(INDEX(M$2:M$210,SMALL(IF(M$2:M$210<>"",ROW(M$2:M$210)-1),ROW(E4))),"")} | O5: =IF($H5=O$1,$A5,"") -> BOULINGUIEZ Camille | P5: {=IFERROR(INDEX(O$2:O$210,SMALL(IF(O$2:O$210<>"",ROW(O$2:O$210)-1),ROW(G4))),"")} | Q5: =IF($H5=Q$1,$A5,"") | R5: {=IFERROR(INDEX(Q$2:Q$210,SMALL(IF(Q$2:Q$210<>"",ROW(Q$2:Q$210)-1),ROW(I4))),"")} | S5: FT4 F
A6: =B6&" "&C6 -> BOUSSEKEY Claudine | B6: BOUSSEKEY | C6: Claudine | D6: 3157101 F | E6: CLUB TULIPE NOIRE HAZEBROUCK | F6: 30/4 | G6: =IF(E6="","",VLOOKUP(E6,'Liste des clubs'!$A:$B,2,FALSE)) -> HAZEBRO | H6: CS F 30/3 | I6: =IF($H6=I$1,$A6,"") -> BOUSSEKEY Claudine | J6: {=IFERROR(INDEX(I$2:I$210,SMALL(IF(I$2:I$210<>"",ROW(I$2:I$210)-1),ROW(A5))),"")} | K6: =IF($H6=K$1,$A6,"") | L6: {=IFERROR(INDEX(K$2:K$210,SMALL(IF(K$2:K$210<>"",ROW(K$2:K$210)-1),ROW(C5))),"")} | M6: =IF($H6=M$1,$A6,"") | N6: {=IFERROR(INDEX(M$2:M$210,SMALL(IF(M$2:M$210<>"",ROW(M$2:M$210)-1),ROW(E5))),"")} | O6: =IF($H6=O$1,$A6,"") | P6: {=IFERROR(INDEX(O$2:O$210,SMALL(IF(O$2:O$210<>"",ROW(O$2:O$210)-1),ROW(G5))),"")} | Q6: =IF($H6=Q$1,$A6,"") | R6: {=IFERROR(INDEX(Q$2:Q$210,SMALL(IF(Q$2:Q$210<>"",ROW(Q$2:Q$210)-1),ROW(I5))),"")} | S6: FT3 F
A7: =B7&" "&C7 -> BRYGO Clotilde | B7: BRYGO | C7: Clotilde | D7: 0758847 H | E7: CLUB TULIPE NOIRE HAZEBROUCK | F7: 30/2 | G7: =IF(E7="","",VLOOKUP(E7,'Liste des clubs'!$A:$B,2,FALSE)) -> HAZEBRO | H7: CS F 30/1 | I7: =IF($H7=I$1,$A7,"") | J7: {=IFERROR(INDEX(I$2:I$210,SMALL(IF(I$2:I$210<>"",ROW(I$2:I$210)-1),ROW(A6))),"")} | K7: =IF($H7=K$1,$A7,"") -> BRYGO Clotilde | L7: {=IFERROR(INDEX(K$2:K$210,SMALL(IF(K$2:K$210<>"",ROW(K$2:K$210)-1),ROW(C6))),"")} | M7: =IF($H7=M$1,$A7,"") | N7: {=IFERROR(INDEX(M$2:M$210,SMALL(IF(M$2:M$210<>"",ROW(M$2:M$210)-1),ROW(E6))),"")} | O7: =IF($H7=O$1,$A7,"") | P7: {=IFERROR(INDEX(O$2:O$210,SMALL(IF(O$2:O$210<>"",ROW(O$2:O$210)-1),ROW(G6))),"")} | Q7: =IF($H7=Q$1,$A7,"") | R7: {=IFERROR(INDEX(Q$2:Q$210,SMALL(IF(Q$2:Q$210<>"",ROW(Q$2:Q$210)-1),ROW(I6))),"")}
A8: =B8&" "&C8 -> CAULIER CLEMENCE | B8: CAULIER | C8: CLEMENCE | D8: 8790815 H | E8: CLUB TULIPE NOIRE HAZEBROUCK | F8: 30/1 | G8: =IF(E8="","",VLOOKUP(E8,'Liste des clubs'!$A:$B,2,FALSE)) -> HAZEBRO | H8: FT NC F | I8: =IF($H8=I$1,$A8,"") | J8: {=IFERROR(INDEX(I$2:I$210,SMALL(IF(I$2:I$210<>"",ROW(I$2:I$210)-1),ROW(A7))),"")} | K8: =IF($H8=K$1,$A8,"") | L8: {=IFERROR(INDEX(K$2:K$210,SMALL(IF(K$2:K$210<>"",ROW(K$2:K$210)-1),ROW(C7))),"")} | M8: =IF($H8=M$1,$A8,"") -> CAULIER CLEMENCE | N8: {=IFERROR(INDEX(M$2:M$210,SMALL(IF(M$2:M$210<>"",ROW(M$2:M$210)-1),ROW(E7))),"")} | O8: =IF($H8=O$1,$A8,"") | P8: {=IFERROR(INDEX(O$2:O$210,SMALL(IF(O$2:O$210<>"",ROW(O$2:O$210)-1),ROW(G7))),"")} | Q8: =IF($H8=Q$1,$A8,"") | R8: {=IFERROR(INDEX(Q$2:Q$210,SMALL(IF(Q$2:Q$210<>"",ROW(Q$2:Q$210)-1),ROW(I7))),"")}
A9: =B9&" "&C9 -> DELPIERRE Ludivine | B9: DELPIERRE | C9: Ludivine | D9: 0224235 H | E9: TC MERVILLE | F9: 15/3 | G9: =IF(E9="","",VLOOKUP(E9,'Liste des clubs'!$A:$B,2,FALSE)) -> MERVILL | H9: FT4 F | I9: =IF($H9=I$1,$A9,"") | J9: {=IFERROR(INDEX(I$2:I$210,SMALL(IF(I$2:I$210<>"",ROW(I$2:I$210)-1),ROW(A8))),"")} | K9: =IF($H9=K$1,$A9,"") | L9: {=IFERROR(INDEX(K$2:K$210,SMALL(IF(K$2:K$210<>"",ROW(K$2:K$210)-1),ROW(C8))),"")} | M9: =IF($H9=M$1,$A9,"") | N9: {=IFERROR(INDEX(M$2:M$210,SMALL(IF(M$2:M$210<>"",ROW(M$2:M$210)-1),ROW(E8))),"")} | O9: =IF($H9=O$1,$A9,"") -> DELPIERRE Ludivine | P9: {=IFERROR(INDEX(O$2:O$210,SMALL(IF(O$2:O$210<>"",ROW(O$2:O$210)-1),ROW(G8))),"")} | Q9: =IF($H9=Q$1,$A9,"") | R9: {=IFERROR(INDEX(Q$2:Q$210,SMALL(IF(Q$2:Q$210<>"",ROW(Q$2:Q$210)-1),ROW(I8))),"")}
A10: =B10&" "&C10 -> DUDZIK Faustine | B10: DUDZIK | C10: Faustine | D10: 2395879 R | E10: TC LESTREM | F10: 30/1 | G10: =IF(E10="","",VLOOKUP(E10,'Liste des clubs'!$A:$B,2,FALSE)) -> LESTREM | H10: FT3 F | I10: =IF($H10=I$1,$A10,"") | J10: {=IFERROR(INDEX(I$2:I$210,SMALL(IF(I$2:I$210<>"",ROW(I$2:I$210)-1),ROW(A9))),"")} | K10: =IF($H10=K$1,$A10,"") | L10: {=IFERROR(INDEX(K$2:K$210,SMALL(IF(K$2:K$210<>"",ROW(K$2:K$210)-1),ROW(C9))),"")} | M10: =IF($H10=M$1,$A10,"") | N10: {=IFERROR(INDEX(M$2:M$210,SMALL(IF(M$2:M$210<>"",ROW(M$2:M$210)-1),ROW(E9))),"")} | O10: =IF($H10=O$1,$A10,"") | P10: {=IFERROR(INDEX(O$2:O$210,SMALL(IF(O$2:O$210<>"",ROW(O$2:O$210)-1),ROW(G9))),"")} | Q10: =IF($H10=Q$1,$A10,"") -> DUDZIK Faustine | R10: {=IFERROR(INDEX(Q$2:Q$210,SMALL(IF(Q$2:Q$210<>"",ROW(Q$2:Q$210)-1),ROW(I9))),"")}
A11: =B11&" "&C11 -> EVRARD Valentine | B11: EVRARD | C11: Valentine | D11: 1132763 N | E11: CLUB TULIPE NOIRE HAZEBROUCK | F11: 40 | G11: =IF(E11="","",VLOOKUP(E11,'Liste des clubs'!$A:$B,2,FALSE)) -> HAZEBRO | H11: FT3 F | I11: =IF($H11=I$1,$A11,"") | J11: {=IFERROR(INDEX(I$2:I$210,SMALL(IF(I$2:I$210<>"",ROW(I$2:I$210)-1),ROW(A10))),"")} | K11: =IF($H11=K$1,$A11,"") | L11: {=IFERROR(INDEX(K$2:K$210,SMALL(IF(K$2:K$210<>"",ROW(K$2:K$210)-1),ROW(C10))),"")} | M11: =IF($H11=M$1,$A11,"") | N11: {=IFERROR(INDEX(M$2:M$210,SMALL(IF(M$2:M$210<>"",ROW(M$2:M$210)-1),ROW(E10))),"")} | O11: =IF($H11=O$1,$A11,"") | P11: {=IFERROR(INDEX(O$2:O$210,SMALL(IF(O$2:O$210<>"",ROW(O$2:O$210)-1),ROW(G10))),"")} | Q11: =IF($H11=Q$1,$A11,"") -> EVRARD Valentine | R11: {=IFERROR(INDEX(Q$2:Q$210,SMALL(IF(Q$2:Q$210<>"",ROW(Q$2:Q$210)-1),ROW(I10))),"")}
A12: =B12&" "&C12 -> JANOSZKA Christine | B12: JANOSZKA | C12: Christine | D12: 7122550 B | E12: TC LIEVIN | F12: 15/3 | G12: =IF(E12="","",VLOOKUP(E12,'Liste des clubs'!$A:$B,2,FALSE)) -> #N/A | I12: =IF($H12=I$1,$A12,"") | J12: {=IFERROR(INDEX(I$2:I$210,SMALL(IF(I$2:I$210<>"",ROW(I$2:I$210)-1),ROW(A11))),"")} | K12: =IF($H12=K$1,$A12,"") | L12: {=IFERROR(INDEX(K$2:K$210,SMALL(IF(K$2:K$210<>"",ROW(K$2:K$210)-1),ROW(C11))),"")} | M12: =IF($H12=M$1,$A12,"") | N12: {=IFERROR(INDEX(M$2:M$210,SMALL(IF(M$2:M$210<>"",ROW(M$2:M$210)-1),ROW(E11))),"")} | O12: =IF($H12=O$1,$A12,"") | P12: {=IFERROR(INDEX(O$2:O$210,SMALL(IF(O$2:O$210<>"",ROW(O$2:O$210)-1),ROW(G11))),"")} | Q12: =IF($H12=Q$1,$A12,"") | R12: {=IFERROR(INDEX(Q$2:Q$210,SMALL(IF(Q$2:Q$210<>"",ROW(Q$2:Q$210)-1),ROW(I11))),"")}
A13: =B13&" "&C13 -> LAVERSIN Soline | B13: LAVERSIN | C13: Soline | D13: 6729939 A | E13: CLUB TULIPE NOIRE HAZEBROUCK | F13: 30/5 | G13: =IF(E13="","",VLOOKUP(E13,'Liste des clubs'!$A:$B,2,FALSE)) -> HAZEBRO | I13: =IF($H13=I$1,$A13,"") | J13: {=IFERROR(INDEX(I$2:I$210,SMALL(IF(I$2:I$210<>"",ROW(I$2:I$210)-1),ROW(A12))),"")} | K13: =IF($H13=K$1,$A13,"") | L13: {=IFERROR(INDEX(K$2:K$210,SMALL(IF(K$2:K$210<>"",ROW(K$2:K$210)-1),ROW(C12))),"")} | M13: =IF($H13=M$1,$A13,"") | N13: {=IFERROR(INDEX(M$2:M$210,SMALL(IF(M$2:M$210<>"",ROW(M$2:M$210)-1),ROW(E12))),"")} | O13: =IF($H13=O$1,$A13,"") | P13: {=IFERROR(INDEX(O$2:O$210,SMALL(IF(O$2:O$210<>"",ROW(O$2:O$210)-1),ROW(G12))),"")} | Q13: =IF($H13=Q$1,$A13,"") | R13: {=IFERROR(INDEX(Q$2:Q$210,SMALL(IF(Q$2:Q$210<>"",ROW(Q$2:Q$210)-1),ROW(I12))),"")}
A14: =B14&" "&C14 -> LEGRAND Anais | B14: LEGRAND | C14: Anais | D14: 2948667 X | E14: BOURG EN BRESSE (TC DE) | F14: 15/3 | G14: =IF(E14="","",VLOOKUP(E14,'Liste des clubs'!$A:$B,2,FALSE)) -> #N/A | I14: =IF($H14=I$1,$A14,"") | J14: {=IFERROR(INDEX(I$2:I$210,SMALL(IF(I$2:I$210<>"",ROW(I$2:I$210)-1),ROW(A13))),"")} | K14: =IF($H14=K$1,$A14,"") | L14: {=IFERROR(INDEX(K$2:K$210,SMALL(IF(K$2:K$210<>"",ROW(K$2:K$210)-1),ROW(C13))),"")} | M14: =IF($H14=M$1,$A14,"") | N14: {=IFERROR(INDEX(M$2:M$210,SMALL(IF(M$2:M$210<>"",ROW(M$2:M$210)-1),ROW(E13))),"")} | O14: =IF($H14=O$1,$A14,"") | P14: {=IFERROR(INDEX(O$2:O$210,SMALL(IF(O$2:O$210<>"",ROW(O$2:O$210)-1),ROW(G13))),"")} | Q14: =IF($H14=Q$1,$A14,"") | R14: {=IFERROR(INDEX(Q$2:Q$210,SMALL(IF(Q$2:Q$210<>"",ROW(Q$2:Q$210)-1),ROW(I13))),"")}
A15: =B15&" "&C15 -> MANTE Emilie | B15: MANTE | C15: Emilie | D15: 3094236 Z | E15: CLUB TULIPE NOIRE HAZEBROUCK | F15: NC | G15: =IF(E15="","",VLOOKUP(E15,'Liste des clubs'!$A:$B,2,FALSE)) -> HAZEBRO | I15: =IF($H15=I$1,$A15,"") | J15: {=IFERROR(INDEX(I$2:I$210,SMALL(IF(I$2:I$210<>"",ROW(I$2:I$210)-1),ROW(A14))),"")} | K15: =IF($H15=K$1,$A15,"") | L15: {=IFERROR(INDEX(K$2:K$210,SMALL(IF(K$2:K$210<>"",ROW(K$2:K$210)-1),ROW(C14))),"")} | M15: =IF($H15=M$1,$A15,"") | N15: {=IFERROR(INDEX(M$2:M$210,SMALL(IF(M$2:M$210<>"",ROW(M$2:M$210)-1),ROW(E14))),"")} | O15: =IF($H15=O$1,$A15,"") | P15: {=IFERROR(INDEX(O$2:O$210,SMALL(IF(O$2:O$210<>"",ROW(O$2:O$210)-1),ROW(G14))),"")} | Q15: =IF($H15=Q$1,$A15,"") | R15: {=IFERROR(INDEX(Q$2:Q$210,SMALL(IF(Q$2:Q$210<>"",ROW(Q$2:Q$210)-1),ROW(I14))),"")}
A16: =B16&" "&C16 -> MOREY Delphine | B16: MOREY | C16: Delphine | D16: 2124330 D | E16: CLUB TULIPE NOIRE HAZEBROUCK | F16: 30/5 | G16: =IF(E16="","",VLOOKUP(E16,'Liste des clubs'!$A:$B,2,FALSE)) -> HAZEBRO | I16: =IF($H16=I$1,$A16,"") | J16: {=IFERROR(INDEX(I$2:I$210,SMALL(IF(I$2:I$210<>"",ROW(I$2:I$210)-1),ROW(A15))),"")} | K16: =IF($H16=K$1,$A16,"") | L16: {=IFERROR(INDEX(K$2:K$210,SMALL(IF(K$2:K$210<>"",ROW(K$2:K$210)-1),ROW(C15))),"")} | M16: =IF($H16=M$1,$A16,"") | N16: {=IFERROR(INDEX(M$2:M$210,SMALL(IF(M$2:M$210<>"",ROW(M$2:M$210)-1),ROW(E15))),"")} | O16: =IF($H16=O$1,$A16,"") | P16: {=IFERROR(INDEX(O$2:O$210,SMALL(IF(O$2:O$210<>"",ROW(O$2:O$210)-1),ROW(G15))),"")} | Q16: =IF($H16=Q$1,$A16,"") | R16: {=IFERROR(INDEX(Q$2:Q$210,SMALL(IF(Q$2:Q$210<>"",ROW(Q$2:Q$210)-1),ROW(I15))),"")}
A17: =B17&" "&C17 -> PACCOU Caroline | B17: PACCOU | C17: Caroline | D17: 3814162 C | E17: TC STEENVOORDE | F17: NC | G17: =IF(E17="","",VLOOKUP(E17,'Liste des clubs'!$A:$B,2,FALSE)) -> STEEN | I17: =IF($H17=I$1,$A17,"") | J17: {=IFERROR(INDEX(I$2:I$210,SMALL(IF(I$2:I$210<>"",ROW(I$2:I$210)-1),ROW(A16))),"")} | K17: =IF($H17=K$1,$A17,"") | L17: {=IFERROR(INDEX(K$2:K$210,SMALL(IF(K$2:K$210<>"",ROW(K$2:K$210)-1),ROW(C16))),"")} | M17: =IF($H17=M$1,$A17,"") | N17: {=IFERROR(INDEX(M$2:M$210,SMALL(IF(M$2:M$210<>"",ROW(M$2:M$210)-1),ROW(E16))),"")} | O17: =IF($H17=O$1,$A17,"") | P17: {=IFERROR(INDEX(O$2:O$210,SMALL(IF(O$2:O$210<>"",ROW(O$2:O$210)-1),ROW(G16))),"")} | Q17: =IF($H17=Q$1,$A17,"") | R17: {=IFERROR(INDEX(Q$2:Q$210,SMALL(IF(Q$2:Q$210<>"",ROW(Q$2:Q$210)-1),ROW(I16))),"")}
A18: =B18&" "&C18 -> PETITPREZ Noemie | B18: PETITPREZ | C18: Noemie | D18: 1148228 Y | E18: TC MERVILLE | F18: 30 | G18: =IF(E18="","",VLOOKUP(E18,'Liste des clubs'!$A:$B,2,FALSE)) -> MERVILL | I18: =IF($H18=I$1,$A18,"") | J18: {=IFERROR(INDEX(I$2:I$210,SMALL(IF(I$2:I$210<>"",ROW(I$2:I$210)-1),ROW(A17))),"")} | K18: =IF($H18=K$1,$A18,"") | L18: {=IFERROR(INDEX(K$2:K$210,SMALL(IF(K$2:K$210<>"",ROW(K$2:K$210)-1),ROW(C17))),"")} | M18: =IF($H18=M$1,$A18,"") | N18: {=IFERROR(INDEX(M$2:M$210,SMALL(IF(M$2:M$210<>"",ROW(M$2:M$210)-1),ROW(E17))),"")} | O18: =IF($H18=O$1,$A18,"") | P18: {=IFERROR(INDEX(O$2:O$210,SMALL(IF(O$2:O$210<>"",ROW(O$2:O$210)-1),ROW(G17))),"")} | Q18: =IF($H18=Q$1,$A18,"") | R18: {=IFERROR(INDEX(Q$2:Q$210,SMALL(IF(Q$2:Q$210<>"",ROW(Q$2:Q$210)-1),ROW(I17))),"")}
A19: =B19&" "&C19 -> PLATTEAU Valérie | B19: PLATTEAU | C19: Valérie | D19: 6268316 L | E19: CLUB TULIPE NOIRE HAZEBROUCK | F19: 30/3 | G19: =IF(E19="","",VLOOKUP(E19,'Liste des clubs'!$A:$B,2,FALSE)) -> HAZEBRO | I19: =IF($H19=I$1,$A19,"") | J19: {=IFERROR(INDEX(I$2:I$210,SMALL(IF(I$2:I$210<>"",ROW(I$2:I$210)-1),ROW(A18))),"")} | K19: =IF($H19=K$1,$A19,"") | L19: {=IFERROR(INDEX(K$2:K$210,SMALL(IF(K$2:K$210<>"",ROW(K$2:K$210)-1),ROW(C18))),"")} | M19: =IF($H19=M$1,$A19,"") | N19: {=IFERROR(INDEX(M$2:M$210,SMALL(IF(M$2:M$210<>"",ROW(M$2:M$210)-1),ROW(E18))),"")} | O19: =IF($H19=O$1,$A19,"") | P19: {=IFERROR(INDEX(O$2:O$210,SMALL(IF(O$2:O$210<>"",ROW(O$2:O$210)-1),ROW(G18))),"")} | Q19: =IF($H19=Q$1,$A19,"") | R19: {=IFERROR(INDEX(Q$2:Q$210,SMALL(IF(Q$2:Q$210<>"",ROW(Q$2:Q$210)-1),ROW(I18))),"")}
A20: =B20&" "&C20 -> SCIACALUGA Lucie | B20: SCIACALUGA | C20: Lucie | D20: 6231142 E | E20: ETOILE SPORTIVE ARQUES | F20: 4/6 | G20: =IF(E20="","",VLOOKUP(E20,'Liste des clubs'!$A:$B,2,FALSE)) -> ARQUES | I20: =IF($H20=I$1,$A20,"") | J20: {=IFERROR(INDEX(I$2:I$210,SMALL(IF(I$2:I$210<>"",ROW(I$2:I$210)-1),ROW(A19))),"")} | K20: =IF($H20=K$1,$A20,"") | L20: {=IFERROR(INDEX(K$2:K$210,SMALL(IF(K$2:K$210<>"",ROW(K$2:K$210)-1),ROW(C19))),"")} | M20: =IF($H20=M$1,$A20,"") | N20: {=IFERROR(INDEX(M$2:M$210,SMALL(IF(M$2:M$210<>"",ROW(M$2:M$210)-1),ROW(E19))),"")} | O20: =IF($H20=O$1,$A20,"") | P20: {=IFERROR(INDEX(O$2:O$210,SMALL(IF(O$2:O$210<>"",ROW(O$2:O$210)-1),ROW(G19))),"")} | Q20: =IF($H20=Q$1,$A20,"") | R20: {=IFERROR(INDEX(Q$2:Q$210,SMALL(IF(Q$2:Q$210<>"",ROW(Q$2:Q$210)-1),ROW(I19))),"")}
A21: =B21&" "&C21 -> VANGHENDT Agathe | B21: VANGHENDT | C21: Agathe | D21: 9674102 C | E21: CLUB TULIPE NOIRE HAZEBROUCK | F21: 30 | G21: =IF(E21="","",VLOOKUP(E21,'Liste des clubs'!$A:$B,2,FALSE)) -> HAZEBRO | I21: =IF($H21=I$1,$A21,"") | J21: {=IFERROR(INDEX(I$2:I$210,SMALL(IF(I$2:I$210<>"",ROW(I$2:I$210)-1),ROW(A20))),"")} | K21: =IF($H21=K$1,$A21,"") | L21: {=IFERROR(INDEX(K$2:K$210,SMALL(IF(K$2:K$210<>"",ROW(K$2:K$210)-1),ROW(C20))),"")} | M21: =IF($H21=M$1,$A21,"") | N21: {=IFERROR(INDEX(M$2:M$210,SMALL(IF(M$2:M$210<>"",ROW(M$2:M$210)-1),ROW(E20))),"")} | O21: =IF($H21=O$1,$A21,"") | P21: {=IFERROR(INDEX(O$2:O$210,SMALL(IF(O$2:O$210<>"",ROW(O$2:O$210)-1),ROW(G20))),"")} | Q21: =IF($H21=Q$1,$A21,"") | R21: {=IFERROR(INDEX(Q$2:Q$210,SMALL(IF(Q$2:Q$210<>"",ROW(Q$2:Q$210)-1),ROW(I20))),"")}
A22: =B22&" "&C22 -> VASSEUR Mathilde | B22: VASSEUR | C22: Mathilde | D22: 6274970 U | E22: CLUB TULIPE NOIRE HAZEBROUCK | F22: 30/1 | G22: =IF(E22="","",VLOOKUP(E22,'Liste des clubs'!$A:$B,2,FALSE)) -> HAZEBRO | I22: =IF($H22=I$1,$A22,"") | J22: {=IFERROR(INDEX(I$2:I$210,SMALL(IF(I$2:I$210<>"",ROW(I$2:I$210)-1),ROW(A21))),"")} | K22: =IF($H22=K$1,$A22,"") | L22: {=IFERROR(INDEX(K$2:K$210,SMALL(IF(K$2:K$210<>"",ROW(K$2:K$210)-1),ROW(C21))),"")} | M22: =IF($H22=M$1,$A22,"") | N22: {=IFERROR(INDEX(M$2:M$210,SMALL(IF(M$2:M$210<>"",ROW(M$2:M$210)-1),ROW(E21))),"")} | O22: =IF($H22=O$1,$A22,"") | P22: {=IFERROR(INDEX(O$2:O$210,SMALL(IF(O$2:O$210<>"",ROW(O$2:O$210)-1),ROW(G21))),"")} | Q22: =IF($H22=Q$1,$A22,"") | R22: {=IFERROR(INDEX(Q$2:Q$210,SMALL(IF(Q$2:Q$210<>"",ROW(Q$2:Q$210)-1),ROW(I21))),"")}
A23: =B23&" "&C23 -> WYCKAERT Eva | B23: WYCKAERT | C23: Eva | D23: 7674821 W | E23: TC MERVILLE | F23: 15/2 | G23: =IF(E23="","",VLOOKUP(E23,'Liste des clubs'!$A:$B,2,FALSE)) -> MERVILL | I23: =IF($H23=I$1,$A23,"") | J23: {=IFERROR(INDEX(I$2:I$210,SMALL(IF(I$2:I$210<>"",ROW(I$2:I$210)-1),ROW(A22))),"")} | K23: =IF($H23=K$1,$A23,"") | L23: {=IFERROR(INDEX(K$2:K$210,SMALL(IF(K$2:K$210<>"",ROW(K$2:K$210)-1),ROW(C22))),"")} | M23: =IF($H23=M$1,$A23,"") | N23: {=IFERROR(INDEX(M$2:M$210,SMALL(IF(M$2:M$210<>"",ROW(M$2:M$210)-1),ROW(E22))),"")} | O23: =IF($H23=O$1,$A23,"") | P23: {=IFERROR(INDEX(O$2:O$210,SMALL(IF(O$2:O$210<>"",ROW(O$2:O$210)-1),ROW(G22))),"")} | Q23: =IF($H23=Q$1,$A23,"") | R23: {=IFERROR(INDEX(Q$2:Q$210,SMALL(IF(Q$2:Q$210<>"",ROW(Q$2:Q$210)-1),ROW(I22))),"")}
A24: =B24&" "&C24 | G24: =IF(E24="","",VLOOKUP(E24,'Liste des clubs'!$A:$B,2,FALSE)) | I24: =IF($H24=I$1,$A24,"") | J24: {=IFERROR(INDEX(I$2:I$210,SMALL(IF(I$2:I$210<>"",ROW(I$2:I$210)-1),ROW(A23))),"")} | K24: =IF($H24=K$1,$A24,"") | L24: {=IFERROR(INDEX(K$2:K$210,SMALL(IF(K$2:K$210<>"",ROW(K$2:K$210)-1),ROW(C23))),"")} | M24: =IF($H24=M$1,$A24,"") | N24: {=IFERROR(INDEX(M$2:M$210,SMALL(IF(M$2:M$210<>"",ROW(M$2:M$210)-1),ROW(E23))),"")} | O24: =IF($H24=O$1,$A24,"") | P24: {=IFERROR(INDEX(O$2:O$210,SMALL(IF(O$2:O$210<>"",ROW(O$2:O$210)-1),ROW(G23))),"")} | Q24: =IF($H24=Q$1,$A24,"") | R24: {=IFERROR(INDEX(Q$2:Q$210,SMALL(IF(Q$2:Q$210<>"",ROW(Q$2:Q$210)-1),ROW(I23))),"")}
A25: =B25&" "&C25 | G25: =IF(E25="","",VLOOKUP(E25,'Liste des clubs'!$A:$B,2,FALSE)) | I25: =IF($H25=I$1,$A25,"") | J25: {=IFERROR(INDEX(I$2:I$210,SMALL(IF(I$2:I$210<>"",ROW(I$2:I$210)-1),ROW(A24))),"")} | K25: =IF($H25=K$1,$A25,"") | L25: {=IFERROR(INDEX(K$2:K$210,SMALL(IF(K$2:K$210<>"",ROW(K$2:K$210)-1),ROW(C24))),"")} | M25: =IF($H25=M$1,$A25,"") | N25: {=IFERROR(INDEX(M$2:M$210,SMALL(IF(M$2:M$210<>"",ROW(M$2:M$210)-1),ROW(E24))),"")} | O25: =IF($H25=O$1,$A25,"") | P25: {=IFERROR(INDEX(O$2:O$210,SMALL(IF(O$2:O$210<>"",ROW(O$2:O$210)-1),ROW(G24))),"")} | Q25: =IF($H25=Q$1,$A25,"") | R25: {=IFERROR(INDEX(Q$2:Q$210,SMALL(IF(Q$2:Q$210<>"",ROW(Q$2:Q$210)-1),ROW(I24))),"")}
A26: =B26&" "&C26 | G26: =IF(E26="","",VLOOKUP(E26,'Liste des clubs'!$A:$B,2,FALSE)) | I26: =IF($H26=I$1,$A26,"") | J26: {=IFERROR(INDEX(I$2:I$210,SMALL(IF(I$2:I$210<>"",ROW(I$2:I$210)-1),ROW(A25))),"")} | K26: =IF($H26=K$1,$A26,"") | L26: {=IFERROR(INDEX(K$2:K$210,SMALL(IF(K$2:K$210<>"",ROW(K$2:K$210)-1),ROW(C25))),"")} | M26: =IF($H26=M$1,$A26,"") | N26: {=IFERROR(INDEX(M$2:M$210,SMALL(IF(M$2:M$210<>"",ROW(M$2:M$210)-1),ROW(E25))),"")} | O26: =IF($H26=O$1,$A26,"") | P26: {=IFERROR(INDEX(O$2:O$210,SMALL(IF(O$2:O$210<>"",ROW(O$2:O$210)-1),ROW(G25))),"")} | Q26: =IF($H26=Q$1,$A26,"") | R26: {=IFERROR(INDEX(Q$2:Q$210,SMALL(IF(Q$2:Q$210<>"",ROW(Q$2:Q$210)-1),ROW(I25))),"")}
A27: =B27&" "&C27 | G27: =IF(E27="","",VLOOKUP(E27,'Liste des clubs'!$A:$B,2,FALSE)) | I27: =IF($H27=I$1,$A27,"") | J27: {=IFERROR(INDEX(I$2:I$210,SMALL(IF(I$2:I$210<>"",ROW(I$2:I$210)-1),ROW(A26))),"")} | K27: =IF($H27=K$1,$A27,"") | L27: {=IFERROR(INDEX(K$2:K$210,SMALL(IF(K$2:K$210<>"",ROW(K$2:K$210)-1),ROW(C26))),"")} | M27: =IF($H27=M$1,$A27,"") | N27: {=IFERROR(INDEX(M$2:M$210,SMALL(IF(M$2:M$210<>"",ROW(M$2:M$210)-1),ROW(E26))),"")} | O27: =IF($H27=O$1,$A27,"") | P27: {=IFERROR(INDEX(O$2:O$210,SMALL(IF(O$2:O$210<>"",ROW(O$2:O$210)-1),ROW(G26))),"")} | Q27: =IF($H27=Q$1,$A27,"") | R27: {=IFERROR(INDEX(Q$2:Q$210,SMALL(IF(Q$2:Q$210<>"",ROW(Q$2:Q$210)-1),ROW(I26))),"")}
A28: =B28&" "&C28 | G28: =IF(E28="","",VLOOKUP(E28,'Liste des clubs'!$A:$B,2,FALSE)) | I28: =IF($H28=I$1,$A28,"") | J28: {=IFERROR(INDEX(I$2:I$210,SMALL(IF(I$2:I$210<>"",ROW(I$2:I$210)-1),ROW(A27))),"")} | K28: =IF($H28=K$1,$A28,"") | L28: {=IFERROR(INDEX(K$2:K$210,SMALL(IF(K$2:K$210<>"",ROW(K$2:K$210)-1),ROW(C27))),"")} | M28: =IF($H28=M$1,$A28,"") | N28: {=IFERROR(INDEX(M$2:M$210,SMALL(IF(M$2:M$210<>"",ROW(M$2:M$210)-1),ROW(E27))),"")} | O28: =IF($H28=O$1,$A28,"") | P28: {=IFERROR(INDEX(O$2:O$210,SMALL(IF(O$2:O$210<>"",ROW(O$2:O$210)-1),ROW(G27))),"")} | Q28: =IF($H28=Q$1,$A28,"") | R28: {=IFERROR(INDEX(Q$2:Q$210,SMALL(IF(Q$2:Q$210<>"",ROW(Q$2:Q$210)-1),ROW(I27))),"")}
A29: =B29&" "&C29 | G29: =IF(E29="","",VLOOKUP(E29,'Liste des clubs'!$A:$B,2,FALSE)) | I29: =IF($H29=I$1,$A29,"") | J29: {=IFERROR(INDEX(I$2:I$210,SMALL(IF(I$2:I$210<>"",ROW(I$2:I$210)-1),ROW(A28))),"")} | K29: =IF($H29=K$1,$A29,"") | L29: {=IFERROR(INDEX(K$2:K$210,SMALL(IF(K$2:K$210<>"",ROW(K$2:K$210)-1),ROW(C28))),"")} | M29: =IF($H29=M$1,$A29,"") | N29: {=IFERROR(INDEX(M$2:M$210,SMALL(IF(M$2:M$210<>"",ROW(M$2:M$210)-1),ROW(E28))),"")} | O29: =IF($H29=O$1,$A29,"") | P29: {=IFERROR(INDEX(O$2:O$210,SMALL(IF(O$2:O$210<>"",ROW(O$2:O$210)-1),ROW(G28))),"")} | Q29: =IF($H29=Q$1,$A29,"") | R29: {=IFERROR(INDEX(Q$2:Q$210,SMALL(IF(Q$2:Q$210<>"",ROW(Q$2:Q$210)-1),ROW(I28))),"")}
A30: =B30&" "&C30 | G30: =IF(E30="","",VLOOKUP(E30,'Liste des clubs'!$A:$B,2,FALSE)) | I30: =IF($H30=I$1,$A30,"") | J30: {=IFERROR(INDEX(I$2:I$210,SMALL(IF(I$2:I$210<>"",ROW(I$2:I$210)-1),ROW(A29))),"")} | K30: =IF($H30=K$1,$A30,"") | L30: {=IFERROR(INDEX(K$2:K$210,SMALL(IF(K$2:K$210<>"",ROW(K$2:K$210)-1),ROW(C29))),"")} | M30: =IF($H30=M$1,$A30,"") | N30: {=IFERROR(INDEX(M$2:M$210,SMALL(IF(M$2:M$210<>"",ROW(M$2:M$210)-1),ROW(E29))),"")} | O30: =IF($H30=O$1,$A30,"") | P30: {=IFERROR(INDEX(O$2:O$210,SMALL(IF(O$2:O$210<>"",ROW(O$2:O$210)-1),ROW(G29))),"")} | Q30: =IF($H30=Q$1,$A30,"") | R30: {=IFERROR(INDEX(Q$2:Q$210,SMALL(IF(Q$2:Q$210<>"",ROW(Q$2:Q$210)-1),ROW(I29))),"")}
A31: =B31&" "&C31 | G31: =IF(E31="","",VLOOKUP(E31,'Liste des clubs'!$A:$B,2,FALSE)) | I31: =IF($H31=I$1,$A31,"") | J31: {=IFERROR(INDEX(I$2:I$210,SMALL(IF(I$2:I$210<>"",ROW(I$2:I$210)-1),ROW(A30))),"")} | K31: =IF($H31=K$1,$A31,"") | L31: {=IFERROR(INDEX(K$2:K$210,SMALL(IF(K$2:K$210<>"",ROW(K$2:K$210)-1),ROW(C30))),"")} | M31: =IF($H31=M$1,$A31,"") | N31: {=IFERROR(INDEX(M$2:M$210,SMALL(IF(M$2:M$210<>"",ROW(M$2:M$210)-1),ROW(E30))),"")} | O31: =IF($H31=O$1,$A31,"") | P31: {=IFERROR(INDEX(O$2:O$210,SMALL(IF(O$2:O$210<>"",ROW(O$2:O$210)-1),ROW(G30))),"")} | Q31: =IF($H31=Q$1,$A31,"") | R31: {=IFERROR(INDEX(Q$2:Q$210,SMALL(IF(Q$2:Q$210<>"",ROW(Q$2:Q$210)-1),ROW(I30))),"")}
A32: =B32&" "&C32 | G32: =IF(E32="","",VLOOKUP(E32,'Liste des clubs'!$A:$B,2,FALSE)) | I32: =IF($H32=I$1,$A32,"") | J32: {=IFERROR(INDEX(I$2:I$210,SMALL(IF(I$2:I$210<>"",ROW(I$2:I$210)-1),ROW(A31))),"")} | K32: =IF($H32=K$1,$A32,"") | L32: {=IFERROR(INDEX(K$2:K$210,SMALL(IF(K$2:K$210<>"",ROW(K$2:K$210)-1),ROW(C31))),"")} | M32: =IF($H32=M$1,$A32,"") | N32: {=IFERROR(INDEX(M$2:M$210,SMALL(IF(M$2:M$210<>"",ROW(M$2:M$210)-1),ROW(E31))),"")} | O32: =IF($H32=O$1,$A32,"") | P32: {=IFERROR(INDEX(O$2:O$210,SMALL(IF(O$2:O$210<>"",ROW(O$2:O$210)-1),ROW(G31))),"")} | Q32: =IF($H32=Q$1,$A32,"") | R32: {=IFERROR(INDEX(Q$2:Q$210,SMALL(IF(Q$2:Q$210<>"",ROW(Q$2:Q$210)-1),ROW(I31))),"")}
A33: =B33&" "&C33 | G33: =IF(E33="","",VLOOKUP(E33,'Liste des clubs'!$A:$B,2,FALSE)) | I33: =IF($H33=I$1,$A33,"") | J33: {=IFERROR(INDEX(I$2:I$210,SMALL(IF(I$2:I$210<>"",ROW(I$2:I$210)-1),ROW(A32))),"")} | K33: =IF($H33=K$1,$A33,"") | L33: {=IFERROR(INDEX(K$2:K$210,SMALL(IF(K$2:K$210<>"",ROW(K$2:K$210)-1),ROW(C32))),"")} | M33: =IF($H33=M$1,$A33,"") | N33: {=IFERROR(INDEX(M$2:M$210,SMALL(IF(M$2:M$210<>"",ROW(M$2:M$210)-1),ROW(E32))),"")} | O33: =IF($H33=O$1,$A33,"") | P33: {=IFERROR(INDEX(O$2:O$210,SMALL(IF(O$2:O$210<>"",ROW(O$2:O$210)-1),ROW(G32))),"")} | Q33: =IF($H33=Q$1,$A33,"") | R33: {=IFERROR(INDEX(Q$2:Q$210,SMALL(IF(Q$2:Q$210<>"",ROW(Q$2:Q$210)-1),ROW(I32))),"")}
A34: =B34&" "&C34 | G34: =IF(E34="","",VLOOKUP(E34,'Liste des clubs'!$A:$B,2,FALSE)) | I34: =IF($H34=I$1,$A34,"") | J34: {=IFERROR(INDEX(I$2:I$210,SMALL(IF(I$2:I$210<>"",ROW(I$2:I$210)-1),ROW(A33))),"")} | K34: =IF($H34=K$1,$A34,"") | L34: {=IFERROR(INDEX(K$2:K$210,SMALL(IF(K$2:K$210<>"",ROW(K$2:K$210)-1),ROW(C33))),"")} | M34: =IF($H34=M$1,$A34,"") | N34: {=IFERROR(INDEX(M$2:M$210,SMALL(IF(M$2:M$210<>"",ROW(M$2:M$210)-1),ROW(E33))),"")} | O34: =IF($H34=O$1,$A34,"") | P34: {=IFERROR(INDEX(O$2:O$210,SMALL(IF(O$2:O$210<>"",ROW(O$2:O$210)-1),ROW(G33))),"")} | Q34: =IF($H34=Q$1,$A34,"") | R34: {=IFERROR(INDEX(Q$2:Q$210,SMALL(IF(Q$2:Q$210<>"",ROW(Q$2:Q$210)-1),ROW(I33))),"")}
A35: =B35&" "&C35 | G35: =IF(E35="","",VLOOKUP(E35,'Liste des clubs'!$A:$B,2,FALSE)) | I35: =IF($H35=I$1,$A35,"") | J35: {=IFERROR(INDEX(I$2:I$210,SMALL(IF(I$2:I$210<>"",ROW(I$2:I$210)-1),ROW(A34))),"")} | K35: =IF($H35=K$1,$A35,"") | L35: {=IFERROR(INDEX(K$2:K$210,SMALL(IF(K$2:K$210<>"",ROW(K$2:K$210)-1),ROW(C34))),"")} | M35: =IF($H35=M$1,$A35,"") | N35: {=IFERROR(INDEX(M$2:M$210,SMALL(IF(M$2:M$210<>"",ROW(M$2:M$210)-1),ROW(E34))),"")} | O35: =IF($H35=O$1,$A35,"") | P35: {=IFERROR(INDEX(O$2:O$210,SMALL(IF(O$2:O$210<>"",ROW(O$2:O$210)-1),ROW(G34))),"")} | Q35: =IF($H35=Q$1,$A35,"") | R35: {=IFERROR(INDEX(Q$2:Q$210,SMALL(IF(Q$2:Q$210<>"",ROW(Q$2:Q$210)-1),ROW(I34))),"")}
... A208: =B208&" "&C208 | G208: =IF(E208="","",VLOOKUP(E208,'Liste des clubs'!$A:$B,2,FALSE)) | I208: =IF($H208=I$1,$A208,"") | J208: {=IFERROR(INDEX(I$2:I$210,SMALL(IF(I$2:I$210<>"",ROW(I$2:I$210)-1),ROW(A207))),"")} | K208: =IF($H208=K$1,$A208,"") | L208: {=IFERROR(INDEX(K$2:K$210,SMALL(IF(K$2:K$210<>"",ROW(K$2:K$210)-1),ROW(C207))),"")} | M208: =IF($H208=M$1,$A208,"") | N208: {=IFERROR(INDEX(M$2:M$210,SMALL(IF(M$2:M$210<>"",ROW(M$2:M$210)-1),ROW(E207))),"")} | O208: =IF($H208=O$1,$A208,"") | P208: {=IFERROR(INDEX(O$2:O$210,SMALL(IF(O$2:O$210<>"",ROW(O$2:O$210)-1),ROW(G207))),"")} | Q208: =IF($H208=Q$1,$A208,"") | R208: {=IFERROR(INDEX(Q$2:Q$210,SMALL(IF(Q$2:Q$210<>"",ROW(Q$2:Q$210)-1),ROW(I207))),"")}
G209: =IF(E209="","",VLOOKUP(E209,'Liste des clubs'!$A:$B,2,FALSE)) | I209: =IF($H209=I$1,$A209,"") | J209: {=IFERROR(INDEX(I$2:I$210,SMALL(IF(I$2:I$210<>"",ROW(I$2:I$210)-1),ROW(A208))),"")} | K209: =IF($H209=K$1,$A209,"") | L209: {=IFERROR(INDEX(K$2:K$210,SMALL(IF(K$2:K$210<>"",ROW(K$2:K$210)-1),ROW(C208))),"")} | M209: =IF($H209=M$1,$A209,"") | N209: {=IFERROR(INDEX(M$2:M$210,SMALL(IF(M$2:M$210<>"",ROW(M$2:M$210)-1),ROW(E208))),"")} | O209: =IF($H209=O$1,$A209,"") | P209: {=IFERROR(INDEX(O$2:O$210,SMALL(IF(O$2:O$210<>"",ROW(O$2:O$210)-1),ROW(G208))),"")} | Q209: =IF($H209=Q$1,$A209,"") | R209: {=IFERROR(INDEX(Q$2:Q$210,SMALL(IF(Q$2:Q$210<>"",ROW(Q$2:Q$210)-1),ROW(I208))),"")}
G210: =IF(E210="","",VLOOKUP(E210,'Liste des clubs'!$A:$B,2,FALSE)) | I210: =IF($H210=I$1,$A210,"") | J210: {=IFERROR(INDEX(I$2:I$210,SMALL(IF(I$2:I$210<>"",ROW(I$2:I$210)-1),ROW(A209))),"")} | K210: =IF($H210=K$1,$A210,"") | L210: {=IFERROR(INDEX(K$2:K$210,SMALL(IF(K$2:K$210<>"",ROW(K$2:K$210)-1),ROW(C209))),"")} | M210: =IF($H210=M$1,$A210,"") | N210: {=IFERROR(INDEX(M$2:M$210,SMALL(IF(M$2:M$210<>"",ROW(M$2:M$210)-1),ROW(E209))),"")} | O210: =IF($H210=O$1,$A210,"") | P210: {=IFERROR(INDEX(O$2:O$210,SMALL(IF(O$2:O$210<>"",ROW(O$2:O$210)-1),ROW(G209))),"")} | Q210: =IF($H210=Q$1,$A210,"") | R210: {=IFERROR(INDEX(Q$2:Q$210,SMALL(IF(Q$2:Q$210<>"",ROW(Q$2:Q$210)-1),ROW(I209))),"")}
G211: =IF(E211="","",VLOOKUP(E211,'Liste des clubs'!$A:$B,2,FALSE)) | I211: =IF($H211=I$1,$A211,"") | J211: {=IFERROR(INDEX(I$2:I$210,SMALL(IF(I$2:I$210<>"",ROW(I$2:I$210)-1),ROW(A210))),"")} | K211: =IF($H211=K$1,$A211,"") | L211: {=IFERROR(INDEX(K$2:K$210,SMALL(IF(K$2:K$210<>"",ROW(K$2:K$210)-1),ROW(C210))),"")} | M211: =IF($H211=M$1,$A211,"") | N211: {=IFERROR(INDEX(M$2:M$210,SMALL(IF(M$2:M$210<>"",ROW(M$2:M$210)-1),ROW(E210))),"")} | O211: =IF($H211=O$1,$A211,"") | P211: {=IFERROR(INDEX(O$2:O$210,SMALL(IF(O$2:O$210<>"",ROW(O$2:O$210)-1),ROW(G210))),"")} | Q211: =IF($H211=Q$1,$A211,"") | R211: {=IFERROR(INDEX(Q$2:Q$210,SMALL(IF(Q$2:Q$210<>"",ROW(Q$2:Q$210)-1),ROW(I210))),"")}
G212: =IF(E212="","",VLOOKUP(E212,'Liste des clubs'!$A:$B,2,FALSE)) | I212: =IF($H212=I$1,$A212,"") | J212: {=IFERROR(INDEX(I$2:I$210,SMALL(IF(I$2:I$210<>"",ROW(I$2:I$210)-1),ROW(A211))),"")} | K212: =IF($H212=K$1,$A212,"") | L212: {=IFERROR(INDEX(K$2:K$210,SMALL(IF(K$2:K$210<>"",ROW(K$2:K$210)-1),ROW(C211))),"")} | M212: =IF($H212=M$1,$A212,"") | N212: {=IFERROR(INDEX(M$2:M$210,SMALL(IF(M$2:M$210<>"",ROW(M$2:M$210)-1),ROW(E211))),"")} | O212: =IF($H212=O$1,$A212,"") | P212: {=IFERROR(INDEX(O$2:O$210,SMALL(IF(O$2:O$210<>"",ROW(O$2:O$210)-1),ROW(G211))),"")} | Q212: =IF($H212=Q$1,$A212,"") | R212: {=IFERROR(INDEX(Q$2:Q$210,SMALL(IF(Q$2:Q$210<>"",ROW(Q$2:Q$210)-1),ROW(I211))),"")}
...

Sheet Liste des clubs
A1: A.S. CORBEIL ESSONNES | B1: CORBEIL
