Workbook
Name CS_M_30_1: OFFSET(Messieurs!$L$2,0,0,3,0)
Name CS_M_30_3: Messieurs!$J$2:$J$915
Name matrice_CS_M_30_3: Messieurs!$A$2:$G$899
Name matrice_SD: Dames!$A$2:$G$200
Name matrice_SM: Messieurs!$A$2:$G$899
Name SD: Dames!$A$2:$A$23
Name SM: OFFSET(Messieurs!$A$2,0,0,COUNTA(Messieurs!$A$2:$A$200),1)

Sheet Messieurs
A1: Nom prénom | B1: Nom | C1: Prénom | D1: Licence | E1: Code Club | F1: classt | G1: Club | H1: Tableau supplémentaire | I1: CS M 30/3 | K1: CS M 30/1 | M1: FT NC M | O1: FT4 M | Q1: FT3 M
A2: =B2&" "&C2 -> ALECSANDRE Pierre | B2: ALECSANDRE | C2: Pierre | D2: 4823239 A | E2: CLUB TULIPE NOIRE HAZEBROUCK | F2: 15/2 | G2: =IF(E2="","",VLOOKUP(E2,'Liste des clubs'!$A:$B,2,FALSE)) -> HAZEBRO | H2: CS M 30/3 | I2: =IF($H2=I$1,$A2,"") -> ALECSANDRE Pierre | J2: {=IFERROR(INDEX(I$2:I$210,SMALL(IF(I$2:I$210<>"",ROW(I$2:I$210)-1),ROW(A1))),"")} -> ALECSANDRE Pierre | K2: =IF($H2=K$1,$A2,"") | L2: {=IFERROR(INDEX(K$2:K$210,SMALL(IF(K$2:K$210<>"",ROW(K$2:K$210)-1),ROW(C1))),"")} -> BASUYAUX Laurent | M2: =IF($H2=M$1,$A2,"") | N2: {=IFERROR(INDEX(M$2:M$210,SMALL(IF(M$2:M$210<>"",ROW(M$2:M$210)-1),ROW(E1))),"")} -> BONNET Stanislas | O2: =IF($H2=O$1,$A2,"") | P2: {=IFERROR(INDEX(O$2:O$210,SMALL(IF(O$2:O$210<>"",ROW(O$2:O$210)-1),ROW(G1))),"")} -> BECUWE Vincent | Q2: =IF($H2=Q$1,$A2,"") | R2: {=IFERROR(INDEX(Q$2:Q$210,SMALL(IF(Q$2:Q$210<>"",ROW(Q$2:Q$210)-1),ROW(I1))),"")} -> BLONDELLE Nicolas | S2: CS M 30/3
A3: =B3&" "&C3 -> BASUYAUX Laurent | B3: BASUYAUX | C3: Laurent | D3: 7122566 U | E3: TC AUCHEL | F3: 15/3 | G3: =IF(E3="","",VLOOKUP(E3,'Liste des clubs'!$A:$B,2,FALSE)) -> AUCHEL | H3: CS M 30/1 | I3: =IF($H3=I$1,$A3,"") | J3: {=IFERROR(INDEX(I$2:I$210,SMALL(IF(I$2:I$210<>"",ROW(I$2:I$210)-1),ROW(A2))),"")} -> BECUE Baptiste | K3: =IF($H3=K$1,$A3,"") -> BASUYAUX Laurent | L3: {=IFERROR(INDEX(K$2:K$210,SMALL(IF(K$2:K$210<>"",ROW(K$2:K$210)-1),ROW(C2))),"")} -> BOULOGNE Herve | M3: =IF($H3=M$1,$A3,"") | N3: {=IFERROR(INDEX(M$2:M$210,SMALL(IF(M$2:M$210<>"",ROW(M$2:M$210)-1),ROW(E2))),"")} | O3: =IF($H3=O$1,$A3,"") | P3: {=IFERROR(INDEX(O$2:O$210,SMALL(IF(O$2:O$210<>"",ROW(O$2:O$210)-1),ROW(G2))),"")} | Q3: =IF($H3=Q$1,$A3,"") | R3: {=IFERROR(INDEX(Q$2:Q$210,SMALL(IF(Q$2:Q$210<>"",ROW(Q$2:Q$210)-1),ROW(I2))),"")} | S3: CS M 30/1
A4: =B4&" "&C4 -> BECUE Baptiste | B4: BECUE | C4: Baptiste | D4: 1148194 L | E4: TC MERVILLE | F4: 15/1 | G4: =IF(E4="","",VLOOKUP(E4,'Liste des clubs'!$A:$B,2,FALSE)) -> MERVILL | H4: CS M 30/3 | I4: =IF($H4=I$1,$A4,"") -> BECUE Baptiste | J4: {=IFERROR(INDEX(I$2:I$210,SMALL(IF(I$2:I$210<>"",ROW(I$2:I$210)-1),ROW(A3))),"")} -> BELLENGIER Julien | K4: =IF($H4=K$1,$A4,"") | L4: {=IFERROR(INDEX(K$2:K$210,SMALL(IF(K$2:K$210<>"",ROW(K$2:K$210)-1),ROW(C3))),"")} | M4: =IF($H4=M$1,$A4,"") | N4: {=IFERROR(INDEX(M$2:M$210,SMALL(IF(M$2:M$210<>"",ROW(M$2:M$210)-1),ROW(E3))),"")} | O4: =IF($H4=O$1,$A4,"") | P4: {=IFERROR(INDEX(O$2:O$210,SMALL(IF(O$2:O$210<>"",ROW(O$2:O$210)-1),ROW(G3))),"")} | Q4: =IF($H4=Q$1,$A4,"") | R4: {=IFERROR(INDEX(Q$2:Q$210,SMALL(IF(Q$2:Q$210<>"",ROW(Q$2:Q$210)-1),ROW(I3))),"")} | S4: FT NC M
A5: =B5&" "&C5 -> BECUWE Vincent | B5: BECUWE | C5: Vincent | D5: 1501057 H | E5: CLUB TULIPE NOIRE HAZEBROUCK | F5: 30/1 | G5: =IF(E5="","",VLOOKUP(E5,'Liste des clubs'!$A:$B,2,FALSE)) -> HAZEBRO | H5: FT4 M | I5: =IF($H5=I$1,$A5,"") | J5: {=IFERROR(INDEX(I$2:I$210,SMALL(IF(I$2:I$210<>"",ROW(I$2:I$210)-1),ROW(A4))),"")} | K5: =IF($H5=K$1,$A5,"") | L5: {=IFERROR(INDEX(K$2:K$210,SMALL(IF(K$2:K$210<>"",ROW(K$2:K$210)-1),ROW(C4))),"")} | M5: =IF($H5=M$1,$A5,"") | N5: {=IFERROR(INDEX(M$2:M$210,SMALL(IF(M$2:M$210<>"",ROW(M$2:M$210)-1),ROW(E4))),"")} | O5: =IF($H5=O$1,$A5,"") -> BECUWE Vincent | P5: {=IFERROR(INDEX(O$2:O$210,SMALL(IF(O$2:O$210<>"",ROW(O$2:O$210)-1),ROW(G4))),"")} | Q5: =IF($H5=Q$1,$A5,"") | R5: {=IFERROR(INDEX(Q$2:Q$210,SMALL(IF(Q$2:Q$210<>"",ROW(Q$2:Q$210)-1),ROW(I4))),"")} | S5: FT4 M
A6: =B6&" "&C6 -> BELLENGIER Julien | B6: BELLENGIER | C6: Julien | D6: 1085714 Y | E6: CLUB TULIPE NOIRE HAZEBROUCK | F6: 15/3 | G6: =IF(E6="","",VLOOKUP(E6,'Liste des clubs'!$A:$B,2,FALSE)) -> HAZEBRO | H6: CS M 30/3 | I6: =IF($H6=I$1,$A6,"") -> BELLENGIER Julien | J6: {=IFERROR(INDEX(I$2:I$210,SMALL(IF(I$2:I$210<>"",ROW(I$2:I$210)-1),ROW(A5))),"")} | K6: =IF($H6=K$1,$A6,"") | L6: {=IFERROR(INDEX(K$2:K$210,SMALL(IF(K$2:K$210<>"",ROW(K$2:K$210)-1),ROW(C5))),"")} | M6: =IF($H6=M$1,$A6,"") | N6: {=IFERROR(INDEX(M$2:M$210,SMALL(IF(M$2:M$210<>"",ROW(M$2:M$210)-1),ROW(E5))),"")} | O6: =IF($H6=O$1,$A6,"") | P6: {=IFERROR(INDEX(O$2:O$210,SMALL(IF(O$2:O$210<>"",ROW(O$2:O$210)-1),ROW(G5))),"")} | Q6: =IF($H6=Q$1,$A6,"") | R6: {=IFERROR(INDEX(Q$2:Q$210,SMALL(IF(Q$2:Q$210<>"",ROW(Q$2:Q$210)-1),ROW(I5))),"")} | S6: FT3 M
A7: =B7&" "&C7 -> BLONDELLE Nicolas | B7: BLONDELLE | C7: Nicolas | D7: 2499378 P | E7: ETOILE SPORTIVE ARQUES | F7: 15/3 | G7: =IF(E7="","",VLOOKUP(E7,'Liste des clubs'!$A:$B,2,FALSE)) -> ARQUES | H7: FT3 M | I7: =IF($H7=I$1,$A7,"") | J7: {=IFERROR(INDEX(I$2:I$210,SMALL(IF(I$2:I$210<>"",ROW(I$2:I$210)-1),ROW(A6))),"")} | K7: =IF($H7=K$1,$A7,"") | L7: {=IFERROR(INDEX(K$2:K$210,SMALL(IF(K$2:K$210<>"",ROW(K$2:K$210)-1),ROW(C6))),"")} | M7: =IF($H7=M$1,$A7,"") | N7: {=IFERROR(INDEX(M$2:M$210,SMALL(IF(M$2:M$210<>"",ROW(M$2:M$210)-1),ROW(E6))),"")} | O7: =IF($H7=O$1,$A7,"") | P7: {=IFERROR(INDEX(O$2:O$210,SMALL(IF(O$2:O$210<>"",ROW(O$2:O$210)-1),ROW(G6))),"")} | Q7: =IF($H7=Q$1,$A7,"") -> BLONDELLE Nicolas | R7: {=IFERROR(INDEX(Q$2:Q$210,SMALL(IF(Q$2:Q$210<>"",ROW(Q$2:Q$210)-1),ROW(I6))),"")}
A8: =B8&" "&C8 -> BONNET Stanislas | B8: BONNET | C8: Stanislas | D8: 6366767 Y | E8: CLUB TULIPE NOIRE HAZEBROUCK | F8: 30/2 | G8: =IF(E8="","",VLOOKUP(E8,'Liste des clubs'!$A:$B,2,FALSE)) -> HAZEBRO | H8: FT NC M | I8: =IF($H8=I$1,$A8,"") | J8: {=IFERROR(INDEX(I$2:I$210,SMALL(IF(I$2:I$210<>"",ROW(I$2:I$210)-1),ROW(A7))),"")} | K8: =IF($H8=K$1,$A8,"") | L8: {=IFERROR(INDEX(K$2:K$210,SMALL(IF(K$2:K$210<>"",ROW(K$2:K$210)-1),ROW(C7))),"")} | M8: =IF($H8=M$1,$A8,"") -> BONNET Stanislas | N8: {=IFERROR(INDEX(M$2:M$210,SMALL(IF(M$2:M$210<>"",ROW(M$2:M$210)-1),ROW(E7))),"")} | O8: =IF($H8=O$1,$A8,"") | P8: {=IFERROR(INDEX(O$2:O$210,SMALL(IF(O$2:O$210<>"",ROW(O$2:O$210)-1),ROW(G7))),"")} | Q8: =IF($H8=Q$1,$A8,"") | R8: {=IFERROR(INDEX(Q$2:Q$210,SMALL(IF(Q$2:Q$210<>"",ROW(Q$2:Q$210)-1),ROW(I7))),"")}
A9: =B9&" "&C9 -> BOULIER Jérémy | B9: BOULIER | C9: Jérémy | D9: 1852704 H | E9: CLUB TULIPE NOIRE HAZEBROUCK | F9: 30/4 | G9: =IF(E9="","",VLOOKUP(E9,'Liste des clubs'!$A:$B,2,FALSE)) -> HAZEBRO | I9: =IF($H9=I$1,$A9,"") | J9: {=IFERROR(INDEX(I$2:I$210,SMALL(IF(I$2:I$210<>"",ROW(I$2:I$210)-1),ROW(A8))),"")} | K9: =IF($H9=K$1,$A9,"") | L9: {=IFERROR(INDEX(K$2:K$210,SMALL(IF(K$2:K$210<>"",ROW(K$2:K$210)-1),ROW(C8))),"")} | M9: =IF($H9=M$1,$A9,"") | N9: {=IFERROR(INDEX(M$2:M$210,SMALL(IF(M$2:M$210<>"",ROW(M$2:M$210)-1),ROW(E8))),"")} | O9: =IF($H9=O$1,$A9,"") | P9: {=IFERROR(INDEX(O$2:O$210,SMALL(IF(O$2:O$210<>"",ROW(O$2:O$210)-1),ROW(G8))),"")} | Q9: =IF($H9=Q$1,$A9,"") | R9: {=IFERROR(INDEX(Q$2:Q$210,SMALL(IF(Q$2:Q$210<>"",ROW(Q$2:Q$210)-1),ROW(I8))),"")}
A10: =B10&" "&C10 -> BOULOGNE Herve | B10: BOULOGNE | C10: Herve | D10: 5641595 T | E10: DIJON A.S.P.T.T. | F10: 5/6 | G10: =IF(E10="","",VLOOKUP(E10,'Liste des clubs'!$A:$B,2,FALSE)) -> DIJON | H10: CS M 30/1 | I10: =IF($H10=I$1,$A10,"") | J10: {=IFERROR(INDEX(I$2:I$210,SMALL(IF(I$2:I$210<>"",ROW(I$2:I$210)-1),ROW(A9))),"")} | K10: =IF($H10=K$1,$A10,"") -> BOULOGNE Herve | L10: {=IFERROR(INDEX(K$2:K$210,SMALL(IF(K$2:K$210<>"",ROW(K$2:K$210)-1),ROW(C9))),"")} | M10: =IF($H10=M$1,$A10,"") | N10: {=IFERROR(INDEX(M$2:M$210,SMALL(IF(M$2:M$210<>"",ROW(M$2:M$210)-1),ROW(E9))),"")} | O10: =IF($H10=O$1,$A10,"") | P10: {=IFERROR(INDEX(O$2:O$210,SMALL(IF(O$2:O$210<>"",ROW(O$2:O$210)-1),ROW(G9))),"")} | Q10: =IF($H10=Q$1,$A10,"") | R10: {=IFERROR(INDEX(Q$2:Q$210,SMALL(IF(Q$2:Q$210<>"",ROW(Q$2:Q$210)-1),ROW(I9))),"")}
A11: =B11&" "&C11 -> BOUSSEKEY Sébastien | B11: BOUSSEKEY | C11: Sébastien | D11: 3164313 V | E11: CLUB TULIPE NOIRE HAZEBROUCK | F11: 30/3 | G11: =IF(E11="","",VLOOKUP(E11,'Liste des clubs'!$A:$B,2,FALSE)) -> HAZEBRO | I11: =IF($H11=I$1,$A11,"") | J11: {=IFERROR(INDEX(I$2:I$210,SMALL(IF(I$2:I$210<>"",ROW(I$2:I$210)-1),ROW(A10))),"")} | K11: =IF($H11=K$1,$A11,"") | L11: {=IFERROR(INDEX(K$2:K$210,SMALL(IF(K$2:K$210<>"",ROW(K$2:K$210)-1),ROW(C10))),"")} | M11: =IF($H11=M$1,$A11,"") | N11: {=IFERROR(INDEX(M$2:M$210,SMALL(IF(M$2:M$210<>"",ROW(M$2:M$210)-1),ROW(E10))),"")} | O11: =IF($H11=O$1,$A11,"") | P11: {=IFERROR(INDEX(O$2:O$210,SMALL(IF(O$2:O$210<>"",ROW(O$2:O$210)-1),ROW(G10))),"")} | Q11: =IF($H11=Q$1,$A11,"") | R11: {=IFERROR(INDEX(Q$2:Q$210,SMALL(IF(Q$2:Q$210<>"",ROW(Q$2:Q$210)-1),ROW(I10))),"")}
A12: =B12&" "&C12 -> BROCVIELLE Maxence | B12: BROCVIELLE | C12: Maxence | D12: 9328749 U | E12: CLUB TULIPE NOIRE HAZEBROUCK | F12: 15/3 | G12: =IF(E12="","",VLOOKUP(E12,'Liste des clubs'!$A:$B,2,FALSE)) -> HAZEBRO | I12: =IF($H12=I$1,$A12,"") | J12: {=IFERROR(INDEX(I$2:I$210,SMALL(IF(I$2:I$210<>"",ROW(I$2:I$210)-1),ROW(A11))),"")} | K12: =IF($H12=K$1,$A12,"") | L12: {=IFERROR(INDEX(K$2:K$210,SMALL(IF(K$2:K$210<>"",ROW(K$2:K$210)-1),ROW(C11))),"")} | M12: =IF($H12=M$1,$A12,"") | N12: {=IFERROR(INDEX(M$2:M$210,SMALL(IF(M$2:M$210<>"",ROW(M$2:M$210)-1),ROW(E11))),"")} | O12: =IF($H12=O$1,$A12,"") | P12: {=IFERROR(INDEX(O$2:O$210,SMALL(IF(O$2:O$210<>"",ROW(O$2:O$210)-1),ROW(G11))),"")} | Q12: =IF($H12=Q$1,$A12,"") | R12: {=IFERROR(INDEX(Q$2:Q$210,SMALL(IF(Q$2:Q$210<>"",ROW(Q$2:Q$210)-1),ROW(I11))),"")}
A13: =B13&" "&C13 -> BURKHART Antoine | B13: BURKHART | C13: Antoine | D13: 1501539 G | E13: TC ARC INTERNATIONAL | F13: 30 | G13: =IF(E13="","",VLOOKUP(E13,'Liste des clubs'!$A:$B,2,FALSE)) -> ARC | I13: =IF($H13=I$1,$A13,"") | J13: {=IFERROR(INDEX(I$2:I$210,SMALL(IF(I$2:I$210<>"",ROW(I$2:I$210)-1),ROW(A12))),"")} | K13: =IF($H13=K$1,$A13,"") | L13: {=IFERROR(INDEX(K$2:K$210,SMALL(IF(K$2:K$210<>"",ROW(K$2:K$210)-1),ROW(C12))),"")} | M13: =IF($H13=M$1,$A13,"") | N13: {=IFERROR(INDEX(M$2:M$210,SMALL(IF(M$2:M$210<>"",ROW(M$2:M$210)-1),ROW(E12))),"")} | O13: =IF($H13=O$1,$A13,"") | P13: {=IFERROR(INDEX(O$2:O$210,SMALL(IF(O$2:O$210<>"",ROW(O$2:O$210)-1),ROW(G12))),"")} | Q13: =IF($H13=Q$1,$A13,"") | R13: {=IFERROR(INDEX(Q$2:Q$210,SMALL(IF(Q$2:Q$210<>"",ROW(Q$2:Q$210)-1),ROW(I12))),"")}
A14: =B14&" "&C14 -> CALESSE Alexis | B14: CALESSE | C14: Alexis | D14: 5974162 D | E14: AT BETHUNE | F14: 30/4 | G14: =IF(E14="","",VLOOKUP(E14,'Liste des clubs'!$A:$B,2,FALSE)) -> BETHUNE | I14: =IF($H14=I$1,$A14,"") | J14: {=IFERROR(INDEX(I$2:I$210,SMALL(IF(I$2:I$210<>"",ROW(I$2:I$210)-1),ROW(A13))),"")} | K14: =IF($H14=K$1,$A14,"") | L14: {=IFERROR(INDEX(K$2:K$210,SMALL(IF(K$2:K$210<>"",ROW(K$2:K$210)-1),ROW(C13))),"")} | M14: =IF($H14=M$1,$A14,"") | N14: {=IFERROR(INDEX(M$2:M$210,SMALL(IF(M$2:M$210<>"",ROW(M$2:M$210)-1),ROW(E13))),"")} | O14: =IF($H14=O$1,$A14,"") | P14: {=IFERROR(INDEX(O$2:O$210,SMALL(IF(O$2:O$210<>"",ROW(O$2:O$210)-1),ROW(G13))),"")} | Q14: =IF($H14=Q$1,$A14,"") | R14: {=IFERROR(INDEX(Q$2:Q$210,SMALL(IF(Q$2:Q$210<>"",ROW(Q$2:Q$210)-1),ROW(I13))),"")}
A15: =B15&" "&C15 -> CALLENS Bruno | B15: CALLENS | C15: Bruno | D15: 0527613 S | E15: CLUB TULIPE NOIRE HAZEBROUCK | F15: 30/1 | G15: =IF(E15="","",VLOOKUP(E15,'Liste des clubs'!$A:$B,2,FALSE)) -> HAZEBRO | I15: =IF($H15=I$1,$A15,"") | J15: {=IFERROR(INDEX(I$2:I$210,SMALL(IF(I$2:I$210<>"",ROW(I$2:I$210)-1),ROW(A14))),"")} | K15: =IF($H15=K$1,$A15,"") | L15: {=IFERROR(INDEX(K$2:K$210,SMALL(IF(K$2:K$210<>"",ROW(K$2:K$210)-1),ROW(C14))),"")} | M15: =IF($H15=M$1,$A15,"") | N15: {=IFERROR(INDEX(M$2:M$210,SMALL(IF(M$2:M$210<>"",ROW(M$2:M$210)-1),ROW(E14))),"")} | O15: =IF($H15=O$1,$A15,"") | P15: {=IFERROR(INDEX(O$2:O$210,SMALL(IF(O$2:O$210<>"",ROW(O$2:O$210)-1),ROW(G14))),"")} | Q15: =IF($H15=Q$1,$A15,"") | R15: {=IFERROR(INDEX(Q$2:Q$210,SMALL(IF(Q$2:Q$210<>"",ROW(Q$2:Q$210)-1),ROW(I14))),"")}
A16: =B16&" "&C16 -> CAMERLYNCK Vincent | B16: CAMERLYNCK | C16: Vincent | D16: 7910775 T | E16: TC FLANDRE-LYS | F16: 30 | G16: =IF(E16="","",VLOOKUP(E16,'Liste des clubs'!$A:$B,2,FALSE)) -> FLAN LYS | I16: =IF($H16=I$1,$A16,"") | J16: {=IFERROR(INDEX(I$2:I$210,SMALL(IF(I$2:I$210<>"",ROW(I$2:I$210)-1),ROW(A15))),"")} | K16: =IF($H16=K$1,$A16,"") | L16: {=IFERROR(INDEX(K$2:K$210,SMALL(IF(K$2:K$210<>"",ROW(K$2:K$210)-1),ROW(C15))),"")} | M16: =IF($H16=M$1,$A16,"") | N16: {=IFERROR(INDEX(M$2:M$210,SMALL(IF(M$2:M$210<>"",ROW(M$2:M$210)-1),ROW(E15))),"")} | O16: =IF($H16=O$1,$A16,"") | P16: {=IFERROR(INDEX(O$2:O$210,SMALL(IF(O$2:O$210<>"",ROW(O$2:O$210)-1),ROW(G15))),"")} | Q16: =IF($H16=Q$1,$A16,"") | R16: {=IFERROR(INDEX(Q$2:Q$210,SMALL(IF(Q$2:Q$210<>"",ROW(Q$2:Q$210)-1),ROW(I15))),"")}
A17: =B17&" "&C17 -> CAMPAGNE Fabian | B17: CAMPAGNE | C17: Fabian | D17: 0293103 P | E17: AUBIERE TENNIS CLUB | F17: 30 | G17: =IF(E17="","",VLOOKUP(E17,'Liste des clubs'!$A:$B,2,FALSE)) -> AUBIERE | I17: =IF($H17=I$1,$A17,"") | J17: {=IFERROR(INDEX(I$2:I$210,SMALL(IF(I$2:I$210<>"",ROW(I$2:I$210)-1),ROW(A16))),"")} | K17: =IF($H17=K$1,$A17,"") | L17: {=IFERROR(INDEX(K$2:K$210,SMALL(IF(K$2:K$210<>"",ROW(K$2:K$210)-1),ROW(C16))),"")} | M17: =IF($H17=M$1,$A17,"") | N17: {=IFERROR(INDEX(M$2:M$210,SMALL(IF(M$2:M$210<>"",ROW(M$2:M$210)-1),ROW(E16))),"")} | O17: =IF($H17=O$1,$A17,"") | P17: {=IFERROR(INDEX(O$2:O$210,SMALL(IF(O$2:O$210<>"",ROW(O$2:O$210)-1),ROW(G16))),"")} | Q17: =IF($H17=Q$1,$A17,"") | R17: {=IFERROR(INDEX(Q$2:Q$210,SMALL(IF(Q$2:Q$210<>"",ROW(Q$2:Q$210)-1),ROW(I16))),"")}
A18: =B18&" "&C18 -> CAPRON Eric | B18: CAPRON | C18: Eric | D18: 3755633 J | E18: TC MERVILLE | F18: 30/1 | G18: =IF(E18="","",VLOOKUP(E18,'Liste des clubs'!$A:$B,2,FALSE)) -> MERVILL | I18: =IF($H18=I$1,$A18,"") | J18: {=IFERROR(INDEX(I$2:I$210,SMALL(IF(I$2:I$210<>"",ROW(I$2:I$210)-1),ROW(A17))),"")} | K18: =IF($H18=K$1,$A18,"") | L18: {=IFERROR(INDEX(K$2:K$210,SMALL(IF(K$2:K$210<>"",ROW(K$2:K$210)-1),ROW(C17))),"")} | M18: =IF($H18=M$1,$A18,"") | N18: {=IFERROR(INDEX(M$2:M$210,SMALL(IF(M$2:M$210<>"",ROW(M$2:M$210)-1),ROW(E17))),"")} | O18: =IF($H18=O$1,$A18,"") | P18: {=IFERROR(INDEX(O$2:O$210,SMALL(IF(O$2:O$210<>"",ROW(O$2:O$210)-1),ROW(G17))),"")} | Q18: =IF($H18=Q$1,$A18,"") | R18: {=IFERROR(INDEX(Q$2:Q$210,SMALL(IF(Q$2:Q$210<>"",ROW(Q$2:Q$210)-1),ROW(I17))),"")}
A19: =B19&" "&C19 -> CARETTE Nicolas | B19: CARETTE | C19: Nicolas | D19: 1538431 G | E19: CLUB TULIPE NOIRE HAZEBROUCK | F19: 30/2 | G19: =IF(E19="","",VLOOKUP(E19,'Liste des clubs'!$A:$B,2,FALSE)) -> HAZEBRO | I19: =IF($H19=I$1,$A19,"") | J19: {=IFERROR(INDEX(I$2:I$210,SMALL(IF(I$2:I$210<>"",ROW(I$2:I$210)-1),ROW(A18))),"")} | K19: =IF($H19=K$1,$A19,"") | L19: {=IFERROR(INDEX(K$2:K$210,SMALL(IF(K$2:K$210<>"",ROW(K$2:K$210)-1),ROW(C18))),"")} | M19: =IF($H19=M$1,$A19,"") | N19: {=IFERROR(INDEX(M$2:M$210,SMALL(IF(M$2:M$210<>"",ROW(M$2:M$210)-1),ROW(E18))),"")} | O19: =IF($H19=O$1,$A19,"") | P19: {=IFERROR(INDEX(O$2:O$210,SMALL(IF(O$2:O$210<>"",ROW(O$2:O$210)-1),ROW(G18))),"")} | Q19: =IF($H19=Q$1,$A19,"") | R19: {=IFERROR(INDEX(Q$2:Q$210,SMALL(IF(Q$2:Q$210<>"",ROW(Q$2:Q$210)-1),ROW(I18))),"")}
A20: =B20&" "&C20 -> CASTELAIN Pierre | B20: CASTELAIN | C20: Pierre | D20: 0685841 D | E20: CLUB TULIPE NOIRE HAZEBROUCK | F20: 30/4 | G20: =IF(E20="","",VLOOKUP(E20,'Liste des clubs'!$A:$B,2,FALSE)) -> HAZEBRO | I20: =IF($H20=I$1,$A20,"") | J20: {=IFERROR(INDEX(I$2:I$210,SMALL(IF(I$2:I$210<>"",ROW(I$2:I$210)-1),ROW(A19))),"")} | K20: =IF($H20=K$1,$A20,"") | L20: {=IFERROR(INDEX(K$2:K$210,SMALL(IF(K$2:K$210<>"",ROW(K$2:K$210)-1),ROW(C19))),"")} | M20: =IF($H20=M$1,$A20,"") | N20: {=IFERROR(INDEX(M$2:M$210,SMALL(IF(M$2:M$210<>"",ROW(M$2:M$210)-1),ROW(E19))),"")} | O20: =IF($H20=O$1,$A20,"") | P20: {=IFERROR(INDEX(O$2:O$210,SMALL(IF(O$2:O$210<>"",ROW(O$2:O$210)-1),ROW(G19))),"")} | Q20: =IF($H20=Q$1,$A20,"") | R20: {=IFERROR(INDEX(Q$2:Q$210,SMALL(IF(Q$2:Q$210<>"",ROW(Q$2:Q$210)-1),ROW(I19))),"")}
A21: =B21&" "&C21 -> CATTEAU Jérémy | B21: CATTEAU | C21: Jérémy | D21: 1347127 T | E21: TC AIRE-SUR-LA-LYS | F21: 30/4 | G21: =IF(E21="","",VLOOKUP(E21,'Liste des clubs'!$A:$B,2,FALSE)) -> AIRE/L | I21: =IF($H21=I$1,$A21,"") | J21: {=IFERROR(INDEX(I$2:I$210,SMALL(IF(I$2:I$210<>"",ROW(I$2:I$210)-1),ROW(A20))),"")} | K21: =IF($H21=K$1,$A21,"") | L21: {=IFERROR(INDEX(K$2:K$210,SMALL(IF(K$2:K$210<>"",ROW(K$2:K$210)-1),ROW(C20))),"")} | M21: =IF($H21=M$1,$A21,"") | N21: {=IFERROR(INDEX(M$2:M$210,SMALL(IF(M$2:M$210<>"",ROW(M$2:M$210)-1),ROW(E20))),"")} | O21: =IF($H21=O$1,$A21,"") | P21: {=IFERROR(INDEX(O$2:O$210,SMALL(IF(O$2:O$210<>"",ROW(O$2:O$210)-1),ROW(G20))),"")} | Q21: =IF($H21=Q$1,$A21,"") | R21: {=IFERROR(INDEX(Q$2:Q$210,SMALL(IF(Q$2:Q$210<>"",ROW(Q$2:Q$210)-1),ROW(I20))),"")}
A22: =B22&" "&C22 -> CAULIER Stéphane | B22: CAULIER | C22: Stéphane | D22: 1889724 X | E22: CLUB TULIPE NOIRE HAZEBROUCK | F22: 30/3 | G22: =IF(E22="","",VLOOKUP(E22,'Liste des clubs'!$A:$B,2,FALSE)) -> HAZEBRO | I22: =IF($H22=I$1,$A22,"") | J22: {=IFERROR(INDEX(I$2:I$210,SMALL(IF(I$2:I$210<>"",ROW(I$2:I$210)-1),ROW(A21))),"")} | K22: =IF($H22=K$1,$A22,"") | L22: {=IFERROR(INDEX(K$2:K$210,SMALL(IF(K$2:K$210<>"",ROW(K$2:K$210)-1),ROW(C21))),"")} | M22: =IF($H22=M$1,$A22,"") | N22: {=IFERROR(INDEX(M$2:M$210,SMALL(IF(M$2:M$210<>"",ROW(M$2:M$210)-1),ROW(E21))),"")} | O22: =IF($H22=O$1,$A22,"") | P22: {=IFERROR(INDEX(O$2:O$210,SMALL(IF(O$2:O$210<>"",ROW(O$2:O$210)-1),ROW(G21))),"")} | Q22: =IF($H22=Q$1,$A22,"") | R22: {=IFERROR(INDEX(Q$2:Q$210,SMALL(IF(Q$2:Q$210<>"",ROW(Q$2:Q$210)-1),ROW(I21))),"")}
... A137: =B137&" "&C137 -> ZEROUAL Abderrahmane | B137: ZEROUAL | C137: Abderrahmane | D137: 4419962 F | E137: CLUB TULIPE NOIRE HAZEBROUCK | F137: 30/4 | G137: =IF(E137="","",VLOOKUP(E137,'Liste des clubs'!$A:$B,2,FALSE)) -> HAZEBRO | I137: =IF($H137=I$1,$A137,"") | J137: {=IFERROR(INDEX(I$2:I$210,SMALL(IF(I$2:I$210<>"",ROW(I$2:I$210)-1),ROW(A136))),"")} | K137: =IF($H137=K$1,$A137,"") | L137: {=IFERROR(INDEX(K$2:K$210,SMALL(IF(K$2:K$210<>"",ROW(K$2:K$210)-1),ROW(C136))),"")} | M137: =IF($H137=M$1,$A137,"") | N137: {=IFERROR(INDEX(M$2:M$210,SMALL(IF(M$2:M$210<>"",ROW(M$2:M$210)-1),ROW(E136))),"")} | O137: =IF($H137=O$1,$A137,"") | P137: {=IFERROR(INDEX(O$2:O$210,SMALL(IF(O$2:O$210<>"",ROW(O$2:O$210)-1),ROW(G136))),"")} | Q137: =IF($H137=Q$1,$A137,"") | R137: {=IFERROR(INDEX(Q$2:Q$210,SMALL(IF(Q$2:Q$210<>"",ROW(Q$2:Q$210)-1),ROW(I136))),"")}
A138: =B138&" "&C138 | G138: =IF(E138="","",VLOOKUP(E138,'Liste des clubs'!$A:$B,2,FALSE)) | I138: =IF($H138=I$1,$A138,"") | J138: {=IFERROR(INDEX(I$2:I$210,SMALL(IF(I$2:I$210<>"",ROW(I$2:I$210)-1),ROW(A137))),"")} | K138: =IF($H138=K$1,$A138,"") | L138: {=IFERROR(INDEX(K$2:K$210,SMALL(IF(K$2:K$210<>"",ROW(K$2:K$210)-1),ROW(C137))),"")} | M138: =IF($H138=M$1,$A138,"") | N138: {=IFERROR(INDEX(M$2:M$210,SMALL(IF(M$2:M$210<>"",ROW(M$2:M$210)-1),ROW(E137))),"")} | O138: =IF($H138=O$1,$A138,"") | P138: {=IFERROR(INDEX(O$2:O$210,SMALL(IF(O$2:O$210<>"",ROW(O$2:O$210)-1),ROW(G137))),"")} | Q138: =IF($H138=Q$1,$A138,"") | R138: {=IFERROR(INDEX(Q$2:Q$210,SMALL(IF(Q$2:Q$210<>"",ROW(Q$2:Q$210)-1),ROW(I137))),"")}
A139: =B139&" "&C139 | G139: =IF(E139="","",VLOOKUP(E139,'Liste des clubs'!$A:$B,2,FALSE)) | I139: =IF($H139=I$1,$A139,"") | J139: {=IFERROR(INDEX(I$2:I$210,SMALL(IF(I$2:I$210<>"",ROW(I$2:I$210)-1),ROW(A138))),"")} | K139: =IF($H139=K$1,$A139,"") | L139: {=IFERROR(INDEX(K$2:K$210,SMALL(IF(K$2:K$210<>"",ROW(K$2:K$210)-1),ROW(C138))),"")} | M139: =IF($H139=M$1,$A139,"") | N139: {=IFERROR(INDEX(M$2:M$210,SMALL(IF(M$2:M$210<>"",ROW(M$2:M$210)-1),ROW(E138))),"")} | O139: =IF($H139=O$1,$A139,"") | P139: {=IFERROR(INDEX(O$2:O$210,SMALL(IF(O$2:O$210<>"",ROW(O$2:O$210)-1),ROW(G138))),"")} | Q139: =IF($H139=Q$1,$A139,"") | R139: {=IFERROR(INDEX(Q$2:Q$210,SMALL(IF(Q$2:Q$210<>"",ROW(Q$2:Q$210)-1),ROW(I138))),"")}
A140: =B140&" "&C140 | G140: =IF(E140="","",VLOOKUP(E140,'Liste des clubs'!$A:$B,2,FALSE)) | I140: =IF($H140=I$1,$A140,"") | J140: {=IFERROR(INDEX(I$2:I$210,SMALL(IF(I$2:I$210<>"",ROW(I$2:I$210)-1),ROW(A139))),"")} | K140: =IF($H140=K$1,$A140,"") | L140: {=IFERROR(INDEX(K$2:K$210,SMALL(IF(K$2:K$210<>"",ROW(K$2:K$210)-1),ROW(C139))),"")} | M140: =IF($H140=M$1,$A140,"") | N140: {=IFERROR(INDEX(M$2:M$210,SMALL(IF(M$2:M$210<>"",ROW(M$2:M$210)-1),ROW(E139))),"")} | O140: =IF($H140=O$1,$A140,"") | P140: {=IFERROR(INDEX(O$2:O$210,SMALL(IF(O$2:O$210<>"",ROW(O$2:O$210)-1),ROW(G139))),"")} | Q140: =IF($H140=Q$1,$A140,"") | R140: {=IFERROR(INDEX(Q$2:Q$210,SMALL(IF(Q$2:Q$210<>"",ROW(Q$2:Q$210)-1),ROW(I139))),"")}
A141: =B141&" "&C141 | G141: =IF(E141="","",VLOOKUP(E141,'Liste des clubs'!$A:$B,2,FALSE)) | I141: =IF($H141=I$1,$A141,"") | J141: {=IFERROR(INDEX(I$2:I$210,SMALL(IF(I$2:I$210<>"",ROW(I$2:I$210)-1),ROW(A140))),"")} | K141: =IF($H141=K$1,$A141,"") | L141: {=IFERROR(INDEX(K$2:K$210,SMALL(IF(K$2:K$210<>"",ROW(K$2:K$210)-1),ROW(C140))),"")} | M141: =IF($H141=M$1,$A141,"") | N141: {=IFERROR(INDEX(M$2:M$210,SMALL(IF(M$2:M$210<>"",ROW(M$2:M$210)-1),ROW(E140))),"")} | O141: =IF($H141=O$1,$A141,"") | P141: {=IFERROR(INDEX(O$2:O$210,SMALL(IF(O$2:O$210<>"",ROW(O$2:O$210)-1),ROW(G140))),"")} | Q141: =IF($H141=Q$1,$A141,"") | R141: {=IFERROR(INDEX(Q$2:Q$210,SMALL(IF(Q$2:Q$210<>"",ROW(Q$2:Q$210)-1),ROW(I140))),"")}
A142: =B142&" "&C142 | G142: =IF(E142="","",VLOOKUP(E142,'Liste des clubs'!$A:$B,2,FALSE)) | I142: =IF($H142=I$1,$A142,"") | J142: {=IFERROR(INDEX(I$2:I$210,SMALL(IF(I$2:I$210<>"",ROW(I$2:I$210)-1),ROW(A141))),"")} | K142: =IF($H142=K$1,$A142,"") | L142: {=IFERROR(INDEX(K$2:K$210,SMALL(IF(K$2:K$210<>"",ROW(K$2:K$210)-1),ROW(C141))),"")} | M142: =IF($H142=M$1,$A142,"") | N142: {=IFERROR(INDEX(M$2:M$210,SMALL(IF(M$2:M$210<>"",ROW(M$2:M$210)-1),ROW(E141))),"")} | O142: =IF($H142=O$1,$A142,"") | P142: {=IFERROR(INDEX(O$2:O$210,SMALL(IF(O$2:O$210<>"",ROW(O$2:O$210)-1),ROW(G141))),"")} | Q142: =IF($H142=Q$1,$A142,"") | R142: {=IFERROR(INDEX(Q$2:Q$210,SMALL(IF(Q$2:Q$210<>"",ROW(Q$2:Q$210)-1),ROW(I141))),"")}
A143: =B143&" "&C143 | G143: =IF(E143="","",VLOOKUP(E143,'Liste des clubs'!$A:$B,2,FALSE)) | I143: =IF($H143=I$1,$A143,"") | J143: {=IFERROR(INDEX(I$2:I$210,SMALL(IF(I$2:I$210<>"",ROW(I$2:I$210)-1),ROW(A142))),"")} | K143: =IF($H143=K$1,$A143,"") | L143: {=IFERROR(INDEX(K$2:K$210,SMALL(IF(K$2:K$210<>"",ROW(K$2:K$210)-1),ROW(C142))),"")} | M143: =IF($H143=M$1,$A143,"") | N143: {=IFERROR(INDEX(M$2:M$210,SMALL(IF(M$2:M$210<>"",ROW(M$2:M$210)-1),ROW(E142))),"")} | O143: =IF($H143=O$1,$A143,"") | P143: {=IFERROR(INDEX(O$2:O$210,SMALL(IF(O$2:O$210<>"",ROW(O$2:O$210)-1),ROW(G142))),"")} | Q143: =IF($H143=Q$1,$A143,"") | R143: {=IFERROR(INDEX(Q$2:Q$210,SMALL(IF(Q$2:Q$210<>"",ROW(Q$2:Q$210)-1),ROW(I142))),"")}
A144: =B144&" "&C144 | G144: =IF(E144="","",VLOOKUP(E144,'Liste des clubs'!$A:$B,2,FALSE)) | I144: =IF($H144=I$1,$A144,"") | J144: {=IFERROR(INDEX(I$2:I$210,SMALL(IF(I$2:I$210<>"",ROW(I$2:I$210)-1),ROW(A143))),"")} | K144: =IF($H144=K$1,$A144,"") | L144: {=IFERROR(INDEX(K$2:K$210,SMALL(IF(K$2:K$210<>"",ROW(K$2:K$210)-1),ROW(C143))),"")} | M144: =IF($H144=M$1,$A144,"") | N144: {=IFERROR(INDEX(M$2:M$210,SMALL(IF(M$2:M$210<>"",ROW(M$2:M$210)-1),ROW(E143))),"")} | O144: =IF($H144=O$1,$A144,"") | P144: {=IFERROR(INDEX(O$2:O$210,SMALL(IF(O$2:O$210<>"",ROW(O$2:O$210)-1),ROW(G143))),"")} | Q144: =IF($H144=Q$1,$A144,"") | R144: {=IFERROR(INDEX(Q$2:Q$210,SMALL(IF(Q$2:Q$210<>"",ROW(Q$2:Q$210)-1),ROW(I143))),"")}
G145: =IF(E145="","",VLOOKUP(E145,'Liste des clubs'!$A:$B,2,FALSE)) | I145: =IF($H145=I$1,$A145,"") | J145: {=IFERROR(INDEX(I$2:I$210,SMALL(IF(I$2:I$210<>"",ROW(I$2:I$210)-1),ROW(A144))),"")} | K145: =IF($H145=K$1,$A145,"") | L145: {=IFERROR(INDEX(K$2:K$210,SMALL(IF(K$2:K$210<>"",ROW(K$2:K$210)-1),ROW(C144))),"")} | M145: =IF($H145=M$1,$A145,"") | N145: {=IFERROR(INDEX(M$2:M$210,SMALL(IF(M$2:M$210<>"",ROW(M$2:M$210)-1),ROW(E144))),"")} | O145: =IF($H145=O$1,$A145,"") | P145: {=IFERROR(INDEX(O$2:O$210,SMALL(IF(O$2:O$210<>"",ROW(O$2:O$210)-1),ROW(G144))),"")} | Q145: =IF($H145=Q$1,$A145,"") | R145: {=IFERROR(INDEX(Q$2:Q$210,SMALL(IF(Q$2:Q$210<>"",ROW(Q$2:Q$210)-1),ROW(I144))),"")}
G146: =IF(E146="","",VLOOKUP(E146,'Liste des clubs'!$A:$B,2,FALSE)) | I146: =IF($H146=I$1,$A146,"") | J146: {=IFERROR(INDEX(I$2:I$210,SMALL(IF(I$2:I$210<>"",ROW(I$2:I$210)-1),ROW(A145))),"")} | K146: =IF($H146=K$1,$A146,"") | L146: {=IFERROR(INDEX(K$2:K$210,SMALL(IF(K$2:K$210<>"",ROW(K$2:K$210)-1),ROW(C145))),"")} | M146: =IF($H146=M$1,$A146,"") | N146: {=IFERROR(INDEX(M$2:M$210,SMALL(IF(M$2:M$210<>"",ROW(M$2:M$210)-1),ROW(E145))),"")} | O146: =IF($H146=O$1,$A146,"") | P146: {=IFERROR(INDEX(O$2:O$210,SMALL(IF(O$2:O$210<>"",ROW(O$2:O$210)-1),ROW(G145))),"")} | Q146: =IF($H146=Q$1,$A146,"") | R146: {=IFERROR(INDEX(Q$2:Q$210,SMALL(IF(Q$2:Q$210<>"",ROW(Q$2:Q$210)-1),ROW(I145))),"")}
G147: =IF(E147="","",VLOOKUP(E147,'Liste des clubs'!$A:$B,2,FALSE)) | I147: =IF($H147=I$1,$A147,"") | J147: {=IFERROR(INDEX(I$2:I$210,SMALL(IF(I$2:I$210<>"",ROW(I$2:I$210)-1),ROW(A146))),"")} | K147: =IF($H147=K$1,$A147,"") | L147: {=IFERROR(INDEX(K$2:K$210,SMALL(IF(K$2:K$210<>"",ROW(K$2:K$210)-1),ROW(C146))),"")} | M147: =IF($H147=M$1,$A147,"") | N147: {=IFERROR(INDEX(M$2:M$210,SMALL(IF(M$2:M$210<>"",ROW(M$2:M$210)-1),ROW(E146))),"")} | O147: =IF($H147=O$1,$A147,"") | P147: {=IFERROR(INDEX(O$2:O$210,SMALL(IF(O$2:O$210<>"",ROW(O$2:O$210)-1),ROW(G146))),"")} | Q147: =IF($H147=Q$1,$A147,"") | R147: {=IFERROR(INDEX(Q$2:Q$210,SMALL(IF(Q$2:Q$210<>"",ROW(Q$2:Q$210)-1),ROW(I146))),"")}
G148: =IF(E148="","",VLOOKUP(E148,'Liste des clubs'!$A:$B,2,FALSE)) | I148: =IF($H148=I$1,$A148,"") | J148: {=IFERROR(INDEX(I$2:I$210,SMALL(IF(I$2:I$210<>"",ROW(I$2:I$210)-1),ROW(A147))),"")} | K148: =IF($H148=K$1,$A148,"") | L148: {=IFERROR(INDEX(K$2:K$210,SMALL(IF(K$2:K$210<>"",ROW(K$2:K$210)-1),ROW(C147))),"")} | M148: =IF($H148=M$1,$A148,"") | N148: {=IFERROR(INDEX(M$2:M$210,SMALL(IF(M$2:M$210<>"",ROW(M$2:M$210)-1),ROW(E147))),"")} | O148: =IF($H148=O$1,$A148,"") | P148: {=IFERROR(INDEX(O$2:O$210,SMALL(IF(O$2:O$210<>"",ROW(O$2:O$210)-1),ROW(G147))),"")} | Q148: =IF($H148=Q$1,$A148,"") | R148: {=IFERROR(INDEX(Q$2:Q$210,SMALL(IF(Q$2:Q$210<>"",ROW(Q$2:Q$210)-1),ROW(I147))),"")}
G149: =IF(E149="","",VLOOKUP(E149,'Liste des clubs'!$A:$B,2,FALSE)) | I149: =IF($H149=I$1,$A149,"") | J149: {=IFERROR(INDEX(I$2:I$210,SMALL(IF(I$2:I$210<>"",ROW(I$2:I$210)-1),ROW(A148))),"")} | K149: =IF($H149=K$1,$A149,"") | L149: {=IFERROR(INDEX(K$2:K$210,SMALL(IF(K$2:K$210<>"",ROW(K$2:K$210)-1),ROW(C148))),"")} | M149: =IF($H149=M$1,$A149,"") | N149: {=IFERROR(INDEX(M$2:M$210,SMALL(IF(M$2:M$210<>"",ROW(M$2:M$210)-1),ROW(E148))),"")} | O149: =IF($H149=O$1,$A149,"") | P149: {=IFERROR(INDEX(O$2:O$210,SMALL(IF(O$2:O$210<>"",ROW(O$2:O$210)-1),ROW(G148))),"")} | Q149: =IF($H149=Q$1,$A149,"") | R149: {=IFERROR(INDEX(Q$2:Q$210,SMALL(IF(Q$2:Q$210<>"",ROW(Q$2:Q$210)-1),ROW(I148))),"")}
G150: =IF(E150="","",VLOOKUP(E150,'Liste des clubs'!$A:$B,2,FALSE)) | I150: =IF($H150=I$1,$A150,"") | J150: {=IFERROR(INDEX(I$2:I$210,SMALL(IF(I$2:I$210<>"",ROW(I$2:I$210)-1),ROW(A149))),"")} | K150: =IF($H150=K$1,$A150,"") | L150: {=IFERROR(INDEX(K$2:K$210,SMALL(IF(K$2:K$210<>"",ROW(K$2:K$210)-1),ROW(C149))),"")} | M150: =IF($H150=M$1,$A150,"") | N150: {=IFERROR(INDEX(M$2:M$210,SMALL(IF(M$2:M$210<>"",ROW(M$2:M$210)-1),ROW(E149))),"")} | O150: =IF($H150=O$1,$A150,"") | P150: {=IFERROR(INDEX(O$2:O$210,SMALL(IF(O$2:O$210<>"",ROW(O$2:O$210)-1),ROW(G149))),"")} | Q150: =IF($H150=Q$1,$A150,"") | R150: {=IFERROR(INDEX(Q$2:Q$210,SMALL(IF(Q$2:Q$210<>"",ROW(Q$2:Q$210)-1),ROW(I149))),"")}
G151: =IF(E151="","",VLOOKUP(E151,'Liste des clubs'!$A:$B,2,FALSE)) | I151: =IF($H151=I$1,$A151,"") | J151: {=IFERROR(INDEX(I$2:I$210,SMALL(IF(I$2:I$210<>"",ROW(I$2:I$210)-1),ROW(A150))),"")} | K151: =IF($H151=K$1,$A151,"") | L151: {=IFERROR(INDEX(K$2:K$210,SMALL(IF(K$2:K$210<>"",ROW(K$2:K$210)-1),ROW(C150))),"")} | M151: =IF($H151=M$1,$A151,"") | N151: {=IFERROR(INDEX(M$2:M$210,SMALL(IF(M$2:M$210<>"",ROW(M$2:M$210)-1),ROW(E150))),"")} | O151: =IF($H151=O$1,$A151,"") | P151: {=IFERROR(INDEX(O$2:O$210,SMALL(IF(O$2:O$210<>"",ROW(O$2:O$210)-1),ROW(G150))),"")} | Q151: =IF($H151=Q$1,$A151,"") | R151: {=IFERROR(INDEX(Q$2:Q$210,SMALL(IF(Q$2:Q$210<>"",ROW(Q$2:Q$210)-1),ROW(I150))),"")}
G152: =IF(E152="","",VLOOKUP(E152,'Liste des clubs'!$A:$B,2,FALSE)) | I152: =IF($H152=I$1,$A152,"") | J152: {=IFERROR(INDEX(I$2:I$210,SMALL(IF(I$2:I$210<>"",ROW(I$2:I$210)-1),ROW(A151))),"")} | K152: =IF($H152=K$1,$A152,"") | L152: {=IFERROR(INDEX(K$2:K$210,SMALL(IF(K$2:K$210<>"",ROW(K$2:K$210)-1),ROW(C151))),"")} | M152: =IF($H152=M$1,$A152,"") | N152: {=IFERROR(INDEX(M$2:M$210,SMALL(IF(M$2:M$210<>"",ROW(M$2:M$210)-1),ROW(E151))),"")} | O152: =IF($H152=O$1,$A152,"") | P152: {=IFERROR(INDEX(O$2:O$210,SMALL(IF(O$2:O$210<>"",ROW(O$2:O$210)-1),ROW(G151))),"")} | Q152: =IF($H152=Q$1,$A152,"") | R152: {=IFERROR(INDEX(Q$2:Q$210,SMALL(IF(Q$2:Q$210<>"",ROW(Q$2:Q$210)-1),ROW(I151))),"")}
G153: =IF(E153="","",VLOOKUP(E153,'Liste des clubs'!$A:$B,2,FALSE)) | I153: =IF($H153=I$1,$A153,"") | J153: {=IFERROR(INDEX(I$2:I$210,SMALL(IF(I$2:I$210<>"",ROW(I$2:I$210)-1),ROW(A152))),"")} | K153: =IF($H153=K$1,$A153,"") | L153: {=IFERROR(INDEX(K$2:K$210,SMALL(IF(K$2:K$210<>"",ROW(K$2:K$210)-1),ROW(C152))),"")} | M153: =IF($H153=M$1,$A153,"") | N153: {=IFERROR(INDEX(M$2:M$210,SMALL(IF(M$2:M$210<>"",ROW(M$2:M$210)-1),ROW(E152))),"")} | O153: =IF($H153=O$1,$A153,"") | P153: {=IFERROR(INDEX(O$2:O$210,SMALL(IF(O$2:O$210<>"",ROW(O$2:O$210)-1),ROW(G152))),"")} | Q153: =IF($H153=Q$1,$A153,"") | R153: {=IFERROR(INDEX(Q$2:Q$210,SMALL(IF(Q$2:Q$210<>"",ROW(Q$2:Q$210)-1),ROW(I152))),"")}
G154: =IF(E154="","",VLOOKUP(E154,'Liste des clubs'!$A:$B,2,FALSE)) | I154: =IF($H154=I$1,$A154,"") | J154: {=IFERROR(INDEX(I$2:I$210,SMALL(IF(I$2:I$210<>"",ROW(I$2:I$210)-1),ROW(A153))),"")} | K154: =IF($H154=K$1,$A154,"") | L154: {=IFERROR(INDEX(K$2:K$210,SMALL(IF(K$2:K$210<>"",ROW(K$2:K$210)-1),ROW(C153))),"")} | M154: =IF($H154=M$1,$A154,"") | N154: {=IFERROR(INDEX(M$2:M$210,SMALL(IF(M$2:M$210<>"",ROW(M$2:M$210)-1),ROW(E153))),"")} | O154: =IF($H154=O$1,$A154,"") | P154: {=IFERROR(INDEX(O$2:O$210,SMALL(IF(O$2:O$210<>"",ROW(O$2:O$210)-1),ROW(G153))),"")} | Q154: =IF($H154=Q$1,$A154,"") | R154: {=IFERROR(INDEX(Q$2:Q$210,SMALL(IF(Q$2:Q$210<>"",ROW(Q$2:Q$210)-1),ROW(I153))),"")}
G155: =IF(E155="","",VLOOKUP(E155,'Liste des clubs'!$A:$B,2,FALSE)) | I155: =IF($H155=I$1,$A155,"") | J155: {=IFERROR(INDEX(I$2:I$210,SMALL(IF(I$2:I$210<>"",ROW(I$2:I$210)-1),ROW(A154))),"")} | K155: =IF($H155=K$1,$A155,"") | L155: {=IFERROR(INDEX(K$2:K$210,SMALL(IF(K$2:K$210<>"",ROW(K$2:K$210)-1),ROW(C154))),"")} | M155: =IF($H155=M$1,$A155,"") | N155: {=IFERROR(INDEX(M$2:M$210,SMALL(IF(M$2:M$210<>"",ROW(M$2:M$210)-1),ROW(E154))),"")} | O155: =IF($H155=O$1,$A155,"") | P155: {=IFERROR(INDEX(O$2:O$210,SMALL(IF(O$2:O$210<>"",ROW(O$2:O$210)-1),ROW(G154))),"")} | Q155: =IF($H155=Q$1,$A155,"") | R155: {=IFERROR(INDEX(Q$2:Q$210,SMALL(IF(Q$2:Q$210<>"",ROW(Q$2:Q$210)-1),ROW(I154))),"")}
G156: =IF(E156="","",VLOOKUP(E156,'Liste des clubs'!$A:$B,2,FALSE)) | I156: =IF($H156=I$1,$A156,"") | J156: {=IFERROR(INDEX(I$2:I$210,SMALL(IF(I$2:I$210<>"",ROW(I$2:I$210)-1),ROW(A155))),"")} | K156: =IF($H156=K$1,$A156,"") | L156: {=IFERROR(INDEX(K$2:K$210,SMALL(IF(K$2:K$210<>"",ROW(K$2:K$210)-1),ROW(C155))),"")} | M156: =IF($H156=M$1,$A156,"") | N156: {=IFERROR(INDEX(M$2:M$210,SMALL(IF(M$2:M$210<>"",ROW(M$2:M$210)-1),ROW(E155))),"")} | O156: =IF($H156=O$1,$A156,"") | P156: {=IFERROR(INDEX(O$2:O$210,SMALL(IF(O$2:O$210<>"",ROW(O$2:O$210)-1),ROW(G155))),"")} | Q156: =IF($H156=Q$1,$A156,"") | R156: {=IFERROR(INDEX(Q$2:Q$210,SMALL(IF(Q$2:Q$210<>"",ROW(Q$2:Q$210)-1),ROW(I155))),"")}
... G500: =IF(E500="","",VLOOKUP(E500,'Liste des clubs'!$A:$B,2,FALSE)) | I500: =IF($H500=I$1,$A500,"") | J500: {=IFERROR(INDEX(I$2:I$210,SMALL(IF(I$2:I$210<>"",ROW(I$2:I$210)-1),ROW(A499))),"")} | K500: =IF($H500=K$1,$A500,"") | L500: {=IFERROR(INDEX(K$2:K$210,SMALL(IF(K$2:K$210<>"",ROW(K$2:K$210)-1),ROW(C499))),"")} | M500: =IF($H500=M$1,$A500,"") | N500: {=IFERROR(INDEX(M$2:M$210,SMALL(IF(M$2:M$210<>"",ROW(M$2:M$210)-1),ROW(E499))),"")} | O500: =IF($H500=O$1,$A500,"") | P500: {=IFERROR(INDEX(O$2:O$210,SMALL(IF(O$2:O$210<>"",ROW(O$2:O$210)-1),ROW(G499))),"")} | Q500: =IF($H500=Q$1,$A500,"") | R500: {=IFERROR(INDEX(Q$2:Q$210,SMALL(IF(Q$2:Q$210<>"",ROW(Q$2:Q$210)-1),ROW(I499))),"")}
G501: =IF(F501="","",VLOOKUP(E501,'Liste des clubs'!$A$2:$B$114,2,FALSE)) | I501: =IF($H501=I$1,$A501,"") | K501: =IF($H501=K$1,$A501,"") | M501: =IF($H501=M$1,$A501,"") | O501: =IF($H501=O$1,$A501,"") | Q501: =IF($H501=Q$1,$A501,"")
G502: =IF(F502="","",VLOOKUP(E502,'Liste des clubs'!$A$2:$B$114,2,FALSE)) | I502: =IF($H502=I$1,$A502,"") | K502: =IF($H502=K$1,$A502,"") | M502: =IF($H502=M$1,$A502,"") | O502: =IF($H502=O$1,$A502,"") | Q502: =IF($H502=Q$1,$A502,"")
G503: =IF(F503="","",VLOOKUP(E503,'Liste des clubs'!$A$2:$B$114,2,FALSE)) | I503: =IF($H503=I$1,$A503,"") | K503: =IF($H503=K$1,$A503,"") | M503: =IF($H503=M$1,$A503,"") | O503: =IF($H503=O$1,$A503,"") | Q503: =IF($H503=Q$1,$A503,"")
G504: =IF(F504="","",VLOOKUP(E504,'Liste des clubs'!$A$2:$B$114,2,FALSE)) | I504: =IF($H504=I$1,$A504,"") | K504: =IF($H504=K$1,$A504,"") | M504: =IF($H504=M$1,$A504,"") | O504: =IF($H504=O$1,$A504,"") | Q504: =IF($H504=Q$1,$A504,"")
G505: =IF(F505="","",VLOOKUP(E505,'Liste des clubs'!$A$2:$B$114,2,FALSE)) | I505: =IF($H505=I$1,$A505,"") | K505: =IF($H505=K$1,$A505,"") | M505: =IF($H505=M$1,$A505,"") | O505: =IF($H505=O$1,$A505,"") | Q505: =IF($H505=Q$1,$A505,"")
G506: =IF(F506="","",VLOOKUP(E506,'Liste des clubs'!$A$2:$B$114,2,FALSE)) | I506: =IF($H506=I$1,$A506,"") | K506: =IF($H506=K$1,$A506,"") | M506: =IF($H506=M$1,$A506,"") | O506: =IF($H506=O$1,$A506,"") | Q506: =IF($H506=Q$1,$A506,"")
G507: =IF(F507="","",VLOOKUP(E507,'Liste des clubs'!$A$2:$B$114,2,FALSE)) | I507: =IF($H507=I$1,$A507,"") | K507: =IF($H507=K$1,$A507,"") | M507: =IF($H507=M$1,$A507,"") | O507: =IF($H507=O$1,$A507,"") | Q507: =IF($H507=Q$1,$A507,"")
G508: =IF(F508="","",VLOOKUP(E508,'Liste des clubs'!$A$2:$B$114,2,FALSE)) | I508: =IF($H508=I$1,$A508,"") | K508: =IF($H508=K$1,$A508,"") | M508: =IF($H508=M$1,$A508,"") | O508: =IF($H508=O$1,$A508,"") | Q508: =IF($H508=Q$1,$A508,"")
G509: =IF(F509="","",VLOOKUP(E509,'Liste des clubs'!$A$2:$B$114,2,FALSE)) | I509: =IF($H509=I$1,$A509,"") | K509: =IF($H509=K$1,$A509,"") | M509: =IF($H509=M$1,$A509,"") | O509: =IF($H509=O$1,$A509,"") | Q509: =IF($H509=Q$1,$A509,"")
G510: =IF(F510="","",VLOOKUP(E510,'Liste des clubs'!$A$2:$B$114,2,FALSE)) | I510: =IF($H510=I$1,$A510,"") | K510: =IF($H510=K$1,$A510,"") | M510: =IF($H510=M$1,$A510,"") | O510: =IF($H510=O$1,$A510,"") | Q510: =IF($H510=Q$1,$A510,"")
G511: =IF(F511="","",VLOOKUP(E511,'Liste des clubs'!$A$2:$B$114,2,FALSE)) | I511: =IF($H511=I$1,$A511,"") | K511: =IF($H511=K$1,$A511,"") | M511: =IF($H511=M$1,$A511,"") | O511: =IF($H511=O$1,$A511,"") | Q511: =IF($H511=Q$1,$A511,"")
G512: =IF(F512="","",VLOOKUP(E512,'Liste des clubs'!$A$2:$B$114,2,FALSE)) | I512: =IF($H512=I$1,$A512,"") | K512: =IF($H512=K$1,$A512,"") | M512: =IF($H512=M$1,$A512,"") | O512: =IF($H512=O$1,$A512,"") | Q512: =IF($H512=Q$1,$A512,"")
... G903: =IF(F903="","",VLOOKUP(E903,'Liste des clubs'!$A$2:$B$114,2,FALSE)) | I903: =IF($H903=I$1,$A903,"") | K903: =IF($H903=K$1,$A903,"") | M903: =IF($H903=M$1,$A903,"") | O903: =IF($H903=O$1,$A903,"") | Q903: =IF($H903=Q$1,$A903,"")
G904: =IF(F904="","",VLOOKUP(E904,'Liste des clubs'!$A$2:$B$114,2,FALSE))
G905: =IF(F905="","",VLOOKUP(E905,'Liste des clubs'!$A$2:$B$114,2,FALSE))
G906: =IF(F906="","",VLOOKUP(E906,'Liste des clubs'!$A$2:$B$114,2,FALSE))
G907: =IF(F907="","",VLOOKUP(E907,'Liste des clubs'!$A$2:$B$114,2,FALSE))
G908: =IF(F908="","",VLOOKUP(E908,'Liste des clubs'!$A$2:$B$114,2,FALSE))
G909: =IF(F909="","",VLOOKUP(E909,'Liste des clubs'!$A$2:$B$114,2,FALSE))
G910: =IF(F910="","",VLOOKUP(E910,'Liste des clubs'!$A$2:$B$114,2,FALSE))
G911: =IF(F911="","",VLOOKUP(E911,'Liste des clubs'!$A$2:$B$114,2,FALSE))
G912: =IF(F912="","",VLOOKUP(E912,'Liste des clubs'!$A$2:$B$114,2,FALSE))
G913: =IF(F913="","",VLOOKUP(E913,'Liste des clubs'!$A$2:$B$114,2,FALSE))
G914: =IF(F914="","",VLOOKUP(E914,'Liste des clubs'!$A$2:$B$114,2,FALSE))
G915: =IF(F915="","",VLOOKUP(E915,'Liste des clubs'!$A$2:$B$114,2,FALSE))
... G930: =IF(F930="","",VLOOKUP(E930,'Liste des clubs'!$A$2:$B$114,2,FALSE))

Sheet Dames
A1: Nom prénom | B1: Nom | C1: Prénom | D1: Licence | E1: Code Club | F1: classt | G1: Club | H1: Tableau supplémentaire | I1: CS F 30/3 | K1: CS F 30/1 | M1: FT NC F | O1: FT4 F | Q1: FT3 F
A2: =B2&" "&C2 -> ALECSANDRE Angèle | B2: ALECSANDRE | C2: Angèle | D2: 0204944 P | E2: CLUB TULIPE NOIRE HAZEBROUCK | F2: 30/3 | G2: =IF(E2="","",VLOOKUP(E2,'Liste des clubs'!$A:$B,2,FALSE)) -> HAZEBRO | H2: CS F 30/3 | I2: =IF($H2=I$1,$A2,"") -> ALECSANDRE Angèle | J2: {=IFERROR(INDEX(I$2:I$210,SMALL(IF(I$2:I$210<>"",ROW(I$2:I$210)-1),ROW(A1))),"")} -> ALECSANDRE Angèle | K2: =IF($H2=K$1,$A2,"") | L2: {=IFERROR(INDEX(K$2:K$210,SMALL(IF(K$2:K$210<>"",ROW(K$2:K$210)-1),ROW(C1))),"")} -> AVEZ Béatrice | M2: =IF($H2=M$1,$A2,"") | N2: {=IFERROR(INDEX(M$2:M$210,SMALL(IF(M$2:M$210<>"",ROW(M$2:M$210)-1),ROW(E1))),"")} -> BONAMI Sarah | O2: =IF($H2=O$1,$A2,"") | P2: {=IFERROR(INDEX(O$2:O$210,SMALL(IF(O$2:O$210<>"",ROW(O$2:O$210)-1),ROW(G1))),"")} -> BOULINGUIEZ Camille | Q2: =IF($H2=Q$1,$A2,"") | R2: {=IFERROR(INDEX(Q$2:Q$210,SMALL(IF(Q$2:Q$210<>"",ROW(Q$2:Q$210)-1),ROW(I1))),"")} -> DUDZIK Faustine | S2: CS F 30/3
A3: =B3&" "&C3 -> AVEZ Béatrice | B3: AVEZ | C3: Béatrice | D3: 1077272 X | E3: CLUB TULIPE NOIRE HAZEBROUCK | F3: 30/4 | G3: =IF(E3="","",VLOOKUP(E3,'Liste des clubs'!$A:$B,2,FALSE)) -> HAZEBRO | H3: CS F 30/1 | I3: =IF($H3=I$1,$A3,"") | J3: {=IFERROR(INDEX(I$2:I$210,SMALL(IF(I$2:I$210<>"",ROW(I$2:I$210)-1),ROW(A2))),"")} -> BOUSSEKEY Claudine | K3: =IF($H3=K$1,$A3,"") -> AVEZ Béatrice | L3: {=IFERROR(INDEX(K$2:K$210,SMALL(IF(K$2:K$210<>"",ROW(K$2:K$210)-1),ROW(C2))),"")} -> BRYGO Clotilde | M3: =IF($H3=M$1,$A3,"") | N3: {=IFERROR(INDEX(M$2:M$210,SMALL(IF(M$2:M$210<>"",ROW(M$2:M$210)-1),ROW(E2))),"")} -> CAULIER CLEMENCE | O3: =IF($H3=O$1,$A3,"") | P3: {=IFERROR(INDEX(O$2:O$210,SMALL(IF(O$2:O$210<>"",ROW(O$2:O$210)-1),ROW(G2))),"")} -> DELPIERRE Ludivine | Q3: =IF($H3=Q$1,$A3,"") | R3: {=IFERROR(INDEX(Q$2:Q$210,SMALL(IF(Q$2:Q$210<>"",ROW(Q$2:Q$210)-1),ROW(I2))),"")} -> EVRARD Valentine | S3: CS F 30/1
A4: =B4&" "&C4 -> BONAMI Sarah | B4: BONAMI | C4: Sarah | D4: 8276486 E | E4: TC RONCQ | F4: 4/6 | G4: =IF(E4="","",VLOOKUP(E4,'Liste des clubs'!$A:$B,2,FALSE)) -> RONCQ | H4: FT NC F | I4: =IF($H4=I$1,$A4,"") | J4: {=IFERROR(INDEX(I$2:I$210,SMALL(IF(I$2:I$210<>"",ROW(I$2:I$210)-1),ROW(A3))),"")} | K4: =IF($H4=K$1,$A4,"") | L4: {=IFERROR(INDEX(K$2:K$210,SMALL(IF(K$2:K$210<>"",ROW(K$2:K$210)-1),ROW(C3))),"")} | M4: =IF($H4=M$1,$A4,"") -> BONAMI Sarah | N4: {=IFERROR(INDEX(M$2:M$210,SMALL(IF(M$2:M$210<>"",ROW(M$2:M$210)-1),ROW(E3))),"")} | O4: =IF($H4=O$1,$A4,"") | P4: {=IFERROR(INDEX(O$2:O$210,SMALL(IF(O$2:O$210<>"",ROW(O$2:O$210)-1),ROW(G3))),"")} | Q4: =IF($H4=Q$1,$A4,"") | R4: {=IFERROR(INDEX(Q$2:Q$210,SMALL(IF(Q$2:Q$210<>"",ROW(Q$2:Q$210)-1),ROW(I3))),"")} | S4: FT NC F
A5: =B5&" "&C5 -> BOULINGUIEZ Camille | B5: BOULINGUIEZ | C5: Camille | D5: 1139132 L | E5: TC MERVILLE | F5: 15/5 | G5: =IF(E5="","",VLOOKUP(E5,'Liste des clubs'!$A:$B,2,FALSE)) -> MERVILL | H5: FT4 F | I5: =IF($H5=I$1,$A5,"") | J5: {=IFERROR(INDEX(I$2:I$210,SMALL(IF(I$2:I$210<>"",ROW(I$2:I$210)-1),ROW(A4))),"")} | K5: =IF($H5=K$1,$A5,"") | L5: {=IFERROR(INDEX(K$2:K$210,SMALL(IF(K$2:K$210<>"",ROW(K$2:K$210)-1),ROW(C4))),"")} | M5: =IF($H5=M$1,$A5,"") | N5: {=IFERROR(INDEX(M$2:M$210,SMALL(IF(M$2:M$210<>"",ROW(M$2:M$210)-1),ROW(E4))),"")} | O5: =IF($H5=O$1,$A5,"") -> BOULINGUIEZ Camille | P5: {=IFERROR(INDEX(O$2:O$210,SMALL(IF(O$2:O$210<>"",ROW(O$2:O$210)-1),ROW(G4))),"")} | Q5: =IF($H5=Q$1,$A5,"") | R5: {=IFERROR(INDEX(Q$2:Q$210,SMALL(IF(Q$2:Q$210<>"",ROW(Q$2:Q$210)-1),ROW(I4))),"")} | S5: FT4 F
A6: =B6&" "&C6 -> BOUSSEKEY Claudine | B6: BOUSSEKEY | C6: Claudine | D6: 3157101 F | E6: CLUB TULIPE NOIRE HAZEBROUCK | F6: 30/4 | G6: =IF(E6="","",VLOOKUP(E6,'Liste des clubs'!$A:$B,2,FALSE)) -> HAZEBRO | H6: CS F 30/3 | I6: =IF($H6=I$1,$A6,"") -> BOUSSEKEY Claudine | J6: {=IFERROR(INDEX(I$2:I$210,SMALL(IF(I$2:I$210<>"",ROW(I$2:I$210)-1),ROW(A5))),"")} | K6: =IF($H6=K$1,$A6,"") | L6: {=IFERROR(INDEX(K$2:K$210,SMALL(IF(K$2:K$210<>"",ROW(K$2:K$210)-1),ROW(C5))),"")} | M6: =IF($H6=M$1,$A6,"") | N6: {=IFERROR(INDEX(M$2:M$210,SMALL(IF(M$2:M$210<>"",ROW(M$2:M$210)-1),ROW(E5))),"")} | O6: =IF($H6=O$1,$A6,"") | P6: {=IFERROR(INDEX(O$2:O$210,SMALL(IF(O$2:O$210<>"",ROW(O$2:O$210)-1),ROW(G5))),"")} | Q6: =IF($H6=Q$1,$A6,"") | R6: {=IFERROR(INDEX(Q$2:Q$210,SMALL(IF(Q$2:Q$210<>"",ROW(Q$2:Q$210)-1),ROW(I5))),"")} | S6: FT3 F
A7: =B7&" "&C7 -> BRYGO Clotilde | B7: BRYGO | C7: Clotilde | D7: 0758847 H | E7: CLUB TULIPE NOIRE HAZEBROUCK | F7: 30/2 | G7: =IF(E7="","",VLOOKUP(E7,'Liste des clubs'!$A:$B,2,FALSE)) -> HAZEBRO | H7: CS F 30/1 | I7: =IF($H7=I$1,$A7,"") | J7: {=IFERROR(INDEX(I$2:I$210,SMALL(IF(I$2:I$210<>"",ROW(I$2:I$210)-1),ROW(A6))),"")} | K7: =IF($H7=K$1,$A7,"") -> BRYGO Clotilde | L7: {=IFERROR(INDEX(K$2:K$210,SMALL(IF(K$2:K$210<>"",ROW(K$2:K$210)-1),ROW(C6))),"")} | M7: =IF($H7=M$1,$A7,"") | N7: {=IFERROR(INDEX(M$2:M$210,SMALL(IF(M$2:M$210<>"",ROW(M$2:M$210)-1),ROW(E6))),"")} | O7: =IF($H7=O$1,$A7,"") | P7: {=IFERROR(INDEX(O$2:O$210,SMALL(IF(O$2:O$210<>"",ROW(O$2:O$210)-1),ROW(G6))),"")} | Q7: =IF($H7=Q$1,$A7,"") | R7: {=IFERROR(INDEX(Q$2:Q$210,SMALL(IF(Q$2:Q$210<>"",ROW(Q$2:Q$210)-1),ROW(I6))),"")}
A8: =B8&" "&C8 -> CAULIER CLEMENCE | B8: CAULIER | C8: CLEMENCE | D8: 8790815 H | E8: CLUB TULIPE NOIRE HAZEBROUCK | F8: 30/1 | G8: =IF(E8="","",VLOOKUP(E8,'Liste des clubs'!$A:$B,2,FALSE)) -> HAZEBRO | H8: FT NC F | I8: =IF($H8=I$1,$A8,"") | J8: {=IFERROR(INDEX(I$2:I$210,SMALL(IF(I$2:I$210<>"",ROW(I$2:I$210)-1),ROW(A7))),"")} | K8: =IF($H8=K$1,$A8,"") | L8: {=IFERROR(INDEX(K$2:K$210,SMALL(IF(K$2:K$210<>"",ROW(K$2:K$210)-1),ROW(C7))),"")} | M8: =IF($H8=M$1,$A8,"") -> CAULIER CLEMENCE | N8: {=IFERROR(INDEX(M$2:M$210,SMALL(IF(M$2:M$210<>"",ROW(M$2:M$210)-1),ROW(E7))),"")} | O8: =IF($H8=O$1,$A8,"") | P8: {=IFERROR(INDEX(O$2:O$210,SMALL(IF(O$2:O$210<>"",ROW(O$2:O$210)-1),ROW(G7))),"")} | Q8: =IF($H8=Q$1,$A8,"") | R8: {=IFERROR(INDEX(Q$2:Q$210,SMALL(IF(Q$2:Q$210<>"",ROW(Q$2:Q$210)-1),ROW(I7))),"")}
A9: =B9&" "&C9 -> DELPIERRE Ludivine | B9: DELPIERRE | C9: Ludivine | D9: 0224235 H | E9: TC MERVILLE | F9: 15/3 | G9: =IF(E9="","",VLOOKUP(E9,'Liste des clubs'!$A:$B,2,FALSE)) -> MERVILL | H9: FT4 F | I9: =IF($H9=I$1,$A9,"") | J9: {=IFERROR(INDEX(I$2:I$210,SMALL(IF(I$2:I$210<>"",ROW(I$2:I$210)-1),ROW(A8))),"")} | K9: =IF($H9=K$1,$A9,"") | L9: {=IFERROR(INDEX(K$2:K$210,SMALL(IF(K$2:K$210<>"",ROW(K$2:K$210)-1),ROW(C8))),"")} | M9: =IF($H9=M$1,$A9,"") | N9: {=IFERROR(INDEX(M$2:M$210,SMALL(IF(M$2:M$210<>"",ROW(M$2:M$210)-1),ROW(E8))),"")} | O9: =IF($H9=O$1,$A9,"") -> DELPIERRE Ludivine | P9: {=IFERROR(INDEX(O$2:O$210,SMALL(IF(O$2:O$210<>"",ROW(O$2:O$210)-1),ROW(G8))),"")} | Q9: =IF($H9=Q$1,$A9,"") | R9: {=IFERROR(INDEX(Q$2:Q$210,SMALL(IF(Q$2:Q$210<>"",ROW(Q$2:Q$210)-1),ROW(I8))),"")}
A10: =B10&" "&C10 -> DUDZIK Faustine | B10: DUDZIK | C10: Faustine | D10: 2395879 R | E10: TC LESTREM | F10: 30/1 | G10: =IF(E10="","",VLOOKUP(E10,'Liste des clubs'!$A:$B,2,FALSE)) -> LESTREM | H10: FT3 F | I10: =IF($H10=I$1,$A10,"") | J10: {=IFERROR(INDEX(I$2:I$210,SMALL(IF(I$2:I$210<>"",ROW(I$2:I$210)-1),ROW(A9))),"")} | K10: =IF($H10=K$1,$A10,"") | L10: {=IFERROR(INDEX(K$2:K$210,SMALL(IF(K$2:K$210<>"",ROW(K$2:K$210)-1),ROW(C9))),"")} | M10: =IF($H10=M$1,$A10,"") | N10: {=IFERROR(INDEX(M$2:M$210,SMALL(IF(M$2:M$210<>"",ROW(M$2:M$210)-1),ROW(E9))),"")} | O10: =IF($H10=O$1,$A10,"") | P10: {=IFERROR(INDEX(O$2:O$210,SMALL(IF(O$2:O$210<>"",ROW(O$2:O$210)-1),ROW(G9))),"")} | Q10: =IF($H10=Q$1,$A10,"") -> DUDZIK Faustine | R10: {=IFERROR(INDEX(Q$2:Q$210,SMALL(IF(Q$2:Q$210<>"",ROW(Q$2:Q$210)-1),ROW(I9))),"")}
A11: =B11&" "&C11 -> EVRARD Valentine | B11: EVRARD | C11: Valentine | D11: 1132763 N | E11: CLUB TULIPE NOIRE HAZEBROUCK | F11: 40 | G11: =IF(E11="","",VLOOKUP(E11,'Liste des clubs'!$A:$B,2,FALSE)) -> HAZEBRO | H11: FT3 F | I11: =IF($H11=I$1,$A11,"") | J11: {=IFERROR(INDEX(I$2:I$210,SMALL(IF(I$2:I$210<>"",ROW(I$2:I$210)-1),ROW(A10))),"")} | K11: =IF($H11=K$1,$A11,"") | L11: {=IFERROR(INDEX(K$2:K$210,SMALL(IF(K$2:K$210<>"",ROW(K$2:K$210)-1),ROW(C10))),"")} | M11: =IF($H11=M$1,$A11,"") | N11: {=IFERROR(INDEX(M$2:M$210,SMALL(IF(M$2:M$210<>"",ROW(M$2:M$210)-1),ROW(E10))),"")} | O11: =IF($H11=O$1,$A11,"") | P11: {=IFERROR(INDEX(O$2:O$210,SMALL(IF(O$2:O$210<>"",ROW(O$2:O$210)-1),ROW(G10))),"")} | Q11: =IF($H11=Q$1,$A11,"") -> EVRARD Valentine | R11: {=IFERROR(INDEX(Q$2:Q$210,SMALL(IF(Q$2:Q$210<>"",ROW(Q$2:Q$210)-1),ROW(I10))),"")}
A12: =B12&" "&C12 -> JANOSZKA Christine | B12: JANOSZKA | C12: Christine | D12: 7122550 B | E12: TC LIEVIN | F12: 15/3 | G12: =IF(E12="","",VLOOKUP(E12,'Liste des clubs'!$A:$B,2,FALSE)) -> #N/A | I12: =IF($H12=I$1,$A12,"") | J12: {=IFERROR(INDEX(I$2:I$210,SMALL(IF(I$2:I$210<>"",ROW(I$2:I$210)-1),ROW(A11))),"")} | K12: =IF($H12=K$1,$A12,"") | L12: {=IFERROR(INDEX(K$2:K$210,SMALL(IF(K$2:K$210<>"",ROW(K$2:K$210)-1),ROW(C11))),"")} | M12: =IF($H12=M$1,$A12,"") | N12: {=IFERROR(INDEX(M$2:M$210,SMALL(IF(M$2:M$210<>"",ROW(M$2:M$210)-1),ROW(E11))),"")} | O12: =IF($H12=O$1,$A12,"") | P12: {=IFERROR(INDEX(O$2:O$210,SMALL(IF(O$2:O$210<>"",ROW(O$2:O$210)-1),ROW(G11))),"")} | Q12: =IF($H12=Q$1,$A12,"") | R12: {=IFERROR(INDEX(Q$2:Q$210,SMALL(IF(Q$2:Q$210<>"",ROW(Q$2:Q$210)-1),ROW(I11))),"")}
A13: =B13&" "&C13 -> LAVERSIN Soline | B13: LAVERSIN | C13: Soline | D13: 6729939 A | E13: CLUB TULIPE NOIRE HAZEBROUCK | F13: 30/5 | G13: =IF(E13="","",VLOOKUP(E13,'Liste des clubs'!$A:$B,2,FALSE)) -> HAZEBRO | I13: =IF($H13=I$1,$A13,"") | J13: {=IFERROR(INDEX(I$2:I$210,SMALL(IF(I$2:I$210<>"",ROW(I$2:I$210)-1),ROW(A12))),"")} | K13: =IF($H13=K$1,$A13,"") | L13: {=IFERROR(INDEX(K$2:K$210,SMALL(IF(K$2:K$210<>"",ROW(K$2:K$210)-1),ROW(C12))),"")} | M13: =IF($H13=M$1,$A13,"") | N13: {=IFERROR(INDEX(M$2:M$210,SMALL(IF(M$2:M$210<>"",ROW(M$2:M$210)-1),ROW(E12))),"")} | O13: =IF($H13=O$1,$A13,"") | P13: {=IFERROR(INDEX(O$2:O$210,SMALL(IF(O$2:O$210<>"",ROW(O$2:O$210)-1),ROW(G12))),"")} | Q13: =IF($H13=Q$1,$A13,"") | R13: {=IFERROR(INDEX(Q$2:Q$210,SMALL(IF(Q$2:Q$210<>"",ROW(Q$2:Q$210)-1),ROW(I12))),"")}
A14: =B14&" "&C14 -> LEGRAND Anais | B14: LEGRAND | C14: Anais | D14: 2948667 X | E14: BOURG EN BRESSE (TC DE) | F14: 15/3 | G14: =IF(E14="","",VLOOKUP(E14,'Liste des clubs'!$A:$B,2,FALSE)) -> #N/A | I14: =IF($H14=I$1,$A14,"") | J14: {=IFERROR(INDEX(I$2:I$210,SMALL(IF(I$2:I$210<>"",ROW(I$2:I$210)-1),ROW(A13))),"")} | K14: =IF($H14=K$1,$A14,"") | L14: {=IFERROR(INDEX(K$2:K$210,SMALL(IF(K$2:K$210<>"",ROW(K$2:K$210)-1),ROW(C13))),"")} | M14: =IF($H14=M$1,$A14,"") | N14: {=IFERROR(INDEX(M$2:M$210,SMALL(IF(M$2:M$210<>"",ROW(M$2:M$210)-1),ROW(E13))),"")} | O14: =IF($H14=O$1,$A14,"") | P14: {=IFERROR(INDEX(O$2:O$210,SMALL(IF(O$2:O$210<>"",ROW(O$2:O$210)-1),ROW(G13))),"")} | Q14: =IF($H14=Q$1,$A14,"") | R14: {=IFERROR(INDEX(Q$2:Q$210,SMALL(IF(Q$2:Q$210<>"",ROW(Q$2:Q$210)-1),ROW(I13))),"")}
A15: =B15&" "&C15 -> MANTE Emilie | B15: MANTE | C15: Emilie | D15: 3094236 Z | E15: CLUB TULIPE NOIRE HAZEBROUCK | F15: NC | G15: =IF(E15="","",VLOOKUP(E15,'Liste des clubs'!$A:$B,2,FALSE)) -> HAZEBRO | I15: =IF($H15=I$1,$A15,"") | J15: {=IFERROR(INDEX(I$2:I$210,SMALL(IF(I$2:I$210<>"",ROW(I$2:I$210)-1),ROW(A14))),"")} | K15: =IF($H15=K$1,$A15,"") | L15: {=IFERROR(INDEX(K$2:K$210,SMALL(IF(K$2:K$210<>"",ROW(K$2:K$210)-1),ROW(C14))),"")} | M15: =IF($H15=M$1,$A15,"") | N15: {=IFERROR(INDEX(M$2:M$210,SMALL(IF(M$2:M$210<>"",ROW(M$2:M$210)-1),ROW(E14))),"")} | O15: =IF($H15=O$1,$A15,"") | P15: {=IFERROR(INDEX(O$2:O$210,SMALL(IF(O$2:O$210<>"",ROW(O$2:O$210)-1),ROW(G14))),"")} | Q15: =IF($H15=Q$1,$A15,"") | R15: {=IFERROR(INDEX(Q$2:Q$210,SMALL(IF(Q$2:Q$210<>"",ROW(Q$2:Q$210)-1),ROW(I14))),"")}
A16: =B16&" "&C16 -> MOREY Delphine | B16: MOREY | C16: Delphine | D16: 2124330 D | E16: CLUB TULIPE NOIRE HAZEBROUCK | F16: 30/5 | G16: =IF(E16="","",VLOOKUP(E16,'Liste des clubs'!$A:$B,2,FALSE)) -> HAZEBRO | I16: =IF($H16=I$1,$A16,"") | J16: {=IFERROR(INDEX(I$2:I$210,SMALL(IF(I$2:I$210<>"",ROW(I$2:I$210)-1),ROW(A15))),"")} | K16: =IF($H16=K$1,$A16,"") | L16: {=IFERROR(INDEX(K$2:K$210,SMALL(IF(K$2:K$210<>"",ROW(K$2:K$210)-1),ROW(C15))),"")} | M16: =IF($H16=M$1,$A16,"") | N16: {=IFERROR(INDEX(M$2:M$210,SMALL(IF(M$2:M$210<>"",ROW(M$2:M$210)-1),ROW(E15))),"")} | O16: =IF($H16=O$1,$A16,"") | P16: {=IFERROR(INDEX(O$2:O$210,SMALL(IF(O$2:O$210<>"",ROW(O$2:O$210)-1),ROW(G15))),"")} | Q16: =IF($H16=Q$1,$A16,"") | R16: {=IFERROR(INDEX(Q$2:Q$210,SMALL(IF(Q$2:Q$210<>"",ROW(Q$2:Q$210)-1),ROW(I15))),"")}
A17: =B17&" "&C17 -> PACCOU Caroline | B17: PACCOU | C17: Caroline | D17: 3814162 C | E17: TC STEENVOORDE | F17: NC | G17: =IF(E17="","",VLOOKUP(E17,'Liste des clubs'!$A:$B,2,FALSE)) -> STEEN | I17: =IF($H17=I$1,$A17,"") | J17: {=IFERROR(INDEX(I$2:I$210,SMALL(IF(I$2:I$210<>"",ROW(I$2:I$210)-1),ROW(A16))),"")} | K17: =IF($H17=K$1,$A17,"") | L17: {=IFERROR(INDEX(K$2:K$210,SMALL(IF(K$2:K$210<>"",ROW(K$2:K$210)-1),ROW(C16))),"")} | M17: =IF($H17=M$1,$A17,"") | N17: {=IFERROR(INDEX(M$2:M$210,SMALL(IF(M$2:M$210<>"",ROW(M$2:M$210)-1),ROW(E16))),"")} | O17: =IF($H17=O$1,$A17,"") | P17: {=IFERROR(INDEX(O$2:O$210,SMALL(IF(O$2:O$210<>"",ROW(O$2:O$210)-1),ROW(G16))),"")} | Q17: =IF($H17=Q$1,$A17,"") | R17: {=IFERROR(INDEX(Q$2:Q$210,SMALL(IF(Q$2:Q$210<>"",ROW(Q$2:Q$210)-1),ROW(I16))),"")}
A18: =B18&" "&C18 -> PETITPREZ Noemie | B18: PETITPREZ | C18: Noemie | D18: 1148228 Y | E18: TC MERVILLE | F18: 30 | G18: =IF(E18="","",VLOOKUP(E18,'Liste des clubs'!$A:$B,2,FALSE)) -> MERVILL | I18: =IF($H18=I$1,$A18,"") | J18: {=IFERROR(INDEX(I$2:I$210,SMALL(IF(I$2:I$210<>"",ROW(I$2:I$210)-1),ROW(A17))),"")} | K18: =IF($H18=K$1,$A18,"") | L18: {=IFERROR(INDEX(K$2:K$210,SMALL(IF(K$2:K$210<>"",ROW(K$2:K$210)-1),ROW(C17))),"")} | M18: =IF($H18=M$1,$A18,"") | N18: {=IFERROR(INDEX(M$2:M$210,SMALL(IF(M$2:M$210<>"",ROW(M$2:M$210)-1),ROW(E17))),"")} | O18: =IF($H18=O$1,$A18,"") | P18: {=IFERROR(INDEX(O$2:O$210,SMALL(IF(O$2:O$210<>"",ROW(O$2:O$210)-1),ROW(G17))),"")} | Q18: =IF($H18=Q$1,$A18,"") | R18: {=IFERROR(INDEX(Q$2:Q$210,SMALL(IF(Q$2:Q$210<>"",ROW(Q$2:Q$210)-1),ROW(I17))),"")}
A19: =B19&" "&C19 -> PLATTEAU Valérie | B19: PLATTEAU | C19: Valérie | D19: 6268316 L | E19: CLUB TULIPE NOIRE HAZEBROUCK | F19: 30/3 | G19: =IF(E19="","",VLOOKUP(E19,'Liste des clubs'!$A:$B,2,FALSE)) -> HAZEBRO | I19: =IF($H19=I$1,$A19,"") | J19: {=IFERROR(INDEX(I$2:I$210,SMALL(IF(I$2:I$210<>"",ROW(I$2:I$210)-1),ROW(A18))),"")} | K19: =IF($H19=K$1,$A19,"") | L19: {=IFERROR(INDEX(K$2:K$210,SMALL(IF(K$2:K$210<>"",ROW(K$2:K$210)-1),ROW(C18))),"")} | M19: =IF($H19=M$1,$A19,"") | N19: {=IFERROR(INDEX(M$2:M$210,SMALL(IF(M$2:M$210<>"",ROW(M$2:M$210)-1),ROW(E18))),"")} | O19: =IF($H19=O$1,$A19,"") | P19: {=IFERROR(INDEX(O$2:O$210,SMALL(IF(O$2:O$210<>"",ROW(O$2:O$210)-1),ROW(G18))),"")} | Q19: =IF($H19=Q$1,$A19,"") | R19: {=IFERROR(INDEX(Q$2:Q$210,SMALL(IF(Q$2:Q$210<>"",ROW(Q$2:Q$210)-1),ROW(I18))),"")}
A20: =B20&" "&C20 -> SCIACALUGA Lucie | B20: SCIACALUGA | C20: Lucie | D20: 6231142 E | E20: ETOILE SPORTIVE ARQUES | F20: 4/6 | G20: =IF(E20="","",VLOOKUP(E20,'Liste des clubs'!$A:$B,2,FALSE)) -> ARQUES | I20: =IF($H20=I$1,$A20,"") | J20: {=IFERROR(INDEX(I$2:I$210,SMALL(IF(I$2:I$210<>"",ROW(I$2:I$210)-1),ROW(A19))),"")} | K20: =IF($H20=K$1,$A20,"") | L20: {=IFERROR(INDEX(K$2:K$210,SMALL(IF(K$2:K$210<>"",ROW(K$2:K$210)-1),ROW(C19))),"")} | M20: =IF($H20=M$1,$A20,"") | N20: {=IFERROR(INDEX(M$2:M$210,SMALL(IF(M$2:M$210<>"",ROW(M$2:M$210)-1),ROW(E19))),"")} | O20: =IF($H20=O$1,$A20,"") | P20: {=IFERROR(INDEX(O$2:O$210,SMALL(IF(O$2:O$210<>"",ROW(O$2:O$210)-1),ROW(G19))),"")} | Q20: =IF($H20=Q$1,$A20,"") | R20: {=IFERROR(INDEX(Q$2:Q$210,SMALL(IF(Q$2:Q$210<>"",ROW(Q$2:Q$210)-1),ROW(I19))),"")}
A21: =B21&" "&C21 -> VANGHENDT Agathe | B21: VANGHENDT | C21: Agathe | D21: 9674102 C | E21: CLUB TULIPE NOIRE HAZEBROUCK | F21: 30 | G21: =IF(E21="","",VLOOKUP(E21,'Liste des clubs'!$A:$B,2,FALSE)) -> HAZEBRO | I21: =IF($H21=I$1,$A21,"") | J21: {=IFERROR(INDEX(I$2:I$210,SMALL(IF(I$2:I$210<>"",ROW(I$2:I$210)-1),ROW(A20))),"")} | K21: =IF($H21=K$1,$A21,"") | L21: {=IFERROR(INDEX(K$2:K$210,SMALL(IF(K$2:K$210<>"",ROW(K$2:K$210)-1),ROW(C20))),"")} | M21: =IF($H21=M$1,$A21,"") | N21: {=IFERROR(INDEX(M$2:M$210,SMALL(IF(M$2:M$210<>"",ROW(M$2:M$210)-1),ROW(E20))),"")} | O21: =IF($H21=O$1,$A21,"") | P21: {=IFERROR(INDEX(O$2:O$210,SMALL(IF(O$2:O$210<>"",ROW(O$2:O$210)-1),ROW(G20))),"")} | Q21: =IF($H21=Q$1,$A21,"") | R21: {=IFERROR(INDEX(Q$2:Q$210,SMALL(IF(Q$2:Q$210<>"",ROW(Q$2:Q$210)-1),ROW(I20))),"")}
A22: =B22&" "&C22 -> VASSEUR Mathilde | B22: VASSEUR | C22: Mathilde | D22: 6274970 U | E22: CLUB TULIPE NOIRE HAZEBROUCK | F22: 30/1 | G22: =IF(E22="","",VLOOKUP(E22,'Liste des clubs'!$A:$B,2,FALSE)) -> HAZEBRO | I22: =IF($H22=I$1,$A22,"") | J22: {=IFERROR(INDEX(I$2:I$210,SMALL(IF(I$2:I$210<>"",ROW(I$2:I$210)-1),ROW(A21))),"")} | K22: =IF($H22=K$1,$A22,"") | L22: {=IFERROR(INDEX(K$2:K$210,SMALL(IF(K$2:K$210<>"",ROW(K$2:K$210)-1),ROW(C21))),"")} | M22: =IF($H22=M$1,$A22,"") | N22: {=IFERROR(INDEX(M$2:M$210,SMALL(IF(M$2:M$210<>"",ROW(M$2:M$210)-1),ROW(E21))),"")} | O22: =IF($H22=O$1,$A22,"") | P22: {=IFERROR(INDEX(O$2:O$210,SMALL(IF(O$2:O$210<>"",ROW(O$2:O$210)-1),ROW(G21))),"")} | Q22: =IF($H22=Q$1,$A22,"") | R22: {=IFERROR(INDEX(Q$2:Q$210,SMALL(IF(Q$2:Q$210<>"",ROW(Q$2:Q$210)-1),ROW(I21))),"")}
A23: =B23&" "&C23 -> WYCKAERT Eva | B23: WYCKAERT | C23: Eva | D23: 7674821 W | E23: TC MERVILLE | F23: 15/2 | G23: =IF(E23="","",VLOOKUP(E23,'Liste des clubs'!$A:$B,2,FALSE)) -> MERVILL | I23: =IF($H23=I$1,$A23,"") | J23: {=IFERROR(INDEX(I$2:I$210,SMALL(IF(I$2:I$210<>"",ROW(I$2:I$210)-1),ROW(A22))),"")} | K23: =IF($H23=K$1,$A23,"") | L23: {=IFERROR(INDEX(K$2:K$210,SMALL(IF(K$2:K$210<>"",ROW(K$2:K$210)-1),ROW(C22))),"")} | M23: =IF($H23=M$1,$A23,"") | N23: {=IFERROR(INDEX(M$2:M$210,SMALL(IF(M$2:M$210<>"",ROW(M$2:M$210)-1),ROW(E22))),"")} | O23: =IF($H23=O$1,$A23,"") | P23: {=IFERROR(INDEX(O$2:O$210,SMALL(IF(O$2:O$210<>"",ROW(O$2:O$210)-1),ROW(G22))),"")} | Q23: =IF($H23=Q$1,$A23,"") | R23: {=IFERROR(INDEX(Q$2:Q$210,SMALL(IF(Q$2:Q$210<>"",ROW(Q$2:Q$210)-1),ROW(I22))),"")}
A24: =B24&" "&C24 | G24: =IF(E24="","",VLOOKUP(E24,'Liste des clubs'!$A:$B,2,FALSE)) | I24: =IF($H24=I$1,$A24,"") | J24: {=IFERROR(INDEX(I$2:I$210,SMALL(IF(I$2:I$210<>"",ROW(I$2:I$210)-1),ROW(A23))),"")} | K24: =IF($H24=K$1,$A24,"") | L24: {=IFERROR(INDEX(K$2:K$210,SMALL(IF(K$2:K$210<>"",ROW(K$2:K$210)-1),ROW(C23))),"")} | M24: =IF($H24=M$1,$A24,"") | N24: {=IFERROR(INDEX(M$2:M$210,SMALL(IF(M$2:M$210<>"",ROW(M$2:M$210)-1),ROW(E23))),"")} | O24: =IF($H24=O$1,$A24,"") | P24: {=IFERROR(INDEX(O$2:O$210,SMALL(IF(O$2:O$210<>"",ROW(O$2:O$210)-1),ROW(G23))),"")} | Q24: =IF($H24=Q$1,$A24,"") | R24: {=IFERROR(INDEX(Q$2:Q$210,SMALL(IF(Q$2:Q$210<>"",ROW(Q$2:Q$210)-1),ROW(I23))),"")}
A25: =B25&" "&C25 | G25: =IF(E25="","",VLOOKUP(E25,'Liste des clubs'!$A:$B,2,FALSE)) | I25: =IF($H25=I$1,$A25,"") | J25: {=IFERROR(INDEX(I$2:I$210,SMALL(IF(I$2:I$210<>"",ROW(I$2:I$210)-1),ROW(A24))),"")} | K25: =IF($H25=K$1,$A25,"") | L25: {=IFERROR(INDEX(K$2:K$210,SMALL(IF(K$2:K$210<>"",ROW(K$2:K$210)-1),ROW(C24))),"")} | M25: =IF($H25=M$1,$A25,"") | N25: {=IFERROR(INDEX(M$2:M$210,SMALL(IF(M$2:M$210<>"",ROW(M$2:M$210)-1),ROW(E24))),"")} | O25: =IF($H25=O$1,$A25,"") | P25: {=IFERROR(INDEX(O$2:O$210,SMALL(IF(O$2:O$210<>"",ROW(O$2:O$210)-1),ROW(G24))),"")} | Q25: =IF($H25=Q$1,$A25,"") | R25: {=IFERROR(INDEX(Q$2:Q$210,SMALL(IF(Q$2:Q$210<>"",ROW(Q$2:Q$210)-1),ROW(I24))),"")}
A26: =B26&" "&C26 | G26: =IF(E26="","",VLOOKUP(E26,'Liste des clubs'!$A:$B,2,FALSE)) | I26: =IF($H26=I$1,$A26,"") | J26: {=IFERROR(INDEX(I$2:I$210,SMALL(IF(I$2:I$210<>"",ROW(I$2:I$210)-1),ROW(A25))),"")} | K26: =IF($H26=K$1,$A26,"") | L26: {=IFERROR(INDEX(K$2:K$210,SMALL(IF(K$2:K$210<>"",ROW(K$2:K$210)-1),ROW(C25))),"")} | M26: =IF($H26=M$1,$A26,"") | N26: {=IFERROR(INDEX(M$2:M$210,SMALL(IF(M$2:M$210<>"",ROW(M$2:M$210)-1),ROW(E25))),"")} | O26: =IF($H26=O$1,$A26,"") | P26: {=IFERROR(INDEX(O$2:O$210,SMALL(IF(O$2:O$210<>"",ROW(O$2:O$210)-1),ROW(G25))),"")} | Q26: =IF($H26=Q$1,$A26,"") | R26: {=IFERROR(INDEX(Q$2:Q$210,SMALL(IF(Q$2:Q$210<>"",ROW(Q$2:Q$210)-1),ROW(I25))),"")}
A27: =B27&" "&C27 | G27: =IF(E27="","",VLOOKUP(E27,'Liste des clubs'!$A:$B,2,FALSE)) | I27: =IF($H27=I$1,$A27,"") | J27: {=IFERROR(INDEX(I$2:I$210,SMALL(IF(I$2:I$210<>"",ROW(I$2:I$210)-1),ROW(A26))),"")} | K27: =IF($H27=K$1,$A27,"") | L27: {=IFERROR(INDEX(K$2:K$210,SMALL(IF(K$2:K$210<>"",ROW(K$2:K$210)-1),ROW(C26))),"")} | M27: =IF($H27=M$1,$A27,"") | N27: {=IFERROR(INDEX(M$2:M$210,SMALL(IF(M$2:M$210<>"",ROW(M$2:M$210)-1),ROW(E26))),"")} | O27: =IF($H27=O$1,$A27,"") | P27: {=IFERROR(INDEX(O$2:O$210,SMALL(IF(O$2:O$210<>"",ROW(O$2:O$210)-1),ROW(G26))),"")} | Q27: =IF($H27=Q$1,$A27,"") | R27: {=IFERROR(INDEX(Q$2:Q$210,SMALL(IF(Q$2:Q$210<>"",ROW(Q$2:Q$210)-1),ROW(I26))),"")}
A28: =B28&" "&C28 | G28: =IF(E28="","",VLOOKUP(E28,'Liste des clubs'!$A:$B,2,FALSE)) | I28: =IF($H28=I$1,$A28,"") | J28: {=IFERROR(INDEX(I$2:I$210,SMALL(IF(I$2:I$210<>"",ROW(I$2:I$210)-1),ROW(A27))),"")} | K28: =IF($H28=K$1,$A28,"") | L28: {=IFERROR(INDEX(K$2:K$210,SMALL(IF(K$2:K$210<>"",ROW(K$2:K$210)-1),ROW(C27))),"")} | M28: =IF($H28=M$1,$A28,"") | N28: {=IFERROR(INDEX(M$2:M$210,SMALL(IF(M$2:M$210<>"",ROW(M$2:M$210)-1),ROW(E27))),"")} | O28: =IF($H28=O$1,$A28,"") | P28: {=IFERROR(INDEX(O$2:O$210,SMALL(IF(O$2:O$210<>"",ROW(O$2:O$210)-1),ROW(G27))),"")} | Q28: =IF($H28=Q$1,$A28,"") | R28: {=IFERROR(INDEX(Q$2:Q$210,SMALL(IF(Q$2:Q$210<>"",ROW(Q$2:Q$210)-1),ROW(I27))),"")}
A29: =B29&" "&C29 | G29: =IF(E29="","",VLOOKUP(E29,'Liste des clubs'!$A:$B,2,FALSE)) | I29: =IF($H29=I$1,$A29,"") | J29: {=IFERROR(INDEX(I$2:I$210,SMALL(IF(I$2:I$210<>"",ROW(I$2:I$210)-1),ROW(A28))),"")} | K29: =IF($H29=K$1,$A29,"") | L29: {=IFERROR(INDEX(K$2:K$210,SMALL(IF(K$2:K$210<>"",ROW(K$2:K$210)-1),ROW(C28))),"")} | M29: =IF($H29=M$1,$A29,"") | N29: {=IFERROR(INDEX(M$2:M$210,SMALL(IF(M$2:M$210<>"",ROW(M$2:M$210)-1),ROW(E28))),"")} | O29: =IF($H29=O$1,$A29,"") | P29: {=IFERROR(INDEX(O$2:O$210,SMALL(IF(O$2:O$210<>"",ROW(O$2:O$210)-1),ROW(G28))),"")} | Q29: =IF($H29=Q$1,$A29,"") | R29: {=IFERROR(INDEX(Q$2:Q$210,SMALL(IF(Q$2:Q$210<>"",ROW(Q$2:Q$210)-1),ROW(I28))),"")}
A30: =B30&" "&C30 | G30: =IF(E30="","",VLOOKUP(E30,'Liste des clubs'!$A:$B,2,FALSE)) | I30: =IF($H30=I$1,$A30,"") | J30: {=IFERROR(INDEX(I$2:I$210,SMALL(IF(I$2:I$210<>"",ROW(I$2:I$210)-1),ROW(A29))),"")} | K30: =IF($H30=K$1,$A30,"") | L30: {=IFERROR(INDEX(K$2:K$210,SMALL(IF(K$2:K$210<>"",ROW(K$2:K$210)-1),ROW(C29))),"")} | M30: =IF($H30=M$1,$A30,"") | N30: {=IFERROR(INDEX(M$2:M$210,SMALL(IF(M$2:M$210<>"",ROW(M$2:M$210)-1),ROW(E29))),"")} | O30: =IF($H30=O$1,$A30,"") | P30: {=IFERROR(INDEX(O$2:O$210,SMALL(IF(O$2:O$210<>"",ROW(O$2:O$210)-1),ROW(G29))),"")} | Q30: =IF($H30=Q$1,$A30,"") | R30: {=IFERROR(INDEX(Q$2:Q$210,SMALL(IF(Q$2:Q$210<>"",ROW(Q$2:Q$210)-1),ROW(I29))),"")}
A31: =B31&" "&C31 | G31: =IF(E31="","",VLOOKUP(E31,'Liste des clubs'!$A:$B,2,FALSE)) | I31: =IF($H31=I$1,$A31,"") | J31: {=IFERROR(INDEX(I$2:I$210,SMALL(IF(I$2:I$210<>"",ROW(I$2:I$210)-1),ROW(A30))),"")} | K31: =IF($H31=K$1,$A31,"") | L31: {=IFERROR(INDEX(K$2:K$210,SMALL(IF(K$2:K$210<>"",ROW(K$2:K$210)-1),ROW(C30))),"")} | M31: =IF($H31=M$1,$A31,"") | N31: {=IFERROR(INDEX(M$2:M$210,SMALL(IF(M$2:M$210<>"",ROW(M$2:M$210)-1),ROW(E30))),"")} | O31: =IF($H31=O$1,$A31,"") | P31: {=IFERROR(INDEX(O$2:O$210,SMALL(IF(O$2:O$210<>"",ROW(O$2:O$210)-1),ROW(G30))),"")} | Q31: =IF($H31=Q$1,$A31,"") | R31: {=IFERROR(INDEX(Q$2:Q$210,SMALL(IF(Q$2:Q$210<>"",ROW(Q$2:Q$210)-1),ROW(I30))),"")}
A32: =B32&" "&C32 | G32: =IF(E32="","",VLOOKUP(E32,'Liste des clubs'!$A:$B,2,FALSE)) | I32: =IF($H32=I$1,$A32,"") | J32: {=IFERROR(INDEX(I$2:I$210,SMALL(IF(I$2:I$210<>"",ROW(I$2:I$210)-1),ROW(A31))),"")} | K32: =IF($H32=K$1,$A32,"") | L32: {=IFERROR(INDEX(K$2:K$210,SMALL(IF(K$2:K$210<>"",ROW(K$2:K$210)-1),ROW(C31))),"")} | M32: =IF($H32=M$1,$A32,"") | N32: {=IFERROR(INDEX(M$2:M$210,SMALL(IF(M$2:M$210<>"",ROW(M$2:M$210)-1),ROW(E31))),"")} | O32: =IF($H32=O$1,$A32,"") | P32: {=IFERROR(INDEX(O$2:O$210,SMALL(IF(O$2:O$210<>"",ROW(O$2:O$210)-1),ROW(G31))),"")} | Q32: =IF($H32=Q$1,$A32,"") | R32: {=IFERROR(INDEX(Q$2:Q$210,SMALL(IF(Q$2:Q$210<>"",ROW(Q$2:Q$210)-1),ROW(I31))),"")}
A33: =B33&" "&C33 | G33: =IF(E33="","",VLOOKUP(E33,'Liste des clubs'!$A:$B,2,FALSE)) | I33: =IF($H33=I$1,$A33,"") | J33: {=IFERROR(INDEX(I$2:I$210,SMALL(IF(I$2:I$210<>"",ROW(I$2:I$210)-1),ROW(A32))),"")} | K33: =IF($H33=K$1,$A33,"") | L33: {=IFERROR(INDEX(K$2:K$210,SMALL(IF(K$2:K$210<>"",ROW(K$2:K$210)-1),ROW(C32))),"")} | M33: =IF($H33=M$1,$A33,"") | N33: {=IFERROR(INDEX(M$2:M$210,SMALL(IF(M$2:M$210<>"",ROW(M$2:M$210)-1),ROW(E32))),"")} | O33: =IF($H33=O$1,$A33,"") | P33: {=IFERROR(INDEX(O$2:O$210,SMALL(IF(O$2:O$210<>"",ROW(O$2:O$210)-1),ROW(G32))),"")} | Q33: =IF($H33=Q$1,$A33,"") | R33: {=IFERROR(INDEX(Q$2:Q$210,SMALL(IF(Q$2:Q$210<>"",ROW(Q$2:Q$210)-1),ROW(I32))),"")}
A34: =B34&" "&C34 | G34: =IF(E34="","",VLOOKUP(E34,'Liste des clubs'!$A:$B,2,FALSE)) | I34: =IF($H34=I$1,$A34,"") | J34: {=IFERROR(INDEX(I$2:I$210,SMALL(IF(I$2:I$210<>"",ROW(I$2:I$210)-1),ROW(A33))),"")} | K34: =IF($H34=K$1,$A34,"") | L34: {=IFERROR(INDEX(K$2:K$210,SMALL(IF(K$2:K$210<>"",ROW(K$2:K$210)-1),ROW(C33))),"")} | M34: =IF($H34=M$1,$A34,"") | N34: {=IFERROR(INDEX(M$2:M$210,SMALL(IF(M$2:M$210<>"",ROW(M$2:M$210)-1),ROW(E33))),"")} | O34: =IF($H34=O$1,$A34,"") | P34: {=IFERROR(INDEX(O$2:O$210,SMALL(IF(O$2:O$210<>"",ROW(O$2:O$210)-1),ROW(G33))),"")} | Q34: =IF($H34=Q$1,$A34,"") | R34: {=IFERROR(INDEX(Q$2:Q$210,SMALL(IF(Q$2:Q$210<>"",ROW(Q$2:Q$210)-1),ROW(I33))),"")}
A35: =B35&" "&C35 | G35: =IF(E35="","",VLOOKUP(E35,'Liste des clubs'!$A:$B,2,FALSE)) | I35: =IF($H35=I$1,$A35,"") | J35: {=IFERROR(INDEX(I$2:I$210,SMALL(IF(I$2:I$210<>"",ROW(I$2:I$210)-1),ROW(A34))),"")} | K35: =IF($H35=K$1,$A35,"") | L35: {=IFERROR(INDEX(K$2:K$210,SMALL(IF(K$2:K$210<>"",ROW(K$2:K$210)-1),ROW(C34))),"")} | M35: =IF($H35=M$1,$A35,"") | N35: {=IFERROR(INDEX(M$2:M$210,SMALL(IF(M$2:M$210<>"",ROW(M$2:M$210)-1),ROW(E34))),"")} | O35: =IF($H35=O$1,$A35,"") | P35: {=IFERROR(INDEX(O$2:O$210,SMALL(IF(O$2:O$210<>"",ROW(O$2:O$210)-1),ROW(G34))),"")} | Q35: =IF($H35=Q$1,$A35,"") | R35: {=IFERROR(INDEX(Q$2:Q$210,SMALL(IF(Q$2:Q$210<>"",ROW(Q$2:Q$210)-1),ROW(I34))),"")}
... A208: =B208&" "&C208 | G208: =IF(E208="","",VLOOKUP(E208,'Liste des clubs'!$A:$B,2,FALSE)) | I208: =IF($H208=I$1,$A208,"") | J208: {=IFERROR(INDEX(I$2:I$210,SMALL(IF(I$2:I$210<>"",ROW(I$2:I$210)-1),ROW(A207))),"")} | K208: =IF($H208=K$1,$A208,"") | L208: {=IFERROR(INDEX(K$2:K$210,SMALL(IF(K$2:K$210<>"",ROW(K$2:K$210)-1),ROW(C207))),"")} | M208: =IF($H208=M$1,$A208,"") | N208: {=IFERROR(INDEX(M$2:M$210,SMALL(IF(M$2:M$210<>"",ROW(M$2:M$210)-1),ROW(E207))),"")} | O208: =IF($H208=O$1,$A208,"") | P208: {=IFERROR(INDEX(O$2:O$210,SMALL(IF(O$2:O$210<>"",ROW(O$2:O$210)-1),ROW(G207))),"")} | Q208: =IF($H208=Q$1,$A208,"") | R208: {=IFERROR(INDEX(Q$2:Q$210,SMALL(IF(Q$2:Q$210<>"",ROW(Q$2:Q$210)-1),ROW(I207))),"")}
G209: =IF(E209="","",VLOOKUP(E209,'Liste des clubs'!$A:$B,2,FALSE)) | I209: =IF($H209=I$1,$A209,"") | J209: {=IFERROR(INDEX(I$2:I$210,SMALL(IF(I$2:I$210<>"",ROW(I$2:I$210)-1),ROW(A208))),"")} | K209: =IF($H209=K$1,$A209,"") | L209: {=IFERROR(INDEX(K$2:K$210,SMALL(IF(K$2:K$210<>"",ROW(K$2:K$210)-1),ROW(C208))),"")} | M209: =IF($H209=M$1,$A209,"") | N209: {=IFERROR(INDEX(M$2:M$210,SMALL(IF(M$2:M$210<>"",ROW(M$2:M$210)-1),ROW(E208))),"")} | O209: =IF($H209=O$1,$A209,"") | P209: {=IFERROR(INDEX(O$2:O$210,SMALL(IF(O$2:O$210<>"",ROW(O$2:O$210)-1),ROW(G208))),"")} | Q209: =IF($H209=Q$1,$A209,"") | R209: {=IFERROR(INDEX(Q$2:Q$210,SMALL(IF(Q$2:Q$210<>"",ROW(Q$2:Q$210)-1),ROW(I208))),"")}
G210: =IF(E210="","",VLOOKUP(E210,'Liste des clubs'!$A:$B,2,FALSE)) | I210: =IF($H210=I$1,$A210,"") | J210: {=IFERROR(INDEX(I$2:I$210,SMALL(IF(I$2:I$210<>"",ROW(I$2:I$210)-1),ROW(A209))),"")} | K210: =IF($H210=K$1,$A210,"") | L210: {=IFERROR(INDEX(K$2:K$210,SMALL(IF(K$2:K$210<>"",ROW(K$2:K$210)-1),ROW(C209))),"")} | M210: =IF($H210=M$1,$A210,"") | N210: {=IFERROR(INDEX(M$2:M$210,SMALL(IF(M$2:M$210<>"",ROW(M$2:M$210)-1),ROW(E209))),"")} | O210: =IF($H210=O$1,$A210,"") | P210: {=IFERROR(INDEX(O$2:O$210,SMALL(IF(O$2:O$210<>"",ROW(O$2:O$210)-1),ROW(G209))),"")} | Q210: =IF($H210=Q$1,$A210,"") | R210: {=IFERROR(INDEX(Q$2:Q$210,SMALL(IF(Q$2:Q$210<>"",ROW(Q$2:Q$210)-1),ROW(I209))),"")}
G211: =IF(E211="","",VLOOKUP(E211,'Liste des clubs'!$A:$B,2,FALSE)) | I211: =IF($H211=I$1,$A211,"") | J211: {=IFERROR(INDEX(I$2:I$210,SMALL(IF(I$2:I$210<>"",ROW(I$2:I$210)-1),ROW(A210))),"")} | K211: =IF($H211=K$1,$A211,"") | L211: {=IFERROR(INDEX(K$2:K$210,SMALL(IF(K$2:K$210<>"",ROW(K$2:K$210)-1),ROW(C210))),"")} | M211: =IF($H211=M$1,$A211,"") | N211: {=IFERROR(INDEX(M$2:M$210,SMALL(IF(M$2:M$210<>"",ROW(M$2:M$210)-1),ROW(E210))),"")} | O211: =IF($H211=O$1,$A211,"") | P211: {=IFERROR(INDEX(O$2:O$210,SMALL(IF(O$2:O$210<>"",ROW(O$2:O$210)-1),ROW(G210))),"")} | Q211: =IF($H211=Q$1,$A211,"") | R211: {=IFERROR(INDEX(Q$2:Q$210,SMALL(IF(Q$2:Q$210<>"",ROW(Q$2:Q$210)-1),ROW(I210))),"")}
G212: =IF(E212="","",VLOOKUP(E212,'Liste des clubs'!$A:$B,2,FALSE)) | I212: =IF($H212=I$1,$A212,"") | J212: {=IFERROR(INDEX(I$2:I$210,SMALL(IF(I$2:I$210<>"",ROW(I$2:I$210)-1),ROW(A211))),"")} | K212: =IF($H212=K$1,$A212,"") | L212: {=IFERROR(INDEX(K$2:K$210,SMALL(IF(K$2:K$210<>"",ROW(K$2:K$210)-1),ROW(C211))),"")} | M212: =IF($H212=M$1,$A212,"") | N212: {=IFERROR(INDEX(M$2:M$210,SMALL(IF(M$2:M$210<>"",ROW(M$2:M$210)-1),ROW(E211))),"")} | O212: =IF($H212=O$1,$A212,"") | P212: {=IFERROR(INDEX(O$2:O$210,SMALL(IF(O$2:O$210<>"",ROW(O$2:O$210)-1),ROW(G211))),"")} | Q212: =IF($H212=Q$1,$A212,"") | R212: {=IFERROR(INDEX(Q$2:Q$210,SMALL(IF(Q$2:Q$210<>"",ROW(Q$2:Q$210)-1),ROW(I211))),"")}
G213: =IF(E213="","",VLOOKUP(E213,'Liste des clubs'!$A:$B,2,FALSE)) | I213: =IF($H213=I$1,$A213,"") | J213: {=IFERROR(INDEX(I$2:I$210,SMALL(IF(I$2:I$210<>"",ROW(I$2:I$210)-1),ROW(A212))),"")} | K213: =IF($H213=K$1,$A213,"") | L213: {=IFERROR(INDEX(K$2:K$210,SMALL(IF(K$2:K$210<>"",ROW(K$2:K$210)-1),ROW(C212))),"")} | M213: =IF($H213=M$1,$A213,"") | N213: {=IFERROR(INDEX(M$2:M$210,SMALL(IF(M$2:M$210<>"",ROW(M$2:M$210)-1),ROW(E212))),"")} | O213: =IF($H213=O$1,$A213,"") | P213: {=IFERROR(INDEX(O$2:O$210,SMALL(IF(O$2:O$210<>"",ROW(O$2:O$210)-1),ROW(G212))),"")} | Q213: =IF($H213=Q$1,$A213,"") | R213: {=IFERROR(INDEX(Q$2:Q$210,SMALL(IF(Q$2:Q$210<>"",ROW(Q$2:Q$210)-1),ROW(I212))),"")}
G214: =IF(E214="","",VLOOKUP(E214,'Liste des clubs'!$A:$B,2,FALSE)) | I214: =IF($H214=I$1,$A214,"") | J214: {=IFERROR(INDEX(I$2:I$210,SMALL(IF(I$2:I$210<>"",ROW(I$2:I$210)-1),ROW(A213))),"")} | K214: =IF($H214=K$1,$A214,"") | L214: {=IFERROR(INDEX(K$2:K$210,SMALL(IF(K$2:K$210<>"",ROW(K$2:K$210)-1),ROW(C213))),"")} | M214: =IF($H214=M$1,$A214,"") | N214: {=IFERROR(INDEX(M$2:M$210,SMALL(IF(M$2:M$210<>"",ROW(M$2:M$210)-1),ROW(E213))),"")} | O214: =IF($H214=O$1,$A214,"") | P214: {=IFERROR(INDEX(O$2:O$210,SMALL(IF(O$2:O$210<>"",ROW(O$2:O$210)-1),ROW(G213))),"")} | Q214: =IF($H214=Q$1,$A214,"") | R214: {=IFERROR(INDEX(Q$2:Q$210,SMALL(IF(Q$2:Q$210<>"",ROW(Q$2:Q$210)-1),ROW(I213))),"")}
G215: =IF(E215="","",VLOOKUP(E215,'Liste des clubs'!$A:$B,2,FALSE)) | I215: =IF($H215=I$1,$A215,"") | J215: {=IFERROR(INDEX(I$2:I$210,SMALL(IF(I$2:I$210<>"",ROW(I$2:I$210)-1),ROW(A214))),"")} | K215: =IF($H215=K$1,$A215,"") | L215: {=IFERROR(INDEX(K$2:K$210,SMALL(IF(K$2:K$210<>"",ROW(K$2:K$210)-1),ROW(C214))),"")} | M215: =IF($H215=M$1,$A215,"") | N215: {=IFERROR(INDEX(M$2:M$210,SMALL(IF(M$2:M$210<>"",ROW(M$2:M$210)-1),ROW(E214))),"")} | O215: =IF($H215=O$1,$A215,"") | P215: {=IFERROR(INDEX(O$2:O$210,SMALL(IF(O$2:O$210<>"",ROW(O$2:O$210)-1),ROW(G214))),"")} | Q215: =IF($H215=Q$1,$A215,"") | R215: {=IFERROR(INDEX(Q$2:Q$210,SMALL(IF(Q$2:Q$210<>"",ROW(Q$2:Q$210)-1),ROW(I214))),"")}
G216: =IF(E216="","",VLOOKUP(E216,'Liste des clubs'!$A:$B,2,FALSE)) | I216: =IF($H216=I$1,$A216,"") | J216: {=IFERROR(INDEX(I$2:I$210,SMALL(IF(I$2:I$210<>"",ROW(I$2:I$210)-1),ROW(A215))),"")} | K216: =IF($H216=K$1,$A216,"") | L216: {=IFERROR(INDEX(K$2:K$210,SMALL(IF(K$2:K$210<>"",ROW(K$2:K$210)-1),ROW(C215))),"")} | M216: =IF($H216=M$1,$A216,"") | N216: {=IFERROR(INDEX(M$2:M$210,SMALL(IF(M$2:M$210<>"",ROW(M$2:M$210)-1),ROW(E215))),"")} | O216: =IF($H216=O$1,$A216,"") | P216: {=IFERROR(INDEX(O$2:O$210,SMALL(IF(O$2:O$210<>"",ROW(O$2:O$210)-1),ROW(G215))),"")} | Q216: =IF($H216=Q$1,$A216,"") | R216: {=IFERROR(INDEX(Q$2:Q$210,SMALL(IF(Q$2:Q$210<>"",ROW(Q$2:Q$210)-1),ROW(I215))),"")}
G217: =IF(E217="","",VLOOKUP(E217,'Liste des clubs'!$A:$B,2,FALSE)) | I217: =IF($H217=I$1,$A217,"") | J217: {=IFERROR(INDEX(I$2:I$210,SMALL(IF(I$2:I$210<>"",ROW(I$2:I$210)-1),ROW(A216))),"")} | K217: =IF($H217=K$1,$A217,"") | L217: {=IFERROR(INDEX(K$2:K$210,SMALL(IF(K$2:K$210<>"",ROW(K$2:K$210)-1),ROW(C216))),"")} | M217: =IF($H217=M$1,$A217,"") | N217: {=IFERROR(INDEX(M$2:M$210,SMALL(IF(M$2:M$210<>"",ROW(M$2:M$210)-1),ROW(E216))),"")} | O217: =IF($H217=O$1,$A217,"") | P217: {=IFERROR(INDEX(O$2:O$210,SMALL(IF(O$2:O$210<>"",ROW(O$2:O$210)-1),ROW(G216))),"")} | Q217: =IF($H217=Q$1,$A217,"") | R217: {=IFERROR(INDEX(Q$2:Q$210,SMALL(IF(Q$2:Q$210<>"",ROW(Q$2:Q$210)-1),ROW(I216))),"")}
G218: =IF(E218="","",VLOOKUP(E218,'Liste des clubs'!$A:$B,2,FALSE)) | I218: =IF($H218=I$1,$A218,"") | J218: {=IFERROR(INDEX(I$2:I$210,SMALL(IF(I$2:I$210<>"",ROW(I$2:I$210)-1),ROW(A217))),"")} | K218: =IF($H218=K$1,$A218,"") | L218: {=IFERROR(INDEX(K$2:K$210,SMALL(IF(K$2:K$210<>"",ROW(K$2:K$210)-1),ROW(C217))),"")} | M218: =IF($H218=M$1,$A218,"") | N218: {=IFERROR(INDEX(M$2:M$210,SMALL(IF(M$2:M$210<>"",ROW(M$2:M$210)-1),ROW(E217))),"")} | O218: =IF($H218=O$1,$A218,"") | P218: {=IFERROR(INDEX(O$2:O$210,SMALL(IF(O$2:O$210<>"",ROW(O$2:O$210)-1),ROW(G217))),"")} | Q218: =IF($H218=Q$1,$A218,"") | R218: {=IFERROR(INDEX(Q$2:Q$210,SMALL(IF(Q$2:Q$210<>"",ROW(Q$2:Q$210)-1),ROW(I217))),"")}
G219: =IF(E219="","",VLOOKUP(E219,'Liste des clubs'!$A:$B,2,FALSE)) | I219: =IF($H219=I$1,$A219,"") | J219: {=IFERROR(INDEX(I$2:I$210,SMALL(IF(I$2:I$210<>"",ROW(I$2:I$210)-1),ROW(A218))),"")} | K219: =IF($H219=K$1,$A219,"") | L219: {=IFERROR(INDEX(K$2:K$210,SMALL(IF(K$2:K$210<>"",ROW(K$2:K$210)-1),ROW(C218))),"")} | M219: =IF($H219=M$1,$A219,"") | N219: {=IFERROR(INDEX(M$2:M$210,SMALL(IF(M$2:M$210<>"",ROW(M$2:M$210)-1),ROW(E218))),"")} | O219: =IF($H219=O$1,$A219,"") | P219: {=IFERROR(INDEX(O$2:O$210,SMALL(IF(O$2:O$210<>"",ROW(O$2:O$210)-1),ROW(G218))),"")} | Q219: =IF($H219=Q$1,$A219,"") | R219: {=IFERROR(INDEX(Q$2:Q$210,SMALL(IF(Q$2:Q$210<>"",ROW(Q$2:Q$210)-1),ROW(I218))),"")}
G220: =IF(E220="","",VLOOKUP(E220,'Liste des clubs'!$A:$B,2,FALSE)) | I220: =IF($H220=I$1,$A220,"") | J220: {=IFERROR(INDEX(I$2:I$210,SMALL(IF(I$2:I$210<>"",ROW(I$2:I$210)-1),ROW(A219))),"")} | K220: =IF($H220=K$1,$A220,"") | L220: {=IFERROR(INDEX(K$2:K$210,SMALL(IF(K$2:K$210<>"",ROW(K$2:K$210)-1),ROW(C219))),"")} | M220: =IF($H220=M$1,$A220,"") | N220: {=IFERROR(INDEX(M$2:M$210,SMALL(IF(M$2:M$210<>"",ROW(M$2:M$210)-1),ROW(E219))),"")} | O220: =IF($H220=O$1,$A220,"") | P220: {=IFERROR(INDEX(O$2:O$210,SMALL(IF(O$2:O$210<>"",ROW(O$2:O$210)-1),ROW(G219))),"")} | Q220: =IF($H220=Q$1,$A220,"") | R220: {=IFERROR(INDEX(Q$2:Q$210,SMALL(IF(Q$2:Q$210<>"",ROW(Q$2:Q$210)-1),ROW(I219))),"")}
... G300: =IF(E300="","",VLOOKUP(E300,'Liste des clubs'!$A:$B,2,FALSE)) | I300: =IF($H300=I$1,$A300,"") | J300: {=IFERROR(INDEX(I$2:I$210,SMALL(IF(I$2:I$210<>"",ROW(I$2:I$210)-1),ROW(A299))),"")} | K300: =IF($H300=K$1,$A300,"") | L300: {=IFERROR(INDEX(K$2:K$210,SMALL(IF(K$2:K$210<>"",ROW(K$2:K$210)-1),ROW(C299))),"")} | M300: =IF($H300=M$1,$A300,"") | N300: {=IFERROR(INDEX(M$2:M$210,SMALL(IF(M$2:M$210<>"",ROW(M$2:M$210)-1),ROW(E299))),"")} | O300: =IF($H300=O$1,$A300,"") | P300: {=IFERROR(INDEX(O$2:O$210,SMALL(IF(O$2:O$210<>"",ROW(O$2:O$210)-1),ROW(G299))),"")} | Q300: =IF($H300=Q$1,$A300,"") | R300: {=IFERROR(INDEX(Q$2:Q$210,SMALL(IF(Q$2:Q$210<>"",ROW(Q$2:Q$210)-1),ROW(I299))),"")}

Sheet Liste des clubs
A1: A.S. CORBEIL ESSONNES | B1: CORBEIL
A2: AS BONDY | B2: BONDY
A3: AS ETAPLES TC | B3: ETAPL
A4: AS VICTOR HUGO : CROIX | B4: CROIX
A5: ASSOCIATION TENNIS WIZERNOISE | B5: WIZERNE
A6: AT BETHUNE | B6: BETHUNE
A7: AT MOUVAUX | B7: MOUVAU
A8: AUBIERE TENNIS CLUB | B8: AUBIERE
A9: BLAGNAC TENNIS CLUB | B9: BLAGNAC
A10: BOULOGNE BILLANCOURT (TC) | B10: BOU BILL
A11: bourg en bresse | B11: bourg en bresse
A12: BRESSUIRE T.C. | B12: BRESSUI
... A140: YONNE NORD T.C. | B140: YONNE

Sheet 9 dec prog
A1: Court 1 | H1: Court 2
A2: horaire | B2: tableau | C2: Joueurs | D2: clas. | E2: vainqueur | F2: OK? | G2: résultat | H2: horaire | I2: tableau | J2: Joueurs | K2: clas. | L2: vainqueur | M2: OK? | N2: résultat
A3: 9h00 | B3: SD | C3: VANGHENDT Agathe | D3: =IF(ISBLANK(C3),"",VLOOKUP(C3,INDIRECT("matrice_"&B3),6,FALSE)) -> 30 | E3: V | G3: 3/1 3/0 | H3: 9h00 | I3: SM | J3: ALECSANDRE Pierre | K3: =IF(ISBLANK(J3),"",VLOOKUP(J3,INDIRECT("matrice_"&I3),6,FALSE)) -> 15/2 | M3: ok | N3: 3/1 3/1
C4: BONAMI Sarah | D4: =IF(ISBLANK(C4),"",VLOOKUP(C4,INDIRECT("matrice_"&B3),6,FALSE)) -> 4/6 | J4: BECUE Baptiste | K4: =IF(ISBLANK(J4),"",VLOOKUP(J4,INDIRECT("matrice_"&I3),6,FALSE)) -> 15/1 | L4: V
A5: 10h30 | B5: SD | C5: SCIACALUGA Lucie | D5: =IF(ISBLANK(C5),"",VLOOKUP(C5,INDIRECT("matrice_"&B5),6,FALSE)) -> 4/6 | G5: 3/2 2/3 10/6 | H5: 10h30 | I5: SD | J5: AVEZ Béatrice | K5: =IF(ISBLANK(J5),"",VLOOKUP(J5,INDIRECT("matrice_"&I5),6,FALSE)) -> 30/4 | N5: 3/0 3/0
C6: BONAMI Sarah | D6: =IF(ISBLANK(C6),"",VLOOKUP(C6,INDIRECT("matrice_"&B5),6,FALSE)) -> 4/6 | E6: V | J6: AVEZ Béatrice | K6: =IF(ISBLANK(J6),"",VLOOKUP(J6,INDIRECT("matrice_"&I5),6,FALSE)) -> 30/4 | L6: V
A7: 12h00 | B7: CS_M_30_3 | C7: ALECSANDRE Pierre | D7: =IF(ISBLANK(C7),"",VLOOKUP(C7,INDIRECT("matrice_"&B7),6,FALSE)) -> 15/2 | G7: 3/1 3/1 | H7: 12h00 | I7: SM | J7: ALECSANDRE Pierre | K7: =IF(ISBLANK(J7),"",VLOOKUP(J7,INDIRECT("matrice_"&I7),6,FALSE)) -> 15/2 | N7: 3/1 3/1
C8: BECUE Baptiste | D8: =IF(ISBLANK(C8),"",VLOOKUP(C8,INDIRECT("matrice_"&B7),6,FALSE)) -> 15/1 | E8: V | J8: BECUWE Vincent | K8: =IF(ISBLANK(J8),"",VLOOKUP(J8,INDIRECT("matrice_"&I7),6,FALSE)) -> 30/1 | L8: V
A9: 13h30 | B9: SM | D9: =IF(ISBLANK(C9),"",VLOOKUP(C9,INDIRECT("matrice_"&B9),6,FALSE)) | H9: 13h30 | I9: SD | K9: =IF(ISBLANK(J9),"",VLOOKUP(J9,INDIRECT("matrice_"&I9),6,FALSE))
D10: =IF(ISBLANK(C10),"",VLOOKUP(C10,INDIRECT("matrice_"&B9),6,FALSE)) | K10: =IF(ISBLANK(J10),"",VLOOKUP(J10,INDIRECT("matrice_"&I9),6,FALSE))
A11: 15h00 | B11: SD | D11: =IF(ISBLANK(C11),"",VLOOKUP(C11,INDIRECT("matrice_"&B11),6,FALSE)) | H11: 15h00 | I11: SM | K11: =IF(ISBLANK(J11),"",VLOOKUP(J11,INDIRECT("matrice_"&I11),6,FALSE))
D12: =IF(ISBLANK(C12),"",VLOOKUP(C12,INDIRECT("matrice_"&B11),6,FALSE)) | K12: =IF(ISBLANK(J12),"",VLOOKUP(J12,INDIRECT("matrice_"&I11),6,FALSE))
A13: 16h30 | B13: SD | D13: =IF(ISBLANK(C13),"",VLOOKUP(C13,INDIRECT("matrice_"&B13),6,FALSE)) | H13: 16h30 | I13: SD | K13: =IF(ISBLANK(J13),"",VLOOKUP(J13,INDIRECT("matrice_"&I13),6,FALSE))
D14: =IF(ISBLANK(C14),"",VLOOKUP(C14,INDIRECT("matrice_"&B13),6,FALSE)) | K14: =IF(ISBLANK(J14),"",VLOOKUP(J14,INDIRECT("matrice_"&I13),6,FALSE))
A15: 18h00 | B15: SM | D15: =IF(ISBLANK(C15),"",VLOOKUP(C15,INDIRECT("matrice_"&B15),6,FALSE)) | H15: 18h00 | I15: SM | K15: =IF(ISBLANK(J15),"",VLOOKUP(J15,INDIRECT("matrice_"&I15),6,FALSE))
D16: =IF(ISBLANK(C16),"",VLOOKUP(C16,INDIRECT("matrice_"&B15),6,FALSE)) | K16: =IF(ISBLANK(J16),"",VLOOKUP(J16,INDIRECT("matrice_"&I15),6,FALSE))
A17: 19h30 | B17: SD | D17: =IF(ISBLANK(C17),"",VLOOKUP(C17,INDIRECT("matrice_"&B17),6,FALSE)) | H17: 19h30 | I17: SM | K17: =IF(ISBLANK(J17),"",VLOOKUP(J17,INDIRECT("matrice_"&I17),6,FALSE))
D18: =IF(ISBLANK(C18),"",VLOOKUP(C18,INDIRECT("matrice_"&B17),6,FALSE)) | K18: =IF(ISBLANK(J18),"",VLOOKUP(J18,INDIRECT("matrice_"&I17),6,FALSE))
A19: 21h00 | B19: SM | D19: =IF(ISBLANK(C19),"",VLOOKUP(C19,INDIRECT("matrice_"&B19),6,FALSE)) | H19: 21h00 | I19: SM | K19: =IF(ISBLANK(J19),"",VLOOKUP(J19,INDIRECT("matrice_"&I19),6,FALSE))
D20: =IF(ISBLANK(C20),"",VLOOKUP(C20,INDIRECT("matrice_"&B19),6,FALSE)) | K20: =IF(ISBLANK(J20),"",VLOOKUP(J20,INDIRECT("matrice_"&I19),6,FALSE))
A21: Court 3 | H21: Court 4
A22: horaire | B22: tableau | C22: Joueurs | D22: clas. | E22: vainqueur | F22: OK? | G22: résultat | H22: horaire | I22: tableau | J22: Joueurs | K22: clas. | L22: vainqueur | M22: OK? | N22: résultat | AD22: SM | AE22: ok
A23: 9h00 | B23: CS_M_30_3 | C23: ALECSANDRE Pierre | D23: =IF(ISBLANK(C23),"",VLOOKUP(C23,INDIRECT("matrice_"&B23),6,FALSE)) -> 15/2 | G23: 4/2 4/1 | H23: 9h00 | I23: SD | J23: BRASY Jade | K23: =IF(ISBLANK(J23),"",VLOOKUP(J23,Messieurs!$G$2:$G$484,3,FALSE)) -> #N/A | L23: V | N23: W.O | AD23: SD | AE23: mess
C24: BELLENGIER Julien | D24: =IF(ISBLANK(C24),"",VLOOKUP(C24,INDIRECT("matrice_"&B23),6,FALSE)) -> 15/3 | E24: V | J24: INGARAO Romane | K24: =IF(ISBLANK(J24),"",VLOOKUP(J24,Messieurs!$G$2:$G$484,3,FALSE)) -> #N/A | AD24: CS_M_30_3
A25: 10h30 | B25: CS_M_30_3 | C25: BELLENGIER Julien | D25: =IF(ISBLANK(C25),"",VLOOKUP(C25,INDIRECT("matrice_"&B25),6,FALSE)) -> 15/3 | E25: V | G25: 4/3 4/2 | H25: 10h30 | I25: SM | J25: INGARAO Romane | K25: =IF(ISBLANK(J25),"",VLOOKUP(J25,Messieurs!$G$2:$G$484,3,FALSE)) -> #N/A | N25: W.O | AD25: FT NC M
C26: ALECSANDRE Pierre | D26: =IF(ISBLANK(C26),"",VLOOKUP(C26,INDIRECT("matrice_"&B25),6,FALSE)) -> 15/2 | J26: MASSIET ZOE | K26: =IF(ISBLANK(J26),"",VLOOKUP(J26,Messieurs!$G$2:$G$484,3,FALSE)) -> #N/A | L26: V | AD26: FT4M
A27: 12h00 | B27: SD | D27: =IF(ISBLANK(C27),"",VLOOKUP(C27,INDIRECT("matrice_"&B27),6,FALSE)) | E27: V | G27: W.O | H27: 12h00 | I27: 9/10 F | J27: BRASY Jade | K27: =IF(ISBLANK(J27),"",VLOOKUP(J27,Messieurs!$G$2:$G$484,3,FALSE)) -> #N/A | L27: V | N27: 4/1 4/1 | AD27: FT3M
D28: =IF(ISBLANK(C28),"",VLOOKUP(C28,INDIRECT("matrice_"&B27),6,FALSE)) | J28: MASSIET ZOE | K28: =IF(ISBLANK(J28),"",VLOOKUP(J28,Messieurs!$G$2:$G$484,3,FALSE)) -> #N/A | AD28: FT4D
A29: 13h30 | B29: SM | D29: =IF(ISBLANK(C29),"",VLOOKUP(C29,INDIRECT("matrice_"&B29),6,FALSE)) | E29: V | G29: 3/0 3/0 | H29: 13h30 | I29: 9 G | J29: GRAVE Maël | K29: =IF(ISBLANK(J29),"",VLOOKUP(J29,Messieurs!$G$2:$G$484,3,FALSE)) -> #N/A | N29: 1/3 3/2 10/2 | AD29: FT3D
D30: =IF(ISBLANK(C30),"",VLOOKUP(C30,INDIRECT("matrice_"&B29),6,FALSE)) | J30: MICHEL Antoine | K30: =IF(ISBLANK(J30),"",VLOOKUP(J30,Messieurs!$G$2:$G$484,3,FALSE)) -> #N/A | L30: V | AD30: FT NC D
A31: 15h00 | B31: SD | D31: =IF(ISBLANK(C31),"",VLOOKUP(C31,INDIRECT("matrice_"&B31),6,FALSE)) | E31: V | G31: 3/0 3/0 | H31: 15h00 | I31: 9 G | J31: RABAT ELLIOT | K31: Niveau 2 | N31: 3/2 3/1 | AD31: CS_M_30_1
D32: =IF(ISBLANK(C32),"",VLOOKUP(C32,INDIRECT("matrice_"&B31),6,FALSE)) | J32: MICHEL Antoine | K32: Niveau 3 | L32: V | AD32: CS D
A33: 16h30 | B33: SM | D33: =IF(ISBLANK(C33),"",VLOOKUP(C33,INDIRECT("matrice_"&B33),6,FALSE)) | E33: V | G33: 3/2 3/1 | H33: 16h30 | I33: 9 G | J33: GRAVE Maël | K33: Niveau 2 | N33: 3/2 3/1
D34: =IF(ISBLANK(C34),"",VLOOKUP(C34,INDIRECT("matrice_"&B33),6,FALSE)) | J34: RABAT ELLIOT | K34: Niveau 2 | L34: V
A35: 18h00 | B35: SD | D35: =IF(ISBLANK(C35),"",VLOOKUP(C35,INDIRECT("matrice_"&B35),6,FALSE)) | H35: 18h00 | K35: =IF(ISBLANK(J35),"",VLOOKUP(J35,Messieurs!$G$2:$G$484,3,FALSE))
D36: =IF(ISBLANK(C36),"",VLOOKUP(C36,INDIRECT("matrice_"&B35),6,FALSE)) | K36: =IF(ISBLANK(J36),"",VLOOKUP(J36,Messieurs!$G$2:$G$484,3,FALSE))
A37: 19h30 | B37: SD | D37: =IF(ISBLANK(C37),"",VLOOKUP(C37,INDIRECT("matrice_"&B37),6,FALSE)) | H37: 19h30 | K37: =IF(ISBLANK(J37),"",VLOOKUP(J37,Messieurs!$G$2:$G$484,3,FALSE))
D38: =IF(ISBLANK(C38),"",VLOOKUP(C38,INDIRECT("matrice_"&B37),6,FALSE)) | K38: =IF(ISBLANK(J38),"",VLOOKUP(J38,Messieurs!$G$2:$G$484,3,FALSE))
A39: 21h00 | B39: SD | D39: =IF(ISBLANK(C39),"",VLOOKUP(C39,INDIRECT("matrice_"&B39),6,FALSE)) | H39: 21h00 | K39: =IF(ISBLANK(J39),"",VLOOKUP(J39,Messieurs!$G$2:$G$484,3,FALSE))
D40: =IF(ISBLANK(C40),"",VLOOKUP(C40,INDIRECT("matrice_"&B39),6,FALSE)) | K40: =IF(ISBLANK(J40),"",VLOOKUP(J40,Messieurs!$G$2:$G$484,3,FALSE))
AD41: SM 35
B42: SALLE 1 | I42: SALLE 2 | P42: SALLE 3 | W42: SALLE 4 | AD42: SM 45
A43: horaire | B43: tableau | C43: Joueurs | D43: clas. | E43: vainqueur | F43: OK | G43: résultat | H43: horaire | I43: tableau | J43: Joueurs | K43: clas. | L43: vainqueur | M43: OK | N43: résultat | O43: horaire | P43: tableau | Q43: Joueurs | R43: clas. | S43: vainqueur | T43: OK | U43: résultat | V43: horaire | W43: tableau | X43: Joueurs | Y43: clas. | Z43: vainqueur | AA43: OK | AB43: résultat | AD43: D MES
A44: 9h00 | D44: =IF(ISBLANK(C44),"",VLOOKUP(C44,Messieurs!$G$2:$G$484,3,FALSE)) | H44: 9h00 | K44: =IF(ISBLANK(J44),"",VLOOKUP(J44,Messieurs!$G$2:$G$484,3,FALSE)) | O44: 9h00 | R44: =IF(ISBLANK(Q44),"",VLOOKUP(Q44,Messieurs!$G$2:$G$484,3,FALSE)) | V44: 9h00 | Y44: =IF(ISBLANK(X44),"",VLOOKUP(X44,Messieurs!$G$2:$G$484,3,FALSE)) | AD44: D DAM
D45: =IF(ISBLANK(C45),"",VLOOKUP(C45,Messieurs!$G$2:$G$484,3,FALSE)) | K45: =IF(ISBLANK(J45),"",VLOOKUP(J45,Messieurs!$G$2:$G$484,3,FALSE)) | R45: =IF(ISBLANK(Q45),"",VLOOKUP(Q45,Messieurs!$G$2:$G$484,3,FALSE)) | Y45: =IF(ISBLANK(X45),"",VLOOKUP(X45,Messieurs!$G$2:$G$484,3,FALSE)) | AD45: D MIXTE
A46: 10h30 | D46: =IF(ISBLANK(C46),"",VLOOKUP(C46,Messieurs!$G$2:$G$484,3,FALSE)) | H46: 10h30 | K46: =IF(ISBLANK(J46),"",VLOOKUP(J46,Messieurs!$G$2:$G$484,3,FALSE)) | O46: 10h30 | R46: =IF(ISBLANK(Q46),"",VLOOKUP(Q46,Messieurs!$G$2:$G$484,3,FALSE)) | V46: 10h30 | Y46: =IF(ISBLANK(X46),"",VLOOKUP(X46,Messieurs!$G$2:$G$484,3,FALSE)) | AD46: CS D
D47: =IF(ISBLANK(C47),"",VLOOKUP(C47,Messieurs!$G$2:$G$484,3,FALSE)) | K47: =IF(ISBLANK(J47),"",VLOOKUP(J47,Messieurs!$G$2:$G$484,3,FALSE)) | R47: =IF(ISBLANK(Q47),"",VLOOKUP(Q47,Messieurs!$G$2:$G$484,3,FALSE)) | Y47: =IF(ISBLANK(X47),"",VLOOKUP(X47,Messieurs!$G$2:$G$484,3,FALSE)) | AD47: CS M 30/1
A48: 12h00 | D48: =IF(ISBLANK(C48),"",VLOOKUP(C48,Messieurs!$G$2:$G$484,3,FALSE)) | H48: 12h00 | K48: =IF(ISBLANK(J48),"",VLOOKUP(J48,Messieurs!$G$2:$G$484,3,FALSE)) | O48: 12h00 | R48: =IF(ISBLANK(Q48),"",VLOOKUP(Q48,Messieurs!$G$2:$G$484,3,FALSE)) | V48: 12h00 | Y48: =IF(ISBLANK(X48),"",VLOOKUP(X48,Messieurs!$G$2:$G$484,3,FALSE))
D49: =IF(ISBLANK(C49),"",VLOOKUP(C49,Messieurs!$G$2:$G$484,3,FALSE)) | K49: =IF(ISBLANK(J49),"",VLOOKUP(J49,Messieurs!$G$2:$G$484,3,FALSE)) | R49: =IF(ISBLANK(Q49),"",VLOOKUP(Q49,Messieurs!$G$2:$G$484,3,FALSE)) | Y49: =IF(ISBLANK(X49),"",VLOOKUP(X49,Messieurs!$G$2:$G$484,3,FALSE))
A50: 13h30 | D50: =IF(ISBLANK(C50),"",VLOOKUP(C50,Messieurs!$G$2:$G$484,3,FALSE)) | H50: 13h30 | K50: =IF(ISBLANK(J50),"",VLOOKUP(J50,Messieurs!$G$2:$G$484,3,FALSE)) | O50: 13h30 | R50: =IF(ISBLANK(Q50),"",VLOOKUP(Q50,Messieurs!$G$2:$G$484,3,FALSE)) | V50: 13h30 | Y50: =IF(ISBLANK(X50),"",VLOOKUP(X50,Messieurs!$G$2:$G$484,3,FALSE))
D51: =IF(ISBLANK(C51),"",VLOOKUP(C51,Messieurs!$G$2:$G$484,3,FALSE)) | K51: =IF(ISBLANK(J51),"",VLOOKUP(J51,Messieurs!$G$2:$G$484,3,FALSE)) | R51: =IF(ISBLANK(Q51),"",VLOOKUP(Q51,Messieurs!$G$2:$G$484,3,FALSE)) | Y51: =IF(ISBLANK(X51),"",VLOOKUP(X51,Messieurs!$G$2:$G$484,3,FALSE))
A52: 15h00 | D52: =IF(ISBLANK(C52),"",VLOOKUP(C52,Messieurs!$G$2:$G$484,3,FALSE)) | H52: 15h00 | K52: =IF(ISBLANK(J52),"",VLOOKUP(J52,Messieurs!$G$2:$G$484,3,FALSE)) | O52: 15h00 | R52: =IF(ISBLANK(Q52),"",VLOOKUP(Q52,Messieurs!$G$2:$G$484,3,FALSE)) | V52: 15h00 | Y52: =IF(ISBLANK(X52),"",VLOOKUP(X52,Messieurs!$G$2:$G$484,3,FALSE))
D53: =IF(ISBLANK(C53),"",VLOOKUP(C53,Messieurs!$G$2:$G$484,3,FALSE)) | K53: =IF(ISBLANK(J53),"",VLOOKUP(J53,Messieurs!$G$2:$G$484,3,FALSE)) | R53: =IF(ISBLANK(Q53),"",VLOOKUP(Q53,Messieurs!$G$2:$G$484,3,FALSE)) | Y53: =IF(ISBLANK(X53),"",VLOOKUP(X53,Messieurs!$G$2:$G$484,3,FALSE))
A54: 16h30 | D54: =IF(ISBLANK(C54),"",VLOOKUP(C54,Messieurs!$G$2:$G$484,3,FALSE)) | H54: 16h30 | K54: =IF(ISBLANK(J54),"",VLOOKUP(J54,Messieurs!$G$2:$G$484,3,FALSE)) | O54: 16h30 | R54: =IF(ISBLANK(Q54),"",VLOOKUP(Q54,Messieurs!$G$2:$G$484,3,FALSE)) | V54: 16h30 | Y54: =IF(ISBLANK(X54),"",VLOOKUP(X54,Messieurs!$G$2:$G$484,3,FALSE))
D55: =IF(ISBLANK(C55),"",VLOOKUP(C55,Messieurs!$G$2:$G$484,3,FALSE)) | K55: =IF(ISBLANK(J55),"",VLOOKUP(J55,Messieurs!$G$2:$G$484,3,FALSE)) | R55: =IF(ISBLANK(Q55),"",VLOOKUP(Q55,Messieurs!$G$2:$G$484,3,FALSE)) | Y55: =IF(ISBLANK(X55),"",VLOOKUP(X55,Messieurs!$G$2:$G$484,3,FALSE))
A56: 18h00 | D56: =IF(ISBLANK(C56),"",VLOOKUP(C56,Messieurs!$G$2:$G$484,3,FALSE)) | H56: 18h00 | K56: =IF(ISBLANK(J56),"",VLOOKUP(J56,Messieurs!$G$2:$G$484,3,FALSE)) | O56: 18h00 | R56: =IF(ISBLANK(Q56),"",VLOOKUP(Q56,Messieurs!$G$2:$G$484,3,FALSE)) | V56: 18h00 | Y56: =IF(ISBLANK(X56),"",VLOOKUP(X56,Messieurs!$G$2:$G$484,3,FALSE))
D57: =IF(ISBLANK(C57),"",VLOOKUP(C57,Messieurs!$G$2:$G$484,3,FALSE)) | K57: =IF(ISBLANK(J57),"",VLOOKUP(J57,Messieurs!$G$2:$G$484,3,FALSE)) | R57: =IF(ISBLANK(Q57),"",VLOOKUP(Q57,Messieurs!$G$2:$G$484,3,FALSE)) | Y57: =IF(ISBLANK(X57),"",VLOOKUP(X57,Messieurs!$G$2:$G$484,3,FALSE))
A58: 19h30 | D58: =IF(ISBLANK(C58),"",VLOOKUP(C58,Messieurs!$G$2:$G$484,3,FALSE)) | H58: 19h30 | K58: =IF(ISBLANK(J58),"",VLOOKUP(J58,Messieurs!$G$2:$G$484,3,FALSE)) | O58: 19h30 | R58: =IF(ISBLANK(Q58),"",VLOOKUP(Q58,Messieurs!$G$2:$G$484,3,FALSE)) | V58: 19h30 | Y58: =IF(ISBLANK(X58),"",VLOOKUP(X58,Messieurs!$G$2:$G$484,3,FALSE))
D59: =IF(ISBLANK(C59),"",VLOOKUP(C59,Messieurs!$G$2:$G$484,3,FALSE)) | K59: =IF(ISBLANK(J59),"",VLOOKUP(J59,Messieurs!$G$2:$G$484,3,FALSE)) | R59: =IF(ISBLANK(Q59),"",VLOOKUP(Q59,Messieurs!$G$2:$G$484,3,FALSE)) | Y59: =IF(ISBLANK(X59),"",VLOOKUP(X59,Messieurs!$G$2:$G$484,3,FALSE))
A60: 21h00 | D60: =IF(ISBLANK(C60),"",VLOOKUP(C60,Messieurs!$G$2:$G$484,3,FALSE)) | H60: 21h00 | K60: =IF(ISBLANK(J60),"",VLOOKUP(J60,Messieurs!$G$2:$G$484,3,FALSE)) | O60: 21h00 | R60: =IF(ISBLANK(Q60),"",VLOOKUP(Q60,Messieurs!$G$2:$G$484,3,FALSE)) | V60: 21h00 | Y60: =IF(ISBLANK(X60),"",VLOOKUP(X60,Messieurs!$G$2:$G$484,3,FALSE))
D61: =IF(ISBLANK(C61),"",VLOOKUP(C61,Messieurs!$G$2:$G$484,3,FALSE)) | K61: =IF(ISBLANK(J61),"",VLOOKUP(J61,Messieurs!$G$2:$G$484,3,FALSE)) | R61: =IF(ISBLANK(Q61),"",VLOOKUP(Q61,Messieurs!$G$2:$G$484,3,FALSE)) | Y61: =IF(ISBLANK(X61),"",VLOOKUP(X61,Messieurs!$G$2:$G$484,3,FALSE))

Sheet 9 dec res
D2: 42900
D3: HAZ MASTER TOUR 2018
B5: Horaires | C5: Cat | D5: JOUEUR 1 | E5: club | F5: class | G5: V | H5: SCORE | I5: V | J5: JOUEUR 2 | K5: club | L5: class
B7: =IF('9 dec prog'!A23="","",'9 dec prog'!A23) -> 9h00 | C7: =IF('9 dec prog'!B23="","",'9 dec prog'!B23) -> CS_M_30_3 | D7: =IF('9 dec prog'!C23="","",'9 dec prog'!C23) -> ALECSANDRE Pierre | E7: =IF(D7="","",VLOOKUP(D7,INDIRECT("matrice_"&C7),7,FALSE)) -> HAZEBRO | F7: =IF(D7="","",VLOOKUP(D7,Messieurs!$G$2:$G$484,3,FALSE)) -> #N/A | G7: =IF('9 dec prog'!E23="","",'9 dec prog'!E23) | H7: =IF('9 dec prog'!G23="","",'9 dec prog'!G23) -> 4/2 4/1 | I7: =IF('9 dec prog'!E24="","",'9 dec prog'!E24) -> V | J7: =IF('9 dec prog'!C24="","",'9 dec prog'!C24) -> BELLENGIER Julien | K7: =IF(J7="","",VLOOKUP(J7,Messieurs!$G$2:$G$484,2,FALSE)) -> #N/A | L7: =IF(J7="","",VLOOKUP(J7,Messieurs!$G$2:$G$484,3,FALSE)) -> #N/A | N7: c
B8: =IF('9 dec prog'!H23="","",'9 dec prog'!H23) -> 9h00 | C8: =IF('9 dec prog'!I23="","",'9 dec prog'!I23) -> SD | D8: =IF('9 dec prog'!J23="","",'9 dec prog'!J23) -> BRASY Jade | E8: =IF(D8="","",VLOOKUP(D8,Messieurs!$G$2:$G$484,2,FALSE)) -> #N/A | F8: =IF(D8="","",VLOOKUP(D8,Messieurs!$G$2:$G$484,3,FALSE)) -> #N/A | G8: =IF('9 dec prog'!L23="","",'9 dec prog'!L23) -> V | H8: =IF('9 dec prog'!N23="","",'9 dec prog'!N23) -> W.O | I8: =IF('9 dec prog'!L24="","",'9 dec prog'!L24) | J8: =IF('9 dec prog'!J24="","",'9 dec prog'!J24) -> INGARAO Romane | K8: =IF(J8="","",VLOOKUP(J8,Messieurs!$G$2:$G$484,2,FALSE)) -> #N/A | L8: =IF(J8="","",VLOOKUP(J8,Messieurs!$G$2:$G$484,3,FALSE)) -> #N/A | N8: i
B9: =IF('9 dec prog'!A3="","",'9 dec prog'!A3) -> 9h00 | C9: =IF('9 dec prog'!B3="","",'9 dec prog'!B3) -> SD | D9: =IF('9 dec prog'!C3="","",'9 dec prog'!C3) -> VANGHENDT Agathe | E9: =IF(D9="","",VLOOKUP(D9,Messieurs!$G$2:$G$484,2,FALSE)) -> #N/A | F9: =IF(D9="","",VLOOKUP(D9,Messieurs!$G$2:$G$484,3,FALSE)) -> #N/A | G9: =IF('9 dec prog'!E3="","",'9 dec prog'!E3) -> V | H9: =IF('9 dec prog'!G3="","",'9 dec prog'!G3) -> 3/1 3/0 | I9: =IF('9 dec prog'!E4="","",'9 dec prog'!E4) | J9: =IF('9 dec prog'!C4="","",'9 dec prog'!C4) -> BONAMI Sarah | K9: =IF(J9="","",VLOOKUP(J9,Messieurs!$G$2:$G$484,2,FALSE)) -> #N/A | L9: =IF(J9="","",VLOOKUP(J9,Messieurs!$G$2:$G$484,3,FALSE)) -> #N/A | N9: o
B10: =IF('9 dec prog'!H3="","",'9 dec prog'!H3) -> 9h00 | C10: =IF('9 dec prog'!I3="","",'9 dec prog'!I3) -> SM | D10: =IF('9 dec prog'!J3="","",'9 dec prog'!J3) -> ALECSANDRE Pierre | E10: =IF(D10="","",VLOOKUP(D10,Messieurs!$G$2:$G$484,2,FALSE)) -> #N/A | F10: =IF(D10="","",VLOOKUP(D10,Messieurs!$G$2:$G$484,3,FALSE)) -> #N/A | G10: =IF('9 dec prog'!L3="","",'9 dec prog'!L3) | H10: =IF('9 dec prog'!N3="","",'9 dec prog'!N3) -> 3/1 3/1 | I10: =IF('9 dec prog'!L4="","",'9 dec prog'!L4) -> V | J10: =IF('9 dec prog'!J4="","",'9 dec prog'!J4) -> BECUE Baptiste | K10: =IF(J10="","",VLOOKUP(J10,Messieurs!$G$2:$G$484,2,FALSE)) -> #N/A | L10: =IF(J10="","",VLOOKUP(J10,Messieurs!$G$2:$G$484,3,FALSE)) -> #N/A | N10: u
B11: =IF('9 dec prog'!V44="","",'9 dec prog'!V44) -> 9h00 | C11: =IF('9 dec prog'!W44="","",'9 dec prog'!W44) | D11: =IF('9 dec prog'!C44="","",'9 dec prog'!C44) | E11: =IF(D11="","",VLOOKUP(D11,Messieurs!$G$2:$G$484,2,FALSE)) | F11: =IF(D11="","",VLOOKUP(D11,Messieurs!$G$2:$G$484,3,FALSE)) | G11: =IF('9 dec prog'!E44="","",'9 dec prog'!E44) | H11: =IF('9 dec prog'!G44="","",'9 dec prog'!G44) | I11: =IF('9 dec prog'!E45="","",'9 dec prog'!E45) | J11: =IF('9 dec prog'!C45="","",'9 dec prog'!C45) | K11: =IF(J11="","",VLOOKUP(J11,Messieurs!$G$2:$G$484,2,FALSE)) | L11: =IF(J11="","",VLOOKUP(J11,Messieurs!$G$2:$G$484,3,FALSE)) | N11: c
B12: =IF('9 dec prog'!H44="","",'9 dec prog'!H44) -> 9h00 | C12: =IF('9 dec prog'!I44="","",'9 dec prog'!I44) | D12: =IF('9 dec prog'!J44="","",'9 dec prog'!J44) | E12: =IF(D12="","",VLOOKUP(D12,Messieurs!$G$2:$G$484,2,FALSE)) | F12: =IF(D12="","",VLOOKUP(D12,Messieurs!$G$2:$G$484,3,FALSE)) | G12: =IF('9 dec prog'!L44="","",'9 dec prog'!L44) | H12: =IF('9 dec prog'!N44="","",'9 dec prog'!N44) | I12: =IF('9 dec prog'!L45="","",'9 dec prog'!L45) | J12: =IF('9 dec prog'!J45="","",'9 dec prog'!J45) | K12: =IF(J12="","",VLOOKUP(J12,Messieurs!$G$2:$G$484,2,FALSE)) | L12: =IF(J12="","",VLOOKUP(J12,Messieurs!$G$2:$G$484,3,FALSE)) | N12: i
B13: =IF('9 dec prog'!O44="","",'9 dec prog'!O44) -> 9h00 | C13: =IF('9 dec prog'!P44="","",'9 dec prog'!P44) | D13: =IF('9 dec prog'!Q44="","",'9 dec prog'!Q44) | E13: =IF(D13="","",VLOOKUP(D13,Messieurs!$G$2:$G$484,2,FALSE)) | F13: =IF(D13="","",VLOOKUP(D13,Messieurs!$G$2:$G$484,3,FALSE)) | G13: =IF('9 dec prog'!S44="","",'9 dec prog'!S44) | H13: =IF('9 dec prog'!U44="","",'9 dec prog'!U44) | I13: =IF('9 dec prog'!S45="","",'9 dec prog'!S45) | J13: =IF('9 dec prog'!Q45="","",'9 dec prog'!Q45) | K13: =IF(J13="","",VLOOKUP(J13,Messieurs!$G$2:$G$484,2,FALSE)) | L13: =IF(J13="","",VLOOKUP(J13,Messieurs!$G$2:$G$484,3,FALSE)) | N13: o
B14: =IF('9 dec prog'!V44="","",'9 dec prog'!V44) -> 9h00 | C14: =IF('9 dec prog'!W44="","",'9 dec prog'!W44) | D14: =IF('9 dec prog'!X44="","",'9 dec prog'!X44) | E14: =IF(D14="","",VLOOKUP(D14,Messieurs!$G$2:$G$484,2,FALSE)) | F14: =IF(D14="","",VLOOKUP(D14,Messieurs!$G$2:$G$484,3,FALSE)) | G14: =IF('9 dec prog'!L7="","",'9 dec prog'!L7) | H14: =IF('9 dec prog'!AB44="","",'9 dec prog'!AB44) | I14: =IF('9 dec prog'!Z45="","",'9 dec prog'!Z48) | J14: =IF('9 dec prog'!X45="","",'9 dec prog'!X45) | K14: =IF(J14="","",VLOOKUP(J14,Messieurs!$G$2:$G$484,2,FALSE)) | L14: =IF(J14="","",VLOOKUP(J14,Messieurs!$G$2:$G$484,3,FALSE)) | N14: u
B16: =IF('9 dec prog'!A25="","",'9 dec prog'!A25) -> 10h30 | C16: =IF('9 dec prog'!B25="","",'9 dec prog'!B25) -> CS_M_30_3 | D16: =IF('9 dec prog'!C25="","",'9 dec prog'!C25) -> BELLENGIER Julien | E16: =IF(D16="","",VLOOKUP(D16,Messieurs!$G$2:$G$484,2,FALSE)) -> #N/A | F16: =IF(D16="","",VLOOKUP(D16,Messieurs!$G$2:$G$484,3,FALSE)) -> #N/A | G16: =IF('9 dec prog'!E25="","",'9 dec prog'!E25) -> V | H16: =IF('9 dec prog'!G25="","",'9 dec prog'!G25) -> 4/3 4/2 | I16: =IF('9 dec prog'!E26="","",'9 dec prog'!E26) | J16: =IF('9 dec prog'!C26="","",'9 dec prog'!C26) -> ALECSANDRE Pierre | K16: =IF(J16="","",VLOOKUP(J16,Messieurs!$G$2:$G$484,2,FALSE)) -> #N/A | L16: =IF(J16="","",VLOOKUP(J16,Messieurs!$G$2:$G$484,3,FALSE)) -> #N/A
B17: =IF('9 dec prog'!H25="","",'9 dec prog'!H25) -> 10h30 | C17: =IF('9 dec prog'!I25="","",'9 dec prog'!I25) -> SM | D17: =IF('9 dec prog'!J25="","",'9 dec prog'!J25) -> INGARAO Romane | E17: =IF(D17="","",VLOOKUP(D17,Messieurs!$G$2:$G$484,2,FALSE)) -> #N/A | F17: =IF(D17="","",VLOOKUP(D17,Messieurs!$G$2:$G$484,3,FALSE)) -> #N/A | G17: =IF('9 dec prog'!L25="","",'9 dec prog'!L25) | H17: =IF('9 dec prog'!N25="","",'9 dec prog'!N25) -> W.O | I17: =IF('9 dec prog'!L26="","",'9 dec prog'!L26) -> V | J17: =IF('9 dec prog'!J26="","",'9 dec prog'!J26) -> MASSIET ZOE | K17: =IF(J17="","",VLOOKUP(J17,Messieurs!$G$2:$G$484,2,FALSE)) -> #N/A | L17: =IF(J17="","",VLOOKUP(J17,Messieurs!$G$2:$G$484,3,FALSE)) -> #N/A
B18: =IF('9 dec prog'!A5="","",'9 dec prog'!A5) -> 10h30 | C18: =IF('9 dec prog'!B5="","",'9 dec prog'!B5) -> SD | D18: =IF('9 dec prog'!C5="","",'9 dec prog'!C5) -> SCIACALUGA Lucie | E18: =IF(D18="","",VLOOKUP(D18,Messieurs!$G$2:$G$484,2,FALSE)) -> #N/A | F18: =IF(D18="","",VLOOKUP(D18,Messieurs!$G$2:$G$484,3,FALSE)) -> #N/A | G18: =IF('9 dec prog'!E5="","",'9 dec prog'!E5) | H18: =IF('9 dec prog'!G5="","",'9 dec prog'!G5) -> 3/2 2/3 10/6 | I18: =IF('9 dec prog'!E6="","",'9 dec prog'!E6) -> V | J18: =IF('9 dec prog'!C6="","",'9 dec prog'!C6) -> BONAMI Sarah | K18: =IF(J18="","",VLOOKUP(J18,Messieurs!$G$2:$G$484,2,FALSE)) -> #N/A | L18: =IF(J18="","",VLOOKUP(J18,Messieurs!$G$2:$G$484,3,FALSE)) -> #N/A
B19: =IF('9 dec prog'!H5="","",'9 dec prog'!H5) -> 10h30 | C19: =IF('9 dec prog'!I5="","",'9 dec prog'!I5) -> SD | D19: =IF('9 dec prog'!J5="","",'9 dec prog'!J5) -> AVEZ Béatrice | E19: =IF(D19="","",VLOOKUP(D19,Messieurs!$G$2:$G$484,2,FALSE)) -> #N/A | F19: =IF(D19="","",VLOOKUP(D19,Messieurs!$G$2:$G$484,3,FALSE)) -> #N/A | G19: =IF('9 dec prog'!L5="","",'9 dec prog'!L5) | H19: =IF('9 dec prog'!N5="","",'9 dec prog'!N5) -> 3/0 3/0 | I19: =IF('9 dec prog'!L6="","",'9 dec prog'!L6) -> V | J19: =IF('9 dec prog'!J6="","",'9 dec prog'!J6) -> AVEZ Béatrice | K19: =IF(J19="","",VLOOKUP(J19,Messieurs!$G$2:$G$484,2,FALSE)) -> #N/A | L19: =IF(J19="","",VLOOKUP(J19,Messieurs!$G$2:$G$484,3,FALSE)) -> #N/A
B20: =IF('9 dec prog'!A46="","",'9 dec prog'!A46) -> 10h30 | C20: =IF('9 dec prog'!B46="","",'9 dec prog'!B46) | D20: =IF('9 dec prog'!C46="","",'9 dec prog'!C46) | E20: =IF(D20="","",VLOOKUP(D20,Messieurs!$G$2:$G$484,2,FALSE)) | F20: =IF(D20="","",VLOOKUP(D20,Messieurs!$G$2:$G$484,3,FALSE)) | G20: =IF('9 dec prog'!E46="","",'9 dec prog'!E46) | H20: =IF('9 dec prog'!G46="","",'9 dec prog'!G46) | I20: =IF('9 dec prog'!E47="","",'9 dec prog'!E47) | J20: =IF('9 dec prog'!C47="","",'9 dec prog'!C47) | K20: =IF(J20="","",VLOOKUP(J20,Messieurs!$G$2:$G$484,2,FALSE)) | L20: =IF(J20="","",VLOOKUP(J20,Messieurs!$G$2:$G$484,3,FALSE))
B21: =IF('9 dec prog'!H46="","",'9 dec prog'!H46) -> 10h30 | C21: =IF('9 dec prog'!I46="","",'9 dec prog'!I46) | D21: =IF('9 dec prog'!J46="","",'9 dec prog'!J46) | E21: =IF(D21="","",VLOOKUP(D21,Messieurs!$G$2:$G$484,2,FALSE)) | F21: =IF(D21="","",VLOOKUP(D21,Messieurs!$G$2:$G$484,3,FALSE)) | G21: =IF('9 dec prog'!L46="","",'9 dec prog'!L46) | H21: =IF('9 dec prog'!N46="","",'9 dec prog'!N46) | I21: =IF('9 dec prog'!L47="","",'9 dec prog'!L47) | J21: =IF('9 dec prog'!J47="","",'9 dec prog'!J47) | K21: =IF(J21="","",VLOOKUP(J21,Messieurs!$G$2:$G$484,2,FALSE)) | L21: =IF(J21="","",VLOOKUP(J21,Messieurs!$G$2:$G$484,3,FALSE))
B22: =IF('9 dec prog'!O46="","",'9 dec prog'!O46) -> 10h30 | C22: =IF('9 dec prog'!P46="","",'9 dec prog'!P46) | D22: =IF('9 dec prog'!Q46="","",'9 dec prog'!Q46) | E22: =IF(D22="","",VLOOKUP(D22,Messieurs!$G$2:$G$484,2,FALSE)) | F22: =IF(D22="","",VLOOKUP(D22,Messieurs!$G$2:$G$484,3,FALSE)) | G22: =IF('9 dec prog'!S46="","",'9 dec prog'!S46) | H22: =IF('9 dec prog'!U46="","",'9 dec prog'!U46) | I22: =IF('9 dec prog'!S47="","",'9 dec prog'!S47) | J22: =IF('9 dec prog'!Q47="","",'9 dec prog'!Q47) | K22: =IF(J22="","",VLOOKUP(J22,Messieurs!$G$2:$G$484,2,FALSE)) | L22: =IF(J22="","",VLOOKUP(J22,Messieurs!$G$2:$G$484,3,FALSE))
B23: =IF('9 dec prog'!V46="","",'9 dec prog'!V46) -> 10h30 | C23: =IF('9 dec prog'!W46="","",'9 dec prog'!W46) | D23: =IF('9 dec prog'!X46="","",'9 dec prog'!X46) | E23: =IF(D23="","",VLOOKUP(D23,Messieurs!$G$2:$G$484,2,FALSE)) | F23: =IF(D23="","",VLOOKUP(D23,Messieurs!$G$2:$G$484,3,FALSE)) | G23: =IF('9 dec prog'!Z46="","",'9 dec prog'!Z46) | H23: =IF('9 dec prog'!AB46="","",'9 dec prog'!AB46) | I23: =IF('9 dec prog'!Z47="","",'9 dec prog'!Z47) | J23: =IF('9 dec prog'!X47="","",'9 dec prog'!X47) | K23: =IF(J23="","",VLOOKUP(J23,Messieurs!$G$2:$G$484,2,FALSE)) | L23: =IF(J23="","",VLOOKUP(J23,Messieurs!$G$2:$G$484,3,FALSE))
B25: =IF('9 dec prog'!A27="","",'9 dec prog'!A27) -> 12h00 | C25: =IF('9 dec prog'!B27="","",'9 dec prog'!B27) -> SD | D25: =IF('9 dec prog'!C27="","",'9 dec prog'!C27) | E25: =IF(D25="","",VLOOKUP(D25,Messieurs!$G$2:$G$484,2,FALSE)) | F25: =IF(D25="","",VLOOKUP(D25,Messieurs!$G$2:$G$484,3,FALSE)) | G25: =IF('9 dec prog'!E27="","",'9 dec prog'!E27) -> V | H25: =IF('9 dec prog'!G27="","",'9 dec prog'!G27) -> W.O | I25: =IF('9 dec prog'!E28="","",'9 dec prog'!E28) | J25: =IF('9 dec prog'!C28="","",'9 dec prog'!C28) | K25: =IF(J25="","",VLOOKUP(J25,Messieurs!$G$2:$G$484,2,FALSE)) | L25: =IF(J25="","",VLOOKUP(J25,Messieurs!$G$2:$G$484,3,FALSE))
B26: =IF('9 dec prog'!H27="","",'9 dec prog'!H27) -> 12h00 | C26: =IF('9 dec prog'!I27="","",'9 dec prog'!I27) -> 9/10 F | D26: =IF('9 dec prog'!J27="","",'9 dec prog'!J27) -> BRASY Jade | E26: =IF(D26="","",VLOOKUP(D26,Messieurs!$G$2:$G$484,2,FALSE)) -> #N/A | F26: =IF(D26="","",VLOOKUP(D26,Messieurs!$G$2:$G$484,3,FALSE)) -> #N/A | G26: =IF('9 dec prog'!L27="","",'9 dec prog'!L27) -> V | H26: =IF('9 dec prog'!N27="","",'9 dec prog'!N27) -> 4/1 4/1 | I26: =IF('9 dec prog'!L28="","",'9 dec prog'!L28) | J26: =IF('9 dec prog'!J28="","",'9 dec prog'!J28) -> MASSIET ZOE | K26: =IF(J26="","",VLOOKUP(J26,Messieurs!$G$2:$G$484,2,FALSE)) -> #N/A | L26: =IF(J26="","",VLOOKUP(J26,Messieurs!$G$2:$G$484,3,FALSE)) -> #N/A
B27: =IF('9 dec prog'!A7="","",'9 dec prog'!A7) -> 12h00 | C27: =IF('9 dec prog'!B7="","",'9 dec prog'!B7) -> CS_M_30_3 | D27: =IF('9 dec prog'!C7="","",'9 dec prog'!C7) -> ALECSANDRE Pierre | E27: =IF(D27="","",VLOOKUP(D27,Messieurs!$G$2:$G$484,2,FALSE)) -> #N/A | F27: =IF(D27="","",VLOOKUP(D27,Messieurs!$G$2:$G$484,3,FALSE)) -> #N/A | G27: =IF('9 dec prog'!E7="","",'9 dec prog'!E7) | H27: =IF('9 dec prog'!G7="","",'9 dec prog'!G7) -> 3/1 3/1 | I27: =IF('9 dec prog'!E8="","",'9 dec prog'!E8) -> V | J27: =IF('9 dec prog'!C8="","",'9 dec prog'!C8) -> BECUE Baptiste | K27: =IF(J27="","",VLOOKUP(J27,Messieurs!$G$2:$G$484,2,FALSE)) -> #N/A | L27: =IF(J27="","",VLOOKUP(J27,Messieurs!$G$2:$G$484,3,FALSE)) -> #N/A
B28: =IF('9 dec prog'!H7="","",'9 dec prog'!H7) -> 12h00 | C28: =IF('9 dec prog'!I7="","",'9 dec prog'!I7) -> SM | D28: =IF('9 dec prog'!J7="","",'9 dec prog'!J7) -> ALECSANDRE Pierre | E28: =IF(D28="","",VLOOKUP(D28,Messieurs!$G$2:$G$484,2,FALSE)) -> #N/A | F28: =IF(D28="","",VLOOKUP(D28,Messieurs!$G$2:$G$484,3,FALSE)) -> #N/A | G28: =IF('9 dec prog'!L7="","",'9 dec prog'!L7) | H28: =IF('9 dec prog'!N7="","",'9 dec prog'!N7) -> 3/1 3/1 | I28: =IF('9 dec prog'!L8="","",'9 dec prog'!L8) -> V | J28: =IF('9 dec prog'!J8="","",'9 dec prog'!J8) -> BECUWE Vincent | K28: =IF(J28="","",VLOOKUP(J28,Messieurs!$G$2:$G$484,2,FALSE)) -> #N/A | L28: =IF(J28="","",VLOOKUP(J28,Messieurs!$G$2:$G$484,3,FALSE)) -> #N/A
B29: =IF('9 dec prog'!A48="","",'9 dec prog'!A48) -> 12h00 | C29: =IF('9 dec prog'!B48="","",'9 dec prog'!B48) | D29: =IF('9 dec prog'!C48="","",'9 dec prog'!C48) | E29: =IF(D29="","",VLOOKUP(D29,Messieurs!$G$2:$G$484,2,FALSE)) | F29: =IF(D29="","",VLOOKUP(D29,Messieurs!$G$2:$G$484,3,FALSE)) | G29: =IF('9 dec prog'!E48="","",'9 dec prog'!E48) | H29: =IF('9 dec prog'!G48="","",'9 dec prog'!G48) | I29: =IF('9 dec prog'!E49="","",'9 dec prog'!E49) | J29: =IF('9 dec prog'!C49="","",'9 dec prog'!C49) | K29: =IF(J29="","",VLOOKUP(J29,Messieurs!$G$2:$G$484,2,FALSE)) | L29: =IF(J29="","",VLOOKUP(J29,Messieurs!$G$2:$G$484,3,FALSE))
B30: =IF('9 dec prog'!H48="","",'9 dec prog'!H48) -> 12h00 | C30: =IF('9 dec prog'!I48="","",'9 dec prog'!I48) | D30: =IF('9 dec prog'!J48="","",'9 dec prog'!J48) | E30: =IF(D30="","",VLOOKUP(D30,Messieurs!$G$2:$G$484,2,FALSE)) | F30: =IF(D30="","",VLOOKUP(D30,Messieurs!$G$2:$G$484,3,FALSE)) | G30: =IF('9 dec prog'!L48="","",'9 dec prog'!L48) | H30: =IF('9 dec prog'!N48="","",'9 dec prog'!N48) | I30: =IF('9 dec prog'!L49="","",'9 dec prog'!L49) | J30: =IF('9 dec prog'!J49="","",'9 dec prog'!J49) | K30: =IF(J30="","",VLOOKUP(J30,Messieurs!$G$2:$G$484,2,FALSE)) | L30: =IF(J30="","",VLOOKUP(J30,Messieurs!$G$2:$G$484,3,FALSE))
B31: =IF('9 dec prog'!O48="","",'9 dec prog'!O48) -> 12h00 | C31: =IF('9 dec prog'!P48="","",'9 dec prog'!P48) | D31: =IF('9 dec prog'!Q48="","",'9 dec prog'!Q48) | E31: =IF(D31="","",VLOOKUP(D31,Messieurs!$G$2:$G$484,2,FALSE)) | F31: =IF(D31="","",VLOOKUP(D31,Messieurs!$G$2:$G$484,3,FALSE)) | G31: =IF('9 dec prog'!S48="","",'9 dec prog'!S48) | H31: =IF('9 dec prog'!U48="","",'9 dec prog'!U48) | I31: =IF('9 dec prog'!S49="","",'9 dec prog'!S49) | J31: =IF('9 dec prog'!Q49="","",'9 dec prog'!Q49) | K31: =IF(J31="","",VLOOKUP(J31,Messieurs!$G$2:$G$484,2,FALSE)) | L31: =IF(J31="","",VLOOKUP(J31,Messieurs!$G$2:$G$484,3,FALSE))
B32: =IF('9 dec prog'!V48="","",'9 dec prog'!V48) -> 12h00 | C32: =IF('9 dec prog'!W48="","",'9 dec prog'!W48) | D32: =IF('9 dec prog'!X48="","",'9 dec prog'!X48) | E32: =IF(D32="","",VLOOKUP(D32,Messieurs!$G$2:$G$484,2,FALSE)) | F32: =IF(D32="","",VLOOKUP(D32,Messieurs!$G$2:$G$484,3,FALSE)) | G32: =IF('9 dec prog'!Z48="","",'9 dec prog'!Z48) | H32: =IF('9 dec prog'!AB48="","",'9 dec prog'!AB48) | I32: =IF('9 dec prog'!Z49="","",'9 dec prog'!Z49) | J32: =IF('9 dec prog'!X49="","",'9 dec prog'!X49) | K32: =IF(J32="","",VLOOKUP(J32,Messieurs!$G$2:$G$484,2,FALSE)) | L32: =IF(J32="","",VLOOKUP(J32,Messieurs!$G$2:$G$484,3,FALSE))
B34: =IF('9 dec prog'!A29="","",'9 dec prog'!A29) -> 13h30 | C34: =IF('9 dec prog'!B29="","",'9 dec prog'!B29) -> SM | D34: =IF('9 dec prog'!C29="","",'9 dec prog'!C29) | E34: =IF(D34="","",VLOOKUP(D34,Messieurs!$G$2:$G$484,2,FALSE)) | F34: =IF(D34="","",VLOOKUP(D34,Messieurs!$G$2:$G$484,3,FALSE)) | G34: =IF('9 dec prog'!E29="","",'9 dec prog'!E29) -> V | H34: =IF('9 dec prog'!G29="","",'9 dec prog'!G29) -> 3/0 3/0 | I34: =IF('9 dec prog'!E30="","",'9 dec prog'!E30) | J34: =IF('9 dec prog'!C30="","",'9 dec prog'!C30) | K34: =IF(J34="","",VLOOKUP(J34,Messieurs!$G$2:$G$484,2,FALSE)) | L34: =IF(J34="","",VLOOKUP(J34,Messieurs!$G$2:$G$484,3,FALSE))
B35: =IF('9 dec prog'!H29="","",'9 dec prog'!H29) -> 13h30 | C35: =IF('9 dec prog'!I29="","",'9 dec prog'!I29) -> 9 G | D35: =IF('9 dec prog'!J29="","",'9 dec prog'!J29) -> GRAVE Maël | E35: =IF(D35="","",VLOOKUP(D35,Messieurs!$G$2:$G$484,2,FALSE)) -> #N/A | F35: =IF(D35="","",VLOOKUP(D35,Messieurs!$G$2:$G$484,3,FALSE)) -> #N/A | G35: =IF('9 dec prog'!L29="","",'9 dec prog'!L29) | H35: =IF('9 dec prog'!N29="","",'9 dec prog'!N29) -> 1/3 3/2 10/2 | I35: =IF('9 dec prog'!L30="","",'9 dec prog'!L30) -> V | J35: =IF('9 dec prog'!J30="","",'9 dec prog'!J30) -> MICHEL Antoine | K35: =IF(J35="","",VLOOKUP(J35,Messieurs!$G$2:$G$484,2,FALSE)) -> #N/A | L35: =IF(J35="","",VLOOKUP(J35,Messieurs!$G$2:$G$484,3,FALSE)) -> #N/A
B36: =IF('9 dec prog'!A9="","",'9 dec prog'!A9) -> 13h30 | C36: =IF('9 dec prog'!B9="","",'9 dec prog'!B9) -> SM | D36: =IF('9 dec prog'!C9="","",'9 dec prog'!C9) | E36: =IF(D36="","",VLOOKUP(D36,Messieurs!$G$2:$G$484,2,FALSE)) | F36: =IF(D36="","",VLOOKUP(D36,Messieurs!$G$2:$G$484,3,FALSE)) | G36: =IF('9 dec prog'!E9="","",'9 dec prog'!E9) | H36: =IF('9 dec prog'!G9="","",'9 dec prog'!G9) | I36: =IF('9 dec prog'!E10="","",'9 dec prog'!E10) | J36: =IF('9 dec prog'!C10="","",'9 dec prog'!C10) | K36: =IF(J36="","",VLOOKUP(J36,Messieurs!$G$2:$G$484,2,FALSE)) | L36: =IF(J36="","",VLOOKUP(J36,Messieurs!$G$2:$G$484,3,FALSE))
B37: =IF('9 dec prog'!H9="","",'9 dec prog'!H9) -> 13h30 | C37: =IF('9 dec prog'!I9="","",'9 dec prog'!I9) -> SD | D37: =IF('9 dec prog'!J9="","",'9 dec prog'!J9) | E37: =IF(D37="","",VLOOKUP(D37,Messieurs!$G$2:$G$484,2,FALSE)) | F37: =IF(D37="","",VLOOKUP(D37,Messieurs!$G$2:$G$484,3,FALSE)) | G37: =IF('9 dec prog'!L9="","",'9 dec prog'!L9) | H37: =IF('9 dec prog'!N9="","",'9 dec prog'!N9) | I37: =IF('9 dec prog'!L10="","",'9 dec prog'!L10) | J37: =IF('9 dec prog'!J10="","",'9 dec prog'!J10) | K37: =IF(J37="","",VLOOKUP(J37,Messieurs!$G$2:$G$484,2,FALSE)) | L37: =IF(J37="","",VLOOKUP(J37,Messieurs!$G$2:$G$484,3,FALSE))
B38: =IF('9 dec prog'!A50="","",'9 dec prog'!A50) -> 13h30 | C38: =IF('9 dec prog'!B50="","",'9 dec prog'!B50) | D38: =IF('9 dec prog'!C50="","",'9 dec prog'!C50) | E38: =IF(D38="","",VLOOKUP(D38,Messieurs!$G$2:$G$484,2,FALSE)) | F38: =IF(D38="","",VLOOKUP(D38,Messieurs!$G$2:$G$484,3,FALSE)) | G38: =IF('9 dec prog'!E50="","",'9 dec prog'!E50) | H38: =IF('9 dec prog'!G50="","",'9 dec prog'!G50) | I38: =IF('9 dec prog'!E51="","",'9 dec prog'!E51) | J38: =IF('9 dec prog'!C51="","",'9 dec prog'!C51) | K38: =IF(J38="","",VLOOKUP(J38,Messieurs!$G$2:$G$484,2,FALSE)) | L38: =IF(J38="","",VLOOKUP(J38,Messieurs!$G$2:$G$484,3,FALSE))
B39: =IF('9 dec prog'!H50="","",'9 dec prog'!H50) -> 13h30 | C39: =IF('9 dec prog'!I50="","",'9 dec prog'!I50) | D39: =IF('9 dec prog'!J50="","",'9 dec prog'!J50) | E39: =IF(D39="","",VLOOKUP(D39,Messieurs!$G$2:$G$484,2,FALSE)) | F39: =IF(D39="","",VLOOKUP(D39,Messieurs!$G$2:$G$484,3,FALSE)) | G39: =IF('9 dec prog'!L50="","",'9 dec prog'!L50) | H39: =IF('9 dec prog'!N50="","",'9 dec prog'!N50) | I39: =IF('9 dec prog'!L51="","",'9 dec prog'!L51) | J39: =IF('9 dec prog'!J51="","",'9 dec prog'!J51) | K39: =IF(J39="","",VLOOKUP(J39,Messieurs!$G$2:$G$484,2,FALSE)) | L39: =IF(J39="","",VLOOKUP(J39,Messieurs!$G$2:$G$484,3,FALSE))
B40: =IF('9 dec prog'!O50="","",'9 dec prog'!O50) -> 13h30 | C40: =IF('9 dec prog'!P50="","",'9 dec prog'!P50) | D40: =IF('9 dec prog'!Q50="","",'9 dec prog'!Q50) | E40: =IF(D40="","",VLOOKUP(D40,Messieurs!$G$2:$G$484,2,FALSE)) | F40: =IF(D40="","",VLOOKUP(D40,Messieurs!$G$2:$G$484,3,FALSE)) | G40: =IF('9 dec prog'!S50="","",'9 dec prog'!S50) | H40: =IF('9 dec prog'!U50="","",'9 dec prog'!U50) | I40: =IF('9 dec prog'!S51="","",'9 dec prog'!S51) | J40: =IF('9 dec prog'!Q51="","",'9 dec prog'!Q51) | K40: =IF(J40="","",VLOOKUP(J40,Messieurs!$G$2:$G$484,2,FALSE)) | L40: =IF(J40="","",VLOOKUP(J40,Messieurs!$G$2:$G$484,3,FALSE))
B41: =IF('9 dec prog'!V50="","",'9 dec prog'!V50) -> 13h30 | C41: =IF('9 dec prog'!W50="","",'9 dec prog'!W50) | D41: =IF('9 dec prog'!X50="","",'9 dec prog'!X50) | E41: =IF(D41="","",VLOOKUP(D41,Messieurs!$G$2:$G$484,2,FALSE)) | F41: =IF(D41="","",VLOOKUP(D41,Messieurs!$G$2:$G$484,3,FALSE)) | G41: =IF('9 dec prog'!Z50="","",'9 dec prog'!Z50) | H41: =IF('9 dec prog'!AB50="","",'9 dec prog'!AB50) | I41: =IF('9 dec prog'!Z51="","",'9 dec prog'!Z51) | J41: =IF('9 dec prog'!X51="","",'9 dec prog'!X51) | K41: =IF(J41="","",VLOOKUP(J41,Messieurs!$G$2:$G$484,2,FALSE)) | L41: =IF(J41="","",VLOOKUP(J41,Messieurs!$G$2:$G$484,3,FALSE))
B43: =IF('9 dec prog'!A31="","",'9 dec prog'!A31) -> 15h00 | C43: =IF('9 dec prog'!B31="","",'9 dec prog'!B31) -> SD | D43: =IF('9 dec prog'!C31="","",'9 dec prog'!C31) | E43: =IF(D43="","",VLOOKUP(D43,Messieurs!$G$2:$G$484,2,FALSE)) | F43: =IF(D43="","",VLOOKUP(D43,Messieurs!$G$2:$G$484,3,FALSE)) | G43: =IF('9 dec prog'!E31="","",'9 dec prog'!E31) -> V | H43: =IF('9 dec prog'!G31="","",'9 dec prog'!G31) -> 3/0 3/0 | I43: =IF('9 dec prog'!E32="","",'9 dec prog'!E32) | J43: =IF('9 dec prog'!C32="","",'9 dec prog'!C32) | K43: =IF(J43="","",VLOOKUP(J43,Messieurs!$G$2:$G$484,2,FALSE)) | L43: =IF(J43="","",VLOOKUP(J43,Messieurs!$G$2:$G$484,3,FALSE))
B44: =IF('9 dec prog'!H31="","",'9 dec prog'!H31) -> 15h00 | C44: =IF('9 dec prog'!I31="","",'9 dec prog'!I31) -> 9 G | D44: =IF('9 dec prog'!J31="","",'9 dec prog'!J31) -> RABAT ELLIOT | E44: =IF(D44="","",VLOOKUP(D44,Messieurs!$G$2:$G$484,2,FALSE)) -> #N/A | F44: =IF(D44="","",VLOOKUP(D44,Messieurs!$G$2:$G$484,3,FALSE)) -> #N/A | G44: =IF('9 dec prog'!L31="","",'9 dec prog'!L31) | H44: =IF('9 dec prog'!N31="","",'9 dec prog'!N31) -> 3/2 3/1 | I44: =IF('9 dec prog'!L32="","",'9 dec prog'!L32) -> V | J44: =IF('9 dec prog'!J32="","",'9 dec prog'!J32) -> MICHEL Antoine | K44: =IF(J44="","",VLOOKUP(J44,Messieurs!$G$2:$G$484,2,FALSE)) -> #N/A | L44: =IF(J44="","",VLOOKUP(J44,Messieurs!$G$2:$G$484,3,FALSE)) -> #N/A
B45: =IF('9 dec prog'!A11="","",'9 dec prog'!A11) -> 15h00 | C45: =IF('9 dec prog'!B11="","",'9 dec prog'!B11) -> SD | D45: =IF('9 dec prog'!C11="","",'9 dec prog'!C11) | E45: =IF(D45="","",VLOOKUP(D45,Messieurs!$G$2:$G$484,2,FALSE)) | F45: =IF(D45="","",VLOOKUP(D45,Messieurs!$G$2:$G$484,3,FALSE)) | G45: =IF('9 dec prog'!E11="","",'9 dec prog'!E11) | H45: =IF('9 dec prog'!G11="","",'9 dec prog'!G11) | I45: =IF('9 dec prog'!E12="","",'9 dec prog'!E12) | J45: =IF('9 dec prog'!C12="","",'9 dec prog'!C12) | K45: =IF(J45="","",VLOOKUP(J45,Messieurs!$G$2:$G$484,2,FALSE)) | L45: =IF(J45="","",VLOOKUP(J45,Messieurs!$G$2:$G$484,3,FALSE))
B46: =IF('9 dec prog'!H11="","",'9 dec prog'!H11) -> 15h00 | C46: =IF('9 dec prog'!I11="","",'9 dec prog'!I11) -> SM | D46: =IF('9 dec prog'!J11="","",'9 dec prog'!J11) | E46: =IF(D46="","",VLOOKUP(D46,Messieurs!$G$2:$G$484,2,FALSE)) | F46: =IF(D46="","",VLOOKUP(D46,Messieurs!$G$2:$G$484,3,FALSE)) | G46: =IF('9 dec prog'!L11="","",'9 dec prog'!L11) | H46: =IF('9 dec prog'!N11="","",'9 dec prog'!N11) | I46: =IF('9 dec prog'!L12="","",'9 dec prog'!L12) | J46: =IF('9 dec prog'!J12="","",'9 dec prog'!J12) | K46: =IF(J46="","",VLOOKUP(J46,Messieurs!$G$2:$G$484,2,FALSE)) | L46: =IF(J46="","",VLOOKUP(J46,Messieurs!$G$2:$G$484,3,FALSE))
B47: =IF('9 dec prog'!A52="","",'9 dec prog'!A52) -> 15h00 | C47: =IF('9 dec prog'!B52="","",'9 dec prog'!B52) | D47: =IF('9 dec prog'!C52="","",'9 dec prog'!C52) | E47: =IF(D47="","",VLOOKUP(D47,Messieurs!$G$2:$G$484,2,FALSE)) | F47: =IF(D47="","",VLOOKUP(D47,Messieurs!$G$2:$G$484,3,FALSE)) | G47: =IF('9 dec prog'!E52="","",'9 dec prog'!E52) | H47: =IF('9 dec prog'!G52="","",'9 dec prog'!G52) | I47: =IF('9 dec prog'!E53="","",'9 dec prog'!E53) | J47: =IF('9 dec prog'!C53="","",'9 dec prog'!C53) | K47: =IF(J47="","",VLOOKUP(J47,Messieurs!$G$2:$G$484,2,FALSE)) | L47: =IF(J47="","",VLOOKUP(J47,Messieurs!$G$2:$G$484,3,FALSE))
B48: =IF('9 dec prog'!H52="","",'9 dec prog'!H52) -> 15h00 | C48: =IF('9 dec prog'!I52="","",'9 dec prog'!I52) | D48: =IF('9 dec prog'!J52="","",'9 dec prog'!J52) | E48: =IF(D48="","",VLOOKUP(D48,Messieurs!$G$2:$G$484,2,FALSE)) | F48: =IF(D48="","",VLOOKUP(D48,Messieurs!$G$2:$G$484,3,FALSE)) | G48: =IF('9 dec prog'!L52="","",'9 dec prog'!L52) | H48: =IF('9 dec prog'!N52="","",'9 dec prog'!N52) | I48: =IF('9 dec prog'!L53="","",'9 dec prog'!L53) | J48: =IF('9 dec prog'!J53="","",'9 dec prog'!J53) | K48: =IF(J48="","",VLOOKUP(J48,Messieurs!$G$2:$G$484,2,FALSE)) | L48: =IF(J48="","",VLOOKUP(J48,Messieurs!$G$2:$G$484,3,FALSE))
B49: =IF('9 dec prog'!O52="","",'9 dec prog'!O52) -> 15h00 | C49: =IF('9 dec prog'!P52="","",'9 dec prog'!P52) | D49: =IF('9 dec prog'!Q52="","",'9 dec prog'!Q52) | E49: =IF(D49="","",VLOOKUP(D49,Messieurs!$G$2:$G$484,2,FALSE)) | F49: =IF(D49="","",VLOOKUP(D49,Messieurs!$G$2:$G$484,3,FALSE)) | G49: =IF('9 dec prog'!S52="","",'9 dec prog'!S52) | H49: =IF('9 dec prog'!U52="","",'9 dec prog'!U52) | I49: =IF('9 dec prog'!S53="","",'9 dec prog'!S53) | J49: =IF('9 dec prog'!Q53="","",'9 dec prog'!Q53) | K49: =IF(J49="","",VLOOKUP(J49,Messieurs!$G$2:$G$484,2,FALSE)) | L49: =IF(J49="","",VLOOKUP(J49,Messieurs!$G$2:$G$484,3,FALSE))
B50: =IF('9 dec prog'!V52="","",'9 dec prog'!V52) -> 15h00 | C50: =IF('9 dec prog'!W52="","",'9 dec prog'!W52) | D50: =IF('9 dec prog'!X52="","",'9 dec prog'!X52) | E50: =IF(D50="","",VLOOKUP(D50,Messieurs!$G$2:$G$484,2,FALSE)) | F50: =IF(D50="","",VLOOKUP(D50,Messieurs!$G$2:$G$484,3,FALSE)) | G50: =IF('9 dec prog'!Z52="","",'9 dec prog'!Z52) | H50: =IF('9 dec prog'!AB52="","",'9 dec prog'!AB52) | I50: =IF('9 dec prog'!Z53="","",'9 dec prog'!Z53) | J50: =IF('9 dec prog'!X53="","",'9 dec prog'!X53) | K50: =IF(J50="","",VLOOKUP(J50,Messieurs!$G$2:$G$484,2,FALSE)) | L50: =IF(J50="","",VLOOKUP(J50,Messieurs!$G$2:$G$484,3,FALSE))
B52: =IF('9 dec prog'!A33="","",'9 dec prog'!A33) -> 16h30 | C52: =IF('9 dec prog'!B33="","",'9 dec prog'!B33) -> SM | D52: =IF('9 dec prog'!C33="","",'9 dec prog'!C33) | E52: =IF(D52="","",VLOOKUP(D52,Messieurs!$G$2:$G$484,2,FALSE)) | F52: =IF(D52="","",VLOOKUP(D52,Messieurs!$G$2:$G$484,3,FALSE)) | G52: =IF('9 dec prog'!E33="","",'9 dec prog'!E33) -> V | H52: =IF('9 dec prog'!G33="","",'9 dec prog'!G33) -> 3/2 3/1 | I52: =IF('9 dec prog'!E34="","",'9 dec prog'!E34) | J52: =IF('9 dec prog'!C34="","",'9 dec prog'!C34) | K52: =IF(J52="","",VLOOKUP(J52,Messieurs!$G$2:$G$484,2,FALSE)) | L52: =IF(J52="","",VLOOKUP(J52,Messieurs!$G$2:$G$484,3,FALSE))
B53: =IF('9 dec prog'!H33="","",'9 dec prog'!H33) -> 16h30 | C53: =IF('9 dec prog'!I33="","",'9 dec prog'!I33) -> 9 G | D53: =IF('9 dec prog'!J33="","",'9 dec prog'!J33) -> GRAVE Maël | E53: =IF(D53="","",VLOOKUP(D53,Messieurs!$G$2:$G$484,2,FALSE)) -> #N/A | F53: =IF(D53="","",VLOOKUP(D53,Messieurs!$G$2:$G$484,3,FALSE)) -> #N/A | G53: =IF('9 dec prog'!L33="","",'9 dec prog'!L33) | H53: =IF('9 dec prog'!N33="","",'9 dec prog'!N33) -> 3/2 3/1 | I53: =IF('9 dec prog'!L34="","",'9 dec prog'!L34) -> V | J53: =IF('9 dec prog'!J34="","",'9 dec prog'!J34) -> RABAT ELLIOT | K53: =IF(J53="","",VLOOKUP(J53,Messieurs!$G$2:$G$484,2,FALSE)) -> #N/A | L53: =IF(J53="","",VLOOKUP(J53,Messieurs!$G$2:$G$484,3,FALSE)) -> #N/A
B54: =IF('9 dec prog'!A13="","",'9 dec prog'!A13) -> 16h30 | C54: =IF('9 dec prog'!B13="","",'9 dec prog'!B13) -> SD | D54: =IF('9 dec prog'!C13="","",'9 dec prog'!C13) | E54: =IF(D54="","",VLOOKUP(D54,Messieurs!$G$2:$G$484,2,FALSE)) | F54: =IF(D54="","",VLOOKUP(D54,Messieurs!$G$2:$G$484,3,FALSE)) | G54: =IF('9 dec prog'!E13="","",'9 dec prog'!E13) | H54: =IF('9 dec prog'!G13="","",'9 dec prog'!G13) | I54: =IF('9 dec prog'!E14="","",'9 dec prog'!E14) | J54: =IF('9 dec prog'!C14="","",'9 dec prog'!C14) | K54: =IF(J54="","",VLOOKUP(J54,Messieurs!$G$2:$G$484,2,FALSE)) | L54: =IF(J54="","",VLOOKUP(J54,Messieurs!$G$2:$G$484,3,FALSE))
B55: =IF('9 dec prog'!H13="","",'9 dec prog'!H13) -> 16h30 | C55: =IF('9 dec prog'!I13="","",'9 dec prog'!I13) -> SD | D55: =IF('9 dec prog'!J13="","",'9 dec prog'!J13) | E55: =IF(D55="","",VLOOKUP(D55,Messieurs!$G$2:$G$484,2,FALSE)) | F55: =IF(D55="","",VLOOKUP(D55,Messieurs!$G$2:$G$484,3,FALSE)) | G55: =IF('9 dec prog'!L13="","",'9 dec prog'!L13) | H55: =IF('9 dec prog'!N13="","",'9 dec prog'!N13) | I55: =IF('9 dec prog'!L14="","",'9 dec prog'!L14) | J55: =IF('9 dec prog'!J14="","",'9 dec prog'!J14) | K55: =IF(J55="","",VLOOKUP(J55,Messieurs!$G$2:$G$484,2,FALSE)) | L55: =IF(J55="","",VLOOKUP(J55,Messieurs!$G$2:$G$484,3,FALSE))
B56: =IF('9 dec prog'!A54="","",'9 dec prog'!A54) -> 16h30 | C56: =IF('9 dec prog'!B54="","",'9 dec prog'!B54) | D56: =IF('9 dec prog'!C54="","",'9 dec prog'!C54) | E56: =IF(D56="","",VLOOKUP(D56,Messieurs!$G$2:$G$484,2,FALSE)) | F56: =IF(D56="","",VLOOKUP(D56,Messieurs!$G$2:$G$484,3,FALSE)) | G56: =IF('9 dec prog'!E54="","",'9 dec prog'!E54) | H56: =IF('9 dec prog'!G54="","",'9 dec prog'!G54) | I56: =IF('9 dec prog'!E55="","",'9 dec prog'!E55) | J56: =IF('9 dec prog'!C55="","",'9 dec prog'!C55) | K56: =IF(J56="","",VLOOKUP(J56,Messieurs!$G$2:$G$484,2,FALSE)) | L56: =IF(J56="","",VLOOKUP(J56,Messieurs!$G$2:$G$484,3,FALSE))
B57: =IF('9 dec prog'!H54="","",'9 dec prog'!H54) -> 16h30 | C57: =IF('9 dec prog'!I54="","",'9 dec prog'!I54) | D57: =IF('9 dec prog'!J54="","",'9 dec prog'!J54) | E57: =IF(D57="","",VLOOKUP(D57,Messieurs!$G$2:$G$484,2,FALSE)) | F57: =IF(D57="","",VLOOKUP(D57,Messieurs!$G$2:$G$484,3,FALSE)) | G57: =IF('9 dec prog'!L54="","",'9 dec prog'!L54) | H57: =IF('9 dec prog'!N54="","",'9 dec prog'!N54) | I57: =IF('9 dec prog'!L55="","",'9 dec prog'!L55) | J57: =IF('9 dec prog'!J55="","",'9 dec prog'!J55) | K57: =IF(J57="","",VLOOKUP(J57,Messieurs!$G$2:$G$484,2,FALSE)) | L57: =IF(J57="","",VLOOKUP(J57,Messieurs!$G$2:$G$484,3,FALSE))
B58: =IF('9 dec prog'!O54="","",'9 dec prog'!O54) -> 16h30 | C58: =IF('9 dec prog'!P54="","",'9 dec prog'!P54) | D58: =IF('9 dec prog'!Q54="","",'9 dec prog'!Q54) | E58: =IF(D58="","",VLOOKUP(D58,Messieurs!$G$2:$G$484,2,FALSE)) | F58: =IF(D58="","",VLOOKUP(D58,Messieurs!$G$2:$G$484,3,FALSE)) | G58: =IF('9 dec prog'!S54="","",'9 dec prog'!S54) | H58: =IF('9 dec prog'!U54="","",'9 dec prog'!U54) | I58: =IF('9 dec prog'!S55="","",'9 dec prog'!S55) | J58: =IF('9 dec prog'!Q55="","",'9 dec prog'!Q55) | K58: =IF(J58="","",VLOOKUP(J58,Messieurs!$G$2:$G$484,2,FALSE)) | L58: =IF(J58="","",VLOOKUP(J58,Messieurs!$G$2:$G$484,3,FALSE))
B59: =IF('9 dec prog'!V54="","",'9 dec prog'!V54) -> 16h30 | C59: =IF('9 dec prog'!W54="","",'9 dec prog'!W54) | D59: =IF('9 dec prog'!X54="","",'9 dec prog'!X54) | E59: =IF(D59="","",VLOOKUP(D59,Messieurs!$G$2:$G$484,2,FALSE)) | F59: =IF(D59="","",VLOOKUP(D59,Messieurs!$G$2:$G$484,3,FALSE)) | G59: =IF('9 dec prog'!Z54="","",'9 dec prog'!Z54) | H59: =IF('9 dec prog'!AB54="","",'9 dec prog'!AB54) | I59: =IF('9 dec prog'!Z55="","",'9 dec prog'!Z55) | J59: =IF('9 dec prog'!X55="","",'9 dec prog'!X55) | K59: =IF(J59="","",VLOOKUP(J59,Messieurs!$G$2:$G$484,2,FALSE)) | L59: =IF(J59="","",VLOOKUP(J59,Messieurs!$G$2:$G$484,3,FALSE))
B61: =IF('9 dec prog'!A35="","",'9 dec prog'!A35) -> 18h00 | C61: =IF('9 dec prog'!B35="","",'9 dec prog'!B35) -> SD | D61: =IF('9 dec prog'!C35="","",'9 dec prog'!C35) | E61: =IF(D61="","",VLOOKUP(D61,Messieurs!$G$2:$G$484,2,FALSE)) | F61: =IF(D61="","",VLOOKUP(D61,Messieurs!$G$2:$G$484,3,FALSE)) | G61: =IF('9 dec prog'!E35="","",'9 dec prog'!E35) | H61: =IF('9 dec prog'!G35="","",'9 dec prog'!G35) | I61: =IF('9 dec prog'!E36="","",'9 dec prog'!E36) | J61: =IF('9 dec prog'!C36="","",'9 dec prog'!C36) | K61: =IF(J61="","",VLOOKUP(J61,Messieurs!$G$2:$G$484,2,FALSE)) | L61: =IF(J61="","",VLOOKUP(J61,Messieurs!$G$2:$G$484,3,FALSE))
B62: =IF('9 dec prog'!H35="","",'9 dec prog'!H35) -> 18h00 | C62: =IF('9 dec prog'!I35="","",'9 dec prog'!I35) | D62: =IF('9 dec prog'!J35="","",'9 dec prog'!J35) | E62: =IF(D62="","",VLOOKUP(D62,Messieurs!$G$2:$G$484,2,FALSE)) | F62: =IF(D62="","",VLOOKUP(D62,Messieurs!$G$2:$G$484,3,FALSE)) | G62: =IF('9 dec prog'!L35="","",'9 dec prog'!L35) | H62: =IF('9 dec prog'!N35="","",'9 dec prog'!N35) | I62: =IF('9 dec prog'!L36="","",'9 dec prog'!L36) | J62: =IF('9 dec prog'!J36="","",'9 dec prog'!J36) | K62: =IF(J62="","",VLOOKUP(J62,Messieurs!$G$2:$G$484,2,FALSE)) | L62: =IF(J62="","",VLOOKUP(J62,Messieurs!$G$2:$G$484,3,FALSE))
B63: =IF('9 dec prog'!A15="","",'9 dec prog'!A15) -> 18h00 | C63: =IF('9 dec prog'!B15="","",'9 dec prog'!B15) -> SM | D63: =IF('9 dec prog'!C15="","",'9 dec prog'!C15) | E63: =IF(D63="","",VLOOKUP(D63,Messieurs!$G$2:$G$484,2,FALSE)) | F63: =IF(D63="","",VLOOKUP(D63,Messieurs!$G$2:$G$484,3,FALSE)) | G63: =IF('9 dec prog'!E15="","",'9 dec prog'!E15) | H63: =IF('9 dec prog'!G15="","",'9 dec prog'!G15) | I63: =IF('9 dec prog'!E16="","",'9 dec prog'!E16) | J63: =IF('9 dec prog'!C16="","",'9 dec prog'!C16) | K63: =IF(J63="","",VLOOKUP(J63,Messieurs!$G$2:$G$484,2,FALSE)) | L63: =IF(J63="","",VLOOKUP(J63,Messieurs!$G$2:$G$484,3,FALSE))
B64: =IF('9 dec prog'!H15="","",'9 dec prog'!H15) -> 18h00 | C64: =IF('9 dec prog'!I15="","",'9 dec prog'!I15) -> SM | D64: =IF('9 dec prog'!J15="","",'9 dec prog'!J15) | E64: =IF(D64="","",VLOOKUP(D64,Messieurs!$G$2:$G$484,2,FALSE)) | F64: =IF(D64="","",VLOOKUP(D64,Messieurs!$G$2:$G$484,3,FALSE)) | G64: =IF('9 dec prog'!L15="","",'9 dec prog'!L15) | H64: =IF('9 dec prog'!N15="","",'9 dec prog'!N15) | I64: =IF('9 dec prog'!L16="","",'9 dec prog'!L16) | J64: =IF('9 dec prog'!J16="","",'9 dec prog'!J16) | K64: =IF(J64="","",VLOOKUP(J64,Messieurs!$G$2:$G$484,2,FALSE)) | L64: =IF(J64="","",VLOOKUP(J64,Messieurs!$G$2:$G$484,3,FALSE))
B65: =IF('9 dec prog'!A56="","",'9 dec prog'!A56) -> 18h00 | C65: =IF('9 dec prog'!B56="","",'9 dec prog'!B56) | D65: =IF('9 dec prog'!C56="","",'9 dec prog'!C56) | E65: =IF(D65="","",VLOOKUP(D65,Messieurs!$G$2:$G$484,2,FALSE)) | F65: =IF(D65="","",VLOOKUP(D65,Messieurs!$G$2:$G$484,3,FALSE)) | G65: =IF('9 dec prog'!E56="","",'9 dec prog'!E56) | H65: =IF('9 dec prog'!G56="","",'9 dec prog'!G56) | I65: =IF('9 dec prog'!E57="","",'9 dec prog'!E57) | J65: =IF('9 dec prog'!C57="","",'9 dec prog'!C57) | K65: =IF(J65="","",VLOOKUP(J65,Messieurs!$G$2:$G$484,2,FALSE)) | L65: =IF(J65="","",VLOOKUP(J65,Messieurs!$G$2:$G$484,3,FALSE))
B66: =IF('9 dec prog'!H56="","",'9 dec prog'!H56) -> 18h00 | C66: =IF('9 dec prog'!I56="","",'9 dec prog'!I56) | D66: =IF('9 dec prog'!J56="","",'9 dec prog'!J56) | E66: =IF(D66="","",VLOOKUP(D66,Messieurs!$G$2:$G$484,2,FALSE)) | F66: =IF(D66="","",VLOOKUP(D66,Messieurs!$G$2:$G$484,3,FALSE)) | G66: =IF('9 dec prog'!L56="","",'9 dec prog'!L56) | H66: =IF('9 dec prog'!N56="","",'9 dec prog'!N56) | I66: =IF('9 dec prog'!L57="","",'9 dec prog'!L57) | J66: =IF('9 dec prog'!J57="","",'9 dec prog'!J57) | K66: =IF(J66="","",VLOOKUP(J66,Messieurs!$G$2:$G$484,2,FALSE)) | L66: =IF(J66="","",VLOOKUP(J66,Messieurs!$G$2:$G$484,3,FALSE))
B67: =IF('9 dec prog'!O56="","",'9 dec prog'!O56) -> 18h00 | C67: =IF('9 dec prog'!P56="","",'9 dec prog'!P56) | D67: =IF('9 dec prog'!Q56="","",'9 dec prog'!Q56) | E67: =IF(D67="","",VLOOKUP(D67,Messieurs!$G$2:$G$484,2,FALSE)) | F67: =IF(D67="","",VLOOKUP(D67,Messieurs!$G$2:$G$484,3,FALSE)) | G67: =IF('9 dec prog'!S56="","",'9 dec prog'!S56) | H67: =IF('9 dec prog'!U56="","",'9 dec prog'!U56) | I67: =IF('9 dec prog'!S57="","",'9 dec prog'!S57) | J67: =IF('9 dec prog'!Q57="","",'9 dec prog'!Q57) | K67: =IF(J67="","",VLOOKUP(J67,Messieurs!$G$2:$G$484,2,FALSE)) | L67: =IF(J67="","",VLOOKUP(J67,Messieurs!$G$2:$G$484,3,FALSE))
B68: =IF('9 dec prog'!V56="","",'9 dec prog'!V56) -> 18h00 | C68: =IF('9 dec prog'!W56="","",'9 dec prog'!W56) | D68: =IF('9 dec prog'!X56="","",'9 dec prog'!X56) | E68: =IF(D68="","",VLOOKUP(D68,Messieurs!$G$2:$G$484,2,FALSE)) | F68: =IF(D68="","",VLOOKUP(D68,Messieurs!$G$2:$G$484,3,FALSE)) | G68: =IF('9 dec prog'!Z56="","",'9 dec prog'!Z56) | H68: =IF('9 dec prog'!AB56="","",'9 dec prog'!AB56) | I68: =IF('9 dec prog'!Z57="","",'9 dec prog'!Z57) | J68: =IF('9 dec prog'!X57="","",'9 dec prog'!X57) | K68: =IF(J68="","",VLOOKUP(J68,Messieurs!$G$2:$G$484,2,FALSE)) | L68: =IF(J68="","",VLOOKUP(J68,Messieurs!$G$2:$G$484,3,FALSE))
B70: =IF('9 dec prog'!A37="","",'9 dec prog'!A37) -> 19h30 | C70: =IF('9 dec prog'!B37="","",'9 dec prog'!B37) -> SD | D70: =IF('9 dec prog'!C37="","",'9 dec prog'!C37) | E70: =IF(D70="","",VLOOKUP(D70,Messieurs!$G$2:$G$484,2,FALSE)) | F70: =IF(D70="","",VLOOKUP(D70,Messieurs!$G$2:$G$484,3,FALSE)) | G70: =IF('9 dec prog'!E37="","",'9 dec prog'!E37) | H70: =IF('9 dec prog'!G37="","",'9 dec prog'!G37) | I70: =IF('9 dec prog'!E38="","",'9 dec prog'!E38) | J70: =IF('9 dec prog'!C38="","",'9 dec prog'!C38) | K70: =IF(J70="","",VLOOKUP(J70,Messieurs!$G$2:$G$484,2,FALSE)) | L70: =IF(J70="","",VLOOKUP(J70,Messieurs!$G$2:$G$484,3,FALSE))
B71: =IF('9 dec prog'!H37="","",'9 dec prog'!H37) -> 19h30 | C71: =IF('9 dec prog'!I37="","",'9 dec prog'!I37) | D71: =IF('9 dec prog'!J37="","",'9 dec prog'!J37) | E71: =IF(D71="","",VLOOKUP(D71,Messieurs!$G$2:$G$484,2,FALSE)) | F71: =IF(D71="","",VLOOKUP(D71,Messieurs!$G$2:$G$484,3,FALSE)) | G71: =IF('9 dec prog'!L37="","",'9 dec prog'!L37) | H71: =IF('9 dec prog'!N37="","",'9 dec prog'!N37) | I71: =IF('9 dec prog'!L38="","",'9 dec prog'!L38) | J71: =IF('9 dec prog'!J38="","",'9 dec prog'!J38) | K71: =IF(J71="","",VLOOKUP(J71,Messieurs!$G$2:$G$484,2,FALSE)) | L71: =IF(J71="","",VLOOKUP(J71,Messieurs!$G$2:$G$484,3,FALSE))
B72: =IF('9 dec prog'!A17="","",'9 dec prog'!A17) -> 19h30 | C72: =IF('9 dec prog'!B17="","",'9 dec prog'!B17) -> SD | D72: =IF('9 dec prog'!C17="","",'9 dec prog'!C17) | E72: =IF(D72="","",VLOOKUP(D72,Messieurs!$G$2:$G$484,2,FALSE)) | F72: =IF(D72="","",VLOOKUP(D72,Messieurs!$G$2:$G$484,3,FALSE)) | G72: =IF('9 dec prog'!E17="","",'9 dec prog'!E17) | H72: =IF('9 dec prog'!G17="","",'9 dec prog'!G17) | I72: =IF('9 dec prog'!E18="","",'9 dec prog'!E18) | J72: =IF('9 dec prog'!C18="","",'9 dec prog'!C18) | K72: =IF(J72="","",VLOOKUP(J72,Messieurs!$G$2:$G$484,2,FALSE)) | L72: =IF(J72="","",VLOOKUP(J72,Messieurs!$G$2:$G$484,3,FALSE))
B73: =IF('9 dec prog'!H17="","",'9 dec prog'!H17) -> 19h30 | C73: =IF('9 dec prog'!I17="","",'9 dec prog'!I17) -> SM | D73: =IF('9 dec prog'!J17="","",'9 dec prog'!J17) | E73: =IF(D73="","",VLOOKUP(D73,Messieurs!$G$2:$G$484,2,FALSE)) | F73: =IF(D73="","",VLOOKUP(D73,Messieurs!$G$2:$G$484,3,FALSE)) | G73: =IF('9 dec prog'!L17="","",'9 dec prog'!L17) | H73: =IF('9 dec prog'!N17="","",'9 dec prog'!N17) | I73: =IF('9 dec prog'!L18="","",'9 dec prog'!L18) | J73: =IF('9 dec prog'!J18="","",'9 dec prog'!J18) | K73: =IF(J73="","",VLOOKUP(J73,Messieurs!$G$2:$G$484,2,FALSE)) | L73: =IF(J73="","",VLOOKUP(J73,Messieurs!$G$2:$G$484,3,FALSE))
B74: =IF('9 dec prog'!A58="","",'9 dec prog'!A58) -> 19h30 | C74: =IF('9 dec prog'!B58="","",'9 dec prog'!B58) | D74: =IF('9 dec prog'!C58="","",'9 dec prog'!C58) | E74: =IF(D74="","",VLOOKUP(D74,Messieurs!$G$2:$G$484,2,FALSE)) | F74: =IF(D74="","",VLOOKUP(D74,Messieurs!$G$2:$G$484,3,FALSE)) | G74: =IF('9 dec prog'!E58="","",'9 dec prog'!E58) | H74: =IF('9 dec prog'!G58="","",'9 dec prog'!G58) | I74: =IF('9 dec prog'!E59="","",'9 dec prog'!E59) | J74: =IF('9 dec prog'!C59="","",'9 dec prog'!C59) | K74: =IF(J74="","",VLOOKUP(J74,Messieurs!$G$2:$G$484,2,FALSE)) | L74: =IF(J74="","",VLOOKUP(J74,Messieurs!$G$2:$G$484,3,FALSE))
B75: =IF('9 dec prog'!H58="","",'9 dec prog'!H58) -> 19h30 | C75: =IF('9 dec prog'!I58="","",'9 dec prog'!I58) | D75: =IF('9 dec prog'!J58="","",'9 dec prog'!J58) | E75: =IF(D75="","",VLOOKUP(D75,Messieurs!$G$2:$G$484,2,FALSE)) | F75: =IF(D75="","",VLOOKUP(D75,Messieurs!$G$2:$G$484,3,FALSE)) | G75: =IF('9 dec prog'!L58="","",'9 dec prog'!L58) | H75: =IF('9 dec prog'!N58="","",'9 dec prog'!N58) | I75: =IF('9 dec prog'!L59="","",'9 dec prog'!L59) | J75: =IF('9 dec prog'!J59="","",'9 dec prog'!J59) | K75: =IF(J75="","",VLOOKUP(J75,Messieurs!$G$2:$G$484,2,FALSE)) | L75: =IF(J75="","",VLOOKUP(J75,Messieurs!$G$2:$G$484,3,FALSE))
B76: =IF('9 dec prog'!O58="","",'9 dec prog'!O58) -> 19h30 | C76: =IF('9 dec prog'!P58="","",'9 dec prog'!P58) | D76: =IF('9 dec prog'!Q58="","",'9 dec prog'!Q58) | E76: =IF(D76="","",VLOOKUP(D76,Messieurs!$G$2:$G$484,2,FALSE)) | F76: =IF(D76="","",VLOOKUP(D76,Messieurs!$G$2:$G$484,3,FALSE)) | G76: =IF('9 dec prog'!S58="","",'9 dec prog'!S58) | H76: =IF('9 dec prog'!U58="","",'9 dec prog'!U58) | I76: =IF('9 dec prog'!S59="","",'9 dec prog'!S59) | J76: =IF('9 dec prog'!Q59="","",'9 dec prog'!Q59) | K76: =IF(J76="","",VLOOKUP(J76,Messieurs!$G$2:$G$484,2,FALSE)) | L76: =IF(J76="","",VLOOKUP(J76,Messieurs!$G$2:$G$484,3,FALSE))
B77: =IF('9 dec prog'!V58="","",'9 dec prog'!V58) -> 19h30 | C77: =IF('9 dec prog'!W58="","",'9 dec prog'!W58) | D77: =IF('9 dec prog'!X58="","",'9 dec prog'!X58) | E77: =IF(D77="","",VLOOKUP(D77,Messieurs!$G$2:$G$484,2,FALSE)) | F77: =IF(D77="","",VLOOKUP(D77,Messieurs!$G$2:$G$484,3,FALSE)) | G77: =IF('9 dec prog'!Z58="","",'9 dec prog'!Z58) | H77: =IF('9 dec prog'!AB58="","",'9 dec prog'!AB58) | I77: =IF('9 dec prog'!Z59="","",'9 dec prog'!Z59) | J77: =IF('9 dec prog'!X59="","",'9 dec prog'!X59) | K77: =IF(J77="","",VLOOKUP(J77,Messieurs!$G$2:$G$484,2,FALSE)) | L77: =IF(J77="","",VLOOKUP(J77,Messieurs!$G$2:$G$484,3,FALSE))
B79: =IF('9 dec prog'!A39="","",'9 dec prog'!A39) -> 21h00 | C79: =IF('9 dec prog'!B39="","",'9 dec prog'!B39) -> SD | D79: =IF('9 dec prog'!C39="","",'9 dec prog'!C39) | E79: =IF(D79="","",VLOOKUP(D79,Messieurs!$G$2:$G$484,2,FALSE)) | F79: =IF(D79="","",VLOOKUP(D79,Messieurs!$G$2:$G$484,3,FALSE)) | G79: =IF('9 dec prog'!E39="","",'9 dec prog'!E39) | H79: =IF('9 dec prog'!G39="","",'9 dec prog'!G39) | I79: =IF('9 dec prog'!E40="","",'9 dec prog'!E40) | J79: =IF('9 dec prog'!C40="","",'9 dec prog'!C40) | K79: =IF(J79="","",VLOOKUP(J79,Messieurs!$G$2:$G$484,2,FALSE)) | L79: =IF(J79="","",VLOOKUP(J79,Messieurs!$G$2:$G$484,3,FALSE))
B80: =IF('9 dec prog'!H39="","",'9 dec prog'!H39) -> 21h00 | C80: =IF('9 dec prog'!I39="","",'9 dec prog'!I39) | D80: =IF('9 dec prog'!J39="","",'9 dec prog'!J39) | E80: =IF(D80="","",VLOOKUP(D80,Messieurs!$G$2:$G$484,2,FALSE)) | F80: =IF(D80="","",VLOOKUP(D80,Messieurs!$G$2:$G$484,3,FALSE)) | G80: =IF('9 dec prog'!L39="","",'9 dec prog'!L39) | H80: =IF('9 dec prog'!N39="","",'9 dec prog'!N39) | I80: =IF('9 dec prog'!L40="","",'9 dec prog'!L40) | J80: =IF('9 dec prog'!J40="","",'9 dec prog'!J40) | K80: =IF(J80="","",VLOOKUP(J80,Messieurs!$G$2:$G$484,2,FALSE)) | L80: =IF(J80="","",VLOOKUP(J80,Messieurs!$G$2:$G$484,3,FALSE))
B81: =IF('9 dec prog'!A19="","",'9 dec prog'!A19) -> 21h00 | C81: =IF('9 dec prog'!B19="","",'9 dec prog'!B19) -> SM | D81: =IF('9 dec prog'!C19="","",'9 dec prog'!C19) | E81: =IF(D81="","",VLOOKUP(D81,Messieurs!$G$2:$G$484,2,FALSE)) | F81: =IF(D81="","",VLOOKUP(D81,Messieurs!$G$2:$G$484,3,FALSE)) | G81: =IF('9 dec prog'!E19="","",'9 dec prog'!E19) | H81: =IF('9 dec prog'!G19="","",'9 dec prog'!G19) | I81: =IF('9 dec prog'!E20="","",'9 dec prog'!E20) | J81: =IF('9 dec prog'!C20="","",'9 dec prog'!C20) | K81: =IF(J81="","",VLOOKUP(J81,Messieurs!$G$2:$G$484,2,FALSE)) | L81: =IF(J81="","",VLOOKUP(J81,Messieurs!$G$2:$G$484,3,FALSE))
B82: =IF('9 dec prog'!H19="","",'9 dec prog'!H19) -> 21h00 | C82: =IF('9 dec prog'!I19="","",'9 dec prog'!I19) -> SM | D82: =IF('9 dec prog'!J19="","",'9 dec prog'!J19) | E82: =IF(D82="","",VLOOKUP(D82,Messieurs!$G$2:$G$484,2,FALSE)) | F82: =IF(D82="","",VLOOKUP(D82,Messieurs!$G$2:$G$484,3,FALSE)) | G82: =IF('9 dec prog'!L19="","",'9 dec prog'!L19) | H82: =IF('9 dec prog'!N19="","",'9 dec prog'!N19) | I82: =IF('9 dec prog'!L20="","",'9 dec prog'!L20) | J82: =IF('9 dec prog'!J20="","",'9 dec prog'!J20) | K82: =IF(J82="","",VLOOKUP(J82,Messieurs!$G$2:$G$484,2,FALSE)) | L82: =IF(J82="","",VLOOKUP(J82,Messieurs!$G$2:$G$484,3,FALSE))
B83: =IF('9 dec prog'!A60="","",'9 dec prog'!A60) -> 21h00 | C83: =IF('9 dec prog'!B60="","",'9 dec prog'!B60) | D83: =IF('9 dec prog'!C60="","",'9 dec prog'!C60) | E83: =IF(D83="","",VLOOKUP(D83,Messieurs!$G$2:$G$484,2,FALSE)) | F83: =IF(D83="","",VLOOKUP(D83,Messieurs!$G$2:$G$484,3,FALSE)) | G83: =IF('9 dec prog'!E60="","",'9 dec prog'!E60) | H83: =IF('9 dec prog'!G60="","",'9 dec prog'!G60) | I83: =IF('9 dec prog'!E61="","",'9 dec prog'!E61) | J83: =IF('9 dec prog'!C61="","",'9 dec prog'!C61) | K83: =IF(J83="","",VLOOKUP(J83,Messieurs!$G$2:$G$484,2,FALSE)) | L83: =IF(J83="","",VLOOKUP(J83,Messieurs!$G$2:$G$484,3,FALSE))
B84: =IF('9 dec prog'!H60="","",'9 dec prog'!H60) -> 21h00 | C84: =IF('9 dec prog'!I60="","",'9 dec prog'!I60) | D84: =IF('9 dec prog'!J60="","",'9 dec prog'!J60) | E84: =IF(D84="","",VLOOKUP(D84,Messieurs!$G$2:$G$484,2,FALSE)) | F84: =IF(D84="","",VLOOKUP(D84,Messieurs!$G$2:$G$484,3,FALSE)) | G84: =IF('9 dec prog'!L60="","",'9 dec prog'!L60) | H84: =IF('9 dec prog'!N60="","",'9 dec prog'!N60) | I84: =IF('9 dec prog'!L61="","",'9 dec prog'!L61) | J84: =IF('9 dec prog'!J61="","",'9 dec prog'!J61) | K84: =IF(J84="","",VLOOKUP(J84,Messieurs!$G$2:$G$484,2,FALSE)) | L84: =IF(J84="","",VLOOKUP(J84,Messieurs!$G$2:$G$484,3,FALSE))
B85: =IF('9 dec prog'!O60="","",'9 dec prog'!O60) -> 21h00 | C85: =IF('9 dec prog'!P60="","",'9 dec prog'!P60) | D85: =IF('9 dec prog'!Q60="","",'9 dec prog'!Q60) | E85: =IF(D85="","",VLOOKUP(D85,Messieurs!$G$2:$G$484,2,FALSE)) | F85: =IF(D85="","",VLOOKUP(D85,Messieurs!$G$2:$G$484,3,FALSE)) | G85: =IF('9 dec prog'!S60="","",'9 dec prog'!S60) | H85: =IF('9 dec prog'!U60="","",'9 dec prog'!U60) | I85: =IF('9 dec prog'!S61="","",'9 dec prog'!S61) | J85: =IF('9 dec prog'!Q61="","",'9 dec prog'!Q61) | K85: =IF(J85="","",VLOOKUP(J85,Messieurs!$G$2:$G$484,2,FALSE)) | L85: =IF(J85="","",VLOOKUP(J85,Messieurs!$G$2:$G$484,3,FALSE))
B86: =IF('9 dec prog'!V60="","",'9 dec prog'!V60) -> 21h00 | C86: =IF('9 dec prog'!W60="","",'9 dec prog'!W60) | D86: =IF('9 dec prog'!X60="","",'9 dec prog'!X60) | E86: =IF(D86="","",VLOOKUP(D86,Messieurs!$G$2:$G$484,2,FALSE)) | F86: =IF(D86="","",VLOOKUP(D86,Messieurs!$G$2:$G$484,3,FALSE)) | G86: =IF('9 dec prog'!Z60="","",'9 dec prog'!Z60) | H86: =IF('9 dec prog'!AB60="","",'9 dec prog'!AB60) | I86: =IF('9 dec prog'!Z61="","",'9 dec prog'!Z61) | J86: =IF('9 dec prog'!X61="","",'9 dec prog'!X61) | K86: =IF(J86="","",VLOOKUP(J86,Messieurs!$G$2:$G$484,2,FALSE)) | L86: =IF(J86="","",VLOOKUP(J86,Messieurs!$G$2:$G$484,3,FALSE))
