Workbook
Name Equipes: Equipes!$A$2:$B$101
Name Partie: résultats!$C$9:$S$108
Name Partie_2: #REF!
Name Partie_3: #REF!
Name Partie_4: #REF!
Name Partie_5: #REF!
Name Partie_6: #REF!
Name Partie_7: #REF!
Name Parties: résultats!$B$9:$S$108
Name Total: #REF!

Sheet résultats
C3: LA BOULE MONTECALDIENNE
C5: Concours du | D5: PARTIE 1 | G5: PARTIE 2 | J5: PARTIE 3 | M5: PARTIE 4 | P5: RECAPITULATIF
C6: 42954 | W6: NOM Prénom | X6: TOTAL POINTS | Z6: PARTIES GAGNEES | AA6: DIFFERENCE | AC6: CLASSEMENT GENERAL
C7: NOM Prénom | D7: G | E7: P | F7: G/P | G7: G | H7: P | I7: G/P | J7: G | K7: P | L7: G/P | M7: G | N7: P | O7: G/P | P7: TOTAL POINTS | R7: PARTIES GAGNEES | S7: DIFFERENCE
D8: Pour | E8: Contre | G8: Pour | H8: Contre | J8: Pour | K8: Contre | M8: Pour | N8: Contre | P8: Pour | Q8: Contre | X8: Pour | Y8: Contre
B9: 1 | C9: =IF(Equipes!B2="","",VLOOKUP(B9,Equipes,2,FALSE)) -> amiot | F9: =IF(AND(D9>12,D9>E9),1,0) -> 0 | I9: =IF(AND(G9>12,G9>H9),1,0) -> 0 | L9: =IF(AND(J9>12,J9>K9),1,0) -> 0 | O9: =IF(AND(M9>12,M9>N9),1,0) -> 0 | P9: =SUM(D9,G9,J9,M9) -> 0 | Q9: =SUM(E9,H9,K9,N9) -> 0 | R9: =SUM(F9,I9,L9,O9) -> 0 | S9: =P9-Q9 -> 0 | V9: =B9 -> 1 | W9: =IF(C9="","",VLOOKUP(V9,Parties,2,FALSE)) -> amiot | X9: =IFERROR(VLOOKUP(V9,Parties,15,0),"") -> 0 | Y9: =IFERROR(VLOOKUP(V9,Parties,16,0),"") -> 0 | Z9: =IFERROR(VLOOKUP(V9,Parties,17,0),"") -> 0 | AA9: =IFERROR(VLOOKUP(V9,Parties,18,0),"") -> 0 | AB9: =X9*1000+AA9 -> 0 | AC9: =IF(AB9=0,"",RANK(AB9,$AB$9:$AB$108,0))
B10: 2 | C10: =IF(Equipes!B3="","",VLOOKUP(B10,Equipes,2,FALSE)) -> Bay Rémy | F10: =IF(AND(D10>12,D10>E10),1,0) -> 0 | I10: =IF(AND(G10>12,G10>H10),1,0) -> 0 | L10: =IF(AND(J10>12,J10>K10),1,0) -> 0 | O10: =IF(AND(M10>12,M10>N10),1,0) -> 0 | P10: =SUM(D10,G10,J10,M10) -> 0 | Q10: =SUM(E10,H10,K10,N10) -> 0 | R10: =SUM(F10,I10,L10,O10) -> 0 | S10: =P10-Q10 -> 0 | V10: =B10 -> 2 | W10: =IF(C10="","",VLOOKUP(V10,Parties,2,FALSE)) -> Bay Rémy | X10: =IFERROR(VLOOKUP(V10,Parties,15,0),"") -> 0 | Y10: =IFERROR(VLOOKUP(V10,Parties,16,0),"") -> 0 | Z10: =IFERROR(VLOOKUP(V10,Parties,17,0),"") -> 0 | AA10: =IFERROR(VLOOKUP(V10,Parties,18,0),"") -> 0 | AB10: =X10*1000+AA10 -> 0 | AC10: =IF(AB10=0,"",RANK(AB10,$AB$9:$AB$108,0))
B11: 3 | C11: =IF(Equipes!B4="","",VLOOKUP(B11,Equipes,2,FALSE)) -> Richeteau joel | F11: =IF(AND(D11>12,D11>E11),1,0) -> 0 | I11: =IF(AND(G11>12,G11>H11),1,0) -> 0 | L11: =IF(AND(J11>12,J11>K11),1,0) -> 0 | O11: =IF(AND(M11>12,M11>N11),1,0) -> 0 | P11: =SUM(D11,G11,J11,M11) -> 0 | Q11: =SUM(E11,H11,K11,N11) -> 0 | R11: =SUM(F11,I11,L11,O11) -> 0 | S11: =P11-Q11 -> 0 | V11: =B11 -> 3 | W11: =IF(C11="","",VLOOKUP(V11,Parties,2,FALSE)) -> Richeteau joel | X11: =IFERROR(VLOOKUP(V11,Parties,15,0),"") -> 0 | Y11: =IFERROR(VLOOKUP(V11,Parties,16,0),"") -> 0 | Z11: =IFERROR(VLOOKUP(V11,Parties,17,0),"") -> 0 | AA11: =IFERROR(VLOOKUP(V11,Parties,18,0),"") -> 0 | AB11: =X11*1000+AA11 -> 0 | AC11: =IF(AB11=0,"",RANK(AB11,$AB$9:$AB$108,0))
B12: 4 | C12: =IF(Equipes!B5="","",VLOOKUP(B12,Equipes,2,FALSE)) -> Marcu olivier | F12: =IF(AND(D12>12,D12>E12),1,0) -> 0 | I12: =IF(AND(G12>12,G12>H12),1,0) -> 0 | L12: =IF(AND(J12>12,J12>K12),1,0) -> 0 | O12: =IF(AND(M12>12,M12>N12),1,0) -> 0 | P12: =SUM(D12,G12,J12,M12) -> 0 | Q12: =SUM(E12,H12,K12,N12) -> 0 | R12: =SUM(F12,I12,L12,O12) -> 0 | S12: =P12-Q12 -> 0 | V12: =B12 -> 4 | W12: =IF(C12="","",VLOOKUP(V12,Parties,2,FALSE)) -> Marcu olivier | X12: =IFERROR(VLOOKUP(V12,Parties,15,0),"") -> 0 | Y12: =IFERROR(VLOOKUP(V12,Parties,16,0),"") -> 0 | Z12: =IFERROR(VLOOKUP(V12,Parties,17,0),"") -> 0 | AA12: =IFERROR(VLOOKUP(V12,Parties,18,0),"") -> 0 | AB12: =X12*1000+AA12 -> 0 | AC12: =IF(AB12=0,"",RANK(AB12,$AB$9:$AB$108,0))
B13: 5 | C13: =IF(Equipes!B6="","",VLOOKUP(B13,Equipes,2,FALSE)) -> Bouty Alain | F13: =IF(AND(D13>12,D13>E13),1,0) -> 0 | I13: =IF(AND(G13>12,G13>H13),1,0) -> 0 | L13: =IF(AND(J13>12,J13>K13),1,0) -> 0 | O13: =IF(AND(M13>12,M13>N13),1,0) -> 0 | P13: =SUM(D13,G13,J13,M13) -> 0 | Q13: =SUM(E13,H13,K13,N13) -> 0 | R13: =SUM(F13,I13,L13,O13) -> 0 | S13: =P13-Q13 -> 0 | V13: =B13 -> 5 | W13: =IF(C13="","",VLOOKUP(V13,Parties,2,FALSE)) -> Bouty Alain | X13: =IFERROR(VLOOKUP(V13,Parties,15,0),"") -> 0 | Y13: =IFERROR(VLOOKUP(V13,Parties,16,0),"") -> 0 | Z13: =IFERROR(VLOOKUP(V13,Parties,17,0),"") -> 0 | AA13: =IFERROR(VLOOKUP(V13,Parties,18,0),"") -> 0 | AB13: =X13*1000+AA13 -> 0 | AC13: =IF(AB13=0,"",RANK(AB13,$AB$9:$AB$108,0))
B14: 6 | C14: =IF(Equipes!B7="","",VLOOKUP(B14,Equipes,2,FALSE)) -> Bouty michelle | F14: =IF(AND(D14>12,D14>E14),1,0) -> 0 | I14: =IF(AND(G14>12,G14>H14),1,0) -> 0 | L14: =IF(AND(J14>12,J14>K14),1,0) -> 0 | O14: =IF(AND(M14>12,M14>N14),1,0) -> 0 | P14: =SUM(D14,G14,J14,M14) -> 0 | Q14: =SUM(E14,H14,K14,N14) -> 0 | R14: =SUM(F14,I14,L14,O14) -> 0 | S14: =P14-Q14 -> 0 | V14: =B14 -> 6 | W14: =IF(C14="","",VLOOKUP(V14,Parties,2,FALSE)) -> Bouty michelle | X14: =IFERROR(VLOOKUP(V14,Parties,15,0),"") -> 0 | Y14: =IFERROR(VLOOKUP(V14,Parties,16,0),"") -> 0 | Z14: =IFERROR(VLOOKUP(V14,Parties,17,0),"") -> 0 | AA14: =IFERROR(VLOOKUP(V14,Parties,18,0),"") -> 0 | AB14: =X14*1000+AA14 -> 0 | AC14: =IF(AB14=0,"",RANK(AB14,$AB$9:$AB$108,0))
B15: 7 | C15: =IF(Equipes!B8="","",VLOOKUP(B15,Equipes,2,FALSE)) -> Borne Philippe | F15: =IF(AND(D15>12,D15>E15),1,0) -> 0 | I15: =IF(AND(G15>12,G15>H15),1,0) -> 0 | L15: =IF(AND(J15>12,J15>K15),1,0) -> 0 | O15: =IF(AND(M15>12,M15>N15),1,0) -> 0 | P15: =SUM(D15,G15,J15,M15) -> 0 | Q15: =SUM(E15,H15,K15,N15) -> 0 | R15: =SUM(F15,I15,L15,O15) -> 0 | S15: =P15-Q15 -> 0 | V15: =B15 -> 7 | W15: =IF(C15="","",VLOOKUP(V15,Parties,2,FALSE)) -> Borne Philippe | X15: =IFERROR(VLOOKUP(V15,Parties,15,0),"") -> 0 | Y15: =IFERROR(VLOOKUP(V15,Parties,16,0),"") -> 0 | Z15: =IFERROR(VLOOKUP(V15,Parties,17,0),"") -> 0 | AA15: =IFERROR(VLOOKUP(V15,Parties,18,0),"") -> 0 | AB15: =X15*1000+AA15 -> 0 | AC15: =IF(AB15=0,"",RANK(AB15,$AB$9:$AB$108,0))
B16: 8 | C16: =IF(Equipes!B9="","",VLOOKUP(B16,Equipes,2,FALSE)) -> Chartier rémy | F16: =IF(AND(D16>12,D16>E16),1,0) -> 0 | I16: =IF(AND(G16>12,G16>H16),1,0) -> 0 | L16: =IF(AND(J16>12,J16>K16),1,0) -> 0 | O16: =IF(AND(M16>12,M16>N16),1,0) -> 0 | P16: =SUM(D16,G16,J16,M16) -> 0 | Q16: =SUM(E16,H16,K16,N16) -> 0 | R16: =SUM(F16,I16,L16,O16) -> 0 | S16: =P16-Q16 -> 0 | V16: =B16 -> 8 | W16: =IF(C16="","",VLOOKUP(V16,Parties,2,FALSE)) -> Chartier rémy | X16: =IFERROR(VLOOKUP(V16,Parties,15,0),"") -> 0 | Y16: =IFERROR(VLOOKUP(V16,Parties,16,0),"") -> 0 | Z16: =IFERROR(VLOOKUP(V16,Parties,17,0),"") -> 0 | AA16: =IFERROR(VLOOKUP(V16,Parties,18,0),"") -> 0 | AB16: =X16*1000+AA16 -> 0 | AC16: =IF(AB16=0,"",RANK(AB16,$AB$9:$AB$108,0))
B17: 9 | C17: =IF(Equipes!B10="","",VLOOKUP(B17,Equipes,2,FALSE)) -> Bouchet alexandre | F17: =IF(AND(D17>12,D17>E17),1,0) -> 0 | I17: =IF(AND(G17>12,G17>H17),1,0) -> 0 | L17: =IF(AND(J17>12,J17>K17),1,0) -> 0 | O17: =IF(AND(M17>12,M17>N17),1,0) -> 0 | P17: =SUM(D17,G17,J17,M17) -> 0 | Q17: =SUM(E17,H17,K17,N17) -> 0 | R17: =SUM(F17,I17,L17,O17) -> 0 | S17: =P17-Q17 -> 0 | V17: =B17 -> 9 | W17: =IF(C17="","",VLOOKUP(V17,Parties,2,FALSE)) -> Bouchet alexandre | X17: =IFERROR(VLOOKUP(V17,Parties,15,0),"") -> 0 | Y17: =IFERROR(VLOOKUP(V17,Parties,16,0),"") -> 0 | Z17: =IFERROR(VLOOKUP(V17,Parties,17,0),"") -> 0 | AA17: =IFERROR(VLOOKUP(V17,Parties,18,0),"") -> 0 | AB17: =X17*1000+AA17 -> 0 | AC17: =IF(AB17=0,"",RANK(AB17,$AB$9:$AB$108,0))
B18: 10 | C18: =IF(Equipes!B11="","",VLOOKUP(B18,Equipes,2,FALSE)) -> Barbeau Arthur | F18: =IF(AND(D18>12,D18>E18),1,0) -> 0 | I18: =IF(AND(G18>12,G18>H18),1,0) -> 0 | L18: =IF(AND(J18>12,J18>K18),1,0) -> 0 | O18: =IF(AND(M18>12,M18>N18),1,0) -> 0 | P18: =SUM(D18,G18,J18,M18) -> 0 | Q18: =SUM(E18,H18,K18,N18) -> 0 | R18: =SUM(F18,I18,L18,O18) -> 0 | S18: =P18-Q18 -> 0 | V18: =B18 -> 10 | W18: =IF(C18="","",VLOOKUP(V18,Parties,2,FALSE)) -> Barbeau Arthur | X18: =IFERROR(VLOOKUP(V18,Parties,15,0),"") -> 0 | Y18: =IFERROR(VLOOKUP(V18,Parties,16,0),"") -> 0 | Z18: =IFERROR(VLOOKUP(V18,Parties,17,0),"") -> 0 | AA18: =IFERROR(VLOOKUP(V18,Parties,18,0),"") -> 0 | AB18: =X18*1000+AA18 -> 0 | AC18: =IF(AB18=0,"",RANK(AB18,$AB$9:$AB$108,0))
B19: 11 | C19: =IF(Equipes!B12="","",VLOOKUP(B19,Equipes,2,FALSE)) -> Matignon Denis | F19: =IF(AND(D19>12,D19>E19),1,0) -> 0 | I19: =IF(AND(G19>12,G19>H19),1,0) -> 0 | L19: =IF(AND(J19>12,J19>K19),1,0) -> 0 | O19: =IF(AND(M19>12,M19>N19),1,0) -> 0 | P19: =SUM(D19,G19,J19,M19) -> 0 | Q19: =SUM(E19,H19,K19,N19) -> 0 | R19: =SUM(F19,I19,L19,O19) -> 0 | S19: =P19-Q19 -> 0 | V19: =B19 -> 11 | W19: =IF(C19="","",VLOOKUP(V19,Parties,2,FALSE)) -> Matignon Denis | X19: =IFERROR(VLOOKUP(V19,Parties,15,0),"") -> 0 | Y19: =IFERROR(VLOOKUP(V19,Parties,16,0),"") -> 0 | Z19: =IFERROR(VLOOKUP(V19,Parties,17,0),"") -> 0 | AA19: =IFERROR(VLOOKUP(V19,Parties,18,0),"") -> 0 | AB19: =X19*1000+AA19 -> 0 | AC19: =IF(AB19=0,"",RANK(AB19,$AB$9:$AB$108,0))
B20: 12 | C20: =IF(Equipes!B13="","",VLOOKUP(B20,Equipes,2,FALSE)) -> Dechechi Alain | F20: =IF(AND(D20>12,D20>E20),1,0) -> 0 | I20: =IF(AND(G20>12,G20>H20),1,0) -> 0 | L20: =IF(AND(J20>12,J20>K20),1,0) -> 0 | O20: =IF(AND(M20>12,M20>N20),1,0) -> 0 | P20: =SUM(D20,G20,J20,M20) -> 0 | Q20: =SUM(E20,H20,K20,N20) -> 0 | R20: =SUM(F20,I20,L20,O20) -> 0 | S20: =P20-Q20 -> 0 | V20: =B20 -> 12 | W20: =IF(C20="","",VLOOKUP(V20,Parties,2,FALSE)) -> Dechechi Alain | X20: =IFERROR(VLOOKUP(V20,Parties,15,0),"") -> 0 | Y20: =IFERROR(VLOOKUP(V20,Parties,16,0),"") -> 0 | Z20: =IFERROR(VLOOKUP(V20,Parties,17,0),"") -> 0 | AA20: =IFERROR(VLOOKUP(V20,Parties,18,0),"") -> 0 | AB20: =X20*1000+AA20 -> 0 | AC20: =IF(AB20=0,"",RANK(AB20,$AB$9:$AB$108,0))
... B108: 100 | C108: =IF(Equipes!B101="","",VLOOKUP(B108,Equipes,2,FALSE)) | F108: =IF(AND(D108>12,D108>E108),1,0) -> 0 | I108: =IF(AND(G108>12,G108>H108),1,0) -> 0 | L108: =IF(AND(J108>12,J108>K108),1,0) -> 0 | O108: =IF(AND(M108>12,M108>N108),1,0) -> 0 | P108: =SUM(D108,G108,J108,M108) -> 0 | Q108: =SUM(E108,H108,K108,N108) -> 0 | R108: =SUM(F108,I108,L108,O108) -> 0 | S108: =P108-Q108 -> 0 | V108: =B108 -> 100 | W108: =IF(C108="","",VLOOKUP(V108,Parties,2,FALSE)) | X108: =IFERROR(VLOOKUP(V108,Parties,15,0),"") -> 0 | Y108: =IFERROR(VLOOKUP(V108,Parties,16,0),"") -> 0 | Z108: =IFERROR(VLOOKUP(V108,Parties,17,0),"") -> 0 | AA108: =IFERROR(VLOOKUP(V108,Parties,18,0),"") -> 0 | AB108: =X108*1000+AA108 -> 0 | AC108: =IF(AB108=0,"",RANK(AB108,$AB$9:$AB$108,0))

Sheet Equipes
A1: N° Equipe | B1: NOM Prénom
A2: 1 | B2: amiot
A3: 2 | B3: Bay Rémy
A4: 3 | B4: Richeteau joel
A5: 4 | B5: Marcu olivier
A6: 5 | B6: Bouty Alain
A7: 6 | B7: Bouty michelle
A8: 7 | B8: Borne Philippe
A9: 8 | B9: Chartier rémy
A10: 9 | B10: Bouchet alexandre
A11: 10 | B11: Barbeau Arthur
A12: 11 | B12: Matignon Denis
A13: 12 | B13: Dechechi Alain
... A31: 30 | B31: Mounaix Max
A32: 31
A33: 32
A34: 33
A35: 34
A36: 35
A37: 36
A38: 37
A39: 38
A40: 39
A41: 40
A42: 41
A43: 42
... A101: 100

Sheet tirage1
A1: 1er tirage
A3: N° | B3: Nom | C3: N° | D3: Nom | E3: score | F3: contre | G3: N° | H3: Nom | I3: N° | J3: Nom | K3: score
A5: 1 | B5: =VLOOKUP(A5,Equipes,2,FALSE) -> amiot | C5: 4 | D5: =VLOOKUP(C5,Equipes,2,FALSE) -> Marcu olivier | E5: 13 | F5: ↔ | G5: 3 | H5: =VLOOKUP(G5,Equipes,2,FALSE) -> Richeteau joel | I5: 6 | J5: =VLOOKUP(I5,Equipes,2,FALSE) -> Bouty michelle | K5: 2
B6: =VLOOKUP(A6,Equipes,2,FALSE) -> #N/A | D6: =VLOOKUP(C6,Equipes,2,FALSE) -> #N/A | F6: ↔ | H6: =VLOOKUP(G6,Equipes,2,FALSE) -> #N/A | J6: =VLOOKUP(I6,Equipes,2,FALSE) -> #N/A
B7: =VLOOKUP(A7,Equipes,2,FALSE) -> #N/A | D7: =VLOOKUP(C7,Equipes,2,FALSE) -> #N/A | F7: ↔ | H7: =VLOOKUP(G7,Equipes,2,FALSE) -> #N/A | J7: =VLOOKUP(I7,Equipes,2,FALSE) -> #N/A
B8: =VLOOKUP(A8,Equipes,2,FALSE) -> #N/A | D8: =VLOOKUP(C8,Equipes,2,FALSE) -> #N/A | F8: ↔ | H8: =VLOOKUP(G8,Equipes,2,FALSE) -> #N/A | J8: =VLOOKUP(I8,Equipes,2,FALSE) -> #N/A
B9: =VLOOKUP(A9,Equipes,2,FALSE) -> #N/A | D9: =VLOOKUP(C9,Equipes,2,FALSE) -> #N/A | F9: ↔ | H9: =VLOOKUP(G9,Equipes,2,FALSE) -> #N/A | J9: =VLOOKUP(I9,Equipes,2,FALSE) -> #N/A
B10: =VLOOKUP(A10,Equipes,2,FALSE) -> #N/A | D10: =VLOOKUP(C10,Equipes,2,FALSE) -> #N/A | F10: ↔ | H10: =VLOOKUP(G10,Equipes,2,FALSE) -> #N/A | J10: =VLOOKUP(I10,Equipes,2,FALSE) -> #N/A
B11: =VLOOKUP(A11,Equipes,2,FALSE) -> #N/A | D11: =VLOOKUP(C11,Equipes,2,FALSE) -> #N/A | F11: ↔ | H11: =VLOOKUP(G11,Equipes,2,FALSE) -> #N/A | J11: =VLOOKUP(I11,Equipes,2,FALSE) -> #N/A
B12: =VLOOKUP(A12,Equipes,2,FALSE) -> #N/A | D12: =VLOOKUP(C12,Equipes,2,FALSE) -> #N/A | F12: ↔ | H12: =VLOOKUP(G12,Equipes,2,FALSE) -> #N/A | J12: =VLOOKUP(I12,Equipes,2,FALSE) -> #N/A
B13: =VLOOKUP(A13,Equipes,2,FALSE) -> #N/A | D13: =VLOOKUP(C13,Equipes,2,FALSE) -> #N/A | F13: ↔ | H13: =VLOOKUP(G13,Equipes,2,FALSE) -> #N/A | J13: =VLOOKUP(I13,Equipes,2,FALSE) -> #N/A
B14: =VLOOKUP(A14,Equipes,2,FALSE) -> #N/A | D14: =VLOOKUP(C14,Equipes,2,FALSE) -> #N/A | F14: ↔ | H14: =VLOOKUP(G14,Equipes,2,FALSE) -> #N/A | J14: =VLOOKUP(I14,Equipes,2,FALSE) -> #N/A
B15: =VLOOKUP(A15,Equipes,2,FALSE) -> #N/A | D15: =VLOOKUP(C15,Equipes,2,FALSE) -> #N/A | F15: ↔ | H15: =VLOOKUP(G15,Equipes,2,FALSE) -> #N/A | J15: =VLOOKUP(I15,Equipes,2,FALSE) -> #N/A
B16: =VLOOKUP(A16,Equipes,2,FALSE) -> #N/A | D16: =VLOOKUP(C16,Equipes,2,FALSE) -> #N/A | F16: ↔ | H16: =VLOOKUP(G16,Equipes,2,FALSE) -> #N/A | J16: =VLOOKUP(I16,Equipes,2,FALSE) -> #N/A
B17: =VLOOKUP(A17,Equipes,2,FALSE) -> #N/A | D17: =VLOOKUP(C17,Equipes,2,FALSE) -> #N/A | F17: ↔ | H17: =VLOOKUP(G17,Equipes,2,FALSE) -> #N/A | J17: =VLOOKUP(I17,Equipes,2,FALSE) -> #N/A
... B100: =VLOOKUP(A100,Equipes,2,FALSE) -> #N/A | D100: =VLOOKUP(C100,Equipes,2,FALSE) -> #N/A | F100: ↔ | H100: =VLOOKUP(G100,Equipes,2,FALSE) -> #N/A | J100: =VLOOKUP(I100,Equipes,2,FALSE) -> #N/A

Sheet tirage2
A1: 2eme tirage
A3: N° | B3: Nom | C3: N° | D3: Nom | E3: score | F3: contre | G3: N° | H3: Nom | I3: N° | J3: Nom | K3: score
B5: =VLOOKUP(A5,Equipes,2,FALSE) -> #N/A | D5: =VLOOKUP(C5,Equipes,2,FALSE) -> #N/A | F5: ↔ | H5: =VLOOKUP(G5,Equipes,2,FALSE) -> #N/A | J5: =VLOOKUP(I5,Equipes,2,FALSE) -> #N/A
B6: =VLOOKUP(A6,Equipes,2,FALSE) -> #N/A | D6: =VLOOKUP(C6,Equipes,2,FALSE) -> #N/A | F6: ↔ | H6: =VLOOKUP(G6,Equipes,2,FALSE) -> #N/A | J6: =VLOOKUP(I6,Equipes,2,FALSE) -> #N/A
B7: =VLOOKUP(A7,Equipes,2,FALSE) -> #N/A | D7: =VLOOKUP(C7,Equipes,2,FALSE) -> #N/A | F7: ↔ | H7: =VLOOKUP(G7,Equipes,2,FALSE) -> #N/A | J7: =VLOOKUP(I7,Equipes,2,FALSE) -> #N/A
B8: =VLOOKUP(A8,Equipes,2,FALSE) -> #N/A | D8: =VLOOKUP(C8,Equipes,2,FALSE) -> #N/A | F8: ↔ | H8: =VLOOKUP(G8,Equipes,2,FALSE) -> #N/A | J8: =VLOOKUP(I8,Equipes,2,FALSE) -> #N/A
B9: =VLOOKUP(A9,Equipes,2,FALSE) -> #N/A | D9: =VLOOKUP(C9,Equipes,2,FALSE) -> #N/A | F9: ↔ | H9: =VLOOKUP(G9,Equipes,2,FALSE) -> #N/A | J9: =VLOOKUP(I9,Equipes,2,FALSE) -> #N/A
B10: =VLOOKUP(A10,Equipes,2,FALSE) -> #N/A | D10: =VLOOKUP(C10,Equipes,2,FALSE) -> #N/A | F10: ↔ | H10: =VLOOKUP(G10,Equipes,2,FALSE) -> #N/A | J10: =VLOOKUP(I10,Equipes,2,FALSE) -> #N/A
B11: =VLOOKUP(A11,Equipes,2,FALSE) -> #N/A | D11: =VLOOKUP(C11,Equipes,2,FALSE) -> #N/A | F11: ↔ | H11: =VLOOKUP(G11,Equipes,2,FALSE) -> #N/A | J11: =VLOOKUP(I11,Equipes,2,FALSE) -> #N/A
B12: =VLOOKUP(A12,Equipes,2,FALSE) -> #N/A | D12: =VLOOKUP(C12,Equipes,2,FALSE) -> #N/A | F12: ↔ | H12: =VLOOKUP(G12,Equipes,2,FALSE) -> #N/A | J12: =VLOOKUP(I12,Equipes,2,FALSE) -> #N/A
B13: =VLOOKUP(A13,Equipes,2,FALSE) -> #N/A | D13: =VLOOKUP(C13,Equipes,2,FALSE) -> #N/A | F13: ↔ | H13: =VLOOKUP(G13,Equipes,2,FALSE) -> #N/A | J13: =VLOOKUP(I13,Equipes,2,FALSE) -> #N/A
B14: =VLOOKUP(A14,Equipes,2,FALSE) -> #N/A | D14: =VLOOKUP(C14,Equipes,2,FALSE) -> #N/A | F14: ↔ | H14: =VLOOKUP(G14,Equipes,2,FALSE) -> #N/A | J14: =VLOOKUP(I14,Equipes,2,FALSE) -> #N/A
B15: =VLOOKUP(A15,Equipes,2,FALSE) -> #N/A | D15: =VLOOKUP(C15,Equipes,2,FALSE) -> #N/A | F15: ↔ | H15: =VLOOKUP(G15,Equipes,2,FALSE) -> #N/A | J15: =VLOOKUP(I15,Equipes,2,FALSE) -> #N/A
B16: =VLOOKUP(A16,Equipes,2,FALSE) -> #N/A | D16: =VLOOKUP(C16,Equipes,2,FALSE) -> #N/A | F16: ↔ | H16: =VLOOKUP(G16,Equipes,2,FALSE) -> #N/A | J16: =VLOOKUP(I16,Equipes,2,FALSE) -> #N/A
... B100: =VLOOKUP(A100,Equipes,2,FALSE) -> #N/A | D100: =VLOOKUP(C100,Equipes,2,FALSE) -> #N/A | F100: ↔ | H100: =VLOOKUP(G100,Equipes,2,FALSE) -> #N/A | J100: =VLOOKUP(I100,Equipes,2,FALSE) -> #N/A

Sheet tirage3
A1: 3eme tirage
A3: N° | B3: Nom | C3: N° | D3: Nom | E3: score | F3: contre | G3: N° | H3: Nom | I3: N° | J3: Nom | K3: score
B5: =VLOOKUP(A5,Equipes,2,FALSE) -> #N/A | D5: =VLOOKUP(C5,Equipes,2,FALSE) -> #N/A | F5: ↔ | H5: =VLOOKUP(G5,Equipes,2,FALSE) -> #N/A | J5: =VLOOKUP(I5,Equipes,2,FALSE) -> #N/A
B6: =VLOOKUP(A6,Equipes,2,FALSE) -> #N/A | D6: =VLOOKUP(C6,Equipes,2,FALSE) -> #N/A | F6: ↔ | H6: =VLOOKUP(G6,Equipes,2,FALSE) -> #N/A | J6: =VLOOKUP(I6,Equipes,2,FALSE) -> #N/A
B7: =VLOOKUP(A7,Equipes,2,FALSE) -> #N/A | D7: =VLOOKUP(C7,Equipes,2,FALSE) -> #N/A | F7: ↔ | H7: =VLOOKUP(G7,Equipes,2,FALSE) -> #N/A | J7: =VLOOKUP(I7,Equipes,2,FALSE) -> #N/A
B8: =VLOOKUP(A8,Equipes,2,FALSE) -> #N/A | D8: =VLOOKUP(C8,Equipes,2,FALSE) -> #N/A | F8: ↔ | H8: =VLOOKUP(G8,Equipes,2,FALSE) -> #N/A | J8: =VLOOKUP(I8,Equipes,2,FALSE) -> #N/A
B9: =VLOOKUP(A9,Equipes,2,FALSE) -> #N/A | D9: =VLOOKUP(C9,Equipes,2,FALSE) -> #N/A | F9: ↔ | H9: =VLOOKUP(G9,Equipes,2,FALSE) -> #N/A | J9: =VLOOKUP(I9,Equipes,2,FALSE) -> #N/A
B10: =VLOOKUP(A10,Equipes,2,FALSE) -> #N/A | D10: =VLOOKUP(C10,Equipes,2,FALSE) -> #N/A | F10: ↔ | H10: =VLOOKUP(G10,Equipes,2,FALSE) -> #N/A | J10: =VLOOKUP(I10,Equipes,2,FALSE) -> #N/A
B11: =VLOOKUP(A11,Equipes,2,FALSE) -> #N/A | D11: =VLOOKUP(C11,Equipes,2,FALSE) -> #N/A | F11: ↔ | H11: =VLOOKUP(G11,Equipes,2,FALSE) -> #N/A | J11: =VLOOKUP(I11,Equipes,2,FALSE) -> #N/A
B12: =VLOOKUP(A12,Equipes,2,FALSE) -> #N/A | D12: =VLOOKUP(C12,Equipes,2,FALSE) -> #N/A | F12: ↔ | H12: =VLOOKUP(G12,Equipes,2,FALSE) -> #N/A | J12: =VLOOKUP(I12,Equipes,2,FALSE) -> #N/A
B13: =VLOOKUP(A13,Equipes,2,FALSE) -> #N/A | D13: =VLOOKUP(C13,Equipes,2,FALSE) -> #N/A | F13: ↔ | H13: =VLOOKUP(G13,Equipes,2,FALSE) -> #N/A | J13: =VLOOKUP(I13,Equipes,2,FALSE) -> #N/A
B14: =VLOOKUP(A14,Equipes,2,FALSE) -> #N/A | D14: =VLOOKUP(C14,Equipes,2,FALSE) -> #N/A | F14: ↔ | H14: =VLOOKUP(G14,Equipes,2,FALSE) -> #N/A | J14: =VLOOKUP(I14,Equipes,2,FALSE) -> #N/A
B15: =VLOOKUP(A15,Equipes,2,FALSE) -> #N/A | D15: =VLOOKUP(C15,Equipes,2,FALSE) -> #N/A | F15: ↔ | H15: =VLOOKUP(G15,Equipes,2,FALSE) -> #N/A | J15: =VLOOKUP(I15,Equipes,2,FALSE) -> #N/A
B16: =VLOOKUP(A16,Equipes,2,FALSE) -> #N/A | D16: =VLOOKUP(C16,Equipes,2,FALSE) -> #N/A | F16: ↔ | H16: =VLOOKUP(G16,Equipes,2,FALSE) -> #N/A | J16: =VLOOKUP(I16,Equipes,2,FALSE) -> #N/A
... B100: =VLOOKUP(A100,Equipes,2,FALSE) -> #N/A | D100: =VLOOKUP(C100,Equipes,2,FALSE) -> #N/A | F100: ↔ | H100: =VLOOKUP(G100,Equipes,2,FALSE) -> #N/A | J100: =VLOOKUP(I100,Equipes,2,FALSE) -> #N/A

Sheet tirage4
A1: 4eme tirage
A3: N° | B3: Nom | C3: N° | D3: Nom | E3: score | F3: contre | G3: N° | H3: Nom | I3: N° | J3: Nom | K3: score
B5: =VLOOKUP(A5,Equipes,2,FALSE) -> #N/A | D5: =VLOOKUP(C5,Equipes,2,FALSE) -> #N/A | F5: ↔ | H5: =VLOOKUP(G5,Equipes,2,FALSE) -> #N/A | J5: =VLOOKUP(I5,Equipes,2,FALSE) -> #N/A
B6: =VLOOKUP(A6,Equipes,2,FALSE) -> #N/A | D6: =VLOOKUP(C6,Equipes,2,FALSE) -> #N/A | F6: ↔ | H6: =VLOOKUP(G6,Equipes,2,FALSE) -> #N/A | J6: =VLOOKUP(I6,Equipes,2,FALSE) -> #N/A
B7: =VLOOKUP(A7,Equipes,2,FALSE) -> #N/A | D7: =VLOOKUP(C7,Equipes,2,FALSE) -> #N/A | F7: ↔ | H7: =VLOOKUP(G7,Equipes,2,FALSE) -> #N/A | J7: =VLOOKUP(I7,Equipes,2,FALSE) -> #N/A
B8: =VLOOKUP(A8,Equipes,2,FALSE) -> #N/A | D8: =VLOOKUP(C8,Equipes,2,FALSE) -> #N/A | F8: ↔ | H8: =VLOOKUP(G8,Equipes,2,FALSE) -> #N/A | J8: =VLOOKUP(I8,Equipes,2,FALSE) -> #N/A
B9: =VLOOKUP(A9,Equipes,2,FALSE) -> #N/A | D9: =VLOOKUP(C9,Equipes,2,FALSE) -> #N/A | F9: ↔ | H9: =VLOOKUP(G9,Equipes,2,FALSE) -> #N/A | J9: =VLOOKUP(I9,Equipes,2,FALSE) -> #N/A
B10: =VLOOKUP(A10,Equipes,2,FALSE) -> #N/A | D10: =VLOOKUP(C10,Equipes,2,FALSE) -> #N/A | F10: ↔ | H10: =VLOOKUP(G10,Equipes,2,FALSE) -> #N/A | J10: =VLOOKUP(I10,Equipes,2,FALSE) -> #N/A
B11: =VLOOKUP(A11,Equipes,2,FALSE) -> #N/A | D11: =VLOOKUP(C11,Equipes,2,FALSE) -> #N/A | F11: ↔ | H11: =VLOOKUP(G11,Equipes,2,FALSE) -> #N/A | J11: =VLOOKUP(I11,Equipes,2,FALSE) -> #N/A
B12: =VLOOKUP(A12,Equipes,2,FALSE) -> #N/A | D12: =VLOOKUP(C12,Equipes,2,FALSE) -> #N/A | F12: ↔ | H12: =VLOOKUP(G12,Equipes,2,FALSE) -> #N/A | J12: =VLOOKUP(I12,Equipes,2,FALSE) -> #N/A
B13: =VLOOKUP(A13,Equipes,2,FALSE) -> #N/A | D13: =VLOOKUP(C13,Equipes,2,FALSE) -> #N/A | F13: ↔ | H13: =VLOOKUP(G13,Equipes,2,FALSE) -> #N/A | J13: =VLOOKUP(I13,Equipes,2,FALSE) -> #N/A
B14: =VLOOKUP(A14,Equipes,2,FALSE) -> #N/A | D14: =VLOOKUP(C14,Equipes,2,FALSE) -> #N/A | F14: ↔ | H14: =VLOOKUP(G14,Equipes,2,FALSE) -> #N/A | J14: =VLOOKUP(I14,Equipes,2,FALSE) -> #N/A
B15: =VLOOKUP(A15,Equipes,2,FALSE) -> #N/A | D15: =VLOOKUP(C15,Equipes,2,FALSE) -> #N/A | F15: ↔ | H15: =VLOOKUP(G15,Equipes,2,FALSE) -> #N/A | J15: =VLOOKUP(I15,Equipes,2,FALSE) -> #N/A
B16: =VLOOKUP(A16,Equipes,2,FALSE) -> #N/A | D16: =VLOOKUP(C16,Equipes,2,FALSE) -> #N/A | F16: ↔ | H16: =VLOOKUP(G16,Equipes,2,FALSE) -> #N/A | J16: =VLOOKUP(I16,Equipes,2,FALSE) -> #N/A
... B100: =VLOOKUP(A100,Equipes,2,FALSE) -> #N/A | D100: =VLOOKUP(C100,Equipes,2,FALSE) -> #N/A | F100: ↔ | H100: =VLOOKUP(G100,Equipes,2,FALSE) -> #N/A | J100: =VLOOKUP(I100,Equipes,2,FALSE) -> #N/A
