Workbook

Sheet COUT GLOBAL
A1: N° Programme | B1: Libellé Programme | C1: Année mise en location | D1: Nb lgts Total | E1: Surface Habitable | F1: Surface Utile | G1: Type | H1: Agence | I1: Type opération | J1: Libellé Compte | K1: Nature dépenses | L1: Coût global | M1: Prix de revient actualisé | N1: Montant de subvention | O1: Montant emprunt + FP
A2: 784 | B2: CONNERRE RUE BEAUFILS | C2: 2010 | D2: 3 | E2: 221.68 | F2: 246.5 | G2: I/C | H2: 3 | I2: Acquisition | J2: TERRAINS | K2: ACQUISITIONS FONCIERES | L2: 26000 | M2: 512084.19 | N2: Sévrine BLOT | O2: Sévrine BLOT
A3: 784 | B3: CONNERRE RUE BEAUFILS | C3: 2010 | G3: I/C | H3: 3 | I3: Acquisition | J3: IMMEUB.DE RAPP. | K3: CONSTRUCTION | L3: 440450.67
A4: 800 | B4: SAINT GERVAIS EN BELIN | C4: 2010 | D4: 6 | E4: 479 | F4: 508.61 | G4: IND | H4: 3 | I4: Locatif | J4: TERRAINS | K4: ACQUISITIONS FONCIERES | L4: 37 | M4: 696749.3
A5: 800 | B5: SAINT GERVAIS EN BELIN | C5: 2010 | G5: IND | H5: 3 | I5: Locatif | J5: IMMEUB.DE RAPP. | K5: CONSTRUCTION | L5: 628017.19
A6: 803 | B6: NOYEN SUR SARTHE LES JARDINS D | C6: 2010 | D6: 14 | E6: 921.39 | F6: 964.27 | G6: I/INT | H6: 6 | I6: Locatif | J6: TERRAINS | K6: ACQUISITIONS FONCIERES | L6: 1280 | M6: 1358820.9
A7: 803 | B7: NOYEN SUR SARTHE LES JARDINS D | C7: 2010 | G7: I/INT | H7: 6 | I7: Locatif | J7: IMMEUB.DE RAPP. | K7: CONSTRUCTION | L7: 1242725.9
A8: 804 | B8: LHOMME LOT.L'AIGUILLE | C8: 2010 | D8: 7 | E8: 525.02 | F8: 550.6 | G8: IND | H8: 3 | I8: Locatif | J8: TERRAINS | K8: ACQUISITIONS FONCIERES | L8: 786.66 | M8: 759142.1
A9: 804 | B9: LHOMME LOT.L'AIGUILLE | C9: 2010 | G9: IND | H9: 3 | I9: Locatif | J9: IMMEUB.DE RAPP. | K9: CONSTRUCTION | L9: 708052.75
A10: 855 | B10: SILLE LE GUILLAUME ROUTE DE PA | C10: 2010 | D10: 1 | E10: 129.53 | F10: 161.34 | G10: IND | H10: 2 | I10: Acquisition | J10: TERRAINS | K10: ACQUISITIONS FONCIERES | L10: 14400 | M10: 207296
A11: 855 | B11: SILLE LE GUILLAUME ROUTE DE PA | C11: 2010 | G11: IND | H11: 2 | I11: Acquisition | J11: IMMEUB.DE RAPP. | K11: CONSTRUCTION | L11: 192894.58
A12: 2502 | B12: MONTFORT LE GESNOIS RES DE LA | C12: 2010 | D12: 20 | E12: 1342.13 | F12: 1426.67 | G12: I/INT | H12: 1 | I12: Locatif | J12: TERRAINS | K12: ACQUISITIONS FONCIERES | L12: 650 | M12: 2133171.9
A13: 2502 | B13: MONTFORT LE GESNOIS RES DE LA | C13: 2010 | G13: I/INT | H13: 1 | I13: Locatif | J13: IMMEUB.DE RAPP. | K13: CONSTRUCTION | L13: 1938114.6
A14: 4112 | B14: BRULON RUES MORSE, GRAHAM BELL | C14: 2010 | D14: 5 | E14: 418.63 | F14: 433.96 | G14: IND | H14: 5 | I14: Locatif | J14: TERR OP/GR | K14: ACQUISITIONS FONCIERES | L14: 29460.59 | M14: 841750.72
A15: 4112 | B15: BRULON RUES MORSE, GRAHAM BELL | C15: 2010 | G15: IND | H15: 5 | I15: Locatif | J15: CONSTR.OP/GR | K15: CONSTRUCTION | L15: 601866.26
A16: 4112 | B16: BRULON RUES MORSE, GRAHAM BELL | C16: 2010 | G16: IND | H16: 5 | I16: Locatif | J16: HONOR.OP/GR | K16: CONSTRUCTION | L16: 46813.17
A17: 4112 | B17: BRULON RUES MORSE, GRAHAM BELL | C17: 2010 | G17: IND | H17: 5 | I17: Locatif | J17: FRAIS FINANC | K17: CONSTRUCTION | L17: 0
A18: 4112 | B18: BRULON RUES MORSE, GRAHAM BELL | C18: 2010 | G18: IND | H18: 5 | I18: Locatif | J18: FRAIS ANNEXES | K18: CONSTRUCTION | L18: 19659.21
A19: 4112 | B19: BRULON RUES MORSE, GRAHAM BELL | C19: 2010 | G19: IND | H19: 5 | I19: Locatif | J19: C.I. OP/GR | K19: CONSTRUCTION | L19: 25332.98
A20: 9792 | B20: ALLONNES LA BUJERIE | C20: 2010 | D20: 18 | E20: 1244.27 | F20: 1320.64 | G20: I/INT | H20: 4 | I20: Locatif | J20: TERRAINS | K20: ACQUISITIONS FONCIERES | L20: 115822.46 | M20: 1852855.2
A21: 9792 | B21: ALLONNES LA BUJERIE | C21: 2010 | G21: I/INT | H21: 4 | I21: Locatif | J21: IMMEUB.DE RAPP. | K21: CONSTRUCTION | L21: 1564166.2
A22: 802 | B22: BAZOUGES SUR LE LOIR RUE DU RU | C22: 2011 | D22: 8 | E22: 601.2 | F22: 626.93 | G22: IND | H22: 6 | I22: Locatif | J22: TERRAINS | K22: ACQUISITIONS FONCIERES | L22: 2508.09 | M22: 957600.2
A23: 802 | B23: BAZOUGES SUR LE LOIR RUE DU RU | C23: 2011 | G23: IND | H23: 6 | I23: Locatif | J23: IMMEUB.DE RAPP. | K23: CONSTRUCTION | L23: 788708.81
A24: 810 | B24: MONTBIZOT LES HOTELLERIES | C24: 2011 | D24: 11 | E24: 811.02 | F24: 855 | G24: IND | H24: 2 | I24: Locatif | J24: TERRAINS | K24: ACQUISITIONS FONCIERES | L24: 553 | M24: 1213168.2
A25: 810 | B25: MONTBIZOT LES HOTELLERIES | C25: 2011 | G25: IND | H25: 2 | I25: Locatif | J25: IMMEUB.DE RAPP. | K25: CONSTRUCTION | L25: 1120231.3
A26: 812 | B26: LA FRESNAYE SUR CHEDOUET RESID | C26: 2011 | D26: 4 | E26: 296.4 | F26: 323.88 | G26: IND | H26: 2 | I26: Locatif | J26: TERRAINS | K26: ACQUISITIONS FONCIERES | L26: 1188.04 | M26: 436672.95
A27: 812 | B27: LA FRESNAYE SUR CHEDOUET RESID | C27: 2011 | G27: IND | H27: 2 | I27: Locatif | J27: IMMEUB.DE RAPP. | K27: CONSTRUCTION | L27: 407948.2
A28: 814 | B28: SAINT GEORGES DU BOIS ALLEE DE | C28: 2011 | D28: 20 | E28: 1588.17 | F28: 1664 | G28: IND | H28: 4 | I28: Accession | J28: TERR OP/GR | K28: ACQUISITIONS FONCIERES | L28: 355569.08 | M28: 3107478.3
A29: 814 | B29: SAINT GEORGES DU BOIS ALLEE DE | C29: 2011 | G29: IND | H29: 4 | I29: Accession | J29: CONSTR.OP/GR | K29: CONSTRUCTION | L29: 1738454.8
A30: 814 | B30: SAINT GEORGES DU BOIS ALLEE DE | C30: 2011 | G30: IND | H30: 4 | I30: Accession | J30: HONOR.OP/GR | K30: CONSTRUCTION | L30: 157375.01
A31: 814 | B31: SAINT GEORGES DU BOIS ALLEE DE | C31: 2011 | G31: IND | H31: 4 | I31: Accession | J31: FRAIS FINANC | K31: CONSTRUCTION | L31: 97693.26
A32: 814 | B32: SAINT GEORGES DU BOIS ALLEE DE | C32: 2011 | G32: IND | H32: 4 | I32: Accession | J32: IMPOTS TAXES | K32: CONSTRUCTION | L32: 5281
A33: 814 | B33: SAINT GEORGES DU BOIS ALLEE DE | C33: 2011 | G33: IND | H33: 4 | I33: Accession | J33: FRAIS PUB. | K33: CONSTRUCTION | L33: 0
A34: 814 | B34: SAINT GEORGES DU BOIS ALLEE DE | C34: 2011 | G34: IND | H34: 4 | I34: Accession | J34: FRAIS ANNEXES | K34: CONSTRUCTION | L34: 34403.89
A35: 814 | B35: SAINT GEORGES DU BOIS ALLEE DE | C35: 2011 | G35: IND | H35: 4 | I35: Accession | J35: C.I. OP/GR | K35: CONSTRUCTION | L35: 142241.5
A36: 819 | B36: CONNERRE COUR LYAUTEY | C36: 2011 | D36: 12 | E36: 932.53 | F36: 957.48 | G36: I/INT | H36: 3 | I36: Locatif | J36: TERRAINS | K36: ACQUISITIONS FONCIERES | L36: 1800 | M36: 1358495
A37: 819 | B37: CONNERRE COUR LYAUTEY | C37: 2011 | G37: I/INT | H37: 3 | I37: Locatif | J37: IMMEUB.DE RAPP. | K37: CONSTRUCTION | L37: 1214651.6
A38: 833 | B38: ROUILLON RUE DES VAUGEONNIERES | C38: 2011 | D38: 8 | E38: 575.82 | F38: 618.36 | G38: IND | H38: 4 | I38: Locatif | J38: TERRAINS | K38: ACQUISITIONS FONCIERES | L38: 93102.02 | M38: 984078.36
A39: 833 | B39: ROUILLON RUE DES VAUGEONNIERES | C39: 2011 | G39: IND | H39: 4 | I39: Locatif | J39: IMMEUB.DE RAPP. | K39: CONSTRUCTION | L39: 839768.82
A40: 873 | B40: LA FLECHE (ST GERMAIN DU VAL) | C40: 2011 | D40: 1 | E40: 114.92 | F40: 126.86 | G40: IND | H40: 6 | I40: Acquisition | J40: TERRAINS | K40: ACQUISITIONS FONCIERES | L40: 30000 | M40: 148570.32
...

Sheet COUT TVX
A1: N° Programme | B1: Libellé Programme | C1: Année AO | D1: Année mise en location | E1: Nb lgts Total | F1: Surface Habitable | G1: Surface Utile | H1: Type | I1: Agence | J1: Type opération | K1: Marché/Lot | L1: Type travaux | M1: Montant lot | N1: Coût par lot par m2 SH | O1: Coût par lot par m2 SU | P1: Coût par lot par logement | Q1: Taux TVA | R1: Zone
A2: 800 | B2: SAINT GERVAIS EN BELIN | C2: 2009 | D2: 2010 | E2: 6 | F2: 479 | G2: 508.61 | H2: IND | I2: 3 | J2: Locatif | K2: LOT 01 - GROS OEUVRE RAVALEMEN | L2: GROS ŒUVRE | M2: 199499.41 | N2: 416.49146 | O2: 392.24437 | P2: 33249.902 | Q2: 0.055 | R2: Z3
A3: 800 | B3: SAINT GERVAIS EN BELIN | C3: 2009 | D3: 2010 | H3: IND | I3: 3 | J3: Locatif | K3: LOT 02 - CHARPENTE COUVERTURE | L3: CHARPENTE / COUVERTURE | M3: 76026.39 | N3: 158.71898 | O3: 149.47876 | P3: 12671.065 | R3: Z3
A4: 800 | B4: SAINT GERVAIS EN BELIN | C4: 2009 | D4: 2010 | H4: IND | I4: 3 | J4: Locatif | K4: LOT 03 - MENUISERIES EXT. PVC | L4: SECOND ŒUVRE | M4: 17996.09 | N4: 37.570125 | O4: 35.382887 | P4: 2999.3483 | R4: Z3
A5: 800 | B5: SAINT GERVAIS EN BELIN | C5: 2009 | D5: 2010 | H5: IND | I5: 3 | J5: Locatif | K5: LOT 04 - PLATRERIE - FAUX PLAF | L5: SECOND ŒUVRE | M5: 56433.49 | N5: 117.81522 | O5: 110.95631 | P5: 9405.5817 | R5: Z3
A6: 800 | B6: SAINT GERVAIS EN BELIN | C6: 2009 | D6: 2010 | H6: IND | I6: 3 | J6: Locatif | K6: LOT 06 - CARRELAGE - FAIENCE | L6: SECOND ŒUVRE | M6: 17930.69 | N6: 37.433591 | O6: 35.254301 | P6: 2988.4483 | R6: Z3
A7: 800 | B7: SAINT GERVAIS EN BELIN | C7: 2009 | D7: 2010 | H7: IND | I7: 3 | J7: Locatif | K7: LOT 07 - ELECTRICITE | L7: ELECTRICITE / CHAUFFAGE/PLOMBERIE/VMC | M7: 26329.71 | N7: 54.968079 | O7: 51.767975 | P7: 4388.285 | R7: Z3
A8: 800 | B8: SAINT GERVAIS EN BELIN | C8: 2009 | D8: 2010 | H8: IND | I8: 3 | J8: Locatif | K8: LOT 08 - PLOMB. SAN. CHAUF. VM | L8: ELECTRICITE / CHAUFFAGE/PLOMBERIE/VMC | M8: 50066.82 | N8: 104.52363 | O8: 98.438529 | P8: 8344.47 | R8: Z3
A9: 800 | B9: SAINT GERVAIS EN BELIN | C9: 2009 | D9: 2010 | H9: IND | I9: 3 | J9: Locatif | K9: LOT 09 - PEINTURE - REVTS MURA | L9: SECOND ŒUVRE | M9: 26152.7 | N9: 54.598539 | O9: 51.419948 | P9: 4358.7833 | R9: Z3
A10: 800 | B10: SAINT GERVAIS EN BELIN | C10: 2009 | D10: 2010 | H10: IND | I10: 3 | J10: Locatif | K10: LOT 10 - REVETS SOLS SOUPLES | L10: SECOND ŒUVRE | M10: 5823.2 | N10: 12.156994 | O10: 11.449244 | P10: 970.53333 | R10: Z3
A11: 800 | B11: SAINT GERVAIS EN BELIN | C11: 2009 | D11: 2010 | H11: IND | I11: 3 | J11: Locatif | K11: LOT 11 - ESPACES VERTS | L11: ESPACES VERTS | M11: 9607.82 | N11: 20.058079 | O11: 18.890348 | P11: 1601.3033 | R11: Z3
A12: 800 | B12: SAINT GERVAIS EN BELIN | C12: 2009 | D12: 2010 | H12: IND | I12: 3 | J12: Locatif | K12: LOT 05 - MENUISERIES INT. BOIS | L12: SECOND ŒUVRE | M12: 27118.19 | N12: 56.614175 | O12: 53.31824 | P12: 4519.6983 | R12: Z3
A13: 803 | B13: NOYEN SUR SARTHE LES JARDINS D | C13: 2009 | D13: 2010 | E13: 14 | F13: 921.39 | G13: 964.27 | H13: I/INT | I13: 6 | J13: Locatif | K13: LOT 02 - G.O - FONDAT° DALLAGE | L13: GROS ŒUVRE | M13: 128122.06 | N13: 139.05302 | O13: 132.86949 | P13: 9151.5757 | Q13: 0.055 | R13: Z3
A14: 803 | B14: NOYEN SUR SARTHE LES JARDINS D | C14: 2009 | D14: 2010 | H14: I/INT | I14: 6 | J14: Locatif | K14: LOT 01 - ESPACES VERTS - CLOT. | L14: ESPACES VERTS | M14: 9544.48 | N14: 10.358784 | O14: 9.8981406 | P14: 681.74857 | R14: Z3
A15: 803 | B15: NOYEN SUR SARTHE LES JARDINS D | C15: 2009 | D15: 2010 | H15: I/INT | I15: 6 | J15: Locatif | K15: LOT 03 - CHARP. OSSAT. BARDAGE | L15: CHARPENTE / COUVERTURE | M15: 352660.43 | N15: 382.74827 | O15: 365.72789 | P15: 25190.031 | R15: Z3
A16: 803 | B16: NOYEN SUR SARTHE LES JARDINS D | C16: 2009 | D16: 2010 | H16: I/INT | I16: 6 | J16: Locatif | K16: LOT 04 - COUV. TUILES BACS ACI | L16: CHARPENTE / COUVERTURE | M16: 116902.32 | N16: 126.87605 | O16: 121.23401 | P16: 8350.1657 | R16: Z3
A17: 803 | B17: NOYEN SUR SARTHE LES JARDINS D | C17: 2009 | D17: 2010 | H17: I/INT | I17: 6 | J17: Locatif | K17: LOT 05 - MEN. EXT PVC & METAL | L17: SECOND ŒUVRE | M17: 49116.96 | N17: 53.307459 | O17: 50.936937 | P17: 3508.3543 | R17: Z3
A18: 803 | B18: NOYEN SUR SARTHE LES JARDINS D | C18: 2009 | D18: 2010 | H18: I/INT | I18: 6 | J18: Locatif | K18: LOT 06 - SERRURERIE - MEN. BOI | L18: SECOND ŒUVRE | M18: 45983.85 | N18: 49.907043 | O18: 47.687733 | P18: 3284.5607 | R18: Z3
A19: 803 | B19: NOYEN SUR SARTHE LES JARDINS D | C19: 2009 | D19: 2010 | H19: I/INT | I19: 6 | J19: Locatif | K19: LOT 07 - PLATRERIE SECHE | L19: SECOND ŒUVRE | M19: 102769.42 | N19: 111.53737 | O19: 106.57743 | P19: 7340.6729 | R19: Z3
A20: 803 | B20: NOYEN SUR SARTHE LES JARDINS D | C20: 2009 | D20: 2010 | H20: I/INT | I20: 6 | J20: Locatif | K20: LOT 08 - CARRELAGE - FAIENCE | L20: SECOND ŒUVRE | M20: 33630.28 | N20: 36.499506 | O20: 34.876414 | P20: 2402.1629 | R20: Z3
A21: 803 | B21: NOYEN SUR SARTHE LES JARDINS D | C21: 2009 | D21: 2010 | H21: I/INT | I21: 6 | J21: Locatif | K21: LOT 9 - SOLS SOUPLES / PEINT. | L21: SECOND ŒUVRE | M21: 57158.15 | N21: 62.034698 | O21: 59.276084 | P21: 4082.725 | R21: Z3
A22: 803 | B22: NOYEN SUR SARTHE LES JARDINS D | C22: 2009 | D22: 2010 | H22: I/INT | I22: 6 | J22: Locatif | K22: LOT 10 - PLOMBERIE SANITAIRES | L22: ELECTRICITE / CHAUFFAGE/PLOMBERIE/VMC | M22: 48768 | N22: 52.928727 | O22: 50.575046 | P22: 3483.4286 | R22: Z3
A23: 803 | B23: NOYEN SUR SARTHE LES JARDINS D | C23: 2009 | D23: 2010 | H23: I/INT | I23: 6 | J23: Locatif | K23: LOT 11 - ELEC- CHAUFFAGE - VMC | L23: ELECTRICITE / CHAUFFAGE/PLOMBERIE/VMC | M23: 71779.28 | N23: 77.903255 | O23: 74.438985 | P23: 5127.0914 | R23: Z3
A24: 804 | B24: LHOMME LOT.L'AIGUILLE | C24: 2009 | D24: 2010 | E24: 7 | F24: 525.02 | G24: 550.6 | H24: IND | I24: 3 | J24: Locatif | K24: LOT 01 - GROS-OEUVRE | L24: GROS ŒUVRE | M24: 223377.5 | N24: 425.46474 | O24: 405.69833 | P24: 31911.071 | Q24: 0.055 | R24: Z3
A25: 804 | B25: LHOMME LOT.L'AIGUILLE | C25: 2009 | D25: 2010 | H25: IND | I25: 3 | J25: Locatif | K25: LOT 02 - CHARPENTE COUVERTURE | L25: CHARPENTE / COUVERTURE | M25: 103584.28 | N25: 197.29587 | O25: 188.12982 | P25: 14797.754 | R25: Z3
A26: 804 | B26: LHOMME LOT.L'AIGUILLE | C26: 2009 | D26: 2010 | H26: IND | I26: 3 | J26: Locatif | K26: LOT 03 - ETANCHEITE | L26: CHARPENTE / COUVERTURE | M26: 8878.05 | N26: 16.909927 | O26: 16.124319 | P26: 1268.2929 | R26: Z3
A27: 804 | B27: LHOMME LOT.L'AIGUILLE | C27: 2009 | D27: 2010 | H27: IND | I27: 3 | J27: Locatif | K27: LOT 04 - MENUISERIES PVC - ALU | L27: SECOND ŒUVRE | M27: 29403.78 | N27: 56.005066 | O27: 53.40316 | P27: 4200.54 | R27: Z3
A28: 804 | B28: LHOMME LOT.L'AIGUILLE | C28: 2009 | D28: 2010 | H28: IND | I28: 3 | J28: Locatif | K28: LOT 05 - MENUISERIES BOIS | L28: SECOND ŒUVRE | M28: 20237.23 | N28: 38.545636 | O28: 36.754867 | P28: 2891.0329 | R28: Z3
A29: 804 | B29: LHOMME LOT.L'AIGUILLE | C29: 2009 | D29: 2010 | H29: IND | I29: 3 | J29: Locatif | K29: LOT 06 - PLATRERIE SECHE - ISO | L29: SECOND ŒUVRE | M29: 66629.68 | N29: 126.90884 | O29: 121.01286 | P29: 9518.5257 | R29: Z3
A30: 804 | B30: LHOMME LOT.L'AIGUILLE | C30: 2009 | D30: 2010 | H30: IND | I30: 3 | J30: Locatif | K30: LOT 07 - ELEC. -CHAUF. ELEC - | L30: ELECTRICITE / CHAUFFAGE/PLOMBERIE/VMC | M30: 41434.06 | N30: 78.919013 | O30: 75.252561 | P30: 5919.1514 | R30: Z3
A31: 804 | B31: LHOMME LOT.L'AIGUILLE | C31: 2009 | D31: 2010 | H31: IND | I31: 3 | J31: Locatif | K31: LOT 08 - PLOMBERIE SANITAIRES | L31: ELECTRICITE / CHAUFFAGE/PLOMBERIE/VMC | M31: 32227.47 | N31: 61.383319 | O31: 58.531547 | P31: 4603.9243 | R31: Z3
A32: 804 | B32: LHOMME LOT.L'AIGUILLE | C32: 2009 | D32: 2010 | H32: IND | I32: 3 | J32: Locatif | K32: LOT 09 - CARRELAGE FAIENCE | L32: SECOND ŒUVRE | M32: 27350.19 | N32: 52.093615 | O32: 49.673429 | P32: 3907.17 | R32: Z3
A33: 804 | B33: LHOMME LOT.L'AIGUILLE | C33: 2009 | D33: 2010 | H33: IND | I33: 3 | J33: Locatif | K33: LOT 10 - SOLS MINCES - PEINTUR | L33: SECOND ŒUVRE | M33: 29397.45 | N33: 55.99301 | O33: 53.391664 | P33: 4199.6357 | R33: Z3
A34: 2502 | B34: MONTFORT LE GESNOIS RES DE LA | C34: 2009 | D34: 2010 | E34: 20 | F34: 1342.13 | G34: 1426.67 | H34: I/INT | I34: 1 | J34: Locatif | K34: LOT 01 - TERRAS. - G.O. - RAVA | L34: GROS ŒUVRE | M34: 713312.16 | N34: 531.4777 | O34: 499.98399 | P34: 35665.608 | Q34: 0.055 | R34: Z3
A35: 2502 | B35: MONTFORT LE GESNOIS RES DE LA | C35: 2009 | D35: 2010 | H35: I/INT | I35: 1 | J35: Locatif | K35: LOT 02 - CHARPENTE BOIS | L35: CHARPENTE / COUVERTURE | M35: 48779.88 | N35: 36.345123 | O35: 34.191425 | P35: 2438.994 | R35: Z3
A36: 2502 | B36: MONTFORT LE GESNOIS RES DE LA | C36: 2009 | D36: 2010 | H36: I/INT | I36: 1 | J36: Locatif | K36: LOT 03 - COUVERTURE TUILES | L36: CHARPENTE / COUVERTURE | M36: 119238.6 | N36: 88.84281 | O36: 83.578263 | P36: 5961.93 | R36: Z3
A37: 2502 | B37: MONTFORT LE GESNOIS RES DE LA | C37: 2009 | D37: 2010 | H37: I/INT | I37: 1 | J37: Locatif | K37: LOT 04 - MENUISERIES EXT. PVC | L37: SECOND ŒUVRE | M37: 89192.64 | N37: 66.456036 | O37: 62.51806 | P37: 4459.632 | R37: Z3
A38: 2502 | B38: MONTFORT LE GESNOIS RES DE LA | C38: 2009 | D38: 2010 | H38: I/INT | I38: 1 | J38: Locatif | K38: LOT 05 - SERRURERIE | L38: SECOND ŒUVRE | M38: 50699.36 | N38: 37.775297 | O38: 35.536852 | P38: 2534.968 | R38: Z3
A39: 2502 | B39: MONTFORT LE GESNOIS RES DE LA | C39: 2009 | D39: 2010 | H39: I/INT | I39: 1 | J39: Locatif | K39: LOT 06 - PLATRERIE - DOUBLAGES | L39: SECOND ŒUVRE | M39: 190535.36 | N39: 141.96491 | O39: 133.55251 | P39: 9526.768 | R39: Z3
A40: 2502 | B40: MONTFORT LE GESNOIS RES DE LA | C40: 2009 | D40: 2010 | H40: I/INT | I40: 1 | J40: Locatif | K40: LOT 07 - CARRELAGES FAIENCE | L40: SECOND ŒUVRE | M40: 41907.28 | N40: 31.224457 | O40: 29.374193 | P40: 2095.364 | R40: Z3
...

Sheet FORUM
A1: Désignation du programme | D1: Localisation | G1: Année de réalisation | J1: Type d'opération | L1: Spécificités de l'opération | X1: Informations sur les logments | AG1: Surfaces du projet | AJ1: Allotissement | AL1: Coûts des travaux
A2: N° de programme | B2: Libéllé du programme | C2: Chargé d'opération | D2: Ville | E2: Agence | F2: Zone d'aménagement | G2: Année du dépôt de PC | H2: Année AO | I2: Année de mise en location | J2: Type de lgts | K2: Type d'op. (NR ?) | L2: Mode de passation du marché de MŒ (insérer "x") | N2: RT (Estimation automatique sur l'année du PC) | O2: Performance thermique (insérer "x") | S2: Performance environnementale (insérer "x") | T2: Label HSS (insérer "x") | U2: Opération pilote (insérer "x") | V2: Opération « ANRU » (insérer "x") | W2: Opération« Const. / Démol. » (insérer "x") | X2: Nb de lgts | Y2: Typologie | AD2: Loyer (Base + Accessoires) | AE2: Ratio Loyer / m² SU | AF2: Vacance (unité ? Ratios ?) | AG2: SHAB | AH2: SU | AI2: Ratio SHAB / SU | AJ2: Marché / Lot | AK2: Type de travaux (à vérifier) | AL2: Montant par lot | AM2: Montant total | AN2: Montant des subventions | AO2: Montant des enprunt et fond propre | AP2: Montant du clos et couvert (compris VRD et Espaces verts) | AQ2: Montant des fluides (électricité, chauffage, ventilation, …) | AR2: Montant du second œuvre (finition, plâtrerie, …) | AS2: Taux de TVA | AT2: €/lgts | AU2: €/m² SHAB | AV2: €/m² SU
L3: Concours | M3: Procédure négociée | O3: HPE | P3: THPE | Q3: THPE EnR | R3: BBC | S3: H&E | Y3: T1 | Z3: T2 | AA3: T3 | AB3: T4 | AC3: T5
A4: N° de programme | B4: Libéllé du programme | C4: Chargé d'opération | D4: Ville | E4: Agence | F4: Zone d'aménagement | G4: Dépôt de PC | H4: Année AO | I4: Mise en location | J4: Type LGTS | K4: Type OP | L4: Concours | M4: Procédure négociée | N4: Réglementation RT | O4: HPE | P4: THPE | Q4: THPE EnR | R4: BBC | S4: H&E | T4: Label HSS | U4: Op. pilote | V4: ANRU | W4: Const. / Démol. | X4: Nb de lgts | Y4: T1 | Z4: T2 | AA4: T3 | AB4: T4 | AC4: T5 | AD4: Loyer | AE4: Loyer / m² SU | AF4: Vacance | AG4: SHAB | AH4: SU | AI4: SHAB / SU | AJ4: Marché / Lot | AK4: Type de travaux | AL4: Coût / lots | AM4: Coût total | AN4: Subventions | AO4: Enprunt / FP | AP4: Clos couvert | AQ4: Fluides | AR4: Second œuvre | AS4: TVA | AT4: €/lgts | AU4: €/m² SHAB | AV4: €/m² SU
A5: ='COUT TVX'!A2 -> 800 | B5: ='COUT TVX'!B2 -> SAINT GERVAIS EN BELIN | D5: =B5 -> SAINT GERVAIS EN BELIN | E5: =IF(ISBLANK('COUT TVX'!I2),"",'COUT TVX'!I2) -> 3 | F5: ='COUT TVX'!R2 -> Z3 | H5: ='COUT TVX'!C2 -> 2009 | I5: ='COUT TVX'!D2 -> 2010 | J5: =IF('COUT TVX'!H2="IND","IND",IF('COUT TVX'!H2="COLL","COLL",IF('COUT TVX'!H2="INT","COL","MIXTE"))) -> IND | K5: =IFERROR((VLOOKUP(A5,'COUT GLOBAL'!A:L,9,FALSE)),"") -> Locatif | N5: =IF(ISBLANK(G5),"-",IF(G5<2012,"RT2005","RT2012")) -> - | X5: =IF('COUT TVX'!E2=0,"",'COUT TVX'!E2) -> 6 | AE5: =IFERROR((AD5/AH5),"") -> 0 | AG5: =IF('COUT TVX'!F2=0,"",'COUT TVX'!F2) -> 479 | AH5: =IF('COUT TVX'!G2=0,"",'COUT TVX'!G2) -> 508.61 | AI5: =IFERROR((AG5/AH5),"") -> 0.94178251 | AJ5: ='COUT TVX'!K2 -> LOT 01 - GROS OEUVRE RAVALEMEN | AK5: ='COUT TVX'!L2 -> GROS ŒUVRE | AL5: ='COUT TVX'!M2 -> 199499.41 | AS5: =IF(ISBLANK('COUT TVX'!Q2),"",'COUT TVX'!Q2) -> 0.055 | AT5: =IFERROR((AM5/X5),"") -> 0 | AU5: =IFERROR((AM5/AG5),"") -> 0 | AV5: =IFERROR((AM5/AH5),"") -> 0
E6: =IF(ISBLANK('COUT TVX'!I3),"",'COUT TVX'!I3) -> 3 | F6: ='COUT TVX'!R3 -> Z3 | H6: ='COUT TVX'!C3 -> 2009 | I6: ='COUT TVX'!D3 -> 2010 | J6: ='COUT TVX'!H3 -> IND | K6: =IFERROR((VLOOKUP(A6,'COUT GLOBAL'!A:L,9,FALSE)),"") | N6: =IF(ISBLANK(G6),"-",IF(L5<2012,"RT2005","RT2012")) -> - | X6: =IF('COUT TVX'!E3=0,"",'COUT TVX'!E3) | AE6: =IFERROR((AD6/AH6),"") | AG6: =IF('COUT TVX'!F3=0,"",'COUT TVX'!F3) | AH6: =IF('COUT TVX'!G3=0,"",'COUT TVX'!G3) | AI6: =IFERROR((AG6/AH6),"") | AJ6: ='COUT TVX'!K3 -> LOT 02 - CHARPENTE COUVERTURE | AK6: ='COUT TVX'!L3 -> CHARPENTE / COUVERTURE | AL6: ='COUT TVX'!M3 -> 76026.39 | AT6: =IFERROR((AM6/X6),"") | AU6: =IFERROR((AM6/AG6),"") | AV6: =IFERROR((AM6/AH6),"")
E7: =IF(ISBLANK('COUT TVX'!I4),"",'COUT TVX'!I4) -> 3 | F7: ='COUT TVX'!R4 -> Z3 | H7: ='COUT TVX'!C4 -> 2009 | I7: ='COUT TVX'!D4 -> 2010 | J7: ='COUT TVX'!H4 -> IND | K7: =IFERROR((VLOOKUP(A7,'COUT GLOBAL'!A:L,9,FALSE)),"") | N7: =IF(ISBLANK(G7),"-",IF(L6<2012,"RT2005","RT2012")) -> - | X7: =IF('COUT TVX'!E4=0,"",'COUT TVX'!E4) | AE7: =IFERROR((AD7/AH7),"") | AG7: =IF('COUT TVX'!F4=0,"",'COUT TVX'!F4) | AH7: =IF('COUT TVX'!G4=0,"",'COUT TVX'!G4) | AI7: =IFERROR((AG7/AH7),"") | AJ7: ='COUT TVX'!K4 -> LOT 03 - MENUISERIES EXT. PVC | AK7: ='COUT TVX'!L4 -> SECOND ŒUVRE | AL7: ='COUT TVX'!M4 -> 17996.09 | AT7: =IFERROR((AM7/X7),"") | AU7: =IFERROR((AM7/AG7),"") | AV7: =IFERROR((AM7/AH7),"")
E8: =IF(ISBLANK('COUT TVX'!I5),"",'COUT TVX'!I5) -> 3 | F8: ='COUT TVX'!R5 -> Z3 | H8: ='COUT TVX'!C5 -> 2009 | I8: ='COUT TVX'!D5 -> 2010 | J8: ='COUT TVX'!H5 -> IND | K8: =IFERROR((VLOOKUP(A8,'COUT GLOBAL'!A:L,9,FALSE)),"") | N8: =IF(ISBLANK(G8),"-",IF(L7<2012,"RT2005","RT2012")) -> - | X8: =IF('COUT TVX'!E5=0,"",'COUT TVX'!E5) | AE8: =IFERROR((AD8/AH8),"") | AG8: =IF('COUT TVX'!F5=0,"",'COUT TVX'!F5) | AH8: =IF('COUT TVX'!G5=0,"",'COUT TVX'!G5) | AI8: =IFERROR((AG8/AH8),"") | AJ8: ='COUT TVX'!K5 -> LOT 04 - PLATRERIE - FAUX PLAF | AK8: ='COUT TVX'!L5 -> SECOND ŒUVRE | AL8: ='COUT TVX'!M5 -> 56433.49 | AT8: =IFERROR((AM8/X8),"") | AU8: =IFERROR((AM8/AG8),"") | AV8: =IFERROR((AM8/AH8),"")
E9: =IF(ISBLANK('COUT TVX'!I6),"",'COUT TVX'!I6) -> 3 | F9: ='COUT TVX'!R6 -> Z3 | H9: ='COUT TVX'!C6 -> 2009 | I9: ='COUT TVX'!D6 -> 2010 | J9: ='COUT TVX'!H6 -> IND | K9: =IFERROR((VLOOKUP(A9,'COUT GLOBAL'!A:L,9,FALSE)),"") | N9: =IF(ISBLANK(G9),"-",IF(L8<2012,"RT2005","RT2012")) -> - | X9: =IF('COUT TVX'!E6=0,"",'COUT TVX'!E6) | AE9: =IFERROR((AD9/AH9),"") | AG9: =IF('COUT TVX'!F6=0,"",'COUT TVX'!F6) | AH9: =IF('COUT TVX'!G6=0,"",'COUT TVX'!G6) | AI9: =IFERROR((AG9/AH9),"") | AJ9: ='COUT TVX'!K6 -> LOT 06 - CARRELAGE - FAIENCE | AK9: ='COUT TVX'!L6 -> SECOND ŒUVRE | AL9: ='COUT TVX'!M6 -> 17930.69 | AT9: =IFERROR((AM9/X9),"") | AU9: =IFERROR((AM9/AG9),"") | AV9: =IFERROR((AM9/AH9),"")
E10: =IF(ISBLANK('COUT TVX'!I7),"",'COUT TVX'!I7) -> 3 | F10: ='COUT TVX'!R7 -> Z3 | H10: ='COUT TVX'!C7 -> 2009 | I10: ='COUT TVX'!D7 -> 2010 | J10: ='COUT TVX'!H7 -> IND | K10: =IFERROR((VLOOKUP(A10,'COUT GLOBAL'!A:L,9,FALSE)),"") | N10: =IF(ISBLANK(G10),"-",IF(L9<2012,"RT2005","RT2012")) -> - | X10: =IF('COUT TVX'!E7=0,"",'COUT TVX'!E7) | AE10: =IFERROR((AD10/AH10),"") | AG10: =IF('COUT TVX'!F7=0,"",'COUT TVX'!F7) | AH10: =IF('COUT TVX'!G7=0,"",'COUT TVX'!G7) | AI10: =IFERROR((AG10/AH10),"") | AJ10: ='COUT TVX'!K7 -> LOT 07 - ELECTRICITE | AK10: ='COUT TVX'!L7 -> ELECTRICITE / CHAUFFAGE/PLOMBERIE/VMC | AL10: ='COUT TVX'!M7 -> 26329.71 | AT10: =IFERROR((AM10/X10),"") | AU10: =IFERROR((AM10/AG10),"") | AV10: =IFERROR((AM10/AH10),"")
E11: =IF(ISBLANK('COUT TVX'!I8),"",'COUT TVX'!I8) -> 3 | F11: ='COUT TVX'!R8 -> Z3 | H11: ='COUT TVX'!C8 -> 2009 | I11: ='COUT TVX'!D8 -> 2010 | J11: ='COUT TVX'!H8 -> IND | K11: =IFERROR((VLOOKUP(A11,'COUT GLOBAL'!A:L,9,FALSE)),"") | N11: =IF(ISBLANK(G11),"-",IF(L10<2012,"RT2005","RT2012")) -> - | X11: =IF('COUT TVX'!E8=0,"",'COUT TVX'!E8) | AE11: =IFERROR((AD11/AH11),"") | AG11: =IF('COUT TVX'!F8=0,"",'COUT TVX'!F8) | AH11: =IF('COUT TVX'!G8=0,"",'COUT TVX'!G8) | AI11: =IFERROR((AG11/AH11),"") | AJ11: ='COUT TVX'!K8 -> LOT 08 - PLOMB. SAN. CHAUF. VM | AK11: ='COUT TVX'!L8 -> ELECTRICITE / CHAUFFAGE/PLOMBERIE/VMC | AL11: ='COUT TVX'!M8 -> 50066.82 | AT11: =IFERROR((AM11/X11),"") | AU11: =IFERROR((AM11/AG11),"") | AV11: =IFERROR((AM11/AH11),"")
E12: =IF(ISBLANK('COUT TVX'!I9),"",'COUT TVX'!I9) -> 3 | F12: ='COUT TVX'!R9 -> Z3 | H12: ='COUT TVX'!C9 -> 2009 | I12: ='COUT TVX'!D9 -> 2010 | J12: ='COUT TVX'!H9 -> IND | K12: =IFERROR((VLOOKUP(A12,'COUT GLOBAL'!A:L,9,FALSE)),"") | N12: =IF(ISBLANK(G12),"-",IF(L11<2012,"RT2005","RT2012")) -> - | X12: =IF('COUT TVX'!E9=0,"",'COUT TVX'!E9) | AE12: =IFERROR((AD12/AH12),"") | AG12: =IF('COUT TVX'!F9=0,"",'COUT TVX'!F9) | AH12: =IF('COUT TVX'!G9=0,"",'COUT TVX'!G9) | AI12: =IFERROR((AG12/AH12),"") | AJ12: ='COUT TVX'!K9 -> LOT 09 - PEINTURE - REVTS MURA | AK12: ='COUT TVX'!L9 -> SECOND ŒUVRE | AL12: ='COUT TVX'!M9 -> 26152.7 | AT12: =IFERROR((AM12/X12),"") | AU12: =IFERROR((AM12/AG12),"") | AV12: =IFERROR((AM12/AH12),"")
E13: =IF(ISBLANK('COUT TVX'!I10),"",'COUT TVX'!I10) -> 3 | F13: ='COUT TVX'!R10 -> Z3 | H13: ='COUT TVX'!C10 -> 2009 | I13: ='COUT TVX'!D10 -> 2010 | J13: ='COUT TVX'!H10 -> IND | K13: =IFERROR((VLOOKUP(A13,'COUT GLOBAL'!A:L,9,FALSE)),"") | N13: =IF(ISBLANK(G13),"-",IF(L12<2012,"RT2005","RT2012")) -> - | X13: =IF('COUT TVX'!E10=0,"",'COUT TVX'!E10) | AE13: =IFERROR((AD13/AH13),"") | AG13: =IF('COUT TVX'!F10=0,"",'COUT TVX'!F10) | AH13: =IF('COUT TVX'!G10=0,"",'COUT TVX'!G10) | AI13: =IFERROR((AG13/AH13),"") | AJ13: ='COUT TVX'!K10 -> LOT 10 - REVETS SOLS SOUPLES | AK13: ='COUT TVX'!L10 -> SECOND ŒUVRE | AL13: ='COUT TVX'!M10 -> 5823.2 | AT13: =IFERROR((AM13/X13),"") | AU13: =IFERROR((AM13/AG13),"") | AV13: =IFERROR((AM13/AH13),"")
E14: =IF(ISBLANK('COUT TVX'!I11),"",'COUT TVX'!I11) -> 3 | F14: ='COUT TVX'!R11 -> Z3 | H14: ='COUT TVX'!C11 -> 2009 | I14: ='COUT TVX'!D11 -> 2010 | J14: ='COUT TVX'!H11 -> IND | K14: =IFERROR((VLOOKUP(A14,'COUT GLOBAL'!A:L,9,FALSE)),"") | N14: =IF(ISBLANK(G14),"-",IF(L13<2012,"RT2005","RT2012")) -> - | X14: =IF('COUT TVX'!E11=0,"",'COUT TVX'!E11) | AE14: =IFERROR((AD14/AH14),"") | AG14: =IF('COUT TVX'!F11=0,"",'COUT TVX'!F11) | AH14: =IF('COUT TVX'!G11=0,"",'COUT TVX'!G11) | AI14: =IFERROR((AG14/AH14),"") | AJ14: ='COUT TVX'!K11 -> LOT 11 - ESPACES VERTS | AK14: ='COUT TVX'!L11 -> ESPACES VERTS | AL14: ='COUT TVX'!M11 -> 9607.82 | AT14: =IFERROR((AM14/X14),"") | AU14: =IFERROR((AM14/AG14),"") | AV14: =IFERROR((AM14/AH14),"")
E15: =IF(ISBLANK('COUT TVX'!I12),"",'COUT TVX'!I12) -> 3 | F15: ='COUT TVX'!R12 -> Z3 | H15: ='COUT TVX'!C12 -> 2009 | I15: ='COUT TVX'!D12 -> 2010 | J15: ='COUT TVX'!H12 -> IND | K15: =IFERROR((VLOOKUP(A15,'COUT GLOBAL'!A:L,9,FALSE)),"") | N15: =IF(ISBLANK(G15),"-",IF(L14<2012,"RT2005","RT2012")) -> - | X15: =IF('COUT TVX'!E12=0,"",'COUT TVX'!E12) | AE15: =IFERROR((AD15/AH15),"") | AG15: =IF('COUT TVX'!F12=0,"",'COUT TVX'!F12) | AH15: =IF('COUT TVX'!G12=0,"",'COUT TVX'!G12) | AI15: =IFERROR((AG15/AH15),"") | AJ15: ='COUT TVX'!K12 -> LOT 05 - MENUISERIES INT. BOIS | AK15: ='COUT TVX'!L12 -> SECOND ŒUVRE | AL15: ='COUT TVX'!M12 -> 27118.19 | AT15: =IFERROR((AM15/X15),"") | AU15: =IFERROR((AM15/AG15),"") | AV15: =IFERROR((AM15/AH15),"")
A16: ='COUT TVX'!A13 -> 803 | B16: ='COUT TVX'!B13 -> NOYEN SUR SARTHE LES JARDINS D | D16: NOYEN SUR SARTHE | E16: =IF(ISBLANK('COUT TVX'!I13),"",'COUT TVX'!I13) -> 6 | F16: ='COUT TVX'!R13 -> Z3 | H16: ='COUT TVX'!C13 -> 2009 | I16: ='COUT TVX'!D13 -> 2010 | J16: =IF('COUT TVX'!H13="IND","IND",IF('COUT TVX'!H13="COLL","COLL",IF('COUT TVX'!H13="INT","COL","MIXTE"))) -> MIXTE | K16: =IFERROR((VLOOKUP(A16,'COUT GLOBAL'!A:L,9,FALSE)),"") -> Locatif | N16: =IF(ISBLANK(G16),"-",IF(L15<2012,"RT2005","RT2012")) -> - | X16: =IF('COUT TVX'!E13=0,"",'COUT TVX'!E13) -> 14 | AE16: =IFERROR((AD16/AH16),"") -> 0 | AG16: =IF('COUT TVX'!F13=0,"",'COUT TVX'!F13) -> 921.39 | AH16: =IF('COUT TVX'!G13=0,"",'COUT TVX'!G13) -> 964.27 | AI16: =IFERROR((AG16/AH16),"") -> 0.95553113 | AJ16: ='COUT TVX'!K13 -> LOT 02 - G.O - FONDAT° DALLAGE | AK16: ='COUT TVX'!L13 -> GROS ŒUVRE | AL16: ='COUT TVX'!M13 -> 128122.06 | AS16: =IF(ISBLANK('COUT TVX'!Q13),"",'COUT TVX'!Q13) -> 0.055 | AT16: =IFERROR((AM16/X16),"") -> 0 | AU16: =IFERROR((AM16/AG16),"") -> 0 | AV16: =IFERROR((AM16/AH16),"") -> 0
A17: ='COUT TVX'!A14 -> 803 | B17: ='COUT TVX'!B14 -> NOYEN SUR SARTHE LES JARDINS D | E17: =IF(ISBLANK('COUT TVX'!I14),"",'COUT TVX'!I14) -> 6 | F17: ='COUT TVX'!R14 -> Z3 | H17: ='COUT TVX'!C14 -> 2009 | I17: ='COUT TVX'!D14 -> 2010 | J17: ='COUT TVX'!H14 -> I/INT | K17: =IFERROR((VLOOKUP(A17,'COUT GLOBAL'!A:L,9,FALSE)),"") -> Locatif | N17: =IF(ISBLANK(G17),"-",IF(L16<2012,"RT2005","RT2012")) -> - | X17: =IF('COUT TVX'!E14=0,"",'COUT TVX'!E14) | AE17: =IFERROR((AD17/AH17),"") | AG17: =IF('COUT TVX'!F14=0,"",'COUT TVX'!F14) | AH17: =IF('COUT TVX'!G14=0,"",'COUT TVX'!G14) | AI17: =IFERROR((AG17/AH17),"") | AJ17: ='COUT TVX'!K14 -> LOT 01 - ESPACES VERTS - CLOT. | AK17: ='COUT TVX'!L14 -> ESPACES VERTS | AL17: ='COUT TVX'!M14 -> 9544.48 | AS17: =IF(ISBLANK('COUT TVX'!Q14),"",'COUT TVX'!Q14) | AT17: =IFERROR((AM17/X17),"") | AU17: =IFERROR((AM17/AG17),"") | AV17: =IFERROR((AM17/AH17),"")
A18: ='COUT TVX'!A15 -> 803 | B18: ='COUT TVX'!B15 -> NOYEN SUR SARTHE LES JARDINS D | E18: =IF(ISBLANK('COUT TVX'!I15),"",'COUT TVX'!I15) -> 6 | F18: ='COUT TVX'!R15 -> Z3 | H18: ='COUT TVX'!C15 -> 2009 | I18: ='COUT TVX'!D15 -> 2010 | J18: ='COUT TVX'!H15 -> I/INT | K18: =IFERROR((VLOOKUP(A18,'COUT GLOBAL'!A:L,9,FALSE)),"") -> Locatif | N18: =IF(ISBLANK(G18),"-",IF(L17<2012,"RT2005","RT2012")) -> - | X18: =IF('COUT TVX'!E15=0,"",'COUT TVX'!E15) | AE18: =IFERROR((AD18/AH18),"") | AG18: =IF('COUT TVX'!F15=0,"",'COUT TVX'!F15) | AH18: =IF('COUT TVX'!G15=0,"",'COUT TVX'!G15) | AI18: =IFERROR((AG18/AH18),"") | AJ18: ='COUT TVX'!K15 -> LOT 03 - CHARP. OSSAT. BARDAGE | AK18: ='COUT TVX'!L15 -> CHARPENTE / COUVERTURE | AL18: ='COUT TVX'!M15 -> 352660.43 | AS18: =IF(ISBLANK('COUT TVX'!Q15),"",'COUT TVX'!Q15) | AT18: =IFERROR((AM18/X18),"") | AU18: =IFERROR((AM18/AG18),"") | AV18: =IFERROR((AM18/AH18),"")
A19: ='COUT TVX'!A16 -> 803 | B19: ='COUT TVX'!B16 -> NOYEN SUR SARTHE LES JARDINS D | E19: =IF(ISBLANK('COUT TVX'!I16),"",'COUT TVX'!I16) -> 6 | F19: ='COUT TVX'!R16 -> Z3 | H19: ='COUT TVX'!C16 -> 2009 | I19: ='COUT TVX'!D16 -> 2010 | J19: ='COUT TVX'!H16 -> I/INT | K19: =IFERROR((VLOOKUP(A19,'COUT GLOBAL'!A:L,9,FALSE)),"") -> Locatif | N19: =IF(ISBLANK(G19),"-",IF(L18<2012,"RT2005","RT2012")) -> - | X19: =IF('COUT TVX'!E16=0,"",'COUT TVX'!E16) | AE19: =IFERROR((AD19/AH19),"") | AG19: =IF('COUT TVX'!F16=0,"",'COUT TVX'!F16) | AH19: =IF('COUT TVX'!G16=0,"",'COUT TVX'!G16) | AI19: =IFERROR((AG19/AH19),"") | AJ19: ='COUT TVX'!K16 -> LOT 04 - COUV. TUILES BACS ACI | AK19: ='COUT TVX'!L16 -> CHARPENTE / COUVERTURE | AL19: ='COUT TVX'!M16 -> 116902.32 | AS19: =IF(ISBLANK('COUT TVX'!Q16),"",'COUT TVX'!Q16) | AT19: =IFERROR((AM19/X19),"") | AU19: =IFERROR((AM19/AG19),"") | AV19: =IFERROR((AM19/AH19),"")
A20: ='COUT TVX'!A17 -> 803 | B20: ='COUT TVX'!B17 -> NOYEN SUR SARTHE LES JARDINS D | E20: =IF(ISBLANK('COUT TVX'!I17),"",'COUT TVX'!I17) -> 6 | F20: ='COUT TVX'!R17 -> Z3 | H20: ='COUT TVX'!C17 -> 2009 | I20: ='COUT TVX'!D17 -> 2010 | J20: ='COUT TVX'!H17 -> I/INT | K20: =IFERROR((VLOOKUP(A20,'COUT GLOBAL'!A:L,9,FALSE)),"") -> Locatif | N20: =IF(ISBLANK(G20),"-",IF(L19<2012,"RT2005","RT2012")) -> - | X20: =IF('COUT TVX'!E17=0,"",'COUT TVX'!E17) | AE20: =IFERROR((AD20/AH20),"") | AG20: =IF('COUT TVX'!F17=0,"",'COUT TVX'!F17) | AH20: =IF('COUT TVX'!G17=0,"",'COUT TVX'!G17) | AI20: =IFERROR((AG20/AH20),"") | AJ20: ='COUT TVX'!K17 -> LOT 05 - MEN. EXT PVC & METAL | AK20: ='COUT TVX'!L17 -> SECOND ŒUVRE | AL20: ='COUT TVX'!M17 -> 49116.96 | AS20: =IF(ISBLANK('COUT TVX'!Q17),"",'COUT TVX'!Q17) | AT20: =IFERROR((AM20/X20),"") | AU20: =IFERROR((AM20/AG20),"") | AV20: =IFERROR((AM20/AH20),"")
A21: ='COUT TVX'!A18 -> 803 | B21: ='COUT TVX'!B18 -> NOYEN SUR SARTHE LES JARDINS D | E21: =IF(ISBLANK('COUT TVX'!I18),"",'COUT TVX'!I18) -> 6 | F21: ='COUT TVX'!R18 -> Z3 | H21: ='COUT TVX'!C18 -> 2009 | I21: ='COUT TVX'!D18 -> 2010 | J21: ='COUT TVX'!H18 -> I/INT | K21: =IFERROR((VLOOKUP(A21,'COUT GLOBAL'!A:L,9,FALSE)),"") -> Locatif | N21: =IF(ISBLANK(G21),"-",IF(L20<2012,"RT2005","RT2012")) -> - | X21: =IF('COUT TVX'!E18=0,"",'COUT TVX'!E18) | AE21: =IFERROR((AD21/AH21),"") | AG21: =IF('COUT TVX'!F18=0,"",'COUT TVX'!F18) | AH21: =IF('COUT TVX'!G18=0,"",'COUT TVX'!G18) | AI21: =IFERROR((AG21/AH21),"") | AJ21: ='COUT TVX'!K18 -> LOT 06 - SERRURERIE - MEN. BOI | AK21: ='COUT TVX'!L18 -> SECOND ŒUVRE | AL21: ='COUT TVX'!M18 -> 45983.85 | AS21: =IF(ISBLANK('COUT TVX'!Q18),"",'COUT TVX'!Q18) | AT21: =IFERROR((AM21/X21),"") | AU21: =IFERROR((AM21/AG21),"") | AV21: =IFERROR((AM21/AH21),"")
A22: ='COUT TVX'!A19 -> 803 | B22: ='COUT TVX'!B19 -> NOYEN SUR SARTHE LES JARDINS D | E22: =IF(ISBLANK('COUT TVX'!I19),"",'COUT TVX'!I19) -> 6 | F22: ='COUT TVX'!R19 -> Z3 | H22: ='COUT TVX'!C19 -> 2009 | I22: ='COUT TVX'!D19 -> 2010 | J22: ='COUT TVX'!H19 -> I/INT | K22: =IFERROR((VLOOKUP(A22,'COUT GLOBAL'!A:L,9,FALSE)),"") -> Locatif | N22: =IF(ISBLANK(G22),"-",IF(L21<2012,"RT2005","RT2012")) -> - | X22: =IF('COUT TVX'!E19=0,"",'COUT TVX'!E19) | AE22: =IFERROR((AD22/AH22),"") | AG22: =IF('COUT TVX'!F19=0,"",'COUT TVX'!F19) | AH22: =IF('COUT TVX'!G19=0,"",'COUT TVX'!G19) | AI22: =IFERROR((AG22/AH22),"") | AJ22: ='COUT TVX'!K19 -> LOT 07 - PLATRERIE SECHE | AK22: ='COUT TVX'!L19 -> SECOND ŒUVRE | AL22: ='COUT TVX'!M19 -> 102769.42 | AS22: =IF(ISBLANK('COUT TVX'!Q19),"",'COUT TVX'!Q19) | AT22: =IFERROR((AM22/X22),"") | AU22: =IFERROR((AM22/AG22),"") | AV22: =IFERROR((AM22/AH22),"")
A23: ='COUT TVX'!A20 -> 803 | B23: ='COUT TVX'!B20 -> NOYEN SUR SARTHE LES JARDINS D | E23: =IF(ISBLANK('COUT TVX'!I20),"",'COUT TVX'!I20) -> 6 | F23: ='COUT TVX'!R20 -> Z3 | H23: ='COUT TVX'!C20 -> 2009 | I23: ='COUT TVX'!D20 -> 2010 | J23: ='COUT TVX'!H20 -> I/INT | K23: =IFERROR((VLOOKUP(A23,'COUT GLOBAL'!A:L,9,FALSE)),"") -> Locatif | N23: =IF(ISBLANK(G23),"-",IF(L22<2012,"RT2005","RT2012")) -> - | X23: =IF('COUT TVX'!E20=0,"",'COUT TVX'!E20) | AE23: =IFERROR((AD23/AH23),"") | AG23: =IF('COUT TVX'!F20=0,"",'COUT TVX'!F20) | AH23: =IF('COUT TVX'!G20=0,"",'COUT TVX'!G20) | AI23: =IFERROR((AG23/AH23),"") | AJ23: ='COUT TVX'!K20 -> LOT 08 - CARRELAGE - FAIENCE | AK23: ='COUT TVX'!L20 -> SECOND ŒUVRE | AL23: ='COUT TVX'!M20 -> 33630.28 | AS23: =IF(ISBLANK('COUT TVX'!Q20),"",'COUT TVX'!Q20) | AT23: =IFERROR((AM23/X23),"") | AU23: =IFERROR((AM23/AG23),"") | AV23: =IFERROR((AM23/AH23),"")
A24: ='COUT TVX'!A21 -> 803 | B24: ='COUT TVX'!B21 -> NOYEN SUR SARTHE LES JARDINS D | E24: =IF(ISBLANK('COUT TVX'!I21),"",'COUT TVX'!I21) -> 6 | F24: ='COUT TVX'!R21 -> Z3 | H24: ='COUT TVX'!C21 -> 2009 | I24: ='COUT TVX'!D21 -> 2010 | J24: ='COUT TVX'!H21 -> I/INT | K24: =IFERROR((VLOOKUP(A24,'COUT GLOBAL'!A:L,9,FALSE)),"") -> Locatif | N24: =IF(ISBLANK(G24),"-",IF(L23<2012,"RT2005","RT2012")) -> - | X24: =IF('COUT TVX'!E21=0,"",'COUT TVX'!E21) | AE24: =IFERROR((AD24/AH24),"") | AG24: =IF('COUT TVX'!F21=0,"",'COUT TVX'!F21) | AH24: =IF('COUT TVX'!G21=0,"",'COUT TVX'!G21) | AI24: =IFERROR((AG24/AH24),"") | AJ24: ='COUT TVX'!K21 -> LOT 9 - SOLS SOUPLES / PEINT. | AK24: ='COUT TVX'!L21 -> SECOND ŒUVRE | AL24: ='COUT TVX'!M21 -> 57158.15 | AS24: =IF(ISBLANK('COUT TVX'!Q21),"",'COUT TVX'!Q21) | AT24: =IFERROR((AM24/X24),"") | AU24: =IFERROR((AM24/AG24),"") | AV24: =IFERROR((AM24/AH24),"")
A25: ='COUT TVX'!A22 -> 803 | B25: ='COUT TVX'!B22 -> NOYEN SUR SARTHE LES JARDINS D | E25: =IF(ISBLANK('COUT TVX'!I22),"",'COUT TVX'!I22) -> 6 | F25: ='COUT TVX'!R22 -> Z3 | H25: ='COUT TVX'!C22 -> 2009 | I25: ='COUT TVX'!D22 -> 2010 | J25: ='COUT TVX'!H22 -> I/INT | K25: =IFERROR((VLOOKUP(A25,'COUT GLOBAL'!A:L,9,FALSE)),"") -> Locatif | N25: =IF(ISBLANK(G25),"-",IF(L24<2012,"RT2005","RT2012")) -> - | X25: =IF('COUT TVX'!E22=0,"",'COUT TVX'!E22) | AE25: =IFERROR((AD25/AH25),"") | AG25: =IF('COUT TVX'!F22=0,"",'COUT TVX'!F22) | AH25: =IF('COUT TVX'!G22=0,"",'COUT TVX'!G22) | AI25: =IFERROR((AG25/AH25),"") | AJ25: ='COUT TVX'!K22 -> LOT 10 - PLOMBERIE SANITAIRES | AK25: ='COUT TVX'!L22 -> ELECTRICITE / CHAUFFAGE/PLOMBERIE/VMC | AL25: ='COUT TVX'!M22 -> 48768 | AS25: =IF(ISBLANK('COUT TVX'!Q22),"",'COUT TVX'!Q22) | AT25: =IFERROR((AM25/X25),"") | AU25: =IFERROR((AM25/AG25),"") | AV25: =IFERROR((AM25/AH25),"")
A26: ='COUT TVX'!A23 -> 803 | B26: ='COUT TVX'!B23 -> NOYEN SUR SARTHE LES JARDINS D | E26: =IF(ISBLANK('COUT TVX'!I23),"",'COUT TVX'!I23) -> 6 | F26: ='COUT TVX'!R23 -> Z3 | H26: ='COUT TVX'!C23 -> 2009 | I26: ='COUT TVX'!D23 -> 2010 | J26: ='COUT TVX'!H23 -> I/INT | K26: =IFERROR((VLOOKUP(A26,'COUT GLOBAL'!A:L,9,FALSE)),"") -> Locatif | N26: =IF(ISBLANK(G26),"-",IF(L25<2012,"RT2005","RT2012")) -> - | X26: =IF('COUT TVX'!E23=0,"",'COUT TVX'!E23) | AE26: =IFERROR((AD26/AH26),"") | AG26: =IF('COUT TVX'!F23=0,"",'COUT TVX'!F23) | AH26: =IF('COUT TVX'!G23=0,"",'COUT TVX'!G23) | AI26: =IFERROR((AG26/AH26),"") | AJ26: ='COUT TVX'!K23 -> LOT 11 - ELEC- CHAUFFAGE - VMC | AK26: ='COUT TVX'!L23 -> ELECTRICITE / CHAUFFAGE/PLOMBERIE/VMC | AL26: ='COUT TVX'!M23 -> 71779.28 | AS26: =IF(ISBLANK('COUT TVX'!Q23),"",'COUT TVX'!Q23) | AT26: =IFERROR((AM26/X26),"") | AU26: =IFERROR((AM26/AG26),"") | AV26: =IFERROR((AM26/AH26),"")
A27: ='COUT TVX'!A24 -> 804 | B27: ='COUT TVX'!B24 -> LHOMME LOT.L'AIGUILLE | D27: LHOMME | E27: =IF(ISBLANK('COUT TVX'!I24),"",'COUT TVX'!I24) -> 3 | F27: ='COUT TVX'!R24 -> Z3 | H27: ='COUT TVX'!C24 -> 2009 | I27: ='COUT TVX'!D24 -> 2010 | J27: =IF('COUT TVX'!H24="IND","IND",IF('COUT TVX'!H24="COLL","COLL",IF('COUT TVX'!H24="INT","COL","MIXTE"))) -> IND | K27: =IFERROR((VLOOKUP(A27,'COUT GLOBAL'!A:L,9,FALSE)),"") -> Locatif | N27: =IF(ISBLANK(G27),"-",IF(L26<2012,"RT2005","RT2012")) -> - | X27: =IF('COUT TVX'!E24=0,"",'COUT TVX'!E24) -> 7 | AE27: =IFERROR((AD27/AH27),"") -> 0 | AG27: =IF('COUT TVX'!F24=0,"",'COUT TVX'!F24) -> 525.02 | AH27: =IF('COUT TVX'!G24=0,"",'COUT TVX'!G24) -> 550.6 | AI27: =IFERROR((AG27/AH27),"") -> 0.95354159 | AJ27: ='COUT TVX'!K24 -> LOT 01 - GROS-OEUVRE | AK27: ='COUT TVX'!L24 -> GROS ŒUVRE | AL27: ='COUT TVX'!M24 -> 223377.5 | AS27: =IF(ISBLANK('COUT TVX'!Q24),"",'COUT TVX'!Q24) -> 0.055 | AT27: =IFERROR((AM27/X27),"") -> 0 | AU27: =IFERROR((AM27/AG27),"") -> 0 | AV27: =IFERROR((AM27/AH27),"") -> 0
A28: ='COUT TVX'!A25 -> 804 | B28: ='COUT TVX'!B25 -> LHOMME LOT.L'AIGUILLE | E28: =IF(ISBLANK('COUT TVX'!I25),"",'COUT TVX'!I25) -> 3 | F28: ='COUT TVX'!R25 -> Z3 | H28: ='COUT TVX'!C25 -> 2009 | I28: ='COUT TVX'!D25 -> 2010 | J28: =IF('COUT TVX'!H25="IND","IND",IF('COUT TVX'!H25="COLL","COLL",IF('COUT TVX'!H25="INT","COL","MIXTE"))) -> IND | K28: =IFERROR((VLOOKUP(A28,'COUT GLOBAL'!A:L,9,FALSE)),"") -> Locatif | N28: =IF(ISBLANK(G28),"-",IF(L27<2012,"RT2005","RT2012")) -> - | X28: =IF('COUT TVX'!E25=0,"",'COUT TVX'!E25) | AE28: =IFERROR((AD28/AH28),"") | AG28: =IF('COUT TVX'!F25=0,"",'COUT TVX'!F25) | AH28: =IF('COUT TVX'!G25=0,"",'COUT TVX'!G25) | AI28: =IFERROR((AG28/AH28),"") | AJ28: ='COUT TVX'!K25 -> LOT 02 - CHARPENTE COUVERTURE | AK28: ='COUT TVX'!L25 -> CHARPENTE / COUVERTURE | AL28: ='COUT TVX'!M25 -> 103584.28 | AS28: =IF(ISBLANK('COUT TVX'!Q25),"",'COUT TVX'!Q25) | AT28: =IFERROR((AM28/X28),"") | AU28: =IFERROR((AM28/AG28),"") | AV28: =IFERROR((AM28/AH28),"")
A29: ='COUT TVX'!A26 -> 804 | B29: ='COUT TVX'!B26 -> LHOMME LOT.L'AIGUILLE | E29: =IF(ISBLANK('COUT TVX'!I26),"",'COUT TVX'!I26) -> 3 | F29: ='COUT TVX'!R26 -> Z3 | H29: ='COUT TVX'!C26 -> 2009 | I29: ='COUT TVX'!D26 -> 2010 | J29: =IF('COUT TVX'!H26="IND","IND",IF('COUT TVX'!H26="COLL","COLL",IF('COUT TVX'!H26="INT","COL","MIXTE"))) -> IND | K29: =IFERROR((VLOOKUP(A29,'COUT GLOBAL'!A:L,9,FALSE)),"") -> Locatif | N29: =IF(ISBLANK(G29),"-",IF(L28<2012,"RT2005","RT2012")) -> - | X29: =IF('COUT TVX'!E26=0,"",'COUT TVX'!E26) | AE29: =IFERROR((AD29/AH29),"") | AG29: =IF('COUT TVX'!F26=0,"",'COUT TVX'!F26) | AH29: =IF('COUT TVX'!G26=0,"",'COUT TVX'!G26) | AI29: =IFERROR((AG29/AH29),"") | AJ29: ='COUT TVX'!K26 -> LOT 03 - ETANCHEITE | AK29: ='COUT TVX'!L26 -> CHARPENTE / COUVERTURE | AL29: ='COUT TVX'!M26 -> 8878.05 | AS29: =IF(ISBLANK('COUT TVX'!Q26),"",'COUT TVX'!Q26) | AT29: =IFERROR((AM29/X29),"") | AU29: =IFERROR((AM29/AG29),"") | AV29: =IFERROR((AM29/AH29),"")
A30: ='COUT TVX'!A27 -> 804 | B30: ='COUT TVX'!B27 -> LHOMME LOT.L'AIGUILLE | E30: =IF(ISBLANK('COUT TVX'!I27),"",'COUT TVX'!I27) -> 3 | F30: ='COUT TVX'!R27 -> Z3 | H30: ='COUT TVX'!C27 -> 2009 | I30: ='COUT TVX'!D27 -> 2010 | J30: =IF('COUT TVX'!H27="IND","IND",IF('COUT TVX'!H27="COLL","COLL",IF('COUT TVX'!H27="INT","COL","MIXTE"))) -> IND | K30: =IFERROR((VLOOKUP(A30,'COUT GLOBAL'!A:L,9,FALSE)),"") -> Locatif | N30: =IF(ISBLANK(G30),"-",IF(L29<2012,"RT2005","RT2012")) -> - | X30: =IF('COUT TVX'!E27=0,"",'COUT TVX'!E27) | AE30: =IFERROR((AD30/AH30),"") | AG30: =IF('COUT TVX'!F27=0,"",'COUT TVX'!F27) | AH30: =IF('COUT TVX'!G27=0,"",'COUT TVX'!G27) | AI30: =IFERROR((AG30/AH30),"") | AJ30: ='COUT TVX'!K27 -> LOT 04 - MENUISERIES PVC - ALU | AK30: ='COUT TVX'!L27 -> SECOND ŒUVRE | AL30: ='COUT TVX'!M27 -> 29403.78 | AS30: =IF(ISBLANK('COUT TVX'!Q27),"",'COUT TVX'!Q27) | AT30: =IFERROR((AM30/X30),"") | AU30: =IFERROR((AM30/AG30),"") | AV30: =IFERROR((AM30/AH30),"")
A31: ='COUT TVX'!A28 -> 804 | B31: ='COUT TVX'!B28 -> LHOMME LOT.L'AIGUILLE | E31: =IF(ISBLANK('COUT TVX'!I28),"",'COUT TVX'!I28) -> 3 | F31: ='COUT TVX'!R28 -> Z3 | H31: ='COUT TVX'!C28 -> 2009 | I31: ='COUT TVX'!D28 -> 2010 | J31: =IF('COUT TVX'!H28="IND","IND",IF('COUT TVX'!H28="COLL","COLL",IF('COUT TVX'!H28="INT","COL","MIXTE"))) -> IND | K31: =IFERROR((VLOOKUP(A31,'COUT GLOBAL'!A:L,9,FALSE)),"") -> Locatif | N31: =IF(ISBLANK(G31),"-",IF(L30<2012,"RT2005","RT2012")) -> - | X31: =IF('COUT TVX'!E28=0,"",'COUT TVX'!E28) | AE31: =IFERROR((AD31/AH31),"") | AG31: =IF('COUT TVX'!F28=0,"",'COUT TVX'!F28) | AH31: =IF('COUT TVX'!G28=0,"",'COUT TVX'!G28) | AI31: =IFERROR((AG31/AH31),"") | AJ31: ='COUT TVX'!K28 -> LOT 05 - MENUISERIES BOIS | AK31: ='COUT TVX'!L28 -> SECOND ŒUVRE | AL31: ='COUT TVX'!M28 -> 20237.23 | AS31: =IF(ISBLANK('COUT TVX'!Q28),"",'COUT TVX'!Q28) | AT31: =IFERROR((AM31/X31),"") | AU31: =IFERROR((AM31/AG31),"") | AV31: =IFERROR((AM31/AH31),"")
A32: ='COUT TVX'!A29 -> 804 | B32: ='COUT TVX'!B29 -> LHOMME LOT.L'AIGUILLE | E32: =IF(ISBLANK('COUT TVX'!I29),"",'COUT TVX'!I29) -> 3 | F32: ='COUT TVX'!R29 -> Z3 | H32: ='COUT TVX'!C29 -> 2009 | I32: ='COUT TVX'!D29 -> 2010 | J32: =IF('COUT TVX'!H29="IND","IND",IF('COUT TVX'!H29="COLL","COLL",IF('COUT TVX'!H29="INT","COL","MIXTE"))) -> IND | K32: =IFERROR((VLOOKUP(A32,'COUT GLOBAL'!A:L,9,FALSE)),"") -> Locatif | N32: =IF(ISBLANK(G32),"-",IF(L31<2012,"RT2005","RT2012")) -> - | X32: =IF('COUT TVX'!E29=0,"",'COUT TVX'!E29) | AE32: =IFERROR((AD32/AH32),"") | AG32: =IF('COUT TVX'!F29=0,"",'COUT TVX'!F29) | AH32: =IF('COUT TVX'!G29=0,"",'COUT TVX'!G29) | AI32: =IFERROR((AG32/AH32),"") | AJ32: ='COUT TVX'!K29 -> LOT 06 - PLATRERIE SECHE - ISO | AK32: ='COUT TVX'!L29 -> SECOND ŒUVRE | AL32: ='COUT TVX'!M29 -> 66629.68 | AS32: =IF(ISBLANK('COUT TVX'!Q29),"",'COUT TVX'!Q29) | AT32: =IFERROR((AM32/X32),"") | AU32: =IFERROR((AM32/AG32),"") | AV32: =IFERROR((AM32/AH32),"")
A33: ='COUT TVX'!A30 -> 804 | B33: ='COUT TVX'!B30 -> LHOMME LOT.L'AIGUILLE | E33: =IF(ISBLANK('COUT TVX'!I30),"",'COUT TVX'!I30) -> 3 | F33: ='COUT TVX'!R30 -> Z3 | H33: ='COUT TVX'!C30 -> 2009 | I33: ='COUT TVX'!D30 -> 2010 | J33: =IF('COUT TVX'!H30="IND","IND",IF('COUT TVX'!H30="COLL","COLL",IF('COUT TVX'!H30="INT","COL","MIXTE"))) -> IND | K33: =IFERROR((VLOOKUP(A33,'COUT GLOBAL'!A:L,9,FALSE)),"") -> Locatif | N33: =IF(ISBLANK(G33),"-",IF(L32<2012,"RT2005","RT2012")) -> - | X33: =IF('COUT TVX'!E30=0,"",'COUT TVX'!E30) | AE33: =IFERROR((AD33/AH33),"") | AG33: =IF('COUT TVX'!F30=0,"",'COUT TVX'!F30) | AH33: =IF('COUT TVX'!G30=0,"",'COUT TVX'!G30) | AI33: =IFERROR((AG33/AH33),"") | AJ33: ='COUT TVX'!K30 -> LOT 07 - ELEC. -CHAUF. ELEC - | AK33: ='COUT TVX'!L30 -> ELECTRICITE / CHAUFFAGE/PLOMBERIE/VMC | AL33: ='COUT TVX'!M30 -> 41434.06 | AS33: =IF(ISBLANK('COUT TVX'!Q30),"",'COUT TVX'!Q30) | AT33: =IFERROR((AM33/X33),"") | AU33: =IFERROR((AM33/AG33),"") | AV33: =IFERROR((AM33/AH33),"")
A34: ='COUT TVX'!A31 -> 804 | B34: ='COUT TVX'!B31 -> LHOMME LOT.L'AIGUILLE | E34: =IF(ISBLANK('COUT TVX'!I31),"",'COUT TVX'!I31) -> 3 | F34: ='COUT TVX'!R31 -> Z3 | H34: ='COUT TVX'!C31 -> 2009 | I34: ='COUT TVX'!D31 -> 2010 | J34: =IF('COUT TVX'!H31="IND","IND",IF('COUT TVX'!H31="COLL","COLL",IF('COUT TVX'!H31="INT","COL","MIXTE"))) -> IND | K34: =IFERROR((VLOOKUP(A34,'COUT GLOBAL'!A:L,9,FALSE)),"") -> Locatif | N34: =IF(ISBLANK(G34),"-",IF(L33<2012,"RT2005","RT2012")) -> - | X34: =IF('COUT TVX'!E31=0,"",'COUT TVX'!E31) | AE34: =IFERROR((AD34/AH34),"") | AG34: =IF('COUT TVX'!F31=0,"",'COUT TVX'!F31) | AH34: =IF('COUT TVX'!G31=0,"",'COUT TVX'!G31) | AI34: =IFERROR((AG34/AH34),"") | AJ34: ='COUT TVX'!K31 -> LOT 08 - PLOMBERIE SANITAIRES | AK34: ='COUT TVX'!L31 -> ELECTRICITE / CHAUFFAGE/PLOMBERIE/VMC | AL34: ='COUT TVX'!M31 -> 32227.47 | AS34: =IF(ISBLANK('COUT TVX'!Q31),"",'COUT TVX'!Q31) | AT34: =IFERROR((AM34/X34),"") | AU34: =IFERROR((AM34/AG34),"") | AV34: =IFERROR((AM34/AH34),"")
A35: ='COUT TVX'!A32 -> 804 | B35: ='COUT TVX'!B32 -> LHOMME LOT.L'AIGUILLE | E35: =IF(ISBLANK('COUT TVX'!I32),"",'COUT TVX'!I32) -> 3 | F35: ='COUT TVX'!R32 -> Z3 | H35: ='COUT TVX'!C32 -> 2009 | I35: ='COUT TVX'!D32 -> 2010 | J35: =IF('COUT TVX'!H32="IND","IND",IF('COUT TVX'!H32="COLL","COLL",IF('COUT TVX'!H32="INT","COL","MIXTE"))) -> IND | K35: =IFERROR((VLOOKUP(A35,'COUT GLOBAL'!A:L,9,FALSE)),"") -> Locatif | N35: =IF(ISBLANK(G35),"-",IF(L34<2012,"RT2005","RT2012")) -> - | X35: =IF('COUT TVX'!E32=0,"",'COUT TVX'!E32) | AE35: =IFERROR((AD35/AH35),"") | AG35: =IF('COUT TVX'!F32=0,"",'COUT TVX'!F32) | AH35: =IF('COUT TVX'!G32=0,"",'COUT TVX'!G32) | AI35: =IFERROR((AG35/AH35),"") | AJ35: ='COUT TVX'!K32 -> LOT 09 - CARRELAGE FAIENCE | AK35: ='COUT TVX'!L32 -> SECOND ŒUVRE | AL35: ='COUT TVX'!M32 -> 27350.19 | AS35: =IF(ISBLANK('COUT TVX'!Q32),"",'COUT TVX'!Q32) | AT35: =IFERROR((AM35/X35),"") | AU35: =IFERROR((AM35/AG35),"") | AV35: =IFERROR((AM35/AH35),"")
A36: ='COUT TVX'!A33 -> 804 | B36: ='COUT TVX'!B33 -> LHOMME LOT.L'AIGUILLE | E36: =IF(ISBLANK('COUT TVX'!I33),"",'COUT TVX'!I33) -> 3 | F36: ='COUT TVX'!R33 -> Z3 | H36: ='COUT TVX'!C33 -> 2009 | I36: ='COUT TVX'!D33 -> 2010 | J36: =IF('COUT TVX'!H33="IND","IND",IF('COUT TVX'!H33="COLL","COLL",IF('COUT TVX'!H33="INT","COL","MIXTE"))) -> IND | K36: =IFERROR((VLOOKUP(A36,'COUT GLOBAL'!A:L,9,FALSE)),"") -> Locatif | N36: =IF(ISBLANK(G36),"-",IF(L35<2012,"RT2005","RT2012")) -> - | X36: =IF('COUT TVX'!E33=0,"",'COUT TVX'!E33) | AE36: =IFERROR((AD36/AH36),"") | AG36: =IF('COUT TVX'!F33=0,"",'COUT TVX'!F33) | AH36: =IF('COUT TVX'!G33=0,"",'COUT TVX'!G33) | AI36: =IFERROR((AG36/AH36),"") | AJ36: ='COUT TVX'!K33 -> LOT 10 - SOLS MINCES - PEINTUR | AK36: ='COUT TVX'!L33 -> SECOND ŒUVRE | AL36: ='COUT TVX'!M33 -> 29397.45 | AS36: =IF(ISBLANK('COUT TVX'!Q33),"",'COUT TVX'!Q33) | AT36: =IFERROR((AM36/X36),"") | AU36: =IFERROR((AM36/AG36),"") | AV36: =IFERROR((AM36/AH36),"")
A37: ='COUT TVX'!A34 -> 2502 | B37: ='COUT TVX'!B34 -> MONTFORT LE GESNOIS RES DE LA | D37: MONFORT LE GESNOIS | E37: =IF(ISBLANK('COUT TVX'!I34),"",'COUT TVX'!I34) -> 1 | F37: ='COUT TVX'!R34 -> Z3 | H37: ='COUT TVX'!C34 -> 2009 | I37: ='COUT TVX'!D34 -> 2010 | J37: =IF('COUT TVX'!H34="IND","IND",IF('COUT TVX'!H34="COLL","COLL",IF('COUT TVX'!H34="INT","COL","MIXTE"))) -> MIXTE | K37: =IFERROR((VLOOKUP(A37,'COUT GLOBAL'!A:L,9,FALSE)),"") -> Locatif | N37: =IF(ISBLANK(G37),"-",IF(L36<2012,"RT2005","RT2012")) -> - | X37: =IF('COUT TVX'!E34=0,"",'COUT TVX'!E34) -> 20 | AE37: =IFERROR((AD37/AH37),"") -> 0 | AG37: =IF('COUT TVX'!F34=0,"",'COUT TVX'!F34) -> 1342.13 | AH37: =IF('COUT TVX'!G34=0,"",'COUT TVX'!G34) -> 1426.67 | AI37: =IFERROR((AG37/AH37),"") -> 0.94074313 | AJ37: ='COUT TVX'!K34 -> LOT 01 - TERRAS. - G.O. - RAVA | AK37: ='COUT TVX'!L34 -> GROS ŒUVRE | AL37: ='COUT TVX'!M34 -> 713312.16 | AS37: =IF(ISBLANK('COUT TVX'!Q34),"",'COUT TVX'!Q34) -> 0.055 | AT37: =IFERROR((AM37/X37),"") -> 0 | AU37: =IFERROR((AM37/AG37),"") -> 0 | AV37: =IFERROR((AM37/AH37),"") -> 0
A38: ='COUT TVX'!A35 -> 2502 | B38: ='COUT TVX'!B35 -> MONTFORT LE GESNOIS RES DE LA | E38: =IF(ISBLANK('COUT TVX'!I35),"",'COUT TVX'!I35) -> 1 | F38: ='COUT TVX'!R35 -> Z3 | H38: ='COUT TVX'!C35 -> 2009 | I38: ='COUT TVX'!D35 -> 2010 | J38: =IF('COUT TVX'!H35="IND","IND",IF('COUT TVX'!H35="COLL","COLL",IF('COUT TVX'!H35="INT","COL","MIXTE"))) -> MIXTE | K38: =IFERROR((VLOOKUP(A38,'COUT GLOBAL'!A:L,9,FALSE)),"") -> Locatif | N38: =IF(ISBLANK(G38),"-",IF(L37<2012,"RT2005","RT2012")) -> - | X38: =IF('COUT TVX'!E35=0,"",'COUT TVX'!E35) | AE38: =IFERROR((AD38/AH38),"") | AG38: =IF('COUT TVX'!F35=0,"",'COUT TVX'!F35) | AH38: =IF('COUT TVX'!G35=0,"",'COUT TVX'!G35) | AI38: =IFERROR((AG38/AH38),"") | AJ38: ='COUT TVX'!K35 -> LOT 02 - CHARPENTE BOIS | AK38: ='COUT TVX'!L35 -> CHARPENTE / COUVERTURE | AL38: ='COUT TVX'!M35 -> 48779.88 | AS38: =IF(ISBLANK('COUT TVX'!Q35),"",'COUT TVX'!Q35) | AT38: =IFERROR((AM38/X38),"") | AU38: =IFERROR((AM38/AG38),"") | AV38: =IFERROR((AM38/AH38),"")
A39: ='COUT TVX'!A36 -> 2502 | B39: ='COUT TVX'!B36 -> MONTFORT LE GESNOIS RES DE LA | E39: =IF(ISBLANK('COUT TVX'!I36),"",'COUT TVX'!I36) -> 1 | F39: ='COUT TVX'!R36 -> Z3 | H39: ='COUT TVX'!C36 -> 2009 | I39: ='COUT TVX'!D36 -> 2010 | J39: =IF('COUT TVX'!H36="IND","IND",IF('COUT TVX'!H36="COLL","COLL",IF('COUT TVX'!H36="INT","COL","MIXTE"))) -> MIXTE | K39: =IFERROR((VLOOKUP(A39,'COUT GLOBAL'!A:L,9,FALSE)),"") -> Locatif | N39: =IF(ISBLANK(G39),"-",IF(L38<2012,"RT2005","RT2012")) -> - | X39: =IF('COUT TVX'!E36=0,"",'COUT TVX'!E36) | AE39: =IFERROR((AD39/AH39),"") | AG39: =IF('COUT TVX'!F36=0,"",'COUT TVX'!F36) | AH39: =IF('COUT TVX'!G36=0,"",'COUT TVX'!G36) | AI39: =IFERROR((AG39/AH39),"") | AJ39: ='COUT TVX'!K36 -> LOT 03 - COUVERTURE TUILES | AK39: ='COUT TVX'!L36 -> CHARPENTE / COUVERTURE | AL39: ='COUT TVX'!M36 -> 119238.6 | AS39: =IF(ISBLANK('COUT TVX'!Q36),"",'COUT TVX'!Q36) | AT39: =IFERROR((AM39/X39),"") | AU39: =IFERROR((AM39/AG39),"") | AV39: =IFERROR((AM39/AH39),"")
A40: ='COUT TVX'!A37 -> 2502 | B40: ='COUT TVX'!B37 -> MONTFORT LE GESNOIS RES DE LA | E40: =IF(ISBLANK('COUT TVX'!I37),"",'COUT TVX'!I37) -> 1 | F40: ='COUT TVX'!R37 -> Z3 | H40: ='COUT TVX'!C37 -> 2009 | I40: ='COUT TVX'!D37 -> 2010 | J40: =IF('COUT TVX'!H37="IND","IND",IF('COUT TVX'!H37="COLL","COLL",IF('COUT TVX'!H37="INT","COL","MIXTE"))) -> MIXTE | K40: =IFERROR((VLOOKUP(A40,'COUT GLOBAL'!A:L,9,FALSE)),"") -> Locatif | N40: =IF(ISBLANK(G40),"-",IF(L39<2012,"RT2005","RT2012")) -> - | X40: =IF('COUT TVX'!E37=0,"",'COUT TVX'!E37) | AE40: =IFERROR((AD40/AH40),"") | AG40: =IF('COUT TVX'!F37=0,"",'COUT TVX'!F37) | AH40: =IF('COUT TVX'!G37=0,"",'COUT TVX'!G37) | AI40: =IFERROR((AG40/AH40),"") | AJ40: ='COUT TVX'!K37 -> LOT 04 - MENUISERIES EXT. PVC | AK40: ='COUT TVX'!L37 -> SECOND ŒUVRE | AL40: ='COUT TVX'!M37 -> 89192.64 | AS40: =IF(ISBLANK('COUT TVX'!Q37),"",'COUT TVX'!Q37) | AT40: =IFERROR((AM40/X40),"") | AU40: =IFERROR((AM40/AG40),"") | AV40: =IFERROR((AM40/AH40),"")
...

Sheet TCD
A1: Étiquettes de lignes | B1: Nombre de Libéllé du programme
A2: 768 | B2: 14
A3: CHAMPAGNE RUE DES MARAICHERS | B3: 14
A4: 774 | B4: 17
A5: SAINT GEORGES DU BOIS | B5: 17
A6: 799 | B6: 12
A7: SAVIGNE L EVEQUE | B7: 12
A8: 800 | B8: 1
A9: SAINT GERVAIS EN BELIN | B9: 1
A10: 802 | B10: 12
A11: BAZOUGES SUR LE LOIR RUE DU RU | B11: 12
A12: 803 | B12: 11
A13: NOYEN SUR SARTHE LES JARDINS D | B13: 11
A14: 804 | B14: 10
A15: LHOMME LOT.L'AIGUILLE | B15: 10
A16: 808 | B16: 13
A17: MAYET | B17: 13
A18: 810 | B18: 11
A19: MONTBIZOT LES HOTELLERIES | B19: 11
A20: 812 | B20: 10
A21: LA FRESNAYE SUR CHEDOUET RESID | B21: 10
A22: 814 | B22: 16
A23: SAINT GEORGES DU BOIS ALLEE DE | B23: 16
A24: 819 | B24: 12
A25: CONNERRE COUR LYAUTEY | B25: 12
A26: 828 | B26: 16
A27: SARGE LES LE MANS RUE PUITS LA | B27: 16
A28: 829 | B28: 14
A29: SARGE LES LE MANS CONST 14 LOGTS | B29: 14
A30: 830 | B30: 12
A31: LA CHAPELLE SAINT AUBIN RUE DE | B31: 12
A32: 831 | B32: 12
A33: LA CHAPELLE SAINT AUBIN PLACE | B33: 12
A34: 832 | B34: 12
A35: LA CHAPELLE ST AUBIN | B35: 12
A36: 833 | B36: 12
A37: ROUILLON RUE DES VAUGEONNIERES | B37: 12
A38: 834 | B38: 12
A39: PREVAL ALLEE DU PRESBYTERE | B39: 12
A40: 835 | B40: 12
...
