Workbook

Sheet ADHESION 2018
A1: NB | B1: NATIONALITE | C1: SOCIETES | D1: RENOUVELLEMENT | E1: COTIS | F1: HEBDO | G1: PAIEMENT
A2: 1 | B2: F | C2: ADIT | D2: 1 | E2: 660 | F2: 170.83 | G2: 1
A3: 1 | B3: F | C3: AIR DE MALICE | D3: 1 | E3: 660 | F3: 170.83 | G3: 1
A4: 1 | B4: F | C4: AIR FRANCE | E4: 1200
A5: 1 | B5: F | C5: AIR LIQUIDE | E5: 1200
A6: 1 | B6: F | C6: AIRBUS GROUP | E6: 1200
A7: 1 | B7: F | C7: AIRBUS HELICOPTERS | E7: 1200
A8: 1 | B8: J | C8: AJINOMOTO EUROPE | D8: 1 | E8: 660 | G8: 1
A9: 1 | B9: J | C9: AKEBONO BRAKE INDUSTRY - Bureau de liaison Europe | D9: 1 | E9: 660 | G9: 1
A10: 1 | B10: J | C10: ALL NIPPON AIRWAYS CO. LTD | E10: 660
A11: 1 | B11: F | C11: ALP | D11: 1 | E11: 660 | G11: 1
A12: 1 | B12: F | C12: ALTANA | D12: 1 | E12: 660 | G12: 1
A13: 1 | B13: F | C13: ARCHIPEL JAPON | D13: 1 | E13: 660 | G13: 1
A14: 1 | B14: F | C14: ART SANJO | D14: 1 | E14: 660 | G14: 1
A15: 1 | B15: F | C15: ARTELIE | D15: 1 | E15: 660 | G15: 1
A16: 1 | B16: F | C16: ASIE COMMUNICATION | D16: 1 | E16: 660 | G16: 1
A17: 1 | B17: F | C17: ATSU ATSU EVENT / OKOTAKO | D17: 1 | E17: 660 | G17: 1
A18: 1 | B18: F | C18: AXA ASSISTANCE | E18: 1200
A19: 1 | B19: J | C19: BANQUE NOMURA FRANCE | D19: 1 | E19: 660 | G19: 1
A20: 1 | B20: F | C20: BERSAY & ASSOCIES | E20: 660
A21: 1 | B21: F | C21: BIOMERIEUX | D21: 1 | E21: 1200 | G21: 1
A22: 1 | B22: F | C22: BIRD & BIRD | D22: 1 | E22: 660 | G22: 1
A23: 1 | B23: F | C23: BLACK CODE EVENT | E23: 660
A24: 1 | B24: J | C24: HIDE KASUGA 1896 | D24: 1 | E24: 660 | G24: 1
A25: 1 | B25: F | C25: CABIRA INVESTISSEMENT | D25: 1 | E25: 660 | G25: 1
A26: 1 | B26: F | C26: CADERAS MARTIN | D26: 1 | E26: 660 | G26: 1
A27: 1 | B27: F | C27: CAISSE D'EPARGNE ILE DE FRANCE | D27: 1 | E27: 1200 | G27: 1
A28: 1 | B28: J | C28: CALSONIC KANSEI EUROPE | D28: 1 | E28: 660 | G28: 1
A29: 1 | B29: F | C29: CEFIR CONSULTING | D29: 1 | E29: 660 | G29: 1
A30: 1 | B30: F | C30: CFAO | D30: 1 | E30: 1200 | G30: 1
A31: 1 | B31: F | C31: CHAMPAGNE LAURENT PERRIER | D31: 1 | E31: 1200 | G31: 1
A32: 1 | B32: J | C32: CHARMANT FRANCE | D32: 1 | E32: 660 | G32: 1
A33: 1 | B33: F | C33: CHÂTEAU DU CLOS LUCE | D33: 1 | E33: 660 | G33: 1
A34: 1 | B34: F | C34: COMITE D'EXPANSION ECONOMIQUE DU VAL D'OISE | D34: 1 | E34: 660 | G34: 1
A35: 1 | B35: F | C35: COMPTAPLUS | D35: 1 | E35: 660 | G35: 1
A36: 1 | B36: F | C36: CREDIT AGRICOLE CIB | E36: 1200
A37: 1 | B37: F | C37: CROSSLIGHT | D37: 1 | E37: 660 | G37: 1
A38: 1 | B38: J | C38: DAI NIPPON PRINTING CO., LTD | D38: 1 | E38: 660 | G38: 1
A39: 1 | B39: F | C39: DS AVOCATS | D39: 1 | E39: 660 | G39: 1
A40: 1 | B40: F | C40: EDENRED | E40: 660
...

Sheet Yukari
A1: Biens de consommations | C1: Industrie | E1: Services | G1: Hautes technologies | I1: 4 secteurs principaux
A2: Art & culture | C2: Aéronautique | E2: Art & culture | G2: PROPHESEE | I2: Biens de consommations | J2: Industrie
A3: PIERRE-YVES CAER GALLERY | C3: AIRBUS HELICOPTERS | E3: FONDATION FOUJITA | I3: Luxe, Gastronomie, Cosmétique, Art & Culture, etc. | J3: Energie, Automobile, Aéronautique, Industrie etc
A4: EDITIONS AKINOME | C4: AIRBUS GROUP | E4: Assurance | I4: Services | J4: Hautes technologie
A5: Agro-alimentaire | C5: Agro-alimentaire | E5: AXA ASSISTANCE | I5: Evénementiel, Hôtellerie, Médias, Restauration, etc. | J5: IT
A6: FOODEX | C6: AJINOMOTO Europe | E6: RAMBAUD LABROSSE
A7: SUNTORY France | C7: EUROPEAN SAKATA HOLDING | E7: SOMPO JAPAN NIPPONKOA MARTIN & BOULART
A8: Biochimie | C8: Automobile | E8: TOKIO MARINE KILN INSURANCE LIMITED
A9: BIOMERIEUX | C9: AKEBONO BRAKE INDUSTRY - Bureau de liaison Europe | E9: Banque et services financiers
A10: Cosmétiques | C10: ALLIANCE RENAULT NISSAN | E10: BANQUE NOMURA France | I10: SECTEUR 2 | J10: GROUPE | K10: TOTAL
A11: MULTALER & CIE | C11: CALSONIC KANSEI | E11: CAISSE D'EPARGNE ILE-DE-FRANCE | I11: Aéronautique | J11: IND | K11: 1 | L11: =SUM(K11)/J49 -> 0.0063694268
A12: IWASE COSFA EUROPE | C12: JATCO France | E12: CREDIT AGRICOLE CIB | I12: Aéronautique | J12: IND | K12: 1 | L12: =SUM(K12)/J49 -> 0.0063694268
A13: Electronique | C13: MARUYASU INDUSTRIES | E13: MIZUHO BANK | I13: Agro-alimentaire | J13: IND | K13: 1 | L13: =SUM(K13)/J49 -> 0.0063694268
A14: EVERTEAM | C14: NMB MINEBEA | E14: SBE - SOCIETE DE BANQUE ET D'EXPANSION | I14: Agro-alimentaire | J14: IND | K14: 1 | L14: =SUM(K14)/J49 -> 0.0063694268
A15: FUJITSU TECHNOLOGY SOLUTIONS | C15: RENAULT | E15: SUMITOMO MITSUI TRUST BANK | I15: Automobile | J15: IND | K15: 1 | L15: =SUM(K15)/J49 -> 0.0063694268
A16: HITACHI CORPORATE OFFICE Europe | C16: TOYOTA MOTOR Europe | E16: THE BANK OF TOKYO MITSUBISHI -UFJ | I16: Automobile | J16: IND | K16: 1 | L16: =SUM(K16)/J49 -> 0.0063694268
A17: KYOCERA FINECERAMICS | C17: VALEO | E17: WENDEL | I17: Automobile | J17: IND | K17: 1 | L17: =SUM(K17)/J49 -> 0.0063694268
A18: THALES INTERNATIONAL | C18: Construction & urbanisme | E18: Cabinet d'avocats | I18: Automobile | J18: IND | K18: 1 | L18: =SUM(K18)/J49 -> 0.0063694268
A19: Gastronomie | C19: JCDECAUX | E19: AC LEGAL AVOCAT | I19: Automobile | J19: IND | K19: 1 | L19: =SUM(K19)/J49 -> 0.0063694268
A20: CHAMPAGNE LAURENT PERRIER | C20: TAKENAKA Europe | E20: ALTANA | I20: Automobile | J20: IND | K20: 1 | L20: =SUM(K20)/J49 -> 0.0063694268
A21: LEGRAND FILLES & FILS | C21: Energie | E21: BERSAY & ASSOCIES | I21: Automobile | J21: IND | K21: 1 | L21: =SUM(K21)/J49 -> 0.0063694268
A22: MAISON DU BON | C22: AIR LIQUIDE | E22: BIRD & BIRD | I22: Automobile | J22: IND | K22: 1 | L22: =SUM(K22)/J49 -> 0.0063694268
A23: PÂTISSERIE TOMO | C23: ENGIE | E23: DS AVOCATS | I23: Automobile | J23: IND | K23: 1 | L23: =SUM(K23)/J49 -> 0.0063694268
A24: PIERRE HERME PARIS | C24: TOKYO GAS | E24: FERAL SCHUHL SAINTE MARIE | I24: Construction & urbanisme | J24: IND | K24: 1 | L24: =SUM(K24)/J49 -> 0.0063694268
A25: VP WINES France | C25: TOTAL | E25: FIDAL - Direction Internationale | I25: Construction & urbanisme | J25: IND | K25: 1 | L25: =SUM(K25)/J49 -> 0.0063694268
A26: VALICOM & DECO / KUMIKO MATCHA | C26: Industrie | E26: HERBERT SMITH | I26: Energie | J26: IND | K26: 1 | L26: =SUM(K26)/J49 -> 0.0063694268
A27: SANRIO CAMPANY | C27: ETNA INDUSTRIES | E27: JP KARSENTY ET ASSOCIES | I27: Energie | J27: IND | K27: 1 | L27: =SUM(K27)/J49 -> 0.0063694268
A28: Luxe | C28: JT INTERNATIONAL | E28: KATZ MENARD BERRIER AVOCATS | I28: Energie | J28: IND | K28: 1 | L28: =SUM(K28)/J49 -> 0.0063694268
A29: EDITH ET MARCEL | C29: MITSUBISHI HEAVY INDUSTRIES France | E29: LPA-CGR | I29: Energie | J29: IND | K29: 1 | L29: =SUM(K29)/J49 -> 0.0063694268
A30: CHARMANT France | C30: NTN SNR ROULEMENTS | E30: MANDEL & ASSOCIES | I30: Hautes technologies | J30: HT | K30: 1 | L30: =SUM(K30)/J49 -> 0.0063694268
A31: HERMES INTERNATIONAL | C31: TUNGALOY FRANCE | E31: Communication | I31: Industrie | J31: IND | K31: 1 | L31: =SUM(K31)/J49 -> 0.0063694268
A32: KERING | C32: YUKI PRECISION | E32: ARCHIPEL JAPON | I32: Industrie | J32: IND | K32: 1 | L32: =SUM(K32)/J49 -> 0.0063694268
A33: LEONARD FASHION | C33: Luxe | E33: DAI NIPPON PRINTING | I33: Industrie | J33: IND | K33: 1 | L33: =SUM(K33)/J49 -> 0.0063694268
A34: LVMH | C34: HIDE KASUGA 1896 | E34: ELOKAMI PRODUCTION | I34: Industrie | J34: IND | K34: 1 | L34: =SUM(K34)/J49 -> 0.0063694268
A35: SHISEIDO INTERNATIONAL Europe | E35: JEAN/LOUIS | I35: Industrie | J35: IND | K35: 1 | L35: =SUM(K35)/J49 -> 0.0063694268
A36: TASAKI | E36: GRAM 3 | I36: Industrie | J36: IND | K36: 1 | L36: =SUM(K36)/J49 -> 0.0063694268
A37: YUMI KATSURA France | E37: JAPON INFORMATION | I37: Luxe | J37: IND | K37: 1 | L37: =SUM(K37)/J49 -> 0.0063694268
A38: Médical | E38: Conseil | K38: 27 | L38: 100
A39: ELITECH GROUP | E39: ADIT
A40: SHIMADZU France | E40: ALP
...

Sheet GLOBAL
A1: NATIONALITE | B1: COTISATION | C1: SOCIETES | D1: SECTEUR | E1: SECTEUR 2 | F1: GROUPE | G1: TOTAL
A2: F | B2: 1200 | C2: AIRBUS HELICOPTERS | D2: Aéronautique & défense | E2: Aéronautique | F2: IND | G2: 1
A3: F | B3: 1200 | C3: AIRBUS GROUP | D3: Aéronautique & défense | E3: Aéronautique | F3: IND | G3: 1
C4: x | E4: Aéronautique | G4: =SUM(G2:G3) -> 2
A5: J | B5: 660 | C5: AJINOMOTO Europe | D5: Industrie agroalimentaire et produits pharmaceutiques. | E5: Agro-alimentaire | F5: IND | G5: 1
A6: J | B6: 1200 | C6: EUROPEAN SAKATA HOLDING | D6: Semences potagères & florales | E6: Agro-alimentaire | F6: IND | G6: 1
A7: J | B7: 660 | C7: FOODEX | D7: Import - Export | E7: Agro-alimentaire | F7: BC | G7: 1
A8: J | B8: 660 | C8: SUNTORY France | D8: Boissons, vins & spiritueux | E8: Agro-alimentaire | F8: BC | G8: 1
C9: x | E9: Agro-alimentaire | G9: =SUM(G5:G8) -> 4
A10: F | B10: 660 | C10: FONDATION FOUJITA | D10: Patrimoine culturel | E10: Art & culture | F10: S | G10: 1
A11: F | B11: 660 | C11: PIERRE-YVES CAER GALLERY | D11: Galerie d'art | E11: Art & culture | F11: BC | G11: 1
A12: F | B12: 660 | C12: EDITIONS AKINOME | D12: Maison d'édition | E12: Art & culture | F12: BC | G12: 1
C13: X | E13: Art & culture | G13: =SUM(G10:G12) -> 3
A14: F | B14: 1200 | C14: AXA ASSISTANCE | D14: Assurance | E14: Assurance | F14: S | G14: 1
A15: F | B15: 660 | C15: RAMBAUD LABROSSE | D15: Assurance | E15: Assurance | F15: S | G15: 1
A16: J | B16: 660 | C16: SOMPO JAPAN NIPPONKOA MARTIN & BOULART | D16: Assurance | E16: Assurance | F16: S | G16: 1
A17: J | B17: 1200 | C17: TOKIO MARINE KILN INSURANCE LIMITED | D17: Assurance | E17: Assurance | F17: S | G17: 1
C18: x | E18: Assurance | G18: =SUM(G14:G17) -> 4
A19: J | B19: 660 | C19: AKEBONO BRAKE INDUSTRY - Bureau de liaison Europe | D19: Systèmes de freinage automobile | E19: Automobile | F19: IND | G19: 1
A20: F | B20: 1200 | C20: ALLIANCE RENAULT NISSAN | D20: Constructeur Automobile | E20: Automobile | F20: IND | G20: 1
A21: J | B21: 660 | C21: CALSONIC KANSEI | D21: Equipementier automobile | E21: Automobile | F21: IND | G21: 1
A22: J | B22: 660 | C22: JATCO France | D22: Equipementier automobile | E22: Automobile | F22: IND | G22: 1
A23: J | B23: 660 | C23: MARUYASU INDUSTRIES | D23: Equipementier automobile | E23: Automobile | F23: IND | G23: 1
A24: J | B24: 1200 | C24: NMB MINEBEA | D24: Système de moteur électrique et de roulements à bille | E24: Automobile | F24: IND | G24: 1
A25: F | B25: 1200 | C25: RENAULT | D25: Constructeur Automobile | E25: Automobile | F25: IND | G25: 1
A26: J | B26: 1200 | C26: TOYOTA MOTOR Europe | D26: Automobile | E26: Automobile | F26: IND | G26: 1
A27: F | B27: 1200 | C27: VALEO | D27: Equipementier automobile | E27: Automobile | F27: IND | G27: 1
C28: x | E28: Automobile | G28: =SUM(G19:G27) -> 9
A29: J | B29: 660 | C29: BANQUE NOMURA France | D29: Banque | E29: Banque & services financiers | F29: S | G29: 1
A30: F | B30: 1200 | C30: CAISSE D'EPARGNE ILE-DE-FRANCE | D30: Banque | E30: Banque & services financiers | F30: S | G30: 1
A31: F | B31: 660 | C31: CREDIT AGRICOLE CIB | D31: Banque | E31: Banque & services financiers | F31: S | G31: 1
A32: J | B32: 1200 | C32: MIZUHO BANK | D32: Banque | E32: Banque & services financiers | F32: S | G32: 1
A33: F | B33: 660 | C33: SBE - SOCIETE DE BANQUE ET D'EXPANSION | D33: Banque | E33: Banque & services financiers | F33: S | G33: 1
A34: J | B34: 660 | C34: SUMITOMO MITSUI TRUST BANK | D34: Banque | E34: Banque & services financiers | F34: S | G34: 1
A35: J | B35: 1200 | C35: THE BANK OF TOKYO MITSUBISHI -UFJ | D35: Banque | E35: Banque & services financiers | F35: S | G35: 1
A36: F | B36: 1200 | C36: WENDEL | D36: Société d'investissement | E36: Banque & services financiers | F36: S | G36: 1
C37: x | E37: Banque & services financiers | G37: =SUM(G29:G36) -> 8
A38: F | B38: 660 | C38: AC LEGAL AVOCAT | D38: Cabinet d'avocats | E38: Cabinet d'avocats | F38: S | G38: 1
A39: F | B39: 660 | C39: ALTANA | D39: Cabinet d'avocats | E39: Cabinet d'avocats | F39: S | G39: 1
A40: F | B40: 660 | C40: BERSAY & ASSOCIES | D40: Cabinet d'avocats | E40: Cabinet d'avocats | F40: S | G40: 1
...

Sheet Synthèse 180920
B1: 2016 | C1: 2017 | D1: 2018
A2: Renouvelés | B2: 138 | C2: 135 | D2: ='ADHESION 2018'!$E$162 -> 118
A3: En attente de renouvellement | B3: 1 | C3: 11 | D3: ='ADHESION 2018'!$E$163 -> 39
A4: Total | B4: =SUM(B2:B3) -> 139 | C4: =SUM(C2:C3) -> 146 | D4: =SUM(D2:D3) -> 157
B7: 2016 | C7: 2017 | D7: 2018
A8: Membres FR | B8: 73 | C8: 79 | D8: ='ADHESION 2018'!$E$167 -> 91
A9: Membres JP | B9: 66 | C9: 67 | D9: ='ADHESION 2018'!$E$168 -> 66
A10: TOTAL | B10: =SUM(B8:B9) -> 139 | C10: =SUM(C8:C9) -> 146 | D10: =SUM(D8:D9) -> 157
B13: 2016 | C13: 2017 | D13: 2018
A14: Grands groupes | B14: 39 | C14: 41 | D14: ='ADHESION 2018'!$I$166 -> 46
A15: PME | B15: 100 | C15: 105 | D15: ='ADHESION 2018'!$I$167 -> 108
A16: Startups | B16: 0 | C16: 0 | D16: ='ADHESION 2018'!$I$165 -> 3
A17: TOTAL | B17: =SUM(B14:B15) -> 139 | C17: =SUM(C14:C15) -> 146 | D17: =SUM(D14:D16) -> 157
A19: membres 2015 :152
B20: 2016 | C20: 2017 | D20: 2018
A21: Nouveaux membres | B21: 23 | C21: 21 | D21: ='ADHESION 2018'!$E$166 -> 23
A22: Résiliations | B22: 10 | C22: 26 | D22: ='ADHESION 2018'!$E$170 -> 13
A23: Turnover | B23: =((B21+B22)/2)/152 -> 0.10855263 | C23: =((C21+C22)/2)/139 -> 0.16906475 | D23: =((D21+3)/2)/144 -> 0.090277778

Sheet RESILIATIONS 2018
A1: NB | B1: SOCIETES | C1: SECTEUR | D1: SECTEUR 2 | E1: GROUPE | F1: TOTAL
A2: 1 | B2: NISSAN Europe | C2: Constructeur automobile | D2: Automobile | E2: IND | F2: 1
A3: 1 | B3: HOSHINO RESORTS | C3: Hôtellerie | D3: Hôtellerie | E3: S | F3: 1
A4: 1 | B4: ISETAN MITSUKOSHI | C4: Grands magasins | D4: Distribution | E4: BC | F4: 1
A5: 1 | B5: DIALOGUE FRANCO-JAPONAIS | C5: Conseil stratégique pour cadres dirigeants | D5: Conseil | E5: S | F5: 1
A6: 1 | B6: BERNARDAUD | C6: Art de la table | D6: Luxe | E6: BC | F6: 1
A7: 1 | B7: 9EME ART + | C7: Evénementiel - organisation de festivals | D7: Evénementiel | E7: S | F7: 1
A8: 1 | B8: PRINCE HOTELS | C8: Hôtellerie | D8: Hôtellerie | E8: S | F8: 1 | G8: cotis 2017 non payée
A9: 1 | B9: SEMAPHORES ENTREPRISES | C9: Conseil en transformation d'entreprises | D9: Conseil | E9: S | F9: 1
A10: 1 | B10: TOYOTA TSUSHO Europe | C10: Société de commerce | D10: Société de commerce | E10: BC | F10: 1 | G10: cotis 2017 non payée
A11: 1 | B11: MELT IN POTE PRODUCTION | C11: Interprètariat - Coordinateur - Guide conférencier en japonais | D11: Communication | E11: S | F11: 1
A12: 1 | B12: DATAWORDS | C12: Localisation de sites Web - Traduction multimédia - PAO | D12: Communication | E12: S | F12: 1
A13: 1 | B13: KYREMA | C13: Conseil en affaires et gestion | D13: Conseil | E13: S | F13: 1
A14: 1 | B14: VIRGINIE GRILLET | C14: Cabinet de recrutement de jeunes diplomés | D14: Ressources Humaines | E14: S | F14: 1
A15: =SUM(A2:A14) -> 13

Sheet POTENTIELS 2018
A1: NB | B1: NATIONALITE | C1: SOCIETES | D1: COTIS | E1: HEBDO | F1: MONTANT GLOBAL | G1: SECTEUR
B2: F | C2: Editions L’harmattan (Maison d'éditions)
B3: F | C3: Eiko Studio (agence de communication digitale)
B4: F | C4: Terrawatt (Catherine Mantel)
B5: F | C5: Addix (agence de communication japonaise)
B6: J | C6: Bo Project. Sarl (baguette de luxe pour restauration)
B7: F | C7: Confiture parisienne (gastronomie de luxe )– start up
B8: F | C8: Le Jardin Imparfait (Production musicale)
B9: F | C9: Manners (plateforme de services freelance) – start up
