Workbook
Name Ferie: Bdd!$B$3:$B$15

Sheet Janv
A1: Nom - Prénom | C1: 43466
C2: =C1 -> 43466 | D2: =C2+1 -> 43467 | E2: =D2+1 -> 43468 | F2: =E2+1 -> 43469 | G2: =F2+1 -> 43470 | H2: =G2+1 -> 43471 | I2: =H2+1 -> 43472 | J2: =I2+1 -> 43473 | K2: =J2+1 -> 43474 | ... AG2: =AF2+1 -> 43496
C3: =EOMONTH(C1,-1)+1 -> 43466 | D3: =C3+1 -> 43467 | E3: =D3+1 -> 43468 | F3: =E3+1 -> 43469 | G3: =F3+1 -> 43470 | H3: =G3+1 -> 43471 | I3: =H3+1 -> 43472 | J3: =I3+1 -> 43473 | K3: =J3+1 -> 43474 | ... AG3: =AF3+1 -> 43496
C4: =CHOOSE(WEEKDAY(C3),"D","L","M","M","J","V","S") -> M | D4: =CHOOSE(WEEKDAY(D3),"D","L","M","M","J","V","S") -> M | E4: =CHOOSE(WEEKDAY(E3),"D","L","M","M","J","V","S") -> J | F4: =CHOOSE(WEEKDAY(F3),"D","L","M","M","J","V","S") -> V | G4: =CHOOSE(WEEKDAY(G3),"D","L","M","M","J","V","S") -> S | H4: =CHOOSE(WEEKDAY(H3),"D","L","M","M","J","V","S") -> D | I4: =CHOOSE(WEEKDAY(I3),"D","L","M","M","J","V","S") -> L | J4: =CHOOSE(WEEKDAY(J3),"D","L","M","M","J","V","S") -> M | ... AG4: =CHOOSE(WEEKDAY(AG3),"D","L","M","M","J","V","S") -> J
A5: Congés scolaires | C5: =IF(OR(AND(C$2>=Bdd!$I$10,C$2<=Bdd!$J$10),AND(C$2>=Bdd!$I$11,C$2<=Bdd!$J$11),AND(C$2>=Bdd!$I$12,C$2<=Bdd!$J$12),AND(C$2>=Bdd!$I$13,C$2<=Bdd!$J$13),AND(C$2>=Bdd!$I$14,C$2<=Bdd!$J$14),AND(C$2>=Bdd!$I$15,C$2<=Bdd!$J$15),AND(C$2>=Bdd!$I$16,C$2<=Bdd!$J$16)),1,"") -> 1 | D5: =IF(OR(AND(D$2>=Bdd!$I$10,D$2<=Bdd!$J$10),AND(D$2>=Bdd!$I$11,D$2<=Bdd!$J$11),AND(D$2>=Bdd!$I$12,D$2<=Bdd!$J$12),AND(D$2>=Bdd!$I$13,D$2<=Bdd!$J$13),AND(D$2>=Bdd!$I$14,D$2<=Bdd!$J$14),AND(D$2>=Bdd!$I$15,D$2<=Bdd!$J$15),AND(D$2>=Bdd!$I$16,D$2<=Bdd!$J$16)),1,"") -> 1 | E5: =IF(OR(AND(E$2>=Bdd!$I$10,E$2<=Bdd!$J$10),AND(E$2>=Bdd!$I$11,E$2<=Bdd!$J$11),AND(E$2>=Bdd!$I$12,E$2<=Bdd!$J$12),AND(E$2>=Bdd!$I$13,E$2<=Bdd!$J$13),AND(E$2>=Bdd!$I$14,E$2<=Bdd!$J$14),AND(E$2>=Bdd!$I$15,E$2<=Bdd!$J$15),AND(E$2>=Bdd!$I$16,E$2<=Bdd!$J$16)),1,"") -> 1 | F5: =IF(OR(AND(F$2>=Bdd!$I$10,F$2<=Bdd!$J$10),AND(F$2>=Bdd!$I$11,F$2<=Bdd!$J$11),AND(F$2>=Bdd!$I$12,F$2<=Bdd!$J$12),AND(F$2>=Bdd!$I$13,F$2<=Bdd!$J$13),AND(F$2>=Bdd!$I$14,F$2<=Bdd!$J$14),AND(F$2>=Bdd!$I$15,F$2<=Bdd!$J$15),AND(F$2>=Bdd!$I$16,F$2<=Bdd!$J$16)),1,"") -> 1 | G5: =IF(OR(AND(G$2>=Bdd!$I$10,G$2<=Bdd!$J$10),AND(G$2>=Bdd!$I$11,G$2<=Bdd!$J$11),AND(G$2>=Bdd!$I$12,G$2<=Bdd!$J$12),AND(G$2>=Bdd!$I$13,G$2<=Bdd!$J$13),AND(G$2>=Bdd!$I$14,G$2<=Bdd!$J$14),AND(G$2>=Bdd!$I$15,G$2<=Bdd!$J$15),AND(G$2>=Bdd!$I$16,G$2<=Bdd!$J$16)),1,"") -> 1 | H5: =IF(OR(AND(H$2>=Bdd!$I$10,H$2<=Bdd!$J$10),AND(H$2>=Bdd!$I$11,H$2<=Bdd!$J$11),AND(H$2>=Bdd!$I$12,H$2<=Bdd!$J$12),AND(H$2>=Bdd!$I$13,H$2<=Bdd!$J$13),AND(H$2>=Bdd!$I$14,H$2<=Bdd!$J$14),AND(H$2>=Bdd!$I$15,H$2<=Bdd!$J$15),AND(H$2>=Bdd!$I$16,H$2<=Bdd!$J$16)),1,"") -> 1 | I5: =IF(OR(AND(I$2>=Bdd!$I$10,I$2<=Bdd!$J$10),AND(I$2>=Bdd!$I$11,I$2<=Bdd!$J$11),AND(I$2>=Bdd!$I$12,I$2<=Bdd!$J$12),AND(I$2>=Bdd!$I$13,I$2<=Bdd!$J$13),AND(I$2>=Bdd!$I$14,I$2<=Bdd!$J$14),AND(I$2>=Bdd!$I$15,I$2<=Bdd!$J$15),AND(I$2>=Bdd!$I$16,I$2<=Bdd!$J$16)),1,"") | J5: =IF(OR(AND(J$2>=Bdd!$I$10,J$2<=Bdd!$J$10),AND(J$2>=Bdd!$I$11,J$2<=Bdd!$J$11),AND(J$2>=Bdd!$I$12,J$2<=Bdd!$J$12),AND(J$2>=Bdd!$I$13,J$2<=Bdd!$J$13),AND(J$2>=Bdd!$I$14,J$2<=Bdd!$J$14),AND(J$2>=Bdd!$I$15,J$2<=Bdd!$J$15),AND(J$2>=Bdd!$I$16,J$2<=Bdd!$J$16)),1,"") | ... AG5: =IF(OR(AND(AG$2>=Bdd!$I$10,AG$2<=Bdd!$J$10),AND(AG$2>=Bdd!$I$11,AG$2<=Bdd!$J$11),AND(AG$2>=Bdd!$I$12,AG$2<=Bdd!$J$12),AND(AG$2>=Bdd!$I$13,AG$2<=Bdd!$J$13),AND(AG$2>=Bdd!$I$14,AG$2<=Bdd!$J$14),AND(AG$2>=Bdd!$I$15,AG$2<=Bdd!$J$15),AND(AG$2>=Bdd!$I$16,AG$2<=Bdd!$J$16)),1,"")
B6: Albert
B8: Sylvie
C9: =IF(B9="Sylvie",1,"")
B10: Suzanne
B12: Juliette
B14: Romain
B16: Nathalie
B18: Claire
B20: LIMOUSIN
B22: Maggy
B24: Laurence
B26: Olivier
B28: Claude

Sheet Bdd
A2: Année | B2: 2019 | H2: Prénom | I2: Jour abs | J2: Créneau abs
A3: Jour de l’an | B3: =DATE($B$2,1,1) -> 43466 | H3: Sylvie | I3: M | J3: apm
A4: Pâques | B4: =FLOOR(DAY(MINUTE($B$2/38)/2+56)&"/5/"&$B$2,7)-34 -> 43576 | H4: Nathalie | I4: M | J4: journée
A5: Lundi de Pâques | B5: =B4 + 1 -> 43577 | H5: Juliette | I5: V | J5: apm
A6: Fête du travail | B6: =DATE($B$2,5,1) -> 43586
A7: Armistice 39/45 | B7: =DATE($B$2,5,8) -> 43593
A8: Ascension | B8: =B4+39 -> 43615
A9: Pentecôte | B9: =B4 + 49 -> 43625 | H9: Congé | I9: Début | J9: Fin
A10: Lundi de Pentecôte | B10: =B4 + 50 -> 43626 | H10: Noel Précédent | I10: 43456 | J10: 43471
A11: Fête Nationale | B11: =DATE($B$2,7,14) -> 43660 | H11: Hiver | I11: 43505 | J11: 43520
A12: Assomption | B12: =DATE($B$2,8,15) -> 43692 | H12: Printemps | I12: 43561 | J12: 43577
A13: Toussaint | B13: =DATE($B$2,11,1) -> 43770 | H13: Ascension | I13: 43614 | J13: 43618
A14: Armistice 14/18 | B14: =DATE($B$2,11,11) -> 43780 | H14: Grandes Vacances | I14: 43652 | J14: 43466
A15: Noël | B15: =DATE($B$2,12,25) -> 43824 | H15: Toussaint | I15: 43757 | J15: 43772
H16: Noel | I16: 43820 | J16: 43835
