Workbook

Sheet Competences
A1: Nom | B1: Prénom | C1: 1 | D1: 2 | E1: 3 | F1: 4 | G1: 5 | H1: 6 | I1: 7 | J1: 8 | K1: 9 | L1: 10 | M1: 11 | N1: 12 | O1: 13 | P1: 14 | Q1: 15 | R1: 16 | S1: 17 | T1: 18 | U1: 19 | V1: 20 | W1: 21 | X1: 22 | Y1: 23 | Z1: 24 | AA1: 25 | AB1: 26 | AC1: 27 | AD1: 28
A2: Employé 1 | B2: Prénom 1 | C2: 1 | D2: 2 | E2: 3 | F2: 4 | G2: 5 | H2: 6 | I2: 7 | J2: 8 | K2: 9 | L2: 10 | M2: 11 | N2: 12 | O2: 13 | P2: 14 | Q2: 15 | R2: 16 | S2: 17 | T2: 18 | U2: 19 | V2: 20 | W2: 21 | X2: 22 | Y2: 23 | Z2: 24 | AA2: 25 | AB2: 26 | AC2: 27 | AD2: 28
A3: Employé 2 | B3: Prénom 2 | C3: 1 | D3: 2 | E3: 3 | F3: 4 | G3: 5 | H3: 6 | I3: 7 | J3: 8 | K3: 9 | L3: 10 | M3: 11 | N3: 12 | O3: 13 | P3: 14 | Q3: 15 | R3: 16 | S3: 17 | T3: 18 | U3: 19 | V3: 20 | W3: 21 | X3: 22 | Y3: 23 | Z3: 24 | AA3: 25 | AB3: 26 | AC3: 27 | AD3: 28
A4: Employé 3 | B4: Prénom 3 | C4: 1 | D4: 2 | E4: 3 | F4: 4 | G4: 5 | H4: 6 | I4: 7 | J4: 8 | K4: 9 | L4: 10 | M4: 11 | N4: 12 | O4: 13 | P4: 14 | Q4: 15 | R4: 16 | S4: 17 | T4: 18 | U4: 19 | V4: 20 | W4: 21 | X4: 22 | Y4: 23 | Z4: 24 | AA4: 25 | AB4: 26 | AC4: 27 | AD4: 28
A5: Employé 4 | B5: Prénom 4 | C5: 1 | D5: 2 | E5: 3 | F5: 4 | G5: 5 | H5: 6 | I5: 7 | J5: 8 | K5: 9 | L5: 10 | M5: 11 | N5: 12 | O5: 13 | P5: 14 | Q5: 15 | R5: 16 | S5: 17 | T5: 18 | U5: 19 | V5: 20 | W5: 21 | X5: 22 | Y5: 23 | Z5: 24 | AA5: 25 | AB5: 26 | AC5: 27 | AD5: 28
A6: Employé 5 | B6: Prénom 5 | C6: 1 | D6: 2 | E6: 3 | F6: 4 | G6: 5 | H6: 6 | I6: 7 | J6: 8 | K6: 9 | L6: 10 | M6: 11 | N6: 12 | O6: 13 | P6: 14 | Q6: 15 | R6: 16 | S6: 17 | T6: 18 | U6: 19 | V6: 20 | W6: 21 | X6: 22 | Y6: 23 | Z6: 24 | AA6: 25 | AB6: 26 | AC6: 27 | AD6: 28
A7: Employé 6 | B7: Prénom 6 | C7: 1 | D7: 2 | E7: 3 | F7: 4 | G7: 5 | H7: 6 | I7: 7 | J7: 8 | K7: 9 | L7: 10 | M7: 11 | N7: 12 | O7: 13 | P7: 14 | Q7: 15 | R7: 16 | S7: 17 | T7: 18 | U7: 19 | V7: 20 | W7: 21 | X7: 22 | Y7: 23 | Z7: 24 | AA7: 25 | AB7: 26 | AC7: 27 | AD7: 28
A8: Employé 7 | B8: Prénom 7 | C8: 1 | D8: 2 | E8: 3 | F8: 4 | G8: 5 | H8: 6 | I8: 7 | J8: 8 | K8: 9 | L8: 10 | M8: 11 | N8: 12 | O8: 13 | P8: 14 | Q8: 15 | R8: 16 | S8: 17 | T8: 18 | U8: 19 | V8: 20 | W8: 21 | X8: 22 | Y8: 23 | Z8: 24 | AA8: 25 | AB8: 26 | AC8: 27 | AD8: 28
A9: Employé 8 | B9: Prénom 8 | C9: 1 | D9: 2 | E9: 3 | F9: 4 | G9: 5 | H9: 6 | I9: 7 | J9: 8 | K9: 9 | L9: 10 | M9: 11 | N9: 12 | O9: 13 | P9: 14 | Q9: 15 | R9: 16 | S9: 17 | T9: 18 | U9: 19 | V9: 20 | W9: 21 | X9: 22 | Y9: 23 | Z9: 24 | AA9: 25 | AB9: 26 | AC9: 27 | AD9: 28
A10: Employé 9 | B10: Prénom 9 | C10: 1 | D10: 2 | E10: 3 | F10: 4 | G10: 5 | H10: 6 | I10: 7 | J10: 8 | K10: 9 | L10: 10 | M10: 11 | N10: 12 | O10: 13 | P10: 14 | Q10: 15 | R10: 16 | S10: 17 | T10: 18 | U10: 19 | V10: 20 | W10: 21 | X10: 22 | Y10: 23 | Z10: 24 | AA10: 25 | AB10: 26 | AC10: 27 | AD10: 28
A11: Employé 10 | B11: Prénom 10 | C11: 1 | D11: 2 | E11: 3 | F11: 4 | G11: 5 | H11: 6 | I11: 7 | J11: 8 | K11: 9 | L11: 10 | M11: 11 | N11: 12 | O11: 13 | P11: 14 | Q11: 15 | R11: 16 | S11: 17 | T11: 18 | U11: 19 | V11: 20 | W11: 21 | X11: 22 | Y11: 23 | Z11: 24 | AA11: 25 | AB11: 26 | AC11: 27 | AD11: 28
A12: Employé 11 | B12: Prénom 11 | C12: 1 | D12: 2 | E12: 3 | F12: 4 | G12: 5 | H12: 6 | I12: 7 | J12: 8 | K12: 9 | L12: 10 | M12: 11 | N12: 12 | O12: 13 | P12: 14 | Q12: 15 | R12: 16 | S12: 17 | T12: 18 | U12: 19 | V12: 20 | W12: 21 | X12: 22 | Y12: 23 | Z12: 24 | AA12: 25 | AB12: 26 | AC12: 27 | AD12: 28
... A32: Employé 31 | B32: Prénom 31 | C32: 1 | D32: 2 | E32: 3 | F32: 4 | G32: 5 | H32: 6 | I32: 7 | J32: 8 | K32: 9 | L32: 10 | M32: 11 | N32: 12 | O32: 13 | P32: 14 | Q32: 15 | R32: 16 | S32: 17 | T32: 18 | U32: 19 | V32: 20 | W32: 21 | X32: 22 | Y32: 23 | Z32: 24 | AA32: 25 | AB32: 26 | AC32: 27 | AD32: 28

Sheet RECAP
A1: Nom | B1: Prénom | C1: 6h30-13h30 | D1: 7-14 | E1: 8-15 | F1: 9-16 | G1: 14-21 | H1: NUIT
A2: Employé 1 | B2: prénom 1
A3: Employé 2 | B3: prénom 2
A4: Employé 3 | B4: prénom 3
A5: Employé 4 | B5: prénom 4
A6: Employé 5 | B6: prénom 5
A7: Employé 6 | B7: prénom 6
A8: Employé 7 | B8: prénom 7
A9: Employé 8 | B9: prénom 8
A10: Employé 9 | B10: prénom 9
A11: Employé 10 | B11: prénom 10
A12: Employé 11 | B12: prénom 11
A13: Employé 12 | B13: prénom 12
... A32: Employé 31 | B32: prénom 31

Sheet 2018
B1: PLANNING ANNUEL 2018 | BC1: TOTAL
A2: Numéro de semaine | C2: 1 | D2: 2 | E2: 3 | F2: 4 | G2: 5 | H2: 6 | I2: 7 | J2: 8 | K2: 9 | L2: 10 | M2: 11 | N2: 12 | O2: 13 | P2: 14 | Q2: 15 | R2: 16 | S2: 17 | T2: 18 | U2: 19 | V2: 20 | W2: 21 | X2: 22 | Y2: 23 | Z2: 24 | AA2: 25 | AB2: 26 | AC2: 27 | AD2: 28 | AE2: 29 | AF2: 30 | AG2: 31 | AH2: 32 | AI2: 33 | AJ2: 34 | AK2: 35 | AL2: 36 | AM2: 37 | AN2: 38 | AO2: 39 | AP2: 40 | AQ2: 41 | AR2: 42 | AS2: 43 | AT2: 44 | AU2: 45 | AV2: 46 | AW2: 47 | AX2: 48 | AY2: 49 | AZ2: 50 | BA2: 51 | BB2: 52 | BF2: 5 | BG2: 18
A3: Nom | B3: Prénom | BF3: 8 | BG3: 19
A4: Employé1 | B4: prénom 1 | J4: V | M4: V | Y4: V | AB4: 11 | AD4: V | AH4: V | AR4: 11 | AS4: 15 | AT4: 15 | AU4: V | AV4: 15 | AW4: 16 | AX4: 11 | AY4: V | AZ4: 17 | BA4: 18 | BB4: 17 | BC4: =COUNTIF(C4:BB4,"V") -> 7 | BF4: 11 | BG4: 22
A5: Employé2 | B5: prénom 2 | N5: V | Z5: V | AA5: V | AB5: 14 | AE5: V | AF5: V | AG5: V | AR5: 6 | AS5: 7 | AT5: 8 | AU5: 9 | AV5: 10 | AW5: 11 | AX5: 12 | AY5: 13 | AZ5: 14 | BA5: 15 | BB5: 16 | BC5: =COUNTIF(C5:BB5,"V") -> 6 | BF5: 12 | BG5: 25
A6: Employé3 | B6: prénom 3 | Q6: V | AB6: 7 | AG6: V | AH6: V | AI6: V | AR6: V | AS6: 6 | AT6: 7 | AU6: 8 | AV6: 9 | AW6: 10 | AX6: V | AY6: 12 | AZ6: 13 | BA6: 14 | BB6: 15 | BC6: =COUNTIF(C6:BB6,"V") -> 6 | BF6: 14
A7: Employé4 | B7: prénom 4 | P7: V | AB7: 3 | AJ7: V | AK7: V | AQ7: V | AR7: 15 | AS7: 13 | AT7: 14 | AU7: 15 | AV7: 1 | AW7: 2 | AX7: 15 | AY7: V | AZ7: 18 | BA7: 19 | BB7: 3 | BC7: =COUNTIF(C7:BB7,"V") -> 5
A8: Employé5 | B8: prénom 5 | L8: V | X8: V | AB8: 9 | AD8: V | AK8: V | AL8: V | AR8: 17 | AT8: V | AU8: 4 | AV8: 5 | AW8: 6 | AX8: 7 | AY8: 8 | AZ8: 16 | BA8: V | BB8: 13 | BC8: =COUNTIF(C8:BB8,"V") -> 7 | BF8: 3 | BG8: 20
A9: Employé6 | B9: prénom 6 | M9: V | V9: V | AB9: 10 | AF9: V | AG9: V | AL9: V | AP9: V | AR9: 12 | AS9: 16 | AT9: 12 | AU9: 13 | AV9: 14 | AW9: 15 | AX9: 5 | AY9: 6 | AZ9: 7 | BA9: 8 | BB9: 9 | BC9: =COUNTIF(C9:BB9,"V") -> 6 | BF9: 4 | BG9: 21
A10: Employé7 | B10: prénom 7 | T10: V | U10: V | AB10: 1 | AG10: V | AH10: V | AI10: V | AR10: 4 | AS10: 5 | AT10: V | AU10: 11 | AV10: 8 | AW10: 1 | AX10: 2 | AY10: 1 | AZ10: 2 | BA10: 3 | BB10: 4 | BC10: =COUNTIF(C10:BB10,"V") -> 6 | BF10: 6 | BG10: 23
A11: Employé8 | B11: prénom 8 | Q11: V | X11: V | Y11: V | Z11: V | AA11: V | AB11: V | AL11: V | AM11: V | AN11: V | AO11: V | AR11: 8 | AS11: 9 | AT11: 10 | AU11: V | AV11: 12 | AW11: 13 | AX11: 14 | AY11: 3 | AZ11: 4 | BA11: 12 | BB11: 27 | BC11: =COUNTIF(C11:BB11,"V") -> 11 | BF11: 7 | BG11: 24
A12: Employé9 | B12: prénom 9 | W12: V | X12: V | AB12: 4 | AH12: V | AI12: V | AJ12: V | AQ12: V | AR12: 3 | AS12: 4 | AT12: 5 | AU12: 6 | AV12: 7 | AW12: 8 | AX12: 9 | AY12: 10 | AZ12: 11 | BA12: V | BB12: 28 | BC12: =COUNTIF(C12:BB12,"V") -> 7 | BF12: 9
A13: Employé10 | B13: prénom 10 | N13: V | AB13: 6 | AE13: V | AF13: V | AQ13: V | AR13: V | AS13: 11 | AT13: 1 | AU13: 2 | AV13: 6 | AW13: 7 | AX13: 8 | AY13: 9 | AZ13: 10 | BA13: 11 | BB13: 12 | BC13: =COUNTIF(C13:BB13,"V") -> 5 | BF13: 10 | BG13: 7
A14: Employé11 | B14: prénom 11 | AA14: V | AB14: V | AC14: V | AL14: V | AM14: V | AN14: V | AR14: 9 | AS14: 10 | AT14: 11 | AU14: 3 | AV14: 4 | AW14: 5 | AX14: 6 | AY14: 7 | AZ14: 8 | BA14: 9 | BB14: 10 | BC14: =COUNTIF(C14:BB14,"V") -> 6 | BF14: 13 | BG14: 8
A15: Employé12 | B15: prénom 12 | R15: V | W15: V | AA15: V | AB15: V | AC15: V | AK15: V | AR15: 1 | AS15: 2 | AT15: 3 | AU15: V | AV15: V | AW15: V | AX15: 1 | AY15: 2 | AZ15: 1 | BA15: 2 | BB15: 1 | BC15: =COUNTIF(C15:BB15,"V") -> 9 | BG15: 10
A16: Employé13 | B16: prénom 13 | O16: V | P16: V | AB16: 12 | AC16: V | AD16: V | AE16: V | AR16: 14 | AS16: 17 | AT16: 16 | AU16: 16 | AV16: 3 | AW16: 4 | AX16: V | AY16: V | AZ16: V | BA16: 5 | BB16: 6 | BC16: =COUNTIF(C16:BB16,"V") -> 8 | BF16: 1 | BG16: 12
A17: Employé14 | B17: prénom 14 | K17: V | U17: V | AB17: 5 | AH17: V | AI17: V | AJ17: V | AK17: V | AR17: 7 | AS17: 8 | AT17: V | AU17: 12 | AV17: 13 | AW17: 14 | AX17: 3 | AY17: 4 | AZ17: 5 | BA17: 6 | BB17: 7 | BC17: =COUNTIF(C17:BB17,"V") -> 7 | BF17: 2
A18: Employé15 | B18: prénom 15 | T18: V | U18: V | AB18: 8 | AJ18: V | AK18: V | AR18: 16 | AS18: V | AT18: 9 | AU18: 10 | AV18: 11 | AW18: 12 | AX18: 13 | AY18: 14 | AZ18: 3 | BA18: 4 | BB18: 5 | BC18: =COUNTIF(C18:BB18,"V") -> 5
A19: Employé16 | B19: prénom 16 | AB19: 13 | AR19: 10 | AS19: 12 | AT19: 13 | AU19: 14 | AV19: V | AW19: 3 | AX19: 4 | AY19: 5 | AZ19: 6 | BA19: 7 | BB19: 8 | BC19: =COUNTIF(C19:BB19,"V") -> 1 | BF19: 18
A20: Employé17 | B20: prénom 17 | W20: V | X20: V | Y20: V | Z20: V | AB20: 2 | AO20: V | AR20: 2 | AS20: 1 | AT20: 2 | AU20: 1 | AV20: 2 | AW20: V | AX20: V | AY20: F | AZ20: 15 | BA20: 1 | BB20: 2 | BC20: =COUNTIF(C20:BB20,"V") -> 7
A21: Employé18 | B21: prénom 18 | AB21: 15 | AR21: 5 | AS21: 3 | AT21: 4 | AU21: 5 | AV21: 16 | AW21: V | AX21: 16 | AY21: 15 | AZ21: 9 | BA21: 10 | BB21: 11 | BC21: =COUNTIF(C21:BB21,"V") -> 1
A22: Employé19 | B22: prénom 19 | AB22: 16 | AR22: X | AS22: X | AT22: X | AU22: X | AV22: X | AW22: X | AX22: X | AY22: X | AZ22: X | BA22: X | BB22: X | BC22: =COUNTIF(C22:BB22,"V") -> 0
A23: Employé20 | B23: prénom 20 | AB23: 17 | AR23: 13 | AS23: 14 | AT23: 6 | AU23: 7 | AV23: V | AW23: 9 | AX23: 10 | AY23: 11 | AZ23: 12 | BA23: 13 | BB23: 14 | BC23: =COUNTIF(C23:BB23,"V") -> 1
A24: Employé21 | B24: prénom 21 | T24: V | V24: V | AB24: 20 | AH24: V | AI24: V | AJ24: V | AP24: 24 | AQ24: 25 | AR24: 18 | AS24: V | AT24: 18 | AU24: 19 | AV24: 20 | AW24: 21 | AX24: 22 | AY24: 23 | AZ24: 24 | BA24: 25 | BB24: 26 | BC24: =COUNTIF(C24:BB24,"V") -> 6
A25: Employé22 | B25: prénom 22 | L25: V | AB25: 19 | AC25: V | AD25: V | AE25: V | AF25: V | AL25: CS | AM25: CS | AN25: CS | AO25: CS | AP25: CS | AQ25: CS | AR25: CS | AS25: CS | AT25: CS | AU25: CS | AV25: CS | AW25: CS | AX25: CS | AY25: CS | AZ25: CS | BA25: CS | BB25: CS | BC25: =COUNTIF(C25:BB25,"V") -> 5
A26: Employé23 | B26: prénom 23 | I26: V | O26: V | AB26: 18 | AC26: V | AD26: V | AP26: 23 | AQ26: 24 | AR26: 25 | AS26: 20 | AT26: 21 | AU26: 22 | AV26: 23 | AW26: 24 | AX26: 25 | AY26: 22 | AZ26: V | BA26: 20 | BB26: 21 | BC26: =COUNTIF(C26:BB26,"V") -> 5 | BF26: {=INDEX($A$4:$A$33,SMALL(IF("V"=$BA$4:$BA$33,ROW($BA$4:$BA$33)-MIN(ROW($BA$4))+1,""),1))} -> Employé5
A27: Employé24 | B27: prénom 24 | L27: V | M27: V | N27: V | O27: V | AB27: V | AK27: V | AP27: 22 | AQ27: 23 | AR27: 24 | AS27: 25 | AT27: 26 | AU27: 18 | AV27: 19 | AW27: 20 | AX27: 21 | AY27: V | AZ27: 23 | BA27: 24 | BB27: 25 | BC27: =COUNTIF(C27:BB27,"V") -> 7 | BF27: {=INDEX($A$4:$A$33,SMALL(IF("V"=$BA$4:$BA$33,ROW($BA$4:$BA$33)-MIN(ROW($BA$4))+1,""),2))} -> Employé9
A28: Employé25 | B28: prénom 25 | X28: V | AB28: 21 | AI28: V | AJ28: V | AN28: V | AP28: 21 | AQ28: 22 | AR28: 23 | AS28: 24 | AT28: 25 | AU28: 26 | AV28: 18 | AW28: 19 | AX28: 20 | AY28: 21 | AZ28: 22 | BA28: V | BB28: 19 | BC28: =COUNTIF(C28:BB28,"V") -> 5 | BF28: {=INDEX($A$4:$A$33,SMALL(IF("V"=$BA$4:$BA$33,ROW($BA$4:$BA$33)-MIN(ROW($BA$4))+1,""),3))} -> Employé25
A29: Employé26 | B29: prénom 26 | K29: V | S29: V | AB29: 24 | AC29: CM | AD29: CM | AE29: V | AF29: V | AG29: V | AP29: 25 | AQ29: 18 | AR29: 19 | AS29: V | AT29: 19 | AU29: 20 | AV29: 21 | AW29: 22 | AX29: 23 | AY29: 19 | AZ29: 25 | BA29: 23 | BB29: 24 | BC29: =COUNTIF(C29:BB29,"V") -> 6 | BF29: {=INDEX($A$4:$A$33,SMALL(IF("V"=$BA$4:$BA$33,ROW($BA$4:$BA$33)-MIN(ROW($BA$4))+1,""),4))} -> Employé27
A30: Employé27 | B30: prénom 27 | S30: V | AB30: 25 | AC30: V | AD30: V | AP30: 20 | AQ30: 21 | AR30: 22 | AS30: 23 | AT30: 24 | AU30: 25 | AV30: 26 | AW30: 18 | AX30: 19 | AY30: 24 | AZ30: V | BA30: V | BB30: 18 | BC30: =COUNTIF(C30:BB30,"V") -> 5 | BF30: {=INDEX($A$4:$A$33,SMALL(IF("V"=$BA$4:$BA$33,ROW($BA$4:$BA$33)-MIN(ROW($BA$4))+1,""),5))} -> Employé28
A31: Employé28 | B31: prénom 28 | P31: V | AA31: V | AB31: 23 | AL31: V | AM31: V | AP31: 19 | AQ31: V | AR31: 20 | AS31: 21 | AT31: 22 | AU31: 23 | AV31: 24 | AW31: 25 | AX31: 26 | AY31: 18 | AZ31: 19 | BA31: V | BB31: 20 | BC31: =COUNTIF(C31:BB31,"V") -> 6
A32: Employé29 | B32: prénom 29 | K32: V | S32: V | AB32: 22 | AE32: V | AF32: V | AG32: V | AP32: 18 | AQ32: 19 | AR32: 26 | AS32: V | AT32: 20 | AU32: 21 | AV32: 22 | AW32: 23 | AX32: 24 | AY32: 25 | AZ32: 20 | BA32: 21 | BB32: 22 | BC32: =COUNTIF(C32:BB32,"V") -> 6
A33: Employé30 | B33: prénom 30 | R33: V | AB33: V | AN33: V | AO33: V | AP33: V | AQ33: 20 | AR33: 21 | AS33: 22 | AT33: 23 | AU33: 24 | AV33: 25 | AW33: 26 | AX33: 18 | AY33: 20 | AZ33: 21 | BA33: 22 | BB33: 23 | BC33: =COUNTIF(C33:BB33,"V") -> 5
A34: Employé31 | B34: prénom 31 | BC34: =COUNTIF(C34:BB34,"V") -> 0
C35: =COUNTIF(C4:C34,"V") -> 0 | D35: =COUNTIF(D4:D34,"V") -> 0 | E35: =COUNTIF(E4:E34,"V") -> 0 | F35: =COUNTIF(F4:F34,"V") -> 0 | G35: =COUNTIF(G4:G34,"V") -> 0 | H35: =COUNTIF(H4:H34,"V") -> 0 | I35: =COUNTIF(I4:I34,"V") -> 1 | J35: =COUNTIF(J4:J34,"V") -> 1 | ... BB35: =COUNTIF(BB4:BB34,"V") -> 0
B38: =MATCH("V",OFFSET(AC$1,AC38,0,COUNTA(AC:AC)-AC38,1),0)+AC38 -> #N/A | BD38: =CONCATENATE(BF26,", ",BF27,", ",BF28,", ",BF29,", ",BF30) -> Employé5, Employé9, Employé25, Employé27, Employé28

Sheet S48
N1: Semaine 48 du 26/11/2018 au 02/12/2018
A4: Techniciens | B4: Remoussenard | C4: Glissa | D4: =OFFSET('2018'!$A$3,MATCH('S48'!D$5,'2018'!$AX$4:$AX$34,0),0) -> Employé14 | E4: =OFFSET('2018'!$A$3,MATCH('S48'!E$5,'2018'!$AX$4:$AX$34,0),0) -> Employé16 | F4: =OFFSET('2018'!$A$3,MATCH('S48'!F$5,'2018'!$AX$4:$AX$34,0),0) -> Employé6 | G4: =OFFSET('2018'!$A$3,MATCH('S48'!G$5,'2018'!$AX$4:$AX$34,0),0) -> Employé11 | H4: =OFFSET('2018'!$A$3,MATCH('S48'!H$5,'2018'!$AX$4:$AX$34,0),0) -> Employé5 | I4: =OFFSET('2018'!$A$3,MATCH('S48'!I$5,'2018'!$AX$4:$AX$34,0),0) -> Employé10 | J4: =OFFSET('2018'!$A$3,MATCH('S48'!J$5,'2018'!$AX$4:$AX$34,0),0) -> Employé9 | K4: =OFFSET('2018'!$A$3,MATCH('S48'!K$5,'2018'!$AX$4:$AX$34,0),0) -> Employé20 | ... Z4: =OFFSET('2018'!$A$3,MATCH('S48'!Z$5,'2018'!$AX$4:$AX$34,0),0) -> Employé28 | AA4: Bouakline | AB4: Riffaud | AC4: Viale
B5: 1 | C5: 2 | D5: 3 | E5: 4 | F5: 5 | G5: 6 | H5: 7 | I5: 8 | J5: 9 | K5: 10 | L5: 11 | M5: 12 | N5: 13 | O5: 14 | P5: 15 | Q5: 16 | R5: 18 | S5: 19 | T5: 20 | U5: 21 | V5: 22 | W5: 23 | X5: 24 | Y5: 25 | Z5: 26 | AA5: 27 | AB5: 28 | AC5: 29
A6: Lundi 26 | D6: 9-16 | E6: R | F6: 6h30-13h30 | G6: 8-15 | H6: R | I6: 6h30-13h30 | J6: 8-15 | K6: 8-15 | L6: 8-15 | M6: 14-21 | N6: 14-21 | O6: 50% | P6: 8-15 | Q6: 8-15 | R6: 7-14 | S6: 8-15 | T6: 14-21 | U6: R | V6: 7-14 | W6: 80% | X6: 8-15 | Y6: 8-15 | Z6: 8-15 | AA6: CA | AB6: CA | AC6: CA
A7: Mardi 27 | C7: R | D7: 8-15 | E7: 8-15 | F7: 6h30-13h30 | G7: R | H7: 8-15 | I7: 6h30-13h30 | J7: 8-15 | K7: 8-15 | L7: 8-15 | M7: 14-21 | N7: 14-21 | O7: R | P7: 9-16 | Q7: 8-15 | R7: 7-14 | S7: 8-15 | T7: R | U7: 8-15 | V7: 7-14 | W7: 14-21 | X7: R | Y7: 8-15 | Z7: 8-15 | AA7: CA | AB7: CA | AC7: CA
A8: Mercredi 28 | D8: 8-15 | E8: 8-15 | F8: 6h30-13h30 | G8: R | H8: 9-16 | I8: 6h30-13h30 | J8: 8-15 | K8: R | L8: 8-15 | M8: 14-21 | N8: R | O8: 50% | P8: 14-21 | Q8: 8-15 | R8: 7-14 | S8: 8-15 | T8: R | U8: 8-15 | V8: 7-14 | W8: 14-21 | X8: Formation | Y8: 8-15 | Z8: 8-15 | AA8: CA | AB8: CA | AC8: CA
A9: Jeudi 29 | B9: R | D9: R | E9: 8-15 | F9: 6h30-13h30 | G9: 8-15 | H9: 8-15 | I9: 6h30-13h30 | J9: R | K9: 8-15 | L9: 8-15 | M9: 14-21 | N9: 80% | O9: 14-21 | P9: 9-16 | Q9: 8-15 | R9: 7-14 | S9: 8-15 | T9: 7-14 | U9: 8-15 | V9: 8-15 | W9: R | X9: Formation | Y9: 14-21 | Z9: 8-15 | AA9: CA | AB9: CA | AC9: CA
A10: Vendredi 30 | D10: R | E10: 8-15 | F10: 6h30-13h30 | G10: 8-15 | H10: 8-15 | I10: 6h30-13h30 | J10: R | K10: 8-15 | L10: 8-15 | M10: 14-21 | N10: 8-15 | O10: 14-21 | P10: 9-16 | Q10: 8-15 | R10: 7-14 | S10: 8-15 | T10: 7-14 | U10: 8-15 | V10: 8-15 | W10: R | X10: R | Y10: 14-21 | Z10: 8-15 | AA10: CA | AB10: CA | AC10: CA
A11: Samedi 1 | C11: R | D11: 7-14 | E11: 7-14 | F11: R | G11: 14-21 | H11: 8-15 | I11: R | J11: 6h30-13h30 | K11: R | L11: R | M11: R | N11: 14-21 | O11: R | P11: R | Q11: R | R11: R | S11: R | T11: 14-21 | U11: 8-15 | V11: R | W11: 7-14 | X11: 8-15 | Y11: R | Z11: R | AA11: R | AB11: R | AC11: R
A12: Dimanche 2 | C12: R | D12: 7-14 | E12: R | F12: R | G12: 14-21 | H12: R | I12: R | J12: 6h30-13h30 | K12: 8-15 | L12: R | M12: R | N12: 14-21 | O12: R | P12: R | Q12: R | R12: R | S12: R | T12: 14-21 | U12: R | V12: R | W12: 7-14 | X12: R | Y12: R | Z12: R | AA12: R | AB12: R | AC12: R

Sheet S49
E1: Semaine 49 du 03/12/2018 au 09/12/2018
A3: Techniciens | D3: =OFFSET('2018'!$A$3,MATCH('S49'!D$4,'2018'!$AY$4:$AY$34,0),0) -> Employé8 | E3: =OFFSET('2018'!$A$3,MATCH('S49'!E$4,'2018'!$AY$4:$AY$34,0),0) -> Employé14 | F3: =OFFSET('2018'!$A$3,MATCH('S49'!F$4,'2018'!$AY$4:$AY$34,0),0) -> Employé16 | G3: =OFFSET('2018'!$A$3,MATCH('S49'!G$4,'2018'!$AY$4:$AY$34,0),0) -> Employé6 | H3: =OFFSET('2018'!$A$3,MATCH('S49'!H$4,'2018'!$AY$4:$AY$34,0),0) -> Employé11 | I3: =OFFSET('2018'!$A$3,MATCH('S49'!I$4,'2018'!$AY$4:$AY$34,0),0) -> Employé5 | J3: =OFFSET('2018'!$A$3,MATCH('S49'!J$4,'2018'!$AY$4:$AY$34,0),0) -> Employé10 | K3: =OFFSET('2018'!$A$3,MATCH('S49'!K$4,'2018'!$AY$4:$AY$34,0),0) -> Employé9 | ... AH3: =OFFSET('2018'!$A$3,MATCH('S49'!AH$4,'2018'!$AY$4:$AY$34,0),0) -> #N/A
B4: 1 | C4: 2 | D4: 3 | E4: 4 | F4: 5 | G4: 6 | H4: 7 | I4: 8 | J4: 9 | K4: 10 | L4: 11 | M4: 12 | N4: 13 | O4: 14 | P4: 15 | Q4: 16 | R4: 17 | S4: 18 | T4: 19 | U4: 20 | V4: 21 | W4: 22 | X4: 23 | Y4: 24 | Z4: 25 | AA4: 26 | AB4: 27 | AC4: 28 | AD4: 29 | AE4: 30 | AF4: 31 | AG4: 32 | AH4: 33
A5: Lundi | D5: 9-16 | E5: R | F5: 6h30-13h30 | G5: 8-15 | H5: R | I5: 6h30-13h30 | J5: 8-15 | K5: 8-15 | L5: 8-15 | M5: 14-21 | N5: 14-21 | S5: 7-14 | T5: 8-15 | U5: 14-21 | V5: R | W5: 7-14 | X5: 9-16 | Y5: 8-15 | Z5: 8-15
A6: Mardi | C6: R | D6: 8-15 | E6: 9-16 | F6: 6h30-13h30 | G6: R | H6: 8-15 | I6: 6h30-13h30 | J6: 8-15 | K6: 8-15 | L6: 8-15 | M6: 14-21 | N6: 14-21 | O6: R | S6: 7-14 | T6: 8-15 | U6: R | V6: 8-15 | W6: 7-14 | X6: 14-21 | Y6: R | Z6: 9-16
A7: Mercredi | D7: 8-15 | E7: 9-16 | F7: 6h30-13h30 | G7: R | H7: 8-15 | I7: 6h30-13h30 | J7: 8-15 | K7: R | L7: 8-15 | M7: 14-21 | N7: R | O7: 14-21 | S7: 7-14 | T7: 8-15 | U7: R | V7: 8-15 | W7: 7-14 | X7: 14-21 | Y7: 8-15 | Z7: 9-16
A8: Jeudi | B8: R | D8: R | E8: 9-16 | F8: 6h30-13h30 | G8: 8-15 | H8: 8-15 | I8: 6h30-13h30 | J8: R | K8: 8-15 | L8: 8-15 | M8: 14-21 | N8: 8-15 | O8: 14-21 | S8: 7-14 | U8: 7-14 | V8: 8-15 | W8: 9-16 | X8: R | Y8: 8-15 | Z8: 14-21
A9: Vendredi | D9: R | E9: 9-16 | F9: 6h30-13h30 | G9: 8-15 | H9: 8-15 | I9: 6h30-13h30 | J9: R | K9: 8-15 | L9: 8-15 | M9: 14-21 | N9: 8-15 | O9: 14-21 | S9: 7-14 | U9: 7-14 | V9: 8-15 | W9: 9-16 | X9: R | Y9: 8-15 | Z9: 14-21
A10: Samedi | C10: R | D10: 7-14 | E10: 7-14 | F10: R | G10: 14-21 | H10: 8-15 | I10: R | J10: 14-21 | K10: R | L10: R | M10: R | N10: 6h30-13h30 | O10: R | P10: R | Q10: R | R10: R | S10: R | T10: R | U10: 14-21 | V10: 8-15 | W10: R | X10: 7-14 | Y10: 8-15 | Z10: R | AA10: R | AB10: R | AC10: R | AD10: R | AE10: R | AF10: R | AG10: R | AH10: R
A11: Dimanche | C11: R | D11: 7-14 | E11: R | F11: R | G11: 14-21 | H11: R | I11: R | J11: 14-21 | K11: 8-15 | L11: R | M11: R | N11: 6h30-13h30 | O11: R | P11: R | Q11: R | R11: R | S11: R | T11: R | U11: 14-21 | V11: R | W11: R | X11: 7-14 | Y11: R | Z11: R | AA11: R | AB11: R | AC11: R | AD11: R | AE11: R | AF11: R | AG11: R | AH11: R
AC13: Qualité | AE13: Lundi
AE15: Mardi
AE17: Mercredi
AE19: Jeudi
AE21: Vendredi

Sheet S50
E1: Semaine 50 du 10/12/2018 au 16/12/2018
A3: Techniciens | D3: =OFFSET('2018'!$A$3,MATCH('S50'!D$4,'2018'!$AZ$4:$AZ$34,0),0) -> Employé15 | E3: =OFFSET('2018'!$A$3,MATCH('S50'!E$4,'2018'!$AZ$4:$AZ$34,0),0) -> Employé8 | F3: =OFFSET('2018'!$A$3,MATCH('S50'!F$4,'2018'!$AZ$4:$AZ$34,0),0) -> Employé14 | G3: =OFFSET('2018'!$A$3,MATCH('S50'!G$4,'2018'!$AZ$4:$AZ$34,0),0) -> Employé16 | H3: =OFFSET('2018'!$A$3,MATCH('S50'!H$4,'2018'!$AZ$4:$AZ$34,0),0) -> Employé6 | I3: =OFFSET('2018'!$A$3,MATCH('S50'!I$4,'2018'!$AZ$4:$AZ$34,0),0) -> Employé11 | J3: =OFFSET('2018'!$A$3,MATCH('S50'!J$4,'2018'!$AZ$4:$AZ$34,0),0) -> Employé18 | K3: =OFFSET('2018'!$A$3,MATCH('S50'!K$4,'2018'!$AZ$4:$AZ$34,0),0) -> Employé10 | ... AH3: =OFFSET('2018'!$A$3,MATCH('S50'!AH$4,'2018'!$AZ$4:$AZ$34,0),0) -> #N/A
B4: 1 | C4: 2 | D4: 3 | E4: 4 | F4: 5 | G4: 6 | H4: 7 | I4: 8 | J4: 9 | K4: 10 | L4: 11 | M4: 12 | N4: 13 | O4: 14 | P4: 15 | Q4: 16 | R4: 17 | S4: 18 | T4: 19 | U4: 20 | V4: 21 | W4: 22 | X4: 23 | Y4: 24 | Z4: 25 | AA4: 26 | AB4: 27 | AC4: 28 | AD4: 29 | AE4: 30 | AF4: 31 | AG4: 32 | AH4: 33
A5: Lundi | D5: 9-16 | E5: R | F5: 6h30-13h30 | G5: 8-15 | H5: R | I5: 6h30-13h30 | J5: 8-15 | K5: 8-15 | L5: 8-15 | M5: 14-21 | N5: 14-21 | S5: 7-14 | T5: 8-15 | U5: 14-21 | V5: R | W5: 7-14 | X5: 9-16 | Y5: 8-15 | Z5: 8-15
A6: Mardi | C6: R | D6: 8-15 | E6: 9-16 | F6: 6h30-13h30 | G6: R | H6: 8-15 | I6: 6h30-13h30 | J6: 8-15 | K6: 8-15 | L6: 8-15 | M6: 14-21 | N6: 14-21 | O6: R | S6: 7-14 | T6: 8-15 | U6: R | V6: 8-15 | W6: 7-14 | X6: 14-21 | Y6: R | Z6: 9-16
A7: Mercredi | D7: 8-15 | E7: 9-16 | F7: 6h30-13h30 | G7: R | H7: 8-15 | I7: 6h30-13h30 | J7: 8-15 | K7: R | L7: 8-15 | M7: 14-21 | N7: R | O7: 14-21 | S7: 7-14 | T7: 8-15 | U7: R | V7: 8-15 | W7: 7-14 | X7: 14-21 | Y7: 8-15 | Z7: 9-16
A8: Jeudi | B8: R | D8: R | E8: 9-16 | F8: 6h30-13h30 | G8: 8-15 | H8: 8-15 | I8: 6h30-13h30 | J8: R | K8: 8-15 | L8: 8-15 | M8: 14-21 | N8: 8-15 | O8: 14-21 | S8: 7-14 | U8: 7-14 | V8: 8-15 | W8: 9-16 | X8: R | Y8: 8-15 | Z8: 14-21
A9: Vendredi | D9: R | E9: 9-16 | F9: 6h30-13h30 | G9: 8-15 | H9: 8-15 | I9: 6h30-13h30 | J9: R | K9: 8-15 | L9: 8-15 | M9: 14-21 | N9: 8-15 | O9: 14-21 | S9: 7-14 | U9: 7-14 | V9: 8-15 | W9: 9-16 | X9: R | Y9: 8-15 | Z9: 14-21
A10: Samedi | C10: R | D10: 7-14 | E10: 7-14 | F10: R | G10: 14-21 | H10: 8-15 | I10: R | J10: 14-21 | K10: R | L10: R | M10: R | N10: 6h30-13h30 | O10: R | P10: R | Q10: R | R10: R | S10: R | T10: R | U10: 14-21 | V10: 8-15 | W10: R | X10: 7-14 | Y10: 8-15 | Z10: R | AA10: R | AB10: R | AC10: R | AD10: R | AE10: R | AF10: R | AG10: R | AH10: R
A11: Dimanche | C11: R | D11: 7-14 | E11: R | F11: R | G11: 14-21 | H11: R | I11: R | J11: 14-21 | K11: 8-15 | L11: R | M11: R | N11: 6h30-13h30 | O11: R | P11: R | Q11: R | R11: R | S11: R | T11: R | U11: 14-21 | V11: R | W11: R | X11: 7-14 | Y11: R | Z11: R | AA11: R | AB11: R | AC11: R | AD11: R | AE11: R | AF11: R | AG11: R | AH11: R
AC13: Qualité | AE13: Lundi
AE15: Mardi
AE17: Mercredi
AE19: Jeudi
AE21: Vendredi

Sheet S51
E1: Semaine 51 du 17/12/2018 au 23/12/2018
B2: ='2018'!BD38 -> Employé5, Employé9, Employé25, Employé27, Employé28
A4: Techniciens | D4: =OFFSET('2018'!$A$3,MATCH('S51'!D$5,'2018'!$BA$4:$BA$34,0),0) -> Employé7 | E4: =OFFSET('2018'!$A$3,MATCH('S51'!E$5,'2018'!$BA$4:$BA$34,0),0) -> Employé15 | F4: =OFFSET('2018'!$A$3,MATCH('S51'!F$5,'2018'!$BA$4:$BA$34,0),0) -> Employé13 | G4: =OFFSET('2018'!$A$3,MATCH('S51'!G$5,'2018'!$BA$4:$BA$34,0),0) -> Employé14 | H4: =OFFSET('2018'!$A$3,MATCH('S51'!H$5,'2018'!$BA$4:$BA$34,0),0) -> Employé16 | I4: =OFFSET('2018'!$A$3,MATCH('S51'!I$5,'2018'!$BA$4:$BA$34,0),0) -> Employé6 | J4: =OFFSET('2018'!$A$3,MATCH('S51'!J$5,'2018'!$BA$4:$BA$34,0),0) -> Employé11 | K4: =OFFSET('2018'!$A$3,MATCH('S51'!K$5,'2018'!$BA$4:$BA$34,0),0) -> Employé18 | ... AH4: =OFFSET('2018'!$A$3,MATCH('S51'!AH$5,'2018'!$BA$4:$BA$34,0),0) -> #N/A
B5: 1 | C5: 2 | D5: 3 | E5: 4 | F5: 5 | G5: 6 | H5: 7 | I5: 8 | J5: 9 | K5: 10 | L5: 11 | M5: 12 | N5: 13 | O5: 14 | P5: 15 | Q5: 16 | R5: 17 | S5: 18 | T5: 19 | U5: 20 | V5: 21 | W5: 22 | X5: 23 | Y5: 24 | Z5: 25 | AA5: 26 | AB5: 27 | AC5: 28 | AD5: 29 | AE5: 30 | AF5: 31 | AG5: 32 | AH5: 33
A6: Lundi | D6: 9-16 | E6: R | F6: 6h30-13h30 | G6: 8-15 | H6: R | I6: 6h30-13h30 | J6: 8-15 | K6: 8-15 | L6: 8-15 | M6: 14-21 | N6: 14-21 | S6: 7-14 | T6: 8-15 | U6: 14-21 | V6: R | W6: 7-14 | X6: 9-16 | Y6: 8-15 | Z6: 8-15
A7: Mardi | C7: R | D7: 8-15 | E7: 9-16 | F7: 6h30-13h30 | G7: R | H7: 8-15 | I7: 6h30-13h30 | J7: 8-15 | K7: 8-15 | L7: 8-15 | M7: 14-21 | N7: 14-21 | O7: R | S7: 7-14 | T7: 8-15 | U7: R | V7: 8-15 | W7: 7-14 | X7: 14-21 | Y7: R | Z7: 9-16
A8: Mercredi | D8: 8-15 | E8: 9-16 | F8: 6h30-13h30 | G8: R | H8: 8-15 | I8: 6h30-13h30 | J8: 8-15 | K8: R | L8: 8-15 | M8: 14-21 | N8: R | O8: 14-21 | S8: 7-14 | T8: 8-15 | U8: R | V8: 8-15 | W8: 7-14 | X8: 14-21 | Y8: 8-15 | Z8: 9-16
A9: Jeudi | B9: R | D9: R | E9: 9-16 | F9: 6h30-13h30 | G9: 8-15 | H9: 8-15 | I9: 6h30-13h30 | J9: R | K9: 8-15 | L9: 8-15 | M9: 14-21 | N9: 8-15 | O9: 14-21 | S9: 7-14 | U9: 7-14 | V9: 8-15 | W9: 9-16 | X9: R | Y9: 8-15 | Z9: 14-21
A10: Vendredi | D10: R | E10: 9-16 | F10: 6h30-13h30 | G10: 8-15 | H10: 8-15 | I10: 6h30-13h30 | J10: R | K10: 8-15 | L10: 8-15 | M10: 14-21 | N10: 8-15 | O10: 14-21 | S10: 7-14 | U10: 7-14 | V10: 8-15 | W10: 9-16 | X10: R | Y10: 8-15 | Z10: 14-21
A11: Samedi | C11: R | D11: 7-14 | E11: 7-14 | F11: R | G11: 14-21 | H11: 8-15 | I11: R | J11: 14-21 | K11: R | L11: R | M11: R | N11: 6h30-13h30 | O11: R | P11: R | Q11: R | R11: R | S11: R | T11: R | U11: 14-21 | V11: 8-15 | W11: R | X11: 7-14 | Y11: 8-15 | Z11: R | AA11: R | AB11: R | AC11: R | AD11: R | AE11: R | AF11: R | AG11: R | AH11: R
A12: Dimanche | C12: R | D12: 7-14 | E12: R | F12: R | G12: 14-21 | H12: R | I12: R | J12: 14-21 | K12: 8-15 | L12: R | M12: R | N12: 6h30-13h30 | O12: R | P12: R | Q12: R | R12: R | S12: R | T12: R | U12: 14-21 | V12: R | W12: R | X12: 7-14 | Y12: R | Z12: R | AA12: R | AB12: R | AC12: R | AD12: R | AE12: R | AF12: R | AG12: R | AH12: R
AC14: Qualité | AE14: Lundi
AE16: Mardi
AE18: Mercredi
AE20: Jeudi
AE22: Vendredi

Sheet S52
E1: Semaine 52 du 24/12/2018 au 30/12/2018
A3: Techniciens | D3: =OFFSET('2018'!$A$3,MATCH('S52'!D$4,'2018'!$BB$4:$BB$34,0),0) -> Employé4 | E3: =OFFSET('2018'!$A$3,MATCH('S52'!E$4,'2018'!$BB$4:$BB$34,0),0) -> Employé7 | F3: =OFFSET('2018'!$A$3,MATCH('S52'!F$4,'2018'!$BB$4:$BB$34,0),0) -> Employé15 | G3: =OFFSET('2018'!$A$3,MATCH('S52'!G$4,'2018'!$BB$4:$BB$34,0),0) -> Employé13 | H3: =OFFSET('2018'!$A$3,MATCH('S52'!H$4,'2018'!$BB$4:$BB$34,0),0) -> Employé14 | I3: =OFFSET('2018'!$A$3,MATCH('S52'!I$4,'2018'!$BB$4:$BB$34,0),0) -> Employé16 | J3: =OFFSET('2018'!$A$3,MATCH('S52'!J$4,'2018'!$BB$4:$BB$34,0),0) -> Employé6 | K3: =OFFSET('2018'!$A$3,MATCH('S52'!K$4,'2018'!$BB$4:$BB$34,0),0) -> Employé11 | ... AH3: =OFFSET('2018'!$A$3,MATCH('S52'!AH$4,'2018'!$BB$4:$BB$34,0),0) -> #N/A
B4: 1 | C4: 2 | D4: 3 | E4: 4 | F4: 5 | G4: 6 | H4: 7 | I4: 8 | J4: 9 | K4: 10 | L4: 11 | M4: 12 | N4: 13 | O4: 14 | P4: 15 | Q4: 16 | R4: 17 | S4: 18 | T4: 19 | U4: 20 | V4: 21 | W4: 22 | X4: 23 | Y4: 24 | Z4: 25 | AA4: 26 | AB4: 27 | AC4: 28 | AD4: 29 | AE4: 30 | AF4: 31 | AG4: 32 | AH4: 33
A5: Lundi | D5: 9-16 | E5: R | F5: 6h30-13h30 | G5: 8-15 | H5: R | I5: 6h30-13h30 | J5: 8-15 | K5: 8-15 | L5: 8-15 | M5: 14-21 | N5: 14-21 | S5: 7-14 | T5: 8-15 | U5: 14-21 | V5: R | W5: 7-14 | X5: 9-16 | Y5: 8-15 | Z5: 8-15
A6: Mardi | C6: R | D6: 8-15 | E6: 9-16 | F6: 6h30-13h30 | G6: R | H6: 8-15 | I6: 6h30-13h30 | J6: 8-15 | K6: 8-15 | L6: 8-15 | M6: 14-21 | N6: 14-21 | O6: R | S6: 7-14 | T6: 8-15 | U6: R | V6: 8-15 | W6: 7-14 | X6: 14-21 | Y6: R | Z6: 9-16
A7: Mercredi | D7: 8-15 | E7: 9-16 | F7: 6h30-13h30 | G7: R | H7: 8-15 | I7: 6h30-13h30 | J7: 8-15 | K7: R | L7: 8-15 | M7: 14-21 | N7: R | O7: 14-21 | S7: 7-14 | T7: 8-15 | U7: R | V7: 8-15 | W7: 7-14 | X7: 14-21 | Y7: 8-15 | Z7: 9-16
A8: Jeudi | B8: R | D8: R | E8: 9-16 | F8: 6h30-13h30 | G8: 8-15 | H8: 8-15 | I8: 6h30-13h30 | J8: R | K8: 8-15 | L8: 8-15 | M8: 14-21 | N8: 8-15 | O8: 14-21 | S8: 7-14 | U8: 7-14 | V8: 8-15 | W8: 9-16 | X8: R | Y8: 8-15 | Z8: 14-21
A9: Vendredi | D9: R | E9: 9-16 | F9: 6h30-13h30 | G9: 8-15 | H9: 8-15 | I9: 6h30-13h30 | J9: R | K9: 8-15 | L9: 8-15 | M9: 14-21 | N9: 8-15 | O9: 14-21 | S9: 7-14 | U9: 7-14 | V9: 8-15 | W9: 9-16 | X9: R | Y9: 8-15 | Z9: 14-21
A10: Samedi | C10: R | D10: 7-14 | E10: 7-14 | F10: R | G10: 14-21 | H10: 8-15 | I10: R | J10: 14-21 | K10: R | L10: R | M10: R | N10: 6h30-13h30 | O10: R | P10: R | Q10: R | R10: R | S10: R | T10: R | U10: 14-21 | V10: 8-15 | W10: R | X10: 7-14 | Y10: 8-15 | Z10: R | AA10: R | AB10: R | AC10: R | AD10: R | AE10: R | AF10: R | AG10: R | AH10: R
A11: Dimanche | C11: R | D11: 7-14 | E11: R | F11: R | G11: 14-21 | H11: R | I11: R | J11: 14-21 | K11: 8-15 | L11: R | M11: R | N11: 6h30-13h30 | O11: R | P11: R | Q11: R | R11: R | S11: R | T11: R | U11: 14-21 | V11: R | W11: R | X11: 7-14 | Y11: R | Z11: R | AA11: R | AB11: R | AC11: R | AD11: R | AE11: R | AF11: R | AG11: R | AH11: R
AC13: Qualité | AE13: Lundi
AE15: Mardi
AE17: Mercredi
AE19: Jeudi
AE21: Vendredi

Sheet S01
E1: Semaine 01 du 31/12/2018 au 06/01/2019
A3: Techniciens | D3: =OFFSET('2018'!$A$3,MATCH('S01'!D$4,'2018'!$AD$4:$AD$34,0),0) -> #N/A | E3: =OFFSET('2018'!$A$3,MATCH('S01'!E$4,'2018'!$AD$4:$AD$34,0),0) -> #N/A | F3: =OFFSET('2018'!$A$3,MATCH('S01'!F$4,'2018'!$AD$4:$AD$34,0),0) -> #N/A | G3: =OFFSET('2018'!$A$3,MATCH('S01'!G$4,'2018'!$AD$4:$AD$34,0),0) -> #N/A | H3: =OFFSET('2018'!$A$3,MATCH('S01'!H$4,'2018'!$AD$4:$AD$34,0),0) -> #N/A | I3: =OFFSET('2018'!$A$3,MATCH('S01'!I$4,'2018'!$AD$4:$AD$34,0),0) -> #N/A | J3: =OFFSET('2018'!$A$3,MATCH('S01'!J$4,'2018'!$AD$4:$AD$34,0),0) -> #N/A | K3: =OFFSET('2018'!$A$3,MATCH('S01'!K$4,'2018'!$AD$4:$AD$34,0),0) -> #N/A | ... AH3: =OFFSET('2018'!$A$3,MATCH('S01'!AH$4,'2018'!$AD$4:$AD$34,0),0) -> #N/A
B4: 1 | C4: 2 | D4: 3 | E4: 4 | F4: 5 | G4: 6 | H4: 7 | I4: 8 | J4: 9 | K4: 10 | L4: 11 | M4: 12 | N4: 13 | O4: 14 | P4: 15 | Q4: 16 | R4: 17 | S4: 18 | T4: 19 | U4: 20 | V4: 21 | W4: 22 | X4: 23 | Y4: 24 | Z4: 25 | AA4: 26 | AB4: 27 | AC4: 28 | AD4: 29 | AE4: 30 | AF4: 31 | AG4: 32 | AH4: 33
A5: Lundi | D5: 9-16 | E5: R | F5: 6h30-13h30 | G5: 8-15 | H5: R | I5: 6h30-13h30 | J5: 8-15 | K5: 8-15 | L5: 8-15 | M5: 14-21 | N5: 14-21 | S5: 7-14 | T5: 8-15 | U5: 14-21 | V5: R | W5: 7-14 | X5: 9-16 | Y5: 8-15 | Z5: 8-15
A6: Mardi | C6: R | D6: 8-15 | E6: 9-16 | F6: 6h30-13h30 | G6: R | H6: 8-15 | I6: 6h30-13h30 | J6: 8-15 | K6: 8-15 | L6: 8-15 | M6: 14-21 | N6: 14-21 | O6: R | S6: 7-14 | T6: 8-15 | U6: R | V6: 8-15 | W6: 7-14 | X6: 14-21 | Y6: R | Z6: 9-16
A7: Mercredi | D7: 8-15 | E7: 9-16 | F7: 6h30-13h30 | G7: R | H7: 8-15 | I7: 6h30-13h30 | J7: 8-15 | K7: R | L7: 8-15 | M7: 14-21 | N7: R | O7: 14-21 | S7: 7-14 | T7: 8-15 | U7: R | V7: 8-15 | W7: 7-14 | X7: 14-21 | Y7: 8-15 | Z7: 9-16
A8: Jeudi | B8: R | D8: R | E8: 9-16 | F8: 6h30-13h30 | G8: 8-15 | H8: 8-15 | I8: 6h30-13h30 | J8: R | K8: 8-15 | L8: 8-15 | M8: 14-21 | N8: 8-15 | O8: 14-21 | S8: 7-14 | U8: 7-14 | V8: 8-15 | W8: 9-16 | X8: R | Y8: 8-15 | Z8: 14-21
A9: Vendredi | D9: R | E9: 9-16 | F9: 6h30-13h30 | G9: 8-15 | H9: 8-15 | I9: 6h30-13h30 | J9: R | K9: 8-15 | L9: 8-15 | M9: 14-21 | N9: 8-15 | O9: 14-21 | S9: 7-14 | U9: 7-14 | V9: 8-15 | W9: 9-16 | X9: R | Y9: 8-15 | Z9: 14-21
A10: Samedi | C10: R | D10: 7-14 | E10: 7-14 | F10: R | G10: 14-21 | H10: 8-15 | I10: R | J10: 14-21 | K10: R | L10: R | M10: R | N10: 6h30-13h30 | O10: R | P10: R | Q10: R | R10: R | S10: R | T10: R | U10: 14-21 | V10: 8-15 | W10: R | X10: 7-14 | Y10: 8-15 | Z10: R | AA10: R | AB10: R | AC10: R | AD10: R | AE10: R | AF10: R | AG10: R | AH10: R
A11: Dimanche | C11: R | D11: 7-14 | E11: R | F11: R | G11: 14-21 | H11: R | I11: R | J11: 14-21 | K11: 8-15 | L11: R | M11: R | N11: 6h30-13h30 | O11: R | P11: R | Q11: R | R11: R | S11: R | T11: R | U11: 14-21 | V11: R | W11: R | X11: 7-14 | Y11: R | Z11: R | AA11: R | AB11: R | AC11: R | AD11: R | AE11: R | AF11: R | AG11: R | AH11: R
AC13: Qualité | AE13: Lundi
AE15: Mardi
AE17: Mercredi
AE19: Jeudi
AE21: Vendredi
