Workbook
Name CLIENTS: #REF!
Name MAIN_CLIENTS: #REF!

Sheet 3. Old Detailed Planning
A1: PARTEMA CH - CLIENTS DETAILED PLANNING
B2: Processing Period : | C2: =#REF! -> #REF!
C4: CLIENT ==> | F4: Advini | H4: AEGERTER (SA BPGA) | J4: Agora Trad Lux | L4: Bacardi | N4: BAT (ou via Brand Venue) | P4: Beam Suntory | R4: Beluga | T4: Brown Forman | V4: Bulgari | X4: Camille Bloch | Z4: Campari | AB4: Camus cognac | AD4: Château d'Estoublon | AF4: Clarins | AH4: Coty via Airport Staff | AJ4: Council Intelligence Retail | AL4: Davidoff | AN4: Dior | AP4: Distell | AR4: Dufry | AT4: Edrington | AV4: REVLON - ELISABETH ARDEN | AX4: Favarger | AZ4: Ferrero | BB4: Fossil | BD4: Godiva | BF4: Goldkenn | BH4: Haecky Drinks | BJ4: ITG | BL4: Jordan Design | BN4: JTI | BP4: Lagardere TR | BR4: Lateltin | BT4: Laurent Perrier | BV4: Lindt | BX4: LVMH Fragrances | BZ4: Maestrani | CB4: Mars | CD4: Moët Hennessy | CF4: Mondelez | CH4: NESTLE | CJ4: Nuxe | CL4: Pernod Ricard | CN4: Piper Heidsieck | CP4: PMI | CR4: Remy Cointreau | CT4: Ricola AG | CV4: Stolichnaya | CX4: Villars-Valrhona | CZ4: Waldemar Behn | DB4: William Grant & Sons | DD4: BRAND NAME | DF4: BRAND NAME | DI4: TRAINING | DL4: MANAGEMENT - STRUCTURE | DO4: SICKNESS | DR4: PAID HOLIDAYS | DT4: TOTAL HOURS CALCULATION & COST | EB4: Advini | ED4: AEGERTER (SA BPGA) | EF4: Agora Trad Lux | EH4: Bacardi | EJ4: BAT (ou via Brand Venue) | EL4: Beam Suntory | EN4: Beluga | EP4: Brown Forman | ER4: Bulgari | ET4: Camille Bloch | EV4: Campari | EX4: Camus Cognac | EZ4: Château d'Estoublon | FB4: Clarins | FD4: Coty via Airport Staff | FF4: Council Intelligence Retail | FH4: Davidoff | FJ4: Dior | FL4: Distell | FN4: Dufry | FP4: Edrington | FR4: REVLON - ELISABETH ARDEN | FT4: Favarger | FV4: Ferrero | FX4: Fossil | FZ4: Godiva | GB4: Goldkenn | GD4: Haecky Drinks | GF4: ITG | GH4: Jordan Design | GJ4: JTI | GL4: Lagardere TR | GN4: Lateltin | GP4: Laurent Perrier | GR4: Lindt | GT4: LVMH Fragrances | GV4: Maestrani | GX4: Mars | GZ4: Moët Hennessy | HB4: Mondelez | HD4: NESTLE | HF4: Nuxe | HH4: Pernod Ricard | HJ4: Piper Heidsieck | HL4: PMI | HN4: Remy Cointreau | HP4: Ricola AG | HR4: Stolichnaya | HT4: Villars-Valrhona | HV4: Waldemar Behn | HX4: William Grant & Sons | HZ4: BRAND NAME | IB4: BRAND NAME | IE4: TOTAL BRANDS COST
F5: Week hours | G5: Sunday / BH hours | H5: Week hours | I5: Sunday / BH hours | J5: Week hours | K5: Sunday / BH hours | L5: Week hours | M5: Sunday / BH hours | N5: Week hours | O5: Sunday / BH hours | P5: Week hours | Q5: Sunday / BH hours | R5: Week hours | S5: Sunday / BH hours | T5: Week hours | U5: Sunday / BH hours | V5: Week hours | W5: Sunday / BH hours | X5: Week hours | Y5: Sunday / BH hours | Z5: Week hours | AA5: Sunday / BH hours | AB5: Week hours | AC5: Sunday / BH hours | AD5: Week hours | AE5: Sunday / BH hours | AF5: Week hours | AG5: Sunday / BH hours | AH5: Week hours | AI5: Sunday / BH hours | AJ5: Week hours | AK5: Sunday / BH hours | AL5: Week hours | AM5: Sunday / BH hours | AN5: Week hours | AO5: Sunday / BH hours | AP5: Week hours | AQ5: Sunday / BH hours | AR5: Week hours | AS5: Sunday / BH hours | AT5: Week hours | AU5: Sunday / BH hours | AV5: Week hours | AW5: Sunday / BH hours | AX5: Week hours | AY5: Sunday / BH hours | AZ5: Week hours | BA5: Sunday / BH hours | BB5: Week hours | BC5: Sunday / BH hours | BD5: Week hours | BE5: Sunday / BH hours | BF5: Week hours | BG5: Sunday / BH hours | BH5: Week hours | BI5: Sunday / BH hours | BJ5: Week hours | BK5: Sunday / BH hours | BL5: Week hours | BM5: Sunday / BH hours | BN5: Week hours | BO5: Sunday / BH hours | BP5: Week hours | BQ5: Sunday / BH hours | BR5: Week hours | BS5: Sunday / BH hours | BT5: Week hours | BU5: Sunday / BH hours | BV5: Week hours | BW5: Sunday / BH hours | BX5: Week hours | BY5: Sunday / BH hours | BZ5: Week hours | CA5: Sunday / BH hours | CB5: Week hours | CC5: Sunday / BH hours | CD5: Week hours | CE5: Sunday / BH hours | CF5: Week hours | CG5: Sunday / BH hours | CH5: Week hours | CI5: Sunday / BH hours | CJ5: Week hours | CK5: Sunday / BH hours | CL5: Week hours | CM5: Sunday / BH hours | CN5: Week hours | CO5: Sunday / BH hours | CP5: Week hours | CQ5: Sunday / BH hours | CR5: Week hours | CS5: Sunday / BH hours | CT5: Week hours | CU5: Sunday / BH hours | CV5: Week hours | CW5: Sunday / BH hours | CX5: Week hours | CY5: Sunday / BH hours | CZ5: Week hours | DA5: Sunday / BH hours | DB5: Week hours | DC5: Sunday / BH hours | DD5: Week hours | DE5: Sunday / BH hours | DF5: Week hours | DG5: Sunday / BH hours | DI5: Week hours | DJ5: Sunday / BH hours | DL5: Week hours | DM5: Sunday / BH hours | DO5: x = certificate | DP5: Total hours | DR5: Week hours | DT5: Total REGULAR HOURS | DU5: COST | DV5: Total SUNDAY / BH hours | DW5: COST | DX5: TOTAL COST | DY5: CHECK | DZ5: CHECK | EB5: Week hours | EC5: Sunday / BH hours | ED5: Week hours | EE5: Sunday / BH hours | EF5: Week hours | EG5: Sunday / BH hours | EH5: Week hours | EI5: Sunday / BH hours | EJ5: Week hours | EK5: Sunday / BH hours | EL5: Week hours | EM5: Sunday / BH hours | EN5: Week hours | EO5: Sunday / BH hours | EP5: Week hours | EQ5: Sunday / BH hours | ER5: Week hours | ES5: Sunday / BH hours | ET5: Week hours | EU5: Sunday / BH hours | EV5: Week hours | EW5: Sunday / BH hours | EX5: Week hours | EY5: Sunday / BH hours | EZ5: Week hours | FA5: Sunday / BH hours | FB5: Week hours | FC5: Sunday / BH hours | FD5: Week hours | FE5: Sunday / BH hours | FF5: Week hours | FG5: Sunday / BH hours | FH5: Week hours | FI5: Sunday / BH hours | FJ5: Week hours | FK5: Sunday / BH hours | FL5: Week hours | FM5: Sunday / BH hours | FN5: Week hours | FO5: Sunday / BH hours | FP5: Week hours | FQ5: Sunday / BH hours | FR5: Week hours | FS5: Sunday / BH hours | FT5: Week hours | FU5: Sunday / BH hours | FV5: Week hours | FW5: Sunday / BH hours | FX5: Week hours | FY5: Sunday / BH hours | FZ5: Week hours | GA5: Sunday / BH hours | GB5: Week hours | GC5: Sunday / BH hours | GD5: Week hours | GE5: Sunday / BH hours | GF5: Week hours | GG5: Sunday / BH hours | GH5: Week hours | GI5: Sunday / BH hours | GJ5: Week hours | GK5: Sunday / BH hours | GL5: Week hours | GM5: Sunday / BH hours | GN5: Week hours | GO5: Sunday / BH hours | GP5: Week hours | GQ5: Sunday / BH hours | GR5: Week hours | GS5: Sunday / BH hours | GT5: Week hours | GU5: Sunday / BH hours | GV5: Week hours | GW5: Sunday / BH hours | GX5: Week hours | GY5: Sunday / BH hours | GZ5: Week hours | HA5: Sunday / BH hours | HB5: Week hours | HC5: Sunday / BH hours | HD5: Week hours | HE5: Sunday / BH hours | HF5: Week hours | HG5: Sunday / BH hours | HH5: Week hours | HI5: Sunday / BH hours | HJ5: Week hours | HK5: Sunday / BH hours | HL5: Week hours | HM5: Sunday / BH hours | HN5: Week hours | HO5: Sunday / BH hours | HP5: Week hours | HQ5: Sunday / BH hours | HR5: Week hours | HS5: Sunday / BH hours | HT5: Week hours | HU5: Sunday / BH hours | HV5: Week hours | HW5: Sunday / BH hours | HX5: Week hours | HY5: Sunday / BH hours | HZ5: Week hours | IA5: Sunday / BH hours | IB5: Week hours | IC5: Sunday / BH hours
B6: Employee's Name | F6: h | G6: h | H6: h | I6: h | J6: h | K6: h | L6: h | M6: h | N6: h | O6: h | P6: h | Q6: h | R6: h | S6: h | T6: h | U6: h | V6: h | W6: h | X6: h | Y6: h | Z6: h | AA6: h | AB6: h | AC6: h | AD6: h | AE6: h | AF6: h | AG6: h | AH6: h | AI6: h | AJ6: h | AK6: h | AL6: h | AM6: h | AN6: h | AO6: h | AP6: h | AQ6: h | AR6: h | AS6: h | AT6: h | AU6: h | AV6: h | AW6: h | AX6: h | AY6: h | AZ6: h | BA6: h | BB6: h | BC6: h | BD6: h | BE6: h | BF6: h | BG6: h | BH6: h | BI6: h | BJ6: h | BK6: h | BL6: h | BM6: h | BN6: h | BO6: h | BP6: h | BQ6: h | BR6: h | BS6: h | BT6: h | BU6: h | BV6: h | BW6: h | BX6: h | BY6: h | BZ6: h | CA6: h | CB6: h | CC6: h | CD6: h | CE6: h | CF6: h | CG6: h | CH6: h | CI6: h | CJ6: h | CK6: h | CL6: h | CM6: h | CN6: h | CO6: h | CP6: h | CQ6: h | CR6: h | CS6: h | CT6: h | CU6: h | CV6: h | CW6: h | CX6: h | CY6: h | CZ6: h | DA6: h | DB6: h | DC6: h | DD6: h | DE6: h | DF6: h | DG6: h | DI6: h | DJ6: h | DL6: h | DM6: h | DP6: h | DR6: h | DT6: h | DV6: h | EB6: CHF | EC6: CHF | ED6: CHF | EE6: CHF | EF6: CHF | EG6: CHF | EH6: CHF | EI6: CHF | EJ6: CHF | EK6: CHF | EL6: CHF | EM6: CHF | EN6: CHF | EO6: CHF | EP6: CHF | EQ6: CHF | ER6: CHF | ES6: CHF | ET6: CHF | EU6: CHF | EV6: CHF | EW6: CHF | EX6: CHF | EY6: CHF | EZ6: CHF | FA6: CHF | FB6: CHF | FC6: CHF | FD6: CHF | FE6: CHF | FF6: CHF | FG6: CHF | FH6: CHF | FI6: CHF | FJ6: CHF | FK6: CHF | FL6: CHF | FM6: CHF | FN6: CHF | FO6: CHF | FP6: CHF | FQ6: CHF | FR6: CHF | FS6: CHF | FT6: CHF | FU6: CHF | FV6: CHF | FW6: CHF | FX6: CHF | FY6: CHF | FZ6: CHF | GA6: CHF | GB6: CHF | GC6: CHF | GD6: CHF | GE6: CHF | GF6: CHF | GG6: CHF | GH6: CHF | GI6: CHF | GJ6: CHF | GK6: CHF | GL6: CHF | GM6: CHF | GN6: CHF | GO6: CHF | GP6: CHF | GQ6: CHF | GR6: CHF | GS6: CHF | GT6: CHF | GU6: CHF | GV6: CHF | GW6: CHF | GX6: CHF | GY6: CHF | GZ6: CHF | HA6: CHF | HB6: CHF | HC6: CHF | HD6: CHF | HE6: CHF | HF6: CHF | HG6: CHF | HH6: CHF | HI6: CHF | HJ6: CHF | HK6: CHF | HL6: CHF | HM6: CHF | HN6: CHF | HO6: CHF | HP6: CHF | HQ6: CHF | HR6: CHF | HS6: CHF | HT6: CHF | HU6: CHF | HV6: CHF | HW6: CHF | HX6: CHF | HY6: CHF | HZ6: CHF | IA6: CHF | IB6: CHF | IC6: CHF
F7: =F4 -> Advini | G7: =F7 -> Advini | H7: =H4 -> AEGERTER (SA BPGA) | I7: =H7 -> AEGERTER (SA BPGA) | J7: =J4 -> Agora Trad Lux | K7: =J7 -> Agora Trad Lux | L7: =L4 -> Bacardi | M7: =L7 -> Bacardi | N7: =N4 -> BAT (ou via Brand Venue) | O7: =N7 -> BAT (ou via Brand Venue) | P7: =P4 -> Beam Suntory | Q7: =P7 -> Beam Suntory | R7: =R4 -> Beluga | S7: =R7 -> Beluga | T7: =T4 -> Brown Forman | U7: =T7 -> Brown Forman | V7: =V4 -> Bulgari | W7: =V7 -> Bulgari | X7: =X4 -> Camille Bloch | Y7: =X7 -> Camille Bloch | Z7: =Z4 -> Campari | AA7: =Z7 -> Campari | AB7: =AB4 -> Camus cognac | AC7: =AB7 -> Camus cognac | AD7: =AD4 -> Château d'Estoublon | AE7: =AD7 -> Château d'Estoublon | AF7: =AF4 -> Clarins | AG7: =AF7 -> Clarins | AH7: =AH4 -> Coty via Airport Staff | AI7: =AH7 -> Coty via Airport Staff | AJ7: =AJ4 -> Council Intelligence Retail | AK7: =AJ7 -> Council Intelligence Retail | AL7: =AL4 -> Davidoff | AM7: =AL7 -> Davidoff | AN7: =AN4 -> Dior | AO7: =AN7 -> Dior | AP7: =AP4 -> Distell | AQ7: =AP7 -> Distell | AR7: =AR4 -> Dufry | AS7: =AR7 -> Dufry | AT7: =AT4 -> Edrington | AU7: =AT7 -> Edrington | AV7: =AV4 -> REVLON - ELISABETH ARDEN | AW7: =AV7 -> REVLON - ELISABETH ARDEN | AX7: =AX4 -> Favarger | AY7: =AX7 -> Favarger | AZ7: =AZ4 -> Ferrero | BA7: =AZ7 -> Ferrero | BB7: =BB4 -> Fossil | BC7: =BB7 -> Fossil | BD7: =BD4 -> Godiva | BE7: =BD7 -> Godiva | BF7: =BF4 -> Goldkenn | BG7: =BF7 -> Goldkenn | BH7: =BH4 -> Haecky Drinks | BI7: =BH7 -> Haecky Drinks | BJ7: =BJ4 -> ITG | BK7: =BJ7 -> ITG | BL7: =BL4 -> Jordan Design | BM7: =BL7 -> Jordan Design | BN7: =BN4 -> JTI | BO7: =BN7 -> JTI | BP7: =BP4 -> Lagardere TR | BQ7: =BP7 -> Lagardere TR | BR7: =BR4 -> Lateltin | BS7: =BR7 -> Lateltin | BT7: =BT4 -> Laurent Perrier | BU7: =BT7 -> Laurent Perrier | BV7: =BV4 -> Lindt | BW7: =BV7 -> Lindt | BX7: =BX4 -> LVMH Fragrances | BY7: =BX7 -> LVMH Fragrances | BZ7: =BZ4 -> Maestrani | CA7: =BZ7 -> Maestrani | CB7: =CB4 -> Mars | CC7: =CB7 -> Mars | CD7: =CD4 -> Moët Hennessy | CE7: =CD7 -> Moët Hennessy | CF7: =CF4 -> Mondelez | CG7: =CF7 -> Mondelez | CH7: =CH4 -> NESTLE | CI7: =CH7 -> NESTLE | CJ7: =CJ4 -> Nuxe | CK7: =CJ7 -> Nuxe | CL7: =CL4 -> Pernod Ricard | CM7: =CL7 -> Pernod Ricard | CN7: =CN4 -> Piper Heidsieck | CO7: =CN7 -> Piper Heidsieck | CP7: =CP4 -> PMI | CQ7: =CP7 -> PMI | CR7: =CR4 -> Remy Cointreau | CS7: =CR7 -> Remy Cointreau | CT7: =CT4 -> Ricola AG | CU7: =CT7 -> Ricola AG | CV7: =CV4 -> Stolichnaya | CW7: =CV7 -> Stolichnaya | CX7: =CX4 -> Villars-Valrhona | CY7: =CX7 -> Villars-Valrhona | CZ7: =CZ4 -> Waldemar Behn | DA7: =CZ7 -> Waldemar Behn | DB7: =DB4 -> William Grant & Sons | DC7: =DB7 -> William Grant & Sons | DD7: =DD4 -> BRAND NAME | DE7: =DD7 -> BRAND NAME | DF7: =DF4 -> BRAND NAME | DG7: =DF7 -> BRAND NAME | EC7: =EB4 -> Advini | EE7: =ED4 -> AEGERTER (SA BPGA) | EG7: =EF4 -> Agora Trad Lux | EI7: =EH4 -> Bacardi | EK7: =EJ4 -> BAT (ou via Brand Venue) | EM7: =EL4 -> Beam Suntory | EO7: =EN4 -> Beluga | EQ7: =EP4 -> Brown Forman | ES7: =ER4 -> Bulgari | EU7: =ET4 -> Camille Bloch | EW7: =EV4 -> Campari | EY7: =EX4 -> Camus Cognac | FA7: =EZ4 -> Château d'Estoublon | FC7: =FB4 -> Clarins | FE7: =FD4 -> Coty via Airport Staff | FG7: =FF4 -> Council Intelligence Retail | FI7: =FH4 -> Davidoff | FK7: =FJ4 -> Dior | FM7: =FL4 -> Distell | FO7: =FN4 -> Dufry | FQ7: =FP4 -> Edrington | FS7: =FR4 -> REVLON - ELISABETH ARDEN | FU7: =FT4 -> Favarger | FW7: =FV4 -> Ferrero | FY7: =FX4 -> Fossil | GA7: =FZ4 -> Godiva | GC7: =GB4 -> Goldkenn | GE7: =GD4 -> Haecky Drinks | GG7: =GF4 -> ITG | GI7: =GH4 -> Jordan Design | GK7: =GJ4 -> JTI | GM7: =GL4 -> Lagardere TR | GO7: =GN4 -> Lateltin | GQ7: =GP4 -> Laurent Perrier | GS7: =GR4 -> Lindt | GU7: =GT4 -> LVMH Fragrances | GW7: =GV4 -> Maestrani | GY7: =GX4 -> Mars | HA7: =GZ4 -> Moët Hennessy | HC7: =HB4 -> Mondelez | HE7: =HD4 -> NESTLE | HG7: =HF4 -> Nuxe | HI7: =HH4 -> Pernod Ricard | HK7: =HJ4 -> Piper Heidsieck | HM7: =HL4 -> PMI | HO7: =HN4 -> Remy Cointreau | HQ7: =HP4 -> Ricola AG | HS7: =HR4 -> Stolichnaya | HU7: =HT4 -> Villars-Valrhona | HW7: =HV4 -> Waldemar Behn | HY7: =HX4 -> William Grant & Sons | IA7: =HZ4 -> BRAND NAME | IC7: =IB4 -> BRAND NAME
D8: GRAND TOTAL PER BRAND : | F8: =F24+F63+F88+F99 -> 0 | G8: =G24+G63+G88+G99 -> 0 | H8: =H24+H63+H88+H99 -> 0 | I8: =I24+I63+I88+I99 -> 0 | J8: =J24+J63+J88+J99 -> 0 | K8: =K24+K63+K88+K99 -> 0 | L8: =L24+L63+L88+L99 -> 330.75 | M8: =M24+M63+M88+M99 -> 63.25 | ... DG8: =DG24+DG63+DG88+DG99 -> 0 | DI8: =DI24+DI63+DI88+DI99 -> 13 | DJ8: =DJ24+DJ63+DJ88+DJ99 -> 0 | DL8: =DL24+DL63+DL88+DL99 -> 868.5 | DM8: =DM24+DM63+DM88+DM99 -> 31 | DN8: =IF((#REF!+#REF!+#REF!+#REF!+#REF!+#REF!+#REF!+#REF!+#REF!+#REF!)=#REF!,"","!!") -> #REF! | DO8: =DO24+DO63+DO88+DO99 -> 6 | DP8: =DP24+DP63+DP88+DP99 -> 174 | DR8: =DR24+DR63+DR88+DR99 -> 184 | DT8: =DL8+DI8+DF8+L8+CX8+BX8+AX8+AF8+AL8+BZ8+DB8+CR8+CP8+CL8+CH8+CF8+CD8+BN8+AR8+N8-DP8+DD8+BP8+CB8+Z8+CT8+BJ8+DR8+CZ8+CV8+CN8+CJ8+BV8+BT8+BR8+BL8+BH8+BF8+BD8+BB8+AZ8+AV8+AT8+AP8+AN8+AJ8+AH8+AD8+AB8+X8+V8+T8+R8+P8+J8+H8+F8 -> 6445.25 | DU8: =DU24+DU63+DU88+DU99 -> #REF! | DV8: =DM8+DJ8+DG8+M8+CY8+BY8+AY8+AG8+AM8+CA8+DC8+CS8+CQ8+CM8+CI8+CG8+CE8+BO8+AS8+O8+DE8+BQ8+CC8+AA8+CU8+BK8+DA8+CW8+CO8+CK8+BW8+BU8+BS8+BM8+BI8+BG8+BE8+BC8+BA8+AW8+AU8+AQ8+AO8+AK8+AI8+AE8+AC8+Y8+W8+U8+S8+Q8+K8+I8+G8 -> 846.9 | DW8: =DW24+DW63+DW88+DW99 -> #REF! | DX8: =DW8+DU8 -> #REF! | DY8: =DX8-(DW8+DU8) -> #REF! | DZ8: =IF(DY8=0,"","!!") -> #REF! | EB8: =EB24+EB63+EB88+EB99 -> 0 | EC8: =EC24+EC63+EC88+EC99 -> 0 | ED8: =ED24+ED63+ED88+ED99 -> 0 | EE8: =EE24+EE63+EE88+EE99 -> 0 | EF8: =EF24+EF63+EF88+EF99 -> 0 | EG8: =EG24+EG63+EG88+EG99 -> 0 | EH8: =EH24+EH63+EH88+EH99 -> #REF! | EI8: =EI24+EI63+EI88+EI99 -> #REF! | ... IC8: =IC24+IC63+IC88+IC99 -> 0 | IE8: =IE24+IE63+IE88+IE99 -> #REF! | IF8: =IF24+IF63+IF88+IF99 -> #REF!
B9: 1 | C9: 2 | D9: 3 | F9: 5 | G9: 6 | H9: 7 | I9: 8 | J9: 9 | K9: 10 | L9: 11 | M9: 12 | N9: 13 | O9: 14 | P9: 15 | Q9: 16 | R9: 17 | S9: 18 | T9: 19 | U9: 20 | V9: 21 | W9: 22 | X9: 23 | Y9: 24 | Z9: 27 | AA9: 28 | AB9: 25 | AC9: 26 | AD9: 29 | AE9: 30 | AF9: 31 | AG9: 32 | AH9: 33 | AI9: 34 | AJ9: 35 | AK9: 36 | AL9: 85 | AM9: 86 | AN9: 37 | AO9: 38 | AP9: 39 | AQ9: 40 | AR9: 41 | AS9: 42 | AT9: 43 | AU9: 44 | AV9: 45 | AW9: 46 | AX9: 47 | AY9: 48 | AZ9: 49 | BA9: 50 | BB9: 51 | BC9: 52 | BD9: 53 | BE9: 54 | BF9: 55 | BG9: 56 | BH9: 57 | BI9: 58 | BJ9: 59 | BK9: 60 | BL9: 61 | BM9: 62 | BN9: 63 | BO9: 64 | BP9: 105 | BQ9: 106 | BR9: 65 | BS9: 66 | BT9: 67 | BU9: 68 | BV9: 69 | BW9: 70 | BX9: 71 | BY9: 72 | BZ9: 73 | CA9: 74 | CB9: 75 | CC9: 76 | CD9: 77 | CE9: 78 | CF9: 79 | CG9: 80 | CH9: 81 | CI9: 82 | CJ9: 83 | CK9: 84 | CL9: 87 | CM9: 88 | CN9: 89 | CO9: 90 | CP9: 91 | CQ9: 92 | CR9: 93 | CS9: 94 | CT9: 95 | CU9: 96 | CV9: 97 | CW9: 98 | CX9: 99 | CY9: 100 | CZ9: 101 | DA9: 102 | DB9: 103 | DC9: 104 | DD9: 107 | DE9: 108 | DF9: 109 | DG9: 110 | DH9: 111 | DI9: 112 | DJ9: 113 | DK9: 114 | DL9: 115 | DM9: 116 | DN9: 117 | DO9: 118 | DP9: 119 | DQ9: 120 | DR9: 121 | DS9: 122 | DT9: 123 | DU9: 124 | DV9: 125 | DW9: 126 | DX9: 127 | EC9: =EC8+EB8 -> 0 | EE9: =EE8+ED8 -> 0 | EG9: =EG8+EF8 -> 0 | EI9: =EI8+EH8 -> #REF! | EK9: =EK8+EJ8 -> 0 | EM9: =EM8+EL8 -> 0 | EO9: =EO8+EN8 -> 0 | EQ9: =EQ8+EP8 -> 0 | ES9: =ES8+ER8 -> 0 | EU9: =EU8+ET8 -> 0 | EW9: =EW8+EV8 -> 0 | EY9: =EY8+EX8 -> #REF! | FA9: =FA8+EZ8 -> 0 | FC9: =FC8+FB8 -> #REF! | FE9: =FE8+FD8 -> 0 | FG9: =FG8+FF8 -> 0 | FI9: =FI8+FH8 -> #REF! | FK9: =FK8+FJ8 -> 0 | FM9: =FM8+FL8 -> 0 | FO9: =FO8+FN8 -> #REF! | FQ9: =FQ8+FP8 -> 0 | FS9: =FS8+FR8 -> 0 | FU9: =FU8+FT8 -> #REF! | FW9: =FW8+FV8 -> 0 | FY9: =FY8+FX8 -> 0 | GA9: =GA8+FZ8 -> 0 | GC9: =GC8+GB8 -> 0 | GE9: =GE8+GD8 -> 0 | GG9: =GG8+GF8 -> #REF! | GI9: =GI8+GH8 -> 0 | GK9: =GK8+GJ8 -> #REF! | GM9: =GM8+GL8 -> 0 | GO9: =GO8+GN8 -> 0 | GQ9: =GQ8+GP8 -> 0 | GS9: =GS8+GR8 -> 0 | GU9: =GU8+GT8 -> #REF! | GW9: =GW8+GV8 -> 0 | GY9: =GY8+GX8 -> 0 | HA9: =HA8+GZ8 -> #REF! | HC9: =HC8+HB8 -> #REF! | HE9: =HE8+HD8 -> #REF! | HG9: =HG8+HF8 -> 0 | HI9: =HI8+HH8 -> #REF! | HK9: =HK8+HJ8 -> 0 | HM9: =HM8+HL8 -> #REF! | HO9: =HO8+HN8 -> #REF! | HQ9: =HQ8+HP8 -> 0 | HS9: =HS8+HR8 -> 0 | HU9: =HU8+HT8 -> #REF! | HW9: =HW8+HV8 -> 0 | HY9: =HY8+HX8 -> #REF! | IA9: =IA8+HZ8 -> 0 | IC9: =IC8+IB8 -> 0 | IF9: =IF8+IE8 -> #REF!
A10: Code | B10: BASEL - PRODUCTION
A11: PBSLBE | B11: BILLOUDET | C11: Emilie | D11: =IF((DV11+DT11)>0,DV11+DT11,"") | DT11: =DL11+DI11+DF11+L11+CX11+BX11+AX11+AF11+AL11+BZ11+DB11+CR11+CP11+CL11+CH11+CF11+CD11+BN11+AR11+N11-DP11+DD11+BP11+CB11+Z11+CT11+BJ11+DR11+CZ11+CV11+CN11+CJ11+BV11+BT11+BR11+BL11+BH11+BF11+BD11+BB11+AZ11+AV11+AT11+AP11+AN11+AJ11+AH11+AD11+AB11+X11+V11+T11+R11+P11+J11+H11+F11 -> 0 | DU11: =(DT11*(VLOOKUP(A11,#REF!,29,0)))-(IF(DO11="x",MROUND(DP11*(VLOOKUP(A11,#REF!,29,0)*0.08),0.05),0)) -> #REF! | DV11: =DM11+DJ11+DG11+M11+CY11+BY11+AY11+AG11+AM11+CA11+DC11+CS11+CQ11+CM11+CI11+CG11+CE11+BO11+AS11+O11+DE11+BQ11+CC11+AA11+CU11+BK11+DA11+CW11+CO11+CK11+BW11+BU11+BS11+BM11+BI11+BG11+BE11+BC11+BA11+AW11+AU11+AQ11+AO11+AK11+AI11+AE11+AC11+Y11+W11+U11+S11+Q11+K11+I11+G11 -> 0 | DW11: =(DV11*(VLOOKUP(A11,#REF!,31,0))) -> #REF! | DX11: =VLOOKUP(A11,#REF!,33,0) -> #REF! | DY11: =DX11-(DW11+DU11) -> #REF! | DZ11: =IF(DY11=0,"","!!") -> #REF! | EB11: =IF(F11>0,(VLOOKUP($A11,#REF!,29,0)*F11),"") | EC11: =IF(G11>0,(VLOOKUP($A11,#REF!,31,0)*G11),"") | ED11: =IF(H11>0,(VLOOKUP($A11,#REF!,29,0)*H11),"") | EE11: =IF(I11>0,(VLOOKUP($A11,#REF!,31,0)*I11),"") | EF11: =IF(J11>0,(VLOOKUP($A11,#REF!,29,0)*J11),"") | EG11: =IF(K11>0,(VLOOKUP($A11,#REF!,31,0)*K11),"") | EH11: =IF(L11>0,(VLOOKUP($A11,#REF!,29,0)*L11),"") | EI11: =IF(M11>0,(VLOOKUP($A11,#REF!,31,0)*M11),"") | EJ11: =IF(N11>0,(VLOOKUP($A11,#REF!,29,0)*N11),"") | EK11: =IF(O11>0,(VLOOKUP($A11,#REF!,31,0)*O11),"") | EL11: =IF(P11>0,(VLOOKUP($A11,#REF!,29,0)*P11),"") | EM11: =IF(Q11>0,(VLOOKUP($A11,#REF!,31,0)*Q11),"") | EN11: =IF(R11>0,(VLOOKUP($A11,#REF!,29,0)*R11),"") | EO11: =IF(S11>0,(VLOOKUP($A11,#REF!,31,0)*S11),"") | EP11: =IF(T11>0,(VLOOKUP($A11,#REF!,29,0)*T11),"") | EQ11: =IF(U11>0,(VLOOKUP($A11,#REF!,31,0)*U11),"") | ER11: =IF(V11>0,(VLOOKUP($A11,#REF!,29,0)*V11),"") | ES11: =IF(W11>0,(VLOOKUP($A11,#REF!,31,0)*W11),"") | ET11: =IF(X11>0,(VLOOKUP($A11,#REF!,29,0)*X11),"") | EU11: =IF(Y11>0,(VLOOKUP($A11,#REF!,31,0)*Y11),"") | EV11: =IF(Z11>0,(VLOOKUP($A11,#REF!,29,0)*Z11),"") | EW11: =IF(AA11>0,(VLOOKUP($A11,#REF!,31,0)*AA11),"") | EX11: =IF(AB11>0,(VLOOKUP($A11,#REF!,29,0)*AB11),"") | EY11: =IF(AC11>0,(VLOOKUP($A11,#REF!,31,0)*AC11),"") | EZ11: =IF(AD11>0,(VLOOKUP($A11,#REF!,29,0)*AD11),"") | FA11: =IF(AE11>0,(VLOOKUP($A11,#REF!,31,0)*AE11),"") | FB11: =IF(AF11>0,(VLOOKUP($A11,#REF!,29,0)*AF11),"") | FC11: =IF(AG11>0,(VLOOKUP($A11,#REF!,31,0)*AG11),"") | FD11: =IF(AH11>0,(VLOOKUP($A11,#REF!,29,0)*AH11),"") | FE11: =IF(AI11>0,(VLOOKUP($A11,#REF!,31,0)*AI11),"") | FF11: =IF(AJ11>0,(VLOOKUP($A11,#REF!,29,0)*AJ11),"") | FG11: =IF(AK11>0,(VLOOKUP($A11,#REF!,31,0)*AK11),"") | FH11: =IF(AL11>0,(VLOOKUP($A11,#REF!,29,0)*AL11),"") | FI11: =IF(AM11>0,(VLOOKUP($A11,#REF!,31,0)*AM11),"") | FJ11: =IF(AN11>0,(VLOOKUP($A11,#REF!,29,0)*AN11),"") | FK11: =IF(AO11>0,(VLOOKUP($A11,#REF!,31,0)*AO11),"") | FL11: =IF(AP11>0,(VLOOKUP($A11,#REF!,29,0)*AP11),"") | FM11: =IF(AQ11>0,(VLOOKUP($A11,#REF!,31,0)*AQ11),"") | FN11: =IF(AR11>0,(VLOOKUP($A11,#REF!,29,0)*AR11),"") | FO11: =IF(AS11>0,(VLOOKUP($A11,#REF!,31,0)*AS11),"") | FP11: =IF(AT11>0,(VLOOKUP($A11,#REF!,29,0)*AT11),"") | FQ11: =IF(AU11>0,(VLOOKUP($A11,#REF!,31,0)*AU11),"") | FR11: =IF(AV11>0,(VLOOKUP($A11,#REF!,29,0)*AV11),"") | FS11: =IF(AW11>0,(VLOOKUP($A11,#REF!,31,0)*AW11),"") | FT11: =IF(AX11>0,(VLOOKUP($A11,#REF!,29,0)*AX11),"") | FU11: =IF(AY11>0,(VLOOKUP($A11,#REF!,31,0)*AY11),"") | FV11: =IF(AZ11>0,(VLOOKUP($A11,#REF!,29,0)*AZ11),"") | FW11: =IF(BA11>0,(VLOOKUP($A11,#REF!,31,0)*BA11),"") | FX11: =IF(BB11>0,(VLOOKUP($A11,#REF!,29,0)*BB11),"") | FY11: =IF(BC11>0,(VLOOKUP($A11,#REF!,31,0)*BC11),"") | FZ11: =IF(BD11>0,(VLOOKUP($A11,#REF!,29,0)*BD11),"") | GA11: =IF(BE11>0,(VLOOKUP($A11,#REF!,31,0)*BE11),"") | GB11: =IF(BF11>0,(VLOOKUP($A11,#REF!,29,0)*BF11),"") | GC11: =IF(BG11>0,(VLOOKUP($A11,#REF!,31,0)*BG11),"") | GD11: =IF(BH11>0,(VLOOKUP($A11,#REF!,29,0)*BH11),"") | GE11: =IF(BI11>0,(VLOOKUP($A11,#REF!,31,0)*BI11),"") | GF11: =IF(BJ11>0,(VLOOKUP($A11,#REF!,29,0)*BJ11),"") | GG11: =IF(BK11>0,(VLOOKUP($A11,#REF!,31,0)*BK11),"") | GH11: =IF(BL11>0,(VLOOKUP($A11,#REF!,29,0)*BL11),"") | GI11: =IF(BM11>0,(VLOOKUP($A11,#REF!,31,0)*BM11),"") | GJ11: =IF(BN11>0,(VLOOKUP($A11,#REF!,29,0)*BN11),"") | GK11: =IF(BO11>0,(VLOOKUP($A11,#REF!,31,0)*BO11),"") | GL11: =IF(BP11>0,(VLOOKUP($A11,#REF!,29,0)*BP11),"") | GM11: =IF(BQ11>0,(VLOOKUP($A11,#REF!,31,0)*BQ11),"") | GN11: =IF(BR11>0,(VLOOKUP($A11,#REF!,29,0)*BR11),"") | GO11: =IF(BS11>0,(VLOOKUP($A11,#REF!,31,0)*BS11),"") | GP11: =IF(BT11>0,(VLOOKUP($A11,#REF!,29,0)*BT11),"") | GQ11: =IF(BU11>0,(VLOOKUP($A11,#REF!,31,0)*BU11),"") | GR11: =IF(BV11>0,(VLOOKUP($A11,#REF!,29,0)*BV11),"") | GS11: =IF(BW11>0,(VLOOKUP($A11,#REF!,31,0)*BW11),"") | GT11: =IF(BX11>0,(VLOOKUP($A11,#REF!,29,0)*BX11),"") | GU11: =IF(BY11>0,(VLOOKUP($A11,#REF!,31,0)*BY11),"") | GV11: =IF(BZ11>0,(VLOOKUP($A11,#REF!,29,0)*BZ11),"") | GW11: =IF(CA11>0,(VLOOKUP($A11,#REF!,31,0)*CA11),"") | GX11: =IF(CB11>0,(VLOOKUP($A11,#REF!,29,0)*CB11),"") | GY11: =IF(CC11>0,(VLOOKUP($A11,#REF!,31,0)*CC11),"") | GZ11: =IF(CD11>0,(VLOOKUP($A11,#REF!,29,0)*CD11),"") | HA11: =IF(CE11>0,(VLOOKUP($A11,#REF!,31,0)*CE11),"") | HB11: =IF(CF11>0,(VLOOKUP($A11,#REF!,29,0)*CF11),"") | HC11: =IF(CG11>0,(VLOOKUP($A11,#REF!,31,0)*CG11),"") | HD11: =IF(CH11>0,(VLOOKUP($A11,#REF!,29,0)*CH11),"") | HE11: =IF(CI11>0,(VLOOKUP($A11,#REF!,31,0)*CI11),"") | HF11: =IF(CJ11>0,(VLOOKUP($A11,#REF!,29,0)*CJ11),"") | HG11: =IF(CK11>0,(VLOOKUP($A11,#REF!,31,0)*CK11),"") | HH11: =IF(CL11>0,(VLOOKUP($A11,#REF!,29,0)*CL11),"") | HI11: =IF(CM11>0,(VLOOKUP($A11,#REF!,31,0)*CM11),"") | HJ11: =IF(CN11>0,(VLOOKUP($A11,#REF!,29,0)*CN11),"") | HK11: =IF(CO11>0,(VLOOKUP($A11,#REF!,31,0)*CO11),"") | HL11: =IF(CP11>0,(VLOOKUP($A11,#REF!,29,0)*CP11),"") | HM11: =IF(CQ11>0,(VLOOKUP($A11,#REF!,31,0)*CQ11),"") | HN11: =IF(CR11>0,(VLOOKUP($A11,#REF!,29,0)*CR11),"") | HO11: =IF(CS11>0,(VLOOKUP($A11,#REF!,31,0)*CS11),"") | HP11: =IF(CT11>0,(VLOOKUP($A11,#REF!,29,0)*CT11),"") | HQ11: =IF(CU11>0,(VLOOKUP($A11,#REF!,31,0)*CU11),"") | HR11: =IF(CV11>0,(VLOOKUP($A11,#REF!,29,0)*CV11),"") | HS11: =IF(CW11>0,(VLOOKUP($A11,#REF!,31,0)*CW11),"") | HT11: =IF(CX11>0,(VLOOKUP($A11,#REF!,29,0)*CX11),"") | HU11: =IF(CY11>0,(VLOOKUP($A11,#REF!,31,0)*CY11),"") | HV11: =IF(CZ11>0,(VLOOKUP($A11,#REF!,29,0)*CZ11),"") | HW11: =IF(DA11>0,(VLOOKUP($A11,#REF!,31,0)*DA11),"") | HX11: =IF(DB11>0,(VLOOKUP($A11,#REF!,29,0)*DB11),"") | HY11: =IF(DC11>0,(VLOOKUP($A11,#REF!,31,0)*DC11),"") | HZ11: =IF(DD11>0,(VLOOKUP($A11,#REF!,29,0)*DD11),"") | IA11: =IF(DE11>0,(VLOOKUP($A11,#REF!,31,0)*DE11),"") | IB11: =IF(DF11>0,(VLOOKUP($A11,#REF!,29,0)*DF11),"") | IC11: =IF(DG11>0,(VLOOKUP($A11,#REF!,31,0)*DG11),"")
A12: PBSLDJ | B12: DEBENATH [Promoter] | C12: Julie | D12: =IF((DV12+DT12)>0,DV12+DT12,"") -> 130 | BN12: 122 | BO12: 8 | DT12: =DL12+DI12+DF12+L12+CX12+BX12+AX12+AF12+AL12+BZ12+DB12+CR12+CP12+CL12+CH12+CF12+CD12+BN12+AR12+N12-DP12+DD12+BP12+CB12+Z12+CT12+BJ12+DR12+CZ12+CV12+CN12+CJ12+BV12+BT12+BR12+BL12+BH12+BF12+BD12+BB12+AZ12+AV12+AT12+AP12+AN12+AJ12+AH12+AD12+AB12+X12+V12+T12+R12+P12+J12+H12+F12 -> 122 | DU12: =(DT12*(VLOOKUP(A12,#REF!,29,0)))-(IF(DO12="x",MROUND(DP12*(VLOOKUP(A12,#REF!,29,0)*0.08),0.05),0)) -> #REF! | DV12: =DM12+DJ12+DG12+M12+CY12+BY12+AY12+AG12+AM12+CA12+DC12+CS12+CQ12+CM12+CI12+CG12+CE12+BO12+AS12+O12+DE12+BQ12+CC12+AA12+CU12+BK12+DA12+CW12+CO12+CK12+BW12+BU12+BS12+BM12+BI12+BG12+BE12+BC12+BA12+AW12+AU12+AQ12+AO12+AK12+AI12+AE12+AC12+Y12+W12+U12+S12+Q12+K12+I12+G12 -> 8 | DW12: =(DV12*(VLOOKUP(A12,#REF!,31,0))) -> #REF! | DX12: =VLOOKUP(A12,#REF!,33,0) -> #REF! | DY12: =DX12-(DW12+DU12) -> #REF! | DZ12: =IF(DY12=0,"","!!") -> #REF! | EB12: =IF(F12>0,(VLOOKUP($A12,#REF!,29,0)*F12),"") | EC12: =IF(G12>0,(VLOOKUP($A12,#REF!,31,0)*G12),"") | ED12: =IF(H12>0,(VLOOKUP($A12,#REF!,29,0)*H12),"") | EE12: =IF(I12>0,(VLOOKUP($A12,#REF!,31,0)*I12),"") | EF12: =IF(J12>0,(VLOOKUP($A12,#REF!,29,0)*J12),"") | EG12: =IF(K12>0,(VLOOKUP($A12,#REF!,31,0)*K12),"") | EH12: =IF(L12>0,(VLOOKUP($A12,#REF!,29,0)*L12),"") | EI12: =IF(M12>0,(VLOOKUP($A12,#REF!,31,0)*M12),"") | EJ12: =IF(N12>0,(VLOOKUP($A12,#REF!,29,0)*N12),"") | EK12: =IF(O12>0,(VLOOKUP($A12,#REF!,31,0)*O12),"") | EL12: =IF(P12>0,(VLOOKUP($A12,#REF!,29,0)*P12),"") | EM12: =IF(Q12>0,(VLOOKUP($A12,#REF!,31,0)*Q12),"") | EN12: =IF(R12>0,(VLOOKUP($A12,#REF!,29,0)*R12),"") | EO12: =IF(S12>0,(VLOOKUP($A12,#REF!,31,0)*S12),"") | EP12: =IF(T12>0,(VLOOKUP($A12,#REF!,29,0)*T12),"") | EQ12: =IF(U12>0,(VLOOKUP($A12,#REF!,31,0)*U12),"") | ER12: =IF(V12>0,(VLOOKUP($A12,#REF!,29,0)*V12),"") | ES12: =IF(W12>0,(VLOOKUP($A12,#REF!,31,0)*W12),"") | ET12: =IF(X12>0,(VLOOKUP($A12,#REF!,29,0)*X12),"") | EU12: =IF(Y12>0,(VLOOKUP($A12,#REF!,31,0)*Y12),"") | EV12: =IF(Z12>0,(VLOOKUP($A12,#REF!,29,0)*Z12),"") | EW12: =IF(AA12>0,(VLOOKUP($A12,#REF!,31,0)*AA12),"") | EX12: =IF(AB12>0,(VLOOKUP($A12,#REF!,29,0)*AB12),"") | EY12: =IF(AC12>0,(VLOOKUP($A12,#REF!,31,0)*AC12),"") | EZ12: =IF(AD12>0,(VLOOKUP($A12,#REF!,29,0)*AD12),"") | FA12: =IF(AE12>0,(VLOOKUP($A12,#REF!,31,0)*AE12),"") | FB12: =IF(AF12>0,(VLOOKUP($A12,#REF!,29,0)*AF12),"") | FC12: =IF(AG12>0,(VLOOKUP($A12,#REF!,31,0)*AG12),"") | FD12: =IF(AH12>0,(VLOOKUP($A12,#REF!,29,0)*AH12),"") | FE12: =IF(AI12>0,(VLOOKUP($A12,#REF!,31,0)*AI12),"") | FF12: =IF(AJ12>0,(VLOOKUP($A12,#REF!,29,0)*AJ12),"") | FG12: =IF(AK12>0,(VLOOKUP($A12,#REF!,31,0)*AK12),"") | FH12: =IF(AL12>0,(VLOOKUP($A12,#REF!,29,0)*AL12),"") | FI12: =IF(AM12>0,(VLOOKUP($A12,#REF!,31,0)*AM12),"") | FJ12: =IF(AN12>0,(VLOOKUP($A12,#REF!,29,0)*AN12),"") | FK12: =IF(AO12>0,(VLOOKUP($A12,#REF!,31,0)*AO12),"") | FL12: =IF(AP12>0,(VLOOKUP($A12,#REF!,29,0)*AP12),"") | FM12: =IF(AQ12>0,(VLOOKUP($A12,#REF!,31,0)*AQ12),"") | FN12: =IF(AR12>0,(VLOOKUP($A12,#REF!,29,0)*AR12),"") | FO12: =IF(AS12>0,(VLOOKUP($A12,#REF!,31,0)*AS12),"") | FP12: =IF(AT12>0,(VLOOKUP($A12,#REF!,29,0)*AT12),"") | FQ12: =IF(AU12>0,(VLOOKUP($A12,#REF!,31,0)*AU12),"") | FR12: =IF(AV12>0,(VLOOKUP($A12,#REF!,29,0)*AV12),"") | FS12: =IF(AW12>0,(VLOOKUP($A12,#REF!,31,0)*AW12),"") | FT12: =IF(AX12>0,(VLOOKUP($A12,#REF!,29,0)*AX12),"") | FU12: =IF(AY12>0,(VLOOKUP($A12,#REF!,31,0)*AY12),"") | FV12: =IF(AZ12>0,(VLOOKUP($A12,#REF!,29,0)*AZ12),"") | FW12: =IF(BA12>0,(VLOOKUP($A12,#REF!,31,0)*BA12),"") | FX12: =IF(BB12>0,(VLOOKUP($A12,#REF!,29,0)*BB12),"") | FY12: =IF(BC12>0,(VLOOKUP($A12,#REF!,31,0)*BC12),"") | FZ12: =IF(BD12>0,(VLOOKUP($A12,#REF!,29,0)*BD12),"") | GA12: =IF(BE12>0,(VLOOKUP($A12,#REF!,31,0)*BE12),"") | GB12: =IF(BF12>0,(VLOOKUP($A12,#REF!,29,0)*BF12),"") | GC12: =IF(BG12>0,(VLOOKUP($A12,#REF!,31,0)*BG12),"") | GD12: =IF(BH12>0,(VLOOKUP($A12,#REF!,29,0)*BH12),"") | GE12: =IF(BI12>0,(VLOOKUP($A12,#REF!,31,0)*BI12),"") | GF12: =IF(BJ12>0,(VLOOKUP($A12,#REF!,29,0)*BJ12),"") | GG12: =IF(BK12>0,(VLOOKUP($A12,#REF!,31,0)*BK12),"") | GH12: =IF(BL12>0,(VLOOKUP($A12,#REF!,29,0)*BL12),"") | GI12: =IF(BM12>0,(VLOOKUP($A12,#REF!,31,0)*BM12),"") | GJ12: =IF(BN12>0,(VLOOKUP($A12,#REF!,29,0)*BN12),"") -> #REF! | GK12: =IF(BO12>0,(VLOOKUP($A12,#REF!,31,0)*BO12),"") -> #REF! | GL12: =IF(BP12>0,(VLOOKUP($A12,#REF!,29,0)*BP12),"") | GM12: =IF(BQ12>0,(VLOOKUP($A12,#REF!,31,0)*BQ12),"") | GN12: =IF(BR12>0,(VLOOKUP($A12,#REF!,29,0)*BR12),"") | GO12: =IF(BS12>0,(VLOOKUP($A12,#REF!,31,0)*BS12),"") | GP12: =IF(BT12>0,(VLOOKUP($A12,#REF!,29,0)*BT12),"") | GQ12: =IF(BU12>0,(VLOOKUP($A12,#REF!,31,0)*BU12),"") | GR12: =IF(BV12>0,(VLOOKUP($A12,#REF!,29,0)*BV12),"") | GS12: =IF(BW12>0,(VLOOKUP($A12,#REF!,31,0)*BW12),"") | GT12: =IF(BX12>0,(VLOOKUP($A12,#REF!,29,0)*BX12),"") | GU12: =IF(BY12>0,(VLOOKUP($A12,#REF!,31,0)*BY12),"") | GV12: =IF(BZ12>0,(VLOOKUP($A12,#REF!,29,0)*BZ12),"") | GW12: =IF(CA12>0,(VLOOKUP($A12,#REF!,31,0)*CA12),"") | GX12: =IF(CB12>0,(VLOOKUP($A12,#REF!,29,0)*CB12),"") | GY12: =IF(CC12>0,(VLOOKUP($A12,#REF!,31,0)*CC12),"") | GZ12: =IF(CD12>0,(VLOOKUP($A12,#REF!,29,0)*CD12),"") | HA12: =IF(CE12>0,(VLOOKUP($A12,#REF!,31,0)*CE12),"") | HB12: =IF(CF12>0,(VLOOKUP($A12,#REF!,29,0)*CF12),"") | HC12: =IF(CG12>0,(VLOOKUP($A12,#REF!,31,0)*CG12),"") | HD12: =IF(CH12>0,(VLOOKUP($A12,#REF!,29,0)*CH12),"") | HE12: =IF(CI12>0,(VLOOKUP($A12,#REF!,31,0)*CI12),"") | HF12: =IF(CJ12>0,(VLOOKUP($A12,#REF!,29,0)*CJ12),"") | HG12: =IF(CK12>0,(VLOOKUP($A12,#REF!,31,0)*CK12),"") | HH12: =IF(CL12>0,(VLOOKUP($A12,#REF!,29,0)*CL12),"") | HI12: =IF(CM12>0,(VLOOKUP($A12,#REF!,31,0)*CM12),"") | HJ12: =IF(CN12>0,(VLOOKUP($A12,#REF!,29,0)*CN12),"") | HK12: =IF(CO12>0,(VLOOKUP($A12,#REF!,31,0)*CO12),"") | HL12: =IF(CP12>0,(VLOOKUP($A12,#REF!,29,0)*CP12),"") | HM12: =IF(CQ12>0,(VLOOKUP($A12,#REF!,31,0)*CQ12),"") | HN12: =IF(CR12>0,(VLOOKUP($A12,#REF!,29,0)*CR12),"") | HO12: =IF(CS12>0,(VLOOKUP($A12,#REF!,31,0)*CS12),"") | HP12: =IF(CT12>0,(VLOOKUP($A12,#REF!,29,0)*CT12),"") | HQ12: =IF(CU12>0,(VLOOKUP($A12,#REF!,31,0)*CU12),"") | HR12: =IF(CV12>0,(VLOOKUP($A12,#REF!,29,0)*CV12),"") | HS12: =IF(CW12>0,(VLOOKUP($A12,#REF!,31,0)*CW12),"") | HT12: =IF(CX12>0,(VLOOKUP($A12,#REF!,29,0)*CX12),"") | HU12: =IF(CY12>0,(VLOOKUP($A12,#REF!,31,0)*CY12),"") | HV12: =IF(CZ12>0,(VLOOKUP($A12,#REF!,29,0)*CZ12),"") | HW12: =IF(DA12>0,(VLOOKUP($A12,#REF!,31,0)*DA12),"") | HX12: =IF(DB12>0,(VLOOKUP($A12,#REF!,29,0)*DB12),"") | HY12: =IF(DC12>0,(VLOOKUP($A12,#REF!,31,0)*DC12),"") | HZ12: =IF(DD12>0,(VLOOKUP($A12,#REF!,29,0)*DD12),"") | IA12: =IF(DE12>0,(VLOOKUP($A12,#REF!,31,0)*DE12),"") | IB12: =IF(DF12>0,(VLOOKUP($A12,#REF!,29,0)*DF12),"") | IC12: =IF(DG12>0,(VLOOKUP($A12,#REF!,31,0)*DG12),"")
A13: PBSLDT | B13: DEVAUX | C13: Tiffany | D13: =IF((DV13+DT13)>0,DV13+DT13,"") | DT13: =DL13+DI13+DF13+L13+CX13+BX13+AX13+AF13+AL13+BZ13+DB13+CR13+CP13+CL13+CH13+CF13+CD13+BN13+AR13+N13-DP13+DD13+BP13+CB13+Z13+CT13+BJ13+DR13+CZ13+CV13+CN13+CJ13+BV13+BT13+BR13+BL13+BH13+BF13+BD13+BB13+AZ13+AV13+AT13+AP13+AN13+AJ13+AH13+AD13+AB13+X13+V13+T13+R13+P13+J13+H13+F13 -> 0 | DU13: =(DT13*(VLOOKUP(A13,#REF!,29,0)))-(IF(DO13="x",MROUND(DP13*(VLOOKUP(A13,#REF!,29,0)*0.08),0.05),0)) -> #REF! | DV13: =DM13+DJ13+DG13+M13+CY13+BY13+AY13+AG13+AM13+CA13+DC13+CS13+CQ13+CM13+CI13+CG13+CE13+BO13+AS13+O13+DE13+BQ13+CC13+AA13+CU13+BK13+DA13+CW13+CO13+CK13+BW13+BU13+BS13+BM13+BI13+BG13+BE13+BC13+BA13+AW13+AU13+AQ13+AO13+AK13+AI13+AE13+AC13+Y13+W13+U13+S13+Q13+K13+I13+G13 -> 0 | DW13: =(DV13*(VLOOKUP(A13,#REF!,31,0))) -> #REF! | DX13: =VLOOKUP(A13,#REF!,33,0) -> #REF! | DY13: =DX13-(DW13+DU13) -> #REF! | DZ13: =IF(DY13=0,"","!!") -> #REF! | EB13: =IF(F13>0,(VLOOKUP($A13,#REF!,29,0)*F13),"") | EC13: =IF(G13>0,(VLOOKUP($A13,#REF!,31,0)*G13),"") | ED13: =IF(H13>0,(VLOOKUP($A13,#REF!,29,0)*H13),"") | EE13: =IF(I13>0,(VLOOKUP($A13,#REF!,31,0)*I13),"") | EF13: =IF(J13>0,(VLOOKUP($A13,#REF!,29,0)*J13),"") | EG13: =IF(K13>0,(VLOOKUP($A13,#REF!,31,0)*K13),"") | EH13: =IF(L13>0,(VLOOKUP($A13,#REF!,29,0)*L13),"") | EI13: =IF(M13>0,(VLOOKUP($A13,#REF!,31,0)*M13),"") | EJ13: =IF(N13>0,(VLOOKUP($A13,#REF!,29,0)*N13),"") | EK13: =IF(O13>0,(VLOOKUP($A13,#REF!,31,0)*O13),"") | EL13: =IF(P13>0,(VLOOKUP($A13,#REF!,29,0)*P13),"") | EM13: =IF(Q13>0,(VLOOKUP($A13,#REF!,31,0)*Q13),"") | EN13: =IF(R13>0,(VLOOKUP($A13,#REF!,29,0)*R13),"") | EO13: =IF(S13>0,(VLOOKUP($A13,#REF!,31,0)*S13),"") | EP13: =IF(T13>0,(VLOOKUP($A13,#REF!,29,0)*T13),"") | EQ13: =IF(U13>0,(VLOOKUP($A13,#REF!,31,0)*U13),"") | ER13: =IF(V13>0,(VLOOKUP($A13,#REF!,29,0)*V13),"") | ES13: =IF(W13>0,(VLOOKUP($A13,#REF!,31,0)*W13),"") | ET13: =IF(X13>0,(VLOOKUP($A13,#REF!,29,0)*X13),"") | EU13: =IF(Y13>0,(VLOOKUP($A13,#REF!,31,0)*Y13),"") | EV13: =IF(Z13>0,(VLOOKUP($A13,#REF!,29,0)*Z13),"") | EW13: =IF(AA13>0,(VLOOKUP($A13,#REF!,31,0)*AA13),"") | EX13: =IF(AB13>0,(VLOOKUP($A13,#REF!,29,0)*AB13),"") | EY13: =IF(AC13>0,(VLOOKUP($A13,#REF!,31,0)*AC13),"") | EZ13: =IF(AD13>0,(VLOOKUP($A13,#REF!,29,0)*AD13),"") | FA13: =IF(AE13>0,(VLOOKUP($A13,#REF!,31,0)*AE13),"") | FB13: =IF(AF13>0,(VLOOKUP($A13,#REF!,29,0)*AF13),"") | FC13: =IF(AG13>0,(VLOOKUP($A13,#REF!,31,0)*AG13),"") | FD13: =IF(AH13>0,(VLOOKUP($A13,#REF!,29,0)*AH13),"") | FE13: =IF(AI13>0,(VLOOKUP($A13,#REF!,31,0)*AI13),"") | FF13: =IF(AJ13>0,(VLOOKUP($A13,#REF!,29,0)*AJ13),"") | FG13: =IF(AK13>0,(VLOOKUP($A13,#REF!,31,0)*AK13),"") | FH13: =IF(AL13>0,(VLOOKUP($A13,#REF!,29,0)*AL13),"") | FI13: =IF(AM13>0,(VLOOKUP($A13,#REF!,31,0)*AM13),"") | FJ13: =IF(AN13>0,(VLOOKUP($A13,#REF!,29,0)*AN13),"") | FK13: =IF(AO13>0,(VLOOKUP($A13,#REF!,31,0)*AO13),"") | FL13: =IF(AP13>0,(VLOOKUP($A13,#REF!,29,0)*AP13),"") | FM13: =IF(AQ13>0,(VLOOKUP($A13,#REF!,31,0)*AQ13),"") | FN13: =IF(AR13>0,(VLOOKUP($A13,#REF!,29,0)*AR13),"") | FO13: =IF(AS13>0,(VLOOKUP($A13,#REF!,31,0)*AS13),"") | FP13: =IF(AT13>0,(VLOOKUP($A13,#REF!,29,0)*AT13),"") | FQ13: =IF(AU13>0,(VLOOKUP($A13,#REF!,31,0)*AU13),"") | FR13: =IF(AV13>0,(VLOOKUP($A13,#REF!,29,0)*AV13),"") | FS13: =IF(AW13>0,(VLOOKUP($A13,#REF!,31,0)*AW13),"") | FT13: =IF(AX13>0,(VLOOKUP($A13,#REF!,29,0)*AX13),"") | FU13: =IF(AY13>0,(VLOOKUP($A13,#REF!,31,0)*AY13),"") | FV13: =IF(AZ13>0,(VLOOKUP($A13,#REF!,29,0)*AZ13),"") | FW13: =IF(BA13>0,(VLOOKUP($A13,#REF!,31,0)*BA13),"") | FX13: =IF(BB13>0,(VLOOKUP($A13,#REF!,29,0)*BB13),"") | FY13: =IF(BC13>0,(VLOOKUP($A13,#REF!,31,0)*BC13),"") | FZ13: =IF(BD13>0,(VLOOKUP($A13,#REF!,29,0)*BD13),"") | GA13: =IF(BE13>0,(VLOOKUP($A13,#REF!,31,0)*BE13),"") | GB13: =IF(BF13>0,(VLOOKUP($A13,#REF!,29,0)*BF13),"") | GC13: =IF(BG13>0,(VLOOKUP($A13,#REF!,31,0)*BG13),"") | GD13: =IF(BH13>0,(VLOOKUP($A13,#REF!,29,0)*BH13),"") | GE13: =IF(BI13>0,(VLOOKUP($A13,#REF!,31,0)*BI13),"") | GF13: =IF(BJ13>0,(VLOOKUP($A13,#REF!,29,0)*BJ13),"") | GG13: =IF(BK13>0,(VLOOKUP($A13,#REF!,31,0)*BK13),"") | GH13: =IF(BL13>0,(VLOOKUP($A13,#REF!,29,0)*BL13),"") | GI13: =IF(BM13>0,(VLOOKUP($A13,#REF!,31,0)*BM13),"") | GJ13: =IF(BN13>0,(VLOOKUP($A13,#REF!,29,0)*BN13),"") | GK13: =IF(BO13>0,(VLOOKUP($A13,#REF!,31,0)*BO13),"") | GL13: =IF(BP13>0,(VLOOKUP($A13,#REF!,29,0)*BP13),"") | GM13: =IF(BQ13>0,(VLOOKUP($A13,#REF!,31,0)*BQ13),"") | GN13: =IF(BR13>0,(VLOOKUP($A13,#REF!,29,0)*BR13),"") | GO13: =IF(BS13>0,(VLOOKUP($A13,#REF!,31,0)*BS13),"") | GP13: =IF(BT13>0,(VLOOKUP($A13,#REF!,29,0)*BT13),"") | GQ13: =IF(BU13>0,(VLOOKUP($A13,#REF!,31,0)*BU13),"") | GR13: =IF(BV13>0,(VLOOKUP($A13,#REF!,29,0)*BV13),"") | GS13: =IF(BW13>0,(VLOOKUP($A13,#REF!,31,0)*BW13),"") | GT13: =IF(BX13>0,(VLOOKUP($A13,#REF!,29,0)*BX13),"") | GU13: =IF(BY13>0,(VLOOKUP($A13,#REF!,31,0)*BY13),"") | GV13: =IF(BZ13>0,(VLOOKUP($A13,#REF!,29,0)*BZ13),"") | GW13: =IF(CA13>0,(VLOOKUP($A13,#REF!,31,0)*CA13),"") | GX13: =IF(CB13>0,(VLOOKUP($A13,#REF!,29,0)*CB13),"") | GY13: =IF(CC13>0,(VLOOKUP($A13,#REF!,31,0)*CC13),"") | GZ13: =IF(CD13>0,(VLOOKUP($A13,#REF!,29,0)*CD13),"") | HA13: =IF(CE13>0,(VLOOKUP($A13,#REF!,31,0)*CE13),"") | HB13: =IF(CF13>0,(VLOOKUP($A13,#REF!,29,0)*CF13),"") | HC13: =IF(CG13>0,(VLOOKUP($A13,#REF!,31,0)*CG13),"") | HD13: =IF(CH13>0,(VLOOKUP($A13,#REF!,29,0)*CH13),"") | HE13: =IF(CI13>0,(VLOOKUP($A13,#REF!,31,0)*CI13),"") | HF13: =IF(CJ13>0,(VLOOKUP($A13,#REF!,29,0)*CJ13),"") | HG13: =IF(CK13>0,(VLOOKUP($A13,#REF!,31,0)*CK13),"") | HH13: =IF(CL13>0,(VLOOKUP($A13,#REF!,29,0)*CL13),"") | HI13: =IF(CM13>0,(VLOOKUP($A13,#REF!,31,0)*CM13),"") | HJ13: =IF(CN13>0,(VLOOKUP($A13,#REF!,29,0)*CN13),"") | HK13: =IF(CO13>0,(VLOOKUP($A13,#REF!,31,0)*CO13),"") | HL13: =IF(CP13>0,(VLOOKUP($A13,#REF!,29,0)*CP13),"") | HM13: =IF(CQ13>0,(VLOOKUP($A13,#REF!,31,0)*CQ13),"") | HN13: =IF(CR13>0,(VLOOKUP($A13,#REF!,29,0)*CR13),"") | HO13: =IF(CS13>0,(VLOOKUP($A13,#REF!,31,0)*CS13),"") | HP13: =IF(CT13>0,(VLOOKUP($A13,#REF!,29,0)*CT13),"") | HQ13: =IF(CU13>0,(VLOOKUP($A13,#REF!,31,0)*CU13),"") | HR13: =IF(CV13>0,(VLOOKUP($A13,#REF!,29,0)*CV13),"") | HS13: =IF(CW13>0,(VLOOKUP($A13,#REF!,31,0)*CW13),"") | HT13: =IF(CX13>0,(VLOOKUP($A13,#REF!,29,0)*CX13),"") | HU13: =IF(CY13>0,(VLOOKUP($A13,#REF!,31,0)*CY13),"") | HV13: =IF(CZ13>0,(VLOOKUP($A13,#REF!,29,0)*CZ13),"") | HW13: =IF(DA13>0,(VLOOKUP($A13,#REF!,31,0)*DA13),"") | HX13: =IF(DB13>0,(VLOOKUP($A13,#REF!,29,0)*DB13),"") | HY13: =IF(DC13>0,(VLOOKUP($A13,#REF!,31,0)*DC13),"") | HZ13: =IF(DD13>0,(VLOOKUP($A13,#REF!,29,0)*DD13),"") | IA13: =IF(DE13>0,(VLOOKUP($A13,#REF!,31,0)*DE13),"") | IB13: =IF(DF13>0,(VLOOKUP($A13,#REF!,29,0)*DF13),"") | IC13: =IF(DG13>0,(VLOOKUP($A13,#REF!,31,0)*DG13),"")
A14: PBSLGK | B14: GEROVA | C14: Kristina | D14: =IF((DV14+DT14)>0,DV14+DT14,"") | DT14: =DL14+DI14+DF14+L14+CX14+BX14+AX14+AF14+AL14+BZ14+DB14+CR14+CP14+CL14+CH14+CF14+CD14+BN14+AR14+N14-DP14+DD14+BP14+CB14+Z14+CT14+BJ14+DR14+CZ14+CV14+CN14+CJ14+BV14+BT14+BR14+BL14+BH14+BF14+BD14+BB14+AZ14+AV14+AT14+AP14+AN14+AJ14+AH14+AD14+AB14+X14+V14+T14+R14+P14+J14+H14+F14 -> 0 | DU14: =(DT14*(VLOOKUP(A14,#REF!,29,0)))-(IF(DO14="x",MROUND(DP14*(VLOOKUP(A14,#REF!,29,0)*0.08),0.05),0)) -> #REF! | DV14: =DM14+DJ14+DG14+M14+CY14+BY14+AY14+AG14+AM14+CA14+DC14+CS14+CQ14+CM14+CI14+CG14+CE14+BO14+AS14+O14+DE14+BQ14+CC14+AA14+CU14+BK14+DA14+CW14+CO14+CK14+BW14+BU14+BS14+BM14+BI14+BG14+BE14+BC14+BA14+AW14+AU14+AQ14+AO14+AK14+AI14+AE14+AC14+Y14+W14+U14+S14+Q14+K14+I14+G14 -> 0 | DW14: =(DV14*(VLOOKUP(A14,#REF!,31,0))) -> #REF! | DX14: =VLOOKUP(A14,#REF!,33,0) -> #REF! | DY14: =DX14-(DW14+DU14) -> #REF! | DZ14: =IF(DY14=0,"","!!") -> #REF! | EB14: =IF(F14>0,(VLOOKUP($A14,#REF!,29,0)*F14),"") | EC14: =IF(G14>0,(VLOOKUP($A14,#REF!,31,0)*G14),"") | ED14: =IF(H14>0,(VLOOKUP($A14,#REF!,29,0)*H14),"") | EE14: =IF(I14>0,(VLOOKUP($A14,#REF!,31,0)*I14),"") | EF14: =IF(J14>0,(VLOOKUP($A14,#REF!,29,0)*J14),"") | EG14: =IF(K14>0,(VLOOKUP($A14,#REF!,31,0)*K14),"") | EH14: =IF(L14>0,(VLOOKUP($A14,#REF!,29,0)*L14),"") | EI14: =IF(M14>0,(VLOOKUP($A14,#REF!,31,0)*M14),"") | EJ14: =IF(N14>0,(VLOOKUP($A14,#REF!,29,0)*N14),"") | EK14: =IF(O14>0,(VLOOKUP($A14,#REF!,31,0)*O14),"") | EL14: =IF(P14>0,(VLOOKUP($A14,#REF!,29,0)*P14),"") | EM14: =IF(Q14>0,(VLOOKUP($A14,#REF!,31,0)*Q14),"") | EN14: =IF(R14>0,(VLOOKUP($A14,#REF!,29,0)*R14),"") | EO14: =IF(S14>0,(VLOOKUP($A14,#REF!,31,0)*S14),"") | EP14: =IF(T14>0,(VLOOKUP($A14,#REF!,29,0)*T14),"") | EQ14: =IF(U14>0,(VLOOKUP($A14,#REF!,31,0)*U14),"") | ER14: =IF(V14>0,(VLOOKUP($A14,#REF!,29,0)*V14),"") | ES14: =IF(W14>0,(VLOOKUP($A14,#REF!,31,0)*W14),"") | ET14: =IF(X14>0,(VLOOKUP($A14,#REF!,29,0)*X14),"") | EU14: =IF(Y14>0,(VLOOKUP($A14,#REF!,31,0)*Y14),"") | EV14: =IF(Z14>0,(VLOOKUP($A14,#REF!,29,0)*Z14),"") | EW14: =IF(AA14>0,(VLOOKUP($A14,#REF!,31,0)*AA14),"") | EX14: =IF(AB14>0,(VLOOKUP($A14,#REF!,29,0)*AB14),"") | EY14: =IF(AC14>0,(VLOOKUP($A14,#REF!,31,0)*AC14),"") | EZ14: =IF(AD14>0,(VLOOKUP($A14,#REF!,29,0)*AD14),"") | FA14: =IF(AE14>0,(VLOOKUP($A14,#REF!,31,0)*AE14),"") | FB14: =IF(AF14>0,(VLOOKUP($A14,#REF!,29,0)*AF14),"") | FC14: =IF(AG14>0,(VLOOKUP($A14,#REF!,31,0)*AG14),"") | FD14: =IF(AH14>0,(VLOOKUP($A14,#REF!,29,0)*AH14),"") | FE14: =IF(AI14>0,(VLOOKUP($A14,#REF!,31,0)*AI14),"") | FF14: =IF(AJ14>0,(VLOOKUP($A14,#REF!,29,0)*AJ14),"") | FG14: =IF(AK14>0,(VLOOKUP($A14,#REF!,31,0)*AK14),"") | FH14: =IF(AL14>0,(VLOOKUP($A14,#REF!,29,0)*AL14),"") | FI14: =IF(AM14>0,(VLOOKUP($A14,#REF!,31,0)*AM14),"") | FJ14: =IF(AN14>0,(VLOOKUP($A14,#REF!,29,0)*AN14),"") | FK14: =IF(AO14>0,(VLOOKUP($A14,#REF!,31,0)*AO14),"") | FL14: =IF(AP14>0,(VLOOKUP($A14,#REF!,29,0)*AP14),"") | FM14: =IF(AQ14>0,(VLOOKUP($A14,#REF!,31,0)*AQ14),"") | FN14: =IF(AR14>0,(VLOOKUP($A14,#REF!,29,0)*AR14),"") | FO14: =IF(AS14>0,(VLOOKUP($A14,#REF!,31,0)*AS14),"") | FP14: =IF(AT14>0,(VLOOKUP($A14,#REF!,29,0)*AT14),"") | FQ14: =IF(AU14>0,(VLOOKUP($A14,#REF!,31,0)*AU14),"") | FR14: =IF(AV14>0,(VLOOKUP($A14,#REF!,29,0)*AV14),"") | FS14: =IF(AW14>0,(VLOOKUP($A14,#REF!,31,0)*AW14),"") | FT14: =IF(AX14>0,(VLOOKUP($A14,#REF!,29,0)*AX14),"") | FU14: =IF(AY14>0,(VLOOKUP($A14,#REF!,31,0)*AY14),"") | FV14: =IF(AZ14>0,(VLOOKUP($A14,#REF!,29,0)*AZ14),"") | FW14: =IF(BA14>0,(VLOOKUP($A14,#REF!,31,0)*BA14),"") | FX14: =IF(BB14>0,(VLOOKUP($A14,#REF!,29,0)*BB14),"") | FY14: =IF(BC14>0,(VLOOKUP($A14,#REF!,31,0)*BC14),"") | FZ14: =IF(BD14>0,(VLOOKUP($A14,#REF!,29,0)*BD14),"") | GA14: =IF(BE14>0,(VLOOKUP($A14,#REF!,31,0)*BE14),"") | GB14: =IF(BF14>0,(VLOOKUP($A14,#REF!,29,0)*BF14),"") | GC14: =IF(BG14>0,(VLOOKUP($A14,#REF!,31,0)*BG14),"") | GD14: =IF(BH14>0,(VLOOKUP($A14,#REF!,29,0)*BH14),"") | GE14: =IF(BI14>0,(VLOOKUP($A14,#REF!,31,0)*BI14),"") | GF14: =IF(BJ14>0,(VLOOKUP($A14,#REF!,29,0)*BJ14),"") | GG14: =IF(BK14>0,(VLOOKUP($A14,#REF!,31,0)*BK14),"") | GH14: =IF(BL14>0,(VLOOKUP($A14,#REF!,29,0)*BL14),"") | GI14: =IF(BM14>0,(VLOOKUP($A14,#REF!,31,0)*BM14),"") | GJ14: =IF(BN14>0,(VLOOKUP($A14,#REF!,29,0)*BN14),"") | GK14: =IF(BO14>0,(VLOOKUP($A14,#REF!,31,0)*BO14),"") | GL14: =IF(BP14>0,(VLOOKUP($A14,#REF!,29,0)*BP14),"") | GM14: =IF(BQ14>0,(VLOOKUP($A14,#REF!,31,0)*BQ14),"") | GN14: =IF(BR14>0,(VLOOKUP($A14,#REF!,29,0)*BR14),"") | GO14: =IF(BS14>0,(VLOOKUP($A14,#REF!,31,0)*BS14),"") | GP14: =IF(BT14>0,(VLOOKUP($A14,#REF!,29,0)*BT14),"") | GQ14: =IF(BU14>0,(VLOOKUP($A14,#REF!,31,0)*BU14),"") | GR14: =IF(BV14>0,(VLOOKUP($A14,#REF!,29,0)*BV14),"") | GS14: =IF(BW14>0,(VLOOKUP($A14,#REF!,31,0)*BW14),"") | GT14: =IF(BX14>0,(VLOOKUP($A14,#REF!,29,0)*BX14),"") | GU14: =IF(BY14>0,(VLOOKUP($A14,#REF!,31,0)*BY14),"") | GV14: =IF(BZ14>0,(VLOOKUP($A14,#REF!,29,0)*BZ14),"") | GW14: =IF(CA14>0,(VLOOKUP($A14,#REF!,31,0)*CA14),"") | GX14: =IF(CB14>0,(VLOOKUP($A14,#REF!,29,0)*CB14),"") | GY14: =IF(CC14>0,(VLOOKUP($A14,#REF!,31,0)*CC14),"") | GZ14: =IF(CD14>0,(VLOOKUP($A14,#REF!,29,0)*CD14),"") | HA14: =IF(CE14>0,(VLOOKUP($A14,#REF!,31,0)*CE14),"") | HB14: =IF(CF14>0,(VLOOKUP($A14,#REF!,29,0)*CF14),"") | HC14: =IF(CG14>0,(VLOOKUP($A14,#REF!,31,0)*CG14),"") | HD14: =IF(CH14>0,(VLOOKUP($A14,#REF!,29,0)*CH14),"") | HE14: =IF(CI14>0,(VLOOKUP($A14,#REF!,31,0)*CI14),"") | HF14: =IF(CJ14>0,(VLOOKUP($A14,#REF!,29,0)*CJ14),"") | HG14: =IF(CK14>0,(VLOOKUP($A14,#REF!,31,0)*CK14),"") | HH14: =IF(CL14>0,(VLOOKUP($A14,#REF!,29,0)*CL14),"") | HI14: =IF(CM14>0,(VLOOKUP($A14,#REF!,31,0)*CM14),"") | HJ14: =IF(CN14>0,(VLOOKUP($A14,#REF!,29,0)*CN14),"") | HK14: =IF(CO14>0,(VLOOKUP($A14,#REF!,31,0)*CO14),"") | HL14: =IF(CP14>0,(VLOOKUP($A14,#REF!,29,0)*CP14),"") | HM14: =IF(CQ14>0,(VLOOKUP($A14,#REF!,31,0)*CQ14),"") | HN14: =IF(CR14>0,(VLOOKUP($A14,#REF!,29,0)*CR14),"") | HO14: =IF(CS14>0,(VLOOKUP($A14,#REF!,31,0)*CS14),"") | HP14: =IF(CT14>0,(VLOOKUP($A14,#REF!,29,0)*CT14),"") | HQ14: =IF(CU14>0,(VLOOKUP($A14,#REF!,31,0)*CU14),"") | HR14: =IF(CV14>0,(VLOOKUP($A14,#REF!,29,0)*CV14),"") | HS14: =IF(CW14>0,(VLOOKUP($A14,#REF!,31,0)*CW14),"") | HT14: =IF(CX14>0,(VLOOKUP($A14,#REF!,29,0)*CX14),"") | HU14: =IF(CY14>0,(VLOOKUP($A14,#REF!,31,0)*CY14),"") | HV14: =IF(CZ14>0,(VLOOKUP($A14,#REF!,29,0)*CZ14),"") | HW14: =IF(DA14>0,(VLOOKUP($A14,#REF!,31,0)*DA14),"") | HX14: =IF(DB14>0,(VLOOKUP($A14,#REF!,29,0)*DB14),"") | HY14: =IF(DC14>0,(VLOOKUP($A14,#REF!,31,0)*DC14),"") | HZ14: =IF(DD14>0,(VLOOKUP($A14,#REF!,29,0)*DD14),"") | IA14: =IF(DE14>0,(VLOOKUP($A14,#REF!,31,0)*DE14),"") | IB14: =IF(DF14>0,(VLOOKUP($A14,#REF!,29,0)*DF14),"") | IC14: =IF(DG14>0,(VLOOKUP($A14,#REF!,31,0)*DG14),"")
A15: PBSLHT | B15: HUBENOVA | C15: Tsvetelina | D15: =IF((DV15+DT15)>0,DV15+DT15,"") | DT15: =DL15+DI15+DF15+L15+CX15+BX15+AX15+AF15+AL15+BZ15+DB15+CR15+CP15+CL15+CH15+CF15+CD15+BN15+AR15+N15-DP15+DD15+BP15+CB15+Z15+CT15+BJ15+DR15+CZ15+CV15+CN15+CJ15+BV15+BT15+BR15+BL15+BH15+BF15+BD15+BB15+AZ15+AV15+AT15+AP15+AN15+AJ15+AH15+AD15+AB15+X15+V15+T15+R15+P15+J15+H15+F15 -> 0 | DU15: =(DT15*(VLOOKUP(A15,#REF!,29,0)))-(IF(DO15="x",MROUND(DP15*(VLOOKUP(A15,#REF!,29,0)*0.08),0.05),0)) -> #REF! | DV15: =DM15+DJ15+DG15+M15+CY15+BY15+AY15+AG15+AM15+CA15+DC15+CS15+CQ15+CM15+CI15+CG15+CE15+BO15+AS15+O15+DE15+BQ15+CC15+AA15+CU15+BK15+DA15+CW15+CO15+CK15+BW15+BU15+BS15+BM15+BI15+BG15+BE15+BC15+BA15+AW15+AU15+AQ15+AO15+AK15+AI15+AE15+AC15+Y15+W15+U15+S15+Q15+K15+I15+G15 -> 0 | DW15: =(DV15*(VLOOKUP(A15,#REF!,31,0))) -> #REF! | DX15: =VLOOKUP(A15,#REF!,33,0) -> #REF! | DY15: =DX15-(DW15+DU15) -> #REF! | DZ15: =IF(DY15=0,"","!!") -> #REF! | EB15: =IF(F15>0,(VLOOKUP($A15,#REF!,29,0)*F15),"") | EC15: =IF(G15>0,(VLOOKUP($A15,#REF!,31,0)*G15),"") | ED15: =IF(H15>0,(VLOOKUP($A15,#REF!,29,0)*H15),"") | EE15: =IF(I15>0,(VLOOKUP($A15,#REF!,31,0)*I15),"") | EF15: =IF(J15>0,(VLOOKUP($A15,#REF!,29,0)*J15),"") | EG15: =IF(K15>0,(VLOOKUP($A15,#REF!,31,0)*K15),"") | EH15: =IF(L15>0,(VLOOKUP($A15,#REF!,29,0)*L15),"") | EI15: =IF(M15>0,(VLOOKUP($A15,#REF!,31,0)*M15),"") | EJ15: =IF(N15>0,(VLOOKUP($A15,#REF!,29,0)*N15),"") | EK15: =IF(O15>0,(VLOOKUP($A15,#REF!,31,0)*O15),"") | EL15: =IF(P15>0,(VLOOKUP($A15,#REF!,29,0)*P15),"") | EM15: =IF(Q15>0,(VLOOKUP($A15,#REF!,31,0)*Q15),"") | EN15: =IF(R15>0,(VLOOKUP($A15,#REF!,29,0)*R15),"") | EO15: =IF(S15>0,(VLOOKUP($A15,#REF!,31,0)*S15),"") | EP15: =IF(T15>0,(VLOOKUP($A15,#REF!,29,0)*T15),"") | EQ15: =IF(U15>0,(VLOOKUP($A15,#REF!,31,0)*U15),"") | ER15: =IF(V15>0,(VLOOKUP($A15,#REF!,29,0)*V15),"") | ES15: =IF(W15>0,(VLOOKUP($A15,#REF!,31,0)*W15),"") | ET15: =IF(X15>0,(VLOOKUP($A15,#REF!,29,0)*X15),"") | EU15: =IF(Y15>0,(VLOOKUP($A15,#REF!,31,0)*Y15),"") | EV15: =IF(Z15>0,(VLOOKUP($A15,#REF!,29,0)*Z15),"") | EW15: =IF(AA15>0,(VLOOKUP($A15,#REF!,31,0)*AA15),"") | EX15: =IF(AB15>0,(VLOOKUP($A15,#REF!,29,0)*AB15),"") | EY15: =IF(AC15>0,(VLOOKUP($A15,#REF!,31,0)*AC15),"") | EZ15: =IF(AD15>0,(VLOOKUP($A15,#REF!,29,0)*AD15),"") | FA15: =IF(AE15>0,(VLOOKUP($A15,#REF!,31,0)*AE15),"") | FB15: =IF(AF15>0,(VLOOKUP($A15,#REF!,29,0)*AF15),"") | FC15: =IF(AG15>0,(VLOOKUP($A15,#REF!,31,0)*AG15),"") | FD15: =IF(AH15>0,(VLOOKUP($A15,#REF!,29,0)*AH15),"") | FE15: =IF(AI15>0,(VLOOKUP($A15,#REF!,31,0)*AI15),"") | FF15: =IF(AJ15>0,(VLOOKUP($A15,#REF!,29,0)*AJ15),"") | FG15: =IF(AK15>0,(VLOOKUP($A15,#REF!,31,0)*AK15),"") | FH15: =IF(AL15>0,(VLOOKUP($A15,#REF!,29,0)*AL15),"") | FI15: =IF(AM15>0,(VLOOKUP($A15,#REF!,31,0)*AM15),"") | FJ15: =IF(AN15>0,(VLOOKUP($A15,#REF!,29,0)*AN15),"") | FK15: =IF(AO15>0,(VLOOKUP($A15,#REF!,31,0)*AO15),"") | FL15: =IF(AP15>0,(VLOOKUP($A15,#REF!,29,0)*AP15),"") | FM15: =IF(AQ15>0,(VLOOKUP($A15,#REF!,31,0)*AQ15),"") | FN15: =IF(AR15>0,(VLOOKUP($A15,#REF!,29,0)*AR15),"") | FO15: =IF(AS15>0,(VLOOKUP($A15,#REF!,31,0)*AS15),"") | FP15: =IF(AT15>0,(VLOOKUP($A15,#REF!,29,0)*AT15),"") | FQ15: =IF(AU15>0,(VLOOKUP($A15,#REF!,31,0)*AU15),"") | FR15: =IF(AV15>0,(VLOOKUP($A15,#REF!,29,0)*AV15),"") | FS15: =IF(AW15>0,(VLOOKUP($A15,#REF!,31,0)*AW15),"") | FT15: =IF(AX15>0,(VLOOKUP($A15,#REF!,29,0)*AX15),"") | FU15: =IF(AY15>0,(VLOOKUP($A15,#REF!,31,0)*AY15),"") | FV15: =IF(AZ15>0,(VLOOKUP($A15,#REF!,29,0)*AZ15),"") | FW15: =IF(BA15>0,(VLOOKUP($A15,#REF!,31,0)*BA15),"") | FX15: =IF(BB15>0,(VLOOKUP($A15,#REF!,29,0)*BB15),"") | FY15: =IF(BC15>0,(VLOOKUP($A15,#REF!,31,0)*BC15),"") | FZ15: =IF(BD15>0,(VLOOKUP($A15,#REF!,29,0)*BD15),"") | GA15: =IF(BE15>0,(VLOOKUP($A15,#REF!,31,0)*BE15),"") | GB15: =IF(BF15>0,(VLOOKUP($A15,#REF!,29,0)*BF15),"") | GC15: =IF(BG15>0,(VLOOKUP($A15,#REF!,31,0)*BG15),"") | GD15: =IF(BH15>0,(VLOOKUP($A15,#REF!,29,0)*BH15),"") | GE15: =IF(BI15>0,(VLOOKUP($A15,#REF!,31,0)*BI15),"") | GF15: =IF(BJ15>0,(VLOOKUP($A15,#REF!,29,0)*BJ15),"") | GG15: =IF(BK15>0,(VLOOKUP($A15,#REF!,31,0)*BK15),"") | GH15: =IF(BL15>0,(VLOOKUP($A15,#REF!,29,0)*BL15),"") | GI15: =IF(BM15>0,(VLOOKUP($A15,#REF!,31,0)*BM15),"") | GJ15: =IF(BN15>0,(VLOOKUP($A15,#REF!,29,0)*BN15),"") | GK15: =IF(BO15>0,(VLOOKUP($A15,#REF!,31,0)*BO15),"") | GL15: =IF(BP15>0,(VLOOKUP($A15,#REF!,29,0)*BP15),"") | GM15: =IF(BQ15>0,(VLOOKUP($A15,#REF!,31,0)*BQ15),"") | GN15: =IF(BR15>0,(VLOOKUP($A15,#REF!,29,0)*BR15),"") | GO15: =IF(BS15>0,(VLOOKUP($A15,#REF!,31,0)*BS15),"") | GP15: =IF(BT15>0,(VLOOKUP($A15,#REF!,29,0)*BT15),"") | GQ15: =IF(BU15>0,(VLOOKUP($A15,#REF!,31,0)*BU15),"") | GR15: =IF(BV15>0,(VLOOKUP($A15,#REF!,29,0)*BV15),"") | GS15: =IF(BW15>0,(VLOOKUP($A15,#REF!,31,0)*BW15),"") | GT15: =IF(BX15>0,(VLOOKUP($A15,#REF!,29,0)*BX15),"") | GU15: =IF(BY15>0,(VLOOKUP($A15,#REF!,31,0)*BY15),"") | GV15: =IF(BZ15>0,(VLOOKUP($A15,#REF!,29,0)*BZ15),"") | GW15: =IF(CA15>0,(VLOOKUP($A15,#REF!,31,0)*CA15),"") | GX15: =IF(CB15>0,(VLOOKUP($A15,#REF!,29,0)*CB15),"") | GY15: =IF(CC15>0,(VLOOKUP($A15,#REF!,31,0)*CC15),"") | GZ15: =IF(CD15>0,(VLOOKUP($A15,#REF!,29,0)*CD15),"") | HA15: =IF(CE15>0,(VLOOKUP($A15,#REF!,31,0)*CE15),"") | HB15: =IF(CF15>0,(VLOOKUP($A15,#REF!,29,0)*CF15),"") | HC15: =IF(CG15>0,(VLOOKUP($A15,#REF!,31,0)*CG15),"") | HD15: =IF(CH15>0,(VLOOKUP($A15,#REF!,29,0)*CH15),"") | HE15: =IF(CI15>0,(VLOOKUP($A15,#REF!,31,0)*CI15),"") | HF15: =IF(CJ15>0,(VLOOKUP($A15,#REF!,29,0)*CJ15),"") | HG15: =IF(CK15>0,(VLOOKUP($A15,#REF!,31,0)*CK15),"") | HH15: =IF(CL15>0,(VLOOKUP($A15,#REF!,29,0)*CL15),"") | HI15: =IF(CM15>0,(VLOOKUP($A15,#REF!,31,0)*CM15),"") | HJ15: =IF(CN15>0,(VLOOKUP($A15,#REF!,29,0)*CN15),"") | HK15: =IF(CO15>0,(VLOOKUP($A15,#REF!,31,0)*CO15),"") | HL15: =IF(CP15>0,(VLOOKUP($A15,#REF!,29,0)*CP15),"") | HM15: =IF(CQ15>0,(VLOOKUP($A15,#REF!,31,0)*CQ15),"") | HN15: =IF(CR15>0,(VLOOKUP($A15,#REF!,29,0)*CR15),"") | HO15: =IF(CS15>0,(VLOOKUP($A15,#REF!,31,0)*CS15),"") | HP15: =IF(CT15>0,(VLOOKUP($A15,#REF!,29,0)*CT15),"") | HQ15: =IF(CU15>0,(VLOOKUP($A15,#REF!,31,0)*CU15),"") | HR15: =IF(CV15>0,(VLOOKUP($A15,#REF!,29,0)*CV15),"") | HS15: =IF(CW15>0,(VLOOKUP($A15,#REF!,31,0)*CW15),"") | HT15: =IF(CX15>0,(VLOOKUP($A15,#REF!,29,0)*CX15),"") | HU15: =IF(CY15>0,(VLOOKUP($A15,#REF!,31,0)*CY15),"") | HV15: =IF(CZ15>0,(VLOOKUP($A15,#REF!,29,0)*CZ15),"") | HW15: =IF(DA15>0,(VLOOKUP($A15,#REF!,31,0)*DA15),"") | HX15: =IF(DB15>0,(VLOOKUP($A15,#REF!,29,0)*DB15),"") | HY15: =IF(DC15>0,(VLOOKUP($A15,#REF!,31,0)*DC15),"") | HZ15: =IF(DD15>0,(VLOOKUP($A15,#REF!,29,0)*DD15),"") | IA15: =IF(DE15>0,(VLOOKUP($A15,#REF!,31,0)*DE15),"") | IB15: =IF(DF15>0,(VLOOKUP($A15,#REF!,29,0)*DF15),"") | IC15: =IF(DG15>0,(VLOOKUP($A15,#REF!,31,0)*DG15),"")
A16: PBSLJM | B16: JOLLY | C16: Marina | D16: =IF((DV16+DT16)>0,DV16+DT16,"") -> 147 | AL16: 135 | AM16: 8 | AR16: 4 | DT16: =DL16+DI16+DF16+L16+CX16+BX16+AX16+AF16+AL16+BZ16+DB16+CR16+CP16+CL16+CH16+CF16+CD16+BN16+AR16+N16-DP16+DD16+BP16+CB16+Z16+CT16+BJ16+DR16+CZ16+CV16+CN16+CJ16+BV16+BT16+BR16+BL16+BH16+BF16+BD16+BB16+AZ16+AV16+AT16+AP16+AN16+AJ16+AH16+AD16+AB16+X16+V16+T16+R16+P16+J16+H16+F16 -> 139 | DU16: =(DT16*(VLOOKUP(A16,#REF!,29,0)))-(IF(DO16="x",MROUND(DP16*(VLOOKUP(A16,#REF!,29,0)*0.08),0.05),0)) -> #REF! | DV16: =DM16+DJ16+DG16+M16+CY16+BY16+AY16+AG16+AM16+CA16+DC16+CS16+CQ16+CM16+CI16+CG16+CE16+BO16+AS16+O16+DE16+BQ16+CC16+AA16+CU16+BK16+DA16+CW16+CO16+CK16+BW16+BU16+BS16+BM16+BI16+BG16+BE16+BC16+BA16+AW16+AU16+AQ16+AO16+AK16+AI16+AE16+AC16+Y16+W16+U16+S16+Q16+K16+I16+G16 -> 8 | DW16: =(DV16*(VLOOKUP(A16,#REF!,31,0))) -> #REF! | DX16: =VLOOKUP(A16,#REF!,33,0) -> #REF! | DY16: =DX16-(DW16+DU16) -> #REF! | DZ16: =IF(DY16=0,"","!!") -> #REF! | EB16: =IF(F16>0,(VLOOKUP($A16,#REF!,29,0)*F16),"") | EC16: =IF(G16>0,(VLOOKUP($A16,#REF!,31,0)*G16),"") | ED16: =IF(H16>0,(VLOOKUP($A16,#REF!,29,0)*H16),"") | EE16: =IF(I16>0,(VLOOKUP($A16,#REF!,31,0)*I16),"") | EF16: =IF(J16>0,(VLOOKUP($A16,#REF!,29,0)*J16),"") | EG16: =IF(K16>0,(VLOOKUP($A16,#REF!,31,0)*K16),"") | EH16: =IF(L16>0,(VLOOKUP($A16,#REF!,29,0)*L16),"") | EI16: =IF(M16>0,(VLOOKUP($A16,#REF!,31,0)*M16),"") | EJ16: =IF(N16>0,(VLOOKUP($A16,#REF!,29,0)*N16),"") | EK16: =IF(O16>0,(VLOOKUP($A16,#REF!,31,0)*O16),"") | EL16: =IF(P16>0,(VLOOKUP($A16,#REF!,29,0)*P16),"") | EM16: =IF(Q16>0,(VLOOKUP($A16,#REF!,31,0)*Q16),"") | EN16: =IF(R16>0,(VLOOKUP($A16,#REF!,29,0)*R16),"") | EO16: =IF(S16>0,(VLOOKUP($A16,#REF!,31,0)*S16),"") | EP16: =IF(T16>0,(VLOOKUP($A16,#REF!,29,0)*T16),"") | EQ16: =IF(U16>0,(VLOOKUP($A16,#REF!,31,0)*U16),"") | ER16: =IF(V16>0,(VLOOKUP($A16,#REF!,29,0)*V16),"") | ES16: =IF(W16>0,(VLOOKUP($A16,#REF!,31,0)*W16),"") | ET16: =IF(X16>0,(VLOOKUP($A16,#REF!,29,0)*X16),"") | EU16: =IF(Y16>0,(VLOOKUP($A16,#REF!,31,0)*Y16),"") | EV16: =IF(Z16>0,(VLOOKUP($A16,#REF!,29,0)*Z16),"") | EW16: =IF(AA16>0,(VLOOKUP($A16,#REF!,31,0)*AA16),"") | EX16: =IF(AB16>0,(VLOOKUP($A16,#REF!,29,0)*AB16),"") | EY16: =IF(AC16>0,(VLOOKUP($A16,#REF!,31,0)*AC16),"") | EZ16: =IF(AD16>0,(VLOOKUP($A16,#REF!,29,0)*AD16),"") | FA16: =IF(AE16>0,(VLOOKUP($A16,#REF!,31,0)*AE16),"") | FB16: =IF(AF16>0,(VLOOKUP($A16,#REF!,29,0)*AF16),"") | FC16: =IF(AG16>0,(VLOOKUP($A16,#REF!,31,0)*AG16),"") | FD16: =IF(AH16>0,(VLOOKUP($A16,#REF!,29,0)*AH16),"") | FE16: =IF(AI16>0,(VLOOKUP($A16,#REF!,31,0)*AI16),"") | FF16: =IF(AJ16>0,(VLOOKUP($A16,#REF!,29,0)*AJ16),"") | FG16: =IF(AK16>0,(VLOOKUP($A16,#REF!,31,0)*AK16),"") | FH16: =IF(AL16>0,(VLOOKUP($A16,#REF!,29,0)*AL16),"") -> #REF! | FI16: =IF(AM16>0,(VLOOKUP($A16,#REF!,31,0)*AM16),"") -> #REF! | FJ16: =IF(AN16>0,(VLOOKUP($A16,#REF!,29,0)*AN16),"") | FK16: =IF(AO16>0,(VLOOKUP($A16,#REF!,31,0)*AO16),"") | FL16: =IF(AP16>0,(VLOOKUP($A16,#REF!,29,0)*AP16),"") | FM16: =IF(AQ16>0,(VLOOKUP($A16,#REF!,31,0)*AQ16),"") | FN16: =IF(AR16>0,(VLOOKUP($A16,#REF!,29,0)*AR16),"") -> #REF! | FO16: =IF(AS16>0,(VLOOKUP($A16,#REF!,31,0)*AS16),"") | FP16: =IF(AT16>0,(VLOOKUP($A16,#REF!,29,0)*AT16),"") | FQ16: =IF(AU16>0,(VLOOKUP($A16,#REF!,31,0)*AU16),"") | FR16: =IF(AV16>0,(VLOOKUP($A16,#REF!,29,0)*AV16),"") | FS16: =IF(AW16>0,(VLOOKUP($A16,#REF!,31,0)*AW16),"") | FT16: =IF(AX16>0,(VLOOKUP($A16,#REF!,29,0)*AX16),"") | FU16: =IF(AY16>0,(VLOOKUP($A16,#REF!,31,0)*AY16),"") | FV16: =IF(AZ16>0,(VLOOKUP($A16,#REF!,29,0)*AZ16),"") | FW16: =IF(BA16>0,(VLOOKUP($A16,#REF!,31,0)*BA16),"") | FX16: =IF(BB16>0,(VLOOKUP($A16,#REF!,29,0)*BB16),"") | FY16: =IF(BC16>0,(VLOOKUP($A16,#REF!,31,0)*BC16),"") | FZ16: =IF(BD16>0,(VLOOKUP($A16,#REF!,29,0)*BD16),"") | GA16: =IF(BE16>0,(VLOOKUP($A16,#REF!,31,0)*BE16),"") | GB16: =IF(BF16>0,(VLOOKUP($A16,#REF!,29,0)*BF16),"") | GC16: =IF(BG16>0,(VLOOKUP($A16,#REF!,31,0)*BG16),"") | GD16: =IF(BH16>0,(VLOOKUP($A16,#REF!,29,0)*BH16),"") | GE16: =IF(BI16>0,(VLOOKUP($A16,#REF!,31,0)*BI16),"") | GF16: =IF(BJ16>0,(VLOOKUP($A16,#REF!,29,0)*BJ16),"") | GG16: =IF(BK16>0,(VLOOKUP($A16,#REF!,31,0)*BK16),"") | GH16: =IF(BL16>0,(VLOOKUP($A16,#REF!,29,0)*BL16),"") | GI16: =IF(BM16>0,(VLOOKUP($A16,#REF!,31,0)*BM16),"") | GJ16: =IF(BN16>0,(VLOOKUP($A16,#REF!,29,0)*BN16),"") | GK16: =IF(BO16>0,(VLOOKUP($A16,#REF!,31,0)*BO16),"") | GL16: =IF(BP16>0,(VLOOKUP($A16,#REF!,29,0)*BP16),"") | GM16: =IF(BQ16>0,(VLOOKUP($A16,#REF!,31,0)*BQ16),"") | GN16: =IF(BR16>0,(VLOOKUP($A16,#REF!,29,0)*BR16),"") | GO16: =IF(BS16>0,(VLOOKUP($A16,#REF!,31,0)*BS16),"") | GP16: =IF(BT16>0,(VLOOKUP($A16,#REF!,29,0)*BT16),"") | GQ16: =IF(BU16>0,(VLOOKUP($A16,#REF!,31,0)*BU16),"") | GR16: =IF(BV16>0,(VLOOKUP($A16,#REF!,29,0)*BV16),"") | GS16: =IF(BW16>0,(VLOOKUP($A16,#REF!,31,0)*BW16),"") | GT16: =IF(BX16>0,(VLOOKUP($A16,#REF!,29,0)*BX16),"") | GU16: =IF(BY16>0,(VLOOKUP($A16,#REF!,31,0)*BY16),"") | GV16: =IF(BZ16>0,(VLOOKUP($A16,#REF!,29,0)*BZ16),"") | GW16: =IF(CA16>0,(VLOOKUP($A16,#REF!,31,0)*CA16),"") | GX16: =IF(CB16>0,(VLOOKUP($A16,#REF!,29,0)*CB16),"") | GY16: =IF(CC16>0,(VLOOKUP($A16,#REF!,31,0)*CC16),"") | GZ16: =IF(CD16>0,(VLOOKUP($A16,#REF!,29,0)*CD16),"") | HA16: =IF(CE16>0,(VLOOKUP($A16,#REF!,31,0)*CE16),"") | HB16: =IF(CF16>0,(VLOOKUP($A16,#REF!,29,0)*CF16),"") | HC16: =IF(CG16>0,(VLOOKUP($A16,#REF!,31,0)*CG16),"") | HD16: =IF(CH16>0,(VLOOKUP($A16,#REF!,29,0)*CH16),"") | HE16: =IF(CI16>0,(VLOOKUP($A16,#REF!,31,0)*CI16),"") | HF16: =IF(CJ16>0,(VLOOKUP($A16,#REF!,29,0)*CJ16),"") | HG16: =IF(CK16>0,(VLOOKUP($A16,#REF!,31,0)*CK16),"") | HH16: =IF(CL16>0,(VLOOKUP($A16,#REF!,29,0)*CL16),"") | HI16: =IF(CM16>0,(VLOOKUP($A16,#REF!,31,0)*CM16),"") | HJ16: =IF(CN16>0,(VLOOKUP($A16,#REF!,29,0)*CN16),"") | HK16: =IF(CO16>0,(VLOOKUP($A16,#REF!,31,0)*CO16),"") | HL16: =IF(CP16>0,(VLOOKUP($A16,#REF!,29,0)*CP16),"") | HM16: =IF(CQ16>0,(VLOOKUP($A16,#REF!,31,0)*CQ16),"") | HN16: =IF(CR16>0,(VLOOKUP($A16,#REF!,29,0)*CR16),"") | HO16: =IF(CS16>0,(VLOOKUP($A16,#REF!,31,0)*CS16),"") | HP16: =IF(CT16>0,(VLOOKUP($A16,#REF!,29,0)*CT16),"") | HQ16: =IF(CU16>0,(VLOOKUP($A16,#REF!,31,0)*CU16),"") | HR16: =IF(CV16>0,(VLOOKUP($A16,#REF!,29,0)*CV16),"") | HS16: =IF(CW16>0,(VLOOKUP($A16,#REF!,31,0)*CW16),"") | HT16: =IF(CX16>0,(VLOOKUP($A16,#REF!,29,0)*CX16),"") | HU16: =IF(CY16>0,(VLOOKUP($A16,#REF!,31,0)*CY16),"") | HV16: =IF(CZ16>0,(VLOOKUP($A16,#REF!,29,0)*CZ16),"") | HW16: =IF(DA16>0,(VLOOKUP($A16,#REF!,31,0)*DA16),"") | HX16: =IF(DB16>0,(VLOOKUP($A16,#REF!,29,0)*DB16),"") | HY16: =IF(DC16>0,(VLOOKUP($A16,#REF!,31,0)*DC16),"") | HZ16: =IF(DD16>0,(VLOOKUP($A16,#REF!,29,0)*DD16),"") | IA16: =IF(DE16>0,(VLOOKUP($A16,#REF!,31,0)*DE16),"") | IB16: =IF(DF16>0,(VLOOKUP($A16,#REF!,29,0)*DF16),"") | IC16: =IF(DG16>0,(VLOOKUP($A16,#REF!,31,0)*DG16),"")
A17: PBSLKL | B17: KAROBLYTE | C17: Lina | D17: =IF((DV17+DT17)>0,DV17+DT17,"") | DT17: =DL17+DI17+DF17+L17+CX17+BX17+AX17+AF17+AL17+BZ17+DB17+CR17+CP17+CL17+CH17+CF17+CD17+BN17+AR17+N17-DP17+DD17+BP17+CB17+Z17+CT17+BJ17+DR17+CZ17+CV17+CN17+CJ17+BV17+BT17+BR17+BL17+BH17+BF17+BD17+BB17+AZ17+AV17+AT17+AP17+AN17+AJ17+AH17+AD17+AB17+X17+V17+T17+R17+P17+J17+H17+F17 -> 0 | DU17: =(DT17*(VLOOKUP(A17,#REF!,29,0)))-(IF(DO17="x",MROUND(DP17*(VLOOKUP(A17,#REF!,29,0)*0.08),0.05),0)) -> #REF! | DV17: =DM17+DJ17+DG17+M17+CY17+BY17+AY17+AG17+AM17+CA17+DC17+CS17+CQ17+CM17+CI17+CG17+CE17+BO17+AS17+O17+DE17+BQ17+CC17+AA17+CU17+BK17+DA17+CW17+CO17+CK17+BW17+BU17+BS17+BM17+BI17+BG17+BE17+BC17+BA17+AW17+AU17+AQ17+AO17+AK17+AI17+AE17+AC17+Y17+W17+U17+S17+Q17+K17+I17+G17 -> 0 | DW17: =(DV17*(VLOOKUP(A17,#REF!,31,0))) -> #REF! | DX17: =VLOOKUP(A17,#REF!,33,0) -> #REF! | DY17: =DX17-(DW17+DU17) -> #REF! | DZ17: =IF(DY17=0,"","!!") -> #REF! | EB17: =IF(F17>0,(VLOOKUP($A17,#REF!,29,0)*F17),"") | EC17: =IF(G17>0,(VLOOKUP($A17,#REF!,31,0)*G17),"") | ED17: =IF(H17>0,(VLOOKUP($A17,#REF!,29,0)*H17),"") | EE17: =IF(I17>0,(VLOOKUP($A17,#REF!,31,0)*I17),"") | EF17: =IF(J17>0,(VLOOKUP($A17,#REF!,29,0)*J17),"") | EG17: =IF(K17>0,(VLOOKUP($A17,#REF!,31,0)*K17),"") | EH17: =IF(L17>0,(VLOOKUP($A17,#REF!,29,0)*L17),"") | EI17: =IF(M17>0,(VLOOKUP($A17,#REF!,31,0)*M17),"") | EJ17: =IF(N17>0,(VLOOKUP($A17,#REF!,29,0)*N17),"") | EK17: =IF(O17>0,(VLOOKUP($A17,#REF!,31,0)*O17),"") | EL17: =IF(P17>0,(VLOOKUP($A17,#REF!,29,0)*P17),"") | EM17: =IF(Q17>0,(VLOOKUP($A17,#REF!,31,0)*Q17),"") | EN17: =IF(R17>0,(VLOOKUP($A17,#REF!,29,0)*R17),"") | EO17: =IF(S17>0,(VLOOKUP($A17,#REF!,31,0)*S17),"") | EP17: =IF(T17>0,(VLOOKUP($A17,#REF!,29,0)*T17),"") | EQ17: =IF(U17>0,(VLOOKUP($A17,#REF!,31,0)*U17),"") | ER17: =IF(V17>0,(VLOOKUP($A17,#REF!,29,0)*V17),"") | ES17: =IF(W17>0,(VLOOKUP($A17,#REF!,31,0)*W17),"") | ET17: =IF(X17>0,(VLOOKUP($A17,#REF!,29,0)*X17),"") | EU17: =IF(Y17>0,(VLOOKUP($A17,#REF!,31,0)*Y17),"") | EV17: =IF(Z17>0,(VLOOKUP($A17,#REF!,29,0)*Z17),"") | EW17: =IF(AA17>0,(VLOOKUP($A17,#REF!,31,0)*AA17),"") | EX17: =IF(AB17>0,(VLOOKUP($A17,#REF!,29,0)*AB17),"") | EY17: =IF(AC17>0,(VLOOKUP($A17,#REF!,31,0)*AC17),"") | EZ17: =IF(AD17>0,(VLOOKUP($A17,#REF!,29,0)*AD17),"") | FA17: =IF(AE17>0,(VLOOKUP($A17,#REF!,31,0)*AE17),"") | FB17: =IF(AF17>0,(VLOOKUP($A17,#REF!,29,0)*AF17),"") | FC17: =IF(AG17>0,(VLOOKUP($A17,#REF!,31,0)*AG17),"") | FD17: =IF(AH17>0,(VLOOKUP($A17,#REF!,29,0)*AH17),"") | FE17: =IF(AI17>0,(VLOOKUP($A17,#REF!,31,0)*AI17),"") | FF17: =IF(AJ17>0,(VLOOKUP($A17,#REF!,29,0)*AJ17),"") | FG17: =IF(AK17>0,(VLOOKUP($A17,#REF!,31,0)*AK17),"") | FH17: =IF(AL17>0,(VLOOKUP($A17,#REF!,29,0)*AL17),"") | FI17: =IF(AM17>0,(VLOOKUP($A17,#REF!,31,0)*AM17),"") | FJ17: =IF(AN17>0,(VLOOKUP($A17,#REF!,29,0)*AN17),"") | FK17: =IF(AO17>0,(VLOOKUP($A17,#REF!,31,0)*AO17),"") | FL17: =IF(AP17>0,(VLOOKUP($A17,#REF!,29,0)*AP17),"") | FM17: =IF(AQ17>0,(VLOOKUP($A17,#REF!,31,0)*AQ17),"") | FN17: =IF(AR17>0,(VLOOKUP($A17,#REF!,29,0)*AR17),"") | FO17: =IF(AS17>0,(VLOOKUP($A17,#REF!,31,0)*AS17),"") | FP17: =IF(AT17>0,(VLOOKUP($A17,#REF!,29,0)*AT17),"") | FQ17: =IF(AU17>0,(VLOOKUP($A17,#REF!,31,0)*AU17),"") | FR17: =IF(AV17>0,(VLOOKUP($A17,#REF!,29,0)*AV17),"") | FS17: =IF(AW17>0,(VLOOKUP($A17,#REF!,31,0)*AW17),"") | FT17: =IF(AX17>0,(VLOOKUP($A17,#REF!,29,0)*AX17),"") | FU17: =IF(AY17>0,(VLOOKUP($A17,#REF!,31,0)*AY17),"") | FV17: =IF(AZ17>0,(VLOOKUP($A17,#REF!,29,0)*AZ17),"") | FW17: =IF(BA17>0,(VLOOKUP($A17,#REF!,31,0)*BA17),"") | FX17: =IF(BB17>0,(VLOOKUP($A17,#REF!,29,0)*BB17),"") | FY17: =IF(BC17>0,(VLOOKUP($A17,#REF!,31,0)*BC17),"") | FZ17: =IF(BD17>0,(VLOOKUP($A17,#REF!,29,0)*BD17),"") | GA17: =IF(BE17>0,(VLOOKUP($A17,#REF!,31,0)*BE17),"") | GB17: =IF(BF17>0,(VLOOKUP($A17,#REF!,29,0)*BF17),"") | GC17: =IF(BG17>0,(VLOOKUP($A17,#REF!,31,0)*BG17),"") | GD17: =IF(BH17>0,(VLOOKUP($A17,#REF!,29,0)*BH17),"") | GE17: =IF(BI17>0,(VLOOKUP($A17,#REF!,31,0)*BI17),"") | GF17: =IF(BJ17>0,(VLOOKUP($A17,#REF!,29,0)*BJ17),"") | GG17: =IF(BK17>0,(VLOOKUP($A17,#REF!,31,0)*BK17),"") | GH17: =IF(BL17>0,(VLOOKUP($A17,#REF!,29,0)*BL17),"") | GI17: =IF(BM17>0,(VLOOKUP($A17,#REF!,31,0)*BM17),"") | GJ17: =IF(BN17>0,(VLOOKUP($A17,#REF!,29,0)*BN17),"") | GK17: =IF(BO17>0,(VLOOKUP($A17,#REF!,31,0)*BO17),"") | GL17: =IF(BP17>0,(VLOOKUP($A17,#REF!,29,0)*BP17),"") | GM17: =IF(BQ17>0,(VLOOKUP($A17,#REF!,31,0)*BQ17),"") | GN17: =IF(BR17>0,(VLOOKUP($A17,#REF!,29,0)*BR17),"") | GO17: =IF(BS17>0,(VLOOKUP($A17,#REF!,31,0)*BS17),"") | GP17: =IF(BT17>0,(VLOOKUP($A17,#REF!,29,0)*BT17),"") | GQ17: =IF(BU17>0,(VLOOKUP($A17,#REF!,31,0)*BU17),"") | GR17: =IF(BV17>0,(VLOOKUP($A17,#REF!,29,0)*BV17),"") | GS17: =IF(BW17>0,(VLOOKUP($A17,#REF!,31,0)*BW17),"") | GT17: =IF(BX17>0,(VLOOKUP($A17,#REF!,29,0)*BX17),"") | GU17: =IF(BY17>0,(VLOOKUP($A17,#REF!,31,0)*BY17),"") | GV17: =IF(BZ17>0,(VLOOKUP($A17,#REF!,29,0)*BZ17),"") | GW17: =IF(CA17>0,(VLOOKUP($A17,#REF!,31,0)*CA17),"") | GX17: =IF(CB17>0,(VLOOKUP($A17,#REF!,29,0)*CB17),"") | GY17: =IF(CC17>0,(VLOOKUP($A17,#REF!,31,0)*CC17),"") | GZ17: =IF(CD17>0,(VLOOKUP($A17,#REF!,29,0)*CD17),"") | HA17: =IF(CE17>0,(VLOOKUP($A17,#REF!,31,0)*CE17),"") | HB17: =IF(CF17>0,(VLOOKUP($A17,#REF!,29,0)*CF17),"") | HC17: =IF(CG17>0,(VLOOKUP($A17,#REF!,31,0)*CG17),"") | HD17: =IF(CH17>0,(VLOOKUP($A17,#REF!,29,0)*CH17),"") | HE17: =IF(CI17>0,(VLOOKUP($A17,#REF!,31,0)*CI17),"") | HF17: =IF(CJ17>0,(VLOOKUP($A17,#REF!,29,0)*CJ17),"") | HG17: =IF(CK17>0,(VLOOKUP($A17,#REF!,31,0)*CK17),"") | HH17: =IF(CL17>0,(VLOOKUP($A17,#REF!,29,0)*CL17),"") | HI17: =IF(CM17>0,(VLOOKUP($A17,#REF!,31,0)*CM17),"") | HJ17: =IF(CN17>0,(VLOOKUP($A17,#REF!,29,0)*CN17),"") | HK17: =IF(CO17>0,(VLOOKUP($A17,#REF!,31,0)*CO17),"") | HL17: =IF(CP17>0,(VLOOKUP($A17,#REF!,29,0)*CP17),"") | HM17: =IF(CQ17>0,(VLOOKUP($A17,#REF!,31,0)*CQ17),"") | HN17: =IF(CR17>0,(VLOOKUP($A17,#REF!,29,0)*CR17),"") | HO17: =IF(CS17>0,(VLOOKUP($A17,#REF!,31,0)*CS17),"") | HP17: =IF(CT17>0,(VLOOKUP($A17,#REF!,29,0)*CT17),"") | HQ17: =IF(CU17>0,(VLOOKUP($A17,#REF!,31,0)*CU17),"") | HR17: =IF(CV17>0,(VLOOKUP($A17,#REF!,29,0)*CV17),"") | HS17: =IF(CW17>0,(VLOOKUP($A17,#REF!,31,0)*CW17),"") | HT17: =IF(CX17>0,(VLOOKUP($A17,#REF!,29,0)*CX17),"") | HU17: =IF(CY17>0,(VLOOKUP($A17,#REF!,31,0)*CY17),"") | HV17: =IF(CZ17>0,(VLOOKUP($A17,#REF!,29,0)*CZ17),"") | HW17: =IF(DA17>0,(VLOOKUP($A17,#REF!,31,0)*DA17),"") | HX17: =IF(DB17>0,(VLOOKUP($A17,#REF!,29,0)*DB17),"") | HY17: =IF(DC17>0,(VLOOKUP($A17,#REF!,31,0)*DC17),"") | HZ17: =IF(DD17>0,(VLOOKUP($A17,#REF!,29,0)*DD17),"") | IA17: =IF(DE17>0,(VLOOKUP($A17,#REF!,31,0)*DE17),"") | IB17: =IF(DF17>0,(VLOOKUP($A17,#REF!,29,0)*DF17),"") | IC17: =IF(DG17>0,(VLOOKUP($A17,#REF!,31,0)*DG17),"")
A18: PBSLKJ | B18: KOK | C18: Johanna | D18: =IF((DV18+DT18)>0,DV18+DT18,"") | DT18: =DL18+DI18+DF18+L18+CX18+BX18+AX18+AF18+AL18+BZ18+DB18+CR18+CP18+CL18+CH18+CF18+CD18+BN18+AR18+N18-DP18+DD18+BP18+CB18+Z18+CT18+BJ18+DR18+CZ18+CV18+CN18+CJ18+BV18+BT18+BR18+BL18+BH18+BF18+BD18+BB18+AZ18+AV18+AT18+AP18+AN18+AJ18+AH18+AD18+AB18+X18+V18+T18+R18+P18+J18+H18+F18 -> 0 | DU18: =(DT18*(VLOOKUP(A18,#REF!,29,0)))-(IF(DO18="x",MROUND(DP18*(VLOOKUP(A18,#REF!,29,0)*0.08),0.05),0)) -> #REF! | DV18: =DM18+DJ18+DG18+M18+CY18+BY18+AY18+AG18+AM18+CA18+DC18+CS18+CQ18+CM18+CI18+CG18+CE18+BO18+AS18+O18+DE18+BQ18+CC18+AA18+CU18+BK18+DA18+CW18+CO18+CK18+BW18+BU18+BS18+BM18+BI18+BG18+BE18+BC18+BA18+AW18+AU18+AQ18+AO18+AK18+AI18+AE18+AC18+Y18+W18+U18+S18+Q18+K18+I18+G18 -> 0 | DW18: =(DV18*(VLOOKUP(A18,#REF!,31,0))) -> #REF! | DX18: =VLOOKUP(A18,#REF!,33,0) -> #REF! | DY18: =DX18-(DW18+DU18) -> #REF! | DZ18: =IF(DY18=0,"","!!") -> #REF! | EB18: =IF(F18>0,(VLOOKUP($A18,#REF!,29,0)*F18),"") | EC18: =IF(G18>0,(VLOOKUP($A18,#REF!,31,0)*G18),"") | ED18: =IF(H18>0,(VLOOKUP($A18,#REF!,29,0)*H18),"") | EE18: =IF(I18>0,(VLOOKUP($A18,#REF!,31,0)*I18),"") | EF18: =IF(J18>0,(VLOOKUP($A18,#REF!,29,0)*J18),"") | EG18: =IF(K18>0,(VLOOKUP($A18,#REF!,31,0)*K18),"") | EH18: =IF(L18>0,(VLOOKUP($A18,#REF!,29,0)*L18),"") | EI18: =IF(M18>0,(VLOOKUP($A18,#REF!,31,0)*M18),"") | EJ18: =IF(N18>0,(VLOOKUP($A18,#REF!,29,0)*N18),"") | EK18: =IF(O18>0,(VLOOKUP($A18,#REF!,31,0)*O18),"") | EL18: =IF(P18>0,(VLOOKUP($A18,#REF!,29,0)*P18),"") | EM18: =IF(Q18>0,(VLOOKUP($A18,#REF!,31,0)*Q18),"") | EN18: =IF(R18>0,(VLOOKUP($A18,#REF!,29,0)*R18),"") | EO18: =IF(S18>0,(VLOOKUP($A18,#REF!,31,0)*S18),"") | EP18: =IF(T18>0,(VLOOKUP($A18,#REF!,29,0)*T18),"") | EQ18: =IF(U18>0,(VLOOKUP($A18,#REF!,31,0)*U18),"") | ER18: =IF(V18>0,(VLOOKUP($A18,#REF!,29,0)*V18),"") | ES18: =IF(W18>0,(VLOOKUP($A18,#REF!,31,0)*W18),"") | ET18: =IF(X18>0,(VLOOKUP($A18,#REF!,29,0)*X18),"") | EU18: =IF(Y18>0,(VLOOKUP($A18,#REF!,31,0)*Y18),"") | EV18: =IF(Z18>0,(VLOOKUP($A18,#REF!,29,0)*Z18),"") | EW18: =IF(AA18>0,(VLOOKUP($A18,#REF!,31,0)*AA18),"") | EX18: =IF(AB18>0,(VLOOKUP($A18,#REF!,29,0)*AB18),"") | EY18: =IF(AC18>0,(VLOOKUP($A18,#REF!,31,0)*AC18),"") | EZ18: =IF(AD18>0,(VLOOKUP($A18,#REF!,29,0)*AD18),"") | FA18: =IF(AE18>0,(VLOOKUP($A18,#REF!,31,0)*AE18),"") | FB18: =IF(AF18>0,(VLOOKUP($A18,#REF!,29,0)*AF18),"") | FC18: =IF(AG18>0,(VLOOKUP($A18,#REF!,31,0)*AG18),"") | FD18: =IF(AH18>0,(VLOOKUP($A18,#REF!,29,0)*AH18),"") | FE18: =IF(AI18>0,(VLOOKUP($A18,#REF!,31,0)*AI18),"") | FF18: =IF(AJ18>0,(VLOOKUP($A18,#REF!,29,0)*AJ18),"") | FG18: =IF(AK18>0,(VLOOKUP($A18,#REF!,31,0)*AK18),"") | FH18: =IF(AL18>0,(VLOOKUP($A18,#REF!,29,0)*AL18),"") | FI18: =IF(AM18>0,(VLOOKUP($A18,#REF!,31,0)*AM18),"") | FJ18: =IF(AN18>0,(VLOOKUP($A18,#REF!,29,0)*AN18),"") | FK18: =IF(AO18>0,(VLOOKUP($A18,#REF!,31,0)*AO18),"") | FL18: =IF(AP18>0,(VLOOKUP($A18,#REF!,29,0)*AP18),"") | FM18: =IF(AQ18>0,(VLOOKUP($A18,#REF!,31,0)*AQ18),"") | FN18: =IF(AR18>0,(VLOOKUP($A18,#REF!,29,0)*AR18),"") | FO18: =IF(AS18>0,(VLOOKUP($A18,#REF!,31,0)*AS18),"") | FP18: =IF(AT18>0,(VLOOKUP($A18,#REF!,29,0)*AT18),"") | FQ18: =IF(AU18>0,(VLOOKUP($A18,#REF!,31,0)*AU18),"") | FR18: =IF(AV18>0,(VLOOKUP($A18,#REF!,29,0)*AV18),"") | FS18: =IF(AW18>0,(VLOOKUP($A18,#REF!,31,0)*AW18),"") | FT18: =IF(AX18>0,(VLOOKUP($A18,#REF!,29,0)*AX18),"") | FU18: =IF(AY18>0,(VLOOKUP($A18,#REF!,31,0)*AY18),"") | FV18: =IF(AZ18>0,(VLOOKUP($A18,#REF!,29,0)*AZ18),"") | FW18: =IF(BA18>0,(VLOOKUP($A18,#REF!,31,0)*BA18),"") | FX18: =IF(BB18>0,(VLOOKUP($A18,#REF!,29,0)*BB18),"") | FY18: =IF(BC18>0,(VLOOKUP($A18,#REF!,31,0)*BC18),"") | FZ18: =IF(BD18>0,(VLOOKUP($A18,#REF!,29,0)*BD18),"") | GA18: =IF(BE18>0,(VLOOKUP($A18,#REF!,31,0)*BE18),"") | GB18: =IF(BF18>0,(VLOOKUP($A18,#REF!,29,0)*BF18),"") | GC18: =IF(BG18>0,(VLOOKUP($A18,#REF!,31,0)*BG18),"") | GD18: =IF(BH18>0,(VLOOKUP($A18,#REF!,29,0)*BH18),"") | GE18: =IF(BI18>0,(VLOOKUP($A18,#REF!,31,0)*BI18),"") | GF18: =IF(BJ18>0,(VLOOKUP($A18,#REF!,29,0)*BJ18),"") | GG18: =IF(BK18>0,(VLOOKUP($A18,#REF!,31,0)*BK18),"") | GH18: =IF(BL18>0,(VLOOKUP($A18,#REF!,29,0)*BL18),"") | GI18: =IF(BM18>0,(VLOOKUP($A18,#REF!,31,0)*BM18),"") | GJ18: =IF(BN18>0,(VLOOKUP($A18,#REF!,29,0)*BN18),"") | GK18: =IF(BO18>0,(VLOOKUP($A18,#REF!,31,0)*BO18),"") | GL18: =IF(BP18>0,(VLOOKUP($A18,#REF!,29,0)*BP18),"") | GM18: =IF(BQ18>0,(VLOOKUP($A18,#REF!,31,0)*BQ18),"") | GN18: =IF(BR18>0,(VLOOKUP($A18,#REF!,29,0)*BR18),"") | GO18: =IF(BS18>0,(VLOOKUP($A18,#REF!,31,0)*BS18),"") | GP18: =IF(BT18>0,(VLOOKUP($A18,#REF!,29,0)*BT18),"") | GQ18: =IF(BU18>0,(VLOOKUP($A18,#REF!,31,0)*BU18),"") | GR18: =IF(BV18>0,(VLOOKUP($A18,#REF!,29,0)*BV18),"") | GS18: =IF(BW18>0,(VLOOKUP($A18,#REF!,31,0)*BW18),"") | GT18: =IF(BX18>0,(VLOOKUP($A18,#REF!,29,0)*BX18),"") | GU18: =IF(BY18>0,(VLOOKUP($A18,#REF!,31,0)*BY18),"") | GV18: =IF(BZ18>0,(VLOOKUP($A18,#REF!,29,0)*BZ18),"") | GW18: =IF(CA18>0,(VLOOKUP($A18,#REF!,31,0)*CA18),"") | GX18: =IF(CB18>0,(VLOOKUP($A18,#REF!,29,0)*CB18),"") | GY18: =IF(CC18>0,(VLOOKUP($A18,#REF!,31,0)*CC18),"") | GZ18: =IF(CD18>0,(VLOOKUP($A18,#REF!,29,0)*CD18),"") | HA18: =IF(CE18>0,(VLOOKUP($A18,#REF!,31,0)*CE18),"") | HB18: =IF(CF18>0,(VLOOKUP($A18,#REF!,29,0)*CF18),"") | HC18: =IF(CG18>0,(VLOOKUP($A18,#REF!,31,0)*CG18),"") | HD18: =IF(CH18>0,(VLOOKUP($A18,#REF!,29,0)*CH18),"") | HE18: =IF(CI18>0,(VLOOKUP($A18,#REF!,31,0)*CI18),"") | HF18: =IF(CJ18>0,(VLOOKUP($A18,#REF!,29,0)*CJ18),"") | HG18: =IF(CK18>0,(VLOOKUP($A18,#REF!,31,0)*CK18),"") | HH18: =IF(CL18>0,(VLOOKUP($A18,#REF!,29,0)*CL18),"") | HI18: =IF(CM18>0,(VLOOKUP($A18,#REF!,31,0)*CM18),"") | HJ18: =IF(CN18>0,(VLOOKUP($A18,#REF!,29,0)*CN18),"") | HK18: =IF(CO18>0,(VLOOKUP($A18,#REF!,31,0)*CO18),"") | HL18: =IF(CP18>0,(VLOOKUP($A18,#REF!,29,0)*CP18),"") | HM18: =IF(CQ18>0,(VLOOKUP($A18,#REF!,31,0)*CQ18),"") | HN18: =IF(CR18>0,(VLOOKUP($A18,#REF!,29,0)*CR18),"") | HO18: =IF(CS18>0,(VLOOKUP($A18,#REF!,31,0)*CS18),"") | HP18: =IF(CT18>0,(VLOOKUP($A18,#REF!,29,0)*CT18),"") | HQ18: =IF(CU18>0,(VLOOKUP($A18,#REF!,31,0)*CU18),"") | HR18: =IF(CV18>0,(VLOOKUP($A18,#REF!,29,0)*CV18),"") | HS18: =IF(CW18>0,(VLOOKUP($A18,#REF!,31,0)*CW18),"") | HT18: =IF(CX18>0,(VLOOKUP($A18,#REF!,29,0)*CX18),"") | HU18: =IF(CY18>0,(VLOOKUP($A18,#REF!,31,0)*CY18),"") | HV18: =IF(CZ18>0,(VLOOKUP($A18,#REF!,29,0)*CZ18),"") | HW18: =IF(DA18>0,(VLOOKUP($A18,#REF!,31,0)*DA18),"") | HX18: =IF(DB18>0,(VLOOKUP($A18,#REF!,29,0)*DB18),"") | HY18: =IF(DC18>0,(VLOOKUP($A18,#REF!,31,0)*DC18),"") | HZ18: =IF(DD18>0,(VLOOKUP($A18,#REF!,29,0)*DD18),"") | IA18: =IF(DE18>0,(VLOOKUP($A18,#REF!,31,0)*DE18),"") | IB18: =IF(DF18>0,(VLOOKUP($A18,#REF!,29,0)*DF18),"") | IC18: =IF(DG18>0,(VLOOKUP($A18,#REF!,31,0)*DG18),"")
A19: PBSLPS | B19: PINTO | C19: Saturnino | D19: =IF((DV19+DT19)>0,DV19+DT19,"") -> 52.5 | CH19: 43.5 | DI19: 9 | DT19: =DL19+DI19+DF19+L19+CX19+BX19+AX19+AF19+AL19+BZ19+DB19+CR19+CP19+CL19+CH19+CF19+CD19+BN19+AR19+N19-DP19+DD19+BP19+CB19+Z19+CT19+BJ19+DR19+CZ19+CV19+CN19+CJ19+BV19+BT19+BR19+BL19+BH19+BF19+BD19+BB19+AZ19+AV19+AT19+AP19+AN19+AJ19+AH19+AD19+AB19+X19+V19+T19+R19+P19+J19+H19+F19 -> 52.5 | DU19: =(DT19*(VLOOKUP(A19,#REF!,29,0)))-(IF(DO19="x",MROUND(DP19*(VLOOKUP(A19,#REF!,29,0)*0.08),0.05),0)) -> #REF! | DV19: =DM19+DJ19+DG19+M19+CY19+BY19+AY19+AG19+AM19+CA19+DC19+CS19+CQ19+CM19+CI19+CG19+CE19+BO19+AS19+O19+DE19+BQ19+CC19+AA19+CU19+BK19+DA19+CW19+CO19+CK19+BW19+BU19+BS19+BM19+BI19+BG19+BE19+BC19+BA19+AW19+AU19+AQ19+AO19+AK19+AI19+AE19+AC19+Y19+W19+U19+S19+Q19+K19+I19+G19 -> 0 | DW19: =(DV19*(VLOOKUP(A19,#REF!,31,0))) -> #REF! | DX19: =VLOOKUP(A19,#REF!,33,0) -> #REF! | DY19: =DX19-(DW19+DU19) -> #REF! | DZ19: =IF(DY19=0,"","!!") -> #REF! | EB19: =IF(F19>0,(VLOOKUP($A19,#REF!,29,0)*F19),"") | EC19: =IF(G19>0,(VLOOKUP($A19,#REF!,31,0)*G19),"") | ED19: =IF(H19>0,(VLOOKUP($A19,#REF!,29,0)*H19),"") | EE19: =IF(I19>0,(VLOOKUP($A19,#REF!,31,0)*I19),"") | EF19: =IF(J19>0,(VLOOKUP($A19,#REF!,29,0)*J19),"") | EG19: =IF(K19>0,(VLOOKUP($A19,#REF!,31,0)*K19),"") | EH19: =IF(L19>0,(VLOOKUP($A19,#REF!,29,0)*L19),"") | EI19: =IF(M19>0,(VLOOKUP($A19,#REF!,31,0)*M19),"") | EJ19: =IF(N19>0,(VLOOKUP($A19,#REF!,29,0)*N19),"") | EK19: =IF(O19>0,(VLOOKUP($A19,#REF!,31,0)*O19),"") | EL19: =IF(P19>0,(VLOOKUP($A19,#REF!,29,0)*P19),"") | EM19: =IF(Q19>0,(VLOOKUP($A19,#REF!,31,0)*Q19),"") | EN19: =IF(R19>0,(VLOOKUP($A19,#REF!,29,0)*R19),"") | EO19: =IF(S19>0,(VLOOKUP($A19,#REF!,31,0)*S19),"") | EP19: =IF(T19>0,(VLOOKUP($A19,#REF!,29,0)*T19),"") | EQ19: =IF(U19>0,(VLOOKUP($A19,#REF!,31,0)*U19),"") | ER19: =IF(V19>0,(VLOOKUP($A19,#REF!,29,0)*V19),"") | ES19: =IF(W19>0,(VLOOKUP($A19,#REF!,31,0)*W19),"") | ET19: =IF(X19>0,(VLOOKUP($A19,#REF!,29,0)*X19),"") | EU19: =IF(Y19>0,(VLOOKUP($A19,#REF!,31,0)*Y19),"") | EV19: =IF(Z19>0,(VLOOKUP($A19,#REF!,29,0)*Z19),"") | EW19: =IF(AA19>0,(VLOOKUP($A19,#REF!,31,0)*AA19),"") | EX19: =IF(AB19>0,(VLOOKUP($A19,#REF!,29,0)*AB19),"") | EY19: =IF(AC19>0,(VLOOKUP($A19,#REF!,31,0)*AC19),"") | EZ19: =IF(AD19>0,(VLOOKUP($A19,#REF!,29,0)*AD19),"") | FA19: =IF(AE19>0,(VLOOKUP($A19,#REF!,31,0)*AE19),"") | FB19: =IF(AF19>0,(VLOOKUP($A19,#REF!,29,0)*AF19),"") | FC19: =IF(AG19>0,(VLOOKUP($A19,#REF!,31,0)*AG19),"") | FD19: =IF(AH19>0,(VLOOKUP($A19,#REF!,29,0)*AH19),"") | FE19: =IF(AI19>0,(VLOOKUP($A19,#REF!,31,0)*AI19),"") | FF19: =IF(AJ19>0,(VLOOKUP($A19,#REF!,29,0)*AJ19),"") | FG19: =IF(AK19>0,(VLOOKUP($A19,#REF!,31,0)*AK19),"") | FH19: =IF(AL19>0,(VLOOKUP($A19,#REF!,29,0)*AL19),"") | FI19: =IF(AM19>0,(VLOOKUP($A19,#REF!,31,0)*AM19),"") | FJ19: =IF(AN19>0,(VLOOKUP($A19,#REF!,29,0)*AN19),"") | FK19: =IF(AO19>0,(VLOOKUP($A19,#REF!,31,0)*AO19),"") | FL19: =IF(AP19>0,(VLOOKUP($A19,#REF!,29,0)*AP19),"") | FM19: =IF(AQ19>0,(VLOOKUP($A19,#REF!,31,0)*AQ19),"") | FN19: =IF(AR19>0,(VLOOKUP($A19,#REF!,29,0)*AR19),"") | FO19: =IF(AS19>0,(VLOOKUP($A19,#REF!,31,0)*AS19),"") | FP19: =IF(AT19>0,(VLOOKUP($A19,#REF!,29,0)*AT19),"") | FQ19: =IF(AU19>0,(VLOOKUP($A19,#REF!,31,0)*AU19),"") | FR19: =IF(AV19>0,(VLOOKUP($A19,#REF!,29,0)*AV19),"") | FS19: =IF(AW19>0,(VLOOKUP($A19,#REF!,31,0)*AW19),"") | FT19: =IF(AX19>0,(VLOOKUP($A19,#REF!,29,0)*AX19),"") | FU19: =IF(AY19>0,(VLOOKUP($A19,#REF!,31,0)*AY19),"") | FV19: =IF(AZ19>0,(VLOOKUP($A19,#REF!,29,0)*AZ19),"") | FW19: =IF(BA19>0,(VLOOKUP($A19,#REF!,31,0)*BA19),"") | FX19: =IF(BB19>0,(VLOOKUP($A19,#REF!,29,0)*BB19),"") | FY19: =IF(BC19>0,(VLOOKUP($A19,#REF!,31,0)*BC19),"") | FZ19: =IF(BD19>0,(VLOOKUP($A19,#REF!,29,0)*BD19),"") | GA19: =IF(BE19>0,(VLOOKUP($A19,#REF!,31,0)*BE19),"") | GB19: =IF(BF19>0,(VLOOKUP($A19,#REF!,29,0)*BF19),"") | GC19: =IF(BG19>0,(VLOOKUP($A19,#REF!,31,0)*BG19),"") | GD19: =IF(BH19>0,(VLOOKUP($A19,#REF!,29,0)*BH19),"") | GE19: =IF(BI19>0,(VLOOKUP($A19,#REF!,31,0)*BI19),"") | GF19: =IF(BJ19>0,(VLOOKUP($A19,#REF!,29,0)*BJ19),"") | GG19: =IF(BK19>0,(VLOOKUP($A19,#REF!,31,0)*BK19),"") | GH19: =IF(BL19>0,(VLOOKUP($A19,#REF!,29,0)*BL19),"") | GI19: =IF(BM19>0,(VLOOKUP($A19,#REF!,31,0)*BM19),"") | GJ19: =IF(BN19>0,(VLOOKUP($A19,#REF!,29,0)*BN19),"") | GK19: =IF(BO19>0,(VLOOKUP($A19,#REF!,31,0)*BO19),"") | GL19: =IF(BP19>0,(VLOOKUP($A19,#REF!,29,0)*BP19),"") | GM19: =IF(BQ19>0,(VLOOKUP($A19,#REF!,31,0)*BQ19),"") | GN19: =IF(BR19>0,(VLOOKUP($A19,#REF!,29,0)*BR19),"") | GO19: =IF(BS19>0,(VLOOKUP($A19,#REF!,31,0)*BS19),"") | GP19: =IF(BT19>0,(VLOOKUP($A19,#REF!,29,0)*BT19),"") | GQ19: =IF(BU19>0,(VLOOKUP($A19,#REF!,31,0)*BU19),"") | GR19: =IF(BV19>0,(VLOOKUP($A19,#REF!,29,0)*BV19),"") | GS19: =IF(BW19>0,(VLOOKUP($A19,#REF!,31,0)*BW19),"") | GT19: =IF(BX19>0,(VLOOKUP($A19,#REF!,29,0)*BX19),"") | GU19: =IF(BY19>0,(VLOOKUP($A19,#REF!,31,0)*BY19),"") | GV19: =IF(BZ19>0,(VLOOKUP($A19,#REF!,29,0)*BZ19),"") | GW19: =IF(CA19>0,(VLOOKUP($A19,#REF!,31,0)*CA19),"") | GX19: =IF(CB19>0,(VLOOKUP($A19,#REF!,29,0)*CB19),"") | GY19: =IF(CC19>0,(VLOOKUP($A19,#REF!,31,0)*CC19),"") | GZ19: =IF(CD19>0,(VLOOKUP($A19,#REF!,29,0)*CD19),"") | HA19: =IF(CE19>0,(VLOOKUP($A19,#REF!,31,0)*CE19),"") | HB19: =IF(CF19>0,(VLOOKUP($A19,#REF!,29,0)*CF19),"") | HC19: =IF(CG19>0,(VLOOKUP($A19,#REF!,31,0)*CG19),"") | HD19: =IF(CH19>0,(VLOOKUP($A19,#REF!,29,0)*CH19),"") -> #REF! | HE19: =IF(CI19>0,(VLOOKUP($A19,#REF!,31,0)*CI19),"") | HF19: =IF(CJ19>0,(VLOOKUP($A19,#REF!,29,0)*CJ19),"") | HG19: =IF(CK19>0,(VLOOKUP($A19,#REF!,31,0)*CK19),"") | HH19: =IF(CL19>0,(VLOOKUP($A19,#REF!,29,0)*CL19),"") | HI19: =IF(CM19>0,(VLOOKUP($A19,#REF!,31,0)*CM19),"") | HJ19: =IF(CN19>0,(VLOOKUP($A19,#REF!,29,0)*CN19),"") | HK19: =IF(CO19>0,(VLOOKUP($A19,#REF!,31,0)*CO19),"") | HL19: =IF(CP19>0,(VLOOKUP($A19,#REF!,29,0)*CP19),"") | HM19: =IF(CQ19>0,(VLOOKUP($A19,#REF!,31,0)*CQ19),"") | HN19: =IF(CR19>0,(VLOOKUP($A19,#REF!,29,0)*CR19),"") | HO19: =IF(CS19>0,(VLOOKUP($A19,#REF!,31,0)*CS19),"") | HP19: =IF(CT19>0,(VLOOKUP($A19,#REF!,29,0)*CT19),"") | HQ19: =IF(CU19>0,(VLOOKUP($A19,#REF!,31,0)*CU19),"") | HR19: =IF(CV19>0,(VLOOKUP($A19,#REF!,29,0)*CV19),"") | HS19: =IF(CW19>0,(VLOOKUP($A19,#REF!,31,0)*CW19),"") | HT19: =IF(CX19>0,(VLOOKUP($A19,#REF!,29,0)*CX19),"") | HU19: =IF(CY19>0,(VLOOKUP($A19,#REF!,31,0)*CY19),"") | HV19: =IF(CZ19>0,(VLOOKUP($A19,#REF!,29,0)*CZ19),"") | HW19: =IF(DA19>0,(VLOOKUP($A19,#REF!,31,0)*DA19),"") | HX19: =IF(DB19>0,(VLOOKUP($A19,#REF!,29,0)*DB19),"") | HY19: =IF(DC19>0,(VLOOKUP($A19,#REF!,31,0)*DC19),"") | HZ19: =IF(DD19>0,(VLOOKUP($A19,#REF!,29,0)*DD19),"") | IA19: =IF(DE19>0,(VLOOKUP($A19,#REF!,31,0)*DE19),"") | IB19: =IF(DF19>0,(VLOOKUP($A19,#REF!,29,0)*DF19),"") | IC19: =IF(DG19>0,(VLOOKUP($A19,#REF!,31,0)*DG19),"")
A20: PBSLSG | B20: SARACINO | C20: Giulia | D20: =IF((DV20+DT20)>0,DV20+DT20,"") -> 43 | AF20: 12 | BX20: 31 | DT20: =DL20+DI20+DF20+L20+CX20+BX20+AX20+AF20+AL20+BZ20+DB20+CR20+CP20+CL20+CH20+CF20+CD20+BN20+AR20+N20-DP20+DD20+BP20+CB20+Z20+CT20+BJ20+DR20+CZ20+CV20+CN20+CJ20+BV20+BT20+BR20+BL20+BH20+BF20+BD20+BB20+AZ20+AV20+AT20+AP20+AN20+AJ20+AH20+AD20+AB20+X20+V20+T20+R20+P20+J20+H20+F20 -> 43 | DU20: =(DT20*(VLOOKUP(A20,#REF!,29,0)))-(IF(DO20="x",MROUND(DP20*(VLOOKUP(A20,#REF!,29,0)*0.08),0.05),0)) -> #REF! | DV20: =DM20+DJ20+DG20+M20+CY20+BY20+AY20+AG20+AM20+CA20+DC20+CS20+CQ20+CM20+CI20+CG20+CE20+BO20+AS20+O20+DE20+BQ20+CC20+AA20+CU20+BK20+DA20+CW20+CO20+CK20+BW20+BU20+BS20+BM20+BI20+BG20+BE20+BC20+BA20+AW20+AU20+AQ20+AO20+AK20+AI20+AE20+AC20+Y20+W20+U20+S20+Q20+K20+I20+G20 -> 0 | DW20: =(DV20*(VLOOKUP(A20,#REF!,31,0))) -> #REF! | DX20: =VLOOKUP(A20,#REF!,33,0) -> #REF! | DY20: =DX20-(DW20+DU20) -> #REF! | DZ20: =IF(DY20=0,"","!!") -> #REF! | EB20: =IF(F20>0,(VLOOKUP($A20,#REF!,29,0)*F20),"") | EC20: =IF(G20>0,(VLOOKUP($A20,#REF!,31,0)*G20),"") | ED20: =IF(H20>0,(VLOOKUP($A20,#REF!,29,0)*H20),"") | EE20: =IF(I20>0,(VLOOKUP($A20,#REF!,31,0)*I20),"") | EF20: =IF(J20>0,(VLOOKUP($A20,#REF!,29,0)*J20),"") | EG20: =IF(K20>0,(VLOOKUP($A20,#REF!,31,0)*K20),"") | EH20: =IF(L20>0,(VLOOKUP($A20,#REF!,29,0)*L20),"") | EI20: =IF(M20>0,(VLOOKUP($A20,#REF!,31,0)*M20),"") | EJ20: =IF(N20>0,(VLOOKUP($A20,#REF!,29,0)*N20),"") | EK20: =IF(O20>0,(VLOOKUP($A20,#REF!,31,0)*O20),"") | EL20: =IF(P20>0,(VLOOKUP($A20,#REF!,29,0)*P20),"") | EM20: =IF(Q20>0,(VLOOKUP($A20,#REF!,31,0)*Q20),"") | EN20: =IF(R20>0,(VLOOKUP($A20,#REF!,29,0)*R20),"") | EO20: =IF(S20>0,(VLOOKUP($A20,#REF!,31,0)*S20),"") | EP20: =IF(T20>0,(VLOOKUP($A20,#REF!,29,0)*T20),"") | EQ20: =IF(U20>0,(VLOOKUP($A20,#REF!,31,0)*U20),"") | ER20: =IF(V20>0,(VLOOKUP($A20,#REF!,29,0)*V20),"") | ES20: =IF(W20>0,(VLOOKUP($A20,#REF!,31,0)*W20),"") | ET20: =IF(X20>0,(VLOOKUP($A20,#REF!,29,0)*X20),"") | EU20: =IF(Y20>0,(VLOOKUP($A20,#REF!,31,0)*Y20),"") | EV20: =IF(Z20>0,(VLOOKUP($A20,#REF!,29,0)*Z20),"") | EW20: =IF(AA20>0,(VLOOKUP($A20,#REF!,31,0)*AA20),"") | EX20: =IF(AB20>0,(VLOOKUP($A20,#REF!,29,0)*AB20),"") | EY20: =IF(AC20>0,(VLOOKUP($A20,#REF!,31,0)*AC20),"") | EZ20: =IF(AD20>0,(VLOOKUP($A20,#REF!,29,0)*AD20),"") | FA20: =IF(AE20>0,(VLOOKUP($A20,#REF!,31,0)*AE20),"") | FB20: =IF(AF20>0,(VLOOKUP($A20,#REF!,29,0)*AF20),"") -> #REF! | FC20: =IF(AG20>0,(VLOOKUP($A20,#REF!,31,0)*AG20),"") | FD20: =IF(AH20>0,(VLOOKUP($A20,#REF!,29,0)*AH20),"") | FE20: =IF(AI20>0,(VLOOKUP($A20,#REF!,31,0)*AI20),"") | FF20: =IF(AJ20>0,(VLOOKUP($A20,#REF!,29,0)*AJ20),"") | FG20: =IF(AK20>0,(VLOOKUP($A20,#REF!,31,0)*AK20),"") | FH20: =IF(AL20>0,(VLOOKUP($A20,#REF!,29,0)*AL20),"") | FI20: =IF(AM20>0,(VLOOKUP($A20,#REF!,31,0)*AM20),"") | FJ20: =IF(AN20>0,(VLOOKUP($A20,#REF!,29,0)*AN20),"") | FK20: =IF(AO20>0,(VLOOKUP($A20,#REF!,31,0)*AO20),"") | FL20: =IF(AP20>0,(VLOOKUP($A20,#REF!,29,0)*AP20),"") | FM20: =IF(AQ20>0,(VLOOKUP($A20,#REF!,31,0)*AQ20),"") | FN20: =IF(AR20>0,(VLOOKUP($A20,#REF!,29,0)*AR20),"") | FO20: =IF(AS20>0,(VLOOKUP($A20,#REF!,31,0)*AS20),"") | FP20: =IF(AT20>0,(VLOOKUP($A20,#REF!,29,0)*AT20),"") | FQ20: =IF(AU20>0,(VLOOKUP($A20,#REF!,31,0)*AU20),"") | FR20: =IF(AV20>0,(VLOOKUP($A20,#REF!,29,0)*AV20),"") | FS20: =IF(AW20>0,(VLOOKUP($A20,#REF!,31,0)*AW20),"") | FT20: =IF(AX20>0,(VLOOKUP($A20,#REF!,29,0)*AX20),"") | FU20: =IF(AY20>0,(VLOOKUP($A20,#REF!,31,0)*AY20),"") | FV20: =IF(AZ20>0,(VLOOKUP($A20,#REF!,29,0)*AZ20),"") | FW20: =IF(BA20>0,(VLOOKUP($A20,#REF!,31,0)*BA20),"") | FX20: =IF(BB20>0,(VLOOKUP($A20,#REF!,29,0)*BB20),"") | FY20: =IF(BC20>0,(VLOOKUP($A20,#REF!,31,0)*BC20),"") | FZ20: =IF(BD20>0,(VLOOKUP($A20,#REF!,29,0)*BD20),"") | GA20: =IF(BE20>0,(VLOOKUP($A20,#REF!,31,0)*BE20),"") | GB20: =IF(BF20>0,(VLOOKUP($A20,#REF!,29,0)*BF20),"") | GC20: =IF(BG20>0,(VLOOKUP($A20,#REF!,31,0)*BG20),"") | GD20: =IF(BH20>0,(VLOOKUP($A20,#REF!,29,0)*BH20),"") | GE20: =IF(BI20>0,(VLOOKUP($A20,#REF!,31,0)*BI20),"") | GF20: =IF(BJ20>0,(VLOOKUP($A20,#REF!,29,0)*BJ20),"") | GG20: =IF(BK20>0,(VLOOKUP($A20,#REF!,31,0)*BK20),"") | GH20: =IF(BL20>0,(VLOOKUP($A20,#REF!,29,0)*BL20),"") | GI20: =IF(BM20>0,(VLOOKUP($A20,#REF!,31,0)*BM20),"") | GJ20: =IF(BN20>0,(VLOOKUP($A20,#REF!,29,0)*BN20),"") | GK20: =IF(BO20>0,(VLOOKUP($A20,#REF!,31,0)*BO20),"") | GL20: =IF(BP20>0,(VLOOKUP($A20,#REF!,29,0)*BP20),"") | GM20: =IF(BQ20>0,(VLOOKUP($A20,#REF!,31,0)*BQ20),"") | GN20: =IF(BR20>0,(VLOOKUP($A20,#REF!,29,0)*BR20),"") | GO20: =IF(BS20>0,(VLOOKUP($A20,#REF!,31,0)*BS20),"") | GP20: =IF(BT20>0,(VLOOKUP($A20,#REF!,29,0)*BT20),"") | GQ20: =IF(BU20>0,(VLOOKUP($A20,#REF!,31,0)*BU20),"") | GR20: =IF(BV20>0,(VLOOKUP($A20,#REF!,29,0)*BV20),"") | GS20: =IF(BW20>0,(VLOOKUP($A20,#REF!,31,0)*BW20),"") | GT20: =IF(BX20>0,(VLOOKUP($A20,#REF!,29,0)*BX20),"") -> #REF! | GU20: =IF(BY20>0,(VLOOKUP($A20,#REF!,31,0)*BY20),"") | GV20: =IF(BZ20>0,(VLOOKUP($A20,#REF!,29,0)*BZ20),"") | GW20: =IF(CA20>0,(VLOOKUP($A20,#REF!,31,0)*CA20),"") | GX20: =IF(CB20>0,(VLOOKUP($A20,#REF!,29,0)*CB20),"") | GY20: =IF(CC20>0,(VLOOKUP($A20,#REF!,31,0)*CC20),"") | GZ20: =IF(CD20>0,(VLOOKUP($A20,#REF!,29,0)*CD20),"") | HA20: =IF(CE20>0,(VLOOKUP($A20,#REF!,31,0)*CE20),"") | HB20: =IF(CF20>0,(VLOOKUP($A20,#REF!,29,0)*CF20),"") | HC20: =IF(CG20>0,(VLOOKUP($A20,#REF!,31,0)*CG20),"") | HD20: =IF(CH20>0,(VLOOKUP($A20,#REF!,29,0)*CH20),"") | HE20: =IF(CI20>0,(VLOOKUP($A20,#REF!,31,0)*CI20),"") | HF20: =IF(CJ20>0,(VLOOKUP($A20,#REF!,29,0)*CJ20),"") | HG20: =IF(CK20>0,(VLOOKUP($A20,#REF!,31,0)*CK20),"") | HH20: =IF(CL20>0,(VLOOKUP($A20,#REF!,29,0)*CL20),"") | HI20: =IF(CM20>0,(VLOOKUP($A20,#REF!,31,0)*CM20),"") | HJ20: =IF(CN20>0,(VLOOKUP($A20,#REF!,29,0)*CN20),"") | HK20: =IF(CO20>0,(VLOOKUP($A20,#REF!,31,0)*CO20),"") | HL20: =IF(CP20>0,(VLOOKUP($A20,#REF!,29,0)*CP20),"") | HM20: =IF(CQ20>0,(VLOOKUP($A20,#REF!,31,0)*CQ20),"") | HN20: =IF(CR20>0,(VLOOKUP($A20,#REF!,29,0)*CR20),"") | HO20: =IF(CS20>0,(VLOOKUP($A20,#REF!,31,0)*CS20),"") | HP20: =IF(CT20>0,(VLOOKUP($A20,#REF!,29,0)*CT20),"") | HQ20: =IF(CU20>0,(VLOOKUP($A20,#REF!,31,0)*CU20),"") | HR20: =IF(CV20>0,(VLOOKUP($A20,#REF!,29,0)*CV20),"") | HS20: =IF(CW20>0,(VLOOKUP($A20,#REF!,31,0)*CW20),"") | HT20: =IF(CX20>0,(VLOOKUP($A20,#REF!,29,0)*CX20),"") | HU20: =IF(CY20>0,(VLOOKUP($A20,#REF!,31,0)*CY20),"") | HV20: =IF(CZ20>0,(VLOOKUP($A20,#REF!,29,0)*CZ20),"") | HW20: =IF(DA20>0,(VLOOKUP($A20,#REF!,31,0)*DA20),"") | HX20: =IF(DB20>0,(VLOOKUP($A20,#REF!,29,0)*DB20),"") | HY20: =IF(DC20>0,(VLOOKUP($A20,#REF!,31,0)*DC20),"") | HZ20: =IF(DD20>0,(VLOOKUP($A20,#REF!,29,0)*DD20),"") | IA20: =IF(DE20>0,(VLOOKUP($A20,#REF!,31,0)*DE20),"") | IB20: =IF(DF20>0,(VLOOKUP($A20,#REF!,29,0)*DF20),"") | IC20: =IF(DG20>0,(VLOOKUP($A20,#REF!,31,0)*DG20),"")
A21: PBSLSW | B21: SILVA | C21: Wandreson | D21: =IF((DV21+DT21)>0,DV21+DT21,"") | DT21: =DL21+DI21+DF21+L21+CX21+BX21+AX21+AF21+AL21+BZ21+DB21+CR21+CP21+CL21+CH21+CF21+CD21+BN21+AR21+N21-DP21+DD21+BP21+CB21+Z21+CT21+BJ21+DR21+CZ21+CV21+CN21+CJ21+BV21+BT21+BR21+BL21+BH21+BF21+BD21+BB21+AZ21+AV21+AT21+AP21+AN21+AJ21+AH21+AD21+AB21+X21+V21+T21+R21+P21+J21+H21+F21 -> 0 | DU21: =(DT21*(VLOOKUP(A21,#REF!,29,0)))-(IF(DO21="x",MROUND(DP21*(VLOOKUP(A21,#REF!,29,0)*0.08),0.05),0)) -> #REF! | DV21: =DM21+DJ21+DG21+M21+CY21+BY21+AY21+AG21+AM21+CA21+DC21+CS21+CQ21+CM21+CI21+CG21+CE21+BO21+AS21+O21+DE21+BQ21+CC21+AA21+CU21+BK21+DA21+CW21+CO21+CK21+BW21+BU21+BS21+BM21+BI21+BG21+BE21+BC21+BA21+AW21+AU21+AQ21+AO21+AK21+AI21+AE21+AC21+Y21+W21+U21+S21+Q21+K21+I21+G21 -> 0 | DW21: =(DV21*(VLOOKUP(A21,#REF!,31,0))) -> #REF! | DX21: =VLOOKUP(A21,#REF!,33,0) -> #REF! | DY21: =DX21-(DW21+DU21) -> #REF! | DZ21: =IF(DY21=0,"","!!") -> #REF! | EB21: =IF(F21>0,(VLOOKUP($A21,#REF!,29,0)*F21),"") | EC21: =IF(G21>0,(VLOOKUP($A21,#REF!,31,0)*G21),"") | ED21: =IF(H21>0,(VLOOKUP($A21,#REF!,29,0)*H21),"") | EE21: =IF(I21>0,(VLOOKUP($A21,#REF!,31,0)*I21),"") | EF21: =IF(J21>0,(VLOOKUP($A21,#REF!,29,0)*J21),"") | EG21: =IF(K21>0,(VLOOKUP($A21,#REF!,31,0)*K21),"") | EH21: =IF(L21>0,(VLOOKUP($A21,#REF!,29,0)*L21),"") | EI21: =IF(M21>0,(VLOOKUP($A21,#REF!,31,0)*M21),"") | EJ21: =IF(N21>0,(VLOOKUP($A21,#REF!,29,0)*N21),"") | EK21: =IF(O21>0,(VLOOKUP($A21,#REF!,31,0)*O21),"") | EL21: =IF(P21>0,(VLOOKUP($A21,#REF!,29,0)*P21),"") | EM21: =IF(Q21>0,(VLOOKUP($A21,#REF!,31,0)*Q21),"") | EN21: =IF(R21>0,(VLOOKUP($A21,#REF!,29,0)*R21),"") | EO21: =IF(S21>0,(VLOOKUP($A21,#REF!,31,0)*S21),"") | EP21: =IF(T21>0,(VLOOKUP($A21,#REF!,29,0)*T21),"") | EQ21: =IF(U21>0,(VLOOKUP($A21,#REF!,31,0)*U21),"") | ER21: =IF(V21>0,(VLOOKUP($A21,#REF!,29,0)*V21),"") | ES21: =IF(W21>0,(VLOOKUP($A21,#REF!,31,0)*W21),"") | ET21: =IF(X21>0,(VLOOKUP($A21,#REF!,29,0)*X21),"") | EU21: =IF(Y21>0,(VLOOKUP($A21,#REF!,31,0)*Y21),"") | EV21: =IF(Z21>0,(VLOOKUP($A21,#REF!,29,0)*Z21),"") | EW21: =IF(AA21>0,(VLOOKUP($A21,#REF!,31,0)*AA21),"") | EX21: =IF(AB21>0,(VLOOKUP($A21,#REF!,29,0)*AB21),"") | EY21: =IF(AC21>0,(VLOOKUP($A21,#REF!,31,0)*AC21),"") | EZ21: =IF(AD21>0,(VLOOKUP($A21,#REF!,29,0)*AD21),"") | FA21: =IF(AE21>0,(VLOOKUP($A21,#REF!,31,0)*AE21),"") | FB21: =IF(AF21>0,(VLOOKUP($A21,#REF!,29,0)*AF21),"") | FC21: =IF(AG21>0,(VLOOKUP($A21,#REF!,31,0)*AG21),"") | FD21: =IF(AH21>0,(VLOOKUP($A21,#REF!,29,0)*AH21),"") | FE21: =IF(AI21>0,(VLOOKUP($A21,#REF!,31,0)*AI21),"") | FF21: =IF(AJ21>0,(VLOOKUP($A21,#REF!,29,0)*AJ21),"") | FG21: =IF(AK21>0,(VLOOKUP($A21,#REF!,31,0)*AK21),"") | FH21: =IF(AL21>0,(VLOOKUP($A21,#REF!,29,0)*AL21),"") | FI21: =IF(AM21>0,(VLOOKUP($A21,#REF!,31,0)*AM21),"") | FJ21: =IF(AN21>0,(VLOOKUP($A21,#REF!,29,0)*AN21),"") | FK21: =IF(AO21>0,(VLOOKUP($A21,#REF!,31,0)*AO21),"") | FL21: =IF(AP21>0,(VLOOKUP($A21,#REF!,29,0)*AP21),"") | FM21: =IF(AQ21>0,(VLOOKUP($A21,#REF!,31,0)*AQ21),"") | FN21: =IF(AR21>0,(VLOOKUP($A21,#REF!,29,0)*AR21),"") | FO21: =IF(AS21>0,(VLOOKUP($A21,#REF!,31,0)*AS21),"") | FP21: =IF(AT21>0,(VLOOKUP($A21,#REF!,29,0)*AT21),"") | FQ21: =IF(AU21>0,(VLOOKUP($A21,#REF!,31,0)*AU21),"") | FR21: =IF(AV21>0,(VLOOKUP($A21,#REF!,29,0)*AV21),"") | FS21: =IF(AW21>0,(VLOOKUP($A21,#REF!,31,0)*AW21),"") | FT21: =IF(AX21>0,(VLOOKUP($A21,#REF!,29,0)*AX21),"") | FU21: =IF(AY21>0,(VLOOKUP($A21,#REF!,31,0)*AY21),"") | FV21: =IF(AZ21>0,(VLOOKUP($A21,#REF!,29,0)*AZ21),"") | FW21: =IF(BA21>0,(VLOOKUP($A21,#REF!,31,0)*BA21),"") | FX21: =IF(BB21>0,(VLOOKUP($A21,#REF!,29,0)*BB21),"") | FY21: =IF(BC21>0,(VLOOKUP($A21,#REF!,31,0)*BC21),"") | FZ21: =IF(BD21>0,(VLOOKUP($A21,#REF!,29,0)*BD21),"") | GA21: =IF(BE21>0,(VLOOKUP($A21,#REF!,31,0)*BE21),"") | GB21: =IF(BF21>0,(VLOOKUP($A21,#REF!,29,0)*BF21),"") | GC21: =IF(BG21>0,(VLOOKUP($A21,#REF!,31,0)*BG21),"") | GD21: =IF(BH21>0,(VLOOKUP($A21,#REF!,29,0)*BH21),"") | GE21: =IF(BI21>0,(VLOOKUP($A21,#REF!,31,0)*BI21),"") | GF21: =IF(BJ21>0,(VLOOKUP($A21,#REF!,29,0)*BJ21),"") | GG21: =IF(BK21>0,(VLOOKUP($A21,#REF!,31,0)*BK21),"") | GH21: =IF(BL21>0,(VLOOKUP($A21,#REF!,29,0)*BL21),"") | GI21: =IF(BM21>0,(VLOOKUP($A21,#REF!,31,0)*BM21),"") | GJ21: =IF(BN21>0,(VLOOKUP($A21,#REF!,29,0)*BN21),"") | GK21: =IF(BO21>0,(VLOOKUP($A21,#REF!,31,0)*BO21),"") | GL21: =IF(BP21>0,(VLOOKUP($A21,#REF!,29,0)*BP21),"") | GM21: =IF(BQ21>0,(VLOOKUP($A21,#REF!,31,0)*BQ21),"") | GN21: =IF(BR21>0,(VLOOKUP($A21,#REF!,29,0)*BR21),"") | GO21: =IF(BS21>0,(VLOOKUP($A21,#REF!,31,0)*BS21),"") | GP21: =IF(BT21>0,(VLOOKUP($A21,#REF!,29,0)*BT21),"") | GQ21: =IF(BU21>0,(VLOOKUP($A21,#REF!,31,0)*BU21),"") | GR21: =IF(BV21>0,(VLOOKUP($A21,#REF!,29,0)*BV21),"") | GS21: =IF(BW21>0,(VLOOKUP($A21,#REF!,31,0)*BW21),"") | GT21: =IF(BX21>0,(VLOOKUP($A21,#REF!,29,0)*BX21),"") | GU21: =IF(BY21>0,(VLOOKUP($A21,#REF!,31,0)*BY21),"") | GV21: =IF(BZ21>0,(VLOOKUP($A21,#REF!,29,0)*BZ21),"") | GW21: =IF(CA21>0,(VLOOKUP($A21,#REF!,31,0)*CA21),"") | GX21: =IF(CB21>0,(VLOOKUP($A21,#REF!,29,0)*CB21),"") | GY21: =IF(CC21>0,(VLOOKUP($A21,#REF!,31,0)*CC21),"") | GZ21: =IF(CD21>0,(VLOOKUP($A21,#REF!,29,0)*CD21),"") | HA21: =IF(CE21>0,(VLOOKUP($A21,#REF!,31,0)*CE21),"") | HB21: =IF(CF21>0,(VLOOKUP($A21,#REF!,29,0)*CF21),"") | HC21: =IF(CG21>0,(VLOOKUP($A21,#REF!,31,0)*CG21),"") | HD21: =IF(CH21>0,(VLOOKUP($A21,#REF!,29,0)*CH21),"") | HE21: =IF(CI21>0,(VLOOKUP($A21,#REF!,31,0)*CI21),"") | HF21: =IF(CJ21>0,(VLOOKUP($A21,#REF!,29,0)*CJ21),"") | HG21: =IF(CK21>0,(VLOOKUP($A21,#REF!,31,0)*CK21),"") | HH21: =IF(CL21>0,(VLOOKUP($A21,#REF!,29,0)*CL21),"") | HI21: =IF(CM21>0,(VLOOKUP($A21,#REF!,31,0)*CM21),"") | HJ21: =IF(CN21>0,(VLOOKUP($A21,#REF!,29,0)*CN21),"") | HK21: =IF(CO21>0,(VLOOKUP($A21,#REF!,31,0)*CO21),"") | HL21: =IF(CP21>0,(VLOOKUP($A21,#REF!,29,0)*CP21),"") | HM21: =IF(CQ21>0,(VLOOKUP($A21,#REF!,31,0)*CQ21),"") | HN21: =IF(CR21>0,(VLOOKUP($A21,#REF!,29,0)*CR21),"") | HO21: =IF(CS21>0,(VLOOKUP($A21,#REF!,31,0)*CS21),"") | HP21: =IF(CT21>0,(VLOOKUP($A21,#REF!,29,0)*CT21),"") | HQ21: =IF(CU21>0,(VLOOKUP($A21,#REF!,31,0)*CU21),"") | HR21: =IF(CV21>0,(VLOOKUP($A21,#REF!,29,0)*CV21),"") | HS21: =IF(CW21>0,(VLOOKUP($A21,#REF!,31,0)*CW21),"") | HT21: =IF(CX21>0,(VLOOKUP($A21,#REF!,29,0)*CX21),"") | HU21: =IF(CY21>0,(VLOOKUP($A21,#REF!,31,0)*CY21),"") | HV21: =IF(CZ21>0,(VLOOKUP($A21,#REF!,29,0)*CZ21),"") | HW21: =IF(DA21>0,(VLOOKUP($A21,#REF!,31,0)*DA21),"") | HX21: =IF(DB21>0,(VLOOKUP($A21,#REF!,29,0)*DB21),"") | HY21: =IF(DC21>0,(VLOOKUP($A21,#REF!,31,0)*DC21),"") | HZ21: =IF(DD21>0,(VLOOKUP($A21,#REF!,29,0)*DD21),"") | IA21: =IF(DE21>0,(VLOOKUP($A21,#REF!,31,0)*DE21),"") | IB21: =IF(DF21>0,(VLOOKUP($A21,#REF!,29,0)*DF21),"") | IC21: =IF(DG21>0,(VLOOKUP($A21,#REF!,31,0)*DG21),"")
A22: PBSLVC | B22: VONTHRON | C22: Chloé | D22: =IF((DV22+DT22)>0,DV22+DT22,"") -> 32 | BN22: 24 | BO22: 8 | DT22: =DL22+DI22+DF22+L22+CX22+BX22+AX22+AF22+AL22+BZ22+DB22+CR22+CP22+CL22+CH22+CF22+CD22+BN22+AR22+N22-DP22+DD22+BP22+CB22+Z22+CT22+BJ22+DR22+CZ22+CV22+CN22+CJ22+BV22+BT22+BR22+BL22+BH22+BF22+BD22+BB22+AZ22+AV22+AT22+AP22+AN22+AJ22+AH22+AD22+AB22+X22+V22+T22+R22+P22+J22+H22+F22 -> 24 | DU22: =(DT22*(VLOOKUP(A22,#REF!,29,0)))-(IF(DO22="x",MROUND(DP22*(VLOOKUP(A22,#REF!,29,0)*0.08),0.05),0)) -> #REF! | DV22: =DM22+DJ22+DG22+M22+CY22+BY22+AY22+AG22+AM22+CA22+DC22+CS22+CQ22+CM22+CI22+CG22+CE22+BO22+AS22+O22+DE22+BQ22+CC22+AA22+CU22+BK22+DA22+CW22+CO22+CK22+BW22+BU22+BS22+BM22+BI22+BG22+BE22+BC22+BA22+AW22+AU22+AQ22+AO22+AK22+AI22+AE22+AC22+Y22+W22+U22+S22+Q22+K22+I22+G22 -> 8 | DW22: =(DV22*(VLOOKUP(A22,#REF!,31,0))) -> #REF! | DX22: =VLOOKUP(A22,#REF!,33,0) -> #REF! | DY22: =DX22-(DW22+DU22) -> #REF! | DZ22: =IF(DY22=0,"","!!") -> #REF! | EB22: =IF(F22>0,(VLOOKUP($A22,#REF!,29,0)*F22),"") | EC22: =IF(G22>0,(VLOOKUP($A22,#REF!,31,0)*G22),"") | ED22: =IF(H22>0,(VLOOKUP($A22,#REF!,29,0)*H22),"") | EE22: =IF(I22>0,(VLOOKUP($A22,#REF!,31,0)*I22),"") | EF22: =IF(J22>0,(VLOOKUP($A22,#REF!,29,0)*J22),"") | EG22: =IF(K22>0,(VLOOKUP($A22,#REF!,31,0)*K22),"") | EH22: =IF(L22>0,(VLOOKUP($A22,#REF!,29,0)*L22),"") | EI22: =IF(M22>0,(VLOOKUP($A22,#REF!,31,0)*M22),"") | EJ22: =IF(N22>0,(VLOOKUP($A22,#REF!,29,0)*N22),"") | EK22: =IF(O22>0,(VLOOKUP($A22,#REF!,31,0)*O22),"") | EL22: =IF(P22>0,(VLOOKUP($A22,#REF!,29,0)*P22),"") | EM22: =IF(Q22>0,(VLOOKUP($A22,#REF!,31,0)*Q22),"") | EN22: =IF(R22>0,(VLOOKUP($A22,#REF!,29,0)*R22),"") | EO22: =IF(S22>0,(VLOOKUP($A22,#REF!,31,0)*S22),"") | EP22: =IF(T22>0,(VLOOKUP($A22,#REF!,29,0)*T22),"") | EQ22: =IF(U22>0,(VLOOKUP($A22,#REF!,31,0)*U22),"") | ER22: =IF(V22>0,(VLOOKUP($A22,#REF!,29,0)*V22),"") | ES22: =IF(W22>0,(VLOOKUP($A22,#REF!,31,0)*W22),"") | ET22: =IF(X22>0,(VLOOKUP($A22,#REF!,29,0)*X22),"") | EU22: =IF(Y22>0,(VLOOKUP($A22,#REF!,31,0)*Y22),"") | EV22: =IF(Z22>0,(VLOOKUP($A22,#REF!,29,0)*Z22),"") | EW22: =IF(AA22>0,(VLOOKUP($A22,#REF!,31,0)*AA22),"") | EX22: =IF(AB22>0,(VLOOKUP($A22,#REF!,29,0)*AB22),"") | EY22: =IF(AC22>0,(VLOOKUP($A22,#REF!,31,0)*AC22),"") | EZ22: =IF(AD22>0,(VLOOKUP($A22,#REF!,29,0)*AD22),"") | FA22: =IF(AE22>0,(VLOOKUP($A22,#REF!,31,0)*AE22),"") | FB22: =IF(AF22>0,(VLOOKUP($A22,#REF!,29,0)*AF22),"") | FC22: =IF(AG22>0,(VLOOKUP($A22,#REF!,31,0)*AG22),"") | FD22: =IF(AH22>0,(VLOOKUP($A22,#REF!,29,0)*AH22),"") | FE22: =IF(AI22>0,(VLOOKUP($A22,#REF!,31,0)*AI22),"") | FF22: =IF(AJ22>0,(VLOOKUP($A22,#REF!,29,0)*AJ22),"") | FG22: =IF(AK22>0,(VLOOKUP($A22,#REF!,31,0)*AK22),"") | FH22: =IF(AL22>0,(VLOOKUP($A22,#REF!,29,0)*AL22),"") | FI22: =IF(AM22>0,(VLOOKUP($A22,#REF!,31,0)*AM22),"") | FJ22: =IF(AN22>0,(VLOOKUP($A22,#REF!,29,0)*AN22),"") | FK22: =IF(AO22>0,(VLOOKUP($A22,#REF!,31,0)*AO22),"") | FL22: =IF(AP22>0,(VLOOKUP($A22,#REF!,29,0)*AP22),"") | FM22: =IF(AQ22>0,(VLOOKUP($A22,#REF!,31,0)*AQ22),"") | FN22: =IF(AR22>0,(VLOOKUP($A22,#REF!,29,0)*AR22),"") | FO22: =IF(AS22>0,(VLOOKUP($A22,#REF!,31,0)*AS22),"") | FP22: =IF(AT22>0,(VLOOKUP($A22,#REF!,29,0)*AT22),"") | FQ22: =IF(AU22>0,(VLOOKUP($A22,#REF!,31,0)*AU22),"") | FR22: =IF(AV22>0,(VLOOKUP($A22,#REF!,29,0)*AV22),"") | FS22: =IF(AW22>0,(VLOOKUP($A22,#REF!,31,0)*AW22),"") | FT22: =IF(AX22>0,(VLOOKUP($A22,#REF!,29,0)*AX22),"") | FU22: =IF(AY22>0,(VLOOKUP($A22,#REF!,31,0)*AY22),"") | FV22: =IF(AZ22>0,(VLOOKUP($A22,#REF!,29,0)*AZ22),"") | FW22: =IF(BA22>0,(VLOOKUP($A22,#REF!,31,0)*BA22),"") | FX22: =IF(BB22>0,(VLOOKUP($A22,#REF!,29,0)*BB22),"") | FY22: =IF(BC22>0,(VLOOKUP($A22,#REF!,31,0)*BC22),"") | FZ22: =IF(BD22>0,(VLOOKUP($A22,#REF!,29,0)*BD22),"") | GA22: =IF(BE22>0,(VLOOKUP($A22,#REF!,31,0)*BE22),"") | GB22: =IF(BF22>0,(VLOOKUP($A22,#REF!,29,0)*BF22),"") | GC22: =IF(BG22>0,(VLOOKUP($A22,#REF!,31,0)*BG22),"") | GD22: =IF(BH22>0,(VLOOKUP($A22,#REF!,29,0)*BH22),"") | GE22: =IF(BI22>0,(VLOOKUP($A22,#REF!,31,0)*BI22),"") | GF22: =IF(BJ22>0,(VLOOKUP($A22,#REF!,29,0)*BJ22),"") | GG22: =IF(BK22>0,(VLOOKUP($A22,#REF!,31,0)*BK22),"") | GH22: =IF(BL22>0,(VLOOKUP($A22,#REF!,29,0)*BL22),"") | GI22: =IF(BM22>0,(VLOOKUP($A22,#REF!,31,0)*BM22),"") | GJ22: =IF(BN22>0,(VLOOKUP($A22,#REF!,29,0)*BN22),"") -> #REF! | GK22: =IF(BO22>0,(VLOOKUP($A22,#REF!,31,0)*BO22),"") -> #REF! | GL22: =IF(BP22>0,(VLOOKUP($A22,#REF!,29,0)*BP22),"") | GM22: =IF(BQ22>0,(VLOOKUP($A22,#REF!,31,0)*BQ22),"") | GN22: =IF(BR22>0,(VLOOKUP($A22,#REF!,29,0)*BR22),"") | GO22: =IF(BS22>0,(VLOOKUP($A22,#REF!,31,0)*BS22),"") | GP22: =IF(BT22>0,(VLOOKUP($A22,#REF!,29,0)*BT22),"") | GQ22: =IF(BU22>0,(VLOOKUP($A22,#REF!,31,0)*BU22),"") | GR22: =IF(BV22>0,(VLOOKUP($A22,#REF!,29,0)*BV22),"") | GS22: =IF(BW22>0,(VLOOKUP($A22,#REF!,31,0)*BW22),"") | GT22: =IF(BX22>0,(VLOOKUP($A22,#REF!,29,0)*BX22),"") | GU22: =IF(BY22>0,(VLOOKUP($A22,#REF!,31,0)*BY22),"") | GV22: =IF(BZ22>0,(VLOOKUP($A22,#REF!,29,0)*BZ22),"") | GW22: =IF(CA22>0,(VLOOKUP($A22,#REF!,31,0)*CA22),"") | GX22: =IF(CB22>0,(VLOOKUP($A22,#REF!,29,0)*CB22),"") | GY22: =IF(CC22>0,(VLOOKUP($A22,#REF!,31,0)*CC22),"") | GZ22: =IF(CD22>0,(VLOOKUP($A22,#REF!,29,0)*CD22),"") | HA22: =IF(CE22>0,(VLOOKUP($A22,#REF!,31,0)*CE22),"") | HB22: =IF(CF22>0,(VLOOKUP($A22,#REF!,29,0)*CF22),"") | HC22: =IF(CG22>0,(VLOOKUP($A22,#REF!,31,0)*CG22),"") | HD22: =IF(CH22>0,(VLOOKUP($A22,#REF!,29,0)*CH22),"") | HE22: =IF(CI22>0,(VLOOKUP($A22,#REF!,31,0)*CI22),"") | HF22: =IF(CJ22>0,(VLOOKUP($A22,#REF!,29,0)*CJ22),"") | HG22: =IF(CK22>0,(VLOOKUP($A22,#REF!,31,0)*CK22),"") | HH22: =IF(CL22>0,(VLOOKUP($A22,#REF!,29,0)*CL22),"") | HI22: =IF(CM22>0,(VLOOKUP($A22,#REF!,31,0)*CM22),"") | HJ22: =IF(CN22>0,(VLOOKUP($A22,#REF!,29,0)*CN22),"") | HK22: =IF(CO22>0,(VLOOKUP($A22,#REF!,31,0)*CO22),"") | HL22: =IF(CP22>0,(VLOOKUP($A22,#REF!,29,0)*CP22),"") | HM22: =IF(CQ22>0,(VLOOKUP($A22,#REF!,31,0)*CQ22),"") | HN22: =IF(CR22>0,(VLOOKUP($A22,#REF!,29,0)*CR22),"") | HO22: =IF(CS22>0,(VLOOKUP($A22,#REF!,31,0)*CS22),"") | HP22: =IF(CT22>0,(VLOOKUP($A22,#REF!,29,0)*CT22),"") | HQ22: =IF(CU22>0,(VLOOKUP($A22,#REF!,31,0)*CU22),"") | HR22: =IF(CV22>0,(VLOOKUP($A22,#REF!,29,0)*CV22),"") | HS22: =IF(CW22>0,(VLOOKUP($A22,#REF!,31,0)*CW22),"") | HT22: =IF(CX22>0,(VLOOKUP($A22,#REF!,29,0)*CX22),"") | HU22: =IF(CY22>0,(VLOOKUP($A22,#REF!,31,0)*CY22),"") | HV22: =IF(CZ22>0,(VLOOKUP($A22,#REF!,29,0)*CZ22),"") | HW22: =IF(DA22>0,(VLOOKUP($A22,#REF!,31,0)*DA22),"") | HX22: =IF(DB22>0,(VLOOKUP($A22,#REF!,29,0)*DB22),"") | HY22: =IF(DC22>0,(VLOOKUP($A22,#REF!,31,0)*DC22),"") | HZ22: =IF(DD22>0,(VLOOKUP($A22,#REF!,29,0)*DD22),"") | IA22: =IF(DE22>0,(VLOOKUP($A22,#REF!,31,0)*DE22),"") | IB22: =IF(DF22>0,(VLOOKUP($A22,#REF!,29,0)*DF22),"") | IC22: =IF(DG22>0,(VLOOKUP($A22,#REF!,31,0)*DG22),"")
A23: PBSLYC | B23: YANG | C23: Connie | D23: =IF((DV23+DT23)>0,DV23+DT23,"") -> 32.5 | AX23: 4 | CH23: 28.5 | DT23: =DL23+DI23+DF23+L23+CX23+BX23+AX23+AF23+AL23+BZ23+DB23+CR23+CP23+CL23+CH23+CF23+CD23+BN23+AR23+N23-DP23+DD23+BP23+CB23+Z23+CT23+BJ23+DR23+CZ23+CV23+CN23+CJ23+BV23+BT23+BR23+BL23+BH23+BF23+BD23+BB23+AZ23+AV23+AT23+AP23+AN23+AJ23+AH23+AD23+AB23+X23+V23+T23+R23+P23+J23+H23+F23 -> 32.5 | DU23: =(DT23*(VLOOKUP(A23,#REF!,29,0)))-(IF(DO23="x",MROUND(DP23*(VLOOKUP(A23,#REF!,29,0)*0.08),0.05),0)) -> #REF! | DV23: =DM23+DJ23+DG23+M23+CY23+BY23+AY23+AG23+AM23+CA23+DC23+CS23+CQ23+CM23+CI23+CG23+CE23+BO23+AS23+O23+DE23+BQ23+CC23+AA23+CU23+BK23+DA23+CW23+CO23+CK23+BW23+BU23+BS23+BM23+BI23+BG23+BE23+BC23+BA23+AW23+AU23+AQ23+AO23+AK23+AI23+AE23+AC23+Y23+W23+U23+S23+Q23+K23+I23+G23 -> 0 | DW23: =(DV23*(VLOOKUP(A23,#REF!,31,0))) -> #REF! | DX23: =VLOOKUP(A23,#REF!,33,0) -> #REF! | DY23: =DX23-(DW23+DU23) -> #REF! | DZ23: =IF(DY23=0,"","!!") -> #REF! | EB23: =IF(F23>0,(VLOOKUP($A23,#REF!,29,0)*F23),"") | EC23: =IF(G23>0,(VLOOKUP($A23,#REF!,31,0)*G23),"") | ED23: =IF(H23>0,(VLOOKUP($A23,#REF!,29,0)*H23),"") | EE23: =IF(I23>0,(VLOOKUP($A23,#REF!,31,0)*I23),"") | EF23: =IF(J23>0,(VLOOKUP($A23,#REF!,29,0)*J23),"") | EG23: =IF(K23>0,(VLOOKUP($A23,#REF!,31,0)*K23),"") | EH23: =IF(L23>0,(VLOOKUP($A23,#REF!,29,0)*L23),"") | EI23: =IF(M23>0,(VLOOKUP($A23,#REF!,31,0)*M23),"") | EJ23: =IF(N23>0,(VLOOKUP($A23,#REF!,29,0)*N23),"") | EK23: =IF(O23>0,(VLOOKUP($A23,#REF!,31,0)*O23),"") | EL23: =IF(P23>0,(VLOOKUP($A23,#REF!,29,0)*P23),"") | EM23: =IF(Q23>0,(VLOOKUP($A23,#REF!,31,0)*Q23),"") | EN23: =IF(R23>0,(VLOOKUP($A23,#REF!,29,0)*R23),"") | EO23: =IF(S23>0,(VLOOKUP($A23,#REF!,31,0)*S23),"") | EP23: =IF(T23>0,(VLOOKUP($A23,#REF!,29,0)*T23),"") | EQ23: =IF(U23>0,(VLOOKUP($A23,#REF!,31,0)*U23),"") | ER23: =IF(V23>0,(VLOOKUP($A23,#REF!,29,0)*V23),"") | ES23: =IF(W23>0,(VLOOKUP($A23,#REF!,31,0)*W23),"") | ET23: =IF(X23>0,(VLOOKUP($A23,#REF!,29,0)*X23),"") | EU23: =IF(Y23>0,(VLOOKUP($A23,#REF!,31,0)*Y23),"") | EV23: =IF(Z23>0,(VLOOKUP($A23,#REF!,29,0)*Z23),"") | EW23: =IF(AA23>0,(VLOOKUP($A23,#REF!,31,0)*AA23),"") | EX23: =IF(AB23>0,(VLOOKUP($A23,#REF!,29,0)*AB23),"") | EY23: =IF(AC23>0,(VLOOKUP($A23,#REF!,31,0)*AC23),"") | EZ23: =IF(AD23>0,(VLOOKUP($A23,#REF!,29,0)*AD23),"") | FA23: =IF(AE23>0,(VLOOKUP($A23,#REF!,31,0)*AE23),"") | FB23: =IF(AF23>0,(VLOOKUP($A23,#REF!,29,0)*AF23),"") | FC23: =IF(AG23>0,(VLOOKUP($A23,#REF!,31,0)*AG23),"") | FD23: =IF(AH23>0,(VLOOKUP($A23,#REF!,29,0)*AH23),"") | FE23: =IF(AI23>0,(VLOOKUP($A23,#REF!,31,0)*AI23),"") | FF23: =IF(AJ23>0,(VLOOKUP($A23,#REF!,29,0)*AJ23),"") | FG23: =IF(AK23>0,(VLOOKUP($A23,#REF!,31,0)*AK23),"") | FH23: =IF(AL23>0,(VLOOKUP($A23,#REF!,29,0)*AL23),"") | FI23: =IF(AM23>0,(VLOOKUP($A23,#REF!,31,0)*AM23),"") | FJ23: =IF(AN23>0,(VLOOKUP($A23,#REF!,29,0)*AN23),"") | FK23: =IF(AO23>0,(VLOOKUP($A23,#REF!,31,0)*AO23),"") | FL23: =IF(AP23>0,(VLOOKUP($A23,#REF!,29,0)*AP23),"") | FM23: =IF(AQ23>0,(VLOOKUP($A23,#REF!,31,0)*AQ23),"") | FN23: =IF(AR23>0,(VLOOKUP($A23,#REF!,29,0)*AR23),"") | FO23: =IF(AS23>0,(VLOOKUP($A23,#REF!,31,0)*AS23),"") | FP23: =IF(AT23>0,(VLOOKUP($A23,#REF!,29,0)*AT23),"") | FQ23: =IF(AU23>0,(VLOOKUP($A23,#REF!,31,0)*AU23),"") | FR23: =IF(AV23>0,(VLOOKUP($A23,#REF!,29,0)*AV23),"") | FS23: =IF(AW23>0,(VLOOKUP($A23,#REF!,31,0)*AW23),"") | FT23: =IF(AX23>0,(VLOOKUP($A23,#REF!,29,0)*AX23),"") -> #REF! | FU23: =IF(AY23>0,(VLOOKUP($A23,#REF!,31,0)*AY23),"") | FV23: =IF(AZ23>0,(VLOOKUP($A23,#REF!,29,0)*AZ23),"") | FW23: =IF(BA23>0,(VLOOKUP($A23,#REF!,31,0)*BA23),"") | FX23: =IF(BB23>0,(VLOOKUP($A23,#REF!,29,0)*BB23),"") | FY23: =IF(BC23>0,(VLOOKUP($A23,#REF!,31,0)*BC23),"") | FZ23: =IF(BD23>0,(VLOOKUP($A23,#REF!,29,0)*BD23),"") | GA23: =IF(BE23>0,(VLOOKUP($A23,#REF!,31,0)*BE23),"") | GB23: =IF(BF23>0,(VLOOKUP($A23,#REF!,29,0)*BF23),"") | GC23: =IF(BG23>0,(VLOOKUP($A23,#REF!,31,0)*BG23),"") | GD23: =IF(BH23>0,(VLOOKUP($A23,#REF!,29,0)*BH23),"") | GE23: =IF(BI23>0,(VLOOKUP($A23,#REF!,31,0)*BI23),"") | GF23: =IF(BJ23>0,(VLOOKUP($A23,#REF!,29,0)*BJ23),"") | GG23: =IF(BK23>0,(VLOOKUP($A23,#REF!,31,0)*BK23),"") | GH23: =IF(BL23>0,(VLOOKUP($A23,#REF!,29,0)*BL23),"") | GI23: =IF(BM23>0,(VLOOKUP($A23,#REF!,31,0)*BM23),"") | GJ23: =IF(BN23>0,(VLOOKUP($A23,#REF!,29,0)*BN23),"") | GK23: =IF(BO23>0,(VLOOKUP($A23,#REF!,31,0)*BO23),"") | GL23: =IF(BP23>0,(VLOOKUP($A23,#REF!,29,0)*BP23),"") | GM23: =IF(BQ23>0,(VLOOKUP($A23,#REF!,31,0)*BQ23),"") | GN23: =IF(BR23>0,(VLOOKUP($A23,#REF!,29,0)*BR23),"") | GO23: =IF(BS23>0,(VLOOKUP($A23,#REF!,31,0)*BS23),"") | GP23: =IF(BT23>0,(VLOOKUP($A23,#REF!,29,0)*BT23),"") | GQ23: =IF(BU23>0,(VLOOKUP($A23,#REF!,31,0)*BU23),"") | GR23: =IF(BV23>0,(VLOOKUP($A23,#REF!,29,0)*BV23),"") | GS23: =IF(BW23>0,(VLOOKUP($A23,#REF!,31,0)*BW23),"") | GT23: =IF(BX23>0,(VLOOKUP($A23,#REF!,29,0)*BX23),"") | GU23: =IF(BY23>0,(VLOOKUP($A23,#REF!,31,0)*BY23),"") | GV23: =IF(BZ23>0,(VLOOKUP($A23,#REF!,29,0)*BZ23),"") | GW23: =IF(CA23>0,(VLOOKUP($A23,#REF!,31,0)*CA23),"") | GX23: =IF(CB23>0,(VLOOKUP($A23,#REF!,29,0)*CB23),"") | GY23: =IF(CC23>0,(VLOOKUP($A23,#REF!,31,0)*CC23),"") | GZ23: =IF(CD23>0,(VLOOKUP($A23,#REF!,29,0)*CD23),"") | HA23: =IF(CE23>0,(VLOOKUP($A23,#REF!,31,0)*CE23),"") | HB23: =IF(CF23>0,(VLOOKUP($A23,#REF!,29,0)*CF23),"") | HC23: =IF(CG23>0,(VLOOKUP($A23,#REF!,31,0)*CG23),"") | HD23: =IF(CH23>0,(VLOOKUP($A23,#REF!,29,0)*CH23),"") -> #REF! | HE23: =IF(CI23>0,(VLOOKUP($A23,#REF!,31,0)*CI23),"") | HF23: =IF(CJ23>0,(VLOOKUP($A23,#REF!,29,0)*CJ23),"") | HG23: =IF(CK23>0,(VLOOKUP($A23,#REF!,31,0)*CK23),"") | HH23: =IF(CL23>0,(VLOOKUP($A23,#REF!,29,0)*CL23),"") | HI23: =IF(CM23>0,(VLOOKUP($A23,#REF!,31,0)*CM23),"") | HJ23: =IF(CN23>0,(VLOOKUP($A23,#REF!,29,0)*CN23),"") | HK23: =IF(CO23>0,(VLOOKUP($A23,#REF!,31,0)*CO23),"") | HL23: =IF(CP23>0,(VLOOKUP($A23,#REF!,29,0)*CP23),"") | HM23: =IF(CQ23>0,(VLOOKUP($A23,#REF!,31,0)*CQ23),"") | HN23: =IF(CR23>0,(VLOOKUP($A23,#REF!,29,0)*CR23),"") | HO23: =IF(CS23>0,(VLOOKUP($A23,#REF!,31,0)*CS23),"") | HP23: =IF(CT23>0,(VLOOKUP($A23,#REF!,29,0)*CT23),"") | HQ23: =IF(CU23>0,(VLOOKUP($A23,#REF!,31,0)*CU23),"") | HR23: =IF(CV23>0,(VLOOKUP($A23,#REF!,29,0)*CV23),"") | HS23: =IF(CW23>0,(VLOOKUP($A23,#REF!,31,0)*CW23),"") | HT23: =IF(CX23>0,(VLOOKUP($A23,#REF!,29,0)*CX23),"") | HU23: =IF(CY23>0,(VLOOKUP($A23,#REF!,31,0)*CY23),"") | HV23: =IF(CZ23>0,(VLOOKUP($A23,#REF!,29,0)*CZ23),"") | HW23: =IF(DA23>0,(VLOOKUP($A23,#REF!,31,0)*DA23),"") | HX23: =IF(DB23>0,(VLOOKUP($A23,#REF!,29,0)*DB23),"") | HY23: =IF(DC23>0,(VLOOKUP($A23,#REF!,31,0)*DC23),"") | HZ23: =IF(DD23>0,(VLOOKUP($A23,#REF!,29,0)*DD23),"") | IA23: =IF(DE23>0,(VLOOKUP($A23,#REF!,31,0)*DE23),"") | IB23: =IF(DF23>0,(VLOOKUP($A23,#REF!,29,0)*DF23),"") | IC23: =IF(DG23>0,(VLOOKUP($A23,#REF!,31,0)*DG23),"")
A24: TOTAL PBSL | B24: =COUNTA(A11:A23) -> 13 | C24: TOTAL BASEL | D24: =IF((DV24+DT24)>0,DV24+DT24,"") -> 437 | F24: =SUM(F11:F23) -> 0 | G24: =SUM(G11:G23) -> 0 | H24: =SUM(H11:H23) -> 0 | I24: =SUM(I11:I23) -> 0 | J24: =SUM(J11:J23) -> 0 | K24: =SUM(K11:K23) -> 0 | L24: =SUM(L11:L23) -> 0 | M24: =SUM(M11:M23) -> 0 | ... DG24: =SUM(DG11:DG23) -> 0 | DI24: =SUM(DI11:DI23) -> 9 | DJ24: =SUM(DJ11:DJ23) -> 0 | DL24: =SUM(DL11:DL23) -> 0 | DM24: =SUM(DM11:DM23) -> 0 | DO24: =COUNTIF(DO11:DO23,"x") -> 0 | DP24: =COUNTIF(DP11:DP23,"x") -> 0 | DR24: =SUM(DR11:DR23) -> 0 | DT24: =DL24+DI24+DF24+L24+CX24+BX24+AX24+AF24+AL24+BZ24+DB24+CR24+CP24+CL24+CH24+CF24+CD24+BN24+AR24+N24-DP24+DD24+BP24+CB24+Z24+CT24+BJ24+DR24+CZ24+CV24+CN24+CJ24+BV24+BT24+BR24+BL24+BH24+BF24+BD24+BB24+AZ24+AV24+AT24+AP24+AN24+AJ24+AH24+AD24+AB24+X24+V24+T24+R24+P24+J24+H24+F24 -> 413 | DU24: =SUM(DU12:DU22) -> #REF! | DV24: =DM24+DJ24+DG24+M24+CY24+BY24+AY24+AG24+AM24+CA24+DC24+CS24+CQ24+CM24+CI24+CG24+CE24+BO24+AS24+O24+DE24+BQ24+CC24+AA24+CU24+BK24+DA24+CW24+CO24+CK24+BW24+BU24+BS24+BM24+BI24+BG24+BE24+BC24+BA24+AW24+AU24+AQ24+AO24+AK24+AI24+AE24+AC24+Y24+W24+U24+S24+Q24+K24+I24+G24 -> 24 | DW24: =SUM(DW12:DW22) -> #REF! | DX24: =SUM(DX12:DX22) -> #REF! | DY24: =DX24-(DW24+DU24) -> #REF! | DZ24: =IF(DY24=0,"","!!") -> #REF! | EB24: =SUM(EB11:EB23) -> 0 | EC24: =SUM(EC11:EC23) -> 0 | ED24: =SUM(ED11:ED23) -> 0 | EE24: =SUM(EE11:EE23) -> 0 | EF24: =SUM(EF11:EF23) -> 0 | EG24: =SUM(EG11:EG23) -> 0 | EH24: =SUM(EH11:EH23) -> 0 | EI24: =SUM(EI11:EI23) -> 0 | ... IC24: =SUM(IC11:IC23) -> 0 | IE24: =(IB24+HZ24+GL24+HX24+HT24+HP24+HN24+HL24+HH24+FH24+HD24+HB24+GZ24+GX24+GV24+GT24+GJ24+GF24+FT24+FN24+FB24+EV24+EJ24+EH24+HV24+HR24+HJ24+HF24+GR24+GP24+GN24+GH24+FX24+FV24+FR24+FP24+FL24+FJ24+FF24+FD24+EZ24+EX24+ET24+ER24+EP24+EN24+EL24+EF24+ED24+EB24+GD24+GB24+FZ24) -> #REF! | IF24: =(IC24+IA24+GM24+HY24+HU24+HQ24+HO24+HM24+HI24+FI24+HE24+HC24+HA24+GY24+GW24+GU24+GK24+GG24+FU24+FO24+FC24+EW24+EK24+EI24+HW24+HS24+HK24+HG24+GS24+GQ24+GO24+GI24+FY24+FW24+FS24+FQ24+FM24+FK24+FG24+FE24+FA24+EY24+EU24+ES24+EQ24+EO24+EM24+EG24+EE24+EC24+GE24+GC24+GA24) -> #REF!
DT25: =IF(DT24=SUM(DT11:DT23),"ok","!!!") -> ok | DV25: =IF(DV24=SUM(DV11:DV23),"ok","!!!") -> ok | DZ25: =IF(DY25=0,"","!!") | EC25: =EC24+EB24 -> 0 | EE25: =EE24+ED24 -> 0 | EG25: =EG24+EF24 -> 0 | EI25: =EI24+EH24 -> 0 | EK25: =EK24+EJ24 -> 0 | EM25: =EM24+EL24 -> 0 | EO25: =EO24+EN24 -> 0 | EQ25: =EQ24+EP24 -> 0 | ES25: =ES24+ER24 -> 0 | EU25: =EU24+ET24 -> 0 | EW25: =EW24+EV24 -> 0 | EY25: =EY24+EX24 -> 0 | FA25: =FA24+EZ24 -> 0 | FC25: =FC24+FB24 -> #REF! | FE25: =FE24+FD24 -> 0 | FG25: =FG24+FF24 -> 0 | FI25: =FI24+FH24 -> #REF! | FK25: =FK24+FJ24 -> 0 | FM25: =FM24+FL24 -> 0 | FO25: =FO24+FN24 -> #REF! | FQ25: =FQ24+FP24 -> 0 | FS25: =FS24+FR24 -> 0 | FU25: =FU24+FT24 -> #REF! | FW25: =FW24+FV24 -> 0 | FY25: =FY24+FX24 -> 0 | GA25: =GA24+FZ24 -> 0 | GC25: =GC24+GB24 -> 0 | GE25: =GE24+GD24 -> 0 | GG25: =GG24+GF24 -> 0 | GI25: =GI24+GH24 -> 0 | GK25: =GK24+GJ24 -> #REF! | GM25: =GM24+GL24 -> 0 | GO25: =GO24+GN24 -> 0 | GQ25: =GQ24+GP24 -> 0 | GS25: =GS24+GR24 -> 0 | GU25: =GU24+GT24 -> #REF! | GW25: =GW24+GV24 -> 0 | GY25: =GY24+GX24 -> 0 | HA25: =HA24+GZ24 -> 0 | HC25: =HC24+HB24 -> 0 | HE25: =HE24+HD24 -> #REF! | HG25: =HG24+HF24 -> 0 | HI25: =HI24+HH24 -> 0 | HK25: =HK24+HJ24 -> 0 | HM25: =HM24+HL24 -> 0 | HO25: =HO24+HN24 -> 0 | HQ25: =HQ24+HP24 -> 0 | HS25: =HS24+HR24 -> 0 | HU25: =HU24+HT24 -> 0 | HW25: =HW24+HV24 -> 0 | HY25: =HY24+HX24 -> 0 | IA25: =IA24+HZ24 -> 0 | IC25: =IC24+IB24 -> 0
B26: ZURICH - PRODUCTION | DZ26: =IF(DY26=0,"","!!")
A27: PZRHBP1 | B27: BÄNNINGER | C27: Phathira | D27: =IF((DV27+DT27)>0,DV27+DT27,"") -> 160 | BN27: 128 | BO27: 32 | DT27: =DL27+DI27+DF27+L27+CX27+BX27+AX27+AF27+AL27+BZ27+DB27+CR27+CP27+CL27+CH27+CF27+CD27+BN27+AR27+N27-DP27+DD27+BP27+CB27+Z27+CT27+BJ27+DR27+CZ27+CV27+CN27+CJ27+BV27+BT27+BR27+BL27+BH27+BF27+BD27+BB27+AZ27+AV27+AT27+AP27+AN27+AJ27+AH27+AD27+AB27+X27+V27+T27+R27+P27+J27+H27+F27 -> 128 | DU27: =(DT27*(VLOOKUP(A27,#REF!,29,0)))-(IF(DO27="x",MROUND(DP27*(VLOOKUP(A27,#REF!,29,0)*0.08),0.05),0)) -> #REF! | DV27: =DM27+DJ27+DG27+M27+CY27+BY27+AY27+AG27+AM27+CA27+DC27+CS27+CQ27+CM27+CI27+CG27+CE27+BO27+AS27+O27+DE27+BQ27+CC27+AA27+CU27+BK27+DA27+CW27+CO27+CK27+BW27+BU27+BS27+BM27+BI27+BG27+BE27+BC27+BA27+AW27+AU27+AQ27+AO27+AK27+AI27+AE27+AC27+Y27+W27+U27+S27+Q27+K27+I27+G27 -> 32 | DW27: =(DV27*(VLOOKUP(A27,#REF!,31,0))) -> #REF! | DX27: =VLOOKUP(A27,#REF!,33,0) -> #REF! | DY27: =DX27-(DW27+DU27) -> #REF! | DZ27: =IF(DY27=0,"","!!") -> #REF! | EB27: =IF(F27>0,(VLOOKUP($A27,#REF!,29,0)*F27),"") | EC27: =IF(G27>0,(VLOOKUP($A27,#REF!,31,0)*G27),"") | ED27: =IF(H27>0,(VLOOKUP($A27,#REF!,29,0)*H27),"") | EE27: =IF(I27>0,(VLOOKUP($A27,#REF!,31,0)*I27),"") | EF27: =IF(J27>0,(VLOOKUP($A27,#REF!,29,0)*J27),"") | EG27: =IF(K27>0,(VLOOKUP($A27,#REF!,31,0)*K27),"") | EH27: =IF(L27>0,(VLOOKUP($A27,#REF!,29,0)*L27),"") | EI27: =IF(M27>0,(VLOOKUP($A27,#REF!,31,0)*M27),"") | EJ27: =IF(N27>0,(VLOOKUP($A27,#REF!,29,0)*N27),"") | EK27: =IF(O27>0,(VLOOKUP($A27,#REF!,31,0)*O27),"") | EL27: =IF(P27>0,(VLOOKUP($A27,#REF!,29,0)*P27),"") | EM27: =IF(Q27>0,(VLOOKUP($A27,#REF!,31,0)*Q27),"") | EN27: =IF(R27>0,(VLOOKUP($A27,#REF!,29,0)*R27),"") | EO27: =IF(S27>0,(VLOOKUP($A27,#REF!,31,0)*S27),"") | EP27: =IF(T27>0,(VLOOKUP($A27,#REF!,29,0)*T27),"") | EQ27: =IF(U27>0,(VLOOKUP($A27,#REF!,31,0)*U27),"") | ER27: =IF(V27>0,(VLOOKUP($A27,#REF!,29,0)*V27),"") | ES27: =IF(W27>0,(VLOOKUP($A27,#REF!,31,0)*W27),"") | ET27: =IF(X27>0,(VLOOKUP($A27,#REF!,29,0)*X27),"") | EU27: =IF(Y27>0,(VLOOKUP($A27,#REF!,31,0)*Y27),"") | EV27: =IF(Z27>0,(VLOOKUP($A27,#REF!,29,0)*Z27),"") | EW27: =IF(AA27>0,(VLOOKUP($A27,#REF!,31,0)*AA27),"") | EX27: =IF(AB27>0,(VLOOKUP($A27,#REF!,29,0)*AB27),"") | EY27: =IF(AC27>0,(VLOOKUP($A27,#REF!,31,0)*AC27),"") | EZ27: =IF(AD27>0,(VLOOKUP($A27,#REF!,29,0)*AD27),"") | FA27: =IF(AE27>0,(VLOOKUP($A27,#REF!,31,0)*AE27),"") | FB27: =IF(AF27>0,(VLOOKUP($A27,#REF!,29,0)*AF27),"") | FC27: =IF(AG27>0,(VLOOKUP($A27,#REF!,31,0)*AG27),"") | FD27: =IF(AH27>0,(VLOOKUP($A27,#REF!,29,0)*AH27),"") | FE27: =IF(AI27>0,(VLOOKUP($A27,#REF!,31,0)*AI27),"") | FF27: =IF(AJ27>0,(VLOOKUP($A27,#REF!,29,0)*AJ27),"") | FG27: =IF(AK27>0,(VLOOKUP($A27,#REF!,31,0)*AK27),"") | FH27: =IF(AL27>0,(VLOOKUP($A27,#REF!,29,0)*AL27),"") | FI27: =IF(AM27>0,(VLOOKUP($A27,#REF!,31,0)*AM27),"") | FJ27: =IF(AN27>0,(VLOOKUP($A27,#REF!,29,0)*AN27),"") | FK27: =IF(AO27>0,(VLOOKUP($A27,#REF!,31,0)*AO27),"") | FL27: =IF(AP27>0,(VLOOKUP($A27,#REF!,29,0)*AP27),"") | FM27: =IF(AQ27>0,(VLOOKUP($A27,#REF!,31,0)*AQ27),"") | FN27: =IF(AR27>0,(VLOOKUP($A27,#REF!,29,0)*AR27),"") | FO27: =IF(AS27>0,(VLOOKUP($A27,#REF!,31,0)*AS27),"") | FP27: =IF(AT27>0,(VLOOKUP($A27,#REF!,29,0)*AT27),"") | FQ27: =IF(AU27>0,(VLOOKUP($A27,#REF!,31,0)*AU27),"") | FR27: =IF(AV27>0,(VLOOKUP($A27,#REF!,29,0)*AV27),"") | FS27: =IF(AW27>0,(VLOOKUP($A27,#REF!,31,0)*AW27),"") | FT27: =IF(AX27>0,(VLOOKUP($A27,#REF!,29,0)*AX27),"") | FU27: =IF(AY27>0,(VLOOKUP($A27,#REF!,31,0)*AY27),"") | FV27: =IF(AZ27>0,(VLOOKUP($A27,#REF!,29,0)*AZ27),"") | FW27: =IF(BA27>0,(VLOOKUP($A27,#REF!,31,0)*BA27),"") | FX27: =IF(BB27>0,(VLOOKUP($A27,#REF!,29,0)*BB27),"") | FY27: =IF(BC27>0,(VLOOKUP($A27,#REF!,31,0)*BC27),"") | FZ27: =IF(BD27>0,(VLOOKUP($A27,#REF!,29,0)*BD27),"") | GA27: =IF(BE27>0,(VLOOKUP($A27,#REF!,31,0)*BE27),"") | GB27: =IF(BF27>0,(VLOOKUP($A27,#REF!,29,0)*BF27),"") | GC27: =IF(BG27>0,(VLOOKUP($A27,#REF!,31,0)*BG27),"") | GD27: =IF(BH27>0,(VLOOKUP($A27,#REF!,29,0)*BH27),"") | GE27: =IF(BI27>0,(VLOOKUP($A27,#REF!,31,0)*BI27),"") | GF27: =IF(BJ27>0,(VLOOKUP($A27,#REF!,29,0)*BJ27),"") | GG27: =IF(BK27>0,(VLOOKUP($A27,#REF!,31,0)*BK27),"") | GH27: =IF(BL27>0,(VLOOKUP($A27,#REF!,29,0)*BL27),"") | GI27: =IF(BM27>0,(VLOOKUP($A27,#REF!,31,0)*BM27),"") | GJ27: =IF(BN27>0,(VLOOKUP($A27,#REF!,29,0)*BN27),"") -> #REF! | GK27: =IF(BO27>0,(VLOOKUP($A27,#REF!,31,0)*BO27),"") -> #REF! | GL27: =IF(BP27>0,(VLOOKUP($A27,#REF!,29,0)*BP27),"") | GM27: =IF(BQ27>0,(VLOOKUP($A27,#REF!,31,0)*BQ27),"") | GN27: =IF(BR27>0,(VLOOKUP($A27,#REF!,29,0)*BR27),"") | GO27: =IF(BS27>0,(VLOOKUP($A27,#REF!,31,0)*BS27),"") | GP27: =IF(BT27>0,(VLOOKUP($A27,#REF!,29,0)*BT27),"") | GQ27: =IF(BU27>0,(VLOOKUP($A27,#REF!,31,0)*BU27),"") | GR27: =IF(BV27>0,(VLOOKUP($A27,#REF!,29,0)*BV27),"") | GS27: =IF(BW27>0,(VLOOKUP($A27,#REF!,31,0)*BW27),"") | GT27: =IF(BX27>0,(VLOOKUP($A27,#REF!,29,0)*BX27),"") | GU27: =IF(BY27>0,(VLOOKUP($A27,#REF!,31,0)*BY27),"") | GV27: =IF(BZ27>0,(VLOOKUP($A27,#REF!,29,0)*BZ27),"") | GW27: =IF(CA27>0,(VLOOKUP($A27,#REF!,31,0)*CA27),"") | GX27: =IF(CB27>0,(VLOOKUP($A27,#REF!,29,0)*CB27),"") | GY27: =IF(CC27>0,(VLOOKUP($A27,#REF!,31,0)*CC27),"") | GZ27: =IF(CD27>0,(VLOOKUP($A27,#REF!,29,0)*CD27),"") | HA27: =IF(CE27>0,(VLOOKUP($A27,#REF!,31,0)*CE27),"") | HB27: =IF(CF27>0,(VLOOKUP($A27,#REF!,29,0)*CF27),"") | HC27: =IF(CG27>0,(VLOOKUP($A27,#REF!,31,0)*CG27),"") | HD27: =IF(CH27>0,(VLOOKUP($A27,#REF!,29,0)*CH27),"") | HE27: =IF(CI27>0,(VLOOKUP($A27,#REF!,31,0)*CI27),"") | HF27: =IF(CJ27>0,(VLOOKUP($A27,#REF!,29,0)*CJ27),"") | HG27: =IF(CK27>0,(VLOOKUP($A27,#REF!,31,0)*CK27),"") | HH27: =IF(CL27>0,(VLOOKUP($A27,#REF!,29,0)*CL27),"") | HI27: =IF(CM27>0,(VLOOKUP($A27,#REF!,31,0)*CM27),"") | HJ27: =IF(CN27>0,(VLOOKUP($A27,#REF!,29,0)*CN27),"") | HK27: =IF(CO27>0,(VLOOKUP($A27,#REF!,31,0)*CO27),"") | HL27: =IF(CP27>0,(VLOOKUP($A27,#REF!,29,0)*CP27),"") | HM27: =IF(CQ27>0,(VLOOKUP($A27,#REF!,31,0)*CQ27),"") | HN27: =IF(CR27>0,(VLOOKUP($A27,#REF!,29,0)*CR27),"") | HO27: =IF(CS27>0,(VLOOKUP($A27,#REF!,31,0)*CS27),"") | HP27: =IF(CT27>0,(VLOOKUP($A27,#REF!,29,0)*CT27),"") | HQ27: =IF(CU27>0,(VLOOKUP($A27,#REF!,31,0)*CU27),"") | HR27: =IF(CV27>0,(VLOOKUP($A27,#REF!,29,0)*CV27),"") | HS27: =IF(CW27>0,(VLOOKUP($A27,#REF!,31,0)*CW27),"") | HT27: =IF(CX27>0,(VLOOKUP($A27,#REF!,29,0)*CX27),"") | HU27: =IF(CY27>0,(VLOOKUP($A27,#REF!,31,0)*CY27),"") | HV27: =IF(CZ27>0,(VLOOKUP($A27,#REF!,29,0)*CZ27),"") | HW27: =IF(DA27>0,(VLOOKUP($A27,#REF!,31,0)*DA27),"") | HX27: =IF(DB27>0,(VLOOKUP($A27,#REF!,29,0)*DB27),"") | HY27: =IF(DC27>0,(VLOOKUP($A27,#REF!,31,0)*DC27),"") | HZ27: =IF(DD27>0,(VLOOKUP($A27,#REF!,29,0)*DD27),"") | IA27: =IF(DE27>0,(VLOOKUP($A27,#REF!,31,0)*DE27),"") | IB27: =IF(DF27>0,(VLOOKUP($A27,#REF!,29,0)*DF27),"") | IC27: =IF(DG27>0,(VLOOKUP($A27,#REF!,31,0)*DG27),"")
A28: PZRHBP2 | B28: BATES | C28: Put | D28: =IF((DV28+DT28)>0,DV28+DT28,"") -> 178.5 | CP28: 145.5 | CQ28: 33 | DT28: =DL28+DI28+DF28+L28+CX28+BX28+AX28+AF28+AL28+BZ28+DB28+CR28+CP28+CL28+CH28+CF28+CD28+BN28+AR28+N28-DP28+DD28+BP28+CB28+Z28+CT28+BJ28+DR28+CZ28+CV28+CN28+CJ28+BV28+BT28+BR28+BL28+BH28+BF28+BD28+BB28+AZ28+AV28+AT28+AP28+AN28+AJ28+AH28+AD28+AB28+X28+V28+T28+R28+P28+J28+H28+F28 -> 145.5 | DU28: =(DT28*(VLOOKUP(A28,#REF!,29,0)))-(IF(DO28="x",MROUND(DP28*(VLOOKUP(A28,#REF!,29,0)*0.08),0.05),0)) -> #REF! | DV28: =DM28+DJ28+DG28+M28+CY28+BY28+AY28+AG28+AM28+CA28+DC28+CS28+CQ28+CM28+CI28+CG28+CE28+BO28+AS28+O28+DE28+BQ28+CC28+AA28+CU28+BK28+DA28+CW28+CO28+CK28+BW28+BU28+BS28+BM28+BI28+BG28+BE28+BC28+BA28+AW28+AU28+AQ28+AO28+AK28+AI28+AE28+AC28+Y28+W28+U28+S28+Q28+K28+I28+G28 -> 33 | DW28: =(DV28*(VLOOKUP(A28,#REF!,31,0))) -> #REF! | DX28: =VLOOKUP(A28,#REF!,33,0) -> #REF! | DY28: =DX28-(DW28+DU28) -> #REF! | DZ28: =IF(DY28=0,"","!!") -> #REF! | EB28: =IF(F28>0,(VLOOKUP($A28,#REF!,29,0)*F28),"") | EC28: =IF(G28>0,(VLOOKUP($A28,#REF!,31,0)*G28),"") | ED28: =IF(H28>0,(VLOOKUP($A28,#REF!,29,0)*H28),"") | EE28: =IF(I28>0,(VLOOKUP($A28,#REF!,31,0)*I28),"") | EF28: =IF(J28>0,(VLOOKUP($A28,#REF!,29,0)*J28),"") | EG28: =IF(K28>0,(VLOOKUP($A28,#REF!,31,0)*K28),"") | EH28: =IF(L28>0,(VLOOKUP($A28,#REF!,29,0)*L28),"") | EI28: =IF(M28>0,(VLOOKUP($A28,#REF!,31,0)*M28),"") | EJ28: =IF(N28>0,(VLOOKUP($A28,#REF!,29,0)*N28),"") | EK28: =IF(O28>0,(VLOOKUP($A28,#REF!,31,0)*O28),"") | EL28: =IF(P28>0,(VLOOKUP($A28,#REF!,29,0)*P28),"") | EM28: =IF(Q28>0,(VLOOKUP($A28,#REF!,31,0)*Q28),"") | EN28: =IF(R28>0,(VLOOKUP($A28,#REF!,29,0)*R28),"") | EO28: =IF(S28>0,(VLOOKUP($A28,#REF!,31,0)*S28),"") | EP28: =IF(T28>0,(VLOOKUP($A28,#REF!,29,0)*T28),"") | EQ28: =IF(U28>0,(VLOOKUP($A28,#REF!,31,0)*U28),"") | ER28: =IF(V28>0,(VLOOKUP($A28,#REF!,29,0)*V28),"") | ES28: =IF(W28>0,(VLOOKUP($A28,#REF!,31,0)*W28),"") | ET28: =IF(X28>0,(VLOOKUP($A28,#REF!,29,0)*X28),"") | EU28: =IF(Y28>0,(VLOOKUP($A28,#REF!,31,0)*Y28),"") | EV28: =IF(Z28>0,(VLOOKUP($A28,#REF!,29,0)*Z28),"") | EW28: =IF(AA28>0,(VLOOKUP($A28,#REF!,31,0)*AA28),"") | EX28: =IF(AB28>0,(VLOOKUP($A28,#REF!,29,0)*AB28),"") | EY28: =IF(AC28>0,(VLOOKUP($A28,#REF!,31,0)*AC28),"") | EZ28: =IF(AD28>0,(VLOOKUP($A28,#REF!,29,0)*AD28),"") | FA28: =IF(AE28>0,(VLOOKUP($A28,#REF!,31,0)*AE28),"") | FB28: =IF(AF28>0,(VLOOKUP($A28,#REF!,29,0)*AF28),"") | FC28: =IF(AG28>0,(VLOOKUP($A28,#REF!,31,0)*AG28),"") | FD28: =IF(AH28>0,(VLOOKUP($A28,#REF!,29,0)*AH28),"") | FE28: =IF(AI28>0,(VLOOKUP($A28,#REF!,31,0)*AI28),"") | FF28: =IF(AJ28>0,(VLOOKUP($A28,#REF!,29,0)*AJ28),"") | FG28: =IF(AK28>0,(VLOOKUP($A28,#REF!,31,0)*AK28),"") | FH28: =IF(AL28>0,(VLOOKUP($A28,#REF!,29,0)*AL28),"") | FI28: =IF(AM28>0,(VLOOKUP($A28,#REF!,31,0)*AM28),"") | FJ28: =IF(AN28>0,(VLOOKUP($A28,#REF!,29,0)*AN28),"") | FK28: =IF(AO28>0,(VLOOKUP($A28,#REF!,31,0)*AO28),"") | FL28: =IF(AP28>0,(VLOOKUP($A28,#REF!,29,0)*AP28),"") | FM28: =IF(AQ28>0,(VLOOKUP($A28,#REF!,31,0)*AQ28),"") | FN28: =IF(AR28>0,(VLOOKUP($A28,#REF!,29,0)*AR28),"") | FO28: =IF(AS28>0,(VLOOKUP($A28,#REF!,31,0)*AS28),"") | FP28: =IF(AT28>0,(VLOOKUP($A28,#REF!,29,0)*AT28),"") | FQ28: =IF(AU28>0,(VLOOKUP($A28,#REF!,31,0)*AU28),"") | FR28: =IF(AV28>0,(VLOOKUP($A28,#REF!,29,0)*AV28),"") | FS28: =IF(AW28>0,(VLOOKUP($A28,#REF!,31,0)*AW28),"") | FT28: =IF(AX28>0,(VLOOKUP($A28,#REF!,29,0)*AX28),"") | FU28: =IF(AY28>0,(VLOOKUP($A28,#REF!,31,0)*AY28),"") | FV28: =IF(AZ28>0,(VLOOKUP($A28,#REF!,29,0)*AZ28),"") | FW28: =IF(BA28>0,(VLOOKUP($A28,#REF!,31,0)*BA28),"") | FX28: =IF(BB28>0,(VLOOKUP($A28,#REF!,29,0)*BB28),"") | FY28: =IF(BC28>0,(VLOOKUP($A28,#REF!,31,0)*BC28),"") | FZ28: =IF(BD28>0,(VLOOKUP($A28,#REF!,29,0)*BD28),"") | GA28: =IF(BE28>0,(VLOOKUP($A28,#REF!,31,0)*BE28),"") | GB28: =IF(BF28>0,(VLOOKUP($A28,#REF!,29,0)*BF28),"") | GC28: =IF(BG28>0,(VLOOKUP($A28,#REF!,31,0)*BG28),"") | GD28: =IF(BH28>0,(VLOOKUP($A28,#REF!,29,0)*BH28),"") | GE28: =IF(BI28>0,(VLOOKUP($A28,#REF!,31,0)*BI28),"") | GF28: =IF(BJ28>0,(VLOOKUP($A28,#REF!,29,0)*BJ28),"") | GG28: =IF(BK28>0,(VLOOKUP($A28,#REF!,31,0)*BK28),"") | GH28: =IF(BL28>0,(VLOOKUP($A28,#REF!,29,0)*BL28),"") | GI28: =IF(BM28>0,(VLOOKUP($A28,#REF!,31,0)*BM28),"") | GJ28: =IF(BN28>0,(VLOOKUP($A28,#REF!,29,0)*BN28),"") | GK28: =IF(BO28>0,(VLOOKUP($A28,#REF!,31,0)*BO28),"") | GL28: =IF(BP28>0,(VLOOKUP($A28,#REF!,29,0)*BP28),"") | GM28: =IF(BQ28>0,(VLOOKUP($A28,#REF!,31,0)*BQ28),"") | GN28: =IF(BR28>0,(VLOOKUP($A28,#REF!,29,0)*BR28),"") | GO28: =IF(BS28>0,(VLOOKUP($A28,#REF!,31,0)*BS28),"") | GP28: =IF(BT28>0,(VLOOKUP($A28,#REF!,29,0)*BT28),"") | GQ28: =IF(BU28>0,(VLOOKUP($A28,#REF!,31,0)*BU28),"") | GR28: =IF(BV28>0,(VLOOKUP($A28,#REF!,29,0)*BV28),"") | GS28: =IF(BW28>0,(VLOOKUP($A28,#REF!,31,0)*BW28),"") | GT28: =IF(BX28>0,(VLOOKUP($A28,#REF!,29,0)*BX28),"") | GU28: =IF(BY28>0,(VLOOKUP($A28,#REF!,31,0)*BY28),"") | GV28: =IF(BZ28>0,(VLOOKUP($A28,#REF!,29,0)*BZ28),"") | GW28: =IF(CA28>0,(VLOOKUP($A28,#REF!,31,0)*CA28),"") | GX28: =IF(CB28>0,(VLOOKUP($A28,#REF!,29,0)*CB28),"") | GY28: =IF(CC28>0,(VLOOKUP($A28,#REF!,31,0)*CC28),"") | GZ28: =IF(CD28>0,(VLOOKUP($A28,#REF!,29,0)*CD28),"") | HA28: =IF(CE28>0,(VLOOKUP($A28,#REF!,31,0)*CE28),"") | HB28: =IF(CF28>0,(VLOOKUP($A28,#REF!,29,0)*CF28),"") | HC28: =IF(CG28>0,(VLOOKUP($A28,#REF!,31,0)*CG28),"") | HD28: =IF(CH28>0,(VLOOKUP($A28,#REF!,29,0)*CH28),"") | HE28: =IF(CI28>0,(VLOOKUP($A28,#REF!,31,0)*CI28),"") | HF28: =IF(CJ28>0,(VLOOKUP($A28,#REF!,29,0)*CJ28),"") | HG28: =IF(CK28>0,(VLOOKUP($A28,#REF!,31,0)*CK28),"") | HH28: =IF(CL28>0,(VLOOKUP($A28,#REF!,29,0)*CL28),"") | HI28: =IF(CM28>0,(VLOOKUP($A28,#REF!,31,0)*CM28),"") | HJ28: =IF(CN28>0,(VLOOKUP($A28,#REF!,29,0)*CN28),"") | HK28: =IF(CO28>0,(VLOOKUP($A28,#REF!,31,0)*CO28),"") | HL28: =IF(CP28>0,(VLOOKUP($A28,#REF!,29,0)*CP28),"") -> #REF! | HM28: =IF(CQ28>0,(VLOOKUP($A28,#REF!,31,0)*CQ28),"") -> #REF! | HN28: =IF(CR28>0,(VLOOKUP($A28,#REF!,29,0)*CR28),"") | HO28: =IF(CS28>0,(VLOOKUP($A28,#REF!,31,0)*CS28),"") | HP28: =IF(CT28>0,(VLOOKUP($A28,#REF!,29,0)*CT28),"") | HQ28: =IF(CU28>0,(VLOOKUP($A28,#REF!,31,0)*CU28),"") | HR28: =IF(CV28>0,(VLOOKUP($A28,#REF!,29,0)*CV28),"") | HS28: =IF(CW28>0,(VLOOKUP($A28,#REF!,31,0)*CW28),"") | HT28: =IF(CX28>0,(VLOOKUP($A28,#REF!,29,0)*CX28),"") | HU28: =IF(CY28>0,(VLOOKUP($A28,#REF!,31,0)*CY28),"") | HV28: =IF(CZ28>0,(VLOOKUP($A28,#REF!,29,0)*CZ28),"") | HW28: =IF(DA28>0,(VLOOKUP($A28,#REF!,31,0)*DA28),"") | HX28: =IF(DB28>0,(VLOOKUP($A28,#REF!,29,0)*DB28),"") | HY28: =IF(DC28>0,(VLOOKUP($A28,#REF!,31,0)*DC28),"") | HZ28: =IF(DD28>0,(VLOOKUP($A28,#REF!,29,0)*DD28),"") | IA28: =IF(DE28>0,(VLOOKUP($A28,#REF!,31,0)*DE28),"") | IB28: =IF(DF28>0,(VLOOKUP($A28,#REF!,29,0)*DF28),"") | IC28: =IF(DG28>0,(VLOOKUP($A28,#REF!,31,0)*DG28),"")
A29: PZRHBC | B29: BAUMGARTNER | C29: Carolina | D29: =IF((DV29+DT29)>0,DV29+DT29,"") -> 40 | CF29: 40 | DT29: =DL29+DI29+DF29+L29+CX29+BX29+AX29+AF29+AL29+BZ29+DB29+CR29+CP29+CL29+CH29+CF29+CD29+BN29+AR29+N29-DP29+DD29+BP29+CB29+Z29+CT29+BJ29+DR29+CZ29+CV29+CN29+CJ29+BV29+BT29+BR29+BL29+BH29+BF29+BD29+BB29+AZ29+AV29+AT29+AP29+AN29+AJ29+AH29+AD29+AB29+X29+V29+T29+R29+P29+J29+H29+F29 -> 40 | DU29: =(DT29*(VLOOKUP(A29,#REF!,29,0)))-(IF(DO29="x",MROUND(DP29*(VLOOKUP(A29,#REF!,29,0)*0.08),0.05),0)) -> #REF! | DV29: =DM29+DJ29+DG29+M29+CY29+BY29+AY29+AG29+AM29+CA29+DC29+CS29+CQ29+CM29+CI29+CG29+CE29+BO29+AS29+O29+DE29+BQ29+CC29+AA29+CU29+BK29+DA29+CW29+CO29+CK29+BW29+BU29+BS29+BM29+BI29+BG29+BE29+BC29+BA29+AW29+AU29+AQ29+AO29+AK29+AI29+AE29+AC29+Y29+W29+U29+S29+Q29+K29+I29+G29 -> 0 | DW29: =(DV29*(VLOOKUP(A29,#REF!,31,0))) -> #REF! | DX29: =VLOOKUP(A29,#REF!,33,0) -> #REF! | DY29: =DX29-(DW29+DU29) -> #REF! | DZ29: =IF(DY29=0,"","!!") -> #REF! | EB29: =IF(F29>0,(VLOOKUP($A29,#REF!,29,0)*F29),"") | EC29: =IF(G29>0,(VLOOKUP($A29,#REF!,31,0)*G29),"") | ED29: =IF(H29>0,(VLOOKUP($A29,#REF!,29,0)*H29),"") | EE29: =IF(I29>0,(VLOOKUP($A29,#REF!,31,0)*I29),"") | EF29: =IF(J29>0,(VLOOKUP($A29,#REF!,29,0)*J29),"") | EG29: =IF(K29>0,(VLOOKUP($A29,#REF!,31,0)*K29),"") | EH29: =IF(L29>0,(VLOOKUP($A29,#REF!,29,0)*L29),"") | EI29: =IF(M29>0,(VLOOKUP($A29,#REF!,31,0)*M29),"") | EJ29: =IF(N29>0,(VLOOKUP($A29,#REF!,29,0)*N29),"") | EK29: =IF(O29>0,(VLOOKUP($A29,#REF!,31,0)*O29),"") | EL29: =IF(P29>0,(VLOOKUP($A29,#REF!,29,0)*P29),"") | EM29: =IF(Q29>0,(VLOOKUP($A29,#REF!,31,0)*Q29),"") | EN29: =IF(R29>0,(VLOOKUP($A29,#REF!,29,0)*R29),"") | EO29: =IF(S29>0,(VLOOKUP($A29,#REF!,31,0)*S29),"") | EP29: =IF(T29>0,(VLOOKUP($A29,#REF!,29,0)*T29),"") | EQ29: =IF(U29>0,(VLOOKUP($A29,#REF!,31,0)*U29),"") | ER29: =IF(V29>0,(VLOOKUP($A29,#REF!,29,0)*V29),"") | ES29: =IF(W29>0,(VLOOKUP($A29,#REF!,31,0)*W29),"") | ET29: =IF(X29>0,(VLOOKUP($A29,#REF!,29,0)*X29),"") | EU29: =IF(Y29>0,(VLOOKUP($A29,#REF!,31,0)*Y29),"") | EV29: =IF(Z29>0,(VLOOKUP($A29,#REF!,29,0)*Z29),"") | EW29: =IF(AA29>0,(VLOOKUP($A29,#REF!,31,0)*AA29),"") | EX29: =IF(AB29>0,(VLOOKUP($A29,#REF!,29,0)*AB29),"") | EY29: =IF(AC29>0,(VLOOKUP($A29,#REF!,31,0)*AC29),"") | EZ29: =IF(AD29>0,(VLOOKUP($A29,#REF!,29,0)*AD29),"") | FA29: =IF(AE29>0,(VLOOKUP($A29,#REF!,31,0)*AE29),"") | FB29: =IF(AF29>0,(VLOOKUP($A29,#REF!,29,0)*AF29),"") | FC29: =IF(AG29>0,(VLOOKUP($A29,#REF!,31,0)*AG29),"") | FD29: =IF(AH29>0,(VLOOKUP($A29,#REF!,29,0)*AH29),"") | FE29: =IF(AI29>0,(VLOOKUP($A29,#REF!,31,0)*AI29),"") | FF29: =IF(AJ29>0,(VLOOKUP($A29,#REF!,29,0)*AJ29),"") | FG29: =IF(AK29>0,(VLOOKUP($A29,#REF!,31,0)*AK29),"") | FH29: =IF(AL29>0,(VLOOKUP($A29,#REF!,29,0)*AL29),"") | FI29: =IF(AM29>0,(VLOOKUP($A29,#REF!,31,0)*AM29),"") | FJ29: =IF(AN29>0,(VLOOKUP($A29,#REF!,29,0)*AN29),"") | FK29: =IF(AO29>0,(VLOOKUP($A29,#REF!,31,0)*AO29),"") | FL29: =IF(AP29>0,(VLOOKUP($A29,#REF!,29,0)*AP29),"") | FM29: =IF(AQ29>0,(VLOOKUP($A29,#REF!,31,0)*AQ29),"") | FN29: =IF(AR29>0,(VLOOKUP($A29,#REF!,29,0)*AR29),"") | FO29: =IF(AS29>0,(VLOOKUP($A29,#REF!,31,0)*AS29),"") | FP29: =IF(AT29>0,(VLOOKUP($A29,#REF!,29,0)*AT29),"") | FQ29: =IF(AU29>0,(VLOOKUP($A29,#REF!,31,0)*AU29),"") | FR29: =IF(AV29>0,(VLOOKUP($A29,#REF!,29,0)*AV29),"") | FS29: =IF(AW29>0,(VLOOKUP($A29,#REF!,31,0)*AW29),"") | FT29: =IF(AX29>0,(VLOOKUP($A29,#REF!,29,0)*AX29),"") | FU29: =IF(AY29>0,(VLOOKUP($A29,#REF!,31,0)*AY29),"") | FV29: =IF(AZ29>0,(VLOOKUP($A29,#REF!,29,0)*AZ29),"") | FW29: =IF(BA29>0,(VLOOKUP($A29,#REF!,31,0)*BA29),"") | FX29: =IF(BB29>0,(VLOOKUP($A29,#REF!,29,0)*BB29),"") | FY29: =IF(BC29>0,(VLOOKUP($A29,#REF!,31,0)*BC29),"") | FZ29: =IF(BD29>0,(VLOOKUP($A29,#REF!,29,0)*BD29),"") | GA29: =IF(BE29>0,(VLOOKUP($A29,#REF!,31,0)*BE29),"") | GB29: =IF(BF29>0,(VLOOKUP($A29,#REF!,29,0)*BF29),"") | GC29: =IF(BG29>0,(VLOOKUP($A29,#REF!,31,0)*BG29),"") | GD29: =IF(BH29>0,(VLOOKUP($A29,#REF!,29,0)*BH29),"") | GE29: =IF(BI29>0,(VLOOKUP($A29,#REF!,31,0)*BI29),"") | GF29: =IF(BJ29>0,(VLOOKUP($A29,#REF!,29,0)*BJ29),"") | GG29: =IF(BK29>0,(VLOOKUP($A29,#REF!,31,0)*BK29),"") | GH29: =IF(BL29>0,(VLOOKUP($A29,#REF!,29,0)*BL29),"") | GI29: =IF(BM29>0,(VLOOKUP($A29,#REF!,31,0)*BM29),"") | GJ29: =IF(BN29>0,(VLOOKUP($A29,#REF!,29,0)*BN29),"") | GK29: =IF(BO29>0,(VLOOKUP($A29,#REF!,31,0)*BO29),"") | GL29: =IF(BP29>0,(VLOOKUP($A29,#REF!,29,0)*BP29),"") | GM29: =IF(BQ29>0,(VLOOKUP($A29,#REF!,31,0)*BQ29),"") | GN29: =IF(BR29>0,(VLOOKUP($A29,#REF!,29,0)*BR29),"") | GO29: =IF(BS29>0,(VLOOKUP($A29,#REF!,31,0)*BS29),"") | GP29: =IF(BT29>0,(VLOOKUP($A29,#REF!,29,0)*BT29),"") | GQ29: =IF(BU29>0,(VLOOKUP($A29,#REF!,31,0)*BU29),"") | GR29: =IF(BV29>0,(VLOOKUP($A29,#REF!,29,0)*BV29),"") | GS29: =IF(BW29>0,(VLOOKUP($A29,#REF!,31,0)*BW29),"") | GT29: =IF(BX29>0,(VLOOKUP($A29,#REF!,29,0)*BX29),"") | GU29: =IF(BY29>0,(VLOOKUP($A29,#REF!,31,0)*BY29),"") | GV29: =IF(BZ29>0,(VLOOKUP($A29,#REF!,29,0)*BZ29),"") | GW29: =IF(CA29>0,(VLOOKUP($A29,#REF!,31,0)*CA29),"") | GX29: =IF(CB29>0,(VLOOKUP($A29,#REF!,29,0)*CB29),"") | GY29: =IF(CC29>0,(VLOOKUP($A29,#REF!,31,0)*CC29),"") | GZ29: =IF(CD29>0,(VLOOKUP($A29,#REF!,29,0)*CD29),"") | HA29: =IF(CE29>0,(VLOOKUP($A29,#REF!,31,0)*CE29),"") | HB29: =IF(CF29>0,(VLOOKUP($A29,#REF!,29,0)*CF29),"") -> #REF! | HC29: =IF(CG29>0,(VLOOKUP($A29,#REF!,31,0)*CG29),"") | HD29: =IF(CH29>0,(VLOOKUP($A29,#REF!,29,0)*CH29),"") | HE29: =IF(CI29>0,(VLOOKUP($A29,#REF!,31,0)*CI29),"") | HF29: =IF(CJ29>0,(VLOOKUP($A29,#REF!,29,0)*CJ29),"") | HG29: =IF(CK29>0,(VLOOKUP($A29,#REF!,31,0)*CK29),"") | HH29: =IF(CL29>0,(VLOOKUP($A29,#REF!,29,0)*CL29),"") | HI29: =IF(CM29>0,(VLOOKUP($A29,#REF!,31,0)*CM29),"") | HJ29: =IF(CN29>0,(VLOOKUP($A29,#REF!,29,0)*CN29),"") | HK29: =IF(CO29>0,(VLOOKUP($A29,#REF!,31,0)*CO29),"") | HL29: =IF(CP29>0,(VLOOKUP($A29,#REF!,29,0)*CP29),"") | HM29: =IF(CQ29>0,(VLOOKUP($A29,#REF!,31,0)*CQ29),"") | HN29: =IF(CR29>0,(VLOOKUP($A29,#REF!,29,0)*CR29),"") | HO29: =IF(CS29>0,(VLOOKUP($A29,#REF!,31,0)*CS29),"") | HP29: =IF(CT29>0,(VLOOKUP($A29,#REF!,29,0)*CT29),"") | HQ29: =IF(CU29>0,(VLOOKUP($A29,#REF!,31,0)*CU29),"") | HR29: =IF(CV29>0,(VLOOKUP($A29,#REF!,29,0)*CV29),"") | HS29: =IF(CW29>0,(VLOOKUP($A29,#REF!,31,0)*CW29),"") | HT29: =IF(CX29>0,(VLOOKUP($A29,#REF!,29,0)*CX29),"") | HU29: =IF(CY29>0,(VLOOKUP($A29,#REF!,31,0)*CY29),"") | HV29: =IF(CZ29>0,(VLOOKUP($A29,#REF!,29,0)*CZ29),"") | HW29: =IF(DA29>0,(VLOOKUP($A29,#REF!,31,0)*DA29),"") | HX29: =IF(DB29>0,(VLOOKUP($A29,#REF!,29,0)*DB29),"") | HY29: =IF(DC29>0,(VLOOKUP($A29,#REF!,31,0)*DC29),"") | HZ29: =IF(DD29>0,(VLOOKUP($A29,#REF!,29,0)*DD29),"") | IA29: =IF(DE29>0,(VLOOKUP($A29,#REF!,31,0)*DE29),"") | IB29: =IF(DF29>0,(VLOOKUP($A29,#REF!,29,0)*DF29),"") | IC29: =IF(DG29>0,(VLOOKUP($A29,#REF!,31,0)*DG29),"")
A30: PZRHBR | B30: BEDNER [Promoter] | C30: Rafaela | D30: =IF((DV30+DT30)>0,DV30+DT30,"") -> 54 | CP30: 16 | CX30: 33 | CY30: 5 | DT30: =DL30+DI30+DF30+L30+CX30+BX30+AX30+AF30+AL30+BZ30+DB30+CR30+CP30+CL30+CH30+CF30+CD30+BN30+AR30+N30-DP30+DD30+BP30+CB30+Z30+CT30+BJ30+DR30+CZ30+CV30+CN30+CJ30+BV30+BT30+BR30+BL30+BH30+BF30+BD30+BB30+AZ30+AV30+AT30+AP30+AN30+AJ30+AH30+AD30+AB30+X30+V30+T30+R30+P30+J30+H30+F30 -> 49 | DU30: =(DT30*(VLOOKUP(A30,#REF!,29,0)))-(IF(DO30="x",MROUND(DP30*(VLOOKUP(A30,#REF!,29,0)*0.08),0.05),0)) -> #REF! | DV30: =DM30+DJ30+DG30+M30+CY30+BY30+AY30+AG30+AM30+CA30+DC30+CS30+CQ30+CM30+CI30+CG30+CE30+BO30+AS30+O30+DE30+BQ30+CC30+AA30+CU30+BK30+DA30+CW30+CO30+CK30+BW30+BU30+BS30+BM30+BI30+BG30+BE30+BC30+BA30+AW30+AU30+AQ30+AO30+AK30+AI30+AE30+AC30+Y30+W30+U30+S30+Q30+K30+I30+G30 -> 5 | DW30: =(DV30*(VLOOKUP(A30,#REF!,31,0))) -> #REF! | DX30: =VLOOKUP(A30,#REF!,33,0) -> #REF! | DY30: =DX30-(DW30+DU30) -> #REF! | DZ30: =IF(DY30=0,"","!!") -> #REF! | EB30: =IF(F30>0,(VLOOKUP($A30,#REF!,29,0)*F30),"") | EC30: =IF(G30>0,(VLOOKUP($A30,#REF!,31,0)*G30),"") | ED30: =IF(H30>0,(VLOOKUP($A30,#REF!,29,0)*H30),"") | EE30: =IF(I30>0,(VLOOKUP($A30,#REF!,31,0)*I30),"") | EF30: =IF(J30>0,(VLOOKUP($A30,#REF!,29,0)*J30),"") | EG30: =IF(K30>0,(VLOOKUP($A30,#REF!,31,0)*K30),"") | EH30: =IF(L30>0,(VLOOKUP($A30,#REF!,29,0)*L30),"") | EI30: =IF(M30>0,(VLOOKUP($A30,#REF!,31,0)*M30),"") | EJ30: =IF(N30>0,(VLOOKUP($A30,#REF!,29,0)*N30),"") | EK30: =IF(O30>0,(VLOOKUP($A30,#REF!,31,0)*O30),"") | EL30: =IF(P30>0,(VLOOKUP($A30,#REF!,29,0)*P30),"") | EM30: =IF(Q30>0,(VLOOKUP($A30,#REF!,31,0)*Q30),"") | EN30: =IF(R30>0,(VLOOKUP($A30,#REF!,29,0)*R30),"") | EO30: =IF(S30>0,(VLOOKUP($A30,#REF!,31,0)*S30),"") | EP30: =IF(T30>0,(VLOOKUP($A30,#REF!,29,0)*T30),"") | EQ30: =IF(U30>0,(VLOOKUP($A30,#REF!,31,0)*U30),"") | ER30: =IF(V30>0,(VLOOKUP($A30,#REF!,29,0)*V30),"") | ES30: =IF(W30>0,(VLOOKUP($A30,#REF!,31,0)*W30),"") | ET30: =IF(X30>0,(VLOOKUP($A30,#REF!,29,0)*X30),"") | EU30: =IF(Y30>0,(VLOOKUP($A30,#REF!,31,0)*Y30),"") | EV30: =IF(Z30>0,(VLOOKUP($A30,#REF!,29,0)*Z30),"") | EW30: =IF(AA30>0,(VLOOKUP($A30,#REF!,31,0)*AA30),"") | EX30: =IF(AB30>0,(VLOOKUP($A30,#REF!,29,0)*AB30),"") | EY30: =IF(AC30>0,(VLOOKUP($A30,#REF!,31,0)*AC30),"") | EZ30: =IF(AD30>0,(VLOOKUP($A30,#REF!,29,0)*AD30),"") | FA30: =IF(AE30>0,(VLOOKUP($A30,#REF!,31,0)*AE30),"") | FB30: =IF(AF30>0,(VLOOKUP($A30,#REF!,29,0)*AF30),"") | FC30: =IF(AG30>0,(VLOOKUP($A30,#REF!,31,0)*AG30),"") | FD30: =IF(AH30>0,(VLOOKUP($A30,#REF!,29,0)*AH30),"") | FE30: =IF(AI30>0,(VLOOKUP($A30,#REF!,31,0)*AI30),"") | FF30: =IF(AJ30>0,(VLOOKUP($A30,#REF!,29,0)*AJ30),"") | FG30: =IF(AK30>0,(VLOOKUP($A30,#REF!,31,0)*AK30),"") | FH30: =IF(AL30>0,(VLOOKUP($A30,#REF!,29,0)*AL30),"") | FI30: =IF(AM30>0,(VLOOKUP($A30,#REF!,31,0)*AM30),"") | FJ30: =IF(AN30>0,(VLOOKUP($A30,#REF!,29,0)*AN30),"") | FK30: =IF(AO30>0,(VLOOKUP($A30,#REF!,31,0)*AO30),"") | FL30: =IF(AP30>0,(VLOOKUP($A30,#REF!,29,0)*AP30),"") | FM30: =IF(AQ30>0,(VLOOKUP($A30,#REF!,31,0)*AQ30),"") | FN30: =IF(AR30>0,(VLOOKUP($A30,#REF!,29,0)*AR30),"") | FO30: =IF(AS30>0,(VLOOKUP($A30,#REF!,31,0)*AS30),"") | FP30: =IF(AT30>0,(VLOOKUP($A30,#REF!,29,0)*AT30),"") | FQ30: =IF(AU30>0,(VLOOKUP($A30,#REF!,31,0)*AU30),"") | FR30: =IF(AV30>0,(VLOOKUP($A30,#REF!,29,0)*AV30),"") | FS30: =IF(AW30>0,(VLOOKUP($A30,#REF!,31,0)*AW30),"") | FT30: =IF(AX30>0,(VLOOKUP($A30,#REF!,29,0)*AX30),"") | FU30: =IF(AY30>0,(VLOOKUP($A30,#REF!,31,0)*AY30),"") | FV30: =IF(AZ30>0,(VLOOKUP($A30,#REF!,29,0)*AZ30),"") | FW30: =IF(BA30>0,(VLOOKUP($A30,#REF!,31,0)*BA30),"") | FX30: =IF(BB30>0,(VLOOKUP($A30,#REF!,29,0)*BB30),"") | FY30: =IF(BC30>0,(VLOOKUP($A30,#REF!,31,0)*BC30),"") | FZ30: =IF(BD30>0,(VLOOKUP($A30,#REF!,29,0)*BD30),"") | GA30: =IF(BE30>0,(VLOOKUP($A30,#REF!,31,0)*BE30),"") | GB30: =IF(BF30>0,(VLOOKUP($A30,#REF!,29,0)*BF30),"") | GC30: =IF(BG30>0,(VLOOKUP($A30,#REF!,31,0)*BG30),"") | GD30: =IF(BH30>0,(VLOOKUP($A30,#REF!,29,0)*BH30),"") | GE30: =IF(BI30>0,(VLOOKUP($A30,#REF!,31,0)*BI30),"") | GF30: =IF(BJ30>0,(VLOOKUP($A30,#REF!,29,0)*BJ30),"") | GG30: =IF(BK30>0,(VLOOKUP($A30,#REF!,31,0)*BK30),"") | GH30: =IF(BL30>0,(VLOOKUP($A30,#REF!,29,0)*BL30),"") | GI30: =IF(BM30>0,(VLOOKUP($A30,#REF!,31,0)*BM30),"") | GJ30: =IF(BN30>0,(VLOOKUP($A30,#REF!,29,0)*BN30),"") | GK30: =IF(BO30>0,(VLOOKUP($A30,#REF!,31,0)*BO30),"") | GL30: =IF(BP30>0,(VLOOKUP($A30,#REF!,29,0)*BP30),"") | GM30: =IF(BQ30>0,(VLOOKUP($A30,#REF!,31,0)*BQ30),"") | GN30: =IF(BR30>0,(VLOOKUP($A30,#REF!,29,0)*BR30),"") | GO30: =IF(BS30>0,(VLOOKUP($A30,#REF!,31,0)*BS30),"") | GP30: =IF(BT30>0,(VLOOKUP($A30,#REF!,29,0)*BT30),"") | GQ30: =IF(BU30>0,(VLOOKUP($A30,#REF!,31,0)*BU30),"") | GR30: =IF(BV30>0,(VLOOKUP($A30,#REF!,29,0)*BV30),"") | GS30: =IF(BW30>0,(VLOOKUP($A30,#REF!,31,0)*BW30),"") | GT30: =IF(BX30>0,(VLOOKUP($A30,#REF!,29,0)*BX30),"") | GU30: =IF(BY30>0,(VLOOKUP($A30,#REF!,31,0)*BY30),"") | GV30: =IF(BZ30>0,(VLOOKUP($A30,#REF!,29,0)*BZ30),"") | GW30: =IF(CA30>0,(VLOOKUP($A30,#REF!,31,0)*CA30),"") | GX30: =IF(CB30>0,(VLOOKUP($A30,#REF!,29,0)*CB30),"") | GY30: =IF(CC30>0,(VLOOKUP($A30,#REF!,31,0)*CC30),"") | GZ30: =IF(CD30>0,(VLOOKUP($A30,#REF!,29,0)*CD30),"") | HA30: =IF(CE30>0,(VLOOKUP($A30,#REF!,31,0)*CE30),"") | HB30: =IF(CF30>0,(VLOOKUP($A30,#REF!,29,0)*CF30),"") | HC30: =IF(CG30>0,(VLOOKUP($A30,#REF!,31,0)*CG30),"") | HD30: =IF(CH30>0,(VLOOKUP($A30,#REF!,29,0)*CH30),"") | HE30: =IF(CI30>0,(VLOOKUP($A30,#REF!,31,0)*CI30),"") | HF30: =IF(CJ30>0,(VLOOKUP($A30,#REF!,29,0)*CJ30),"") | HG30: =IF(CK30>0,(VLOOKUP($A30,#REF!,31,0)*CK30),"") | HH30: =IF(CL30>0,(VLOOKUP($A30,#REF!,29,0)*CL30),"") | HI30: =IF(CM30>0,(VLOOKUP($A30,#REF!,31,0)*CM30),"") | HJ30: =IF(CN30>0,(VLOOKUP($A30,#REF!,29,0)*CN30),"") | HK30: =IF(CO30>0,(VLOOKUP($A30,#REF!,31,0)*CO30),"") | HL30: =IF(CP30>0,(VLOOKUP($A30,#REF!,29,0)*CP30),"") -> #REF! | HM30: =IF(CQ30>0,(VLOOKUP($A30,#REF!,31,0)*CQ30),"") | HN30: =IF(CR30>0,(VLOOKUP($A30,#REF!,29,0)*CR30),"") | HO30: =IF(CS30>0,(VLOOKUP($A30,#REF!,31,0)*CS30),"") | HP30: =IF(CT30>0,(VLOOKUP($A30,#REF!,29,0)*CT30),"") | HQ30: =IF(CU30>0,(VLOOKUP($A30,#REF!,31,0)*CU30),"") | HR30: =IF(CV30>0,(VLOOKUP($A30,#REF!,29,0)*CV30),"") | HS30: =IF(CW30>0,(VLOOKUP($A30,#REF!,31,0)*CW30),"") | HT30: =IF(CX30>0,(VLOOKUP($A30,#REF!,29,0)*CX30),"") -> #REF! | HU30: =IF(CY30>0,(VLOOKUP($A30,#REF!,31,0)*CY30),"") -> #REF! | HV30: =IF(CZ30>0,(VLOOKUP($A30,#REF!,29,0)*CZ30),"") | HW30: =IF(DA30>0,(VLOOKUP($A30,#REF!,31,0)*DA30),"") | HX30: =IF(DB30>0,(VLOOKUP($A30,#REF!,29,0)*DB30),"") | HY30: =IF(DC30>0,(VLOOKUP($A30,#REF!,31,0)*DC30),"") | HZ30: =IF(DD30>0,(VLOOKUP($A30,#REF!,29,0)*DD30),"") | IA30: =IF(DE30>0,(VLOOKUP($A30,#REF!,31,0)*DE30),"") | IB30: =IF(DF30>0,(VLOOKUP($A30,#REF!,29,0)*DF30),"") | IC30: =IF(DG30>0,(VLOOKUP($A30,#REF!,31,0)*DG30),"")
A31: PZRHBM | B31: BONNENFANT | C31: Manon | D31: =IF((DV31+DT31)>0,DV31+DT31,"") -> 112 | BN31: 88 | BO31: 24 | DT31: =DL31+DI31+DF31+L31+CX31+BX31+AX31+AF31+AL31+BZ31+DB31+CR31+CP31+CL31+CH31+CF31+CD31+BN31+AR31+N31-DP31+DD31+BP31+CB31+Z31+CT31+BJ31+DR31+CZ31+CV31+CN31+CJ31+BV31+BT31+BR31+BL31+BH31+BF31+BD31+BB31+AZ31+AV31+AT31+AP31+AN31+AJ31+AH31+AD31+AB31+X31+V31+T31+R31+P31+J31+H31+F31 -> 88 | DU31: =(DT31*(VLOOKUP(A31,#REF!,29,0)))-(IF(DO31="x",MROUND(DP31*(VLOOKUP(A31,#REF!,29,0)*0.08),0.05),0)) -> #REF! | DV31: =DM31+DJ31+DG31+M31+CY31+BY31+AY31+AG31+AM31+CA31+DC31+CS31+CQ31+CM31+CI31+CG31+CE31+BO31+AS31+O31+DE31+BQ31+CC31+AA31+CU31+BK31+DA31+CW31+CO31+CK31+BW31+BU31+BS31+BM31+BI31+BG31+BE31+BC31+BA31+AW31+AU31+AQ31+AO31+AK31+AI31+AE31+AC31+Y31+W31+U31+S31+Q31+K31+I31+G31 -> 24 | DW31: =(DV31*(VLOOKUP(A31,#REF!,31,0))) -> #REF! | DX31: =VLOOKUP(A31,#REF!,33,0) -> #REF! | DY31: =DX31-(DW31+DU31) -> #REF! | DZ31: =IF(DY31=0,"","!!") -> #REF! | EB31: =IF(F31>0,(VLOOKUP($A31,#REF!,29,0)*F31),"") | EC31: =IF(G31>0,(VLOOKUP($A31,#REF!,31,0)*G31),"") | ED31: =IF(H31>0,(VLOOKUP($A31,#REF!,29,0)*H31),"") | EE31: =IF(I31>0,(VLOOKUP($A31,#REF!,31,0)*I31),"") | EF31: =IF(J31>0,(VLOOKUP($A31,#REF!,29,0)*J31),"") | EG31: =IF(K31>0,(VLOOKUP($A31,#REF!,31,0)*K31),"") | EH31: =IF(L31>0,(VLOOKUP($A31,#REF!,29,0)*L31),"") | EI31: =IF(M31>0,(VLOOKUP($A31,#REF!,31,0)*M31),"") | EJ31: =IF(N31>0,(VLOOKUP($A31,#REF!,29,0)*N31),"") | EK31: =IF(O31>0,(VLOOKUP($A31,#REF!,31,0)*O31),"") | EL31: =IF(P31>0,(VLOOKUP($A31,#REF!,29,0)*P31),"") | EM31: =IF(Q31>0,(VLOOKUP($A31,#REF!,31,0)*Q31),"") | EN31: =IF(R31>0,(VLOOKUP($A31,#REF!,29,0)*R31),"") | EO31: =IF(S31>0,(VLOOKUP($A31,#REF!,31,0)*S31),"") | EP31: =IF(T31>0,(VLOOKUP($A31,#REF!,29,0)*T31),"") | EQ31: =IF(U31>0,(VLOOKUP($A31,#REF!,31,0)*U31),"") | ER31: =IF(V31>0,(VLOOKUP($A31,#REF!,29,0)*V31),"") | ES31: =IF(W31>0,(VLOOKUP($A31,#REF!,31,0)*W31),"") | ET31: =IF(X31>0,(VLOOKUP($A31,#REF!,29,0)*X31),"") | EU31: =IF(Y31>0,(VLOOKUP($A31,#REF!,31,0)*Y31),"") | EV31: =IF(Z31>0,(VLOOKUP($A31,#REF!,29,0)*Z31),"") | EW31: =IF(AA31>0,(VLOOKUP($A31,#REF!,31,0)*AA31),"") | EX31: =IF(AB31>0,(VLOOKUP($A31,#REF!,29,0)*AB31),"") | EY31: =IF(AC31>0,(VLOOKUP($A31,#REF!,31,0)*AC31),"") | EZ31: =IF(AD31>0,(VLOOKUP($A31,#REF!,29,0)*AD31),"") | FA31: =IF(AE31>0,(VLOOKUP($A31,#REF!,31,0)*AE31),"") | FB31: =IF(AF31>0,(VLOOKUP($A31,#REF!,29,0)*AF31),"") | FC31: =IF(AG31>0,(VLOOKUP($A31,#REF!,31,0)*AG31),"") | FD31: =IF(AH31>0,(VLOOKUP($A31,#REF!,29,0)*AH31),"") | FE31: =IF(AI31>0,(VLOOKUP($A31,#REF!,31,0)*AI31),"") | FF31: =IF(AJ31>0,(VLOOKUP($A31,#REF!,29,0)*AJ31),"") | FG31: =IF(AK31>0,(VLOOKUP($A31,#REF!,31,0)*AK31),"") | FH31: =IF(AL31>0,(VLOOKUP($A31,#REF!,29,0)*AL31),"") | FI31: =IF(AM31>0,(VLOOKUP($A31,#REF!,31,0)*AM31),"") | FJ31: =IF(AN31>0,(VLOOKUP($A31,#REF!,29,0)*AN31),"") | FK31: =IF(AO31>0,(VLOOKUP($A31,#REF!,31,0)*AO31),"") | FL31: =IF(AP31>0,(VLOOKUP($A31,#REF!,29,0)*AP31),"") | FM31: =IF(AQ31>0,(VLOOKUP($A31,#REF!,31,0)*AQ31),"") | FN31: =IF(AR31>0,(VLOOKUP($A31,#REF!,29,0)*AR31),"") | FO31: =IF(AS31>0,(VLOOKUP($A31,#REF!,31,0)*AS31),"") | FP31: =IF(AT31>0,(VLOOKUP($A31,#REF!,29,0)*AT31),"") | FQ31: =IF(AU31>0,(VLOOKUP($A31,#REF!,31,0)*AU31),"") | FR31: =IF(AV31>0,(VLOOKUP($A31,#REF!,29,0)*AV31),"") | FS31: =IF(AW31>0,(VLOOKUP($A31,#REF!,31,0)*AW31),"") | FT31: =IF(AX31>0,(VLOOKUP($A31,#REF!,29,0)*AX31),"") | FU31: =IF(AY31>0,(VLOOKUP($A31,#REF!,31,0)*AY31),"") | FV31: =IF(AZ31>0,(VLOOKUP($A31,#REF!,29,0)*AZ31),"") | FW31: =IF(BA31>0,(VLOOKUP($A31,#REF!,31,0)*BA31),"") | FX31: =IF(BB31>0,(VLOOKUP($A31,#REF!,29,0)*BB31),"") | FY31: =IF(BC31>0,(VLOOKUP($A31,#REF!,31,0)*BC31),"") | FZ31: =IF(BD31>0,(VLOOKUP($A31,#REF!,29,0)*BD31),"") | GA31: =IF(BE31>0,(VLOOKUP($A31,#REF!,31,0)*BE31),"") | GB31: =IF(BF31>0,(VLOOKUP($A31,#REF!,29,0)*BF31),"") | GC31: =IF(BG31>0,(VLOOKUP($A31,#REF!,31,0)*BG31),"") | GD31: =IF(BH31>0,(VLOOKUP($A31,#REF!,29,0)*BH31),"") | GE31: =IF(BI31>0,(VLOOKUP($A31,#REF!,31,0)*BI31),"") | GF31: =IF(BJ31>0,(VLOOKUP($A31,#REF!,29,0)*BJ31),"") | GG31: =IF(BK31>0,(VLOOKUP($A31,#REF!,31,0)*BK31),"") | GH31: =IF(BL31>0,(VLOOKUP($A31,#REF!,29,0)*BL31),"") | GI31: =IF(BM31>0,(VLOOKUP($A31,#REF!,31,0)*BM31),"") | GJ31: =IF(BN31>0,(VLOOKUP($A31,#REF!,29,0)*BN31),"") -> #REF! | GK31: =IF(BO31>0,(VLOOKUP($A31,#REF!,31,0)*BO31),"") -> #REF! | GL31: =IF(BP31>0,(VLOOKUP($A31,#REF!,29,0)*BP31),"") | GM31: =IF(BQ31>0,(VLOOKUP($A31,#REF!,31,0)*BQ31),"") | GN31: =IF(BR31>0,(VLOOKUP($A31,#REF!,29,0)*BR31),"") | GO31: =IF(BS31>0,(VLOOKUP($A31,#REF!,31,0)*BS31),"") | GP31: =IF(BT31>0,(VLOOKUP($A31,#REF!,29,0)*BT31),"") | GQ31: =IF(BU31>0,(VLOOKUP($A31,#REF!,31,0)*BU31),"") | GR31: =IF(BV31>0,(VLOOKUP($A31,#REF!,29,0)*BV31),"") | GS31: =IF(BW31>0,(VLOOKUP($A31,#REF!,31,0)*BW31),"") | GT31: =IF(BX31>0,(VLOOKUP($A31,#REF!,29,0)*BX31),"") | GU31: =IF(BY31>0,(VLOOKUP($A31,#REF!,31,0)*BY31),"") | GV31: =IF(BZ31>0,(VLOOKUP($A31,#REF!,29,0)*BZ31),"") | GW31: =IF(CA31>0,(VLOOKUP($A31,#REF!,31,0)*CA31),"") | GX31: =IF(CB31>0,(VLOOKUP($A31,#REF!,29,0)*CB31),"") | GY31: =IF(CC31>0,(VLOOKUP($A31,#REF!,31,0)*CC31),"") | GZ31: =IF(CD31>0,(VLOOKUP($A31,#REF!,29,0)*CD31),"") | HA31: =IF(CE31>0,(VLOOKUP($A31,#REF!,31,0)*CE31),"") | HB31: =IF(CF31>0,(VLOOKUP($A31,#REF!,29,0)*CF31),"") | HC31: =IF(CG31>0,(VLOOKUP($A31,#REF!,31,0)*CG31),"") | HD31: =IF(CH31>0,(VLOOKUP($A31,#REF!,29,0)*CH31),"") | HE31: =IF(CI31>0,(VLOOKUP($A31,#REF!,31,0)*CI31),"") | HF31: =IF(CJ31>0,(VLOOKUP($A31,#REF!,29,0)*CJ31),"") | HG31: =IF(CK31>0,(VLOOKUP($A31,#REF!,31,0)*CK31),"") | HH31: =IF(CL31>0,(VLOOKUP($A31,#REF!,29,0)*CL31),"") | HI31: =IF(CM31>0,(VLOOKUP($A31,#REF!,31,0)*CM31),"") | HJ31: =IF(CN31>0,(VLOOKUP($A31,#REF!,29,0)*CN31),"") | HK31: =IF(CO31>0,(VLOOKUP($A31,#REF!,31,0)*CO31),"") | HL31: =IF(CP31>0,(VLOOKUP($A31,#REF!,29,0)*CP31),"") | HM31: =IF(CQ31>0,(VLOOKUP($A31,#REF!,31,0)*CQ31),"") | HN31: =IF(CR31>0,(VLOOKUP($A31,#REF!,29,0)*CR31),"") | HO31: =IF(CS31>0,(VLOOKUP($A31,#REF!,31,0)*CS31),"") | HP31: =IF(CT31>0,(VLOOKUP($A31,#REF!,29,0)*CT31),"") | HQ31: =IF(CU31>0,(VLOOKUP($A31,#REF!,31,0)*CU31),"") | HR31: =IF(CV31>0,(VLOOKUP($A31,#REF!,29,0)*CV31),"") | HS31: =IF(CW31>0,(VLOOKUP($A31,#REF!,31,0)*CW31),"") | HT31: =IF(CX31>0,(VLOOKUP($A31,#REF!,29,0)*CX31),"") | HU31: =IF(CY31>0,(VLOOKUP($A31,#REF!,31,0)*CY31),"") | HV31: =IF(CZ31>0,(VLOOKUP($A31,#REF!,29,0)*CZ31),"") | HW31: =IF(DA31>0,(VLOOKUP($A31,#REF!,31,0)*DA31),"") | HX31: =IF(DB31>0,(VLOOKUP($A31,#REF!,29,0)*DB31),"") | HY31: =IF(DC31>0,(VLOOKUP($A31,#REF!,31,0)*DC31),"") | HZ31: =IF(DD31>0,(VLOOKUP($A31,#REF!,29,0)*DD31),"") | IA31: =IF(DE31>0,(VLOOKUP($A31,#REF!,31,0)*DE31),"") | IB31: =IF(DF31>0,(VLOOKUP($A31,#REF!,29,0)*DF31),"") | IC31: =IF(DG31>0,(VLOOKUP($A31,#REF!,31,0)*DG31),"")
A32: PZRHBA | B32: BURGER | C32: Andrea | D32: =IF((DV32+DT32)>0,DV32+DT32,"") -> 132 | CP32: 15 | CQ32: 8 | DB32: 93 | DC32: 16 | DT32: =DL32+DI32+DF32+L32+CX32+BX32+AX32+AF32+AL32+BZ32+DB32+CR32+CP32+CL32+CH32+CF32+CD32+BN32+AR32+N32-DP32+DD32+BP32+CB32+Z32+CT32+BJ32+DR32+CZ32+CV32+CN32+CJ32+BV32+BT32+BR32+BL32+BH32+BF32+BD32+BB32+AZ32+AV32+AT32+AP32+AN32+AJ32+AH32+AD32+AB32+X32+V32+T32+R32+P32+J32+H32+F32 -> 108 | DU32: =(DT32*(VLOOKUP(A32,#REF!,29,0)))-(IF(DO32="x",MROUND(DP32*(VLOOKUP(A32,#REF!,29,0)*0.08),0.05),0)) -> #REF! | DV32: =DM32+DJ32+DG32+M32+CY32+BY32+AY32+AG32+AM32+CA32+DC32+CS32+CQ32+CM32+CI32+CG32+CE32+BO32+AS32+O32+DE32+BQ32+CC32+AA32+CU32+BK32+DA32+CW32+CO32+CK32+BW32+BU32+BS32+BM32+BI32+BG32+BE32+BC32+BA32+AW32+AU32+AQ32+AO32+AK32+AI32+AE32+AC32+Y32+W32+U32+S32+Q32+K32+I32+G32 -> 24 | DW32: =(DV32*(VLOOKUP(A32,#REF!,31,0))) -> #REF! | DX32: =VLOOKUP(A32,#REF!,33,0) -> #REF! | DY32: =DX32-(DW32+DU32) -> #REF! | DZ32: =IF(DY32=0,"","!!") -> #REF! | EB32: =IF(F32>0,(VLOOKUP($A32,#REF!,29,0)*F32),"") | EC32: =IF(G32>0,(VLOOKUP($A32,#REF!,31,0)*G32),"") | ED32: =IF(H32>0,(VLOOKUP($A32,#REF!,29,0)*H32),"") | EE32: =IF(I32>0,(VLOOKUP($A32,#REF!,31,0)*I32),"") | EF32: =IF(J32>0,(VLOOKUP($A32,#REF!,29,0)*J32),"") | EG32: =IF(K32>0,(VLOOKUP($A32,#REF!,31,0)*K32),"") | EH32: =IF(L32>0,(VLOOKUP($A32,#REF!,29,0)*L32),"") | EI32: =IF(M32>0,(VLOOKUP($A32,#REF!,31,0)*M32),"") | EJ32: =IF(N32>0,(VLOOKUP($A32,#REF!,29,0)*N32),"") | EK32: =IF(O32>0,(VLOOKUP($A32,#REF!,31,0)*O32),"") | EL32: =IF(P32>0,(VLOOKUP($A32,#REF!,29,0)*P32),"") | EM32: =IF(Q32>0,(VLOOKUP($A32,#REF!,31,0)*Q32),"") | EN32: =IF(R32>0,(VLOOKUP($A32,#REF!,29,0)*R32),"") | EO32: =IF(S32>0,(VLOOKUP($A32,#REF!,31,0)*S32),"") | EP32: =IF(T32>0,(VLOOKUP($A32,#REF!,29,0)*T32),"") | EQ32: =IF(U32>0,(VLOOKUP($A32,#REF!,31,0)*U32),"") | ER32: =IF(V32>0,(VLOOKUP($A32,#REF!,29,0)*V32),"") | ES32: =IF(W32>0,(VLOOKUP($A32,#REF!,31,0)*W32),"") | ET32: =IF(X32>0,(VLOOKUP($A32,#REF!,29,0)*X32),"") | EU32: =IF(Y32>0,(VLOOKUP($A32,#REF!,31,0)*Y32),"") | EV32: =IF(Z32>0,(VLOOKUP($A32,#REF!,29,0)*Z32),"") | EW32: =IF(AA32>0,(VLOOKUP($A32,#REF!,31,0)*AA32),"") | EX32: =IF(AB32>0,(VLOOKUP($A32,#REF!,29,0)*AB32),"") | EY32: =IF(AC32>0,(VLOOKUP($A32,#REF!,31,0)*AC32),"") | EZ32: =IF(AD32>0,(VLOOKUP($A32,#REF!,29,0)*AD32),"") | FA32: =IF(AE32>0,(VLOOKUP($A32,#REF!,31,0)*AE32),"") | FB32: =IF(AF32>0,(VLOOKUP($A32,#REF!,29,0)*AF32),"") | FC32: =IF(AG32>0,(VLOOKUP($A32,#REF!,31,0)*AG32),"") | FD32: =IF(AH32>0,(VLOOKUP($A32,#REF!,29,0)*AH32),"") | FE32: =IF(AI32>0,(VLOOKUP($A32,#REF!,31,0)*AI32),"") | FF32: =IF(AJ32>0,(VLOOKUP($A32,#REF!,29,0)*AJ32),"") | FG32: =IF(AK32>0,(VLOOKUP($A32,#REF!,31,0)*AK32),"") | FH32: =IF(AL32>0,(VLOOKUP($A32,#REF!,29,0)*AL32),"") | FI32: =IF(AM32>0,(VLOOKUP($A32,#REF!,31,0)*AM32),"") | FJ32: =IF(AN32>0,(VLOOKUP($A32,#REF!,29,0)*AN32),"") | FK32: =IF(AO32>0,(VLOOKUP($A32,#REF!,31,0)*AO32),"") | FL32: =IF(AP32>0,(VLOOKUP($A32,#REF!,29,0)*AP32),"") | FM32: =IF(AQ32>0,(VLOOKUP($A32,#REF!,31,0)*AQ32),"") | FN32: =IF(AR32>0,(VLOOKUP($A32,#REF!,29,0)*AR32),"") | FO32: =IF(AS32>0,(VLOOKUP($A32,#REF!,31,0)*AS32),"") | FP32: =IF(AT32>0,(VLOOKUP($A32,#REF!,29,0)*AT32),"") | FQ32: =IF(AU32>0,(VLOOKUP($A32,#REF!,31,0)*AU32),"") | FR32: =IF(AV32>0,(VLOOKUP($A32,#REF!,29,0)*AV32),"") | FS32: =IF(AW32>0,(VLOOKUP($A32,#REF!,31,0)*AW32),"") | FT32: =IF(AX32>0,(VLOOKUP($A32,#REF!,29,0)*AX32),"") | FU32: =IF(AY32>0,(VLOOKUP($A32,#REF!,31,0)*AY32),"") | FV32: =IF(AZ32>0,(VLOOKUP($A32,#REF!,29,0)*AZ32),"") | FW32: =IF(BA32>0,(VLOOKUP($A32,#REF!,31,0)*BA32),"") | FX32: =IF(BB32>0,(VLOOKUP($A32,#REF!,29,0)*BB32),"") | FY32: =IF(BC32>0,(VLOOKUP($A32,#REF!,31,0)*BC32),"") | FZ32: =IF(BD32>0,(VLOOKUP($A32,#REF!,29,0)*BD32),"") | GA32: =IF(BE32>0,(VLOOKUP($A32,#REF!,31,0)*BE32),"") | GB32: =IF(BF32>0,(VLOOKUP($A32,#REF!,29,0)*BF32),"") | GC32: =IF(BG32>0,(VLOOKUP($A32,#REF!,31,0)*BG32),"") | GD32: =IF(BH32>0,(VLOOKUP($A32,#REF!,29,0)*BH32),"") | GE32: =IF(BI32>0,(VLOOKUP($A32,#REF!,31,0)*BI32),"") | GF32: =IF(BJ32>0,(VLOOKUP($A32,#REF!,29,0)*BJ32),"") | GG32: =IF(BK32>0,(VLOOKUP($A32,#REF!,31,0)*BK32),"") | GH32: =IF(BL32>0,(VLOOKUP($A32,#REF!,29,0)*BL32),"") | GI32: =IF(BM32>0,(VLOOKUP($A32,#REF!,31,0)*BM32),"") | GJ32: =IF(BN32>0,(VLOOKUP($A32,#REF!,29,0)*BN32),"") | GK32: =IF(BO32>0,(VLOOKUP($A32,#REF!,31,0)*BO32),"") | GL32: =IF(BP32>0,(VLOOKUP($A32,#REF!,29,0)*BP32),"") | GM32: =IF(BQ32>0,(VLOOKUP($A32,#REF!,31,0)*BQ32),"") | GN32: =IF(BR32>0,(VLOOKUP($A32,#REF!,29,0)*BR32),"") | GO32: =IF(BS32>0,(VLOOKUP($A32,#REF!,31,0)*BS32),"") | GP32: =IF(BT32>0,(VLOOKUP($A32,#REF!,29,0)*BT32),"") | GQ32: =IF(BU32>0,(VLOOKUP($A32,#REF!,31,0)*BU32),"") | GR32: =IF(BV32>0,(VLOOKUP($A32,#REF!,29,0)*BV32),"") | GS32: =IF(BW32>0,(VLOOKUP($A32,#REF!,31,0)*BW32),"") | GT32: =IF(BX32>0,(VLOOKUP($A32,#REF!,29,0)*BX32),"") | GU32: =IF(BY32>0,(VLOOKUP($A32,#REF!,31,0)*BY32),"") | GV32: =IF(BZ32>0,(VLOOKUP($A32,#REF!,29,0)*BZ32),"") | GW32: =IF(CA32>0,(VLOOKUP($A32,#REF!,31,0)*CA32),"") | GX32: =IF(CB32>0,(VLOOKUP($A32,#REF!,29,0)*CB32),"") | GY32: =IF(CC32>0,(VLOOKUP($A32,#REF!,31,0)*CC32),"") | GZ32: =IF(CD32>0,(VLOOKUP($A32,#REF!,29,0)*CD32),"") | HA32: =IF(CE32>0,(VLOOKUP($A32,#REF!,31,0)*CE32),"") | HB32: =IF(CF32>0,(VLOOKUP($A32,#REF!,29,0)*CF32),"") | HC32: =IF(CG32>0,(VLOOKUP($A32,#REF!,31,0)*CG32),"") | HD32: =IF(CH32>0,(VLOOKUP($A32,#REF!,29,0)*CH32),"") | HE32: =IF(CI32>0,(VLOOKUP($A32,#REF!,31,0)*CI32),"") | HF32: =IF(CJ32>0,(VLOOKUP($A32,#REF!,29,0)*CJ32),"") | HG32: =IF(CK32>0,(VLOOKUP($A32,#REF!,31,0)*CK32),"") | HH32: =IF(CL32>0,(VLOOKUP($A32,#REF!,29,0)*CL32),"") | HI32: =IF(CM32>0,(VLOOKUP($A32,#REF!,31,0)*CM32),"") | HJ32: =IF(CN32>0,(VLOOKUP($A32,#REF!,29,0)*CN32),"") | HK32: =IF(CO32>0,(VLOOKUP($A32,#REF!,31,0)*CO32),"") | HL32: =IF(CP32>0,(VLOOKUP($A32,#REF!,29,0)*CP32),"") -> #REF! | HM32: =IF(CQ32>0,(VLOOKUP($A32,#REF!,31,0)*CQ32),"") -> #REF! | HN32: =IF(CR32>0,(VLOOKUP($A32,#REF!,29,0)*CR32),"") | HO32: =IF(CS32>0,(VLOOKUP($A32,#REF!,31,0)*CS32),"") | HP32: =IF(CT32>0,(VLOOKUP($A32,#REF!,29,0)*CT32),"") | HQ32: =IF(CU32>0,(VLOOKUP($A32,#REF!,31,0)*CU32),"") | HR32: =IF(CV32>0,(VLOOKUP($A32,#REF!,29,0)*CV32),"") | HS32: =IF(CW32>0,(VLOOKUP($A32,#REF!,31,0)*CW32),"") | HT32: =IF(CX32>0,(VLOOKUP($A32,#REF!,29,0)*CX32),"") | HU32: =IF(CY32>0,(VLOOKUP($A32,#REF!,31,0)*CY32),"") | HV32: =IF(CZ32>0,(VLOOKUP($A32,#REF!,29,0)*CZ32),"") | HW32: =IF(DA32>0,(VLOOKUP($A32,#REF!,31,0)*DA32),"") | HX32: =IF(DB32>0,(VLOOKUP($A32,#REF!,29,0)*DB32),"") -> #REF! | HY32: =IF(DC32>0,(VLOOKUP($A32,#REF!,31,0)*DC32),"") -> #REF! | HZ32: =IF(DD32>0,(VLOOKUP($A32,#REF!,29,0)*DD32),"") | IA32: =IF(DE32>0,(VLOOKUP($A32,#REF!,31,0)*DE32),"") | IB32: =IF(DF32>0,(VLOOKUP($A32,#REF!,29,0)*DF32),"") | IC32: =IF(DG32>0,(VLOOKUP($A32,#REF!,31,0)*DG32),"")
A33: PZRHCRI | B33: CASTILLO RODRIGUEZ | C33: Ivan Ricardo | D33: =IF((DV33+DT33)>0,DV33+DT33,"") -> 144.5 | CP33: 144.5 | DT33: =DL33+DI33+DF33+L33+CX33+BX33+AX33+AF33+AL33+BZ33+DB33+CR33+CP33+CL33+CH33+CF33+CD33+BN33+AR33+N33-DP33+DD33+BP33+CB33+Z33+CT33+BJ33+DR33+CZ33+CV33+CN33+CJ33+BV33+BT33+BR33+BL33+BH33+BF33+BD33+BB33+AZ33+AV33+AT33+AP33+AN33+AJ33+AH33+AD33+AB33+X33+V33+T33+R33+P33+J33+H33+F33 -> 144.5 | DU33: =(DT33*(VLOOKUP(A33,#REF!,29,0)))-(IF(DO33="x",MROUND(DP33*(VLOOKUP(A33,#REF!,29,0)*0.08),0.05),0)) -> #REF! | DV33: =DM33+DJ33+DG33+M33+CY33+BY33+AY33+AG33+AM33+CA33+DC33+CS33+CQ33+CM33+CI33+CG33+CE33+BO33+AS33+O33+DE33+BQ33+CC33+AA33+CU33+BK33+DA33+CW33+CO33+CK33+BW33+BU33+BS33+BM33+BI33+BG33+BE33+BC33+BA33+AW33+AU33+AQ33+AO33+AK33+AI33+AE33+AC33+Y33+W33+U33+S33+Q33+K33+I33+G33 -> 0 | DW33: =(DV33*(VLOOKUP(A33,#REF!,31,0))) -> #REF! | DX33: =VLOOKUP(A33,#REF!,33,0) -> #REF! | DY33: =DX33-(DW33+DU33) -> #REF! | DZ33: =IF(DY33=0,"","!!") -> #REF! | EB33: =IF(F33>0,(VLOOKUP($A33,#REF!,29,0)*F33),"") | EC33: =IF(G33>0,(VLOOKUP($A33,#REF!,31,0)*G33),"") | ED33: =IF(H33>0,(VLOOKUP($A33,#REF!,29,0)*H33),"") | EE33: =IF(I33>0,(VLOOKUP($A33,#REF!,31,0)*I33),"") | EF33: =IF(J33>0,(VLOOKUP($A33,#REF!,29,0)*J33),"") | EG33: =IF(K33>0,(VLOOKUP($A33,#REF!,31,0)*K33),"") | EH33: =IF(L33>0,(VLOOKUP($A33,#REF!,29,0)*L33),"") | EI33: =IF(M33>0,(VLOOKUP($A33,#REF!,31,0)*M33),"") | EJ33: =IF(N33>0,(VLOOKUP($A33,#REF!,29,0)*N33),"") | EK33: =IF(O33>0,(VLOOKUP($A33,#REF!,31,0)*O33),"") | EL33: =IF(P33>0,(VLOOKUP($A33,#REF!,29,0)*P33),"") | EM33: =IF(Q33>0,(VLOOKUP($A33,#REF!,31,0)*Q33),"") | EN33: =IF(R33>0,(VLOOKUP($A33,#REF!,29,0)*R33),"") | EO33: =IF(S33>0,(VLOOKUP($A33,#REF!,31,0)*S33),"") | EP33: =IF(T33>0,(VLOOKUP($A33,#REF!,29,0)*T33),"") | EQ33: =IF(U33>0,(VLOOKUP($A33,#REF!,31,0)*U33),"") | ER33: =IF(V33>0,(VLOOKUP($A33,#REF!,29,0)*V33),"") | ES33: =IF(W33>0,(VLOOKUP($A33,#REF!,31,0)*W33),"") | ET33: =IF(X33>0,(VLOOKUP($A33,#REF!,29,0)*X33),"") | EU33: =IF(Y33>0,(VLOOKUP($A33,#REF!,31,0)*Y33),"") | EV33: =IF(Z33>0,(VLOOKUP($A33,#REF!,29,0)*Z33),"") | EW33: =IF(AA33>0,(VLOOKUP($A33,#REF!,31,0)*AA33),"") | EX33: =IF(AB33>0,(VLOOKUP($A33,#REF!,29,0)*AB33),"") | EY33: =IF(AC33>0,(VLOOKUP($A33,#REF!,31,0)*AC33),"") | EZ33: =IF(AD33>0,(VLOOKUP($A33,#REF!,29,0)*AD33),"") | FA33: =IF(AE33>0,(VLOOKUP($A33,#REF!,31,0)*AE33),"") | FB33: =IF(AF33>0,(VLOOKUP($A33,#REF!,29,0)*AF33),"") | FC33: =IF(AG33>0,(VLOOKUP($A33,#REF!,31,0)*AG33),"") | FD33: =IF(AH33>0,(VLOOKUP($A33,#REF!,29,0)*AH33),"") | FE33: =IF(AI33>0,(VLOOKUP($A33,#REF!,31,0)*AI33),"") | FF33: =IF(AJ33>0,(VLOOKUP($A33,#REF!,29,0)*AJ33),"") | FG33: =IF(AK33>0,(VLOOKUP($A33,#REF!,31,0)*AK33),"") | FH33: =IF(AL33>0,(VLOOKUP($A33,#REF!,29,0)*AL33),"") | FI33: =IF(AM33>0,(VLOOKUP($A33,#REF!,31,0)*AM33),"") | FJ33: =IF(AN33>0,(VLOOKUP($A33,#REF!,29,0)*AN33),"") | FK33: =IF(AO33>0,(VLOOKUP($A33,#REF!,31,0)*AO33),"") | FL33: =IF(AP33>0,(VLOOKUP($A33,#REF!,29,0)*AP33),"") | FM33: =IF(AQ33>0,(VLOOKUP($A33,#REF!,31,0)*AQ33),"") | FN33: =IF(AR33>0,(VLOOKUP($A33,#REF!,29,0)*AR33),"") | FO33: =IF(AS33>0,(VLOOKUP($A33,#REF!,31,0)*AS33),"") | FP33: =IF(AT33>0,(VLOOKUP($A33,#REF!,29,0)*AT33),"") | FQ33: =IF(AU33>0,(VLOOKUP($A33,#REF!,31,0)*AU33),"") | FR33: =IF(AV33>0,(VLOOKUP($A33,#REF!,29,0)*AV33),"") | FS33: =IF(AW33>0,(VLOOKUP($A33,#REF!,31,0)*AW33),"") | FT33: =IF(AX33>0,(VLOOKUP($A33,#REF!,29,0)*AX33),"") | FU33: =IF(AY33>0,(VLOOKUP($A33,#REF!,31,0)*AY33),"") | FV33: =IF(AZ33>0,(VLOOKUP($A33,#REF!,29,0)*AZ33),"") | FW33: =IF(BA33>0,(VLOOKUP($A33,#REF!,31,0)*BA33),"") | FX33: =IF(BB33>0,(VLOOKUP($A33,#REF!,29,0)*BB33),"") | FY33: =IF(BC33>0,(VLOOKUP($A33,#REF!,31,0)*BC33),"") | FZ33: =IF(BD33>0,(VLOOKUP($A33,#REF!,29,0)*BD33),"") | GA33: =IF(BE33>0,(VLOOKUP($A33,#REF!,31,0)*BE33),"") | GB33: =IF(BF33>0,(VLOOKUP($A33,#REF!,29,0)*BF33),"") | GC33: =IF(BG33>0,(VLOOKUP($A33,#REF!,31,0)*BG33),"") | GD33: =IF(BH33>0,(VLOOKUP($A33,#REF!,29,0)*BH33),"") | GE33: =IF(BI33>0,(VLOOKUP($A33,#REF!,31,0)*BI33),"") | GF33: =IF(BJ33>0,(VLOOKUP($A33,#REF!,29,0)*BJ33),"") | GG33: =IF(BK33>0,(VLOOKUP($A33,#REF!,31,0)*BK33),"") | GH33: =IF(BL33>0,(VLOOKUP($A33,#REF!,29,0)*BL33),"") | GI33: =IF(BM33>0,(VLOOKUP($A33,#REF!,31,0)*BM33),"") | GJ33: =IF(BN33>0,(VLOOKUP($A33,#REF!,29,0)*BN33),"") | GK33: =IF(BO33>0,(VLOOKUP($A33,#REF!,31,0)*BO33),"") | GL33: =IF(BP33>0,(VLOOKUP($A33,#REF!,29,0)*BP33),"") | GM33: =IF(BQ33>0,(VLOOKUP($A33,#REF!,31,0)*BQ33),"") | GN33: =IF(BR33>0,(VLOOKUP($A33,#REF!,29,0)*BR33),"") | GO33: =IF(BS33>0,(VLOOKUP($A33,#REF!,31,0)*BS33),"") | GP33: =IF(BT33>0,(VLOOKUP($A33,#REF!,29,0)*BT33),"") | GQ33: =IF(BU33>0,(VLOOKUP($A33,#REF!,31,0)*BU33),"") | GR33: =IF(BV33>0,(VLOOKUP($A33,#REF!,29,0)*BV33),"") | GS33: =IF(BW33>0,(VLOOKUP($A33,#REF!,31,0)*BW33),"") | GT33: =IF(BX33>0,(VLOOKUP($A33,#REF!,29,0)*BX33),"") | GU33: =IF(BY33>0,(VLOOKUP($A33,#REF!,31,0)*BY33),"") | GV33: =IF(BZ33>0,(VLOOKUP($A33,#REF!,29,0)*BZ33),"") | GW33: =IF(CA33>0,(VLOOKUP($A33,#REF!,31,0)*CA33),"") | GX33: =IF(CB33>0,(VLOOKUP($A33,#REF!,29,0)*CB33),"") | GY33: =IF(CC33>0,(VLOOKUP($A33,#REF!,31,0)*CC33),"") | GZ33: =IF(CD33>0,(VLOOKUP($A33,#REF!,29,0)*CD33),"") | HA33: =IF(CE33>0,(VLOOKUP($A33,#REF!,31,0)*CE33),"") | HB33: =IF(CF33>0,(VLOOKUP($A33,#REF!,29,0)*CF33),"") | HC33: =IF(CG33>0,(VLOOKUP($A33,#REF!,31,0)*CG33),"") | HD33: =IF(CH33>0,(VLOOKUP($A33,#REF!,29,0)*CH33),"") | HE33: =IF(CI33>0,(VLOOKUP($A33,#REF!,31,0)*CI33),"") | HF33: =IF(CJ33>0,(VLOOKUP($A33,#REF!,29,0)*CJ33),"") | HG33: =IF(CK33>0,(VLOOKUP($A33,#REF!,31,0)*CK33),"") | HH33: =IF(CL33>0,(VLOOKUP($A33,#REF!,29,0)*CL33),"") | HI33: =IF(CM33>0,(VLOOKUP($A33,#REF!,31,0)*CM33),"") | HJ33: =IF(CN33>0,(VLOOKUP($A33,#REF!,29,0)*CN33),"") | HK33: =IF(CO33>0,(VLOOKUP($A33,#REF!,31,0)*CO33),"") | HL33: =IF(CP33>0,(VLOOKUP($A33,#REF!,29,0)*CP33),"") -> #REF! | HM33: =IF(CQ33>0,(VLOOKUP($A33,#REF!,31,0)*CQ33),"") | HN33: =IF(CR33>0,(VLOOKUP($A33,#REF!,29,0)*CR33),"") | HO33: =IF(CS33>0,(VLOOKUP($A33,#REF!,31,0)*CS33),"") | HP33: =IF(CT33>0,(VLOOKUP($A33,#REF!,29,0)*CT33),"") | HQ33: =IF(CU33>0,(VLOOKUP($A33,#REF!,31,0)*CU33),"") | HR33: =IF(CV33>0,(VLOOKUP($A33,#REF!,29,0)*CV33),"") | HS33: =IF(CW33>0,(VLOOKUP($A33,#REF!,31,0)*CW33),"") | HT33: =IF(CX33>0,(VLOOKUP($A33,#REF!,29,0)*CX33),"") | HU33: =IF(CY33>0,(VLOOKUP($A33,#REF!,31,0)*CY33),"") | HV33: =IF(CZ33>0,(VLOOKUP($A33,#REF!,29,0)*CZ33),"") | HW33: =IF(DA33>0,(VLOOKUP($A33,#REF!,31,0)*DA33),"") | HX33: =IF(DB33>0,(VLOOKUP($A33,#REF!,29,0)*DB33),"") | HY33: =IF(DC33>0,(VLOOKUP($A33,#REF!,31,0)*DC33),"") | HZ33: =IF(DD33>0,(VLOOKUP($A33,#REF!,29,0)*DD33),"") | IA33: =IF(DE33>0,(VLOOKUP($A33,#REF!,31,0)*DE33),"") | IB33: =IF(DF33>0,(VLOOKUP($A33,#REF!,29,0)*DF33),"") | IC33: =IF(DG33>0,(VLOOKUP($A33,#REF!,31,0)*DG33),"")
A34: PZRHCL | B34: CHIS | C34: Loredana | D34: =IF((DV34+DT34)>0,DV34+DT34,"") -> 64.15 | BN34: 39.75 | BO34: 24.4 | DT34: =DL34+DI34+DF34+L34+CX34+BX34+AX34+AF34+AL34+BZ34+DB34+CR34+CP34+CL34+CH34+CF34+CD34+BN34+AR34+N34-DP34+DD34+BP34+CB34+Z34+CT34+BJ34+DR34+CZ34+CV34+CN34+CJ34+BV34+BT34+BR34+BL34+BH34+BF34+BD34+BB34+AZ34+AV34+AT34+AP34+AN34+AJ34+AH34+AD34+AB34+X34+V34+T34+R34+P34+J34+H34+F34 -> 39.75 | DU34: =(DT34*(VLOOKUP(A34,#REF!,29,0)))-(IF(DO34="x",MROUND(DP34*(VLOOKUP(A34,#REF!,29,0)*0.08),0.05),0)) -> #REF! | DV34: =DM34+DJ34+DG34+M34+CY34+BY34+AY34+AG34+AM34+CA34+DC34+CS34+CQ34+CM34+CI34+CG34+CE34+BO34+AS34+O34+DE34+BQ34+CC34+AA34+CU34+BK34+DA34+CW34+CO34+CK34+BW34+BU34+BS34+BM34+BI34+BG34+BE34+BC34+BA34+AW34+AU34+AQ34+AO34+AK34+AI34+AE34+AC34+Y34+W34+U34+S34+Q34+K34+I34+G34 -> 24.4 | DW34: =(DV34*(VLOOKUP(A34,#REF!,31,0))) -> #REF! | DX34: =VLOOKUP(A34,#REF!,33,0) -> #REF! | DY34: =DX34-(DW34+DU34) -> #REF! | DZ34: =IF(DY34=0,"","!!") -> #REF! | EB34: =IF(F34>0,(VLOOKUP($A34,#REF!,29,0)*F34),"") | EC34: =IF(G34>0,(VLOOKUP($A34,#REF!,31,0)*G34),"") | ED34: =IF(H34>0,(VLOOKUP($A34,#REF!,29,0)*H34),"") | EE34: =IF(I34>0,(VLOOKUP($A34,#REF!,31,0)*I34),"") | EF34: =IF(J34>0,(VLOOKUP($A34,#REF!,29,0)*J34),"") | EG34: =IF(K34>0,(VLOOKUP($A34,#REF!,31,0)*K34),"") | EH34: =IF(L34>0,(VLOOKUP($A34,#REF!,29,0)*L34),"") | EI34: =IF(M34>0,(VLOOKUP($A34,#REF!,31,0)*M34),"") | EJ34: =IF(N34>0,(VLOOKUP($A34,#REF!,29,0)*N34),"") | EK34: =IF(O34>0,(VLOOKUP($A34,#REF!,31,0)*O34),"") | EL34: =IF(P34>0,(VLOOKUP($A34,#REF!,29,0)*P34),"") | EM34: =IF(Q34>0,(VLOOKUP($A34,#REF!,31,0)*Q34),"") | EN34: =IF(R34>0,(VLOOKUP($A34,#REF!,29,0)*R34),"") | EO34: =IF(S34>0,(VLOOKUP($A34,#REF!,31,0)*S34),"") | EP34: =IF(T34>0,(VLOOKUP($A34,#REF!,29,0)*T34),"") | EQ34: =IF(U34>0,(VLOOKUP($A34,#REF!,31,0)*U34),"") | ER34: =IF(V34>0,(VLOOKUP($A34,#REF!,29,0)*V34),"") | ES34: =IF(W34>0,(VLOOKUP($A34,#REF!,31,0)*W34),"") | ET34: =IF(X34>0,(VLOOKUP($A34,#REF!,29,0)*X34),"") | EU34: =IF(Y34>0,(VLOOKUP($A34,#REF!,31,0)*Y34),"") | EV34: =IF(Z34>0,(VLOOKUP($A34,#REF!,29,0)*Z34),"") | EW34: =IF(AA34>0,(VLOOKUP($A34,#REF!,31,0)*AA34),"") | EX34: =IF(AB34>0,(VLOOKUP($A34,#REF!,29,0)*AB34),"") | EY34: =IF(AC34>0,(VLOOKUP($A34,#REF!,31,0)*AC34),"") | EZ34: =IF(AD34>0,(VLOOKUP($A34,#REF!,29,0)*AD34),"") | FA34: =IF(AE34>0,(VLOOKUP($A34,#REF!,31,0)*AE34),"") | FB34: =IF(AF34>0,(VLOOKUP($A34,#REF!,29,0)*AF34),"") | FC34: =IF(AG34>0,(VLOOKUP($A34,#REF!,31,0)*AG34),"") | FD34: =IF(AH34>0,(VLOOKUP($A34,#REF!,29,0)*AH34),"") | FE34: =IF(AI34>0,(VLOOKUP($A34,#REF!,31,0)*AI34),"") | FF34: =IF(AJ34>0,(VLOOKUP($A34,#REF!,29,0)*AJ34),"") | FG34: =IF(AK34>0,(VLOOKUP($A34,#REF!,31,0)*AK34),"") | FH34: =IF(AL34>0,(VLOOKUP($A34,#REF!,29,0)*AL34),"") | FI34: =IF(AM34>0,(VLOOKUP($A34,#REF!,31,0)*AM34),"") | FJ34: =IF(AN34>0,(VLOOKUP($A34,#REF!,29,0)*AN34),"") | FK34: =IF(AO34>0,(VLOOKUP($A34,#REF!,31,0)*AO34),"") | FL34: =IF(AP34>0,(VLOOKUP($A34,#REF!,29,0)*AP34),"") | FM34: =IF(AQ34>0,(VLOOKUP($A34,#REF!,31,0)*AQ34),"") | FN34: =IF(AR34>0,(VLOOKUP($A34,#REF!,29,0)*AR34),"") | FO34: =IF(AS34>0,(VLOOKUP($A34,#REF!,31,0)*AS34),"") | FP34: =IF(AT34>0,(VLOOKUP($A34,#REF!,29,0)*AT34),"") | FQ34: =IF(AU34>0,(VLOOKUP($A34,#REF!,31,0)*AU34),"") | FR34: =IF(AV34>0,(VLOOKUP($A34,#REF!,29,0)*AV34),"") | FS34: =IF(AW34>0,(VLOOKUP($A34,#REF!,31,0)*AW34),"") | FT34: =IF(AX34>0,(VLOOKUP($A34,#REF!,29,0)*AX34),"") | FU34: =IF(AY34>0,(VLOOKUP($A34,#REF!,31,0)*AY34),"") | FV34: =IF(AZ34>0,(VLOOKUP($A34,#REF!,29,0)*AZ34),"") | FW34: =IF(BA34>0,(VLOOKUP($A34,#REF!,31,0)*BA34),"") | FX34: =IF(BB34>0,(VLOOKUP($A34,#REF!,29,0)*BB34),"") | FY34: =IF(BC34>0,(VLOOKUP($A34,#REF!,31,0)*BC34),"") | FZ34: =IF(BD34>0,(VLOOKUP($A34,#REF!,29,0)*BD34),"") | GA34: =IF(BE34>0,(VLOOKUP($A34,#REF!,31,0)*BE34),"") | GB34: =IF(BF34>0,(VLOOKUP($A34,#REF!,29,0)*BF34),"") | GC34: =IF(BG34>0,(VLOOKUP($A34,#REF!,31,0)*BG34),"") | GD34: =IF(BH34>0,(VLOOKUP($A34,#REF!,29,0)*BH34),"") | GE34: =IF(BI34>0,(VLOOKUP($A34,#REF!,31,0)*BI34),"") | GF34: =IF(BJ34>0,(VLOOKUP($A34,#REF!,29,0)*BJ34),"") | GG34: =IF(BK34>0,(VLOOKUP($A34,#REF!,31,0)*BK34),"") | GH34: =IF(BL34>0,(VLOOKUP($A34,#REF!,29,0)*BL34),"") | GI34: =IF(BM34>0,(VLOOKUP($A34,#REF!,31,0)*BM34),"") | GJ34: =IF(BN34>0,(VLOOKUP($A34,#REF!,29,0)*BN34),"") -> #REF! | GK34: =IF(BO34>0,(VLOOKUP($A34,#REF!,31,0)*BO34),"") -> #REF! | GL34: =IF(BP34>0,(VLOOKUP($A34,#REF!,29,0)*BP34),"") | GM34: =IF(BQ34>0,(VLOOKUP($A34,#REF!,31,0)*BQ34),"") | GN34: =IF(BR34>0,(VLOOKUP($A34,#REF!,29,0)*BR34),"") | GO34: =IF(BS34>0,(VLOOKUP($A34,#REF!,31,0)*BS34),"") | GP34: =IF(BT34>0,(VLOOKUP($A34,#REF!,29,0)*BT34),"") | GQ34: =IF(BU34>0,(VLOOKUP($A34,#REF!,31,0)*BU34),"") | GR34: =IF(BV34>0,(VLOOKUP($A34,#REF!,29,0)*BV34),"") | GS34: =IF(BW34>0,(VLOOKUP($A34,#REF!,31,0)*BW34),"") | GT34: =IF(BX34>0,(VLOOKUP($A34,#REF!,29,0)*BX34),"") | GU34: =IF(BY34>0,(VLOOKUP($A34,#REF!,31,0)*BY34),"") | GV34: =IF(BZ34>0,(VLOOKUP($A34,#REF!,29,0)*BZ34),"") | GW34: =IF(CA34>0,(VLOOKUP($A34,#REF!,31,0)*CA34),"") | GX34: =IF(CB34>0,(VLOOKUP($A34,#REF!,29,0)*CB34),"") | GY34: =IF(CC34>0,(VLOOKUP($A34,#REF!,31,0)*CC34),"") | GZ34: =IF(CD34>0,(VLOOKUP($A34,#REF!,29,0)*CD34),"") | HA34: =IF(CE34>0,(VLOOKUP($A34,#REF!,31,0)*CE34),"") | HB34: =IF(CF34>0,(VLOOKUP($A34,#REF!,29,0)*CF34),"") | HC34: =IF(CG34>0,(VLOOKUP($A34,#REF!,31,0)*CG34),"") | HD34: =IF(CH34>0,(VLOOKUP($A34,#REF!,29,0)*CH34),"") | HE34: =IF(CI34>0,(VLOOKUP($A34,#REF!,31,0)*CI34),"") | HF34: =IF(CJ34>0,(VLOOKUP($A34,#REF!,29,0)*CJ34),"") | HG34: =IF(CK34>0,(VLOOKUP($A34,#REF!,31,0)*CK34),"") | HH34: =IF(CL34>0,(VLOOKUP($A34,#REF!,29,0)*CL34),"") | HI34: =IF(CM34>0,(VLOOKUP($A34,#REF!,31,0)*CM34),"") | HJ34: =IF(CN34>0,(VLOOKUP($A34,#REF!,29,0)*CN34),"") | HK34: =IF(CO34>0,(VLOOKUP($A34,#REF!,31,0)*CO34),"") | HL34: =IF(CP34>0,(VLOOKUP($A34,#REF!,29,0)*CP34),"") | HM34: =IF(CQ34>0,(VLOOKUP($A34,#REF!,31,0)*CQ34),"") | HN34: =IF(CR34>0,(VLOOKUP($A34,#REF!,29,0)*CR34),"") | HO34: =IF(CS34>0,(VLOOKUP($A34,#REF!,31,0)*CS34),"") | HP34: =IF(CT34>0,(VLOOKUP($A34,#REF!,29,0)*CT34),"") | HQ34: =IF(CU34>0,(VLOOKUP($A34,#REF!,31,0)*CU34),"") | HR34: =IF(CV34>0,(VLOOKUP($A34,#REF!,29,0)*CV34),"") | HS34: =IF(CW34>0,(VLOOKUP($A34,#REF!,31,0)*CW34),"") | HT34: =IF(CX34>0,(VLOOKUP($A34,#REF!,29,0)*CX34),"") | HU34: =IF(CY34>0,(VLOOKUP($A34,#REF!,31,0)*CY34),"") | HV34: =IF(CZ34>0,(VLOOKUP($A34,#REF!,29,0)*CZ34),"") | HW34: =IF(DA34>0,(VLOOKUP($A34,#REF!,31,0)*DA34),"") | HX34: =IF(DB34>0,(VLOOKUP($A34,#REF!,29,0)*DB34),"") | HY34: =IF(DC34>0,(VLOOKUP($A34,#REF!,31,0)*DC34),"") | HZ34: =IF(DD34>0,(VLOOKUP($A34,#REF!,29,0)*DD34),"") | IA34: =IF(DE34>0,(VLOOKUP($A34,#REF!,31,0)*DE34),"") | IB34: =IF(DF34>0,(VLOOKUP($A34,#REF!,29,0)*DF34),"") | IC34: =IF(DG34>0,(VLOOKUP($A34,#REF!,31,0)*DG34),"")
A35: PZRHDJ | B35: DIAZ | C35: Jane | D35: =IF((DV35+DT35)>0,DV35+DT35,"") -> 32 | CF35: 32 | DT35: =DL35+DI35+DF35+L35+CX35+BX35+AX35+AF35+AL35+BZ35+DB35+CR35+CP35+CL35+CH35+CF35+CD35+BN35+AR35+N35-DP35+DD35+BP35+CB35+Z35+CT35+BJ35+DR35+CZ35+CV35+CN35+CJ35+BV35+BT35+BR35+BL35+BH35+BF35+BD35+BB35+AZ35+AV35+AT35+AP35+AN35+AJ35+AH35+AD35+AB35+X35+V35+T35+R35+P35+J35+H35+F35 -> 32 | DU35: =(DT35*(VLOOKUP(A35,#REF!,29,0)))-(IF(DO35="x",MROUND(DP35*(VLOOKUP(A35,#REF!,29,0)*0.08),0.05),0)) -> #REF! | DV35: =DM35+DJ35+DG35+M35+CY35+BY35+AY35+AG35+AM35+CA35+DC35+CS35+CQ35+CM35+CI35+CG35+CE35+BO35+AS35+O35+DE35+BQ35+CC35+AA35+CU35+BK35+DA35+CW35+CO35+CK35+BW35+BU35+BS35+BM35+BI35+BG35+BE35+BC35+BA35+AW35+AU35+AQ35+AO35+AK35+AI35+AE35+AC35+Y35+W35+U35+S35+Q35+K35+I35+G35 -> 0 | DW35: =(DV35*(VLOOKUP(A35,#REF!,31,0))) -> #REF! | DX35: =VLOOKUP(A35,#REF!,33,0) -> #REF! | DY35: =DX35-(DW35+DU35) -> #REF! | DZ35: =IF(DY35=0,"","!!") -> #REF! | EB35: =IF(F35>0,(VLOOKUP($A35,#REF!,29,0)*F35),"") | EC35: =IF(G35>0,(VLOOKUP($A35,#REF!,31,0)*G35),"") | ED35: =IF(H35>0,(VLOOKUP($A35,#REF!,29,0)*H35),"") | EE35: =IF(I35>0,(VLOOKUP($A35,#REF!,31,0)*I35),"") | EF35: =IF(J35>0,(VLOOKUP($A35,#REF!,29,0)*J35),"") | EG35: =IF(K35>0,(VLOOKUP($A35,#REF!,31,0)*K35),"") | EH35: =IF(L35>0,(VLOOKUP($A35,#REF!,29,0)*L35),"") | EI35: =IF(M35>0,(VLOOKUP($A35,#REF!,31,0)*M35),"") | EJ35: =IF(N35>0,(VLOOKUP($A35,#REF!,29,0)*N35),"") | EK35: =IF(O35>0,(VLOOKUP($A35,#REF!,31,0)*O35),"") | EL35: =IF(P35>0,(VLOOKUP($A35,#REF!,29,0)*P35),"") | EM35: =IF(Q35>0,(VLOOKUP($A35,#REF!,31,0)*Q35),"") | EN35: =IF(R35>0,(VLOOKUP($A35,#REF!,29,0)*R35),"") | EO35: =IF(S35>0,(VLOOKUP($A35,#REF!,31,0)*S35),"") | EP35: =IF(T35>0,(VLOOKUP($A35,#REF!,29,0)*T35),"") | EQ35: =IF(U35>0,(VLOOKUP($A35,#REF!,31,0)*U35),"") | ER35: =IF(V35>0,(VLOOKUP($A35,#REF!,29,0)*V35),"") | ES35: =IF(W35>0,(VLOOKUP($A35,#REF!,31,0)*W35),"") | ET35: =IF(X35>0,(VLOOKUP($A35,#REF!,29,0)*X35),"") | EU35: =IF(Y35>0,(VLOOKUP($A35,#REF!,31,0)*Y35),"") | EV35: =IF(Z35>0,(VLOOKUP($A35,#REF!,29,0)*Z35),"") | EW35: =IF(AA35>0,(VLOOKUP($A35,#REF!,31,0)*AA35),"") | EX35: =IF(AB35>0,(VLOOKUP($A35,#REF!,29,0)*AB35),"") | EY35: =IF(AC35>0,(VLOOKUP($A35,#REF!,31,0)*AC35),"") | EZ35: =IF(AD35>0,(VLOOKUP($A35,#REF!,29,0)*AD35),"") | FA35: =IF(AE35>0,(VLOOKUP($A35,#REF!,31,0)*AE35),"") | FB35: =IF(AF35>0,(VLOOKUP($A35,#REF!,29,0)*AF35),"") | FC35: =IF(AG35>0,(VLOOKUP($A35,#REF!,31,0)*AG35),"") | FD35: =IF(AH35>0,(VLOOKUP($A35,#REF!,29,0)*AH35),"") | FE35: =IF(AI35>0,(VLOOKUP($A35,#REF!,31,0)*AI35),"") | FF35: =IF(AJ35>0,(VLOOKUP($A35,#REF!,29,0)*AJ35),"") | FG35: =IF(AK35>0,(VLOOKUP($A35,#REF!,31,0)*AK35),"") | FH35: =IF(AL35>0,(VLOOKUP($A35,#REF!,29,0)*AL35),"") | FI35: =IF(AM35>0,(VLOOKUP($A35,#REF!,31,0)*AM35),"") | FJ35: =IF(AN35>0,(VLOOKUP($A35,#REF!,29,0)*AN35),"") | FK35: =IF(AO35>0,(VLOOKUP($A35,#REF!,31,0)*AO35),"") | FL35: =IF(AP35>0,(VLOOKUP($A35,#REF!,29,0)*AP35),"") | FM35: =IF(AQ35>0,(VLOOKUP($A35,#REF!,31,0)*AQ35),"") | FN35: =IF(AR35>0,(VLOOKUP($A35,#REF!,29,0)*AR35),"") | FO35: =IF(AS35>0,(VLOOKUP($A35,#REF!,31,0)*AS35),"") | FP35: =IF(AT35>0,(VLOOKUP($A35,#REF!,29,0)*AT35),"") | FQ35: =IF(AU35>0,(VLOOKUP($A35,#REF!,31,0)*AU35),"") | FR35: =IF(AV35>0,(VLOOKUP($A35,#REF!,29,0)*AV35),"") | FS35: =IF(AW35>0,(VLOOKUP($A35,#REF!,31,0)*AW35),"") | FT35: =IF(AX35>0,(VLOOKUP($A35,#REF!,29,0)*AX35),"") | FU35: =IF(AY35>0,(VLOOKUP($A35,#REF!,31,0)*AY35),"") | FV35: =IF(AZ35>0,(VLOOKUP($A35,#REF!,29,0)*AZ35),"") | FW35: =IF(BA35>0,(VLOOKUP($A35,#REF!,31,0)*BA35),"") | FX35: =IF(BB35>0,(VLOOKUP($A35,#REF!,29,0)*BB35),"") | FY35: =IF(BC35>0,(VLOOKUP($A35,#REF!,31,0)*BC35),"") | FZ35: =IF(BD35>0,(VLOOKUP($A35,#REF!,29,0)*BD35),"") | GA35: =IF(BE35>0,(VLOOKUP($A35,#REF!,31,0)*BE35),"") | GB35: =IF(BF35>0,(VLOOKUP($A35,#REF!,29,0)*BF35),"") | GC35: =IF(BG35>0,(VLOOKUP($A35,#REF!,31,0)*BG35),"") | GD35: =IF(BH35>0,(VLOOKUP($A35,#REF!,29,0)*BH35),"") | GE35: =IF(BI35>0,(VLOOKUP($A35,#REF!,31,0)*BI35),"") | GF35: =IF(BJ35>0,(VLOOKUP($A35,#REF!,29,0)*BJ35),"") | GG35: =IF(BK35>0,(VLOOKUP($A35,#REF!,31,0)*BK35),"") | GH35: =IF(BL35>0,(VLOOKUP($A35,#REF!,29,0)*BL35),"") | GI35: =IF(BM35>0,(VLOOKUP($A35,#REF!,31,0)*BM35),"") | GJ35: =IF(BN35>0,(VLOOKUP($A35,#REF!,29,0)*BN35),"") | GK35: =IF(BO35>0,(VLOOKUP($A35,#REF!,31,0)*BO35),"") | GL35: =IF(BP35>0,(VLOOKUP($A35,#REF!,29,0)*BP35),"") | GM35: =IF(BQ35>0,(VLOOKUP($A35,#REF!,31,0)*BQ35),"") | GN35: =IF(BR35>0,(VLOOKUP($A35,#REF!,29,0)*BR35),"") | GO35: =IF(BS35>0,(VLOOKUP($A35,#REF!,31,0)*BS35),"") | GP35: =IF(BT35>0,(VLOOKUP($A35,#REF!,29,0)*BT35),"") | GQ35: =IF(BU35>0,(VLOOKUP($A35,#REF!,31,0)*BU35),"") | GR35: =IF(BV35>0,(VLOOKUP($A35,#REF!,29,0)*BV35),"") | GS35: =IF(BW35>0,(VLOOKUP($A35,#REF!,31,0)*BW35),"") | GT35: =IF(BX35>0,(VLOOKUP($A35,#REF!,29,0)*BX35),"") | GU35: =IF(BY35>0,(VLOOKUP($A35,#REF!,31,0)*BY35),"") | GV35: =IF(BZ35>0,(VLOOKUP($A35,#REF!,29,0)*BZ35),"") | GW35: =IF(CA35>0,(VLOOKUP($A35,#REF!,31,0)*CA35),"") | GX35: =IF(CB35>0,(VLOOKUP($A35,#REF!,29,0)*CB35),"") | GY35: =IF(CC35>0,(VLOOKUP($A35,#REF!,31,0)*CC35),"") | GZ35: =IF(CD35>0,(VLOOKUP($A35,#REF!,29,0)*CD35),"") | HA35: =IF(CE35>0,(VLOOKUP($A35,#REF!,31,0)*CE35),"") | HB35: =IF(CF35>0,(VLOOKUP($A35,#REF!,29,0)*CF35),"") -> #REF! | HC35: =IF(CG35>0,(VLOOKUP($A35,#REF!,31,0)*CG35),"") | HD35: =IF(CH35>0,(VLOOKUP($A35,#REF!,29,0)*CH35),"") | HE35: =IF(CI35>0,(VLOOKUP($A35,#REF!,31,0)*CI35),"") | HF35: =IF(CJ35>0,(VLOOKUP($A35,#REF!,29,0)*CJ35),"") | HG35: =IF(CK35>0,(VLOOKUP($A35,#REF!,31,0)*CK35),"") | HH35: =IF(CL35>0,(VLOOKUP($A35,#REF!,29,0)*CL35),"") | HI35: =IF(CM35>0,(VLOOKUP($A35,#REF!,31,0)*CM35),"") | HJ35: =IF(CN35>0,(VLOOKUP($A35,#REF!,29,0)*CN35),"") | HK35: =IF(CO35>0,(VLOOKUP($A35,#REF!,31,0)*CO35),"") | HL35: =IF(CP35>0,(VLOOKUP($A35,#REF!,29,0)*CP35),"") | HM35: =IF(CQ35>0,(VLOOKUP($A35,#REF!,31,0)*CQ35),"") | HN35: =IF(CR35>0,(VLOOKUP($A35,#REF!,29,0)*CR35),"") | HO35: =IF(CS35>0,(VLOOKUP($A35,#REF!,31,0)*CS35),"") | HP35: =IF(CT35>0,(VLOOKUP($A35,#REF!,29,0)*CT35),"") | HQ35: =IF(CU35>0,(VLOOKUP($A35,#REF!,31,0)*CU35),"") | HR35: =IF(CV35>0,(VLOOKUP($A35,#REF!,29,0)*CV35),"") | HS35: =IF(CW35>0,(VLOOKUP($A35,#REF!,31,0)*CW35),"") | HT35: =IF(CX35>0,(VLOOKUP($A35,#REF!,29,0)*CX35),"") | HU35: =IF(CY35>0,(VLOOKUP($A35,#REF!,31,0)*CY35),"") | HV35: =IF(CZ35>0,(VLOOKUP($A35,#REF!,29,0)*CZ35),"") | HW35: =IF(DA35>0,(VLOOKUP($A35,#REF!,31,0)*DA35),"") | HX35: =IF(DB35>0,(VLOOKUP($A35,#REF!,29,0)*DB35),"") | HY35: =IF(DC35>0,(VLOOKUP($A35,#REF!,31,0)*DC35),"") | HZ35: =IF(DD35>0,(VLOOKUP($A35,#REF!,29,0)*DD35),"") | IA35: =IF(DE35>0,(VLOOKUP($A35,#REF!,31,0)*DE35),"") | IB35: =IF(DF35>0,(VLOOKUP($A35,#REF!,29,0)*DF35),"") | IC35: =IF(DG35>0,(VLOOKUP($A35,#REF!,31,0)*DG35),"")
A36: PZRHDS | B36: DUONG | C36: Sasitorn | D36: =IF((DV36+DT36)>0,DV36+DT36,"") -> 152 | BN36: 152 | BO36: 24 | DO36: x | DP36: 24 | DT36: =DL36+DI36+DF36+L36+CX36+BX36+AX36+AF36+AL36+BZ36+DB36+CR36+CP36+CL36+CH36+CF36+CD36+BN36+AR36+N36-DP36+DD36+BP36+CB36+Z36+CT36+BJ36+DR36+CZ36+CV36+CN36+CJ36+BV36+BT36+BR36+BL36+BH36+BF36+BD36+BB36+AZ36+AV36+AT36+AP36+AN36+AJ36+AH36+AD36+AB36+X36+V36+T36+R36+P36+J36+H36+F36 -> 128 | DU36: =(DT36*(VLOOKUP(A36,#REF!,29,0)))-(IF(DO36="x",MROUND(DP36*(VLOOKUP(A36,#REF!,29,0)*0.08),0.05),0)) -> #REF! | DV36: =DM36+DJ36+DG36+M36+CY36+BY36+AY36+AG36+AM36+CA36+DC36+CS36+CQ36+CM36+CI36+CG36+CE36+BO36+AS36+O36+DE36+BQ36+CC36+AA36+CU36+BK36+DA36+CW36+CO36+CK36+BW36+BU36+BS36+BM36+BI36+BG36+BE36+BC36+BA36+AW36+AU36+AQ36+AO36+AK36+AI36+AE36+AC36+Y36+W36+U36+S36+Q36+K36+I36+G36 -> 24 | DW36: =(DV36*(VLOOKUP(A36,#REF!,31,0))) -> #REF! | DX36: =VLOOKUP(A36,#REF!,33,0) -> #REF! | DY36: =DX36-(DW36+DU36) -> #REF! | DZ36: =IF(DY36=0,"","!!") -> #REF! | EB36: =IF(F36>0,(VLOOKUP($A36,#REF!,29,0)*F36),"") | EC36: =IF(G36>0,(VLOOKUP($A36,#REF!,31,0)*G36),"") | ED36: =IF(H36>0,(VLOOKUP($A36,#REF!,29,0)*H36),"") | EE36: =IF(I36>0,(VLOOKUP($A36,#REF!,31,0)*I36),"") | EF36: =IF(J36>0,(VLOOKUP($A36,#REF!,29,0)*J36),"") | EG36: =IF(K36>0,(VLOOKUP($A36,#REF!,31,0)*K36),"") | EH36: =IF(L36>0,(VLOOKUP($A36,#REF!,29,0)*L36),"") | EI36: =IF(M36>0,(VLOOKUP($A36,#REF!,31,0)*M36),"") | EJ36: =IF(N36>0,(VLOOKUP($A36,#REF!,29,0)*N36),"") | EK36: =IF(O36>0,(VLOOKUP($A36,#REF!,31,0)*O36),"") | EL36: =IF(P36>0,(VLOOKUP($A36,#REF!,29,0)*P36),"") | EM36: =IF(Q36>0,(VLOOKUP($A36,#REF!,31,0)*Q36),"") | EN36: =IF(R36>0,(VLOOKUP($A36,#REF!,29,0)*R36),"") | EO36: =IF(S36>0,(VLOOKUP($A36,#REF!,31,0)*S36),"") | EP36: =IF(T36>0,(VLOOKUP($A36,#REF!,29,0)*T36),"") | EQ36: =IF(U36>0,(VLOOKUP($A36,#REF!,31,0)*U36),"") | ER36: =IF(V36>0,(VLOOKUP($A36,#REF!,29,0)*V36),"") | ES36: =IF(W36>0,(VLOOKUP($A36,#REF!,31,0)*W36),"") | ET36: =IF(X36>0,(VLOOKUP($A36,#REF!,29,0)*X36),"") | EU36: =IF(Y36>0,(VLOOKUP($A36,#REF!,31,0)*Y36),"") | EV36: =IF(Z36>0,(VLOOKUP($A36,#REF!,29,0)*Z36),"") | EW36: =IF(AA36>0,(VLOOKUP($A36,#REF!,31,0)*AA36),"") | EX36: =IF(AB36>0,(VLOOKUP($A36,#REF!,29,0)*AB36),"") | EY36: =IF(AC36>0,(VLOOKUP($A36,#REF!,31,0)*AC36),"") | EZ36: =IF(AD36>0,(VLOOKUP($A36,#REF!,29,0)*AD36),"") | FA36: =IF(AE36>0,(VLOOKUP($A36,#REF!,31,0)*AE36),"") | FB36: =IF(AF36>0,(VLOOKUP($A36,#REF!,29,0)*AF36),"") | FC36: =IF(AG36>0,(VLOOKUP($A36,#REF!,31,0)*AG36),"") | FD36: =IF(AH36>0,(VLOOKUP($A36,#REF!,29,0)*AH36),"") | FE36: =IF(AI36>0,(VLOOKUP($A36,#REF!,31,0)*AI36),"") | FF36: =IF(AJ36>0,(VLOOKUP($A36,#REF!,29,0)*AJ36),"") | FG36: =IF(AK36>0,(VLOOKUP($A36,#REF!,31,0)*AK36),"") | FH36: =IF(AL36>0,(VLOOKUP($A36,#REF!,29,0)*AL36),"") | FI36: =IF(AM36>0,(VLOOKUP($A36,#REF!,31,0)*AM36),"") | FJ36: =IF(AN36>0,(VLOOKUP($A36,#REF!,29,0)*AN36),"") | FK36: =IF(AO36>0,(VLOOKUP($A36,#REF!,31,0)*AO36),"") | FL36: =IF(AP36>0,(VLOOKUP($A36,#REF!,29,0)*AP36),"") | FM36: =IF(AQ36>0,(VLOOKUP($A36,#REF!,31,0)*AQ36),"") | FN36: =IF(AR36>0,(VLOOKUP($A36,#REF!,29,0)*AR36),"") | FO36: =IF(AS36>0,(VLOOKUP($A36,#REF!,31,0)*AS36),"") | FP36: =IF(AT36>0,(VLOOKUP($A36,#REF!,29,0)*AT36),"") | FQ36: =IF(AU36>0,(VLOOKUP($A36,#REF!,31,0)*AU36),"") | FR36: =IF(AV36>0,(VLOOKUP($A36,#REF!,29,0)*AV36),"") | FS36: =IF(AW36>0,(VLOOKUP($A36,#REF!,31,0)*AW36),"") | FT36: =IF(AX36>0,(VLOOKUP($A36,#REF!,29,0)*AX36),"") | FU36: =IF(AY36>0,(VLOOKUP($A36,#REF!,31,0)*AY36),"") | FV36: =IF(AZ36>0,(VLOOKUP($A36,#REF!,29,0)*AZ36),"") | FW36: =IF(BA36>0,(VLOOKUP($A36,#REF!,31,0)*BA36),"") | FX36: =IF(BB36>0,(VLOOKUP($A36,#REF!,29,0)*BB36),"") | FY36: =IF(BC36>0,(VLOOKUP($A36,#REF!,31,0)*BC36),"") | FZ36: =IF(BD36>0,(VLOOKUP($A36,#REF!,29,0)*BD36),"") | GA36: =IF(BE36>0,(VLOOKUP($A36,#REF!,31,0)*BE36),"") | GB36: =IF(BF36>0,(VLOOKUP($A36,#REF!,29,0)*BF36),"") | GC36: =IF(BG36>0,(VLOOKUP($A36,#REF!,31,0)*BG36),"") | GD36: =IF(BH36>0,(VLOOKUP($A36,#REF!,29,0)*BH36),"") | GE36: =IF(BI36>0,(VLOOKUP($A36,#REF!,31,0)*BI36),"") | GF36: =IF(BJ36>0,(VLOOKUP($A36,#REF!,29,0)*BJ36),"") | GG36: =IF(BK36>0,(VLOOKUP($A36,#REF!,31,0)*BK36),"") | GH36: =IF(BL36>0,(VLOOKUP($A36,#REF!,29,0)*BL36),"") | GI36: =IF(BM36>0,(VLOOKUP($A36,#REF!,31,0)*BM36),"") | GJ36: =IF(BN36>0,(VLOOKUP($A36,#REF!,29,0)*BN36),"") -> #REF! | GK36: =IF(BO36>0,(VLOOKUP($A36,#REF!,31,0)*BO36),"") -> #REF! | GL36: =IF(BP36>0,(VLOOKUP($A36,#REF!,29,0)*BP36),"") | GM36: =IF(BQ36>0,(VLOOKUP($A36,#REF!,31,0)*BQ36),"") | GN36: =IF(BR36>0,(VLOOKUP($A36,#REF!,29,0)*BR36),"") | GO36: =IF(BS36>0,(VLOOKUP($A36,#REF!,31,0)*BS36),"") | GP36: =IF(BT36>0,(VLOOKUP($A36,#REF!,29,0)*BT36),"") | GQ36: =IF(BU36>0,(VLOOKUP($A36,#REF!,31,0)*BU36),"") | GR36: =IF(BV36>0,(VLOOKUP($A36,#REF!,29,0)*BV36),"") | GS36: =IF(BW36>0,(VLOOKUP($A36,#REF!,31,0)*BW36),"") | GT36: =IF(BX36>0,(VLOOKUP($A36,#REF!,29,0)*BX36),"") | GU36: =IF(BY36>0,(VLOOKUP($A36,#REF!,31,0)*BY36),"") | GV36: =IF(BZ36>0,(VLOOKUP($A36,#REF!,29,0)*BZ36),"") | GW36: =IF(CA36>0,(VLOOKUP($A36,#REF!,31,0)*CA36),"") | GX36: =IF(CB36>0,(VLOOKUP($A36,#REF!,29,0)*CB36),"") | GY36: =IF(CC36>0,(VLOOKUP($A36,#REF!,31,0)*CC36),"") | GZ36: =IF(CD36>0,(VLOOKUP($A36,#REF!,29,0)*CD36),"") | HA36: =IF(CE36>0,(VLOOKUP($A36,#REF!,31,0)*CE36),"") | HB36: =IF(CF36>0,(VLOOKUP($A36,#REF!,29,0)*CF36),"") | HC36: =IF(CG36>0,(VLOOKUP($A36,#REF!,31,0)*CG36),"") | HD36: =IF(CH36>0,(VLOOKUP($A36,#REF!,29,0)*CH36),"") | HE36: =IF(CI36>0,(VLOOKUP($A36,#REF!,31,0)*CI36),"") | HF36: =IF(CJ36>0,(VLOOKUP($A36,#REF!,29,0)*CJ36),"") | HG36: =IF(CK36>0,(VLOOKUP($A36,#REF!,31,0)*CK36),"") | HH36: =IF(CL36>0,(VLOOKUP($A36,#REF!,29,0)*CL36),"") | HI36: =IF(CM36>0,(VLOOKUP($A36,#REF!,31,0)*CM36),"") | HJ36: =IF(CN36>0,(VLOOKUP($A36,#REF!,29,0)*CN36),"") | HK36: =IF(CO36>0,(VLOOKUP($A36,#REF!,31,0)*CO36),"") | HL36: =IF(CP36>0,(VLOOKUP($A36,#REF!,29,0)*CP36),"") | HM36: =IF(CQ36>0,(VLOOKUP($A36,#REF!,31,0)*CQ36),"") | HN36: =IF(CR36>0,(VLOOKUP($A36,#REF!,29,0)*CR36),"") | HO36: =IF(CS36>0,(VLOOKUP($A36,#REF!,31,0)*CS36),"") | HP36: =IF(CT36>0,(VLOOKUP($A36,#REF!,29,0)*CT36),"") | HQ36: =IF(CU36>0,(VLOOKUP($A36,#REF!,31,0)*CU36),"") | HR36: =IF(CV36>0,(VLOOKUP($A36,#REF!,29,0)*CV36),"") | HS36: =IF(CW36>0,(VLOOKUP($A36,#REF!,31,0)*CW36),"") | HT36: =IF(CX36>0,(VLOOKUP($A36,#REF!,29,0)*CX36),"") | HU36: =IF(CY36>0,(VLOOKUP($A36,#REF!,31,0)*CY36),"") | HV36: =IF(CZ36>0,(VLOOKUP($A36,#REF!,29,0)*CZ36),"") | HW36: =IF(DA36>0,(VLOOKUP($A36,#REF!,31,0)*DA36),"") | HX36: =IF(DB36>0,(VLOOKUP($A36,#REF!,29,0)*DB36),"") | HY36: =IF(DC36>0,(VLOOKUP($A36,#REF!,31,0)*DC36),"") | HZ36: =IF(DD36>0,(VLOOKUP($A36,#REF!,29,0)*DD36),"") | IA36: =IF(DE36>0,(VLOOKUP($A36,#REF!,31,0)*DE36),"") | IB36: =IF(DF36>0,(VLOOKUP($A36,#REF!,29,0)*DF36),"") | IC36: =IF(DG36>0,(VLOOKUP($A36,#REF!,31,0)*DG36),"")
A37: PZRHED | B37: ERD | C37: David | D37: =IF((DV37+DT37)>0,DV37+DT37,"") -> 142.5 | CP37: 113.5 | CQ37: 29 | DT37: =DL37+DI37+DF37+L37+CX37+BX37+AX37+AF37+AL37+BZ37+DB37+CR37+CP37+CL37+CH37+CF37+CD37+BN37+AR37+N37-DP37+DD37+BP37+CB37+Z37+CT37+BJ37+DR37+CZ37+CV37+CN37+CJ37+BV37+BT37+BR37+BL37+BH37+BF37+BD37+BB37+AZ37+AV37+AT37+AP37+AN37+AJ37+AH37+AD37+AB37+X37+V37+T37+R37+P37+J37+H37+F37 -> 113.5 | DU37: =(DT37*(VLOOKUP(A37,#REF!,29,0)))-(IF(DO37="x",MROUND(DP37*(VLOOKUP(A37,#REF!,29,0)*0.08),0.05),0)) -> #REF! | DV37: =DM37+DJ37+DG37+M37+CY37+BY37+AY37+AG37+AM37+CA37+DC37+CS37+CQ37+CM37+CI37+CG37+CE37+BO37+AS37+O37+DE37+BQ37+CC37+AA37+CU37+BK37+DA37+CW37+CO37+CK37+BW37+BU37+BS37+BM37+BI37+BG37+BE37+BC37+BA37+AW37+AU37+AQ37+AO37+AK37+AI37+AE37+AC37+Y37+W37+U37+S37+Q37+K37+I37+G37 -> 29 | DW37: =(DV37*(VLOOKUP(A37,#REF!,31,0))) -> #REF! | DX37: =VLOOKUP(A37,#REF!,33,0) -> #REF! | DY37: =DX37-(DW37+DU37) -> #REF! | DZ37: =IF(DY37=0,"","!!") -> #REF! | EB37: =IF(F37>0,(VLOOKUP($A37,#REF!,29,0)*F37),"") | EC37: =IF(G37>0,(VLOOKUP($A37,#REF!,31,0)*G37),"") | ED37: =IF(H37>0,(VLOOKUP($A37,#REF!,29,0)*H37),"") | EE37: =IF(I37>0,(VLOOKUP($A37,#REF!,31,0)*I37),"") | EF37: =IF(J37>0,(VLOOKUP($A37,#REF!,29,0)*J37),"") | EG37: =IF(K37>0,(VLOOKUP($A37,#REF!,31,0)*K37),"") | EH37: =IF(L37>0,(VLOOKUP($A37,#REF!,29,0)*L37),"") | EI37: =IF(M37>0,(VLOOKUP($A37,#REF!,31,0)*M37),"") | EJ37: =IF(N37>0,(VLOOKUP($A37,#REF!,29,0)*N37),"") | EK37: =IF(O37>0,(VLOOKUP($A37,#REF!,31,0)*O37),"") | EL37: =IF(P37>0,(VLOOKUP($A37,#REF!,29,0)*P37),"") | EM37: =IF(Q37>0,(VLOOKUP($A37,#REF!,31,0)*Q37),"") | EN37: =IF(R37>0,(VLOOKUP($A37,#REF!,29,0)*R37),"") | EO37: =IF(S37>0,(VLOOKUP($A37,#REF!,31,0)*S37),"") | EP37: =IF(T37>0,(VLOOKUP($A37,#REF!,29,0)*T37),"") | EQ37: =IF(U37>0,(VLOOKUP($A37,#REF!,31,0)*U37),"") | ER37: =IF(V37>0,(VLOOKUP($A37,#REF!,29,0)*V37),"") | ES37: =IF(W37>0,(VLOOKUP($A37,#REF!,31,0)*W37),"") | ET37: =IF(X37>0,(VLOOKUP($A37,#REF!,29,0)*X37),"") | EU37: =IF(Y37>0,(VLOOKUP($A37,#REF!,31,0)*Y37),"") | EV37: =IF(Z37>0,(VLOOKUP($A37,#REF!,29,0)*Z37),"") | EW37: =IF(AA37>0,(VLOOKUP($A37,#REF!,31,0)*AA37),"") | EX37: =IF(AB37>0,(VLOOKUP($A37,#REF!,29,0)*AB37),"") | EY37: =IF(AC37>0,(VLOOKUP($A37,#REF!,31,0)*AC37),"") | EZ37: =IF(AD37>0,(VLOOKUP($A37,#REF!,29,0)*AD37),"") | FA37: =IF(AE37>0,(VLOOKUP($A37,#REF!,31,0)*AE37),"") | FB37: =IF(AF37>0,(VLOOKUP($A37,#REF!,29,0)*AF37),"") | FC37: =IF(AG37>0,(VLOOKUP($A37,#REF!,31,0)*AG37),"") | FD37: =IF(AH37>0,(VLOOKUP($A37,#REF!,29,0)*AH37),"") | FE37: =IF(AI37>0,(VLOOKUP($A37,#REF!,31,0)*AI37),"") | FF37: =IF(AJ37>0,(VLOOKUP($A37,#REF!,29,0)*AJ37),"") | FG37: =IF(AK37>0,(VLOOKUP($A37,#REF!,31,0)*AK37),"") | FH37: =IF(AL37>0,(VLOOKUP($A37,#REF!,29,0)*AL37),"") | FI37: =IF(AM37>0,(VLOOKUP($A37,#REF!,31,0)*AM37),"") | FJ37: =IF(AN37>0,(VLOOKUP($A37,#REF!,29,0)*AN37),"") | FK37: =IF(AO37>0,(VLOOKUP($A37,#REF!,31,0)*AO37),"") | FL37: =IF(AP37>0,(VLOOKUP($A37,#REF!,29,0)*AP37),"") | FM37: =IF(AQ37>0,(VLOOKUP($A37,#REF!,31,0)*AQ37),"") | FN37: =IF(AR37>0,(VLOOKUP($A37,#REF!,29,0)*AR37),"") | FO37: =IF(AS37>0,(VLOOKUP($A37,#REF!,31,0)*AS37),"") | FP37: =IF(AT37>0,(VLOOKUP($A37,#REF!,29,0)*AT37),"") | FQ37: =IF(AU37>0,(VLOOKUP($A37,#REF!,31,0)*AU37),"") | FR37: =IF(AV37>0,(VLOOKUP($A37,#REF!,29,0)*AV37),"") | FS37: =IF(AW37>0,(VLOOKUP($A37,#REF!,31,0)*AW37),"") | FT37: =IF(AX37>0,(VLOOKUP($A37,#REF!,29,0)*AX37),"") | FU37: =IF(AY37>0,(VLOOKUP($A37,#REF!,31,0)*AY37),"") | FV37: =IF(AZ37>0,(VLOOKUP($A37,#REF!,29,0)*AZ37),"") | FW37: =IF(BA37>0,(VLOOKUP($A37,#REF!,31,0)*BA37),"") | FX37: =IF(BB37>0,(VLOOKUP($A37,#REF!,29,0)*BB37),"") | FY37: =IF(BC37>0,(VLOOKUP($A37,#REF!,31,0)*BC37),"") | FZ37: =IF(BD37>0,(VLOOKUP($A37,#REF!,29,0)*BD37),"") | GA37: =IF(BE37>0,(VLOOKUP($A37,#REF!,31,0)*BE37),"") | GB37: =IF(BF37>0,(VLOOKUP($A37,#REF!,29,0)*BF37),"") | GC37: =IF(BG37>0,(VLOOKUP($A37,#REF!,31,0)*BG37),"") | GD37: =IF(BH37>0,(VLOOKUP($A37,#REF!,29,0)*BH37),"") | GE37: =IF(BI37>0,(VLOOKUP($A37,#REF!,31,0)*BI37),"") | GF37: =IF(BJ37>0,(VLOOKUP($A37,#REF!,29,0)*BJ37),"") | GG37: =IF(BK37>0,(VLOOKUP($A37,#REF!,31,0)*BK37),"") | GH37: =IF(BL37>0,(VLOOKUP($A37,#REF!,29,0)*BL37),"") | GI37: =IF(BM37>0,(VLOOKUP($A37,#REF!,31,0)*BM37),"") | GJ37: =IF(BN37>0,(VLOOKUP($A37,#REF!,29,0)*BN37),"") | GK37: =IF(BO37>0,(VLOOKUP($A37,#REF!,31,0)*BO37),"") | GL37: =IF(BP37>0,(VLOOKUP($A37,#REF!,29,0)*BP37),"") | GM37: =IF(BQ37>0,(VLOOKUP($A37,#REF!,31,0)*BQ37),"") | GN37: =IF(BR37>0,(VLOOKUP($A37,#REF!,29,0)*BR37),"") | GO37: =IF(BS37>0,(VLOOKUP($A37,#REF!,31,0)*BS37),"") | GP37: =IF(BT37>0,(VLOOKUP($A37,#REF!,29,0)*BT37),"") | GQ37: =IF(BU37>0,(VLOOKUP($A37,#REF!,31,0)*BU37),"") | GR37: =IF(BV37>0,(VLOOKUP($A37,#REF!,29,0)*BV37),"") | GS37: =IF(BW37>0,(VLOOKUP($A37,#REF!,31,0)*BW37),"") | GT37: =IF(BX37>0,(VLOOKUP($A37,#REF!,29,0)*BX37),"") | GU37: =IF(BY37>0,(VLOOKUP($A37,#REF!,31,0)*BY37),"") | GV37: =IF(BZ37>0,(VLOOKUP($A37,#REF!,29,0)*BZ37),"") | GW37: =IF(CA37>0,(VLOOKUP($A37,#REF!,31,0)*CA37),"") | GX37: =IF(CB37>0,(VLOOKUP($A37,#REF!,29,0)*CB37),"") | GY37: =IF(CC37>0,(VLOOKUP($A37,#REF!,31,0)*CC37),"") | GZ37: =IF(CD37>0,(VLOOKUP($A37,#REF!,29,0)*CD37),"") | HA37: =IF(CE37>0,(VLOOKUP($A37,#REF!,31,0)*CE37),"") | HB37: =IF(CF37>0,(VLOOKUP($A37,#REF!,29,0)*CF37),"") | HC37: =IF(CG37>0,(VLOOKUP($A37,#REF!,31,0)*CG37),"") | HD37: =IF(CH37>0,(VLOOKUP($A37,#REF!,29,0)*CH37),"") | HE37: =IF(CI37>0,(VLOOKUP($A37,#REF!,31,0)*CI37),"") | HF37: =IF(CJ37>0,(VLOOKUP($A37,#REF!,29,0)*CJ37),"") | HG37: =IF(CK37>0,(VLOOKUP($A37,#REF!,31,0)*CK37),"") | HH37: =IF(CL37>0,(VLOOKUP($A37,#REF!,29,0)*CL37),"") | HI37: =IF(CM37>0,(VLOOKUP($A37,#REF!,31,0)*CM37),"") | HJ37: =IF(CN37>0,(VLOOKUP($A37,#REF!,29,0)*CN37),"") | HK37: =IF(CO37>0,(VLOOKUP($A37,#REF!,31,0)*CO37),"") | HL37: =IF(CP37>0,(VLOOKUP($A37,#REF!,29,0)*CP37),"") -> #REF! | HM37: =IF(CQ37>0,(VLOOKUP($A37,#REF!,31,0)*CQ37),"") -> #REF! | HN37: =IF(CR37>0,(VLOOKUP($A37,#REF!,29,0)*CR37),"") | HO37: =IF(CS37>0,(VLOOKUP($A37,#REF!,31,0)*CS37),"") | HP37: =IF(CT37>0,(VLOOKUP($A37,#REF!,29,0)*CT37),"") | HQ37: =IF(CU37>0,(VLOOKUP($A37,#REF!,31,0)*CU37),"") | HR37: =IF(CV37>0,(VLOOKUP($A37,#REF!,29,0)*CV37),"") | HS37: =IF(CW37>0,(VLOOKUP($A37,#REF!,31,0)*CW37),"") | HT37: =IF(CX37>0,(VLOOKUP($A37,#REF!,29,0)*CX37),"") | HU37: =IF(CY37>0,(VLOOKUP($A37,#REF!,31,0)*CY37),"") | HV37: =IF(CZ37>0,(VLOOKUP($A37,#REF!,29,0)*CZ37),"") | HW37: =IF(DA37>0,(VLOOKUP($A37,#REF!,31,0)*DA37),"") | HX37: =IF(DB37>0,(VLOOKUP($A37,#REF!,29,0)*DB37),"") | HY37: =IF(DC37>0,(VLOOKUP($A37,#REF!,31,0)*DC37),"") | HZ37: =IF(DD37>0,(VLOOKUP($A37,#REF!,29,0)*DD37),"") | IA37: =IF(DE37>0,(VLOOKUP($A37,#REF!,31,0)*DE37),"") | IB37: =IF(DF37>0,(VLOOKUP($A37,#REF!,29,0)*DF37),"") | IC37: =IF(DG37>0,(VLOOKUP($A37,#REF!,31,0)*DG37),"")
A38: PZRHFV | B38: FOEHN | C38: Vannaphone | D38: =IF((DV38+DT38)>0,DV38+DT38,"") -> 162.5 | BJ38: 20 | BX38: 38.5 | BY38: 9 | CF38: 87 | CR38: 8 | DT38: =DL38+DI38+DF38+L38+CX38+BX38+AX38+AF38+AL38+BZ38+DB38+CR38+CP38+CL38+CH38+CF38+CD38+BN38+AR38+N38-DP38+DD38+BP38+CB38+Z38+CT38+BJ38+DR38+CZ38+CV38+CN38+CJ38+BV38+BT38+BR38+BL38+BH38+BF38+BD38+BB38+AZ38+AV38+AT38+AP38+AN38+AJ38+AH38+AD38+AB38+X38+V38+T38+R38+P38+J38+H38+F38 -> 153.5 | DU38: =(DT38*(VLOOKUP(A38,#REF!,29,0)))-(IF(DO38="x",MROUND(DP38*(VLOOKUP(A38,#REF!,29,0)*0.08),0.05),0)) -> #REF! | DV38: =DM38+DJ38+DG38+M38+CY38+BY38+AY38+AG38+AM38+CA38+DC38+CS38+CQ38+CM38+CI38+CG38+CE38+BO38+AS38+O38+DE38+BQ38+CC38+AA38+CU38+BK38+DA38+CW38+CO38+CK38+BW38+BU38+BS38+BM38+BI38+BG38+BE38+BC38+BA38+AW38+AU38+AQ38+AO38+AK38+AI38+AE38+AC38+Y38+W38+U38+S38+Q38+K38+I38+G38 -> 9 | DW38: =(DV38*(VLOOKUP(A38,#REF!,31,0))) -> #REF! | DX38: =VLOOKUP(A38,#REF!,33,0) -> #REF! | DY38: =DX38-(DW38+DU38) -> #REF! | DZ38: =IF(DY38=0,"","!!") -> #REF! | EB38: =IF(F38>0,(VLOOKUP($A38,#REF!,29,0)*F38),"") | EC38: =IF(G38>0,(VLOOKUP($A38,#REF!,31,0)*G38),"") | ED38: =IF(H38>0,(VLOOKUP($A38,#REF!,29,0)*H38),"") | EE38: =IF(I38>0,(VLOOKUP($A38,#REF!,31,0)*I38),"") | EF38: =IF(J38>0,(VLOOKUP($A38,#REF!,29,0)*J38),"") | EG38: =IF(K38>0,(VLOOKUP($A38,#REF!,31,0)*K38),"") | EH38: =IF(L38>0,(VLOOKUP($A38,#REF!,29,0)*L38),"") | EI38: =IF(M38>0,(VLOOKUP($A38,#REF!,31,0)*M38),"") | EJ38: =IF(N38>0,(VLOOKUP($A38,#REF!,29,0)*N38),"") | EK38: =IF(O38>0,(VLOOKUP($A38,#REF!,31,0)*O38),"") | EL38: =IF(P38>0,(VLOOKUP($A38,#REF!,29,0)*P38),"") | EM38: =IF(Q38>0,(VLOOKUP($A38,#REF!,31,0)*Q38),"") | EN38: =IF(R38>0,(VLOOKUP($A38,#REF!,29,0)*R38),"") | EO38: =IF(S38>0,(VLOOKUP($A38,#REF!,31,0)*S38),"") | EP38: =IF(T38>0,(VLOOKUP($A38,#REF!,29,0)*T38),"") | EQ38: =IF(U38>0,(VLOOKUP($A38,#REF!,31,0)*U38),"") | ER38: =IF(V38>0,(VLOOKUP($A38,#REF!,29,0)*V38),"") | ES38: =IF(W38>0,(VLOOKUP($A38,#REF!,31,0)*W38),"") | ET38: =IF(X38>0,(VLOOKUP($A38,#REF!,29,0)*X38),"") | EU38: =IF(Y38>0,(VLOOKUP($A38,#REF!,31,0)*Y38),"") | EV38: =IF(Z38>0,(VLOOKUP($A38,#REF!,29,0)*Z38),"") | EW38: =IF(AA38>0,(VLOOKUP($A38,#REF!,31,0)*AA38),"") | EX38: =IF(AB38>0,(VLOOKUP($A38,#REF!,29,0)*AB38),"") | EY38: =IF(AC38>0,(VLOOKUP($A38,#REF!,31,0)*AC38),"") | EZ38: =IF(AD38>0,(VLOOKUP($A38,#REF!,29,0)*AD38),"") | FA38: =IF(AE38>0,(VLOOKUP($A38,#REF!,31,0)*AE38),"") | FB38: =IF(AF38>0,(VLOOKUP($A38,#REF!,29,0)*AF38),"") | FC38: =IF(AG38>0,(VLOOKUP($A38,#REF!,31,0)*AG38),"") | FD38: =IF(AH38>0,(VLOOKUP($A38,#REF!,29,0)*AH38),"") | FE38: =IF(AI38>0,(VLOOKUP($A38,#REF!,31,0)*AI38),"") | FF38: =IF(AJ38>0,(VLOOKUP($A38,#REF!,29,0)*AJ38),"") | FG38: =IF(AK38>0,(VLOOKUP($A38,#REF!,31,0)*AK38),"") | FH38: =IF(AL38>0,(VLOOKUP($A38,#REF!,29,0)*AL38),"") | FI38: =IF(AM38>0,(VLOOKUP($A38,#REF!,31,0)*AM38),"") | FJ38: =IF(AN38>0,(VLOOKUP($A38,#REF!,29,0)*AN38),"") | FK38: =IF(AO38>0,(VLOOKUP($A38,#REF!,31,0)*AO38),"") | FL38: =IF(AP38>0,(VLOOKUP($A38,#REF!,29,0)*AP38),"") | FM38: =IF(AQ38>0,(VLOOKUP($A38,#REF!,31,0)*AQ38),"") | FN38: =IF(AR38>0,(VLOOKUP($A38,#REF!,29,0)*AR38),"") | FO38: =IF(AS38>0,(VLOOKUP($A38,#REF!,31,0)*AS38),"") | FP38: =IF(AT38>0,(VLOOKUP($A38,#REF!,29,0)*AT38),"") | FQ38: =IF(AU38>0,(VLOOKUP($A38,#REF!,31,0)*AU38),"") | FR38: =IF(AV38>0,(VLOOKUP($A38,#REF!,29,0)*AV38),"") | FS38: =IF(AW38>0,(VLOOKUP($A38,#REF!,31,0)*AW38),"") | FT38: =IF(AX38>0,(VLOOKUP($A38,#REF!,29,0)*AX38),"") | FU38: =IF(AY38>0,(VLOOKUP($A38,#REF!,31,0)*AY38),"") | FV38: =IF(AZ38>0,(VLOOKUP($A38,#REF!,29,0)*AZ38),"") | FW38: =IF(BA38>0,(VLOOKUP($A38,#REF!,31,0)*BA38),"") | FX38: =IF(BB38>0,(VLOOKUP($A38,#REF!,29,0)*BB38),"") | FY38: =IF(BC38>0,(VLOOKUP($A38,#REF!,31,0)*BC38),"") | FZ38: =IF(BD38>0,(VLOOKUP($A38,#REF!,29,0)*BD38),"") | GA38: =IF(BE38>0,(VLOOKUP($A38,#REF!,31,0)*BE38),"") | GB38: =IF(BF38>0,(VLOOKUP($A38,#REF!,29,0)*BF38),"") | GC38: =IF(BG38>0,(VLOOKUP($A38,#REF!,31,0)*BG38),"") | GD38: =IF(BH38>0,(VLOOKUP($A38,#REF!,29,0)*BH38),"") | GE38: =IF(BI38>0,(VLOOKUP($A38,#REF!,31,0)*BI38),"") | GF38: =IF(BJ38>0,(VLOOKUP($A38,#REF!,29,0)*BJ38),"") -> #REF! | GG38: =IF(BK38>0,(VLOOKUP($A38,#REF!,31,0)*BK38),"") | GH38: =IF(BL38>0,(VLOOKUP($A38,#REF!,29,0)*BL38),"") | GI38: =IF(BM38>0,(VLOOKUP($A38,#REF!,31,0)*BM38),"") | GJ38: =IF(BN38>0,(VLOOKUP($A38,#REF!,29,0)*BN38),"") | GK38: =IF(BO38>0,(VLOOKUP($A38,#REF!,31,0)*BO38),"") | GL38: =IF(BP38>0,(VLOOKUP($A38,#REF!,29,0)*BP38),"") | GM38: =IF(BQ38>0,(VLOOKUP($A38,#REF!,31,0)*BQ38),"") | GN38: =IF(BR38>0,(VLOOKUP($A38,#REF!,29,0)*BR38),"") | GO38: =IF(BS38>0,(VLOOKUP($A38,#REF!,31,0)*BS38),"") | GP38: =IF(BT38>0,(VLOOKUP($A38,#REF!,29,0)*BT38),"") | GQ38: =IF(BU38>0,(VLOOKUP($A38,#REF!,31,0)*BU38),"") | GR38: =IF(BV38>0,(VLOOKUP($A38,#REF!,29,0)*BV38),"") | GS38: =IF(BW38>0,(VLOOKUP($A38,#REF!,31,0)*BW38),"") | GT38: =IF(BX38>0,(VLOOKUP($A38,#REF!,29,0)*BX38),"") -> #REF! | GU38: =IF(BY38>0,(VLOOKUP($A38,#REF!,31,0)*BY38),"") -> #REF! | GV38: =IF(BZ38>0,(VLOOKUP($A38,#REF!,29,0)*BZ38),"") | GW38: =IF(CA38>0,(VLOOKUP($A38,#REF!,31,0)*CA38),"") | GX38: =IF(CB38>0,(VLOOKUP($A38,#REF!,29,0)*CB38),"") | GY38: =IF(CC38>0,(VLOOKUP($A38,#REF!,31,0)*CC38),"") | GZ38: =IF(CD38>0,(VLOOKUP($A38,#REF!,29,0)*CD38),"") | HA38: =IF(CE38>0,(VLOOKUP($A38,#REF!,31,0)*CE38),"") | HB38: =IF(CF38>0,(VLOOKUP($A38,#REF!,29,0)*CF38),"") -> #REF! | HC38: =IF(CG38>0,(VLOOKUP($A38,#REF!,31,0)*CG38),"") | HD38: =IF(CH38>0,(VLOOKUP($A38,#REF!,29,0)*CH38),"") | HE38: =IF(CI38>0,(VLOOKUP($A38,#REF!,31,0)*CI38),"") | HF38: =IF(CJ38>0,(VLOOKUP($A38,#REF!,29,0)*CJ38),"") | HG38: =IF(CK38>0,(VLOOKUP($A38,#REF!,31,0)*CK38),"") | HH38: =IF(CL38>0,(VLOOKUP($A38,#REF!,29,0)*CL38),"") | HI38: =IF(CM38>0,(VLOOKUP($A38,#REF!,31,0)*CM38),"") | HJ38: =IF(CN38>0,(VLOOKUP($A38,#REF!,29,0)*CN38),"") | HK38: =IF(CO38>0,(VLOOKUP($A38,#REF!,31,0)*CO38),"") | HL38: =IF(CP38>0,(VLOOKUP($A38,#REF!,29,0)*CP38),"") | HM38: =IF(CQ38>0,(VLOOKUP($A38,#REF!,31,0)*CQ38),"") | HN38: =IF(CR38>0,(VLOOKUP($A38,#REF!,29,0)*CR38),"") -> #REF! | HO38: =IF(CS38>0,(VLOOKUP($A38,#REF!,31,0)*CS38),"") | HP38: =IF(CT38>0,(VLOOKUP($A38,#REF!,29,0)*CT38),"") | HQ38: =IF(CU38>0,(VLOOKUP($A38,#REF!,31,0)*CU38),"") | HR38: =IF(CV38>0,(VLOOKUP($A38,#REF!,29,0)*CV38),"") | HS38: =IF(CW38>0,(VLOOKUP($A38,#REF!,31,0)*CW38),"") | HT38: =IF(CX38>0,(VLOOKUP($A38,#REF!,29,0)*CX38),"") | HU38: =IF(CY38>0,(VLOOKUP($A38,#REF!,31,0)*CY38),"") | HV38: =IF(CZ38>0,(VLOOKUP($A38,#REF!,29,0)*CZ38),"") | HW38: =IF(DA38>0,(VLOOKUP($A38,#REF!,31,0)*DA38),"") | HX38: =IF(DB38>0,(VLOOKUP($A38,#REF!,29,0)*DB38),"") | HY38: =IF(DC38>0,(VLOOKUP($A38,#REF!,31,0)*DC38),"") | HZ38: =IF(DD38>0,(VLOOKUP($A38,#REF!,29,0)*DD38),"") | IA38: =IF(DE38>0,(VLOOKUP($A38,#REF!,31,0)*DE38),"") | IB38: =IF(DF38>0,(VLOOKUP($A38,#REF!,29,0)*DF38),"") | IC38: =IF(DG38>0,(VLOOKUP($A38,#REF!,31,0)*DG38),"")
A39: PZRHGI | B39: GARCIA | C39: Ivan | D39: =IF((DV39+DT39)>0,DV39+DT39,"") -> 173 | BN39: 173 | DT39: =DL39+DI39+DF39+L39+CX39+BX39+AX39+AF39+AL39+BZ39+DB39+CR39+CP39+CL39+CH39+CF39+CD39+BN39+AR39+N39-DP39+DD39+BP39+CB39+Z39+CT39+BJ39+DR39+CZ39+CV39+CN39+CJ39+BV39+BT39+BR39+BL39+BH39+BF39+BD39+BB39+AZ39+AV39+AT39+AP39+AN39+AJ39+AH39+AD39+AB39+X39+V39+T39+R39+P39+J39+H39+F39 -> 173 | DU39: =(DT39*(VLOOKUP(A39,#REF!,29,0)))-(IF(DO39="x",MROUND(DP39*(VLOOKUP(A39,#REF!,29,0)*0.08),0.05),0)) -> #REF! | DV39: =DM39+DJ39+DG39+M39+CY39+BY39+AY39+AG39+AM39+CA39+DC39+CS39+CQ39+CM39+CI39+CG39+CE39+BO39+AS39+O39+DE39+BQ39+CC39+AA39+CU39+BK39+DA39+CW39+CO39+CK39+BW39+BU39+BS39+BM39+BI39+BG39+BE39+BC39+BA39+AW39+AU39+AQ39+AO39+AK39+AI39+AE39+AC39+Y39+W39+U39+S39+Q39+K39+I39+G39 -> 0 | DW39: =(DV39*(VLOOKUP(A39,#REF!,31,0))) -> #REF! | DX39: =VLOOKUP(A39,#REF!,33,0) -> #REF! | DY39: =DX39-(DW39+DU39) -> #REF! | DZ39: =IF(DY39=0,"","!!") -> #REF! | EB39: =IF(F39>0,(VLOOKUP($A39,#REF!,29,0)*F39),"") | EC39: =IF(G39>0,(VLOOKUP($A39,#REF!,31,0)*G39),"") | ED39: =IF(H39>0,(VLOOKUP($A39,#REF!,29,0)*H39),"") | EE39: =IF(I39>0,(VLOOKUP($A39,#REF!,31,0)*I39),"") | EF39: =IF(J39>0,(VLOOKUP($A39,#REF!,29,0)*J39),"") | EG39: =IF(K39>0,(VLOOKUP($A39,#REF!,31,0)*K39),"") | EH39: =IF(L39>0,(VLOOKUP($A39,#REF!,29,0)*L39),"") | EI39: =IF(M39>0,(VLOOKUP($A39,#REF!,31,0)*M39),"") | EJ39: =IF(N39>0,(VLOOKUP($A39,#REF!,29,0)*N39),"") | EK39: =IF(O39>0,(VLOOKUP($A39,#REF!,31,0)*O39),"") | EL39: =IF(P39>0,(VLOOKUP($A39,#REF!,29,0)*P39),"") | EM39: =IF(Q39>0,(VLOOKUP($A39,#REF!,31,0)*Q39),"") | EN39: =IF(R39>0,(VLOOKUP($A39,#REF!,29,0)*R39),"") | EO39: =IF(S39>0,(VLOOKUP($A39,#REF!,31,0)*S39),"") | EP39: =IF(T39>0,(VLOOKUP($A39,#REF!,29,0)*T39),"") | EQ39: =IF(U39>0,(VLOOKUP($A39,#REF!,31,0)*U39),"") | ER39: =IF(V39>0,(VLOOKUP($A39,#REF!,29,0)*V39),"") | ES39: =IF(W39>0,(VLOOKUP($A39,#REF!,31,0)*W39),"") | ET39: =IF(X39>0,(VLOOKUP($A39,#REF!,29,0)*X39),"") | EU39: =IF(Y39>0,(VLOOKUP($A39,#REF!,31,0)*Y39),"") | EV39: =IF(Z39>0,(VLOOKUP($A39,#REF!,29,0)*Z39),"") | EW39: =IF(AA39>0,(VLOOKUP($A39,#REF!,31,0)*AA39),"") | EX39: =IF(AB39>0,(VLOOKUP($A39,#REF!,29,0)*AB39),"") | EY39: =IF(AC39>0,(VLOOKUP($A39,#REF!,31,0)*AC39),"") | EZ39: =IF(AD39>0,(VLOOKUP($A39,#REF!,29,0)*AD39),"") | FA39: =IF(AE39>0,(VLOOKUP($A39,#REF!,31,0)*AE39),"") | FB39: =IF(AF39>0,(VLOOKUP($A39,#REF!,29,0)*AF39),"") | FC39: =IF(AG39>0,(VLOOKUP($A39,#REF!,31,0)*AG39),"") | FD39: =IF(AH39>0,(VLOOKUP($A39,#REF!,29,0)*AH39),"") | FE39: =IF(AI39>0,(VLOOKUP($A39,#REF!,31,0)*AI39),"") | FF39: =IF(AJ39>0,(VLOOKUP($A39,#REF!,29,0)*AJ39),"") | FG39: =IF(AK39>0,(VLOOKUP($A39,#REF!,31,0)*AK39),"") | FH39: =IF(AL39>0,(VLOOKUP($A39,#REF!,29,0)*AL39),"") | FI39: =IF(AM39>0,(VLOOKUP($A39,#REF!,31,0)*AM39),"") | FJ39: =IF(AN39>0,(VLOOKUP($A39,#REF!,29,0)*AN39),"") | FK39: =IF(AO39>0,(VLOOKUP($A39,#REF!,31,0)*AO39),"") | FL39: =IF(AP39>0,(VLOOKUP($A39,#REF!,29,0)*AP39),"") | FM39: =IF(AQ39>0,(VLOOKUP($A39,#REF!,31,0)*AQ39),"") | FN39: =IF(AR39>0,(VLOOKUP($A39,#REF!,29,0)*AR39),"") | FO39: =IF(AS39>0,(VLOOKUP($A39,#REF!,31,0)*AS39),"") | FP39: =IF(AT39>0,(VLOOKUP($A39,#REF!,29,0)*AT39),"") | FQ39: =IF(AU39>0,(VLOOKUP($A39,#REF!,31,0)*AU39),"") | FR39: =IF(AV39>0,(VLOOKUP($A39,#REF!,29,0)*AV39),"") | FS39: =IF(AW39>0,(VLOOKUP($A39,#REF!,31,0)*AW39),"") | FT39: =IF(AX39>0,(VLOOKUP($A39,#REF!,29,0)*AX39),"") | FU39: =IF(AY39>0,(VLOOKUP($A39,#REF!,31,0)*AY39),"") | FV39: =IF(AZ39>0,(VLOOKUP($A39,#REF!,29,0)*AZ39),"") | FW39: =IF(BA39>0,(VLOOKUP($A39,#REF!,31,0)*BA39),"") | FX39: =IF(BB39>0,(VLOOKUP($A39,#REF!,29,0)*BB39),"") | FY39: =IF(BC39>0,(VLOOKUP($A39,#REF!,31,0)*BC39),"") | FZ39: =IF(BD39>0,(VLOOKUP($A39,#REF!,29,0)*BD39),"") | GA39: =IF(BE39>0,(VLOOKUP($A39,#REF!,31,0)*BE39),"") | GB39: =IF(BF39>0,(VLOOKUP($A39,#REF!,29,0)*BF39),"") | GC39: =IF(BG39>0,(VLOOKUP($A39,#REF!,31,0)*BG39),"") | GD39: =IF(BH39>0,(VLOOKUP($A39,#REF!,29,0)*BH39),"") | GE39: =IF(BI39>0,(VLOOKUP($A39,#REF!,31,0)*BI39),"") | GF39: =IF(BJ39>0,(VLOOKUP($A39,#REF!,29,0)*BJ39),"") | GG39: =IF(BK39>0,(VLOOKUP($A39,#REF!,31,0)*BK39),"") | GH39: =IF(BL39>0,(VLOOKUP($A39,#REF!,29,0)*BL39),"") | GI39: =IF(BM39>0,(VLOOKUP($A39,#REF!,31,0)*BM39),"") | GJ39: =IF(BN39>0,(VLOOKUP($A39,#REF!,29,0)*BN39),"") -> #REF! | GK39: =IF(BO39>0,(VLOOKUP($A39,#REF!,31,0)*BO39),"") | GL39: =IF(BP39>0,(VLOOKUP($A39,#REF!,29,0)*BP39),"") | GM39: =IF(BQ39>0,(VLOOKUP($A39,#REF!,31,0)*BQ39),"") | GN39: =IF(BR39>0,(VLOOKUP($A39,#REF!,29,0)*BR39),"") | GO39: =IF(BS39>0,(VLOOKUP($A39,#REF!,31,0)*BS39),"") | GP39: =IF(BT39>0,(VLOOKUP($A39,#REF!,29,0)*BT39),"") | GQ39: =IF(BU39>0,(VLOOKUP($A39,#REF!,31,0)*BU39),"") | GR39: =IF(BV39>0,(VLOOKUP($A39,#REF!,29,0)*BV39),"") | GS39: =IF(BW39>0,(VLOOKUP($A39,#REF!,31,0)*BW39),"") | GT39: =IF(BX39>0,(VLOOKUP($A39,#REF!,29,0)*BX39),"") | GU39: =IF(BY39>0,(VLOOKUP($A39,#REF!,31,0)*BY39),"") | GV39: =IF(BZ39>0,(VLOOKUP($A39,#REF!,29,0)*BZ39),"") | GW39: =IF(CA39>0,(VLOOKUP($A39,#REF!,31,0)*CA39),"") | GX39: =IF(CB39>0,(VLOOKUP($A39,#REF!,29,0)*CB39),"") | GY39: =IF(CC39>0,(VLOOKUP($A39,#REF!,31,0)*CC39),"") | GZ39: =IF(CD39>0,(VLOOKUP($A39,#REF!,29,0)*CD39),"") | HA39: =IF(CE39>0,(VLOOKUP($A39,#REF!,31,0)*CE39),"") | HB39: =IF(CF39>0,(VLOOKUP($A39,#REF!,29,0)*CF39),"") | HC39: =IF(CG39>0,(VLOOKUP($A39,#REF!,31,0)*CG39),"") | HD39: =IF(CH39>0,(VLOOKUP($A39,#REF!,29,0)*CH39),"") | HE39: =IF(CI39>0,(VLOOKUP($A39,#REF!,31,0)*CI39),"") | HF39: =IF(CJ39>0,(VLOOKUP($A39,#REF!,29,0)*CJ39),"") | HG39: =IF(CK39>0,(VLOOKUP($A39,#REF!,31,0)*CK39),"") | HH39: =IF(CL39>0,(VLOOKUP($A39,#REF!,29,0)*CL39),"") | HI39: =IF(CM39>0,(VLOOKUP($A39,#REF!,31,0)*CM39),"") | HJ39: =IF(CN39>0,(VLOOKUP($A39,#REF!,29,0)*CN39),"") | HK39: =IF(CO39>0,(VLOOKUP($A39,#REF!,31,0)*CO39),"") | HL39: =IF(CP39>0,(VLOOKUP($A39,#REF!,29,0)*CP39),"") | HM39: =IF(CQ39>0,(VLOOKUP($A39,#REF!,31,0)*CQ39),"") | HN39: =IF(CR39>0,(VLOOKUP($A39,#REF!,29,0)*CR39),"") | HO39: =IF(CS39>0,(VLOOKUP($A39,#REF!,31,0)*CS39),"") | HP39: =IF(CT39>0,(VLOOKUP($A39,#REF!,29,0)*CT39),"") | HQ39: =IF(CU39>0,(VLOOKUP($A39,#REF!,31,0)*CU39),"") | HR39: =IF(CV39>0,(VLOOKUP($A39,#REF!,29,0)*CV39),"") | HS39: =IF(CW39>0,(VLOOKUP($A39,#REF!,31,0)*CW39),"") | HT39: =IF(CX39>0,(VLOOKUP($A39,#REF!,29,0)*CX39),"") | HU39: =IF(CY39>0,(VLOOKUP($A39,#REF!,31,0)*CY39),"") | HV39: =IF(CZ39>0,(VLOOKUP($A39,#REF!,29,0)*CZ39),"") | HW39: =IF(DA39>0,(VLOOKUP($A39,#REF!,31,0)*DA39),"") | HX39: =IF(DB39>0,(VLOOKUP($A39,#REF!,29,0)*DB39),"") | HY39: =IF(DC39>0,(VLOOKUP($A39,#REF!,31,0)*DC39),"") | HZ39: =IF(DD39>0,(VLOOKUP($A39,#REF!,29,0)*DD39),"") | IA39: =IF(DE39>0,(VLOOKUP($A39,#REF!,31,0)*DE39),"") | IB39: =IF(DF39>0,(VLOOKUP($A39,#REF!,29,0)*DF39),"") | IC39: =IF(DG39>0,(VLOOKUP($A39,#REF!,31,0)*DG39),"")
