Workbook
Name CLIENTS: #REF!
Name MAIN_CLIENTS: #REF!

Sheet 3. Old Detailed Planning
A1: PARTEMA CH - CLIENTS DETAILED PLANNING
B2: Processing Period : | C2: =#REF! -> #REF!
C4: CLIENT ==> | F4: Advini | H4: AEGERTER (SA BPGA) | J4: Agora Trad Lux | L4: Bacardi | N4: BAT (ou via Brand Venue) | P4: Beam Suntory | R4: Beluga | T4: Brown Forman | V4: Bulgari | X4: Camille Bloch | Z4: Campari | AB4: Camus cognac | AD4: Château d'Estoublon | AF4: Clarins | AH4: Coty via Airport Staff | AJ4: Council Intelligence Retail | AL4: Davidoff | AN4: Dior | AP4: Distell | AR4: Dufry | AT4: Edrington | AV4: REVLON - ELISABETH ARDEN | AX4: Favarger | AZ4: Ferrero | BB4: Fossil | BD4: Godiva | BF4: Goldkenn | BH4: Haecky Drinks | BJ4: ITG | BL4: Jordan Design | BN4: JTI | BP4: Lagardere TR | BR4: Lateltin | BT4: Laurent Perrier | BV4: Lindt | BX4: LVMH Fragrances | BZ4: Maestrani | CB4: Mars | CD4: Moët Hennessy | CF4: Mondelez | CH4: NESTLE | CJ4: Nuxe | CL4: Pernod Ricard | CN4: Piper Heidsieck | CP4: PMI | CR4: Remy Cointreau | CT4: Ricola AG | CV4: Stolichnaya | CX4: Villars-Valrhona | CZ4: Waldemar Behn | DB4: William Grant & Sons | DD4: BRAND NAME | DF4: BRAND NAME | DI4: TRAINING | DL4: MANAGEMENT - STRUCTURE | DO4: SICKNESS | DR4: PAID HOLIDAYS | DT4: TOTAL HOURS CALCULATION & COST | EB4: Advini | ED4: AEGERTER (SA BPGA) | EF4: Agora Trad Lux | EH4: Bacardi | EJ4: BAT (ou via Brand Venue) | EL4: Beam Suntory | EN4: Beluga | EP4: Brown Forman | ER4: Bulgari | ET4: Camille Bloch | EV4: Campari | EX4: Camus Cognac | EZ4: Château d'Estoublon | FB4: Clarins | FD4: Coty via Airport Staff | FF4: Council Intelligence Retail | FH4: Davidoff | FJ4: Dior | FL4: Distell | FN4: Dufry | FP4: Edrington | FR4: REVLON - ELISABETH ARDEN | FT4: Favarger | FV4: Ferrero | FX4: Fossil | FZ4: Godiva | GB4: Goldkenn | GD4: Haecky Drinks | GF4: ITG | GH4: Jordan Design | GJ4: JTI | GL4: Lagardere TR | GN4: Lateltin | GP4: Laurent Perrier | GR4: Lindt | GT4: LVMH Fragrances | GV4: Maestrani | GX4: Mars | GZ4: Moët Hennessy | HB4: Mondelez | HD4: NESTLE | HF4: Nuxe | HH4: Pernod Ricard | HJ4: Piper Heidsieck | HL4: PMI | HN4: Remy Cointreau | HP4: Ricola AG | HR4: Stolichnaya | HT4: Villars-Valrhona | HV4: Waldemar Behn | HX4: William Grant & Sons | HZ4: BRAND NAME | IB4: BRAND NAME | IE4: TOTAL BRANDS COST
F5: Week hours | G5: Sunday / BH hours | H5: Week hours | I5: Sunday / BH hours | J5: Week hours | K5: Sunday / BH hours | L5: Week hours | M5: Sunday / BH hours | N5: Week hours | O5: Sunday / BH hours | P5: Week hours | Q5: Sunday / BH hours | R5: Week hours | S5: Sunday / BH hours | T5: Week hours | U5: Sunday / BH hours | V5: Week hours | W5: Sunday / BH hours | X5: Week hours | Y5: Sunday / BH hours | Z5: Week hours | AA5: Sunday / BH hours | AB5: Week hours | AC5: Sunday / BH hours | AD5: Week hours | AE5: Sunday / BH hours | AF5: Week hours | AG5: Sunday / BH hours | AH5: Week hours | AI5: Sunday / BH hours | AJ5: Week hours | AK5: Sunday / BH hours | AL5: Week hours | AM5: Sunday / BH hours | AN5: Week hours | AO5: Sunday / BH hours | AP5: Week hours | AQ5: Sunday / BH hours | AR5: Week hours | AS5: Sunday / BH hours | AT5: Week hours | AU5: Sunday / BH hours | AV5: Week hours | AW5: Sunday / BH hours | AX5: Week hours | AY5: Sunday / BH hours | AZ5: Week hours | BA5: Sunday / BH hours | BB5: Week hours | BC5: Sunday / BH hours | BD5: Week hours | BE5: Sunday / BH hours | BF5: Week hours | BG5: Sunday / BH hours | BH5: Week hours | BI5: Sunday / BH hours | BJ5: Week hours | BK5: Sunday / BH hours | BL5: Week hours | BM5: Sunday / BH hours | BN5: Week hours | BO5: Sunday / BH hours | BP5: Week hours | BQ5: Sunday / BH hours | BR5: Week hours | BS5: Sunday / BH hours | BT5: Week hours | BU5: Sunday / BH hours | BV5: Week hours | BW5: Sunday / BH hours | BX5: Week hours | BY5: Sunday / BH hours | BZ5: Week hours | CA5: Sunday / BH hours | CB5: Week hours | CC5: Sunday / BH hours | CD5: Week hours | CE5: Sunday / BH hours | CF5: Week hours | CG5: Sunday / BH hours | CH5: Week hours | CI5: Sunday / BH hours | CJ5: Week hours | CK5: Sunday / BH hours | CL5: Week hours | CM5: Sunday / BH hours | CN5: Week hours | CO5: Sunday / BH hours | CP5: Week hours | CQ5: Sunday / BH hours | CR5: Week hours | CS5: Sunday / BH hours | CT5: Week hours | CU5: Sunday / BH hours | CV5: Week hours | CW5: Sunday / BH hours | CX5: Week hours | CY5: Sunday / BH hours | CZ5: Week hours | DA5: Sunday / BH hours | DB5: Week hours | DC5: Sunday / BH hours | DD5: Week hours | DE5: Sunday / BH hours | DF5: Week hours | DG5: Sunday / BH hours | DI5: Week hours | DJ5: Sunday / BH hours | DL5: Week hours | DM5: Sunday / BH hours | DO5: x = certificate | DP5: Total hours | DR5: Week hours | DT5: Total REGULAR HOURS | DU5: COST | DV5: Total SUNDAY / BH hours | DW5: COST | DX5: TOTAL COST | DY5: CHECK | DZ5: CHECK | EB5: Week hours | EC5: Sunday / BH hours | ED5: Week hours | EE5: Sunday / BH hours | EF5: Week hours | EG5: Sunday / BH hours | EH5: Week hours | EI5: Sunday / BH hours | EJ5: Week hours | EK5: Sunday / BH hours | EL5: Week hours | EM5: Sunday / BH hours | EN5: Week hours | EO5: Sunday / BH hours | EP5: Week hours | EQ5: Sunday / BH hours | ER5: Week hours | ES5: Sunday / BH hours | ET5: Week hours | EU5: Sunday / BH hours | EV5: Week hours | EW5: Sunday / BH hours | EX5: Week hours | EY5: Sunday / BH hours | EZ5: Week hours | FA5: Sunday / BH hours | FB5: Week hours | FC5: Sunday / BH hours | FD5: Week hours | FE5: Sunday / BH hours | FF5: Week hours | FG5: Sunday / BH hours | FH5: Week hours | FI5: Sunday / BH hours | FJ5: Week hours | FK5: Sunday / BH hours | FL5: Week hours | FM5: Sunday / BH hours | FN5: Week hours | FO5: Sunday / BH hours | FP5: Week hours | FQ5: Sunday / BH hours | FR5: Week hours | FS5: Sunday / BH hours | FT5: Week hours | FU5: Sunday / BH hours | FV5: Week hours | FW5: Sunday / BH hours | FX5: Week hours | FY5: Sunday / BH hours | FZ5: Week hours | GA5: Sunday / BH hours | GB5: Week hours | GC5: Sunday / BH hours | GD5: Week hours | GE5: Sunday / BH hours | GF5: Week hours | GG5: Sunday / BH hours | GH5: Week hours | GI5: Sunday / BH hours | GJ5: Week hours | GK5: Sunday / BH hours | GL5: Week hours | GM5: Sunday / BH hours | GN5: Week hours | GO5: Sunday / BH hours | GP5: Week hours | GQ5: Sunday / BH hours | GR5: Week hours | GS5: Sunday / BH hours | GT5: Week hours | GU5: Sunday / BH hours | GV5: Week hours | GW5: Sunday / BH hours | GX5: Week hours | GY5: Sunday / BH hours | GZ5: Week hours | HA5: Sunday / BH hours | HB5: Week hours | HC5: Sunday / BH hours | HD5: Week hours | HE5: Sunday / BH hours | HF5: Week hours | HG5: Sunday / BH hours | HH5: Week hours | HI5: Sunday / BH hours | HJ5: Week hours | HK5: Sunday / BH hours | HL5: Week hours | HM5: Sunday / BH hours | HN5: Week hours | HO5: Sunday / BH hours | HP5: Week hours | HQ5: Sunday / BH hours | HR5: Week hours | HS5: Sunday / BH hours | HT5: Week hours | HU5: Sunday / BH hours | HV5: Week hours | HW5: Sunday / BH hours | HX5: Week hours | HY5: Sunday / BH hours | HZ5: Week hours | IA5: Sunday / BH hours | IB5: Week hours | IC5: Sunday / BH hours
B6: Employee's Name | F6: h | G6: h | H6: h | I6: h | J6: h | K6: h | L6: h | M6: h | N6: h | O6: h | P6: h | Q6: h | R6: h | S6: h | T6: h | U6: h | V6: h | W6: h | X6: h | Y6: h | Z6: h | AA6: h | AB6: h | AC6: h | AD6: h | AE6: h | AF6: h | AG6: h | AH6: h | AI6: h | AJ6: h | AK6: h | AL6: h | AM6: h | AN6: h | AO6: h | AP6: h | AQ6: h | AR6: h | AS6: h | AT6: h | AU6: h | AV6: h | AW6: h | AX6: h | AY6: h | AZ6: h | BA6: h | BB6: h | BC6: h | BD6: h | BE6: h | BF6: h | BG6: h | BH6: h | BI6: h | BJ6: h | BK6: h | BL6: h | BM6: h | BN6: h | BO6: h | BP6: h | BQ6: h | BR6: h | BS6: h | BT6: h | BU6: h | BV6: h | BW6: h | BX6: h | BY6: h | BZ6: h | CA6: h | CB6: h | CC6: h | CD6: h | CE6: h | CF6: h | CG6: h | CH6: h | CI6: h | CJ6: h | CK6: h | CL6: h | CM6: h | CN6: h | CO6: h | CP6: h | CQ6: h | CR6: h | CS6: h | CT6: h | CU6: h | CV6: h | CW6: h | CX6: h | CY6: h | CZ6: h | DA6: h | DB6: h | DC6: h | DD6: h | DE6: h | DF6: h | DG6: h | DI6: h | DJ6: h | DL6: h | DM6: h | DP6: h | DR6: h | DT6: h | DV6: h | EB6: CHF | EC6: CHF | ED6: CHF | EE6: CHF | EF6: CHF | EG6: CHF | EH6: CHF | EI6: CHF | EJ6: CHF | EK6: CHF | EL6: CHF | EM6: CHF | EN6: CHF | EO6: CHF | EP6: CHF | EQ6: CHF | ER6: CHF | ES6: CHF | ET6: CHF | EU6: CHF | EV6: CHF | EW6: CHF | EX6: CHF | EY6: CHF | EZ6: CHF | FA6: CHF | FB6: CHF | FC6: CHF | FD6: CHF | FE6: CHF | FF6: CHF | FG6: CHF | FH6: CHF | FI6: CHF | FJ6: CHF | FK6: CHF | FL6: CHF | FM6: CHF | FN6: CHF | FO6: CHF | FP6: CHF | FQ6: CHF | FR6: CHF | FS6: CHF | FT6: CHF | FU6: CHF | FV6: CHF | FW6: CHF | FX6: CHF | FY6: CHF | FZ6: CHF | GA6: CHF | GB6: CHF | GC6: CHF | GD6: CHF | GE6: CHF | GF6: CHF | GG6: CHF | GH6: CHF | GI6: CHF | GJ6: CHF | GK6: CHF | GL6: CHF | GM6: CHF | GN6: CHF | GO6: CHF | GP6: CHF | GQ6: CHF | GR6: CHF | GS6: CHF | GT6: CHF | GU6: CHF | GV6: CHF | GW6: CHF | GX6: CHF | GY6: CHF | GZ6: CHF | HA6: CHF | HB6: CHF | HC6: CHF | HD6: CHF | HE6: CHF | HF6: CHF | HG6: CHF | HH6: CHF | HI6: CHF | HJ6: CHF | HK6: CHF | HL6: CHF | HM6: CHF | HN6: CHF | HO6: CHF | HP6: CHF | HQ6: CHF | HR6: CHF | HS6: CHF | HT6: CHF | HU6: CHF | HV6: CHF | HW6: CHF | HX6: CHF | HY6: CHF | HZ6: CHF | IA6: CHF | IB6: CHF | IC6: CHF
F7: =F4 -> Advini | G7: =F7 -> Advini | H7: =H4 -> AEGERTER (SA BPGA) | I7: =H7 -> AEGERTER (SA BPGA) | J7: =J4 -> Agora Trad Lux | K7: =J7 -> Agora Trad Lux | L7: =L4 -> Bacardi | M7: =L7 -> Bacardi | N7: =N4 -> BAT (ou via Brand Venue) | O7: =N7 -> BAT (ou via Brand Venue) | P7: =P4 -> Beam Suntory | Q7: =P7 -> Beam Suntory | R7: =R4 -> Beluga | S7: =R7 -> Beluga | T7: =T4 -> Brown Forman | U7: =T7 -> Brown Forman | V7: =V4 -> Bulgari | W7: =V7 -> Bulgari | X7: =X4 -> Camille Bloch | Y7: =X7 -> Camille Bloch | Z7: =Z4 -> Campari | AA7: =Z7 -> Campari | AB7: =AB4 -> Camus cognac | AC7: =AB7 -> Camus cognac | AD7: =AD4 -> Château d'Estoublon | AE7: =AD7 -> Château d'Estoublon | AF7: =AF4 -> Clarins | AG7: =AF7 -> Clarins | AH7: =AH4 -> Coty via Airport Staff | AI7: =AH7 -> Coty via Airport Staff | AJ7: =AJ4 -> Council Intelligence Retail | AK7: =AJ7 -> Council Intelligence Retail | AL7: =AL4 -> Davidoff | AM7: =AL7 -> Davidoff | AN7: =AN4 -> Dior | AO7: =AN7 -> Dior | AP7: =AP4 -> Distell | AQ7: =AP7 -> Distell | AR7: =AR4 -> Dufry | AS7: =AR7 -> Dufry | AT7: =AT4 -> Edrington | AU7: =AT7 -> Edrington | AV7: =AV4 -> REVLON - ELISABETH ARDEN | AW7: =AV7 -> REVLON - ELISABETH ARDEN | AX7: =AX4 -> Favarger | AY7: =AX7 -> Favarger | AZ7: =AZ4 -> Ferrero | BA7: =AZ7 -> Ferrero | BB7: =BB4 -> Fossil | BC7: =BB7 -> Fossil | BD7: =BD4 -> Godiva | BE7: =BD7 -> Godiva | BF7: =BF4 -> Goldkenn | BG7: =BF7 -> Goldkenn | BH7: =BH4 -> Haecky Drinks | BI7: =BH7 -> Haecky Drinks | BJ7: =BJ4 -> ITG | BK7: =BJ7 -> ITG | BL7: =BL4 -> Jordan Design | BM7: =BL7 -> Jordan Design | BN7: =BN4 -> JTI | BO7: =BN7 -> JTI | BP7: =BP4 -> Lagardere TR | BQ7: =BP7 -> Lagardere TR | BR7: =BR4 -> Lateltin | BS7: =BR7 -> Lateltin | BT7: =BT4 -> Laurent Perrier | BU7: =BT7 -> Laurent Perrier | BV7: =BV4 -> Lindt | BW7: =BV7 -> Lindt | BX7: =BX4 -> LVMH Fragrances | BY7: =BX7 -> LVMH Fragrances | BZ7: =BZ4 -> Maestrani | CA7: =BZ7 -> Maestrani | CB7: =CB4 -> Mars | CC7: =CB7 -> Mars | CD7: =CD4 -> Moët Hennessy | CE7: =CD7 -> Moët Hennessy | CF7: =CF4 -> Mondelez | CG7: =CF7 -> Mondelez | CH7: =CH4 -> NESTLE | CI7: =CH7 -> NESTLE | CJ7: =CJ4 -> Nuxe | CK7: =CJ7 -> Nuxe | CL7: =CL4 -> Pernod Ricard | CM7: =CL7 -> Pernod Ricard | CN7: =CN4 -> Piper Heidsieck | CO7: =CN7 -> Piper Heidsieck | CP7: =CP4 -> PMI | CQ7: =CP7 -> PMI | CR7: =CR4 -> Remy Cointreau | CS7: =CR7 -> Remy Cointreau | CT7: =CT4 -> Ricola AG | CU7: =CT7 -> Ricola AG | CV7: =CV4 -> Stolichnaya | CW7: =CV7 -> Stolichnaya | CX7: =CX4 -> Villars-Valrhona | CY7: =CX7 -> Villars-Valrhona | CZ7: =CZ4 -> Waldemar Behn | DA7: =CZ7 -> Waldemar Behn | DB7: =DB4 -> William Grant & Sons | DC7: =DB7 -> William Grant & Sons | DD7: =DD4 -> BRAND NAME | DE7: =DD7 -> BRAND NAME | DF7: =DF4 -> BRAND NAME | DG7: =DF7 -> BRAND NAME | EC7: =EB4 -> Advini | EE7: =ED4 -> AEGERTER (SA BPGA) | EG7: =EF4 -> Agora Trad Lux | EI7: =EH4 -> Bacardi | EK7: =EJ4 -> BAT (ou via Brand Venue) | EM7: =EL4 -> Beam Suntory | EO7: =EN4 -> Beluga | EQ7: =EP4 -> Brown Forman | ES7: =ER4 -> Bulgari | EU7: =ET4 -> Camille Bloch | EW7: =EV4 -> Campari | EY7: =EX4 -> Camus Cognac | FA7: =EZ4 -> Château d'Estoublon | FC7: =FB4 -> Clarins | FE7: =FD4 -> Coty via Airport Staff | FG7: =FF4 -> Council Intelligence Retail | FI7: =FH4 -> Davidoff | FK7: =FJ4 -> Dior | FM7: =FL4 -> Distell | FO7: =FN4 -> Dufry | FQ7: =FP4 -> Edrington | FS7: =FR4 -> REVLON - ELISABETH ARDEN | FU7: =FT4 -> Favarger | FW7: =FV4 -> Ferrero | FY7: =FX4 -> Fossil | GA7: =FZ4 -> Godiva | GC7: =GB4 -> Goldkenn | GE7: =GD4 -> Haecky Drinks | GG7: =GF4 -> ITG | GI7: =GH4 -> Jordan Design | GK7: =GJ4 -> JTI | GM7: =GL4 -> Lagardere TR | GO7: =GN4 -> Lateltin | GQ7: =GP4 -> Laurent Perrier | GS7: =GR4 -> Lindt | GU7: =GT4 -> LVMH Fragrances | GW7: =GV4 -> Maestrani | GY7: =GX4 -> Mars | HA7: =GZ4 -> Moët Hennessy | HC7: =HB4 -> Mondelez | HE7: =HD4 -> NESTLE | HG7: =HF4 -> Nuxe | HI7: =HH4 -> Pernod Ricard | HK7: =HJ4 -> Piper Heidsieck | HM7: =HL4 -> PMI | HO7: =HN4 -> Remy Cointreau | HQ7: =HP4 -> Ricola AG | HS7: =HR4 -> Stolichnaya | HU7: =HT4 -> Villars-Valrhona | HW7: =HV4 -> Waldemar Behn | HY7: =HX4 -> William Grant & Sons | IA7: =HZ4 -> BRAND NAME | IC7: =IB4 -> BRAND NAME
D8: GRAND TOTAL PER BRAND : | F8: =F24+F63+F88+F99 -> 0 | G8: =G24+G63+G88+G99 -> 0 | H8: =H24+H63+H88+H99 -> 0 | I8: =I24+I63+I88+I99 -> 0 | J8: =J24+J63+J88+J99 -> 0 | K8: =K24+K63+K88+K99 -> 0 | L8: =L24+L63+L88+L99 -> 330.75 | M8: =M24+M63+M88+M99 -> 63.25 | ... DG8: =DG24+DG63+DG88+DG99 -> 0 | DI8: =DI24+DI63+DI88+DI99 -> 13 | DJ8: =DJ24+DJ63+DJ88+DJ99 -> 0 | DL8: =DL24+DL63+DL88+DL99 -> 868.5 | DM8: =DM24+DM63+DM88+DM99 -> 31 | DN8: =IF((#REF!+#REF!+#REF!+#REF!+#REF!+#REF!+#REF!+#REF!+#REF!+#REF!)=#REF!,"","!!") -> #REF! | DO8: =DO24+DO63+DO88+DO99 -> 6 | DP8: =DP24+DP63+DP88+DP99 -> 174 | DR8: =DR24+DR63+DR88+DR99 -> 184 | DT8: =DL8+DI8+DF8+L8+CX8+BX8+AX8+AF8+AL8+BZ8+DB8+CR8+CP8+CL8+CH8+CF8+CD8+BN8+AR8+N8-DP8+DD8+BP8+CB8+Z8+CT8+BJ8+DR8+CZ8+CV8+CN8+CJ8+BV8+BT8+BR8+BL8+BH8+BF8+BD8+BB8+AZ8+AV8+AT8+AP8+AN8+AJ8+AH8+AD8+AB8+X8+V8+T8+R8+P8+J8+H8+F8 -> 6445.25 | DU8: =DU24+DU63+DU88+DU99 -> #REF! | DV8: =DM8+DJ8+DG8+M8+CY8+BY8+AY8+AG8+AM8+CA8+DC8+CS8+CQ8+CM8+CI8+CG8+CE8+BO8+AS8+O8+DE8+BQ8+CC8+AA8+CU8+BK8+DA8+CW8+CO8+CK8+BW8+BU8+BS8+BM8+BI8+BG8+BE8+BC8+BA8+AW8+AU8+AQ8+AO8+AK8+AI8+AE8+AC8+Y8+W8+U8+S8+Q8+K8+I8+G8 -> 846.9 | DW8: =DW24+DW63+DW88+DW99 -> #REF! | DX8: =DW8+DU8 -> #REF! | DY8: =DX8-(DW8+DU8) -> #REF! | DZ8: =IF(DY8=0,"","!!") -> #REF! | EB8: =EB24+EB63+EB88+EB99 -> 0 | EC8: =EC24+EC63+EC88+EC99 -> 0 | ED8: =ED24+ED63+ED88+ED99 -> 0 | EE8: =EE24+EE63+EE88+EE99 -> 0 | EF8: =EF24+EF63+EF88+EF99 -> 0 | EG8: =EG24+EG63+EG88+EG99 -> 0 | EH8: =EH24+EH63+EH88+EH99 -> #REF! | EI8: =EI24+EI63+EI88+EI99 -> #REF! | ... IC8: =IC24+IC63+IC88+IC99 -> 0 | IE8: =IE24+IE63+IE88+IE99 -> #REF! | IF8: =IF24+IF63+IF88+IF99 -> #REF!
B9: 1 | C9: 2 | D9: 3 | F9: 5 | G9: 6 | H9: 7 | I9: 8 | J9: 9 | K9: 10 | L9: 11 | M9: 12 | N9: 13 | O9: 14 | P9: 15 | Q9: 16 | R9: 17 | S9: 18 | T9: 19 | U9: 20 | V9: 21 | W9: 22 | X9: 23 | Y9: 24 | Z9: 27 | AA9: 28 | AB9: 25 | AC9: 26 | AD9: 29 | AE9: 30 | AF9: 31 | AG9: 32 | AH9: 33 | AI9: 34 | AJ9: 35 | AK9: 36 | AL9: 85 | AM9: 86 | AN9: 37 | AO9: 38 | AP9: 39 | AQ9: 40 | AR9: 41 | AS9: 42 | AT9: 43 | AU9: 44 | AV9: 45 | AW9: 46 | AX9: 47 | AY9: 48 | AZ9: 49 | BA9: 50 | BB9: 51 | BC9: 52 | BD9: 53 | BE9: 54 | BF9: 55 | BG9: 56 | BH9: 57 | BI9: 58 | BJ9: 59 | BK9: 60 | BL9: 61 | BM9: 62 | BN9: 63 | BO9: 64 | BP9: 105 | BQ9: 106 | BR9: 65 | BS9: 66 | BT9: 67 | BU9: 68 | BV9: 69 | BW9: 70 | BX9: 71 | BY9: 72 | BZ9: 73 | CA9: 74 | CB9: 75 | CC9: 76 | CD9: 77 | CE9: 78 | CF9: 79 | CG9: 80 | CH9: 81 | CI9: 82 | CJ9: 83 | CK9: 84 | CL9: 87 | CM9: 88 | CN9: 89 | CO9: 90 | CP9: 91 | CQ9: 92 | CR9: 93 | CS9: 94 | CT9: 95 | CU9: 96 | CV9: 97 | CW9: 98 | CX9: 99 | CY9: 100 | CZ9: 101 | DA9: 102 | DB9: 103 | DC9: 104 | DD9: 107 | DE9: 108 | DF9: 109 | DG9: 110 | DH9: 111 | DI9: 112 | DJ9: 113 | DK9: 114 | DL9: 115 | DM9: 116 | DN9: 117 | DO9: 118 | DP9: 119 | DQ9: 120 | DR9: 121 | DS9: 122 | DT9: 123 | DU9: 124 | DV9: 125 | DW9: 126 | DX9: 127 | EC9: =EC8+EB8 -> 0 | EE9: =EE8+ED8 -> 0 | EG9: =EG8+EF8 -> 0 | EI9: =EI8+EH8 -> #REF! | EK9: =EK8+EJ8 -> 0 | EM9: =EM8+EL8 -> 0 | EO9: =EO8+EN8 -> 0 | EQ9: =EQ8+EP8 -> 0 | ES9: =ES8+ER8 -> 0 | EU9: =EU8+ET8 -> 0 | EW9: =EW8+EV8 -> 0 | EY9: =EY8+EX8 -> #REF! | FA9: =FA8+EZ8 -> 0 | FC9: =FC8+FB8 -> #REF! | FE9: =FE8+FD8 -> 0 | FG9: =FG8+FF8 -> 0 | FI9: =FI8+FH8 -> #REF! | FK9: =FK8+FJ8 -> 0 | FM9: =FM8+FL8 -> 0 | FO9: =FO8+FN8 -> #REF! | FQ9: =FQ8+FP8 -> 0 | FS9: =FS8+FR8 -> 0 | FU9: =FU8+FT8 -> #REF! | FW9: =FW8+FV8 -> 0 | FY9: =FY8+FX8 -> 0 | GA9: =GA8+FZ8 -> 0 | GC9: =GC8+GB8 -> 0 | GE9: =GE8+GD8 -> 0 | GG9: =GG8+GF8 -> #REF! | GI9: =GI8+GH8 -> 0 | GK9: =GK8+GJ8 -> #REF! | GM9: =GM8+GL8 -> 0 | GO9: =GO8+GN8 -> 0 | GQ9: =GQ8+GP8 -> 0 | GS9: =GS8+GR8 -> 0 | GU9: =GU8+GT8 -> #REF! | GW9: =GW8+GV8 -> 0 | GY9: =GY8+GX8 -> 0 | HA9: =HA8+GZ8 -> #REF! | HC9: =HC8+HB8 -> #REF! | HE9: =HE8+HD8 -> #REF! | HG9: =HG8+HF8 -> 0 | HI9: =HI8+HH8 -> #REF! | HK9: =HK8+HJ8 -> 0 | HM9: =HM8+HL8 -> #REF! | HO9: =HO8+HN8 -> #REF! | HQ9: =HQ8+HP8 -> 0 | HS9: =HS8+HR8 -> 0 | HU9: =HU8+HT8 -> #REF! | HW9: =HW8+HV8 -> 0 | HY9: =HY8+HX8 -> #REF! | IA9: =IA8+HZ8 -> 0 | IC9: =IC8+IB8 -> 0 | IF9: =IF8+IE8 -> #REF!
A10: Code | B10: BASEL - PRODUCTION
A11: PBSLBE | B11: BILLOUDET | C11: Emilie | D11: =IF((DV11+DT11)>0,DV11+DT11,"") | DT11: =DL11+DI11+DF11+L11+CX11+BX11+AX11+AF11+AL11+BZ11+DB11+CR11+CP11+CL11+CH11+CF11+CD11+BN11+AR11+N11-DP11+DD11+BP11+CB11+Z11+CT11+BJ11+DR11+CZ11+CV11+CN11+CJ11+BV11+BT11+BR11+BL11+BH11+BF11+BD11+BB11+AZ11+AV11+AT11+AP11+AN11+AJ11+AH11+AD11+AB11+X11+V11+T11+R11+P11+J11+H11+F11 -> 0 | DU11: =(DT11*(VLOOKUP(A11,#REF!,29,0)))-(IF(DO11="x",MROUND(DP11*(VLOOKUP(A11,#REF!,29,0)*0.08),0.05),0)) -> #REF! | DV11: =DM11+DJ11+DG11+M11+CY11+BY11+AY11+AG11+AM11+CA11+DC11+CS11+CQ11+CM11+CI11+CG11+CE11+BO11+AS11+O11+DE11+BQ11+CC11+AA11+CU11+BK11+DA11+CW11+CO11+CK11+BW11+BU11+BS11+BM11+BI11+BG11+BE11+BC11+BA11+AW11+AU11+AQ11+AO11+AK11+AI11+AE11+AC11+Y11+W11+U11+S11+Q11+K11+I11+G11 -> 0 | DW11: =(DV11*(VLOOKUP(A11,#REF!,31,0))) -> #REF! | DX11: =VLOOKUP(A11,#REF!,33,0) -> #REF! | DY11: =DX11-(DW11+DU11) -> #REF! | DZ11: =IF(DY11=0,"","!!") -> #REF! | EB11: =IF(F11>0,(VLOOKUP($A11,#REF!,29,0)*F11),"") | EC11: =IF(G11>0,(VLOOKUP($A11,#REF!,31,0)*G11),"") | ED11: =IF(H11>0,(VLOOKUP($A11,#REF!,29,0)*H11),"") | EE11: =IF(I11>0,(VLOOKUP($A11,#REF!,31,0)*I11),"") | EF11: =IF(J11>0,(VLOOKUP($A11,#REF!,29,0)*J11),"") | EG11: =IF(K11>0,(VLOOKUP($A11,#REF!,31,0)*K11),"") | EH11: =IF(L11>0,(VLOOKUP($A11,#REF!,29,0)*L11),"") | EI11: =IF(M11>0,(VLOOKUP($A11,#REF!,31,0)*M11),"") | EJ11: =IF(N11>0,(VLOOKUP($A11,#REF!,29,0)*N11),"") | EK11: =IF(O11>0,(VLOOKUP($A11,#REF!,31,0)*O11),"") | EL11: =IF(P11>0,(VLOOKUP($A11,#REF!,29,0)*P11),"") | EM11: =IF(Q11>0,(VLOOKUP($A11,#REF!,31,0)*Q11),"") | EN11: =IF(R11>0,(VLOOKUP($A11,#REF!,29,0)*R11),"") | EO11: =IF(S11>0,(VLOOKUP($A11,#REF!,31,0)*S11),"") | EP11: =IF(T11>0,(VLOOKUP($A11,#REF!,29,0)*T11),"") | EQ11: =IF(U11>0,(VLOOKUP($A11,#REF!,31,0)*U11),"") | ER11: =IF(V11>0,(VLOOKUP($A11,#REF!,29,0)*V11),"") | ES11: =IF(W11>0,(VLOOKUP($A11,#REF!,31,0)*W11),"") | ET11: =IF(X11>0,(VLOOKUP($A11,#REF!,29,0)*X11),"") | EU11: =IF(Y11>0,(VLOOKUP($A11,#REF!,31,0)*Y11),"") | EV11: =IF(Z11>0,(VLOOKUP($A11,#REF!,29,0)*Z11),"") | EW11: =IF(AA11>0,(VLOOKUP($A11,#REF!,31,0)*AA11),"") | EX11: =IF(AB11>0,(VLOOKUP($A11,#REF!,29,0)*AB11),"") | EY11: =IF(AC11>0,(VLOOKUP($A11,#REF!,31,0)*AC11),"") | EZ11: =IF(AD11>0,(VLOOKUP($A11,#REF!,29,0)*AD11),"") | FA11: =IF(AE11>0,(VLOOKUP($A11,#REF!,31,0)*AE11),"") | FB11: =IF(AF11>0,(VLOOKUP($A11,#REF!,29,0)*AF11),"") | FC11: =IF(AG11>0,(VLOOKUP($A11,#REF!,31,0)*AG11),"") | FD11: =IF(AH11>0,(VLOOKUP($A11,#REF!,29,0)*AH11),"") | FE11: =IF(AI11>0,(VLOOKUP($A11,#REF!,31,0)*AI11),"") | FF11: =IF(AJ11>0,(VLOOKUP($A11,#REF!,29,0)*AJ11),"") | FG11: =IF(AK11>0,(VLOOKUP($A11,#REF!,31,0)*AK11),"") | FH11: =IF(AL11>0,(VLOOKUP($A11,#REF!,29,0)*AL11),"") | FI11: =IF(AM11>0,(VLOOKUP($A11,#REF!,31,0)*AM11),"") | FJ11: =IF(AN11>0,(VLOOKUP($A11,#REF!,29,0)*AN11),"") | FK11: =IF(AO11>0,(VLOOKUP($A11,#REF!,31,0)*AO11),"") | FL11: =IF(AP11>0,(VLOOKUP($A11,#REF!,29,0)*AP11),"") | FM11: =IF(AQ11>0,(VLOOKUP($A11,#REF!,31,0)*AQ11),"") | FN11: =IF(AR11>0,(VLOOKUP($A11,#REF!,29,0)*AR11),"") | FO11: =IF(AS11>0,(VLOOKUP($A11,#REF!,31,0)*AS11),"") | FP11: =IF(AT11>0,(VLOOKUP($A11,#REF!,29,0)*AT11),"") | FQ11: =IF(AU11>0,(VLOOKUP($A11,#REF!,31,0)*AU11),"") | FR11: =IF(AV11>0,(VLOOKUP($A11,#REF!,29,0)*AV11),"") | FS11: =IF(AW11>0,(VLOOKUP($A11,#REF!,31,0)*AW11),"") | FT11: =IF(AX11>0,(VLOOKUP($A11,#REF!,29,0)*AX11),"") | FU11: =IF(AY11>0,(VLOOKUP($A11,#REF!,31,0)*AY11),"") | FV11: =IF(AZ11>0,(VLOOKUP($A11,#REF!,29,0)*AZ11),"") | FW11: =IF(BA11>0,(VLOOKUP($A11,#REF!,31,0)*BA11),"") | FX11: =IF(BB11>0,(VLOOKUP($A11,#REF!,29,0)*BB11),"") | FY11: =IF(BC11>0,(VLOOKUP($A11,#REF!,31,0)*BC11),"") | FZ11: =IF(BD11>0,(VLOOKUP($A11,#REF!,29,0)*BD11),"") | GA11: =IF(BE11>0,(VLOOKUP($A11,#REF!,31,0)*BE11),"") | GB11: =IF(BF11>0,(VLOOKUP($A11,#REF!,29,0)*BF11),"") | GC11: =IF(BG11>0,(VLOOKUP($A11,#REF!,31,0)*BG11),"") | GD11: =IF(BH11>0,(VLOOKUP($A11,#REF!,29,0)*BH11),"") | GE11: =IF(BI11>0,(VLOOKUP($A11,#REF!,31,0)*BI11),"") | GF11: =IF(BJ11>0,(VLOOKUP($A11,#REF!,29,0)*BJ11),"") | GG11: =IF(BK11>0,(VLOOKUP($A11,#REF!,31,0)*BK11),"") | GH11: =IF(BL11>0,(VLOOKUP($A11,#REF!,29,0)*BL11),"") | GI11: =IF(BM11>0,(VLOOKUP($A11,#REF!,31,0)*BM11),"") | GJ11: =IF(BN11>0,(VLOOKUP($A11,#REF!,29,0)*BN11),"") | GK11: =IF(BO11>0,(VLOOKUP($A11,#REF!,31,0)*BO11),"") | GL11: =IF(BP11>0,(VLOOKUP($A11,#REF!,29,0)*BP11),"") | GM11: =IF(BQ11>0,(VLOOKUP($A11,#REF!,31,0)*BQ11),"") | GN11: =IF(BR11>0,(VLOOKUP($A11,#REF!,29,0)*BR11),"") | GO11: =IF(BS11>0,(VLOOKUP($A11,#REF!,31,0)*BS11),"") | GP11: =IF(BT11>0,(VLOOKUP($A11,#REF!,29,0)*BT11),"") | GQ11: =IF(BU11>0,(VLOOKUP($A11,#REF!,31,0)*BU11),"") | GR11: =IF(BV11>0,(VLOOKUP($A11,#REF!,29,0)*BV11),"") | GS11: =IF(BW11>0,(VLOOKUP($A11,#REF!,31,0)*BW11),"") | GT11: =IF(BX11>0,(VLOOKUP($A11,#REF!,29,0)*BX11),"") | GU11: =IF(BY11>0,(VLOOKUP($A11,#REF!,31,0)*BY11),"") | GV11: =IF(BZ11>0,(VLOOKUP($A11,#REF!,29,0)*BZ11),"") | GW11: =IF(CA11>0,(VLOOKUP($A11,#REF!,31,0)*CA11),"") | GX11: =IF(CB11>0,(VLOOKUP($A11,#REF!,29,0)*CB11),"") | GY11: =IF(CC11>0,(VLOOKUP($A11,#REF!,31,0)*CC11),"") | GZ11: =IF(CD11>0,(VLOOKUP($A11,#REF!,29,0)*CD11),"") | HA11: =IF(CE11>0,(VLOOKUP($A11,#REF!,31,0)*CE11),"") | HB11: =IF(CF11>0,(VLOOKUP($A11,#REF!,29,0)*CF11),"") | HC11: =IF(CG11>0,(VLOOKUP($A11,#REF!,31,0)*CG11),"") | HD11: =IF(CH11>0,(VLOOKUP($A11,#REF!,29,0)*CH11),"") | HE11: =IF(CI11>0,(VLOOKUP($A11,#REF!,31,0)*CI11),"") | HF11: =IF(CJ11>0,(VLOOKUP($A11,#REF!,29,0)*CJ11),"") | HG11: =IF(CK11>0,(VLOOKUP($A11,#REF!,31,0)*CK11),"") | HH11: =IF(CL11>0,(VLOOKUP($A11,#REF!,29,0)*CL11),"") | HI11: =IF(CM11>0,(VLOOKUP($A11,#REF!,31,0)*CM11),"") | HJ11: =IF(CN11>0,(VLOOKUP($A11,#REF!,29,0)*CN11),"") | HK11: =IF(CO11>0,(VLOOKUP($A11,#REF!,31,0)*CO11),"") | HL11: =IF(CP11>0,(VLOOKUP($A11,#REF!,29,0)*CP11),"") | HM11: =IF(CQ11>0,(VLOOKUP($A11,#REF!,31,0)*CQ11),"") | HN11: =IF(CR11>0,(VLOOKUP($A11,#REF!,29,0)*CR11),"") | HO11: =IF(CS11>0,(VLOOKUP($A11,#REF!,31,0)*CS11),"") | HP11: =IF(CT11>0,(VLOOKUP($A11,#REF!,29,0)*CT11),"") | HQ11: =IF(CU11>0,(VLOOKUP($A11,#REF!,31,0)*CU11),"") | HR11: =IF(CV11>0,(VLOOKUP($A11,#REF!,29,0)*CV11),"") | HS11: =IF(CW11>0,(VLOOKUP($A11,#REF!,31,0)*CW11),"") | HT11: =IF(CX11>0,(VLOOKUP($A11,#REF!,29,0)*CX11),"") | HU11: =IF(CY11>0,(VLOOKUP($A11,#REF!,31,0)*CY11),"") | HV11: =IF(CZ11>0,(VLOOKUP($A11,#REF!,29,0)*CZ11),"") | HW11: =IF(DA11>0,(VLOOKUP($A11,#REF!,31,0)*DA11),"") | HX11: =IF(DB11>0,(VLOOKUP($A11,#REF!,29,0)*DB11),"") | HY11: =IF(DC11>0,(VLOOKUP($A11,#REF!,31,0)*DC11),"") | HZ11: =IF(DD11>0,(VLOOKUP($A11,#REF!,29,0)*DD11),"") | IA11: =IF(DE11>0,(VLOOKUP($A11,#REF!,31,0)*DE11),"") | IB11: =IF(DF11>0,(VLOOKUP($A11,#REF!,29,0)*DF11),"") | IC11: =IF(DG11>0,(VLOOKUP($A11,#REF!,31,0)*DG11),"")
A12: PBSLDJ | B12: DEBENATH [Promoter] | C12: Julie | D12: =IF((DV12+DT12)>0,DV12+DT12,"") -> 130 | BN12: 122 | BO12: 8 | DT12: =DL12+DI12+DF12+L12+CX12+BX12+AX12+AF12+AL12+BZ12+DB12+CR12+CP12+CL12+CH12+CF12+CD12+BN12+AR12+N12-DP12+DD12+BP12+CB12+Z12+CT12+BJ12+DR12+CZ12+CV12+CN12+CJ12+BV12+BT12+BR12+BL12+BH12+BF12+BD12+BB12+AZ12+AV12+AT12+AP12+AN12+AJ12+AH12+AD12+AB12+X12+V12+T12+R12+P12+J12+H12+F12 -> 122 | DU12: =(DT12*(VLOOKUP(A12,#REF!,29,0)))-(IF(DO12="x",MROUND(DP12*(VLOOKUP(A12,#REF!,29,0)*0.08),0.05),0)) -> #REF! | DV12: =DM12+DJ12+DG12+M12+CY12+BY12+AY12+AG12+AM12+CA12+DC12+CS12+CQ12+CM12+CI12+CG12+CE12+BO12+AS12+O12+DE12+BQ12+CC12+AA12+CU12+BK12+DA12+CW12+CO12+CK12+BW12+BU12+BS12+BM12+BI12+BG12+BE12+BC12+BA12+AW12+AU12+AQ12+AO12+AK12+AI12+AE12+AC12+Y12+W12+U12+S12+Q12+K12+I12+G12 -> 8 | DW12: =(DV12*(VLOOKUP(A12,#REF!,31,0))) -> #REF! | DX12: =VLOOKUP(A12,#REF!,33,0) -> #REF! | DY12: =DX12-(DW12+DU12) -> #REF! | DZ12: =IF(DY12=0,"","!!") -> #REF! | EB12: =IF(F12>0,(VLOOKUP($A12,#REF!,29,0)*F12),"") | EC12: =IF(G12>0,(VLOOKUP($A12,#REF!,31,0)*G12),"") | ED12: =IF(H12>0,(VLOOKUP($A12,#REF!,29,0)*H12),"") | EE12: =IF(I12>0,(VLOOKUP($A12,#REF!,31,0)*I12),"") | EF12: =IF(J12>0,(VLOOKUP($A12,#REF!,29,0)*J12),"") | EG12: =IF(K12>0,(VLOOKUP($A12,#REF!,31,0)*K12),"") | EH12: =IF(L12>0,(VLOOKUP($A12,#REF!,29,0)*L12),"") | EI12: =IF(M12>0,(VLOOKUP($A12,#REF!,31,0)*M12),"") | EJ12: =IF(N12>0,(VLOOKUP($A12,#REF!,29,0)*N12),"") | EK12: =IF(O12>0,(VLOOKUP($A12,#REF!,31,0)*O12),"") | EL12: =IF(P12>0,(VLOOKUP($A12,#REF!,29,0)*P12),"") | EM12: =IF(Q12>0,(VLOOKUP($A12,#REF!,31,0)*Q12),"") | EN12: =IF(R12>0,(VLOOKUP($A12,#REF!,29,0)*R12),"") | EO12: =IF(S12>0,(VLOOKUP($A12,#REF!,31,0)*S12),"") | EP12: =IF(T12>0,(VLOOKUP($A12,#REF!,29,0)*T12),"") | EQ12: =IF(U12>0,(VLOOKUP($A12,#REF!,31,0)*U12),"") | ER12: =IF(V12>0,(VLOOKUP($A12,#REF!,29,0)*V12),"") | ES12: =IF(W12>0,(VLOOKUP($A12,#REF!,31,0)*W12),"") | ET12: =IF(X12>0,(VLOOKUP($A12,#REF!,29,0)*X12),"") | EU12: =IF(Y12>0,(VLOOKUP($A12,#REF!,31,0)*Y12),"") | EV12: =IF(Z12>0,(VLOOKUP($A12,#REF!,29,0)*Z12),"") | EW12: =IF(AA12>0,(VLOOKUP($A12,#REF!,31,0)*AA12),"") | EX12: =IF(AB12>0,(VLOOKUP($A12,#REF!,29,0)*AB12),"") | EY12: =IF(AC12>0,(VLOOKUP($A12,#REF!,31,0)*AC12),"") | EZ12: =IF(AD12>0,(VLOOKUP($A12,#REF!,29,0)*AD12),"") | FA12: =IF(AE12>0,(VLOOKUP($A12,#REF!,31,0)*AE12),"") | FB12: =IF(AF12>0,(VLOOKUP($A12,#REF!,29,0)*AF12),"") | FC12: =IF(AG12>0,(VLOOKUP($A12,#REF!,31,0)*AG12),"") | FD12: =IF(AH12>0,(VLOOKUP($A12,#REF!,29,0)*AH12),"") | FE12: =IF(AI12>0,(VLOOKUP($A12,#REF!,31,0)*AI12),"") | FF12: =IF(AJ12>0,(VLOOKUP($A12,#REF!,29,0)*AJ12),"") | FG12: =IF(AK12>0,(VLOOKUP($A12,#REF!,31,0)*AK12),"") | FH12: =IF(AL12>0,(VLOOKUP($A12,#REF!,29,0)*AL12),"") | FI12: =IF(AM12>0,(VLOOKUP($A12,#REF!,31,0)*AM12),"") | FJ12: =IF(AN12>0,(VLOOKUP($A12,#REF!,29,0)*AN12),"") | FK12: =IF(AO12>0,(VLOOKUP($A12,#REF!,31,0)*AO12),"") | FL12: =IF(AP12>0,(VLOOKUP($A12,#REF!,29,0)*AP12),"") | FM12: =IF(AQ12>0,(VLOOKUP($A12,#REF!,31,0)*AQ12),"") | FN12: =IF(AR12>0,(VLOOKUP($A12,#REF!,29,0)*AR12),"") | FO12: =IF(AS12>0,(VLOOKUP($A12,#REF!,31,0)*AS12),"") | FP12: =IF(AT12>0,(VLOOKUP($A12,#REF!,29,0)*AT12),"") | FQ12: =IF(AU12>0,(VLOOKUP($A12,#REF!,31,0)*AU12),"") | FR12: =IF(AV12>0,(VLOOKUP($A12,#REF!,29,0)*AV12),"") | FS12: =IF(AW12>0,(VLOOKUP($A12,#REF!,31,0)*AW12),"") | FT12: =IF(AX12>0,(VLOOKUP($A12,#REF!,29,0)*AX12),"") | FU12: =IF(AY12>0,(VLOOKUP($A12,#REF!,31,0)*AY12),"") | FV12: =IF(AZ12>0,(VLOOKUP($A12,#REF!,29,0)*AZ12),"") | FW12: =IF(BA12>0,(VLOOKUP($A12,#REF!,31,0)*BA12),"") | FX12: =IF(BB12>0,(VLOOKUP($A12,#REF!,29,0)*BB12),"") | FY12: =IF(BC12>0,(VLOOKUP($A12,#REF!,31,0)*BC12),"") | FZ12: =IF(BD12>0,(VLOOKUP($A12,#REF!,29,0)*BD12),"") | GA12: =IF(BE12>0,(VLOOKUP($A12,#REF!,31,0)*BE12),"") | GB12: =IF(BF12>0,(VLOOKUP($A12,#REF!,29,0)*BF12),"") | GC12: =IF(BG12>0,(VLOOKUP($A12,#REF!,31,0)*BG12),"") | GD12: =IF(BH12>0,(VLOOKUP($A12,#REF!,29,0)*BH12),"") | GE12: =IF(BI12>0,(VLOOKUP($A12,#REF!,31,0)*BI12),"") | GF12: =IF(BJ12>0,(VLOOKUP($A12,#REF!,29,0)*BJ12),"") | GG12: =IF(BK12>0,(VLOOKUP($A12,#REF!,31,0)*BK12),"") | GH12: =IF(BL12>0,(VLOOKUP($A12,#REF!,29,0)*BL12),"") | GI12: =IF(BM12>0,(VLOOKUP($A12,#REF!,31,0)*BM12),"") | GJ12: =IF(BN12>0,(VLOOKUP($A12,#REF!,29,0)*BN12),"") -> #REF! | GK12: =IF(BO12>0,(VLOOKUP($A12,#REF!,31,0)*BO12),"") -> #REF! | GL12: =IF(BP12>0,(VLOOKUP($A12,#REF!,29,0)*BP12),"") | GM12: =IF(BQ12>0,(VLOOKUP($A12,#REF!,31,0)*BQ12),"") | GN12: =IF(BR12>0,(VLOOKUP($A12,#REF!,29,0)*BR12),"") | GO12: =IF(BS12>0,(VLOOKUP($A12,#REF!,31,0)*BS12),"") | GP12: =IF(BT12>0,(VLOOKUP($A12,#REF!,29,0)*BT12),"") | GQ12: =IF(BU12>0,(VLOOKUP($A12,#REF!,31,0)*BU12),"") | GR12: =IF(BV12>0,(VLOOKUP($A12,#REF!,29,0)*BV12),"") | GS12: =IF(BW12>0,(VLOOKUP($A12,#REF!,31,0)*BW12),"") | GT12: =IF(BX12>0,(VLOOKUP($A12,#REF!,29,0)*BX12),"") | GU12: =IF(BY12>0,(VLOOKUP($A12,#REF!,31,0)*BY12),"") | GV12: =IF(BZ12>0,(VLOOKUP($A12,#REF!,29,0)*BZ12),"") | GW12: =IF(CA12>0,(VLOOKUP($A12,#REF!,31,0)*CA12),"") | GX12: =IF(CB12>0,(VLOOKUP($A12,#REF!,29,0)*CB12),"") | GY12: =IF(CC12>0,(VLOOKUP($A12,#REF!,31,0)*CC12),"") | GZ12: =IF(CD12>0,(VLOOKUP($A12,#REF!,29,0)*CD12),"") | HA12: =IF(CE12>0,(VLOOKUP($A12,#REF!,31,0)*CE12),"") | HB12: =IF(CF12>0,(VLOOKUP($A12,#REF!,29,0)*CF12),"") | HC12: =IF(CG12>0,(VLOOKUP($A12,#REF!,31,0)*CG12),"") | HD12: =IF(CH12>0,(VLOOKUP($A12,#REF!,29,0)*CH12),"") | HE12: =IF(CI12>0,(VLOOKUP($A12,#REF!,31,0)*CI12),"") | HF12: =IF(CJ12>0,(VLOOKUP($A12,#REF!,29,0)*CJ12),"") | HG12: =IF(CK12>0,(VLOOKUP($A12,#REF!,31,0)*CK12),"") | HH12: =IF(CL12>0,(VLOOKUP($A12,#REF!,29,0)*CL12),"") | HI12: =IF(CM12>0,(VLOOKUP($A12,#REF!,31,0)*CM12),"") | HJ12: =IF(CN12>0,(VLOOKUP($A12,#REF!,29,0)*CN12),"") | HK12: =IF(CO12>0,(VLOOKUP($A12,#REF!,31,0)*CO12),"") | HL12: =IF(CP12>0,(VLOOKUP($A12,#REF!,29,0)*CP12),"") | HM12: =IF(CQ12>0,(VLOOKUP($A12,#REF!,31,0)*CQ12),"") | HN12: =IF(CR12>0,(VLOOKUP($A12,#REF!,29,0)*CR12),"") | HO12: =IF(CS12>0,(VLOOKUP($A12,#REF!,31,0)*CS12),"") | HP12: =IF(CT12>0,(VLOOKUP($A12,#REF!,29,0)*CT12),"") | HQ12: =IF(CU12>0,(VLOOKUP($A12,#REF!,31,0)*CU12),"") | HR12: =IF(CV12>0,(VLOOKUP($A12,#REF!,29,0)*CV12),"") | HS12: =IF(CW12>0,(VLOOKUP($A12,#REF!,31,0)*CW12),"") | HT12: =IF(CX12>0,(VLOOKUP($A12,#REF!,29,0)*CX12),"") | HU12: =IF(CY12>0,(VLOOKUP($A12,#REF!,31,0)*CY12),"") | HV12: =IF(CZ12>0,(VLOOKUP($A12,#REF!,29,0)*CZ12),"") | HW12: =IF(DA12>0,(VLOOKUP($A12,#REF!,31,0)*DA12),"") | HX12: =IF(DB12>0,(VLOOKUP($A12,#REF!,29,0)*DB12),"") | HY12: =IF(DC12>0,(VLOOKUP($A12,#REF!,31,0)*DC12),"") | HZ12: =IF(DD12>0,(VLOOKUP($A12,#REF!,29,0)*DD12),"") | IA12: =IF(DE12>0,(VLOOKUP($A12,#REF!,31,0)*DE12),"") | IB12: =IF(DF12>0,(VLOOKUP($A12,#REF!,29,0)*DF12),"") | IC12: =IF(DG12>0,(VLOOKUP($A12,#REF!,31,0)*DG12),"")
A13: PBSLDT | B13: DEVAUX | C13: Tiffany | D13: =IF((DV13+DT13)>0,DV13+DT13,"") | DT13: =DL13+DI13+DF13+L13+CX13+BX13+AX13+AF13+AL13+BZ13+DB13+CR13+CP13+CL13+CH13+CF13+CD13+BN13+AR13+N13-DP13+DD13+BP13+CB13+Z13+CT13+BJ13+DR13+CZ13+CV13+CN13+CJ13+BV13+BT13+BR13+BL13+BH13+BF13+BD13+BB13+AZ13+AV13+AT13+AP13+AN13+AJ13+AH13+AD13+AB13+X13+V13+T13+R13+P13+J13+H13+F13 -> 0 | DU13: =(DT13*(VLOOKUP(A13,#REF!,29,0)))-(IF(DO13="x",MROUND(DP13*(VLOOKUP(A13,#REF!,29,0)*0.08),0.05),0)) -> #REF! | DV13: =DM13+DJ13+DG13+M13+CY13+BY13+AY13+AG13+AM13+CA13+DC13+CS13+CQ13+CM13+CI13+CG13+CE13+BO13+AS13+O13+DE13+BQ13+CC13+AA13+CU13+BK13+DA13+CW13+CO13+CK13+BW13+BU13+BS13+BM13+BI13+BG13+BE13+BC13+BA13+AW13+AU13+AQ13+AO13+AK13+AI13+AE13+AC13+Y13+W13+U13+S13+Q13+K13+I13+G13 -> 0 | DW13: =(DV13*(VLOOKUP(A13,#REF!,31,0))) -> #REF! | DX13: =VLOOKUP(A13,#REF!,33,0) -> #REF! | DY13: =DX13-(DW13+DU13) -> #REF! | DZ13: =IF(DY13=0,"","!!") -> #REF! | EB13: =IF(F13>0,(VLOOKUP($A13,#REF!,29,0)*F13),"") | EC13: =IF(G13>0,(VLOOKUP($A13,#REF!,31,0)*G13),"") | ED13: =IF(H13>0,(VLOOKUP($A13,#REF!,29,0)*H13),"") | EE13: =IF(I13>0,(VLOOKUP($A13,#REF!,31,0)*I13),"") | EF13: =IF(J13>0,(VLOOKUP($A13,#REF!,29,0)*J13),"") | EG13: =IF(K13>0,(VLOOKUP($A13,#REF!,31,0)*K13),"") | EH13: =IF(L13>0,(VLOOKUP($A13,#REF!,29,0)*L13),"") | EI13: =IF(M13>0,(VLOOKUP($A13,#REF!,31,0)*M13),"") | EJ13: =IF(N13>0,(VLOOKUP($A13,#REF!,29,0)*N13),"") | EK13: =IF(O13>0,(VLOOKUP($A13,#REF!,31,0)*O13),"") | EL13: =IF(P13>0,(VLOOKUP($A13,#REF!,29,0)*P13),"") | EM13: =IF(Q13>0,(VLOOKUP($A13,#REF!,31,0)*Q13),"") | EN13: =IF(R13>0,(VLOOKUP($A13,#REF!,29,0)*R13),"") | EO13: =IF(S13>0,(VLOOKUP($A13,#REF!,31,0)*S13),"") | EP13: =IF(T13>0,(VLOOKUP($A13,#REF!,29,0)*T13),"") | EQ13: =IF(U13>0,(VLOOKUP($A13,#REF!,31,0)*U13),"") | ER13: =IF(V13>0,(VLOOKUP($A13,#REF!,29,0)*V13),"") | ES13: =IF(W13>0,(VLOOKUP($A13,#REF!,31,0)*W13),"") | ET13: =IF(X13>0,(VLOOKUP($A13,#REF!,29,0)*X13),"") | EU13: =IF(Y13>0,(VLOOKUP($A13,#REF!,31,0)*Y13),"") | EV13: =IF(Z13>0,(VLOOKUP($A13,#REF!,29,0)*Z13),"") | EW13: =IF(AA13>0,(VLOOKUP($A13,#REF!,31,0)*AA13),"") | EX13: =IF(AB13>0,(VLOOKUP($A13,#REF!,29,0)*AB13),"") | EY13: =IF(AC13>0,(VLOOKUP($A13,#REF!,31,0)*AC13),"") | EZ13: =IF(AD13>0,(VLOOKUP($A13,#REF!,29,0)*AD13),"") | FA13: =IF(AE13>0,(VLOOKUP($A13,#REF!,31,0)*AE13),"") | FB13: =IF(AF13>0,(VLOOKUP($A13,#REF!,29,0)*AF13),"") | FC13: =IF(AG13>0,(VLOOKUP($A13,#REF!,31,0)*AG13),"") | FD13: =IF(AH13>0,(VLOOKUP($A13,#REF!,29,0)*AH13),"") | FE13: =IF(AI13>0,(VLOOKUP($A13,#REF!,31,0)*AI13),"") | FF13: =IF(AJ13>0,(VLOOKUP($A13,#REF!,29,0)*AJ13),"") | FG13: =IF(AK13>0,(VLOOKUP($A13,#REF!,31,0)*AK13),"") | FH13: =IF(AL13>0,(VLOOKUP($A13,#REF!,29,0)*AL13),"") | FI13: =IF(AM13>0,(VLOOKUP($A13,#REF!,31,0)*AM13),"") | FJ13: =IF(AN13>0,(VLOOKUP($A13,#REF!,29,0)*AN13),"") | FK13: =IF(AO13>0,(VLOOKUP($A13,#REF!,31,0)*AO13),"") | FL13: =IF(AP13>0,(VLOOKUP($A13,#REF!,29,0)*AP13),"") | FM13: =IF(AQ13>0,(VLOOKUP($A13,#REF!,31,0)*AQ13),"") | FN13: =IF(AR13>0,(VLOOKUP($A13,#REF!,29,0)*AR13),"") | FO13: =IF(AS13>0,(VLOOKUP($A13,#REF!,31,0)*AS13),"") | FP13: =IF(AT13>0,(VLOOKUP($A13,#REF!,29,0)*AT13),"") | FQ13: =IF(AU13>0,(VLOOKUP($A13,#REF!,31,0)*AU13),"") | FR13: =IF(AV13>0,(VLOOKUP($A13,#REF!,29,0)*AV13),"") | FS13: =IF(AW13>0,(VLOOKUP($A13,#REF!,31,0)*AW13),"") | FT13: =IF(AX13>0,(VLOOKUP($A13,#REF!,29,0)*AX13),"") | FU13: =IF(AY13>0,(VLOOKUP($A13,#REF!,31,0)*AY13),"") | FV13: =IF(AZ13>0,(VLOOKUP($A13,#REF!,29,0)*AZ13),"") | FW13: =IF(BA13>0,(VLOOKUP($A13,#REF!,31,0)*BA13),"") | FX13: =IF(BB13>0,(VLOOKUP($A13,#REF!,29,0)*BB13),"") | FY13: =IF(BC13>0,(VLOOKUP($A13,#REF!,31,0)*BC13),"") | FZ13: =IF(BD13>0,(VLOOKUP($A13,#REF!,29,0)*BD13),"") | GA13: =IF(BE13>0,(VLOOKUP($A13,#REF!,31,0)*BE13),"") | GB13: =IF(BF13>0,(VLOOKUP($A13,#REF!,29,0)*BF13),"") | GC13: =IF(BG13>0,(VLOOKUP($A13,#REF!,31,0)*BG13),"") | GD13: =IF(BH13>0,(VLOOKUP($A13,#REF!,29,0)*BH13),"") | GE13: =IF(BI13>0,(VLOOKUP($A13,#REF!,31,0)*BI13),"") | GF13: =IF(BJ13>0,(VLOOKUP($A13,#REF!,29,0)*BJ13),"") | GG13: =IF(BK13>0,(VLOOKUP($A13,#REF!,31,0)*BK13),"") | GH13: =IF(BL13>0,(VLOOKUP($A13,#REF!,29,0)*BL13),"") | GI13: =IF(BM13>0,(VLOOKUP($A13,#REF!,31,0)*BM13),"") | GJ13: =IF(BN13>0,(VLOOKUP($A13,#REF!,29,0)*BN13),"") | GK13: =IF(BO13>0,(VLOOKUP($A13,#REF!,31,0)*BO13),"") | GL13: =IF(BP13>0,(VLOOKUP($A13,#REF!,29,0)*BP13),"") | GM13: =IF(BQ13>0,(VLOOKUP($A13,#REF!,31,0)*BQ13),"") | GN13: =IF(BR13>0,(VLOOKUP($A13,#REF!,29,0)*BR13),"") | GO13: =IF(BS13>0,(VLOOKUP($A13,#REF!,31,0)*BS13),"") | GP13: =IF(BT13>0,(VLOOKUP($A13,#REF!,29,0)*BT13),"") | GQ13: =IF(BU13>0,(VLOOKUP($A13,#REF!,31,0)*BU13),"") | GR13: =IF(BV13>0,(VLOOKUP($A13,#REF!,29,0)*BV13),"") | GS13: =IF(BW13>0,(VLOOKUP($A13,#REF!,31,0)*BW13),"") | GT13: =IF(BX13>0,(VLOOKUP($A13,#REF!,29,0)*BX13),"") | GU13: =IF(BY13>0,(VLOOKUP($A13,#REF!,31,0)*BY13),"") | GV13: =IF(BZ13>0,(VLOOKUP($A13,#REF!,29,0)*BZ13),"") | GW13: =IF(CA13>0,(VLOOKUP($A13,#REF!,31,0)*CA13),"") | GX13: =IF(CB13>0,(VLOOKUP($A13,#REF!,29,0)*CB13),"") | GY13: =IF(CC13>0,(VLOOKUP($A13,#REF!,31,0)*CC13),"") | GZ13: =IF(CD13>0,(VLOOKUP($A13,#REF!,29,0)*CD13),"") | HA13: =IF(CE13>0,(VLOOKUP($A13,#REF!,31,0)*CE13),"") | HB13: =IF(CF13>0,(VLOOKUP($A13,#REF!,29,0)*CF13),"") | HC13: =IF(CG13>0,(VLOOKUP($A13,#REF!,31,0)*CG13),"") | HD13: =IF(CH13>0,(VLOOKUP($A13,#REF!,29,0)*CH13),"") | HE13: =IF(CI13>0,(VLOOKUP($A13,#REF!,31,0)*CI13),"") | HF13: =IF(CJ13>0,(VLOOKUP($A13,#REF!,29,0)*CJ13),"") | HG13: =IF(CK13>0,(VLOOKUP($A13,#REF!,31,0)*CK13),"") | HH13: =IF(CL13>0,(VLOOKUP($A13,#REF!,29,0)*CL13),"") | HI13: =IF(CM13>0,(VLOOKUP($A13,#REF!,31,0)*CM13),"") | HJ13: =IF(CN13>0,(VLOOKUP($A13,#REF!,29,0)*CN13),"") | HK13: =IF(CO13>0,(VLOOKUP($A13,#REF!,31,0)*CO13),"") | HL13: =IF(CP13>0,(VLOOKUP($A13,#REF!,29,0)*CP13),"") | HM13: =IF(CQ13>0,(VLOOKUP($A13,#REF!,31,0)*CQ13),"") | HN13: =IF(CR13>0,(VLOOKUP($A13,#REF!,29,0)*CR13),"") | HO13: =IF(CS13>0,(VLOOKUP($A13,#REF!,31,0)*CS13),"") | HP13: =IF(CT13>0,(VLOOKUP($A13,#REF!,29,0)*CT13),"") | HQ13: =IF(CU13>0,(VLOOKUP($A13,#REF!,31,0)*CU13),"") | HR13: =IF(CV13>0,(VLOOKUP($A13,#REF!,29,0)*CV13),"") | HS13: =IF(CW13>0,(VLOOKUP($A13,#REF!,31,0)*CW13),"") | HT13: =IF(CX13>0,(VLOOKUP($A13,#REF!,29,0)*CX13),"") | HU13: =IF(CY13>0,(VLOOKUP($A13,#REF!,31,0)*CY13),"") | HV13: =IF(CZ13>0,(VLOOKUP($A13,#REF!,29,0)*CZ13),"") | HW13: =IF(DA13>0,(VLOOKUP($A13,#REF!,31,0)*DA13),"") | HX13: =IF(DB13>0,(VLOOKUP($A13,#REF!,29,0)*DB13),"") | HY13: =IF(DC13>0,(VLOOKUP($A13,#REF!,31,0)*DC13),"") | HZ13: =IF(DD13>0,(VLOOKUP($A13,#REF!,29,0)*DD13),"") | IA13: =IF(DE13>0,(VLOOKUP($A13,#REF!,31,0)*DE13),"") | IB13: =IF(DF13>0,(VLOOKUP($A13,#REF!,29,0)*DF13),"") | IC13: =IF(DG13>0,(VLOOKUP($A13,#REF!,31,0)*DG13),"")
A14: PBSLGK | B14: GEROVA | C14: Kristina | D14: =IF((DV14+DT14)>0,DV14+DT14,"") | DT14: =DL14+DI14+DF14+L14+CX14+BX14+AX14+AF14+AL14+BZ14+DB14+CR14+CP14+CL14+CH14+CF14+CD14+BN14+AR14+N14-DP14+DD14+BP14+CB14+Z14+CT14+BJ14+DR14+CZ14+CV14+CN14+CJ14+BV14+BT14+BR14+BL14+BH14+BF14+BD14+BB14+AZ14+AV14+AT14+AP14+AN14+AJ14+AH14+AD14+AB14+X14+V14+T14+R14+P14+J14+H14+F14 -> 0 | DU14: =(DT14*(VLOOKUP(A14,#REF!,29,0)))-(IF(DO14="x",MROUND(DP14*(VLOOKUP(A14,#REF!,29,0)*0.08),0.05),0)) -> #REF! | DV14: =DM14+DJ14+DG14+M14+CY14+BY14+AY14+AG14+AM14+CA14+DC14+CS14+CQ14+CM14+CI14+CG14+CE14+BO14+AS14+O14+DE14+BQ14+CC14+AA14+CU14+BK14+DA14+CW14+CO14+CK14+BW14+BU14+BS14+BM14+BI14+BG14+BE14+BC14+BA14+AW14+AU14+AQ14+AO14+AK14+AI14+AE14+AC14+Y14+W14+U14+S14+Q14+K14+I14+G14 -> 0 | DW14: =(DV14*(VLOOKUP(A14,#REF!,31,0))) -> #REF! | DX14: =VLOOKUP(A14,#REF!,33,0) -> #REF! | DY14: =DX14-(DW14+DU14) -> #REF! | DZ14: =IF(DY14=0,"","!!") -> #REF! | EB14: =IF(F14>0,(VLOOKUP($A14,#REF!,29,0)*F14),"") | EC14: =IF(G14>0,(VLOOKUP($A14,#REF!,31,0)*G14),"") | ED14: =IF(H14>0,(VLOOKUP($A14,#REF!,29,0)*H14),"") | EE14: =IF(I14>0,(VLOOKUP($A14,#REF!,31,0)*I14),"") | EF14: =IF(J14>0,(VLOOKUP($A14,#REF!,29,0)*J14),"") | EG14: =IF(K14>0,(VLOOKUP($A14,#REF!,31,0)*K14),"") | EH14: =IF(L14>0,(VLOOKUP($A14,#REF!,29,0)*L14),"") | EI14: =IF(M14>0,(VLOOKUP($A14,#REF!,31,0)*M14),"") | EJ14: =IF(N14>0,(VLOOKUP($A14,#REF!,29,0)*N14),"") | EK14: =IF(O14>0,(VLOOKUP($A14,#REF!,31,0)*O14),"") | EL14: =IF(P14>0,(VLOOKUP($A14,#REF!,29,0)*P14),"") | EM14: =IF(Q14>0,(VLOOKUP($A14,#REF!,31,0)*Q14),"") | EN14: =IF(R14>0,(VLOOKUP($A14,#REF!,29,0)*R14),"") | EO14: =IF(S14>0,(VLOOKUP($A14,#REF!,31,0)*S14),"") | EP14: =IF(T14>0,(VLOOKUP($A14,#REF!,29,0)*T14),"") | EQ14: =IF(U14>0,(VLOOKUP($A14,#REF!,31,0)*U14),"") | ER14: =IF(V14>0,(VLOOKUP($A14,#REF!,29,0)*V14),"") | ES14: =IF(W14>0,(VLOOKUP($A14,#REF!,31,0)*W14),"") | ET14: =IF(X14>0,(VLOOKUP($A14,#REF!,29,0)*X14),"") | EU14: =IF(Y14>0,(VLOOKUP($A14,#REF!,31,0)*Y14),"") | EV14: =IF(Z14>0,(VLOOKUP($A14,#REF!,29,0)*Z14),"") | EW14: =IF(AA14>0,(VLOOKUP($A14,#REF!,31,0)*AA14),"") | EX14: =IF(AB14>0,(VLOOKUP($A14,#REF!,29,0)*AB14),"") | EY14: =IF(AC14>0,(VLOOKUP($A14,#REF!,31,0)*AC14),"") | EZ14: =IF(AD14>0,(VLOOKUP($A14,#REF!,29,0)*AD14),"") | FA14: =IF(AE14>0,(VLOOKUP($A14,#REF!,31,0)*AE14),"") | FB14: =IF(AF14>0,(VLOOKUP($A14,#REF!,29,0)*AF14),"") | FC14: =IF(AG14>0,(VLOOKUP($A14,#REF!,31,0)*AG14),"") | FD14: =IF(AH14>0,(VLOOKUP($A14,#REF!,29,0)*AH14),"") | FE14: =IF(AI14>0,(VLOOKUP($A14,#REF!,31,0)*AI14),"") | FF14: =IF(AJ14>0,(VLOOKUP($A14,#REF!,29,0)*AJ14),"") | FG14: =IF(AK14>0,(VLOOKUP($A14,#REF!,31,0)*AK14),"") | FH14: =IF(AL14>0,(VLOOKUP($A14,#REF!,29,0)*AL14),"") | FI14: =IF(AM14>0,(VLOOKUP($A14,#REF!,31,0)*AM14),"") | FJ14: =IF(AN14>0,(VLOOKUP($A14,#REF!,29,0)*AN14),"") | FK14: =IF(AO14>0,(VLOOKUP($A14,#REF!,31,0)*AO14),"") | FL14: =IF(AP14>0,(VLOOKUP($A14,#REF!,29,0)*AP14),"") | FM14: =IF(AQ14>0,(VLOOKUP($A14,#REF!,31,0)*AQ14),"") | FN14: =IF(AR14>0,(VLOOKUP($A14,#REF!,29,0)*AR14),"") | FO14: =IF(AS14>0,(VLOOKUP($A14,#REF!,31,0)*AS14),"") | FP14: =IF(AT14>0,(VLOOKUP($A14,#REF!,29,0)*AT14),"") | FQ14: =IF(AU14>0,(VLOOKUP($A14,#REF!,31,0)*AU14),"") | FR14: =IF(AV14>0,(VLOOKUP($A14,#REF!,29,0)*AV14),"") | FS14: =IF(AW14>0,(VLOOKUP($A14,#REF!,31,0)*AW14),"") | FT14: =IF(AX14>0,(VLOOKUP($A14,#REF!,29,0)*AX14),"") | FU14: =IF(AY14>0,(VLOOKUP($A14,#REF!,31,0)*AY14),"") | FV14: =IF(AZ14>0,(VLOOKUP($A14,#REF!,29,0)*AZ14),"") | FW14: =IF(BA14>0,(VLOOKUP($A14,#REF!,31,0)*BA14),"") | FX14: =IF(BB14>0,(VLOOKUP($A14,#REF!,29,0)*BB14),"") | FY14: =IF(BC14>0,(VLOOKUP($A14,#REF!,31,0)*BC14),"") | FZ14: =IF(BD14>0,(VLOOKUP($A14,#REF!,29,0)*BD14),"") | GA14: =IF(BE14>0,(VLOOKUP($A14,#REF!,31,0)*BE14),"") | GB14: =IF(BF14>0,(VLOOKUP($A14,#REF!,29,0)*BF14),"") | GC14: =IF(BG14>0,(VLOOKUP($A14,#REF!,31,0)*BG14),"") | GD14: =IF(BH14>0,(VLOOKUP($A14,#REF!,29,0)*BH14),"") | GE14: =IF(BI14>0,(VLOOKUP($A14,#REF!,31,0)*BI14),"") | GF14: =IF(BJ14>0,(VLOOKUP($A14,#REF!,29,0)*BJ14),"") | GG14: =IF(BK14>0,(VLOOKUP($A14,#REF!,31,0)*BK14),"") | GH14: =IF(BL14>0,(VLOOKUP($A14,#REF!,29,0)*BL14),"") | GI14: =IF(BM14>0,(VLOOKUP($A14,#REF!,31,0)*BM14),"") | GJ14: =IF(BN14>0,(VLOOKUP($A14,#REF!,29,0)*BN14),"") | GK14: =IF(BO14>0,(VLOOKUP($A14,#REF!,31,0)*BO14),"") | GL14: =IF(BP14>0,(VLOOKUP($A14,#REF!,29,0)*BP14),"") | GM14: =IF(BQ14>0,(VLOOKUP($A14,#REF!,31,0)*BQ14),"") | GN14: =IF(BR14>0,(VLOOKUP($A14,#REF!,29,0)*BR14),"") | GO14: =IF(BS14>0,(VLOOKUP($A14,#REF!,31,0)*BS14),"") | GP14: =IF(BT14>0,(VLOOKUP($A14,#REF!,29,0)*BT14),"") | GQ14: =IF(BU14>0,(VLOOKUP($A14,#REF!,31,0)*BU14),"") | GR14: =IF(BV14>0,(VLOOKUP($A14,#REF!,29,0)*BV14),"") | GS14: =IF(BW14>0,(VLOOKUP($A14,#REF!,31,0)*BW14),"") | GT14: =IF(BX14>0,(VLOOKUP($A14,#REF!,29,0)*BX14),"") | GU14: =IF(BY14>0,(VLOOKUP($A14,#REF!,31,0)*BY14),"") | GV14: =IF(BZ14>0,(VLOOKUP($A14,#REF!,29,0)*BZ14),"") | GW14: =IF(CA14>0,(VLOOKUP($A14,#REF!,31,0)*CA14),"") | GX14: =IF(CB14>0,(VLOOKUP($A14,#REF!,29,0)*CB14),"") | GY14: =IF(CC14>0,(VLOOKUP($A14,#REF!,31,0)*CC14),"") | GZ14: =IF(CD14>0,(VLOOKUP($A14,#REF!,29,0)*CD14),"") | HA14: =IF(CE14>0,(VLOOKUP($A14,#REF!,31,0)*CE14),"") | HB14: =IF(CF14>0,(VLOOKUP($A14,#REF!,29,0)*CF14),"") | HC14: =IF(CG14>0,(VLOOKUP($A14,#REF!,31,0)*CG14),"") | HD14: =IF(CH14>0,(VLOOKUP($A14,#REF!,29,0)*CH14),"") | HE14: =IF(CI14>0,(VLOOKUP($A14,#REF!,31,0)*CI14),"") | HF14: =IF(CJ14>0,(VLOOKUP($A14,#REF!,29,0)*CJ14),"") | HG14: =IF(CK14>0,(VLOOKUP($A14,#REF!,31,0)*CK14),"") | HH14: =IF(CL14>0,(VLOOKUP($A14,#REF!,29,0)*CL14),"") | HI14: =IF(CM14>0,(VLOOKUP($A14,#REF!,31,0)*CM14),"") | HJ14: =IF(CN14>0,(VLOOKUP($A14,#REF!,29,0)*CN14),"") | HK14: =IF(CO14>0,(VLOOKUP($A14,#REF!,31,0)*CO14),"") | HL14: =IF(CP14>0,(VLOOKUP($A14,#REF!,29,0)*CP14),"") | HM14: =IF(CQ14>0,(VLOOKUP($A14,#REF!,31,0)*CQ14),"") | HN14: =IF(CR14>0,(VLOOKUP($A14,#REF!,29,0)*CR14),"") | HO14: =IF(CS14>0,(VLOOKUP($A14,#REF!,31,0)*CS14),"") | HP14: =IF(CT14>0,(VLOOKUP($A14,#REF!,29,0)*CT14),"") | HQ14: =IF(CU14>0,(VLOOKUP($A14,#REF!,31,0)*CU14),"") | HR14: =IF(CV14>0,(VLOOKUP($A14,#REF!,29,0)*CV14),"") | HS14: =IF(CW14>0,(VLOOKUP($A14,#REF!,31,0)*CW14),"") | HT14: =IF(CX14>0,(VLOOKUP($A14,#REF!,29,0)*CX14),"") | HU14: =IF(CY14>0,(VLOOKUP($A14,#REF!,31,0)*CY14),"") | HV14: =IF(CZ14>0,(VLOOKUP($A14,#REF!,29,0)*CZ14),"") | HW14: =IF(DA14>0,(VLOOKUP($A14,#REF!,31,0)*DA14),"") | HX14: =IF(DB14>0,(VLOOKUP($A14,#REF!,29,0)*DB14),"") | HY14: =IF(DC14>0,(VLOOKUP($A14,#REF!,31,0)*DC14),"") | HZ14: =IF(DD14>0,(VLOOKUP($A14,#REF!,29,0)*DD14),"") | IA14: =IF(DE14>0,(VLOOKUP($A14,#REF!,31,0)*DE14),"") | IB14: =IF(DF14>0,(VLOOKUP($A14,#REF!,29,0)*DF14),"") | IC14: =IF(DG14>0,(VLOOKUP($A14,#REF!,31,0)*DG14),"")
A15: PBSLHT | B15: HUBENOVA | C15: Tsvetelina | D15: =IF((DV15+DT15)>0,DV15+DT15,"") | DT15: =DL15+DI15+DF15+L15+CX15+BX15+AX15+AF15+AL15+BZ15+DB15+CR15+CP15+CL15+CH15+CF15+CD15+BN15+AR15+N15-DP15+DD15+BP15+CB15+Z15+CT15+BJ15+DR15+CZ15+CV15+CN15+CJ15+BV15+BT15+BR15+BL15+BH15+BF15+BD15+BB15+AZ15+AV15+AT15+AP15+AN15+AJ15+AH15+AD15+AB15+X15+V15+T15+R15+P15+J15+H15+F15 -> 0 | DU15: =(DT15*(VLOOKUP(A15,#REF!,29,0)))-(IF(DO15="x",MROUND(DP15*(VLOOKUP(A15,#REF!,29,0)*0.08),0.05),0)) -> #REF! | DV15: =DM15+DJ15+DG15+M15+CY15+BY15+AY15+AG15+AM15+CA15+DC15+CS15+CQ15+CM15+CI15+CG15+CE15+BO15+AS15+O15+DE15+BQ15+CC15+AA15+CU15+BK15+DA15+CW15+CO15+CK15+BW15+BU15+BS15+BM15+BI15+BG15+BE15+BC15+BA15+AW15+AU15+AQ15+AO15+AK15+AI15+AE15+AC15+Y15+W15+U15+S15+Q15+K15+I15+G15 -> 0 | DW15: =(DV15*(VLOOKUP(A15,#REF!,31,0))) -> #REF! | DX15: =VLOOKUP(A15,#REF!,33,0) -> #REF! | DY15: =DX15-(DW15+DU15) -> #REF! | DZ15: =IF(DY15=0,"","!!") -> #REF! | EB15: =IF(F15>0,(VLOOKUP($A15,#REF!,29,0)*F15),"") | EC15: =IF(G15>0,(VLOOKUP($A15,#REF!,31,0)*G15),"") | ED15: =IF(H15>0,(VLOOKUP($A15,#REF!,29,0)*H15),"") | EE15: =IF(I15>0,(VLOOKUP($A15,#REF!,31,0)*I15),"") | EF15: =IF(J15>0,(VLOOKUP($A15,#REF!,29,0)*J15),"") | EG15: =IF(K15>0,(VLOOKUP($A15,#REF!,31,0)*K15),"") | EH15: =IF(L15>0,(VLOOKUP($A15,#REF!,29,0)*L15),"") | EI15: =IF(M15>0,(VLOOKUP($A15,#REF!,31,0)*M15),"") | EJ15: =IF(N15>0,(VLOOKUP($A15,#REF!,29,0)*N15),"") | EK15: =IF(O15>0,(VLOOKUP($A15,#REF!,31,0)*O15),"") | EL15: =IF(P15>0,(VLOOKUP($A15,#REF!,29,0)*P15),"") | EM15: =IF(Q15>0,(VLOOKUP($A15,#REF!,31,0)*Q15),"") | EN15: =IF(R15>0,(VLOOKUP($A15,#REF!,29,0)*R15),"") | EO15: =IF(S15>0,(VLOOKUP($A15,#REF!,31,0)*S15),"") | EP15: =IF(T15>0,(VLOOKUP($A15,#REF!,29,0)*T15),"") | EQ15: =IF(U15>0,(VLOOKUP($A15,#REF!,31,0)*U15),"") | ER15: =IF(V15>0,(VLOOKUP($A15,#REF!,29,0)*V15),"") | ES15: =IF(W15>0,(VLOOKUP($A15,#REF!,31,0)*W15),"") | ET15: =IF(X15>0,(VLOOKUP($A15,#REF!,29,0)*X15),"") | EU15: =IF(Y15>0,(VLOOKUP($A15,#REF!,31,0)*Y15),"") | EV15: =IF(Z15>0,(VLOOKUP($A15,#REF!,29,0)*Z15),"") | EW15: =IF(AA15>0,(VLOOKUP($A15,#REF!,31,0)*AA15),"") | EX15: =IF(AB15>0,(VLOOKUP($A15,#REF!,29,0)*AB15),"") | EY15: =IF(AC15>0,(VLOOKUP($A15,#REF!,31,0)*AC15),"") | EZ15: =IF(AD15>0,(VLOOKUP($A15,#REF!,29,0)*AD15),"") | FA15: =IF(AE15>0,(VLOOKUP($A15,#REF!,31,0)*AE15),"") | FB15: =IF(AF15>0,(VLOOKUP($A15,#REF!,29,0)*AF15),"") | FC15: =IF(AG15>0,(VLOOKUP($A15,#REF!,31,0)*AG15),"") | FD15: =IF(AH15>0,(VLOOKUP($A15,#REF!,29,0)*AH15),"") | FE15: =IF(AI15>0,(VLOOKUP($A15,#REF!,31,0)*AI15),"") | FF15: =IF(AJ15>0,(VLOOKUP($A15,#REF!,29,0)*AJ15),"") | FG15: =IF(AK15>0,(VLOOKUP($A15,#REF!,31,0)*AK15),"") | FH15: =IF(AL15>0,(VLOOKUP($A15,#REF!,29,0)*AL15),"") | FI15: =IF(AM15>0,(VLOOKUP($A15,#REF!,31,0)*AM15),"") | FJ15: =IF(AN15>0,(VLOOKUP($A15,#REF!,29,0)*AN15),"") | FK15: =IF(AO15>0,(VLOOKUP($A15,#REF!,31,0)*AO15),"") | FL15: =IF(AP15>0,(VLOOKUP($A15,#REF!,29,0)*AP15),"") | FM15: =IF(AQ15>0,(VLOOKUP($A15,#REF!,31,0)*AQ15),"") | FN15: =IF(AR15>0,(VLOOKUP($A15,#REF!,29,0)*AR15),"") | FO15: =IF(AS15>0,(VLOOKUP($A15,#REF!,31,0)*AS15),"") | FP15: =IF(AT15>0,(VLOOKUP($A15,#REF!,29,0)*AT15),"") | FQ15: =IF(AU15>0,(VLOOKUP($A15,#REF!,31,0)*AU15),"") | FR15: =IF(AV15>0,(VLOOKUP($A15,#REF!,29,0)*AV15),"") | FS15: =IF(AW15>0,(VLOOKUP($A15,#REF!,31,0)*AW15),"") | FT15: =IF(AX15>0,(VLOOKUP($A15,#REF!,29,0)*AX15),"") | FU15: =IF(AY15>0,(VLOOKUP($A15,#REF!,31,0)*AY15),"") | FV15: =IF(AZ15>0,(VLOOKUP($A15,#REF!,29,0)*AZ15),"") | FW15: =IF(BA15>0,(VLOOKUP($A15,#REF!,31,0)*BA15),"") | FX15: =IF(BB15>0,(VLOOKUP($A15,#REF!,29,0)*BB15),"") | FY15: =IF(BC15>0,(VLOOKUP($A15,#REF!,31,0)*BC15),"") | FZ15: =IF(BD15>0,(VLOOKUP($A15,#REF!,29,0)*BD15),"") | GA15: =IF(BE15>0,(VLOOKUP($A15,#REF!,31,0)*BE15),"") | GB15: =IF(BF15>0,(VLOOKUP($A15,#REF!,29,0)*BF15),"") | GC15: =IF(BG15>0,(VLOOKUP($A15,#REF!,31,0)*BG15),"") | GD15: =IF(BH15>0,(VLOOKUP($A15,#REF!,29,0)*BH15),"") | GE15: =IF(BI15>0,(VLOOKUP($A15,#REF!,31,0)*BI15),"") | GF15: =IF(BJ15>0,(VLOOKUP($A15,#REF!,29,0)*BJ15),"") | GG15: =IF(BK15>0,(VLOOKUP($A15,#REF!,31,0)*BK15),"") | GH15: =IF(BL15>0,(VLOOKUP($A15,#REF!,29,0)*BL15),"") | GI15: =IF(BM15>0,(VLOOKUP($A15,#REF!,31,0)*BM15),"") | GJ15: =IF(BN15>0,(VLOOKUP($A15,#REF!,29,0)*BN15),"") | GK15: =IF(BO15>0,(VLOOKUP($A15,#REF!,31,0)*BO15),"") | GL15: =IF(BP15>0,(VLOOKUP($A15,#REF!,29,0)*BP15),"") | GM15: =IF(BQ15>0,(VLOOKUP($A15,#REF!,31,0)*BQ15),"") | GN15: =IF(BR15>0,(VLOOKUP($A15,#REF!,29,0)*BR15),"") | GO15: =IF(BS15>0,(VLOOKUP($A15,#REF!,31,0)*BS15),"") | GP15: =IF(BT15>0,(VLOOKUP($A15,#REF!,29,0)*BT15),"") | GQ15: =IF(BU15>0,(VLOOKUP($A15,#REF!,31,0)*BU15),"") | GR15: =IF(BV15>0,(VLOOKUP($A15,#REF!,29,0)*BV15),"") | GS15: =IF(BW15>0,(VLOOKUP($A15,#REF!,31,0)*BW15),"") | GT15: =IF(BX15>0,(VLOOKUP($A15,#REF!,29,0)*BX15),"") | GU15: =IF(BY15>0,(VLOOKUP($A15,#REF!,31,0)*BY15),"") | GV15: =IF(BZ15>0,(VLOOKUP($A15,#REF!,29,0)*BZ15),"") | GW15: =IF(CA15>0,(VLOOKUP($A15,#REF!,31,0)*CA15),"") | GX15: =IF(CB15>0,(VLOOKUP($A15,#REF!,29,0)*CB15),"") | GY15: =IF(CC15>0,(VLOOKUP($A15,#REF!,31,0)*CC15),"") | GZ15: =IF(CD15>0,(VLOOKUP($A15,#REF!,29,0)*CD15),"") | HA15: =IF(CE15>0,(VLOOKUP($A15,#REF!,31,0)*CE15),"") | HB15: =IF(CF15>0,(VLOOKUP($A15,#REF!,29,0)*CF15),"") | HC15: =IF(CG15>0,(VLOOKUP($A15,#REF!,31,0)*CG15),"") | HD15: =IF(CH15>0,(VLOOKUP($A15,#REF!,29,0)*CH15),"") | HE15: =IF(CI15>0,(VLOOKUP($A15,#REF!,31,0)*CI15),"") | HF15: =IF(CJ15>0,(VLOOKUP($A15,#REF!,29,0)*CJ15),"") | HG15: =IF(CK15>0,(VLOOKUP($A15,#REF!,31,0)*CK15),"") | HH15: =IF(CL15>0,(VLOOKUP($A15,#REF!,29,0)*CL15),"") | HI15: =IF(CM15>0,(VLOOKUP($A15,#REF!,31,0)*CM15),"") | HJ15: =IF(CN15>0,(VLOOKUP($A15,#REF!,29,0)*CN15),"") | HK15: =IF(CO15>0,(VLOOKUP($A15,#REF!,31,0)*CO15),"") | HL15: =IF(CP15>0,(VLOOKUP($A15,#REF!,29,0)*CP15),"") | HM15: =IF(CQ15>0,(VLOOKUP($A15,#REF!,31,0)*CQ15),"") | HN15: =IF(CR15>0,(VLOOKUP($A15,#REF!,29,0)*CR15),"") | HO15: =IF(CS15>0,(VLOOKUP($A15,#REF!,31,0)*CS15),"") | HP15: =IF(CT15>0,(VLOOKUP($A15,#REF!,29,0)*CT15),"") | HQ15: =IF(CU15>0,(VLOOKUP($A15,#REF!,31,0)*CU15),"") | HR15: =IF(CV15>0,(VLOOKUP($A15,#REF!,29,0)*CV15),"") | HS15: =IF(CW15>0,(VLOOKUP($A15,#REF!,31,0)*CW15),"") | HT15: =IF(CX15>0,(VLOOKUP($A15,#REF!,29,0)*CX15),"") | HU15: =IF(CY15>0,(VLOOKUP($A15,#REF!,31,0)*CY15),"") | HV15: =IF(CZ15>0,(VLOOKUP($A15,#REF!,29,0)*CZ15),"") | HW15: =IF(DA15>0,(VLOOKUP($A15,#REF!,31,0)*DA15),"") | HX15: =IF(DB15>0,(VLOOKUP($A15,#REF!,29,0)*DB15),"") | HY15: =IF(DC15>0,(VLOOKUP($A15,#REF!,31,0)*DC15),"") | HZ15: =IF(DD15>0,(VLOOKUP($A15,#REF!,29,0)*DD15),"") | IA15: =IF(DE15>0,(VLOOKUP($A15,#REF!,31,0)*DE15),"") | IB15: =IF(DF15>0,(VLOOKUP($A15,#REF!,29,0)*DF15),"") | IC15: =IF(DG15>0,(VLOOKUP($A15,#REF!,31,0)*DG15),"")
A16: PBSLJM | B16: JOLLY | C16: Marina | D16: =IF((DV16+DT16)>0,DV16+DT16,"") -> 147 | AL16: 135 | AM16: 8 | AR16: 4 | DT16: =DL16+DI16+DF16+L16+CX16+BX16+AX16+AF16+AL16+BZ16+DB16+CR16+CP16+CL16+CH16+CF16+CD16+BN16+AR16+N16-DP16+DD16+BP16+CB16+Z16+CT16+BJ16+DR16+CZ16+CV16+CN16+CJ16+BV16+BT16+BR16+BL16+BH16+BF16+BD16+BB16+AZ16+AV16+AT16+AP16+AN16+AJ16+AH16+AD16+AB16+X16+V16+T16+R16+P16+J16+H16+F16 -> 139 | DU16: =(DT16*(VLOOKUP(A16,#REF!,29,0)))-(IF(DO16="x",MROUND(DP16*(VLOOKUP(A16,#REF!,29,0)*0.08),0.05),0)) -> #REF! | DV16: =DM16+DJ16+DG16+M16+CY16+BY16+AY16+AG16+AM16+CA16+DC16+CS16+CQ16+CM16+CI16+CG16+CE16+BO16+AS16+O16+DE16+BQ16+CC16+AA16+CU16+BK16+DA16+CW16+CO16+CK16+BW16+BU16+BS16+BM16+BI16+BG16+BE16+BC16+BA16+AW16+AU16+AQ16+AO16+AK16+AI16+AE16+AC16+Y16+W16+U16+S16+Q16+K16+I16+G16 -> 8 | DW16: =(DV16*(VLOOKUP(A16,#REF!,31,0))) -> #REF! | DX16: =VLOOKUP(A16,#REF!,33,0) -> #REF! | DY16: =DX16-(DW16+DU16) -> #REF! | DZ16: =IF(DY16=0,"","!!") -> #REF! | EB16: =IF(F16>0,(VLOOKUP($A16,#REF!,29,0)*F16),"") | EC16: =IF(G16>0,(VLOOKUP($A16,#REF!,31,0)*G16),"") | ED16: =IF(H16>0,(VLOOKUP($A16,#REF!,29,0)*H16),"") | EE16: =IF(I16>0,(VLOOKUP($A16,#REF!,31,0)*I16),"") | EF16: =IF(J16>0,(VLOOKUP($A16,#REF!,29,0)*J16),"") | EG16: =IF(K16>0,(VLOOKUP($A16,#REF!,31,0)*K16),"") | EH16: =IF(L16>0,(VLOOKUP($A16,#REF!,29,0)*L16),"") | EI16: =IF(M16>0,(VLOOKUP($A16,#REF!,31,0)*M16),"") | EJ16: =IF(N16>0,(VLOOKUP($A16,#REF!,29,0)*N16),"") | EK16: =IF(O16>0,(VLOOKUP($A16,#REF!,31,0)*O16),"") | EL16: =IF(P16>0,(VLOOKUP($A16,#REF!,29,0)*P16),"") | EM16: =IF(Q16>0,(VLOOKUP($A16,#REF!,31,0)*Q16),"") | EN16: =IF(R16>0,(VLOOKUP($A16,#REF!,29,0)*R16),"") | EO16: =IF(S16>0,(VLOOKUP($A16,#REF!,31,0)*S16),"") | EP16: =IF(T16>0,(VLOOKUP($A16,#REF!,29,0)*T16),"") | EQ16: =IF(U16>0,(VLOOKUP($A16,#REF!,31,0)*U16),"") | ER16: =IF(V16>0,(VLOOKUP($A16,#REF!,29,0)*V16),"") | ES16: =IF(W16>0,(VLOOKUP($A16,#REF!,31,0)*W16),"") | ET16: =IF(X16>0,(VLOOKUP($A16,#REF!,29,0)*X16),"") | EU16: =IF(Y16>0,(VLOOKUP($A16,#REF!,31,0)*Y16),"") | EV16: =IF(Z16>0,(VLOOKUP($A16,#REF!,29,0)*Z16),"") | EW16: =IF(AA16>0,(VLOOKUP($A16,#REF!,31,0)*AA16),"") | EX16: =IF(AB16>0,(VLOOKUP($A16,#REF!,29,0)*AB16),"") | EY16: =IF(AC16>0,(VLOOKUP($A16,#REF!,31,0)*AC16),"") | EZ16: =IF(AD16>0,(VLOOKUP($A16,#REF!,29,0)*AD16),"") | FA16: =IF(AE16>0,(VLOOKUP($A16,#REF!,31,0)*AE16),"") | FB16: =IF(AF16>0,(VLOOKUP($A16,#REF!,29,0)*AF16),"") | FC16: =IF(AG16>0,(VLOOKUP($A16,#REF!,31,0)*AG16),"") | FD16: =IF(AH16>0,(VLOOKUP($A16,#REF!,29,0)*AH16),"") | FE16: =IF(AI16>0,(VLOOKUP($A16,#REF!,31,0)*AI16),"") | FF16: =IF(AJ16>0,(VLOOKUP($A16,#REF!,29,0)*AJ16),"") | FG16: =IF(AK16>0,(VLOOKUP($A16,#REF!,31,0)*AK16),"") | FH16: =IF(AL16>0,(VLOOKUP($A16,#REF!,29,0)*AL16),"") -> #REF! | FI16: =IF(AM16>0,(VLOOKUP($A16,#REF!,31,0)*AM16),"") -> #REF! | FJ16: =IF(AN16>0,(VLOOKUP($A16,#REF!,29,0)*AN16),"") | FK16: =IF(AO16>0,(VLOOKUP($A16,#REF!,31,0)*AO16),"") | FL16: =IF(AP16>0,(VLOOKUP($A16,#REF!,29,0)*AP16),"") | FM16: =IF(AQ16>0,(VLOOKUP($A16,#REF!,31,0)*AQ16),"") | FN16: =IF(AR16>0,(VLOOKUP($A16,#REF!,29,0)*AR16),"") -> #REF! | FO16: =IF(AS16>0,(VLOOKUP($A16,#REF!,31,0)*AS16),"") | FP16: =IF(AT16>0,(VLOOKUP($A16,#REF!,29,0)*AT16),"") | FQ16: =IF(AU16>0,(VLOOKUP($A16,#REF!,31,0)*AU16),"") | FR16: =IF(AV16>0,(VLOOKUP($A16,#REF!,29,0)*AV16),"") | FS16: =IF(AW16>0,(VLOOKUP($A16,#REF!,31,0)*AW16),"") | FT16: =IF(AX16>0,(VLOOKUP($A16,#REF!,29,0)*AX16),"") | FU16: =IF(AY16>0,(VLOOKUP($A16,#REF!,31,0)*AY16),"") | FV16: =IF(AZ16>0,(VLOOKUP($A16,#REF!,29,0)*AZ16),"") | FW16: =IF(BA16>0,(VLOOKUP($A16,#REF!,31,0)*BA16),"") | FX16: =IF(BB16>0,(VLOOKUP($A16,#REF!,29,0)*BB16),"") | FY16: =IF(BC16>0,(VLOOKUP($A16,#REF!,31,0)*BC16),"") | FZ16: =IF(BD16>0,(VLOOKUP($A16,#REF!,29,0)*BD16),"") | GA16: =IF(BE16>0,(VLOOKUP($A16,#REF!,31,0)*BE16),"") | GB16: =IF(BF16>0,(VLOOKUP($A16,#REF!,29,0)*BF16),"") | GC16: =IF(BG16>0,(VLOOKUP($A16,#REF!,31,0)*BG16),"") | GD16: =IF(BH16>0,(VLOOKUP($A16,#REF!,29,0)*BH16),"") | GE16: =IF(BI16>0,(VLOOKUP($A16,#REF!,31,0)*BI16),"") | GF16: =IF(BJ16>0,(VLOOKUP($A16,#REF!,29,0)*BJ16),"") | GG16: =IF(BK16>0,(VLOOKUP($A16,#REF!,31,0)*BK16),"") | GH16: =IF(BL16>0,(VLOOKUP($A16,#REF!,29,0)*BL16),"") | GI16: =IF(BM16>0,(VLOOKUP($A16,#REF!,31,0)*BM16),"") | GJ16: =IF(BN16>0,(VLOOKUP($A16,#REF!,29,0)*BN16),"") | GK16: =IF(BO16>0,(VLOOKUP($A16,#REF!,31,0)*BO16),"") | GL16: =IF(BP16>0,(VLOOKUP($A16,#REF!,29,0)*BP16),"") | GM16: =IF(BQ16>0,(VLOOKUP($A16,#REF!,31,0)*BQ16),"") | GN16: =IF(BR16>0,(VLOOKUP($A16,#REF!,29,0)*BR16),"") | GO16: =IF(BS16>0,(VLOOKUP($A16,#REF!,31,0)*BS16),"") | GP16: =IF(BT16>0,(VLOOKUP($A16,#REF!,29,0)*BT16),"") | GQ16: =IF(BU16>0,(VLOOKUP($A16,#REF!,31,0)*BU16),"") | GR16: =IF(BV16>0,(VLOOKUP($A16,#REF!,29,0)*BV16),"") | GS16: =IF(BW16>0,(VLOOKUP($A16,#REF!,31,0)*BW16),"") | GT16: =IF(BX16>0,(VLOOKUP($A16,#REF!,29,0)*BX16),"") | GU16: =IF(BY16>0,(VLOOKUP($A16,#REF!,31,0)*BY16),"") | GV16: =IF(BZ16>0,(VLOOKUP($A16,#REF!,29,0)*BZ16),"") | GW16: =IF(CA16>0,(VLOOKUP($A16,#REF!,31,0)*CA16),"") | GX16: =IF(CB16>0,(VLOOKUP($A16,#REF!,29,0)*CB16),"") | GY16: =IF(CC16>0,(VLOOKUP($A16,#REF!,31,0)*CC16),"") | GZ16: =IF(CD16>0,(VLOOKUP($A16,#REF!,29,0)*CD16),"") | HA16: =IF(CE16>0,(VLOOKUP($A16,#REF!,31,0)*CE16),"") | HB16: =IF(CF16>0,(VLOOKUP($A16,#REF!,29,0)*CF16),"") | HC16: =IF(CG16>0,(VLOOKUP($A16,#REF!,31,0)*CG16),"") | HD16: =IF(CH16>0,(VLOOKUP($A16,#REF!,29,0)*CH16),"") | HE16: =IF(CI16>0,(VLOOKUP($A16,#REF!,31,0)*CI16),"") | HF16: =IF(CJ16>0,(VLOOKUP($A16,#REF!,29,0)*CJ16),"") | HG16: =IF(CK16>0,(VLOOKUP($A16,#REF!,31,0)*CK16),"") | HH16: =IF(CL16>0,(VLOOKUP($A16,#REF!,29,0)*CL16),"") | HI16: =IF(CM16>0,(VLOOKUP($A16,#REF!,31,0)*CM16),"") | HJ16: =IF(CN16>0,(VLOOKUP($A16,#REF!,29,0)*CN16),"") | HK16: =IF(CO16>0,(VLOOKUP($A16,#REF!,31,0)*CO16),"") | HL16: =IF(CP16>0,(VLOOKUP($A16,#REF!,29,0)*CP16),"") | HM16: =IF(CQ16>0,(VLOOKUP($A16,#REF!,31,0)*CQ16),"") | HN16: =IF(CR16>0,(VLOOKUP($A16,#REF!,29,0)*CR16),"") | HO16: =IF(CS16>0,(VLOOKUP($A16,#REF!,31,0)*CS16),"") | HP16: =IF(CT16>0,(VLOOKUP($A16,#REF!,29,0)*CT16),"") | HQ16: =IF(CU16>0,(VLOOKUP($A16,#REF!,31,0)*CU16),"") | HR16: =IF(CV16>0,(VLOOKUP($A16,#REF!,29,0)*CV16),"") | HS16: =IF(CW16>0,(VLOOKUP($A16,#REF!,31,0)*CW16),"") | HT16: =IF(CX16>0,(VLOOKUP($A16,#REF!,29,0)*CX16),"") | HU16: =IF(CY16>0,(VLOOKUP($A16,#REF!,31,0)*CY16),"") | HV16: =IF(CZ16>0,(VLOOKUP($A16,#REF!,29,0)*CZ16),"") | HW16: =IF(DA16>0,(VLOOKUP($A16,#REF!,31,0)*DA16),"") | HX16: =IF(DB16>0,(VLOOKUP($A16,#REF!,29,0)*DB16),"") | HY16: =IF(DC16>0,(VLOOKUP($A16,#REF!,31,0)*DC16),"") | HZ16: =IF(DD16>0,(VLOOKUP($A16,#REF!,29,0)*DD16),"") | IA16: =IF(DE16>0,(VLOOKUP($A16,#REF!,31,0)*DE16),"") | IB16: =IF(DF16>0,(VLOOKUP($A16,#REF!,29,0)*DF16),"") | IC16: =IF(DG16>0,(VLOOKUP($A16,#REF!,31,0)*DG16),"")
