Workbook
Name code_projet: 'Data Epsilon'!$AI:$AI
Name num_epsilon: 'Data Epsilon'!$A:$A
Name SEMAINE: Logistique!$CN$1:$CO$7

Sheet Logistique
C1: Date de début : | D1: 43102 | Q1: Cellule liée : | R1: 343 | CN1: 1 | CO1: L
CM2: GC | CN2: 2 | CO2: M
CM3: ELEC | CN3: 3 | CO3: M
CM4: MEC | CN4: 4 | CO4: J
CN5: 5 | CO5: V
T6: =D1+R1 -> 43445 | U6: =T6+1 -> 43446 | V6: =U6+1 -> 43447 | W6: =V6+1 -> 43448 | X6: =W6+1 -> 43449 | Y6: =X6+1 -> 43450 | Z6: =Y6+1 -> 43451 | AA6: =Z6+1 -> 43452 | AB6: =AA6+1 -> 43453 | ... CK6: =CJ6+1 -> 43514 | CN6: 6 | CO6: S
A7: Dossier | B7: Sec. | C7: CA + DECT | D7: Projet | E7: Tr | F7: Local | G7: N°OT/TOT | H7: Repère fonctionnel | I7: N°Epsilon | J7: Etat | K7: Type de demande | L7: Date demandée initiale (CA) | M7: Date de saisie de la demande | N7: Date demandée avec glissement planning | O7: Date de visite | P7: Comment. ORANO | Q7: Date à dispo | R7: Date de pose réelle | S7: Réunion KDL/ORANO/MGC | T7: =CONCATENATE("S ",WEEKNUM(T6,2)) -> S 50 | U7: =IF(AND(WEEKNUM(U6,2)<>WEEKNUM(T6,2),U8="L"),CONCATENATE("S ",WEEKNUM(U6,2)),"") | V7: =IF(AND(WEEKNUM(V6,2)<>WEEKNUM(U6,2),V8="L"),CONCATENATE("S ",WEEKNUM(V6,2)),"") | W7: =IF(AND(WEEKNUM(W6,2)<>WEEKNUM(V6,2),W8="L"),CONCATENATE("S ",WEEKNUM(W6,2)),"") | X7: =IF(AND(WEEKNUM(X6,2)<>WEEKNUM(W6,2),X8="L"),CONCATENATE("S ",WEEKNUM(X6,2)),"") | Y7: =IF(AND(WEEKNUM(Y6,2)<>WEEKNUM(X6,2),Y8="L"),CONCATENATE("S ",WEEKNUM(Y6,2)),"") | Z7: =IF(AND(WEEKNUM(Z6,2)<>WEEKNUM(Y6,2),Z8="L"),CONCATENATE("S ",WEEKNUM(Z6,2)),"") -> S 51 | AA7: =IF(AND(WEEKNUM(AA6,2)<>WEEKNUM(Z6,2),AA8="L"),CONCATENATE("S ",WEEKNUM(AA6,2)),"") | AB7: =IF(AND(WEEKNUM(AB6,2)<>WEEKNUM(AA6,2),AB8="L"),CONCATENATE("S ",WEEKNUM(AB6,2)),"") | ... CK7: =IF(AND(WEEKNUM(CK6,2)<>WEEKNUM(CJ6,2),CK8="L"),CONCATENATE("S ",WEEKNUM(CK6,2)),"") -> S 8 | CN7: 7 | CO7: D
T8: =VLOOKUP(WEEKDAY(T6,2),SEMAINE,2,FALSE) -> M | U8: =VLOOKUP(WEEKDAY(U6,2),SEMAINE,2,FALSE) -> M | V8: =VLOOKUP(WEEKDAY(V6,2),SEMAINE,2,FALSE) -> J | W8: =VLOOKUP(WEEKDAY(W6,2),SEMAINE,2,FALSE) -> V | X8: =VLOOKUP(WEEKDAY(X6,2),SEMAINE,2,FALSE) -> S | Y8: =VLOOKUP(WEEKDAY(Y6,2),SEMAINE,2,FALSE) -> D | Z8: =VLOOKUP(WEEKDAY(Z6,2),SEMAINE,2,FALSE) -> L | AA8: =VLOOKUP(WEEKDAY(AA6,2),SEMAINE,2,FALSE) -> M | ... CK8: =VLOOKUP(WEEKDAY(CK6,2),SEMAINE,2,FALSE) -> L
T9: =T6 -> 43445 | U9: =U6 -> 43446 | V9: =V6 -> 43447 | W9: =W6 -> 43448 | X9: =X6 -> 43449 | Y9: =Y6 -> 43450 | Z9: =Z6 -> 43451 | AA9: =AA6 -> 43452 | ... CK9: =CK6 -> 43514
D10: =INDEX('Data Epsilon'!$A$2:$BQ$9,MATCH($I10,'Data Epsilon'!$A$2:$A$9,0),35) -> 2D2218 | H10: =INDEX('Data Epsilon'!$A$2:$BQ$9,MATCH($I10,'Data Epsilon'!$A$2:$A$9,0),25) -> 2DMR000SYST | I10: e260838542 | K10: =IF(COUNTIF(I10,"*E*"),"echafaudage",IF(COUNTIF(I10,"*C*"),"Confinement",IF(COUNTIF(I10,"*K*"),"Decontamination",IF(COUNTIF(I10,"*M*"),"Mise à Disposition",IF(COUNTIF(I10,"*V*"),"Pompage",IF(COUNTIF(I10,"*p*")," Pose de Protection Biologique","faux")))))) -> echafaudage
D11: =INDEX('Data Epsilon'!$A$2:$BQ$9,MATCH($I11,'Data Epsilon'!$A$2:$A$9,0),35) -> #N/A | H11: =INDEX('Data Epsilon'!$A$2:$BQ$9,MATCH($I11,'Data Epsilon'!$A$2:$A$9,0),25) -> #N/A
D12: =INDEX('Data Epsilon'!$A$2:$BQ$9,MATCH($I12,'Data Epsilon'!$A$2:$A$9,0),35) -> #N/A | H12: =INDEX('Data Epsilon'!$A$2:$BQ$9,MATCH($I12,'Data Epsilon'!$A$2:$A$9,0),25) -> #N/A
D13: =INDEX('Data Epsilon'!$A$2:$BQ$9,MATCH($I13,'Data Epsilon'!$A$2:$A$9,0),35) -> #N/A | H13: =INDEX('Data Epsilon'!$A$2:$BQ$9,MATCH($I13,'Data Epsilon'!$A$2:$A$9,0),25) -> #N/A
D14: =INDEX('Data Epsilon'!$A$2:$BQ$9,MATCH($I14,'Data Epsilon'!$A$2:$A$9,0),35) -> #N/A | H14: =INDEX('Data Epsilon'!$A$2:$BQ$9,MATCH($I14,'Data Epsilon'!$A$2:$A$9,0),25) -> #N/A
D15: =INDEX('Data Epsilon'!$A$2:$BQ$9,MATCH($I15,'Data Epsilon'!$A$2:$A$9,0),35) -> #N/A | H15: =INDEX('Data Epsilon'!$A$2:$BQ$9,MATCH($I15,'Data Epsilon'!$A$2:$A$9,0),25) -> #N/A
D16: =INDEX('Data Epsilon'!$A$2:$BQ$9,MATCH($I16,'Data Epsilon'!$A$2:$A$9,0),35) -> #N/A | H16: =INDEX('Data Epsilon'!$A$2:$BQ$9,MATCH($I16,'Data Epsilon'!$A$2:$A$9,0),25) -> #N/A

Sheet Data Epsilon
A1: Référence dossier | B1: date création de la tâche | C1: Tâche réalisation | D1: Tâche réalisation: fin au plus tard le | E1: Tâche repli | F1: Tâche repli: début au plus tôt le | G1: Tâche repli: peut débuter le (top dépose) | H1: remarque de la surveillance respect délais | I1: remarque de la surveillance respect exigences | J1: régime | K1: Prestation réalisée le | L1: Repli réalisé le | M1: Prestation prévue le | N1: Repli prévu le | O1: Observation fournisseur | P1: nb unités d'oeuvre matériel | Q1: nb d'ouvrages | R1: nb d'unités d'oeuvre | S1: Code UO Fournisseur | T1: COMSAT | U1: VALIDEUR | V1: Dossier du fournisseur | W1: Commande | X1: référence de l'activité cliente | Y1: RF de l'activité cliente | Z1: intitulé de l'activité cliente | AA1: local de l'activité cliente | AB1: client (quad, nom, tel) | AC1: activité en zone contrôlée | AD1: risque à impact sur la sécu ou la RP | AE1: risque à impact sur la disponibilité | AF1: risque à impact sur la sûreté | AG1: interférence potentiel avec d'autres chantiers | AH1: contraintes sur la planification de l'activité logistique | AI1: Code projet | AJ1: Discipline | AK1: référence initiale | AL1: mise à jour de l'expression de besoin | AM1: Colonne supprimée | AN1: Précisions diverses sur le besoin | AO1: h (echaf) | AP1: l (echaf) | AQ1: L (echaf) | AR1: poids à soulever par potence (echaf) | AS1: Type d'accès | AT1: Moyen de substitution | AU1: CMU (en daN) | AV1: Conducteur de nacelle | AW1: Horaire de travail journée | AX1: Horaire de travail semaine | AY1: Rédacteur | AZ1: Observations logisticien | BA1: Tâche planning | BB1: Clé EPSILON2 | BC1: activité cliente relative au SIR | BD1: Risque séisme | BE1: ADR séisme évènement | BF1: Parade séisme évènement | BG1: Contaminant | BH1: Ecu de la TOT | BI1: Classe de sûreté | BJ1: Exigence de qualification | BK1: Echéance séisme | BL1: COMDAT | BM1: BDP de la TOT | BN1: Code UO EDF | BO1: Code UO EDF Capitalisé | BP1: Date début de location | BQ1: Date top dépose logisticien
A2: E260818703 | B2: 42415.639 | C2: PE260818703 | D2: 42559 | E2: DE260818703 | F2: 42559.125 | G2: 42963.614 | M2: 42514.333 | P2: 0 | Q2: 0 | R2: 0 | T2: NON_DEFINI | U2: A08175 | W2: Lot D - DACC (Moyen d'accès) | X2: 78780210 | Y2: 2SAP000SYST | Z2: X2059B/C SGI POSE DU CAPS EN AVAL DE 2SAP041VA ET 2SAP036VA | AB2: MASSET FABIEN SERVICE EC AU 3385 ET 7319 | AC2: non | AI2: 2C2015 | AJ2: IPE | AK2: E260818703 | AL2: 42562.602 | AN2: Pose d'un echafaudage roulant avec plancher à 3m à proximité du secheur 2SAP080DS afin de déposer le caps en aval des robinets 2SAP041VA et 2SAP036VA et remettre en conformité la tuyauterie. | AO2: 3 | AP2: 2 | AQ2: 2 | AS2: Echafaudage | AW2: NH | AX2: 5_7 | AY2: FABIEN MASSET | BA2: 170099 | BB2: 10 2 SAP000SYST | BC2: oui | BD2: non | BE2: non | BH2: NC | BI2: QS | BJ2: SO | BL2: NON_DEFINI
A3: E260828016 | B3: 42430.608 | C3: PE260828016 | D3: 42577.479 | E3: DE260828016 | F3: 42605.708 | G3: 42606.595 | K3: 06/04/0016 00:00:00 | P3: 0 | Q3: 0 | R3: 1 | T3: NON_DEFINI | U3: A08175 | W3: Lot D - DACC (Moyen d'accès) | X3: 78780203 | Y3: 2SAP080DS | Z3: X2059B/C CSY TIRAGE DE CÂBLES ET POSE DE COFFRETS EN SDM | AA3: HMF0505 | AB3: BERGER LUDOVIC 3442 EQUIPE COMMUNE | AC3: non | AI3: 2P2116 | AJ3: IPE | AK3: E260828016 | AL3: 42321.541 | AN3: Voir schémas implantation echaff sous ecm : PX15SE01459000TINL local 2MF0405 | AO3: 3.00 | AP3: 1.00 | AQ3: 2.00 | AS3: Echafaudage | AW3: NH | AX3: 5_7 | AY3: LUDOVIC BERGER | BA3: 95307 | BB3: 03 2 SAP080DS | BC3: oui | BD3: non | BE3: non | BH3: NC | BI3: QS | BJ3: SO | BL3: NON_DEFINI
A4: E260828146 | B4: 42423.657 | C4: PE260828146 | D4: 42562.333 | E4: DE260828146 | F4: 42573.542 | G4: 42585.688 | K4: 42464.667 | L4: 42636.375 | M4: 42636.375 | P4: 0 | Q4: 0 | R4: 0 | T4: NON_DEFINI | U4: A08175 | W4: Lot D - DACC (Moyen d'accès) | X4: 78780204 | Y4: 2SAP000SYST | Z4: X2059B/C CSY TIRAGE DE CÂBLES ET POSE COFFRETS EN WA0442-43 | AB4: BERGER LUDOVIC: 3442 DECT 7578 EQUIPE COMMUNE | AC4: non | AI4: 2P2116 | AJ4: IPE | AK4: E260828146 | AL4: 42325.577 | AN4: Voir schémas implantation echaff sous ecm : PX15SE01459000TINL local 2WA0443 | AO4: 2 | AP4: 1 | AQ4: 2 | AS4: Echafaudage | AW4: NH | AX4: 5_7 | AY4: LUDOVIC BERGER | BA4: 95306 | BB4: 04 2 SAP000SYST | BC4: oui | BD4: non | BE4: non | BH4: NC | BI4: QS | BJ4: SO | BL4: NON_DEFINI
A5: E260828155 | B5: 42430.608 | C5: PE260828155 | D5: 42562.333 | E5: DE260828155 | F5: 42605.708 | G5: 42606.599 | K5: 04/03/0016 00:00:00 | P5: 0 | Q5: 0 | R5: 1 | T5: NON_DEFINI | U5: A08175 | W5: Lot D - DACC (Moyen d'accès) | X5: 78780203 | Y5: 2SAP080DS | Z5: X2059B/C CSY TIRAGE DE CÂBLES ET POSE DE COFFRETS EN SDM | AA5: HMF0505 | AB5: BERGER LUDOVIC 3442 EQUIPE COMMUNE | AC5: non | AI5: 2P2116 | AJ5: IPE | AK5: E260828155 | AL5: 42325.596 | AN5: Voir schémas implantation echaff sous ecm : PX15SE01459000TINL local 2MF0505 | AO5: 2.00 | AP5: 0.70 | AQ5: 1.50 | AS5: Echafaudage | AW5: NH | AX5: 5_7 | AY5: LUDOVIC BERGER | BA5: 95307 | BB5: 03 2 SAP080DS | BC5: oui | BD5: non | BE5: non | BH5: NC | BI5: QS | BJ5: SO | BL5: NON_DEFINI
A6: E260832806 | B6: 42415.58 | C6: PE260832806 | D6: 42585.333 | E6: DE260832806 | F6: 42591.396 | G6: 42597.525 | K6: 42535.375 | L6: 42636.375 | M6: 42636.375 | N6: 42463.375 | P6: 0 | Q6: 0 | R6: 0 | T6: NON_DEFINI | U6: E24555 | W6: Lot D - DACC (Moyen d'accès) | X6: 80532331 | Y6: 2SAR000SYST | Z6: X2059B/C CIC REALIMENTATION CIRCUIT SAR PAR COMPRESSEUR AUX | AB6: CHARGÉ D'AFFAIRES EC FABIEN MASSET AU 3385 OU 7319 | AC6: non | AI6: 2P2116 | AJ6: IPE | AK6: E260832806 | AL6: 42339.618 | AN6: Mise en place d'un échafaudage au dessus du portail TES pour les coques béton du BK2 afin de faire passer des tuyauteries de réalimentation d'air SAR au dessus et laisser le passage des coques bétons possible. | AO6: 2 | AP6: 1 | AQ6: 1 | AS6: Echafaudage | AW6: NH | AX6: 6_7 | AY6: FABIEN MASSET | BA6: 91506 | BB6: 31 2 SAR000SYST | BC6: oui | BD6: oui | BE6: non | BF6: non | BH6: 21 | BI6: IPS | BJ6: SO | BL6: NON_DEFINI
A7: E260838542 | B7: 42415.467 | C7: PE260838542 | D7: supprimé | E7: DE260838542 | F7: supprimé | G7: supprimé | K7: supprimé | L7: supprimé | M7: supprimé | N7: supprimé | P7: 0 | Q7: 0 | R7: 0 | T7: NON_DEFINI | U7: E24555 | W7: Lot D - DACC (Moyen d'accès) | X7: 82190201 | Y7: 2DMR000SYST | Z7: 2PNXX2673-A ERGONOMIE CABINES PONTS POLAIRES 1300 MWE | AB7: I83956 - FABIENNE DUFETRE | AC7: non | AI7: 2D2218 | AJ7: IPE | AK7: E260838542 | AL7: 43291.683 | AN7: Pose d'un platelage de 2m² (1 x 2m) pour accéder au côté de la cabine du pont polaire. Ce platelage devra supporter le poids d'une personne. L'accès devra être possible par la passerelle derrière la cabine. Contact Fabienne DUFETRE 36.68 / 76.93 | AP7: 1 | AQ7: 2 | AS7: Echafaudage | AW7: 3_8 | AX7: 7_7 | AY7: FABIENNE DUFETRE | BA7: NON RATTACHEE | BB7: 01 2 DMR000SYST | BD7: oui | BE7: non | BF7: non | BH7: NC | BI7: IPS | BL7: NON_DEFINI
A8: E260845077 | B8: 42556.683 | C8: PE260845077 | D8: supprimé | E8: DE260845077 | F8: supprimé | G8: supprimé | K8: supprimé | L8: supprimé | M8: supprimé | N8: supprimé | P8: 0 | Q8: 0 | R8: 0 | T8: NON_DEFINI | U8: RD0E8CDN | W8: Lot D - DACC (Moyen d'accès) | X8: 82190201 | Y8: 2DMR000SYST | Z8: 2PNXX2673-A ERGONOMIE CABINES PONTS POLAIRES 1300 MWE | AB8: I83956 - FABIENNE DUFETRE | AC8: non | AI8: 2D2218 | AJ8: IPE | AK8: E260845077 | AL8: 43291.683 | AN8: Pose d'un platelage de 2m² (1 x2m) pour accéder au côté de la plateforme moteur rotation. Le platelage devra pouvoir supporter le poids de 2 personnes. Accès possible par la plateforme. Contact Fabienne DUFETRE 36.68 / 76.93 | AS8: Echafaudage | AW8: 3_8 | AX8: 7_7 | AY8: FABIENNE DUFETRE | BA8: NON RATTACHEE | BB8: 01 2 DMR000SYST | BD8: oui | BE8: non | BH8: NC | BI8: IPS | BL8: NON_DEFINI
A9: E260856491 | B9: 42458.5 | C9: PE260856491 | D9: supprimé | E9: DE260856491 | F9: supprimé | G9: supprimé | K9: supprimé | L9: supprimé | M9: supprimé | N9: supprimé | P9: 0 | Q9: 0 | R9: 0 | T9: NON_DEFINI | U9: D55872 | W9: Lot D - DACC (Moyen d'accès) | X9: 81803103 | Y9: 2HRA0005WD | Z9: P2746A/A PV-CPN CAROTTAGES LOCAL PUIT DE CUVE 2HRA05WD0001 | AB9: G07444 - BERTRAND FANGET | AC9: non | AI9: 2P2116 | AJ9: IPE | AK9: E260856491 | AL9: 42339.573 | AN9: montage d'un chassi sur roulette pour pose de protection biologique dans le local puits de cuve, local RA0501/02. | AO9: 2 | AP9: 1.5 | AQ9: 0.5 | AS9: Echafaudage | AW9: NA | AX9: NA | AY9: BERTRAND FANGET | BA9: 90855 | BB9: 03 2 HRA0005WD | BD9: oui | BE9: non | BH9: 33 | BL9: NON_DEFINI
