Workbook
Name affect1: [1]micros!$K$3:$K$4
Name affect1: [1]micros!$K$3:$K$4
Name affect1: micros!$K$3:$K$4
Name affect2: [1]hf!$K$3:$K$4
Name affect2: [1]hf!$K$3:$K$4
Name affect2: hf!$K$3:$K$4
Name affect3: [1]periph1!$K$3:$K$4
Name affect3: [1]periph1!$K$3:$K$4
Name affect3: periph1!$K$3:$K$4
Name affect4: [1]signal!$K$3:$K$4
Name affect4: [1]signal!$K$3:$K$4
Name affect4: signal!$K$3:$K$4
Name affect5: [1]divers!$K$3:$K$4
Name affect5: [1]divers!$K$3:$K$4
Name affect5: divers!$K$3:$K$4
Name AFFECTATION: [2]NOM2!$K$3:$K$4
Name AFFECTATIONv1: '[2]signal v1'!$K$3:$K$4
Name AFFECTATIONv2: signal!$K$3:$K$4
Name bt: [1]total!$F$8:$F$139
Name divers: [1]total!$R$8:$R$24
Name divers: test!#REF!
Name divers: total!$R$8:$R$24
Name elec: [2]total!$J$8:$J$54
Name hf: [1]total!$F$8:$F$139
Name hf: test!#REF!
Name hf: total!$F$8:$F$139
Name micros: [1]total!$B$8:$B$349
Name micros: test!$A$2:$A$16
Name micros: total!$B$8:$B$172
Name mp: [1]total!$N$8:$N$43
Name new: [1]total!$B$8:$B$349
Name p: [1]total!$J$8:$J$48
Name periph1: [1]total!$J$8:$J$48
Name periph1: test!#REF!
Name periph1: total!$J$8:$J$48
Name signal: [1]total!$N$8:$N$43
Name signal: test!#REF!
Name signal: total!$N$8:$N$43
Name t: [1]total!$R$8:$R$24
Name total: test!$A$1:$C$17
Name total: total!$A$1:$V$178

Sheet micros
A1: Presta
B3: POSTE | C3: GROUPE | D3: GROUPE | E3: POSTE | F3: POSTE | G3: GROUPE | K3: POSTE
A4: MICROS | B4: NOM | C4: NOM | D4: NOM | E4: NOM | F4: NOM | G4: NOM | K4: GROUPE
A5: BETA52A | B5: 4 | H5: =MAX(B5:G5) -> 4
H6: =MAX(B6:G6) -> 0
H7: =MAX(B7:G7) -> 0
H8: =MAX(B8:G8) -> 0
H9: =MAX(B9:G9) -> 0
H10: =MAX(B10:G10) -> 0
H11: =MAX(B11:G11) -> 0
H12: =MAX(B12:G12) -> 0
H13: =MAX(B13:G13) -> 0
H14: =MAX(B14:G14) -> 0
H15: =MAX(B15:G15) -> 0
H16: =MAX(B16:G16) -> 0
H17: =MAX(B17:G17) -> 0
... H68: =MAX(B68:G68) -> 0

Sheet hf
A1: Presta
B3: GROUPE | C3: GROUPE | D3: POSTE | E3: POSTE | F3: GROUPE | G3: POSTE | K3: POSTE
A4: HF | B4: NOM | C4: NOM | D4: NOM | E4: NOM | F4: NOM | G4: NOM | K4: GROUPE
H5: =MAX(B5:G5) -> 0
A6: UR4D+ | B6: 8 | H6: =MAX(B6:G6) -> 8
H7: =MAX(B7:G7) -> 0
H8: =MAX(B8:G8) -> 0
H9: =MAX(B9:G9) -> 0
H10: =MAX(B10:G10) -> 0
H11: =MAX(B11:G11) -> 0
H12: =MAX(B12:G12) -> 0
H13: =MAX(B13:G13) -> 0
H14: =MAX(B14:G14) -> 0
H15: =MAX(B15:G15) -> 0
H16: =MAX(B16:G16) -> 0
H17: =MAX(B17:G17) -> 0
H18: =MAX(B18:G18) -> 0
... H68: =MAX(B68:G68) -> 0

Sheet periph1
A1: Presta
B3: POSTE | C3: POSTE | D3: POSTE | E3: POSTE | F3: POSTE | G3: GROUPE | K3: POSTE
A4: PÉRIPHERIQUES AUDIO | B4: NOM | C4: NOM | D4: NOM | E4: NOM | F4: NOM | G4: NOM | K4: GROUPE
H5: =MAX(B5:G5) -> 0
H6: =MAX(B6:G6) -> 0
H7: =MAX(B7:G7) -> 0
H8: =MAX(B8:G8) -> 0
H9: =MAX(B9:G9) -> 0
H10: =MAX(B10:G10) -> 0
H11: =MAX(B11:G11) -> 0
H12: =MAX(B12:G12) -> 0
H13: =MAX(B13:G13) -> 0
H14: =MAX(B14:G14) -> 0
H15: =MAX(B15:G15) -> 0
H16: =MAX(B16:G16) -> 0
... H68: =MAX(B68:G68) -> 0

Sheet signal
A1: Presta
B3: POSTE | C3: GROUPE | D3: GROUPE | E3: GROUPE | F3: GROUPE | G3: GROUPE | K3: POSTE
A4: DISTRIBUTION DE SIGNAL | B4: NOM | C4: NOM | D4: NOM | E4: NOM | F4: NOM | G4: NOM | K4: GROUPE
H5: =MAX(B5:G5) -> 0
H6: =MAX(B6:G6) -> 0
H7: =MAX(B7:G7) -> 0
H8: =MAX(B8:G8) -> 0
H9: =MAX(B9:G9) -> 0
H10: =MAX(B10:G10) -> 0
H11: =MAX(B11:G11) -> 0
H12: =MAX(B12:G12) -> 0
H13: =MAX(B13:G13) -> 0
H14: =MAX(B14:G14) -> 0
H15: =MAX(B15:G15) -> 0
H16: =MAX(B16:G16) -> 0
... H68: =MAX(B68:G68) -> 0

Sheet divers
A1: Presta
B3: GROUPE | C3: POSTE | D3: GROUPE | E3: POSTE | F3: POSTE | G3: POSTE | K3: POSTE
A4: DIVERS | B4: NOM | C4: NOM | D4: NOM | E4: NOM | F4: NOM | G4: NOM | K4: GROUPE
H5: =MAX(B5:G5) -> 0
H6: =MAX(B6:G6) -> 0
H7: =MAX(B7:G7) -> 0
H8: =MAX(B8:G8) -> 0
H9: =MAX(B9:G9) -> 0
H10: =MAX(B10:G10) -> 0
H11: =MAX(B11:G11) -> 0
H12: =MAX(B12:G12) -> 0
H13: =MAX(B13:G13) -> 0
H14: =MAX(B14:G14) -> 0
H15: =MAX(B15:G15) -> 0
H16: =MAX(B16:G16) -> 0
... H68: =MAX(B68:G68) -> 0

Sheet total
A1: Presta
A2: NOM
A3: VERSION
A4: POSTE
A6: Qté | B6: MICRO | C6: designation | E6: Qté | F6: HF / BNC | G6: designation | I6: Qté | J6: PÉRIPHERIQUES AUDIO | K6: designation | M6: Qté | N6: DISTRIBUTION DE SIGNAL | O6: designation | Q6: Qté | R6: DIVERS | S6: designation
B8: SHURE | F8: RECEPTEUR | J8: AUDIO TOOLBOX | N8: FIBRE /RJ45 / Touret | R8: CONSOMABLE
A10: =SUMIF(micros!$A$5:$H$68,B10,micros!$H$5:$H$68) -> 4 | B10: BETA52A | C10: BETA52 SHURE Micro cardioide large articulé grosse caisse | E10: =SUMIF(hf!$A$5:$H$68,F10,hf!$H$5:$H$68) -> 0 | F10: UR4D | G10: UR4D SHURE Double recepteur | I10: =SUMIF(periph1!$A$5:$H$68,J10,periph1!$H$5:$H$68) -> 0 | J10: AVBX7 | K10: AVBX7 - AUVITRAN ToolBox 7 Slots dble Alim Smartbeam quad | M10: =SUMIF(signal!$A$5:$H$68,N10,signal!$H$5:$H$68) -> 0 | N10: F4U200 | O10: F4U200 KLOTZ FibreLink Quad SmartBeam multimode 200m | Q10: =SUMIF(divers!$A$5:$H$68,R10,divers!$H$5:$H$68) -> 0 | R10: LR03 | S10: LR03 AAA Pile 1.5V petite
A11: =SUMIF(micros!$A$5:$H$68,B11,micros!$H$5:$H$68) -> 0 | B11: BETA58A | C11: BETA58A SHURE Micro hypercardioïde néod.chant | E11: =SUMIF(hf!$A$5:$H$68,F11,hf!$H$5:$H$68) -> 8 | F11: UR4D+ | G11: UR4D+ SHURE Double recepteur + cascade RF | I11: =SUMIF(periph1!$A$5:$H$68,J11,periph1!$H$5:$H$68) -> 0 | J11: AVBX3 | K11: AVBX3 - AUVITRAN Toolbox 3 Slots dble Alim | M11: =SUMIF(signal!$A$5:$H$68,N11,signal!$H$5:$H$68) -> 0 | N11: F4U020 | O11: F4U020 KLOTZ FibreLink Quad SmartBeam multimode 20m | Q11: =SUMIF(divers!$A$5:$H$68,R11,divers!$H$5:$H$68) -> 0 | R11: LR06 | S11: LR06 AA Pile 1.5V moyenne
A12: =SUMIF(micros!$A$5:$H$68,B12,micros!$H$5:$H$68) -> 0 | B12: BEAT56A | C12: BETA56A SHURE Micro dynamique supercardioïde | E12: =SUMIF(hf!$A$5:$H$68,F12,hf!$H$5:$H$68) -> 0 | F12: UR4S+ | G12: UR4S+ SHURE Simple recepteur + cascade RF | I12: =SUMIF(periph1!$A$5:$H$68,J12,periph1!$H$5:$H$68) -> 0 | J12: AxC-OPTO | K12: AxC-OPTO | M12: =SUMIF(signal!$A$5:$H$68,N12,signal!$H$5:$H$68) -> 0 | N12: F4U010 | O12: F4U010 KLOTZ FibreLink Quad SmartBeam multimode 10m | Q12: =SUMIF(divers!$A$5:$H$68,R12,divers!$H$5:$H$68) -> 0 | R12: LR61 | S12: LR61 AAAA Pile 9V rectangulaire
A13: =SUMIF(micros!$A$5:$H$68,B13,micros!$H$5:$H$68) -> 0 | B13: BETA57A | C13: BETA57A SHURE Micro hypercardioïde néod. instrument | E13: =SUMIF(hf!$A$5:$H$68,F13,hf!$H$5:$H$68) -> 0 | F13: UR4S | G13: UR4S SHURE Simple recepteur | I13: =SUMIF(periph1!$A$5:$H$68,J13,periph1!$H$5:$H$68) -> 0 | J13: AxP-SX | K13: Transceiver SFP optique et connecteur LC pour double fibre multimode | M13: =SUMIF(signal!$A$5:$H$68,N13,signal!$H$5:$H$68) -> 0 | N13: FB4ZFEC001 | O13: FB4ZFEC001 KLOTZ épanoui SmartBeam-4Sc multimode 1m | Q13: =SUMIF(divers!$A$5:$H$68,R13,divers!$H$5:$H$68) -> 0 | R13: GAF BLANC | S13: GAF BLANC Rouleau de Gaffer 50 mm 50 mètres
A14: =SUMIF(micros!$A$5:$H$68,B14,micros!$H$5:$H$68) -> 0 | B14: BETA98/S | C14: BETA98 SHURE Micro mini électret supercardioïde | E14: =SUMIF(hf!$A$5:$H$68,F14,hf!$H$5:$H$68) -> 0 | F14: P6R | G14: P6R SHURE PSM600 récepteur bodypack | M14: =SUMIF(signal!$A$5:$H$68,N14,signal!$H$5:$H$68) -> 0 | N14: FB4ZFEL001 | O14: FB4ZFEL001 KLOTZ épanoui SmartBeam-4Lc multimode 1m | Q14: =SUMIF(divers!$A$5:$H$68,R14,divers!$H$5:$H$68) -> 0 | R14: GAF NOIR | S14: GAF NOIR Rouleau de Gaffer 50 mm 50 mètres
A15: =SUMIF(micros!$A$5:$H$68,B15,micros!$H$5:$H$68) -> 0 | B15: BETA98 H/C | C15: BETA98H/C SHURE Micro mini électret cardioïde avec col de cygne intégré et pince de fixation | E15: =SUMIF(hf!$A$5:$H$68,F15,hf!$H$5:$H$68) -> 0 | F15: P7R | G15: P7R SHURE PSM700 récepteur bodypack | J15: CARTES RESEAU | M15: =SUMIF(signal!$A$5:$H$68,N15,signal!$H$5:$H$68) -> 0 | N15: F2U200 | O15: F2U200 KLOTZ FibreLink Dual SmartBeam multimode 200m | Q15: =SUMIF(divers!$A$5:$H$68,R15,divers!$H$5:$H$68) -> 0 | R15: Blister | S15: Blister barniers couleurs
A16: =SUMIF(micros!$A$5:$H$68,B16,micros!$H$5:$H$68) -> 0 | B16: BETA87C | C16: BETA87C SHURE Micro condensateur cardioïde | E16: =SUMIF(hf!$A$5:$H$68,F16,hf!$H$5:$H$68) -> 0 | F16: P9RA+ | G16: P9R+ SHURE PSM900 récepteur bodypack | I16: =SUMIF(hf!$A$5:$H$68,J16,hf!$H$5:$H$68) -> 0 | J16: AxC-ADSP | K16: Carte ASRC et DSP sur 64 × 64 canaux | M16: =SUMIF(signal!$A$5:$H$68,N16,signal!$H$5:$H$68) -> 0 | N16: F2U005 | O16: F2U005 KLOTZ FibreLink Dual SmartBeam multimode 5m | Q16: =SUMIF(divers!$A$5:$H$68,R16,divers!$H$5:$H$68) -> 0 | R16: PLIO10 | S16: PLIO10 Dix Rouleaux de Plio de différentes couleurs 15mm x 10m
A17: =SUMIF(micros!$A$5:$H$68,B17,micros!$H$5:$H$68) -> 0 | B17: BETA87A | C17: BETA87A SHURE Micro condensateur supercardioïde | E17: =SUMIF(hf!$A$5:$H$68,F17,hf!$H$5:$H$68) -> 0 | F17: P10R | G17: P10R SHURE PSM1000 récepteur bodypack Diversity | I17: =SUMIF(hf!$A$5:$H$68,J17,hf!$H$5:$H$68) -> 0 | J17: AxC-CN32IO | K17: Carte Cobranet 16 In + 16 Out 2xRJ45 (primary/secondary) | M17: =SUMIF(signal!$A$5:$H$68,N17,signal!$H$5:$H$68) -> 0 | N17: NKO2M200 | O17: NKO2M200 NEUTRIK opticalCON DUO Fibre multimode 200m | Q17: =SUMIF(divers!$A$5:$H$68,R17,divers!$H$5:$H$68) -> 0 | R17: AT7 blanc | S17: AT7 ADVANCE rouleau de collant PVC blanc en 15mm par 10 mètres
A18: =SUMIF(micros!$A$5:$H$68,B18,micros!$H$5:$H$68) -> 0 | B18: BETA91 | C18: BETA91 SHURE Micro PZM hypercardioide | E18: =SUMIF(hf!$A$5:$H$68,F18,hf!$H$5:$H$68) -> 0 | F18: P9HW | G18: P9HW SHURE récepteur de ceinture à câble | I18: =SUMIF(hf!$A$5:$H$68,J18,hf!$H$5:$H$68) -> 0 | J18: AxC-SWD5G | K18: Carte double switch 10 ports Gigabit administrables, 8x RJ45 + 2x cages SFP | M18: =SUMIF(signal!$A$5:$H$68,N18,signal!$H$5:$H$68) -> 0 | N18: TOCAT5-100 | O18: TOCAT5-100 Touret Ethernet Cat 5 de 100m en Ethercon | Q18: =SUMIF(divers!$A$5:$H$68,R18,divers!$H$5:$H$68) -> 0 | R18: AT7 noir | S18: AT7 ADVANCE rouleau de collant PVC noir en 15mm par 10 mètres
B19: BETA181/BI | C19: BETA181/BI SHURE Micro statique bi-directionnelle | E19: =SUMIF(hf!$A$5:$H$68,F19,hf!$H$5:$H$68) -> 0 | F19: AXT400 | G19: AXT400B Axient SHURE récepteur double large bande 470-698 Mhz | I19: =SUMIF(hf!$A$5:$H$68,J19,hf!$H$5:$H$68) -> 0 | J19: AxC-MADI | K19: Carte MADI 64 In + 64 Out sur 2xBNC + 1xOptical SC-Duplex + 1xRJ45 | M19: =SUMIF(signal!$A$5:$H$68,N19,signal!$H$5:$H$68) -> 0 | N19: TOCA5E-100 | O19: TOCA5E-100 Touret Shill GT380RM Cat 5E bleu 100m en Ethercon | Q19: =SUMIF(divers!$A$5:$H$68,R19,divers!$H$5:$H$68) -> 0 | R19: BN | S19: BN Rouleau de Scotch électro noir
B20: BETA181/C | C20: BETA181/C SHURE Micro statique cardioïde | E20: =SUMIF(hf!$A$5:$H$68,F20,hf!$H$5:$H$68) -> 0 | F20: AD4QE | G20: AD4QE Axient Digital SHURE récepteur quad | I20: =SUMIF(hf!$A$5:$H$68,J20,hf!$H$5:$H$68) -> 0 | J20: AxC-MADI/SFP | K20: Carte MADI 64 In + 64 Out sur 2xBNC + 1xCage SFP + 1xRJ45 | M20: =SUMIF(signal!$A$5:$H$68,N20,signal!$H$5:$H$68) -> 0 | N20: CAT5E100 | O20: CAT5E100 Audioline Liaison Ethernet RJ45 catégorie 5e de 100 mètres | Q20: =SUMIF(divers!$A$5:$H$68,R20,divers!$H$5:$H$68) -> 0 | R20: BB | S20: BBlanc Rouleau de Scotch électro blanc
B21: BETA181/O | C21: BETA181/O SHURE Micro statique omnidirectionnelle | E21: =SUMIF(hf!$A$5:$H$68,F21,hf!$H$5:$H$68) -> 0 | F21: AD4D | G21: AD4QE Axient Digital SHURE récepteur dual | I21: =SUMIF(hf!$A$5:$H$68,J21,hf!$H$5:$H$68) -> 0 | J21: AxC-ES100 | K21: Carte EtherSound 64 In + 64 Out sur 2xEtherCon + 2xRJ45 + RS232 | M21: =SUMIF(signal!$A$5:$H$68,N21,signal!$H$5:$H$68) -> 0 | N21: CAT5E50 | O21: CAT5E50 Audioline Liaison Ethernet RJ45 catégorie 5e de 50 mètres
A22: =SUMIF(micros!$A$5:$H$68,B22,micros!$H$5:$H$68) -> 0 | B22: BETA181/S | C22: BETA181/S SHURE Micro statique supercardioïde | E22: =SUMIF(hf!$A$5:$H$68,F22,hf!$H$5:$H$68) -> 0 | F22: ULXD4Q | G22: ULXD4Q SHURE Récepteur quad Dante | I22: =SUMIF(hf!$A$5:$H$68,J22,hf!$H$5:$H$68) -> 0 | J22: AxC-DANTE | K22: Carte Dante™ 64 In + 64 Out + Switch 4 ports Gigabits sur 2xEtherCon + 2xRJ45 | M22: =SUMIF(signal!$A$5:$H$68,N22,signal!$H$5:$H$68) -> 0 | N22: CAT5-30 | O22: CAT5-30 câble droit Ethernet en RJ45 de 30 mètres | R22: CONSO IEM
A23: =SUMIF(micros!$A$5:$H$68,B23,micros!$H$5:$H$68) -> 0 | B23: SM86 | C23: BETA86 SHURE Micro condensateur cardioïde | E23: =SUMIF(hf!$A$5:$H$68,F23,hf!$H$5:$H$68) -> 0 | F23: ULXD4D | G23: ULXD4D SHURE Récepteur double Dante | M23: =SUMIF(signal!$A$5:$H$68,N23,signal!$H$5:$H$68) -> 0 | N23: CAT5-20 | O23: CAT5-20 câble droit Ethernet en RJ45 de 20 mètres | Q23: =SUMIF(divers!$A$5:$H$68,R23,divers!$H$5:$H$68) -> 0 | R23: XSNET100 | S23: XSNET100 NEWSON Boite de 100 lingettes pour Ears Monitors
A24: =SUMIF(micros!$A$5:$H$68,B24,micros!$H$5:$H$68) -> 0 | B24: SM87A | C24: SM87A SHURE Micro condensateur supercardioïde | E24: =SUMIF(hf!$A$5:$H$68,F24,hf!$H$5:$H$68) -> 0 | F24: EM 3732 | G24: EM3732 SENNHEISER Récepteur dble AES Net1 | J24: INTERFACES DIGITALES | M24: =SUMIF(signal!$A$5:$H$68,N24,signal!$H$5:$H$68) -> 0 | N24: CAT5-5 | O24: CAT5-5 câble droit Ethernet en RJ45 de 5 mètres | Q24: =SUMIF(divers!$A$5:$H$68,R24,divers!$H$5:$H$68) -> 0 | R24: E Mousse | S24: E Mousse jaune pour casque ear monitor Shure E1 ou UM-1
A25: =SUMIF(micros!$A$5:$H$68,B25,micros!$H$5:$H$68) -> 0 | B25: SM58 | C25: SM58 SHURE Micro dynamique cardioïde | E25: =SUMIF(hf!$A$5:$H$68,F25,hf!$H$5:$H$68) -> 0 | F25: EM 2000 | G25: EM2000 SENNHEISER Récepteur simple, diversity, Splitter d'antenne intégré permettant de cascader jusqu'à 8 appareils | I25: =SUMIF(hf!$A$5:$H$68,J25,hf!$H$5:$H$68) -> 0 | J25: AxC-AT32IO | K25: Carte ADAT 16 In + 16 Out sur 4x TOSLINK optique | M25: =SUMIF(signal!$A$5:$H$68,N25,signal!$H$5:$H$68) -> 0 | N25: CAT5FF | O25: CAT5FF Raccord Ethernet RJ45 Femelle Femelle
A26: =SUMIF(micros!$A$5:$H$68,B26,micros!$H$5:$H$68) -> 0 | B26: SM57 | C26: SM57 SHURE Micro dynamique cardioïde | E26: =SUMIF(hf!$A$5:$H$68,F26,hf!$H$5:$H$68) -> 0 | F26: EM 2050 | G26: EM2050 SENNHEISER Récepteur Dble, diversity, Splitter d'antenne intégré permettant de cascader jusqu'à 16 appareils | I26: =SUMIF(hf!$A$5:$H$68,J26,hf!$H$5:$H$68) -> 0 | J26: AxC-DX8I | K26: Carte 4 x entrées stéréo XLR AES/EBU avec SRC sur 4 XLR | M26: =SUMIF(signal!$A$5:$H$68,N26,signal!$H$5:$H$68) -> 0 | N26: CAT6E100 | O26: CAT6E100 liaision Ethernet Cat 6 de 100m en Ethercon
A27: =SUMIF(micros!$A$5:$H$68,B27,micros!$H$5:$H$68) -> 0 | B27: SM91 | C27: SM91 SHURE Micro PZM semi cardioïde | E27: =SUMIF(hf!$A$5:$H$68,F27,hf!$H$5:$H$68) -> 0 | F27: EK 3253 | G27: EK 3253 SENNHEISER recepeteur pack Ear EK 3253 32freq | I27: =SUMIF(hf!$A$5:$H$68,J27,hf!$H$5:$H$68) -> 0 | J27: AxC-DX8O | K27: Carte 4 x sorties stéréo XLR AES/EBU sur 4 XLR
A28: =SUMIF(micros!$A$5:$H$68,B28,micros!$H$5:$H$68) -> 0 | B28: 55SH | C28: 55SH SHURE microphone (Elvis) dynamique cardioïde | E28: =SUMIF(hf!$A$5:$H$68,F28,hf!$H$5:$H$68) -> 0 | F28: EK 2000 | G28: EK2000 SENNHEISER Récepteur Pack Ear EK 2000 32 freq | I28: =SUMIF(hf!$A$5:$H$68,J28,hf!$H$5:$H$68) -> 0 | J28: AxC-DS32IO | K28: Carte 8 entrées AES/EBU avec SRC + 8 sorties AES/EBU sur 2x SubD | N28: BNC
A29: =SUMIF(micros!$A$5:$H$68,B29,micros!$H$5:$H$68) -> 0 | B29: 520DX | C29: 520DX SHURE Micro dynamique omnidirectionnelle | M29: =SUMIF(signal!$A$5:$H$68,N29,signal!$H$5:$H$68) -> 0 | N29: BNC20-RG213 | O29: BNC20-RG213 Câble RG213 50 Ohms Rigide BNC 20M
A30: =SUMIF(micros!$A$5:$H$68,B30,micros!$H$5:$H$68) -> 0 | B30: 515-SBGX | C30: 515-SBGX SHURE Micro main à interrupteur fugitif | F30: EMMETTEUR | J30: INTERFACES ANALOGIQUES | M30: =SUMIF(signal!$A$5:$H$68,N30,signal!$H$5:$H$68) -> 0 | N30: BNC10-RG213 | O30: BNC10-RG213 Câble RG213 50 Ohms Rigide BNC 10M
A31: =SUMIF(micros!$A$5:$H$68,B31,micros!$H$5:$H$68) -> 0 | B31: PG58 | C31: PG58 SHURE Micro main interrupteur | E31: =SUMIF(hf!$A$5:$H$68,F31,hf!$H$5:$H$68) -> 0 | F31: UR2 | G31: UR2 SHURE émetteur main UHFR | I31: =SUMIF(hf!$A$5:$H$68,J31,hf!$H$5:$H$68) -> 0 | J31: AxC-AX4M | K31: Carte 4 entrées ligne/micro XLR analogiques avec 4 XLR | M31: =SUMIF(signal!$A$5:$H$68,N31,signal!$H$5:$H$68) -> 0 | N31: BNC5-RG213 | O31: BNC5-RG213 Câble RG213 50 Ohms Rigide BNC 5M
A32: =SUMIF(micros!$A$5:$H$68,B32,micros!$H$5:$H$68) -> 0 | B32: SM58SE | C32: SM58SE SHURE SM58 main dynamique cardioïde à interrupteur | E32: =SUMIF(hf!$A$5:$H$68,F32,hf!$H$5:$H$68) -> 0 | F32: UR1 | G32: UR1M SHURE émetteur pack UHFR | I32: =SUMIF(hf!$A$5:$H$68,J32,hf!$H$5:$H$68) -> 0 | J32: AxC-AX4O | K32: Carte 4 sorties XLR analogiques avec 4 XLR | M32: =SUMIF(signal!$A$5:$H$68,N32,signal!$H$5:$H$68) -> 0 | N32: BNC10-RG58 | O32: BNC10-RG58 Câble RG58 50 Ohms Souple BNC 10M
A33: =SUMIF(micros!$A$5:$H$68,B33,micros!$H$5:$H$68) -> 0 | B33: SM81 | C33: SM81 SHURE Micro statique cardioïde | E33: =SUMIF(hf!$A$5:$H$68,F33,hf!$H$5:$H$68) -> 0 | F33: UR1M | G33: UR1M SHURE émetteur pack UHFR Miniature | I33: =SUMIF(hf!$A$5:$H$68,J33,hf!$H$5:$H$68) -> 0 | J33: AxC-AX4I | K33: Carte 4 entrées analogiques avec 4 XLR | M33: =SUMIF(signal!$A$5:$H$68,N33,signal!$H$5:$H$68) -> 0 | N33: BNC5-RG58 | O33: BNC5-RG58 Câble RG58 50 Ohms Souple BNC 5M
A34: =SUMIF(micros!$A$5:$H$68,B34,micros!$H$5:$H$68) -> 0 | B34: A98KC | C34: A98KC SHURE Fixation saxophone pour SM98 | E34: =SUMIF(hf!$A$5:$H$68,F34,hf!$H$5:$H$68) -> 0 | F34: WA302 U1J | G34: U1J Câble Jack pour HF instrument Shure UR1 / Beyer TG1000B | I34: =SUMIF(hf!$A$5:$H$68,J34,hf!$H$5:$H$68) -> 0 | J34: AxC-AE8IO | K34: Carte 4 entrées + 4 sorties analogiques sur Euroblock | M34: =SUMIF(signal!$A$5:$H$68,N34,signal!$H$5:$H$68) -> 0 | N34: BNC01-RG58 | O34: BNC01-RG58 Câble RG58 50 Ohms Souple BNC 1M
A35: =SUMIF(micros!$A$5:$H$68,B35,micros!$H$5:$H$68) -> 0 | B35: A98D | C35: A98D SHURE Fixation batterie avec gooseneck pour SM98 | E35: =SUMIF(hf!$A$5:$H$68,F35,hf!$H$5:$H$68) -> 0 | F35: AXT200 | G35: AXT200 Axient SHURE émetteur main | M35: =SUMIF(signal!$A$5:$H$68,N35,signal!$H$5:$H$68) -> 0 | N35: BNC05-RG58 | O35: BNC05-RG58 Câble RG58 50 Ohms Souple BNC 0.5M
A36: =SUMIF(micros!$A$5:$H$68,B36,micros!$H$5:$H$68) -> 0 | B36: RPM626 ILP1 | C36: RPM626 ILP1 SHURE Preampli adaptateur TQG3M =>XLR3M | E36: =SUMIF(hf!$A$5:$H$68,F36,hf!$H$5:$H$68) -> 0 | F36: AXT100 | G36: AXT100 Axient SHURE émetteur ceinture | M36: =SUMIF(signal!$A$5:$H$68,N36,signal!$H$5:$H$68) -> 0 | N36: 4BNC75 | O36: 4BNC75 multipaire 75m en BNC
A37: =SUMIF(micros!$A$5:$H$68,B37,micros!$H$5:$H$68) -> 0 | B37: MX418C | C37: MX418C SHURE Micro pupitre cardioïde 46cm | E37: =SUMIF(hf!$A$5:$H$68,F37,hf!$H$5:$H$68) -> 0 | F37: P6T | J37: YAMAHA | M37: =SUMIF(signal!$A$5:$H$68,N37,signal!$H$5:$H$68) -> 0 | N37: 4BNC5 | O37: 4BNC5 multipaire 5m en connecteur BNC
A38: =SUMIF(micros!$A$5:$H$68,B38,micros!$H$5:$H$68) -> 0 | B38: A412B | C38: A412B SHURE Embase pour micro pupitre | E38: =SUMIF(hf!$A$5:$H$68,F38,hf!$H$5:$H$68) -> 0 | F38: P7T | I38: =SUMIF(hf!$A$5:$H$68,J38,hf!$H$5:$H$68) -> 0 | J38: D25-8AY | K38: D25-8AY Liaison SubD25 mâle format YAMAHA & TC - 8 XLR AES | M38: =SUMIF(signal!$A$5:$H$68,N38,signal!$H$5:$H$68) -> 0 | N38: BNCFF | O38: BNCFF Raccord BNC FF
A39: =SUMIF(micros!$A$5:$H$68,B39,micros!$H$5:$H$68) -> 0 | B39: WL184 | C39: WL184 SHURE Micro mini supercardioïde electret | E39: =SUMIF(hf!$A$5:$H$68,F39,hf!$H$5:$H$68) -> 0 | F39: P9T | I39: =SUMIF(hf!$A$5:$H$68,J39,hf!$H$5:$H$68) -> 0 | J39: D25-8J | K39: D25-8J DISPATCH Liaison analogique D25M - 8 Jack
A40: =SUMIF(micros!$A$5:$H$68,B40,micros!$H$5:$H$68) -> 0 | B40: WL185 | C40: WL185 Shure Micro cravate cardioïde | E40: =SUMIF(hf!$A$5:$H$68,F40,hf!$H$5:$H$68) -> 0 | F40: P10T | G40: P10T SHURE PSM1000 double émetteur | I40: =SUMIF(hf!$A$5:$H$68,J40,hf!$H$5:$H$68) -> 0 | J40: D25-8M | K40: D25-8M SCV Sortie analogique D25M - 8 XLRM | N40: Câble pour MMxXP
E41: =SUMIF(hf!$A$5:$H$68,F41,hf!$H$5:$H$68) -> 0 | F41: P6HW | M41: =SUMIF(signal!$A$5:$H$68,N41,signal!$H$5:$H$68) -> 0 | N41: EN20 | O41: EN20 SWITCHCRAFT câble en EN35C5F pour séries MMxXP de 20m
A42: =SUMIF(micros!$A$5:$H$68,B41,micros!$H$5:$H$68) -> 0 | B42: SENNHEISER | E42: =SUMIF(hf!$A$5:$H$68,F42,hf!$H$5:$H$68) -> 0 | F42: SR 3254 | G42: SR 3254 SENNHEISER émetteur simple 32 freq | J42: INFORMATIQUE | M42: =SUMIF(signal!$A$5:$H$68,N42,signal!$H$5:$H$68) -> 0 | N42: EN10 | O42: EN10 SWITCHCRAFT câble en EN35C5F pour séries MMxXP de 10m
A43: =SUMIF(micros!$A$5:$H$68,B43,micros!$H$5:$H$68) -> 0 | B43: MD 421 II | C43: MD421 SENNHEISER Micro MD421 / 422 / 521 | E43: =SUMIF(hf!$A$5:$H$68,F43,hf!$H$5:$H$68) -> 0 | F43: SR 3256 | G43: SR 3256 SENNHEISER émetteur double 32 freq | I43: =SUMIF(hf!$A$5:$H$68,J43,hf!$H$5:$H$68) -> 0 | J43: AXT620 | K43: AXT620 SHURE commutateur ethernet à montage en bâti mobile | M43: =SUMIF(signal!$A$5:$H$68,N43,signal!$H$5:$H$68) -> 0 | N43: EN5 | O43: EN5 SWITCHCRAFT câble en EN35C5F pour MMxXP 5m
...

Sheet test
A1: MICRO | B1: designation | C1: Qté
A2: BETA52A | B2: BETA52 SHURE Micro cardioide large articulé grosse caisse | C2: =SUM(total!A10) -> 4
A3: BETA58A | B3: BETA58A SHURE Micro hypercardioïde néod.chant | C3: =SUM(total!A11) -> 0
A4: BEAT56A | B4: BETA56A SHURE Micro dynamique supercardioïde | C4: =SUM(total!A12) -> 0
A5: BETA57A | B5: BETA57A SHURE Micro hypercardioïde néod. instrument | C5: =SUM(total!A13) -> 0
A6: BETA98/S | B6: BETA98 SHURE Micro mini électret supercardioïde | C6: =SUM(total!A14) -> 0
A7: BETA98 H/C | B7: BETA98H/C SHURE Micro mini électret cardioïde avec col de cygne intégré et pince de fixation | C7: =SUM(total!A15) -> 0
A8: BETA87C | B8: BETA87C SHURE Micro condensateur cardioïde | C8: =SUM(total!A16) -> 0
A9: BETA87A | B9: BETA87A SHURE Micro condensateur supercardioïde | C9: =SUM(total!A17) -> 0
A10: BETA91 | B10: BETA91 SHURE Micro PZM hypercardioide | C10: =SUM(total!A18) -> 0
A11: BETA181/BI | B11: BETA181/BI SHURE Micro statique bi-directionnelle | C11: =SUM(total!A19) -> 0
A12: BETA181/C | B12: BETA181/C SHURE Micro statique cardioïde | C12: =SUM(total!A20) -> 0
A13: BETA181/O | B13: BETA181/O SHURE Micro statique omnidirectionnelle | C13: =SUM(total!A21) -> 0
... A16: SM87A | B16: SM87A SHURE Micro condensateur supercardioïde | C16: =SUM(total!A24) -> 0

Sheet TBD
A3: Étiquettes de lignes | B3: Somme de Qté
A4: BETA52 SHURE Micro cardioide large articulé grosse caisse | B4: 4
A5: Total général | B5: 4
