Workbook

Sheet liste des resprésentants
A1: liste des représentants
A2: Num représentant | B2: Nom | C2: Prénom | D2: secteur
A3: 1 | B3: Laborde | C3: Tommy | D3: 1
A4: 2 | B4: Bossut | C4: Jean | D4: 1
A5: 3 | B5: Emprun | C5: Arthur | D5: 2
A6: 4 | B6: Barmou | C6: François | D6: 4
A7: 5 | B7: Praud | C7: Alicia | D7: 3
A8: 6 | B8: Dussueil | C8: Florence | D8: 2
A9: 7 | B9: Forest | C9: Sylvie | D9: 4
A10: 8 | B10: Balme | C10: Sophie | D10: 4
A11: 9 | B11: Blondeau | C11: Annie | D11: 4
A12: 10 | B12: Bourgoin | C12: Sarah | D12: 3
A13: 11 | B13: Carpentier | C13: Gaspard | D13: 2
A14: 12 | B14: Demeyère | C14: Martin | D14: 1
... A91: 89 | B91: VIARD | C91: Prescilla | D91: 4

Sheet ventes du premier trimestre
B1: Ventes du 1er trimestre 2019
B2: Numéro représentant | C2: Janvier | D2: Février | E2: Mars | F2: Trimestre | H2: nom | I2: secteur | K2: Prime
B3: 1 | C3: 45210 | D3: 15203 | E3: 25630 | F3: =SUM(C3:E3) -> 86043 | H3: =VLOOKUP(B3,'liste des resprésentants'!$A$3:$D$91,2,FALSE) -> Laborde | I3: =VLOOKUP(B3,'liste des resprésentants'!$A$3:$D$91,4,FALSE) -> 1 | K3: =IF(F3>=$C$110,ROUNDUP((F3*0.03),0),"PAS DE PRIME") -> 2582
B4: 2 | C4: 25630 | D4: 15632 | E4: 15203 | F4: =SUM(C4:E4) -> 56465 | H4: =VLOOKUP(B4,'liste des resprésentants'!$A$3:$D$91,2,FALSE) -> Bossut | I4: =VLOOKUP(B4,'liste des resprésentants'!$A$3:$D$91,4,FALSE) -> 1 | K4: =IF(F4>=$C$110,ROUNDUP((F4*0.03),0),"PAS DE PRIME") -> PAS DE PRIME
B5: 12 | C5: 25630 | D5: 45630 | E5: 15632 | F5: =SUM(C5:E5) -> 86892 | H5: =VLOOKUP(B5,'liste des resprésentants'!$A$3:$D$91,2,FALSE) -> Demeyère | I5: =VLOOKUP(B5,'liste des resprésentants'!$A$3:$D$91,4,FALSE) -> 1 | K5: =IF(F5>=$C$110,ROUNDUP((F5*0.03),0),"PAS DE PRIME") -> 2607
B6: 16 | C6: 15203 | D6: 12500 | E6: 45630 | F6: =SUM(C6:E6) -> 73333 | H6: =VLOOKUP(B6,'liste des resprésentants'!$A$3:$D$91,2,FALSE) -> Bouchetou | I6: =VLOOKUP(B6,'liste des resprésentants'!$A$3:$D$91,4,FALSE) -> 1 | K6: =IF(F6>=$C$110,ROUNDUP((F6*0.03),0),"PAS DE PRIME") -> PAS DE PRIME
B7: 19 | C7: 15632 | D7: 14520 | E7: 12500 | F7: =SUM(C7:E7) -> 42652 | H7: =VLOOKUP(B7,'liste des resprésentants'!$A$3:$D$91,2,FALSE) -> AZAOUAGH | I7: =VLOOKUP(B7,'liste des resprésentants'!$A$3:$D$91,4,FALSE) -> 1 | K7: =IF(F7>=$C$110,ROUNDUP((F7*0.03),0),"PAS DE PRIME") -> PAS DE PRIME
B8: 25 | C8: 45630 | D8: 23524 | E8: 14520 | F8: =SUM(C8:E8) -> 83674 | H8: =VLOOKUP(B8,'liste des resprésentants'!$A$3:$D$91,2,FALSE) -> DESMARETZ | I8: =VLOOKUP(B8,'liste des resprésentants'!$A$3:$D$91,4,FALSE) -> 1 | K8: =IF(F8>=$C$110,ROUNDUP((F8*0.03),0),"PAS DE PRIME") -> 2511
B9: 26 | C9: 12500 | D9: 26351 | E9: 25630 | F9: =SUM(C9:E9) -> 64481 | H9: =VLOOKUP(B9,'liste des resprésentants'!$A$3:$D$91,2,FALSE) -> DESSAINT | I9: =VLOOKUP(B9,'liste des resprésentants'!$A$3:$D$91,4,FALSE) -> 1 | K9: =IF(F9>=$C$110,ROUNDUP((F9*0.03),0),"PAS DE PRIME") -> PAS DE PRIME
B10: 27 | C10: 14520 | D10: 25630 | E10: 45632 | F10: =SUM(C10:E10) -> 85782 | H10: =VLOOKUP(B10,'liste des resprésentants'!$A$3:$D$91,2,FALSE) -> DIOUANI | I10: =VLOOKUP(B10,'liste des resprésentants'!$A$3:$D$91,4,FALSE) -> 1 | K10: =IF(F10>=$C$110,ROUNDUP((F10*0.03),0),"PAS DE PRIME") -> 2574
B11: 40 | C11: 25630 | D11: 32140 | E11: 25630 | F11: =SUM(C11:E11) -> 83400 | H11: =VLOOKUP(B11,'liste des resprésentants'!$A$3:$D$91,2,FALSE) -> VERHAEGHE | I11: =VLOOKUP(B11,'liste des resprésentants'!$A$3:$D$91,4,FALSE) -> 1 | K11: =IF(F11>=$C$110,ROUNDUP((F11*0.03),0),"PAS DE PRIME") -> 2502
B12: 43 | C12: 45632 | D12: 45630 | E12: 25630 | F12: =SUM(C12:E12) -> 116892 | H12: =VLOOKUP(B12,'liste des resprésentants'!$A$3:$D$91,2,FALSE) -> BRASSART | I12: =VLOOKUP(B12,'liste des resprésentants'!$A$3:$D$91,4,FALSE) -> 1 | K12: =IF(F12>=$C$110,ROUNDUP((F12*0.03),0),"PAS DE PRIME") -> 3507
B13: 47 | C13: 23510 | D13: 12500 | E13: 15203 | F13: =SUM(C13:E13) -> 51213 | H13: =VLOOKUP(B13,'liste des resprésentants'!$A$3:$D$91,2,FALSE) -> DE SOUSSA MONTEREIRO | I13: =VLOOKUP(B13,'liste des resprésentants'!$A$3:$D$91,4,FALSE) -> 1 | K13: =IF(F13>=$C$110,ROUNDUP((F13*0.03),0),"PAS DE PRIME") -> PAS DE PRIME
B14: 50 | C14: 23524 | D14: 14520 | E14: 15632 | F14: =SUM(C14:E14) -> 53676 | H14: =VLOOKUP(B14,'liste des resprésentants'!$A$3:$D$91,2,FALSE) -> EL MARKAI | I14: =VLOOKUP(B14,'liste des resprésentants'!$A$3:$D$91,4,FALSE) -> 1 | K14: =IF(F14>=$C$110,ROUNDUP((F14*0.03),0),"PAS DE PRIME") -> PAS DE PRIME
... B24: 83 | C24: 32140 | D24: 23524 | E24: 32140 | F24: =SUM(C24:E24) -> 87804 | H24: =VLOOKUP(B24,'liste des resprésentants'!$A$3:$D$91,2,FALSE) -> ROËLANDT | I24: =VLOOKUP(B24,'liste des resprésentants'!$A$3:$D$91,4,FALSE) -> 1 | K24: =IF(F24>=$C$110,ROUNDUP((F24*0.03),0),"PAS DE PRIME") -> 2635
A25: Total vente mois secteur 1 | C25: =SUBTOTAL(9,C3:C24) -> 582667 | D25: =SUBTOTAL(9,D3:D24) -> 540553 | E25: =SUBTOTAL(9,E3:E24) -> 557539
A26: Total vente trimestre secteur 1 | C26: =SUBTOTAL(9,C3:E24) -> 1680759
B28: 3 | C28: 25630 | D28: 25630 | E28: 32140 | F28: =SUM(C28:E28) -> 83400 | H28: =VLOOKUP(B28,'liste des resprésentants'!$A$3:$D$91,2,FALSE) -> Emprun | I28: =VLOOKUP(B28,'liste des resprésentants'!$A$3:$D$91,4,FALSE) -> 2 | K28: =IF(F28>=$C$110,ROUNDUP((F28*0.03),0),"PAS DE PRIME") -> 2502
B29: 6 | C29: 32140 | D29: 32140 | E29: 12890 | F29: =SUM(C29:E29) -> 77170 | H29: =VLOOKUP(B29,'liste des resprésentants'!$A$3:$D$91,2,FALSE) -> Dussueil | I29: =VLOOKUP(B29,'liste des resprésentants'!$A$3:$D$91,4,FALSE) -> 2 | K29: =IF(F29>=$C$110,ROUNDUP((F29*0.03),0),"PAS DE PRIME") -> 2316
B30: 11 | C30: 12890 | D30: 23510 | E30: 13789 | F30: =SUM(C30:E30) -> 50189 | H30: =VLOOKUP(B30,'liste des resprésentants'!$A$3:$D$91,2,FALSE) -> Carpentier | I30: =VLOOKUP(B30,'liste des resprésentants'!$A$3:$D$91,4,FALSE) -> 2 | K30: =IF(F30>=$C$110,ROUNDUP((F30*0.03),0),"PAS DE PRIME") -> PAS DE PRIME
B31: 17 | C31: 13789 | D31: 23524 | E31: 31792 | F31: =SUM(C31:E31) -> 69105 | H31: =VLOOKUP(B31,'liste des resprésentants'!$A$3:$D$91,2,FALSE) -> Cazassus | I31: =VLOOKUP(B31,'liste des resprésentants'!$A$3:$D$91,4,FALSE) -> 2 | K31: =IF(F31>=$C$110,ROUNDUP((F31*0.03),0),"PAS DE PRIME") -> PAS DE PRIME
B32: 20 | C32: 31792 | D32: 26351 | E32: 24130 | F32: =SUM(C32:E32) -> 82273 | H32: =VLOOKUP(B32,'liste des resprésentants'!$A$3:$D$91,2,FALSE) -> CANONNE | I32: =VLOOKUP(B32,'liste des resprésentants'!$A$3:$D$91,4,FALSE) -> 2 | K32: =IF(F32>=$C$110,ROUNDUP((F32*0.03),0),"PAS DE PRIME") -> 2469
B33: 23 | C33: 23510 | D33: 25630 | E33: 25010 | F33: =SUM(C33:E33) -> 74150 | H33: =VLOOKUP(B33,'liste des resprésentants'!$A$3:$D$91,2,FALSE) -> DANNEELS | I33: =VLOOKUP(B33,'liste des resprésentants'!$A$3:$D$91,4,FALSE) -> 2 | K33: =IF(F33>=$C$110,ROUNDUP((F33*0.03),0),"PAS DE PRIME") -> 2225
B34: 24 | C34: 9820 | D34: 32140 | E34: 8765 | F34: =SUM(C34:E34) -> 50725 | H34: =VLOOKUP(B34,'liste des resprésentants'!$A$3:$D$91,2,FALSE) -> DEROUSSEAUX | I34: =VLOOKUP(B34,'liste des resprésentants'!$A$3:$D$91,4,FALSE) -> 2 | K34: =IF(F34>=$C$110,ROUNDUP((F34*0.03),0),"PAS DE PRIME") -> PAS DE PRIME
B35: 28 | C35: 8365 | D35: 25630 | E35: 45210 | F35: =SUM(C35:E35) -> 79205 | H35: =VLOOKUP(B35,'liste des resprésentants'!$A$3:$D$91,2,FALSE) -> FAVIER | I35: =VLOOKUP(B35,'liste des resprésentants'!$A$3:$D$91,4,FALSE) -> 2 | K35: =IF(F35>=$C$110,ROUNDUP((F35*0.03),0),"PAS DE PRIME") -> 2377
B36: 29 | C36: 14589 | D36: 25630 | E36: 25630 | F36: =SUM(C36:E36) -> 65849 | H36: =VLOOKUP(B36,'liste des resprésentants'!$A$3:$D$91,2,FALSE) -> FRUCHART | I36: =VLOOKUP(B36,'liste des resprésentants'!$A$3:$D$91,4,FALSE) -> 2 | K36: =IF(F36>=$C$110,ROUNDUP((F36*0.03),0),"PAS DE PRIME") -> PAS DE PRIME
B37: 30 | C37: 15870 | D37: 15203 | E37: 25630 | F37: =SUM(C37:E37) -> 56703 | H37: =VLOOKUP(B37,'liste des resprésentants'!$A$3:$D$91,2,FALSE) -> GELLOT | I37: =VLOOKUP(B37,'liste des resprésentants'!$A$3:$D$91,4,FALSE) -> 2 | K37: =IF(F37>=$C$110,ROUNDUP((F37*0.03),0),"PAS DE PRIME") -> PAS DE PRIME
B38: 35 | C38: 23524 | D38: 15632 | E38: 15203 | F38: =SUM(C38:E38) -> 54359 | H38: =VLOOKUP(B38,'liste des resprésentants'!$A$3:$D$91,2,FALSE) -> QUENU | I38: =VLOOKUP(B38,'liste des resprésentants'!$A$3:$D$91,4,FALSE) -> 2 | K38: =IF(F38>=$C$110,ROUNDUP((F38*0.03),0),"PAS DE PRIME") -> PAS DE PRIME
B39: 37 | C39: 26351 | D39: 45630 | E39: 15632 | F39: =SUM(C39:E39) -> 87613 | H39: =VLOOKUP(B39,'liste des resprésentants'!$A$3:$D$91,2,FALSE) -> TOLMAN | I39: =VLOOKUP(B39,'liste des resprésentants'!$A$3:$D$91,4,FALSE) -> 2 | K39: =IF(F39>=$C$110,ROUNDUP((F39*0.03),0),"PAS DE PRIME") -> 2629
... B50: 85 | C50: 45632 | D50: 21450 | E50: 26351 | F50: =SUM(C50:E50) -> 93433 | H50: =VLOOKUP(B50,'liste des resprésentants'!$A$3:$D$91,2,FALSE) -> SOSSOU | I50: =VLOOKUP(B50,'liste des resprésentants'!$A$3:$D$91,4,FALSE) -> 2 | K50: =IF(F50>=$C$110,ROUNDUP((F50*0.03),0),"PAS DE PRIME") -> 2803
A51: Total vente mois secteur 2 | C51: =SUBTOTAL(9,C28:C50) -> 522047 | D51: =SUBTOTAL(9,D28:D50) -> 591097 | E51: =SUBTOTAL(9,E28:E50) -> 577239
A52: Total vente trimestre secteur 2 | C52: =SUBTOTAL(9,C28:E50) -> 1690383
B54: 5 | C54: 23524 | D54: 26351 | E54: 32140 | F54: =SUM(C54:E54) -> 82015 | H54: =VLOOKUP(B54,'liste des resprésentants'!$A$3:$D$91,2,FALSE) -> Praud | I54: =VLOOKUP(B54,'liste des resprésentants'!$A$3:$D$91,4,FALSE) -> 3 | K54: =IF(F54>=$C$110,ROUNDUP((F54*0.03),0),"PAS DE PRIME") -> 2461
B55: 10 | C55: 26351 | D55: 25630 | E55: 25630 | F55: =SUM(C55:E55) -> 77611 | H55: =VLOOKUP(B55,'liste des resprésentants'!$A$3:$D$91,2,FALSE) -> Bourgoin | I55: =VLOOKUP(B55,'liste des resprésentants'!$A$3:$D$91,4,FALSE) -> 3 | K55: =IF(F55>=$C$110,ROUNDUP((F55*0.03),0),"PAS DE PRIME") -> 2329
B56: 14 | C56: 25630 | D56: 32140 | E56: 25630 | F56: =SUM(C56:E56) -> 83400 | H56: =VLOOKUP(B56,'liste des resprésentants'!$A$3:$D$91,2,FALSE) -> Courbon | I56: =VLOOKUP(B56,'liste des resprésentants'!$A$3:$D$91,4,FALSE) -> 3 | K56: =IF(F56>=$C$110,ROUNDUP((F56*0.03),0),"PAS DE PRIME") -> 2502
B57: 15 | C57: 32140 | D57: 25630 | E57: 15203 | F57: =SUM(C57:E57) -> 72973 | H57: =VLOOKUP(B57,'liste des resprésentants'!$A$3:$D$91,2,FALSE) -> Amarouche | I57: =VLOOKUP(B57,'liste des resprésentants'!$A$3:$D$91,4,FALSE) -> 3 | K57: =IF(F57>=$C$110,ROUNDUP((F57*0.03),0),"PAS DE PRIME") -> PAS DE PRIME
B58: 21 | C58: 5232 | D58: 25630 | E58: 15632 | F58: =SUM(C58:E58) -> 46494 | H58: =VLOOKUP(B58,'liste des resprésentants'!$A$3:$D$91,2,FALSE) -> CAPPON | I58: =VLOOKUP(B58,'liste des resprésentants'!$A$3:$D$91,4,FALSE) -> 3 | K58: =IF(F58>=$C$110,ROUNDUP((F58*0.03),0),"PAS DE PRIME") -> PAS DE PRIME
B59: 31 | C59: 15632 | D59: 15203 | E59: 45630 | F59: =SUM(C59:E59) -> 76465 | H59: =VLOOKUP(B59,'liste des resprésentants'!$A$3:$D$91,2,FALSE) -> HAULTCOEUR | I59: =VLOOKUP(B59,'liste des resprésentants'!$A$3:$D$91,4,FALSE) -> 3 | K59: =IF(F59>=$C$110,ROUNDUP((F59*0.03),0),"PAS DE PRIME") -> 2294
B60: 34 | C60: 32112 | D60: 15632 | E60: 32140 | F60: =SUM(C60:E60) -> 79884 | H60: =VLOOKUP(B60,'liste des resprésentants'!$A$3:$D$91,2,FALSE) -> MAALEM | I60: =VLOOKUP(B60,'liste des resprésentants'!$A$3:$D$91,4,FALSE) -> 3 | K60: =IF(F60>=$C$110,ROUNDUP((F60*0.03),0),"PAS DE PRIME") -> 2397
B61: 36 | C61: 24530 | D61: 45630 | E61: 25630 | F61: =SUM(C61:E61) -> 95790 | H61: =VLOOKUP(B61,'liste des resprésentants'!$A$3:$D$91,2,FALSE) -> THOMPSON | I61: =VLOOKUP(B61,'liste des resprésentants'!$A$3:$D$91,4,FALSE) -> 3 | K61: =IF(F61>=$C$110,ROUNDUP((F61*0.03),0),"PAS DE PRIME") -> 2874
...
