Workbook

Sheet Tâches journalières
A1: Année | B1: Réf. | C1: Date IN | D1: Date AR | E1: Code | F1: Date de clôture | G1: Nbr jours ouvrables | H1: Délai imparti | I1: Délai respecté ?
A2: 2018 | B2: 635 | C2: 43346 | D2: 43346 | E2: Code 01 | F2: 43348 | G2: =NETWORKDAYS(C2,F2,Données!A29:A39) -> 3 | H2: =VLOOKUP(Tableau10[[#This Row],[Code]],Données!$A$2:$B$25,2,FALSE) -> 3 | I2: =IFERROR(+G2-+H2,"") -> 0
A3: 2018 | B3: 636 | C3: 43349 | D3: Nihil | E3: Code 06 | F3: 43349 | G3: =NETWORKDAYS(C3,F3,Données!A30:A40) -> 1 | H3: =VLOOKUP(Tableau10[[#This Row],[Code]],Données!$A$2:$B$25,2,FALSE) -> P/A | I3: =IFERROR(+G3-+H3,"")
A4: 2018 | B4: 637 | C4: 43358 | D4: 43358 | E4: Code 02 | F4: 43365 | G4: =NETWORKDAYS(C4,F4,Données!A31:A41) -> 5 | H4: =VLOOKUP(Tableau10[[#This Row],[Code]],Données!$A$2:$B$25,2,FALSE) -> 3 | I4: =IFERROR(+G4-+H4,"") -> 2
A5: 2018 | B5: 638 | C5: 43373 | D5: 43373 | E5: Code 05 | F5: 43375 | G5: =NETWORKDAYS(C5,F5,Données!A32:A42) -> 2 | H5: =VLOOKUP(Tableau10[[#This Row],[Code]],Données!$A$2:$B$25,2,FALSE) -> 20 | I5: =IFERROR(+G5-+H5,"") -> -18
A6: 2018 | B6: 639 | C6: 43378 | D6: 43378 | E6: Code 03 | G6: =NETWORKDAYS(C6,F6,Données!A33:A43) -> -30982 | H6: =VLOOKUP(Tableau10[[#This Row],[Code]],Données!$A$2:$B$25,2,FALSE) -> 5 | I6: =IFERROR(+G6-+H6,"") -> -30987
A7: 2018 | B7: 640 | C7: 43385 | D7: Nihil | E7: Code 06 | F7: 43386 | G7: =NETWORKDAYS(C7,F7,Données!A34:A44) -> 1 | H7: =VLOOKUP(Tableau10[[#This Row],[Code]],Données!$A$2:$B$25,2,FALSE) -> P/A | I7: =IFERROR(+G7-+H7,"")
A8: 2018 | B8: 641 | C8: 43393 | D8: 43393 | E8: Code 04 | F8: 43395 | G8: =NETWORKDAYS(C8,F8,Données!A35:A45) -> 1 | H8: =VLOOKUP(Tableau10[[#This Row],[Code]],Données!$A$2:$B$25,2,FALSE) -> 5 | I8: =IFERROR(+G8-+H8,"") -> -4
A9: 2018 | B9: 642 | C9: 43402 | D9: 43402 | E9: Code 20 | F9: 43403 | G9: =NETWORKDAYS(C9,F9,Données!A36:A46) -> 2 | H9: =VLOOKUP(Tableau10[[#This Row],[Code]],Données!$A$2:$B$25,2,FALSE) -> P/A | I9: =IFERROR(+G9-+H9,"")
G10: =NETWORKDAYS(C10,F10,Données!A37:A47) -> 0 | H10: =VLOOKUP(Tableau10[[#This Row],[Code]],Données!$A$2:$B$25,2,FALSE) -> #N/A | I10: =IFERROR(+G10-+H10,"")
H13: Formule qui renvoit à la table des données se trouvant dans la feuille "Données"

Sheet Données
A1: Codes | B1: Délai imparti (en jours ouvrables)
A2: Code 01 | B2: 3
A3: Code 02 | B3: 3
A4: Code 03 | B4: 5
A5: Code 04 | B5: 5
A6: Code 05 | B6: 20
A7: Code 06 | B7: P/A
A8: Code 07 | B8: 3
A9: Code 08 | B9: 2
A10: Code 09 | B10: P/A
A11: Code 10 | B11: P/A
A12: Code 11 | B12: 3
A13: Code 12 | B13: P/A
A14: Code 13 | B14: P/A
A15: Code 14 | B15: P/A
A16: Code 15 | B16: P/A
A17: Code 16 | B17: P/A
A18: Code 17 | B18: 2
A19: Code 18 | B19: P/A
A20: Code 19 | B20: P/A
A21: Code 20 | B21: P/A
A22: Code 21 | B22: P/A
A23: Code 22 | B23: P/A
A24: Code 23 | B24: P/A
A25: Code 24 | B25: P/A
A28: Jours fériés 2018
A29: 2018
A30: 43101
A31: 43192
A32: 43221
A33: 43230
A34: 43241
A35: 43302
A36: 43327
A37: 43405
A38: 43415
A39: 43459
