Workbook

Sheet Dates de référence
A8: CHANTIER 0. TRANSVERSE | B8: Date de la réunion
A9: Comité de Pilotage 1 | B9: 43311
A10: Comité de Pilotage 2 | B10: 43348
A11: Comité de Pilotage 3 | B11: 43367
A12: Comité de Pilotage 4 | B12: 43377
A13: Comité de Pilotage 5 | B13: annulé
A14: Comité de Pilotage 6 | B14: 43404
A15: Comité de Pilotage 7 | B15: annulé
A16: Comité de Pilotage 8 | B16: 43419
A17: Comité de Pilotage 9 | B17: annulé

Sheet Données
B2: Date à mettre à jour
A4: Chantier | B4: Livrables | C4: Date réunion / action | D4: Mois du livrable | E4: Date de livraison attendu | F4: Date de livraison réelle | G4: Date de rendu ou validation prévue | H4: Délai de validation | I4: Date de validation prévue d'après la date de livraison réelle | J4: Date de validation attendue planning | K4: Date de validation réelle | L4: Pénalités
A5: Chantier 0 | B5: Ordre du jour du Comité de Pilotage | C5: ='Dates de référence'!B9 -> 43311 | D5: =IF(E5<>"",CHOOSE(MONTH(E5),"Janvier","Février","Mars","Avril","Mai","Juin","Juillet","Aout","Septembre","Octobre","Novembre","Décembre"),CHOOSE(MONTH(G5),"Janvier","Février","Mars","Avril","Mai","Juin","Juillet","Aout","Septembre","Octobre","Novembre","Décembre")) -> Juillet | E5: =WORKDAY(C5,-3,'Jours fériés'!$B$6:$B$12) -> 43306 | F5: aucune | G5: =WORKDAY(E5,2,'Jours fériés'!$B$6:$B$12) -> 43308 | H5: 2 | I5: =IF(OR(F5="",F5="aucune"),"",WORKDAY(F5,H5,'Jours fériés'!$B$6:$B$12)) | J5: =IF(I5="",G5,I5) -> 43308 | P5: =N5 -> 0
A6: Chantier 0 | B6: Compte rendu du Comité de Pilotage | C6: ='Dates de référence'!B9 -> 43311 | D6: =IF(E6<>"",CHOOSE(MONTH(E6),"Janvier","Février","Mars","Avril","Mai","Juin","Juillet","Aout","Septembre","Octobre","Novembre","Décembre"),CHOOSE(MONTH(G6),"Janvier","Février","Mars","Avril","Mai","Juin","Juillet","Aout","Septembre","Octobre","Novembre","Décembre")) -> Aout | E6: =WORKDAY(C6,3,'Jours fériés'!$B$6:$B$12) -> 43314 | F6: aucune | G6: =WORKDAY(E6,5,'Jours fériés'!$B$6:$B$12) -> 43321 | H6: 5 | I6: =IF(OR(F6="",F6="aucune"),"",WORKDAY(F6,H6,'Jours fériés'!$B$6:$B$12)) | J6: =IF(I6="",G6,I6) -> 43321 | K6: aucune
A7: Chantier 0 | B7: Ordre du jour du Comité de Pilotage | C7: ='Dates de référence'!B10 -> 43348 | D7: =IF(E7<>"",CHOOSE(MONTH(E7),"Janvier","Février","Mars","Avril","Mai","Juin","Juillet","Aout","Septembre","Octobre","Novembre","Décembre"),CHOOSE(MONTH(G7),"Janvier","Février","Mars","Avril","Mai","Juin","Juillet","Aout","Septembre","Octobre","Novembre","Décembre")) -> Aout | E7: =WORKDAY(C7,-3,'Jours fériés'!$B$6:$B$12) -> 43343 | F7: 43315 | G7: =WORKDAY(E7,2,'Jours fériés'!$B$6:$B$12) -> 43347 | H7: 2 | I7: =IF(OR(F7="",F7="aucune"),"",WORKDAY(F7,H7,'Jours fériés'!$B$6:$B$12)) -> 43319 | J7: =IF(I7="",G7,I7) -> 43319 | K7: aucune
A8: Chantier 0 | B8: Compte rendu du Comité de Pilotage V1 | C8: ='Dates de référence'!B10 -> 43348 | D8: =IF(E8<>"",CHOOSE(MONTH(E8),"Janvier","Février","Mars","Avril","Mai","Juin","Juillet","Aout","Septembre","Octobre","Novembre","Décembre"),CHOOSE(MONTH(G8),"Janvier","Février","Mars","Avril","Mai","Juin","Juillet","Aout","Septembre","Octobre","Novembre","Décembre")) -> Septembre | E8: =WORKDAY(C8,3,'Jours fériés'!$B$6:$B$12) -> 43353 | F8: 43329 | G8: =WORKDAY(E8,5,'Jours fériés'!$B$6:$B$12) -> 43360 | H8: 5 | I8: =IF(OR(F8="",F8="aucune"),"",WORKDAY(F8,H8,'Jours fériés'!$B$6:$B$12)) -> 43336 | J8: =IF(I8="",G8,I8) -> 43336
A9: Chantier 0 | B9: Compte rendu du Comité de Pilotage V2 | C9: ='Dates de référence'!B12 -> 43377 | D9: =IF(E9<>"",CHOOSE(MONTH(E9),"Janvier","Février","Mars","Avril","Mai","Juin","Juillet","Aout","Septembre","Octobre","Novembre","Décembre"),CHOOSE(MONTH(G9),"Janvier","Février","Mars","Avril","Mai","Juin","Juillet","Aout","Septembre","Octobre","Novembre","Décembre")) -> Aout | E9: 43335 | F9: 43334 | G9: 43334 | I9: =IF(OR(F9="",F9="aucune"),"",WORKDAY(F9,H9,'Jours fériés'!$B$6:$B$12)) -> 43334 | J9: =IF(I9="",G9,I9) -> 43334

Sheet Tableau planning 
B2: Légende | C2: Livrable | H2: Validation
C3: Livraison à la date attendue | G3: L OK | H3: Validation à la date prévue | L3: V OK
C4: Date de livraison réelle | G4: L Réel | H4: Date de validation réelle | L4: V réel
C5: Date de livraison attendue | G5: L Att | H5: Date de validation attendue | L5: V Att
C7: Juillet | L7: Août | M7: Août | AR7: Septembre | AS7: Septembre | BW7: Octobre | BX7: Octobre | DC7: Novembre | DD7: Novembre | EH7: Décembre | EI7: Décembre | FN7: Janvier | FO7: Janvier | GT7: Février | GU7: Février | HW7: Etat
A8: Chantier | B8: Livrables | C8: 43304 | D8: 43305 | E8: 43306 | F8: 43307 | G8: 43308 | H8: 43309 | I8: 43310 | J8: 43311 | K8: 43312 | M8: 43313 | N8: 43314 | O8: 43315 | P8: 43316 | Q8: 43317 | R8: 43318 | S8: 43319 | T8: 43320 | U8: 43321 | V8: 43322 | W8: 43323 | X8: 43324 | Y8: 43325 | Z8: 43326 | AA8: 43327 | AB8: 43328 | AC8: 43329 | AD8: 43330 | AE8: 43331 | AF8: 43332 | AG8: 43333 | AH8: 43334 | AI8: 43335 | AJ8: 43336 | AK8: 43337 | AL8: 43338 | AM8: 43339 | AN8: 43340 | AO8: 43341 | AP8: 43342 | AQ8: 43343 | AS8: 43344 | AT8: 43345 | AU8: 43346 | AV8: 43347 | AW8: 43348 | AX8: 43349 | AY8: 43350 | AZ8: 43351 | BA8: 43352 | BB8: 43353 | BC8: 43354 | BD8: 43355 | BE8: 43356 | BF8: 43357 | BG8: 43358 | BH8: 43359 | BI8: 43360 | BJ8: 43361 | BK8: 43362 | BL8: 43363 | BM8: 43364 | BN8: 43365 | BO8: 43366 | BP8: 43367 | BQ8: 43368 | BR8: 43369 | BS8: 43370 | BT8: 43371 | BU8: 43372 | BV8: 43373 | BX8: 43374 | BY8: 43375 | BZ8: 43376 | CA8: 43377 | CB8: 43378 | CC8: 43379 | CD8: 43380 | CE8: 43381 | CF8: 43382 | CG8: 43383 | CH8: 43384 | CI8: 43385 | CJ8: 43386 | CK8: 43387 | CL8: 43388 | CM8: 43389 | CN8: 43390 | CO8: 43391 | CP8: 43392 | CQ8: 43393 | CR8: 43394 | CS8: 43395 | CT8: 43396 | CU8: 43397 | CV8: 43398 | CW8: 43399 | CX8: 43400 | CY8: 43401 | CZ8: 43402 | DA8: 43403 | DB8: 43404 | DD8: 43405 | DE8: 43406 | DF8: 43407 | DG8: 43408 | DH8: 43409 | DI8: 43410 | DJ8: 43411 | DK8: 43412 | DL8: 43413 | DM8: 43414 | DN8: 43415 | DO8: 43416 | DP8: 43417 | DQ8: 43418 | DR8: 43419 | DS8: 43420 | DT8: 43421 | DU8: 43422 | DV8: 43423 | DW8: 43424 | DX8: 43425 | DY8: 43426 | DZ8: 43427 | EA8: 43428 | EB8: 43429 | EC8: 43430 | ED8: 43431 | EE8: 43432 | EF8: 43433 | EG8: 43434 | EI8: 43435 | EJ8: 43436 | EK8: 43437 | EL8: 43438 | EM8: 43439 | EN8: 43440 | EO8: 43441 | EP8: 43442 | EQ8: 43443 | ER8: 43444 | ES8: 43445 | ET8: 43446 | EU8: 43447 | EV8: 43448 | EW8: 43449 | EX8: 43450 | EY8: 43451 | EZ8: 43452 | FA8: 43453 | FB8: 43454 | FC8: 43455 | FD8: 43456 | FE8: 43457 | FF8: 43458 | FG8: 43459 | FH8: 43460 | FI8: 43461 | FJ8: 43462 | FK8: 43463 | FL8: 43464 | FM8: 43465 | FO8: 43466 | FP8: 43467 | FQ8: 43468 | FR8: 43469 | FS8: 43470 | FT8: 43471 | FU8: 43472 | FV8: 43473 | FW8: 43474 | FX8: 43475 | FY8: 43476 | FZ8: 43477 | GA8: 43478 | GB8: 43479 | GC8: 43480 | GD8: 43481 | GE8: 43482 | GF8: 43483 | GG8: 43484 | GH8: 43485 | GI8: 43486 | GJ8: 43487 | GK8: 43488 | GL8: 43489 | GM8: 43490 | GN8: 43491 | GO8: 43492 | GP8: 43493 | GQ8: 43494 | GR8: 43495 | GS8: 43496 | GU8: 43497 | GV8: 43498 | GW8: 43499 | GX8: 43500 | GY8: 43501 | GZ8: 43502 | HA8: 43503 | HB8: 43504 | HC8: 43505 | HD8: 43506 | HE8: 43507 | HF8: 43508 | HG8: 43509 | HH8: 43510 | HI8: 43511 | HJ8: 43512 | HK8: 43513 | HL8: 43514 | HM8: 43515 | HN8: 43516 | HO8: 43517 | HP8: 43518 | HQ8: 43519 | HR8: 43520 | HS8: 43521 | HT8: 43522 | HU8: 43523 | HV8: 43524
A9: Chantier | B9: Livrables | C9: 23 | D9: 24 | E9: 25 | F9: 26 | G9: 27 | H9: 28 | I9: 29 | J9: 30 | K9: 31 | L9: . | M9: 1 | N9: 2 | O9: 3 | P9: 4 | Q9: 5 | R9: 6 | S9: 7 | T9: 8 | U9: 9 | V9: 10 | W9: 11 | X9: 12 | Y9: 13 | Z9: 14 | AA9: 15 | AB9: 16 | AC9: 17 | AD9: 18 | AE9: 19 | AF9: 20 | AG9: 21 | AH9: 22 | AI9: 23 | AJ9: 24 | AK9: 25 | AL9: 26 | AM9: 27 | AN9: 28 | AO9: 29 | AP9: 30 | AQ9: 31 | AR9: . | AS9: 1 | AT9: 2 | AU9: 3 | AV9: 4 | AW9: 5 | AX9: 6 | AY9: 7 | AZ9: 8 | BA9: 9 | BB9: 10 | BC9: 11 | BD9: 12 | BE9: 13 | BF9: 14 | BG9: 15 | BH9: 16 | BI9: 17 | BJ9: 18 | BK9: 19 | BL9: 20 | BM9: 21 | BN9: 22 | BO9: 23 | BP9: 24 | BQ9: 25 | BR9: 26 | BS9: 27 | BT9: 28 | BU9: 29 | BV9: 30 | BW9: . | BX9: 1 | BY9: 2 | BZ9: 3 | CA9: 4 | CB9: 5 | CC9: 6 | CD9: 7 | CE9: 8 | CF9: 9 | CG9: 10 | CH9: 11 | CI9: 12 | CJ9: 13 | CK9: 14 | CL9: 15 | CM9: 16 | CN9: 17 | CO9: 18 | CP9: 19 | CQ9: 20 | CR9: 21 | CS9: 22 | CT9: 23 | CU9: 24 | CV9: 25 | CW9: 26 | CX9: 27 | CY9: 28 | CZ9: 29 | DA9: 30 | DB9: 31 | DC9: . | DD9: 1 | DE9: 2 | DF9: 3 | DG9: 4 | DH9: 5 | DI9: 6 | DJ9: 7 | DK9: 8 | DL9: 9 | DM9: 10 | DN9: 11 | DO9: 12 | DP9: 13 | DQ9: 14 | DR9: 15 | DS9: 16 | DT9: 17 | DU9: 18 | DV9: 19 | DW9: 20 | DX9: 21 | DY9: 22 | DZ9: 23 | EA9: 24 | EB9: 25 | EC9: 26 | ED9: 27 | EE9: 28 | EF9: 29 | EG9: 30 | EH9: . | EI9: 1 | EJ9: 2 | EK9: 3 | EL9: 4 | EM9: 5 | EN9: 6 | EO9: 7 | EP9: 8 | EQ9: 9 | ER9: 10 | ES9: 11 | ET9: 12 | EU9: 13 | EV9: 14 | EW9: 15 | EX9: 16 | EY9: 17 | EZ9: 18 | FA9: 19 | FB9: 20 | FC9: 21 | FD9: 22 | FE9: 23 | FF9: 24 | FG9: 25 | FH9: 26 | FI9: 27 | FJ9: 28 | FK9: 29 | FL9: 30 | FM9: 31 | FN9: . | FO9: 1 | FP9: 2 | FQ9: 3 | FR9: 4 | FS9: 5 | FT9: 6 | FU9: 7 | FV9: 8 | FW9: 9 | FX9: 10 | FY9: 11 | FZ9: 12 | GA9: 13 | GB9: 14 | GC9: 15 | GD9: 16 | GE9: 17 | GF9: 18 | GG9: 19 | GH9: 20 | GI9: 21 | GJ9: 22 | GK9: 23 | GL9: 24 | GM9: 25 | GN9: 26 | GO9: 27 | GP9: 28 | GQ9: 29 | GR9: 30 | GS9: 31 | GT9: . | GU9: 1 | GV9: 2 | GW9: 3 | GX9: 4 | GY9: 5 | GZ9: 6 | HA9: 7 | HB9: 8 | HC9: 9 | HD9: 10 | HE9: 11 | HF9: 12 | HG9: 13 | HH9: 14 | HI9: 15 | HJ9: 16 | HK9: 17 | HL9: 18 | HM9: 19 | HN9: 20 | HO9: 21 | HP9: 22 | HQ9: 23 | HR9: 24 | HS9: 25 | HT9: 26 | HU9: 27 | HV9: 28 | HW9: Livrable | HX9: Validation
A10: Chantier 0 | B10: Ordre du jour du Comité de Pilotage | C10: =IF(AND(Données!$F5=C$8,Données!$E5=C$8),$G$3,IF(Données!$F5=C$8,$G$4,IF(Données!$E5=C$8,$G$5,IF(AND(Données!$J5=C$8,Données!$K5=C$8),$L$3,IF(Données!$K5=C$8,$L$4,IF(Données!$J5=C$8,$L$5,"")))))) | D10: =IF(AND(Données!$F5=D$8,Données!$E5=D$8),$G$3,IF(Données!$F5=D$8,$G$4,IF(Données!$E5=D$8,$G$5,IF(AND(Données!$J5=D$8,Données!$K5=D$8),$L$3,IF(Données!$K5=D$8,$L$4,IF(Données!$J5=D$8,$L$5,"")))))) | E10: =IF(AND(Données!$F5=E$8,Données!$E5=E$8),$G$3,IF(Données!$F5=E$8,$G$4,IF(Données!$E5=E$8,$G$5,IF(AND(Données!$J5=E$8,Données!$K5=E$8),$L$3,IF(Données!$K5=E$8,$L$4,IF(Données!$J5=E$8,$L$5,"")))))) -> L Att | F10: =IF(AND(Données!$F5=F$8,Données!$E5=F$8),$G$3,IF(Données!$F5=F$8,$G$4,IF(Données!$E5=F$8,$G$5,IF(AND(Données!$J5=F$8,Données!$K5=F$8),$L$3,IF(Données!$K5=F$8,$L$4,IF(Données!$J5=F$8,$L$5,"")))))) | G10: =IF(AND(Données!$F5=G$8,Données!$E5=G$8),$G$3,IF(Données!$F5=G$8,$G$4,IF(Données!$E5=G$8,$G$5,IF(AND(Données!$J5=G$8,Données!$K5=G$8),$L$3,IF(Données!$K5=G$8,$L$4,IF(Données!$J5=G$8,$L$5,"")))))) -> V Att | H10: =IF(AND(Données!$F5=H$8,Données!$E5=H$8),$G$3,IF(Données!$F5=H$8,$G$4,IF(Données!$E5=H$8,$G$5,IF(AND(Données!$J5=H$8,Données!$K5=H$8),$L$3,IF(Données!$K5=H$8,$L$4,IF(Données!$J5=H$8,$L$5,"")))))) | I10: =IF(AND(Données!$F5=I$8,Données!$E5=I$8),$G$3,IF(Données!$F5=I$8,$G$4,IF(Données!$E5=I$8,$G$5,IF(AND(Données!$J5=I$8,Données!$K5=I$8),$L$3,IF(Données!$K5=I$8,$L$4,IF(Données!$J5=I$8,$L$5,"")))))) | J10: =IF(AND(Données!$F5=J$8,Données!$E5=J$8),$G$3,IF(Données!$F5=J$8,$G$4,IF(Données!$E5=J$8,$G$5,IF(AND(Données!$J5=J$8,Données!$K5=J$8),$L$3,IF(Données!$K5=J$8,$L$4,IF(Données!$J5=J$8,$L$5,"")))))) | K10: =IF(AND(Données!$F5=K$8,Données!$E5=K$8),$G$3,IF(Données!$F5=K$8,$G$4,IF(Données!$E5=K$8,$G$5,IF(AND(Données!$J5=K$8,Données!$K5=K$8),$L$3,IF(Données!$K5=K$8,$L$4,IF(Données!$J5=K$8,$L$5,"")))))) | M10: =IF(AND(Données!$F5=M$8,Données!$E5=M$8),$G$3,IF(Données!$F5=M$8,$G$4,IF(Données!$E5=M$8,$G$5,IF(AND(Données!$J5=M$8,Données!$K5=M$8),$L$3,IF(Données!$K5=M$8,$L$4,IF(Données!$J5=M$8,$L$5,"")))))) | N10: =IF(AND(Données!$F5=N$8,Données!$E5=N$8),$G$3,IF(Données!$F5=N$8,$G$4,IF(Données!$E5=N$8,$G$5,IF(AND(Données!$J5=N$8,Données!$K5=N$8),$L$3,IF(Données!$K5=N$8,$L$4,IF(Données!$J5=N$8,$L$5,"")))))) | O10: =IF(AND(Données!$F5=O$8,Données!$E5=O$8),$G$3,IF(Données!$F5=O$8,$G$4,IF(Données!$E5=O$8,$G$5,IF(AND(Données!$J5=O$8,Données!$K5=O$8),$L$3,IF(Données!$K5=O$8,$L$4,IF(Données!$J5=O$8,$L$5,"")))))) | P10: =IF(AND(Données!$F5=P$8,Données!$E5=P$8),$G$3,IF(Données!$F5=P$8,$G$4,IF(Données!$E5=P$8,$G$5,IF(AND(Données!$J5=P$8,Données!$K5=P$8),$L$3,IF(Données!$K5=P$8,$L$4,IF(Données!$J5=P$8,$L$5,"")))))) | Q10: =IF(AND(Données!$F5=Q$8,Données!$E5=Q$8),$G$3,IF(Données!$F5=Q$8,$G$4,IF(Données!$E5=Q$8,$G$5,IF(AND(Données!$J5=Q$8,Données!$K5=Q$8),$L$3,IF(Données!$K5=Q$8,$L$4,IF(Données!$J5=Q$8,$L$5,"")))))) | R10: =IF(AND(Données!$F5=R$8,Données!$E5=R$8),$G$3,IF(Données!$F5=R$8,$G$4,IF(Données!$E5=R$8,$G$5,IF(AND(Données!$J5=R$8,Données!$K5=R$8),$L$3,IF(Données!$K5=R$8,$L$4,IF(Données!$J5=R$8,$L$5,"")))))) | S10: =IF(AND(Données!$F5=S$8,Données!$E5=S$8),$G$3,IF(Données!$F5=S$8,$G$4,IF(Données!$E5=S$8,$G$5,IF(AND(Données!$J5=S$8,Données!$K5=S$8),$L$3,IF(Données!$K5=S$8,$L$4,IF(Données!$J5=S$8,$L$5,"")))))) | T10: =IF(AND(Données!$F5=T$8,Données!$E5=T$8),$G$3,IF(Données!$F5=T$8,$G$4,IF(Données!$E5=T$8,$G$5,IF(AND(Données!$J5=T$8,Données!$K5=T$8),$L$3,IF(Données!$K5=T$8,$L$4,IF(Données!$J5=T$8,$L$5,"")))))) | ... AQ10: =IF(AND(Données!$F5=AQ$8,Données!$E5=AQ$8),$G$3,IF(Données!$F5=AQ$8,$G$4,IF(Données!$E5=AQ$8,$G$5,IF(AND(Données!$J5=AQ$8,Données!$K5=AQ$8),$L$3,IF(Données!$K5=AQ$8,$L$4,IF(Données!$J5=AQ$8,$L$5,"")))))) | AS10: =IF(AND(Données!$F5=AS$8,Données!$E5=AS$8),$G$3,IF(Données!$F5=AS$8,$G$4,IF(Données!$E5=AS$8,$G$5,IF(AND(Données!$J5=AS$8,Données!$K5=AS$8),$L$3,IF(Données!$K5=AS$8,$L$4,IF(Données!$J5=AS$8,$L$5,"")))))) | AT10: =IF(AND(Données!$F5=AT$8,Données!$E5=AT$8),$G$3,IF(Données!$F5=AT$8,$G$4,IF(Données!$E5=AT$8,$G$5,IF(AND(Données!$J5=AT$8,Données!$K5=AT$8),$L$3,IF(Données!$K5=AT$8,$L$4,IF(Données!$J5=AT$8,$L$5,"")))))) | AU10: =IF(AND(Données!$F5=AU$8,Données!$E5=AU$8),$G$3,IF(Données!$F5=AU$8,$G$4,IF(Données!$E5=AU$8,$G$5,IF(AND(Données!$J5=AU$8,Données!$K5=AU$8),$L$3,IF(Données!$K5=AU$8,$L$4,IF(Données!$J5=AU$8,$L$5,"")))))) | AV10: =IF(AND(Données!$F5=AV$8,Données!$E5=AV$8),$G$3,IF(Données!$F5=AV$8,$G$4,IF(Données!$E5=AV$8,$G$5,IF(AND(Données!$J5=AV$8,Données!$K5=AV$8),$L$3,IF(Données!$K5=AV$8,$L$4,IF(Données!$J5=AV$8,$L$5,"")))))) | AW10: =IF(AND(Données!$F5=AW$8,Données!$E5=AW$8),$G$3,IF(Données!$F5=AW$8,$G$4,IF(Données!$E5=AW$8,$G$5,IF(AND(Données!$J5=AW$8,Données!$K5=AW$8),$L$3,IF(Données!$K5=AW$8,$L$4,IF(Données!$J5=AW$8,$L$5,"")))))) | AX10: =IF(AND(Données!$F5=AX$8,Données!$E5=AX$8),$G$3,IF(Données!$F5=AX$8,$G$4,IF(Données!$E5=AX$8,$G$5,IF(AND(Données!$J5=AX$8,Données!$K5=AX$8),$L$3,IF(Données!$K5=AX$8,$L$4,IF(Données!$J5=AX$8,$L$5,"")))))) | AY10: =IF(AND(Données!$F5=AY$8,Données!$E5=AY$8),$G$3,IF(Données!$F5=AY$8,$G$4,IF(Données!$E5=AY$8,$G$5,IF(AND(Données!$J5=AY$8,Données!$K5=AY$8),$L$3,IF(Données!$K5=AY$8,$L$4,IF(Données!$J5=AY$8,$L$5,"")))))) | AZ10: =IF(AND(Données!$F5=AZ$8,Données!$E5=AZ$8),$G$3,IF(Données!$F5=AZ$8,$G$4,IF(Données!$E5=AZ$8,$G$5,IF(AND(Données!$J5=AZ$8,Données!$K5=AZ$8),$L$3,IF(Données!$K5=AZ$8,$L$4,IF(Données!$J5=AZ$8,$L$5,"")))))) | ... BV10: =IF(AND(Données!$F5=BV$8,Données!$E5=BV$8),$G$3,IF(Données!$F5=BV$8,$G$4,IF(Données!$E5=BV$8,$G$5,IF(AND(Données!$J5=BV$8,Données!$K5=BV$8),$L$3,IF(Données!$K5=BV$8,$L$4,IF(Données!$J5=BV$8,$L$5,"")))))) | BX10: =IF(AND(Données!$F5=BX$8,Données!$E5=BX$8),$G$3,IF(Données!$F5=BX$8,$G$4,IF(Données!$E5=BX$8,$G$5,IF(AND(Données!$J5=BX$8,Données!$K5=BX$8),$L$3,IF(Données!$K5=BX$8,$L$4,IF(Données!$J5=BX$8,$L$5,"")))))) | BY10: =IF(AND(Données!$F5=BY$8,Données!$E5=BY$8),$G$3,IF(Données!$F5=BY$8,$G$4,IF(Données!$E5=BY$8,$G$5,IF(AND(Données!$J5=BY$8,Données!$K5=BY$8),$L$3,IF(Données!$K5=BY$8,$L$4,IF(Données!$J5=BY$8,$L$5,"")))))) | BZ10: =IF(AND(Données!$F5=BZ$8,Données!$E5=BZ$8),$G$3,IF(Données!$F5=BZ$8,$G$4,IF(Données!$E5=BZ$8,$G$5,IF(AND(Données!$J5=BZ$8,Données!$K5=BZ$8),$L$3,IF(Données!$K5=BZ$8,$L$4,IF(Données!$J5=BZ$8,$L$5,"")))))) | CA10: =IF(AND(Données!$F5=CA$8,Données!$E5=CA$8),$G$3,IF(Données!$F5=CA$8,$G$4,IF(Données!$E5=CA$8,$G$5,IF(AND(Données!$J5=CA$8,Données!$K5=CA$8),$L$3,IF(Données!$K5=CA$8,$L$4,IF(Données!$J5=CA$8,$L$5,"")))))) | CB10: =IF(AND(Données!$F5=CB$8,Données!$E5=CB$8),$G$3,IF(Données!$F5=CB$8,$G$4,IF(Données!$E5=CB$8,$G$5,IF(AND(Données!$J5=CB$8,Données!$K5=CB$8),$L$3,IF(Données!$K5=CB$8,$L$4,IF(Données!$J5=CB$8,$L$5,"")))))) | CC10: =IF(AND(Données!$F5=CC$8,Données!$E5=CC$8),$G$3,IF(Données!$F5=CC$8,$G$4,IF(Données!$E5=CC$8,$G$5,IF(AND(Données!$J5=CC$8,Données!$K5=CC$8),$L$3,IF(Données!$K5=CC$8,$L$4,IF(Données!$J5=CC$8,$L$5,"")))))) | CD10: =IF(AND(Données!$F5=CD$8,Données!$E5=CD$8),$G$3,IF(Données!$F5=CD$8,$G$4,IF(Données!$E5=CD$8,$G$5,IF(AND(Données!$J5=CD$8,Données!$K5=CD$8),$L$3,IF(Données!$K5=CD$8,$L$4,IF(Données!$J5=CD$8,$L$5,"")))))) | CE10: =IF(AND(Données!$F5=CE$8,Données!$E5=CE$8),$G$3,IF(Données!$F5=CE$8,$G$4,IF(Données!$E5=CE$8,$G$5,IF(AND(Données!$J5=CE$8,Données!$K5=CE$8),$L$3,IF(Données!$K5=CE$8,$L$4,IF(Données!$J5=CE$8,$L$5,"")))))) | ... DB10: =IF(AND(Données!$F5=DB$8,Données!$E5=DB$8),$G$3,IF(Données!$F5=DB$8,$G$4,IF(Données!$E5=DB$8,$G$5,IF(AND(Données!$J5=DB$8,Données!$K5=DB$8),$L$3,IF(Données!$K5=DB$8,$L$4,IF(Données!$J5=DB$8,$L$5,"")))))) | DD10: =IF(AND(Données!$F5=DD$8,Données!$E5=DD$8),$G$3,IF(Données!$F5=DD$8,$G$4,IF(Données!$E5=DD$8,$G$5,IF(AND(Données!$J5=DD$8,Données!$K5=DD$8),$L$3,IF(Données!$K5=DD$8,$L$4,IF(Données!$J5=DD$8,$L$5,"")))))) | DE10: =IF(AND(Données!$F5=DE$8,Données!$E5=DE$8),$G$3,IF(Données!$F5=DE$8,$G$4,IF(Données!$E5=DE$8,$G$5,IF(AND(Données!$J5=DE$8,Données!$K5=DE$8),$L$3,IF(Données!$K5=DE$8,$L$4,IF(Données!$J5=DE$8,$L$5,"")))))) | DF10: =IF(AND(Données!$F5=DF$8,Données!$E5=DF$8),$G$3,IF(Données!$F5=DF$8,$G$4,IF(Données!$E5=DF$8,$G$5,IF(AND(Données!$J5=DF$8,Données!$K5=DF$8),$L$3,IF(Données!$K5=DF$8,$L$4,IF(Données!$J5=DF$8,$L$5,"")))))) | DG10: =IF(AND(Données!$F5=DG$8,Données!$E5=DG$8),$G$3,IF(Données!$F5=DG$8,$G$4,IF(Données!$E5=DG$8,$G$5,IF(AND(Données!$J5=DG$8,Données!$K5=DG$8),$L$3,IF(Données!$K5=DG$8,$L$4,IF(Données!$J5=DG$8,$L$5,"")))))) | DH10: =IF(AND(Données!$F5=DH$8,Données!$E5=DH$8),$G$3,IF(Données!$F5=DH$8,$G$4,IF(Données!$E5=DH$8,$G$5,IF(AND(Données!$J5=DH$8,Données!$K5=DH$8),$L$3,IF(Données!$K5=DH$8,$L$4,IF(Données!$J5=DH$8,$L$5,"")))))) | DI10: =IF(AND(Données!$F5=DI$8,Données!$E5=DI$8),$G$3,IF(Données!$F5=DI$8,$G$4,IF(Données!$E5=DI$8,$G$5,IF(AND(Données!$J5=DI$8,Données!$K5=DI$8),$L$3,IF(Données!$K5=DI$8,$L$4,IF(Données!$J5=DI$8,$L$5,"")))))) | DJ10: =IF(AND(Données!$F5=DJ$8,Données!$E5=DJ$8),$G$3,IF(Données!$F5=DJ$8,$G$4,IF(Données!$E5=DJ$8,$G$5,IF(AND(Données!$J5=DJ$8,Données!$K5=DJ$8),$L$3,IF(Données!$K5=DJ$8,$L$4,IF(Données!$J5=DJ$8,$L$5,"")))))) | DK10: =IF(AND(Données!$F5=DK$8,Données!$E5=DK$8),$G$3,IF(Données!$F5=DK$8,$G$4,IF(Données!$E5=DK$8,$G$5,IF(AND(Données!$J5=DK$8,Données!$K5=DK$8),$L$3,IF(Données!$K5=DK$8,$L$4,IF(Données!$J5=DK$8,$L$5,"")))))) | ... EG10: =IF(AND(Données!$F5=EG$8,Données!$E5=EG$8),$G$3,IF(Données!$F5=EG$8,$G$4,IF(Données!$E5=EG$8,$G$5,IF(AND(Données!$J5=EG$8,Données!$K5=EG$8),$L$3,IF(Données!$K5=EG$8,$L$4,IF(Données!$J5=EG$8,$L$5,"")))))) | EI10: =IF(AND(Données!$F5=EI$8,Données!$E5=EI$8),$G$3,IF(Données!$F5=EI$8,$G$4,IF(Données!$E5=EI$8,$G$5,IF(AND(Données!$J5=EI$8,Données!$K5=EI$8),$L$3,IF(Données!$K5=EI$8,$L$4,IF(Données!$J5=EI$8,$L$5,"")))))) | EJ10: =IF(AND(Données!$F5=EJ$8,Données!$E5=EJ$8),$G$3,IF(Données!$F5=EJ$8,$G$4,IF(Données!$E5=EJ$8,$G$5,IF(AND(Données!$J5=EJ$8,Données!$K5=EJ$8),$L$3,IF(Données!$K5=EJ$8,$L$4,IF(Données!$J5=EJ$8,$L$5,"")))))) | EK10: =IF(AND(Données!$F5=EK$8,Données!$E5=EK$8),$G$3,IF(Données!$F5=EK$8,$G$4,IF(Données!$E5=EK$8,$G$5,IF(AND(Données!$J5=EK$8,Données!$K5=EK$8),$L$3,IF(Données!$K5=EK$8,$L$4,IF(Données!$J5=EK$8,$L$5,"")))))) | EL10: =IF(AND(Données!$F5=EL$8,Données!$E5=EL$8),$G$3,IF(Données!$F5=EL$8,$G$4,IF(Données!$E5=EL$8,$G$5,IF(AND(Données!$J5=EL$8,Données!$K5=EL$8),$L$3,IF(Données!$K5=EL$8,$L$4,IF(Données!$J5=EL$8,$L$5,"")))))) | EM10: =IF(AND(Données!$F5=EM$8,Données!$E5=EM$8),$G$3,IF(Données!$F5=EM$8,$G$4,IF(Données!$E5=EM$8,$G$5,IF(AND(Données!$J5=EM$8,Données!$K5=EM$8),$L$3,IF(Données!$K5=EM$8,$L$4,IF(Données!$J5=EM$8,$L$5,"")))))) | EN10: =IF(AND(Données!$F5=EN$8,Données!$E5=EN$8),$G$3,IF(Données!$F5=EN$8,$G$4,IF(Données!$E5=EN$8,$G$5,IF(AND(Données!$J5=EN$8,Données!$K5=EN$8),$L$3,IF(Données!$K5=EN$8,$L$4,IF(Données!$J5=EN$8,$L$5,"")))))) | EO10: =IF(AND(Données!$F5=EO$8,Données!$E5=EO$8),$G$3,IF(Données!$F5=EO$8,$G$4,IF(Données!$E5=EO$8,$G$5,IF(AND(Données!$J5=EO$8,Données!$K5=EO$8),$L$3,IF(Données!$K5=EO$8,$L$4,IF(Données!$J5=EO$8,$L$5,"")))))) | EP10: =IF(AND(Données!$F5=EP$8,Données!$E5=EP$8),$G$3,IF(Données!$F5=EP$8,$G$4,IF(Données!$E5=EP$8,$G$5,IF(AND(Données!$J5=EP$8,Données!$K5=EP$8),$L$3,IF(Données!$K5=EP$8,$L$4,IF(Données!$J5=EP$8,$L$5,"")))))) | ... FM10: =IF(AND(Données!$F5=FM$8,Données!$E5=FM$8),$G$3,IF(Données!$F5=FM$8,$G$4,IF(Données!$E5=FM$8,$G$5,IF(AND(Données!$J5=FM$8,Données!$K5=FM$8),$L$3,IF(Données!$K5=FM$8,$L$4,IF(Données!$J5=FM$8,$L$5,"")))))) | FO10: =IF(AND(Données!$F5=FO$8,Données!$E5=FO$8),$G$3,IF(Données!$F5=FO$8,$G$4,IF(Données!$E5=FO$8,$G$5,IF(AND(Données!$J5=FO$8,Données!$K5=FO$8),$L$3,IF(Données!$K5=FO$8,$L$4,IF(Données!$J5=FO$8,$L$5,"")))))) | FP10: =IF(AND(Données!$F5=FP$8,Données!$E5=FP$8),$G$3,IF(Données!$F5=FP$8,$G$4,IF(Données!$E5=FP$8,$G$5,IF(AND(Données!$J5=FP$8,Données!$K5=FP$8),$L$3,IF(Données!$K5=FP$8,$L$4,IF(Données!$J5=FP$8,$L$5,"")))))) | FQ10: =IF(AND(Données!$F5=FQ$8,Données!$E5=FQ$8),$G$3,IF(Données!$F5=FQ$8,$G$4,IF(Données!$E5=FQ$8,$G$5,IF(AND(Données!$J5=FQ$8,Données!$K5=FQ$8),$L$3,IF(Données!$K5=FQ$8,$L$4,IF(Données!$J5=FQ$8,$L$5,"")))))) | FR10: =IF(AND(Données!$F5=FR$8,Données!$E5=FR$8),$G$3,IF(Données!$F5=FR$8,$G$4,IF(Données!$E5=FR$8,$G$5,IF(AND(Données!$J5=FR$8,Données!$K5=FR$8),$L$3,IF(Données!$K5=FR$8,$L$4,IF(Données!$J5=FR$8,$L$5,"")))))) | FS10: =IF(AND(Données!$F5=FS$8,Données!$E5=FS$8),$G$3,IF(Données!$F5=FS$8,$G$4,IF(Données!$E5=FS$8,$G$5,IF(AND(Données!$J5=FS$8,Données!$K5=FS$8),$L$3,IF(Données!$K5=FS$8,$L$4,IF(Données!$J5=FS$8,$L$5,"")))))) | FT10: =IF(AND(Données!$F5=FT$8,Données!$E5=FT$8),$G$3,IF(Données!$F5=FT$8,$G$4,IF(Données!$E5=FT$8,$G$5,IF(AND(Données!$J5=FT$8,Données!$K5=FT$8),$L$3,IF(Données!$K5=FT$8,$L$4,IF(Données!$J5=FT$8,$L$5,"")))))) | FU10: =IF(AND(Données!$F5=FU$8,Données!$E5=FU$8),$G$3,IF(Données!$F5=FU$8,$G$4,IF(Données!$E5=FU$8,$G$5,IF(AND(Données!$J5=FU$8,Données!$K5=FU$8),$L$3,IF(Données!$K5=FU$8,$L$4,IF(Données!$J5=FU$8,$L$5,"")))))) | FV10: =IF(AND(Données!$F5=FV$8,Données!$E5=FV$8),$G$3,IF(Données!$F5=FV$8,$G$4,IF(Données!$E5=FV$8,$G$5,IF(AND(Données!$J5=FV$8,Données!$K5=FV$8),$L$3,IF(Données!$K5=FV$8,$L$4,IF(Données!$J5=FV$8,$L$5,"")))))) | ... GS10: =IF(AND(Données!$F5=GS$8,Données!$E5=GS$8),$G$3,IF(Données!$F5=GS$8,$G$4,IF(Données!$E5=GS$8,$G$5,IF(AND(Données!$J5=GS$8,Données!$K5=GS$8),$L$3,IF(Données!$K5=GS$8,$L$4,IF(Données!$J5=GS$8,$L$5,"")))))) | GU10: =IF(AND(Données!$F5=GU$8,Données!$E5=GU$8),$G$3,IF(Données!$F5=GU$8,$G$4,IF(Données!$E5=GU$8,$G$5,IF(AND(Données!$J5=GU$8,Données!$K5=GU$8),$L$3,IF(Données!$K5=GU$8,$L$4,IF(Données!$J5=GU$8,$L$5,"")))))) | GV10: =IF(AND(Données!$F5=GV$8,Données!$E5=GV$8),$G$3,IF(Données!$F5=GV$8,$G$4,IF(Données!$E5=GV$8,$G$5,IF(AND(Données!$J5=GV$8,Données!$K5=GV$8),$L$3,IF(Données!$K5=GV$8,$L$4,IF(Données!$J5=GV$8,$L$5,"")))))) | GW10: =IF(AND(Données!$F5=GW$8,Données!$E5=GW$8),$G$3,IF(Données!$F5=GW$8,$G$4,IF(Données!$E5=GW$8,$G$5,IF(AND(Données!$J5=GW$8,Données!$K5=GW$8),$L$3,IF(Données!$K5=GW$8,$L$4,IF(Données!$J5=GW$8,$L$5,"")))))) | GX10: =IF(AND(Données!$F5=GX$8,Données!$E5=GX$8),$G$3,IF(Données!$F5=GX$8,$G$4,IF(Données!$E5=GX$8,$G$5,IF(AND(Données!$J5=GX$8,Données!$K5=GX$8),$L$3,IF(Données!$K5=GX$8,$L$4,IF(Données!$J5=GX$8,$L$5,"")))))) | GY10: =IF(AND(Données!$F5=GY$8,Données!$E5=GY$8),$G$3,IF(Données!$F5=GY$8,$G$4,IF(Données!$E5=GY$8,$G$5,IF(AND(Données!$J5=GY$8,Données!$K5=GY$8),$L$3,IF(Données!$K5=GY$8,$L$4,IF(Données!$J5=GY$8,$L$5,"")))))) | GZ10: =IF(AND(Données!$F5=GZ$8,Données!$E5=GZ$8),$G$3,IF(Données!$F5=GZ$8,$G$4,IF(Données!$E5=GZ$8,$G$5,IF(AND(Données!$J5=GZ$8,Données!$K5=GZ$8),$L$3,IF(Données!$K5=GZ$8,$L$4,IF(Données!$J5=GZ$8,$L$5,"")))))) | HA10: =IF(AND(Données!$F5=HA$8,Données!$E5=HA$8),$G$3,IF(Données!$F5=HA$8,$G$4,IF(Données!$E5=HA$8,$G$5,IF(AND(Données!$J5=HA$8,Données!$K5=HA$8),$L$3,IF(Données!$K5=HA$8,$L$4,IF(Données!$J5=HA$8,$L$5,"")))))) | HB10: =IF(AND(Données!$F5=HB$8,Données!$E5=HB$8),$G$3,IF(Données!$F5=HB$8,$G$4,IF(Données!$E5=HB$8,$G$5,IF(AND(Données!$J5=HB$8,Données!$K5=HB$8),$L$3,IF(Données!$K5=HB$8,$L$4,IF(Données!$J5=HB$8,$L$5,"")))))) | ... HV10: =IF(AND(Données!$F5=HV$8,Données!$E5=HV$8),$G$3,IF(Données!$F5=HV$8,$G$4,IF(Données!$E5=HV$8,$G$5,IF(AND(Données!$J5=HV$8,Données!$K5=HV$8),$L$3,IF(Données!$K5=HV$8,$L$4,IF(Données!$J5=HV$8,$L$5,"")))))) | HW10: =IF(OR(COUNTIF($C10:$GT10,$G$4)=1,COUNTIF($C10:$GT10,$G$3)=1),"Livré","A livrer") -> A livrer | HX10: =IF(AND(COUNTIF($C10:$GT10,$G$4)=0,COUNTIF($C10:$GT10,$G$3)=0),"En attente",IF(AND(OR(COUNTIF($C10:$GT10,$G$4)=1,COUNTIF($C10:$GT10,$G$3)=1),AND(COUNTIF($C10:$GT10,$L$4)=0,COUNTIF($C10:$GT10,$L$3)=0)),"A valider",IF(AND(OR(COUNTIF($C10:$GT10,$G$4)=1,COUNTIF($C10:$GT10,$G$3)=1),OR(COUNTIF($C10:$GT10,$L$4)=1,COUNTIF($C10:$GT10,$L$3)=1)),"Validé",""))) -> En attente

Sheet Jours fériés
B2: NE PAS SUPPRIMER
B5: Jours fériés
B6: 43327
B7: 43405
B8: 43415
B9: 43459
B10: 43466
B11: 43577
B12: 43586
