Workbook

Sheet RECAP
B2: ZONE: | U2: NORD-OUEST
U3: SUD-OUEST
B4: VEHICULE | C4: < 2019 | D4: JANVIER | E4: FEVRIER | F4: MARS | G4: AVRIL | H4: MAI | I4: JUIN | J4: JUILLET | K4: AOÛT | L4: SEPTEMBRE | M4: OCTOBRE | N4: NOVEMBRE | O4: DÉCEMBRE | P4: TOTAL | U4: IDF
B5: Megane | U5: NORD-EST
B6: Clio | U6: SUD-EST
B7: A3
B8: Vanquish
B9: Avantime
B10: DS
B19: MARQUE: | U19: RENAULT
U20: PEUGEOT
B21: VEHICULE | C21: < 2019 | D21: JANVIER | E21: FEVRIER | F21: MARS | G21: AVRIL | H21: MAI | I21: JUIN | J21: JUILLET | K21: AOÛT | L21: SEPTEMBRE | M21: OCTOBRE | N21: NOVEMBRE | O21: DÉCEMBRE | P21: TOTAL | U21: ASTON MARTIN
B22: Megane | U22: AUDI
B23: Clio | U23: CITROEN
B24: A3
B25: Vanquish
B26: Avantime
B27: DS

Sheet Garage A
B2: GARAGE A
B3: Zone: | C3: SUD-OUEST | D3: Marque: | E3: ASTON MARTIN
B5: VEHICULE | C5: < 2019 | D5: Ventes prévues en 2019
D6: JANV | E6: FÉV | F6: MARS | G6: AVR | H6: MAI | I6: JUIN | J6: JUIL | K6: AOÛT | L6: SEPT | M6: OCT | N6: NOV | O6: DÉC | P6: TOTAL
B7: Vanquish | D7: 12 | L7: 50 | P7: =SUM(C7:O7) -> 62
B8: Avantime | C8: 4 | J8: 4 | P8: =SUM(C8:O8) -> 8
B9: DS | E9: 8 | P9: =SUM(C9:O9) -> 8
B10: A3 | G10: 9 | P10: =SUM(C10:O10) -> 9

Sheet Garage B
B2: GARAGE B
B3: Zone: | C3: NORD-OUEST | D3: Marque: | E3: RENAULT
B5: VEHICULE | C5: < 2019 | D5: Ventes prévues en 2019
D6: JANV | E6: FÉV | F6: MARS | G6: AVR | H6: MAI | I6: JUIN | J6: JUIL | K6: AOÛT | L6: SEPT | M6: OCT | N6: NOV | O6: DÉC | P6: TOTAL
B7: Megane | C7: 5 | D7: 2 | H7: 50 | N7: 15 | P7: =SUM(C7:O7) -> 72
B8: Clio | C8: 6 | F8: 20 | J8: 10 | P8: =SUM(C8:O8) -> 36
B9: Avantime | C9: 1 | E9: 2 | M9: 1 | P9: =SUM(C9:O9) -> 4

Sheet Garage C
B2: GARAGE C
B3: Zone: | C3: IDF | D3: Marque: | E3: AUDI
B5: VEHICULE | C5: < 2019 | D5: Ventes prévues en 2019
D6: JANV | E6: FÉV | F6: MARS | G6: AVR | H6: MAI | I6: JUIN | J6: JUIL | K6: AOÛT | L6: SEPT | M6: OCT | N6: NOV | O6: DÉC | P6: TOTAL
B7: A3 | C7: 10 | F7: 10 | I7: 5 | M7: 7 | P7: =SUM(C7:O7) -> 32
B8: Vanquish | E8: 3 | O8: 2 | P8: =SUM(C8:O8) -> 5
B9: DS | D9: 2 | G9: 4 | L9: 8 | N9: 5 | P9: =SUM(C9:O9) -> 19

Sheet TAB18
C2: A | D2: B | E2: C
B3: Megane | C3: =VLOOKUP(B3,'Garage A'!$B$7:$O$10,2,FALSE) -> #N/A | D3: =VLOOKUP(B3,'Garage B'!$B$7:$O$10,2,FALSE) -> 5 | E3: =VLOOKUP(B3,'Garage C'!$B$7:$O$10,2,FALSE) -> #N/A
B4: Clio | C4: =VLOOKUP(B4,'Garage A'!$B$7:$O$10,2,FALSE) -> #N/A | D4: =VLOOKUP(B4,'Garage B'!$B$7:$O$10,2,FALSE) -> 6 | E4: =VLOOKUP(B4,'Garage C'!$B$7:$O$10,2,FALSE) -> #N/A
B5: A3 | C5: =VLOOKUP(B5,'Garage A'!$B$7:$O$10,2,FALSE) -> 0 | D5: =VLOOKUP(B5,'Garage B'!$B$7:$O$10,2,FALSE) -> #N/A | E5: =VLOOKUP(B5,'Garage C'!$B$7:$O$10,2,FALSE) -> 10
B6: Vanquish | C6: =VLOOKUP(B6,'Garage A'!$B$7:$O$10,2,FALSE) -> 0 | D6: =VLOOKUP(B6,'Garage B'!$B$7:$O$10,2,FALSE) -> #N/A | E6: =VLOOKUP(B6,'Garage C'!$B$7:$O$10,2,FALSE) -> 0
B7: Avantime | C7: =VLOOKUP(B7,'Garage A'!$B$7:$O$10,2,FALSE) -> 4 | D7: =VLOOKUP(B7,'Garage B'!$B$7:$O$10,2,FALSE) -> 1 | E7: =VLOOKUP(B7,'Garage C'!$B$7:$O$10,2,FALSE) -> #N/A
B8: DS | C8: =VLOOKUP(B8,'Garage A'!$B$7:$O$10,2,FALSE) -> 0 | D8: =VLOOKUP(B8,'Garage B'!$B$7:$O$10,2,FALSE) -> #N/A | E8: =VLOOKUP(B8,'Garage C'!$B$7:$O$10,2,FALSE) -> 0

Sheet TAB1-19
C2: A | D2: B | E2: C
B3: Megane | C3: =VLOOKUP(B3,'Garage A'!$B$7:$O$10,3,FALSE) -> #N/A | D3: =VLOOKUP(B3,'Garage B'!$B$7:$O$10,3,FALSE) -> 2 | E3: =VLOOKUP(B3,'Garage C'!$B$7:$O$10,3,FALSE) -> #N/A
B4: Clio | C4: =VLOOKUP(B4,'Garage A'!$B$7:$O$10,3,FALSE) -> #N/A | D4: =VLOOKUP(B4,'Garage B'!$B$7:$O$10,3,FALSE) -> 0 | E4: =VLOOKUP(B4,'Garage C'!$B$7:$O$10,3,FALSE) -> #N/A
B5: A3 | C5: =VLOOKUP(B5,'Garage A'!$B$7:$O$10,3,FALSE) -> 0 | D5: =VLOOKUP(B5,'Garage B'!$B$7:$O$10,3,FALSE) -> #N/A | E5: =VLOOKUP(B5,'Garage C'!$B$7:$O$10,3,FALSE) -> 0
B6: Vanquish | C6: =VLOOKUP(B6,'Garage A'!$B$7:$O$10,3,FALSE) -> 12 | D6: =VLOOKUP(B6,'Garage B'!$B$7:$O$10,3,FALSE) -> #N/A | E6: =VLOOKUP(B6,'Garage C'!$B$7:$O$10,3,FALSE) -> 0
B7: Avantime | C7: =VLOOKUP(B7,'Garage A'!$B$7:$O$10,3,FALSE) -> 0 | D7: =VLOOKUP(B7,'Garage B'!$B$7:$O$10,3,FALSE) -> 0 | E7: =VLOOKUP(B7,'Garage C'!$B$7:$O$10,3,FALSE) -> #N/A
B8: DS | C8: =VLOOKUP(B8,'Garage A'!$B$7:$O$10,3,FALSE) -> 0 | D8: =VLOOKUP(B8,'Garage B'!$B$7:$O$10,3,FALSE) -> #N/A | E8: =VLOOKUP(B8,'Garage C'!$B$7:$O$10,3,FALSE) -> 2
