Workbook

Sheet linePro
D2: Centres d'analyse
D3: Centres opérationnels | J3: Centre de structure
D4: Centre auxiliaire | E4: Centres principaux
B5: Charges issues de la comptabilité générale | C5: Montant | D5: Entretien | E5: Approv. | F5: Création | G5: Découpe | H5: Montage | I5: Distribution | J5: Admin. | K5: Contrôle
B6: Amortissement des constructions | C6: =Feuil1!C6 -> 15000 | D6: =Feuil1!D6*Feuil1!C6 -> 1500 | E6: =Feuil1!E6*Feuil1!C6 -> 1500 | F6: =Feuil1!F6*Feuil1!C6 -> 3250 | G6: =Feuil1!G6*Feuil1!C6 -> 3250 | H6: =Feuil1!H6*Feuil1!C6 -> 3250 | I6: =Feuil1!I6*Feuil1!C6 -> 750 | J6: =Feuil1!J6*Feuil1!C6 -> 1500 | K6: =Feuil1!K6 -> 15000 | L6: =IF(C6=K6, "Juste", "FAUX") -> Juste
B7: Amortissement des matériels industriels | C7: =Feuil1!C7 -> 31200 | F7: =Feuil1!F7*Feuil1!C7 -> 4000 | G7: =Feuil1!G7*Feuil1!C7 -> 21200 | H7: =Feuil1!H7*Feuil1!C7 -> 6000 | K7: =Feuil1!K7 -> 31200 | L7: =IF(C7=K7, "Juste", "FAUX") -> Juste
B8: Amortissement des camions | C8: =Feuil1!C8 -> 18600 | E8: =Feuil1!E8*Feuil1!C8 -> 12090 | I8: =Feuil1!I8*Feuil1!C8 -> 6510 | K8: =Feuil1!K8 -> 18600 | L8: =IF(C8=K8, "Juste", "FAUX") -> Juste
B9: Amortissement du véhicule Renault Break | C9: =Feuil1!C9 -> 4400 | I9: =Feuil1!I9*Feuil1!C9 -> 4400 | K9: =Feuil1!K9 -> 4400 | L9: =IF(C9=K9, "Juste", "FAUX") -> Juste
B10: Amortissement du mobilier de bureau | C10: =Feuil1!C10 -> 4000 | E10: =Feuil1!E10*Feuil1!C10 -> 200 | I10: =Feuil1!I10*Feuil1!C10 -> 600 | J10: =Feuil1!J10*Feuil1!C10 -> 3200 | K10: =Feuil1!K10 -> 4000 | L10: =IF(C10=K10, "Juste", "FAUX") -> Juste
B11: Électricité | C11: =Feuil1!C11 -> 13100 | D11: =Feuil1!D11*Feuil1!C11 -> 1250 | E11: =Feuil1!E11*Feuil1!C11 -> 900 | F11: =Feuil1!F11*Feuil1!C11 -> 2400 | G11: =Feuil1!G11*Feuil1!C11 -> 3350 | H11: =Feuil1!H11*Feuil1!C11 -> 2800 | I11: =Feuil1!I11*Feuil1!C11 -> 900 | J11: =Feuil1!J11*Feuil1!C11 -> 1500 | K11: =Feuil1!K11 -> 13100 | L11: =IF(C11=K11, "Juste", "FAUX") -> Juste
B12: Fournitures administratives | C12: =Feuil1!C12 -> 2900 | J12: =Feuil1!J12*Feuil1!C12 -> 2900 | K12: =Feuil1!K12 -> 2900 | L12: =IF(C12=K12, "Juste", "FAUX") -> Juste
B13: Charges d'entretien | C13: =Feuil1!C13 -> 44400 | D13: =Feuil1!D13*Feuil1!C13 -> 44400 | K13: =Feuil1!K13 -> 44400 | L13: =IF(C13=K13, "Juste", "FAUX") -> Juste
B14: Assurances des camions | C14: =Feuil1!C14 -> 5600 | E14: =Feuil1!E14*Feuil1!C14 -> 3640 | I14: =Feuil1!I14*Feuil1!C14 -> 1960 | K14: =Feuil1!K14 -> 5600 | L14: =IF(C14=K14, "Juste", "FAUX") -> Juste
B15: Assurances des matériels industriels | C15: =Feuil1!C15 -> 8000 | F15: =Feuil1!F15*Feuil1!C15 -> 1025.6 | G15: =Feuil1!G15*Feuil1!C15 -> 5436 | H15: =Feuil1!H15*Feuil1!C15 -> 1538.4 | K15: =Feuil1!K15 -> 8000 | L15: =IF(C15=K15, "Juste", "FAUX") -> Juste
B16: Assurance des locaux | C16: =Feuil1!C16 -> 4000 | D16: =Feuil1!D16*Feuil1!C16 -> 400 | E16: =Feuil1!E16*Feuil1!C16 -> 400 | F16: =Feuil1!F16*Feuil1!C16 -> 866.66667 | G16: =Feuil1!G16*Feuil1!C16 -> 866.66667 | H16: =Feuil1!H16*Feuil1!C16 -> 866.66667 | I16: =Feuil1!I16*Feuil1!C16 -> 200 | J16: =Feuil1!J16*Feuil1!C16 -> 400 | K16: =Feuil1!K16 -> 4000 | L16: =IF(C16=K16, "Juste", "FAUX") -> Juste
B17: Assurance du véhicule Renault Break | C17: =Feuil1!C17 -> 1200 | I17: =Feuil1!I17*Feuil1!C17 -> 1200 | K17: =Feuil1!K17 -> 1200 | L17: =IF(C17=K17, "Juste", "FAUX") -> Juste
B18: Honoraires | C18: =Feuil1!C18 -> 3200 | J18: =Feuil1!J18*Feuil1!C18 -> 3200 | K18: =Feuil1!K18 -> 3200 | L18: =IF(C18=K18, "Juste", "FAUX") -> Juste
B19: Déplacements | C19: =Feuil1!C19 -> 60200 | E19: =Feuil1!E19*Feuil1!C19 -> 19998.44 | I19: =Feuil1!I19*Feuil1!C19 -> 32002.32 | J19: =Feuil1!J19*Feuil1!C19 -> 8199.24 | K19: =Feuil1!K19 -> 60200 | L19: =IF(C19=K19, "Juste", "FAUX") -> Juste
B20: Frais postaux | C20: =Feuil1!C20 -> 8200 | E20: =Feuil1!E20*Feuil1!C20 -> 1640 | I20: =Feuil1!I20*Feuil1!C20 -> 2460 | J20: =Feuil1!J20*Feuil1!C20 -> 4100 | K20: =Feuil1!K20 -> 8200 | L20: =IF(C20=K20, "Juste", "FAUX") -> Juste
B21: Impôts et taxes | C21: =Feuil1!C21 -> 36000 | D21: =Feuil1!D21*Feuil1!C21 -> 1800 | E21: =Feuil1!E21*Feuil1!C21 -> 1800 | F21: =Feuil1!F21*Feuil1!C21 -> 9960 | G21: =Feuil1!G21*Feuil1!C21 -> 9960 | H21: =Feuil1!H21*Feuil1!C21 -> 9960 | I21: =Feuil1!I21*Feuil1!C21 -> 1800 | J21: =Feuil1!J21*Feuil1!C21 -> 720 | K21: =Feuil1!K21 -> 36000 | L21: =IF(C21=K21, "Juste", "FAUX") -> Juste
B22: Main-d'œuvre | C22: =Feuil1!C22 -> 470000 | D22: =Feuil1!D22*Feuil1!C22 -> 42018 | E22: =Feuil1!E22*Feuil1!C22 -> 46013 | F22: =Feuil1!F22*Feuil1!C22 -> 79994 | G22: =Feuil1!G22*Feuil1!C22 -> 90005 | H22: =Feuil1!H22*Feuil1!C22 -> 94987 | I22: =Feuil1!I22*Feuil1!C22 -> 29986 | J22: =Feuil1!J22*Feuil1!C22 -> 86997 | K22: =Feuil1!K22 -> 470000 | L22: =IF(C22=K22, "Juste", "FAUX") -> Juste
B23: Charges financières | C23: =Feuil1!C23 -> 28600 | E23: =Feuil1!E23*Feuil1!C23 -> 2860 | F23: =Feuil1!F23*Feuil1!C23 -> 3813.3333 | G23: =Feuil1!G23*Feuil1!C23 -> 3813.3333 | H23: =Feuil1!H23*Feuil1!C23 -> 3813.3333 | J23: =Feuil1!J23*Feuil1!C23 -> 14300 | K23: =Feuil1!K23 -> 28600 | L23: =IF(C23=K23, "Juste", "FAUX") -> Juste
B24: Charges supplétives | C24: =Feuil1!C24 -> 24000 | J24: =Feuil1!J24*Feuil1!C24 -> 24000 | K24: =Feuil1!K24 -> 24000 | L24: =IF(C24=K24, "Juste", "FAUX") -> Juste
B25: Total répartition primaire | C25: =Feuil1!C25 -> 782600 | D25: =Feuil1!D25 -> 91368 | E25: =Feuil1!E25 -> 91041.44 | F25: =Feuil1!F25 -> 105309.6 | G25: =Feuil1!G25 -> 137881 | H25: =Feuil1!H25 -> 123215.4 | I25: =Feuil1!I25 -> 82768.32 | J25: =Feuil1!J25 -> 151016.24 | K25: =Feuil1!K25 -> 782600 | L25: =IF(C25=K25, "Juste", "FAUX") -> Juste
B26: Coût d'entretien
B27: Total répartition secondaire
B28: UO
B29: Nombre d'UO
B30: Coût de l'UO

Sheet Feuil1
D2: Centres d'analyse
D3: Centres opérationnels | J3: Centre de structure
D4: Centre auxiliaire | E4: Centres principaux
B5: Charges issues de la comptabilité générale | C5: Montant | D5: Entretien | E5: Approv. | F5: Création | G5: Découpe | H5: Montage | I5: Distribution | J5: Admin. | K5: Contrôle
B6: Amortissement des constructions | C6: 15000 | D6: =10% -> 0.1 | E6: =10% -> 0.1 | F6: =65%/3 -> 0.21666667 | G6: =65%/3 -> 0.21666667 | H6: =65%/3 -> 0.21666667 | I6: =5% -> 0.05 | J6: =10% -> 0.1 | K6: =SUM(linePro!D6:J6) -> 15000
B7: Amortissement des matériels industriels | C7: 31200 | F7: =4000/31200*100% -> 0.12820513 | G7: =21200/31200*100% -> 0.67948718 | H7: =6000/31200*100% -> 0.19230769 | K7: =SUM(linePro!D7:J7) -> 31200
B8: Amortissement des camions | C8: 18600 | E8: =65% -> 0.65 | I8: =35% -> 0.35 | K8: =SUM(linePro!D8:J8) -> 18600
B9: Amortissement du véhicule Renault Break | C9: 4400 | I9: =100% -> 1 | K9: =SUM(linePro!D9:J9) -> 4400
B10: Amortissement du mobilier de bureau | C10: 4000 | E10: =5% -> 0.05 | I10: =15% -> 0.15 | J10: =80% -> 0.8 | K10: =SUM(linePro!D10:J10) -> 4000
B11: Électricité | C11: 13100 | D11: =1250/13100*100% -> 0.095419847 | E11: =900/13100*100% -> 0.06870229 | F11: =2400/13100*100% -> 0.18320611 | G11: =3350/13100*100% -> 0.25572519 | H11: =2800/13100*100% -> 0.21374046 | I11: =900/13100*100% -> 0.06870229 | J11: =1500/13100*100% -> 0.11450382 | K11: =SUM(linePro!D11:J11) -> 13100
B12: Fournitures administratives | C12: 2900 | J12: =100% -> 1 | K12: =SUM(linePro!D12:J12) -> 2900
B13: Charges d'entretien | C13: 44400 | D13: =100% -> 1 | K13: =SUM(linePro!D13:J13) -> 44400
B14: Assurances des camions | C14: 5600 | E14: =65% -> 0.65 | I14: =35% -> 0.35 | K14: =SUM(linePro!D14:J14) -> 5600
B15: Assurances des matériels industriels | C15: 8000 | F15: =12.82% -> 0.1282 | G15: =67.95% -> 0.6795 | H15: =19.23% -> 0.1923 | K15: =SUM(linePro!D15:J15) -> 8000
B16: Assurance des locaux | C16: 4000 | D16: =10% -> 0.1 | E16: =10% -> 0.1 | F16: =65%/3 -> 0.21666667 | G16: =65%/3 -> 0.21666667 | H16: =65%/3 -> 0.21666667 | I16: =5% -> 0.05 | J16: =10% -> 0.1 | K16: =SUM(linePro!D16:J16) -> 4000
B17: Assurance du véhicule Renault Break | C17: 1200 | I17: =100% -> 1 | K17: =SUM(linePro!D17:J17) -> 1200
B18: Honoraires | C18: 3200 | J18: =100% -> 1 | K18: =SUM(linePro!D18:J18) -> 3200
B19: Déplacements | C19: 60200 | E19: =33.22% -> 0.3322 | I19: =53.16% -> 0.5316 | J19: =13.62% -> 0.1362 | K19: =SUM(linePro!D19:J19) -> 60200
B20: Frais postaux | C20: 8200 | E20: =20% -> 0.2 | I20: =30% -> 0.3 | J20: =50% -> 0.5 | K20: =SUM(linePro!D20:J20) -> 8200
B21: Impôts et taxes | C21: 36000 | D21: =5% -> 0.05 | E21: =5% -> 0.05 | F21: =83%/3 -> 0.27666667 | G21: =83%/3 -> 0.27666667 | H21: =83%/3 -> 0.27666667 | I21: =5% -> 0.05 | J21: =2% -> 0.02 | K21: =SUM(linePro!D21:J21) -> 36000
B22: Main-d'œuvre | C22: 470000 | D22: =8.94% -> 0.0894 | E22: =9.79% -> 0.0979 | F22: =17.02% -> 0.1702 | G22: =19.15% -> 0.1915 | H22: =20.21% -> 0.2021 | I22: =6.38% -> 0.0638 | J22: =18.51% -> 0.1851 | K22: =SUM(linePro!D22:J22) -> 470000
B23: Charges financières | C23: 28600 | E23: =10% -> 0.1 | F23: =40%/3 -> 0.13333333 | G23: =40%/3 -> 0.13333333 | H23: =40%/3 -> 0.13333333 | J23: =50% -> 0.5 | K23: =SUM(linePro!D23:J23) -> 28600
B24: Charges supplétives | C24: 24000 | J24: =100% -> 1 | K24: =SUM(linePro!D24:J24) -> 24000
B25: Total répartition primaire | C25: 782600 | D25: =SUM(linePro!D6:D24) -> 91368 | E25: =SUM(linePro!E6:E24) -> 91041.44 | F25: =SUM(linePro!F6:F24) -> 105309.6 | G25: =SUM(linePro!G6:G24) -> 137881 | H25: =SUM(linePro!H6:H24) -> 123215.4 | I25: =SUM(linePro!I6:I24) -> 82768.32 | J25: =SUM(linePro!J6:J24) -> 151016.24 | K25: =SUM(linePro!D25:J25) -> 782600
B26: Coût d'entretien
B27: Total répartition secondaire
B28: UO
B29: Nombre d'UO
B30: Coût de l'UO
