Workbook

Sheet Feuil1
D5: Equipe | E5: 1; | F5: 2; | G5: 3; | H5: 4; | I5: 5A; | J5: 5B1; | K5: 5B2; | L5: 6; | M5: 7; | N5: 8A; | O5: 8B; | P5: Début_ | Q5: FIN_ | R5: FIN2_ | S5: FIN3_
D6: Jojo | E6: X | F6: X | G6: X | J6: X | N6: X | P6: 43470 | Q6: 43475 | R6: 43479 | S6: 43485
D7: Toto | H7: X | I7: X | P7: 43468 | Q7: 43478 | R7: 43481 | S7: 43482
D8: Jec | F8: X | H8: X | K8: X | P8: 43483 | Q8: 43484 | R8: 43485 | S8: 43487
D9: mama | M9: X | P9: 43485 | Q9: 43489 | R9: 43492 | S9: 43495
D10: Papa | L10: X | O10: X | P10: 43477 | Q10: 43492 | R10: 43496 | S10: 43499
D13: 43466 | E13: 43467 | F13: 43468 | G13: 43469 | H13: 43470 | I13: 43471 | J13: 43472 | K13: 43473 | L13: 43474 | M13: 43475 | N13: 43476 | O13: 43477 | P13: 43478 | Q13: 43479 | R13: 43480 | S13: 43481 | T13: 43482 | U13: 43483 | V13: 43484 | W13: 43485 | X13: 43486 | Y13: 43487 | Z13: 43488 | AA13: 43489 | AB13: 43490 | AC13: 43491 | AD13: 43492 | AE13: 43493 | AF13: 43494 | AG13: 43495 | AH13: 43496
B14: Jojo | C14: 1; | D14: {=IF(D$13<OFFSET($E$5,MATCH($B$14,Tableau1[Equipe],0),11),"",IF(AND(D$13>=OFFSET($E$5,MATCH($B$14,Tableau1[Equipe],0),11),D$13<=OFFSET($E$5,MATCH($B$14,Tableau1[Equipe],0),12)),"mo",IF(AND(D$13>OFFSET($E$5,MATCH($B$14,Tableau1[Equipe],0),12),D$13<=OFFSET($E$5,MATCH($B$14,Tableau1[Equipe],0),13)),"s",IF(AND(D$13>OFFSET($E$5,MATCH($B$14,Tableau1[Equipe],0),13),D$13<=OFFSET($E$5,MATCH($B$14,Tableau1[Equipe],0),14)),"d",IF(D$13>OFFSET($E$5,MATCH($B$14,Tableau1[Equipe],0),14),"")))))} | E14: {=IF(E$13<OFFSET($E$5,MATCH($B$14,Tableau1[Equipe],0),11),"",IF(AND(E$13>=OFFSET($E$5,MATCH($B$14,Tableau1[Equipe],0),11),E$13<=OFFSET($E$5,MATCH($B$14,Tableau1[Equipe],0),12)),"mo",IF(AND(E$13>OFFSET($E$5,MATCH($B$14,Tableau1[Equipe],0),12),E$13<=OFFSET($E$5,MATCH($B$14,Tableau1[Equipe],0),13)),"s",IF(AND(E$13>OFFSET($E$5,MATCH($B$14,Tableau1[Equipe],0),13),E$13<=OFFSET($E$5,MATCH($B$14,Tableau1[Equipe],0),14)),"d",IF(E$13>OFFSET($E$5,MATCH($B$14,Tableau1[Equipe],0),14),"")))))} | F14: {=IF(F$13<OFFSET($E$5,MATCH($B$14,Tableau1[Equipe],0),11),"",IF(AND(F$13>=OFFSET($E$5,MATCH($B$14,Tableau1[Equipe],0),11),F$13<=OFFSET($E$5,MATCH($B$14,Tableau1[Equipe],0),12)),"mo",IF(AND(F$13>OFFSET($E$5,MATCH($B$14,Tableau1[Equipe],0),12),F$13<=OFFSET($E$5,MATCH($B$14,Tableau1[Equipe],0),13)),"s",IF(AND(F$13>OFFSET($E$5,MATCH($B$14,Tableau1[Equipe],0),13),F$13<=OFFSET($E$5,MATCH($B$14,Tableau1[Equipe],0),14)),"d",IF(F$13>OFFSET($E$5,MATCH($B$14,Tableau1[Equipe],0),14),"")))))} | G14: {=IF(G$13<OFFSET($E$5,MATCH($B$14,Tableau1[Equipe],0),11),"",IF(AND(G$13>=OFFSET($E$5,MATCH($B$14,Tableau1[Equipe],0),11),G$13<=OFFSET($E$5,MATCH($B$14,Tableau1[Equipe],0),12)),"mo",IF(AND(G$13>OFFSET($E$5,MATCH($B$14,Tableau1[Equipe],0),12),G$13<=OFFSET($E$5,MATCH($B$14,Tableau1[Equipe],0),13)),"s",IF(AND(G$13>OFFSET($E$5,MATCH($B$14,Tableau1[Equipe],0),13),G$13<=OFFSET($E$5,MATCH($B$14,Tableau1[Equipe],0),14)),"d",IF(G$13>OFFSET($E$5,MATCH($B$14,Tableau1[Equipe],0),14),"")))))} | H14: {=IF(H$13<OFFSET($E$5,MATCH($B$14,Tableau1[Equipe],0),11),"",IF(AND(H$13>=OFFSET($E$5,MATCH($B$14,Tableau1[Equipe],0),11),H$13<=OFFSET($E$5,MATCH($B$14,Tableau1[Equipe],0),12)),"mo",IF(AND(H$13>OFFSET($E$5,MATCH($B$14,Tableau1[Equipe],0),12),H$13<=OFFSET($E$5,MATCH($B$14,Tableau1[Equipe],0),13)),"s",IF(AND(H$13>OFFSET($E$5,MATCH($B$14,Tableau1[Equipe],0),13),H$13<=OFFSET($E$5,MATCH($B$14,Tableau1[Equipe],0),14)),"d",IF(H$13>OFFSET($E$5,MATCH($B$14,Tableau1[Equipe],0),14),"")))))} -> mo | I14: {=IF(I$13<OFFSET($E$5,MATCH($B$14,Tableau1[Equipe],0),11),"",IF(AND(I$13>=OFFSET($E$5,MATCH($B$14,Tableau1[Equipe],0),11),I$13<=OFFSET($E$5,MATCH($B$14,Tableau1[Equipe],0),12)),"mo",IF(AND(I$13>OFFSET($E$5,MATCH($B$14,Tableau1[Equipe],0),12),I$13<=OFFSET($E$5,MATCH($B$14,Tableau1[Equipe],0),13)),"s",IF(AND(I$13>OFFSET($E$5,MATCH($B$14,Tableau1[Equipe],0),13),I$13<=OFFSET($E$5,MATCH($B$14,Tableau1[Equipe],0),14)),"d",IF(I$13>OFFSET($E$5,MATCH($B$14,Tableau1[Equipe],0),14),"")))))} -> mo | J14: {=IF(J$13<OFFSET($E$5,MATCH($B$14,Tableau1[Equipe],0),11),"",IF(AND(J$13>=OFFSET($E$5,MATCH($B$14,Tableau1[Equipe],0),11),J$13<=OFFSET($E$5,MATCH($B$14,Tableau1[Equipe],0),12)),"mo",IF(AND(J$13>OFFSET($E$5,MATCH($B$14,Tableau1[Equipe],0),12),J$13<=OFFSET($E$5,MATCH($B$14,Tableau1[Equipe],0),13)),"s",IF(AND(J$13>OFFSET($E$5,MATCH($B$14,Tableau1[Equipe],0),13),J$13<=OFFSET($E$5,MATCH($B$14,Tableau1[Equipe],0),14)),"d",IF(J$13>OFFSET($E$5,MATCH($B$14,Tableau1[Equipe],0),14),"")))))} -> mo | K14: {=IF(K$13<OFFSET($E$5,MATCH($B$14,Tableau1[Equipe],0),11),"",IF(AND(K$13>=OFFSET($E$5,MATCH($B$14,Tableau1[Equipe],0),11),K$13<=OFFSET($E$5,MATCH($B$14,Tableau1[Equipe],0),12)),"mo",IF(AND(K$13>OFFSET($E$5,MATCH($B$14,Tableau1[Equipe],0),12),K$13<=OFFSET($E$5,MATCH($B$14,Tableau1[Equipe],0),13)),"s",IF(AND(K$13>OFFSET($E$5,MATCH($B$14,Tableau1[Equipe],0),13),K$13<=OFFSET($E$5,MATCH($B$14,Tableau1[Equipe],0),14)),"d",IF(K$13>OFFSET($E$5,MATCH($B$14,Tableau1[Equipe],0),14),"")))))} -> mo | ... AH14: {=IF(AH$13<OFFSET($E$5,MATCH($B$14,Tableau1[Equipe],0),11),"",IF(AND(AH$13>=OFFSET($E$5,MATCH($B$14,Tableau1[Equipe],0),11),AH$13<=OFFSET($E$5,MATCH($B$14,Tableau1[Equipe],0),12)),"mo",IF(AND(AH$13>OFFSET($E$5,MATCH($B$14,Tableau1[Equipe],0),12),AH$13<=OFFSET($E$5,MATCH($B$14,Tableau1[Equipe],0),13)),"s",IF(AND(AH$13>OFFSET($E$5,MATCH($B$14,Tableau1[Equipe],0),13),AH$13<=OFFSET($E$5,MATCH($B$14,Tableau1[Equipe],0),14)),"d",IF(AH$13>OFFSET($E$5,MATCH($B$14,Tableau1[Equipe],0),14),"")))))}
A15: jec | B15: Jojo | C15: 2; | D15: {=IF(D$13<OFFSET($F$5,MATCH($B$15,Tableau1[Equipe],0),10),"",IF(AND(D$13>=OFFSET($F$5,MATCH($B$15,Tableau1[Equipe],0),10),D$13<=OFFSET($F$5,MATCH($B$15,Tableau1[Equipe],0),11)),"mo",IF(AND(D$13>OFFSET($F$5,MATCH($B$15,Tableau1[Equipe],0),11),D$13<=OFFSET($F$5,MATCH($B$15,Tableau1[Equipe],0),12)),"s",IF(AND(D$13>OFFSET($F$5,MATCH($B$15,Tableau1[Equipe],0),12),D$13<=OFFSET($F$5,MATCH($B$15,Tableau1[Equipe],0),13)),"d",IF(D$13>OFFSET($F$5,MATCH($B$15,Tableau1[Equipe],0),13),"")))))} | E15: {=IF(E$13<OFFSET($F$5,MATCH($B$15,Tableau1[Equipe],0),10),"",IF(AND(E$13>=OFFSET($F$5,MATCH($B$15,Tableau1[Equipe],0),10),E$13<=OFFSET($F$5,MATCH($B$15,Tableau1[Equipe],0),11)),"mo",IF(AND(E$13>OFFSET($F$5,MATCH($B$15,Tableau1[Equipe],0),11),E$13<=OFFSET($F$5,MATCH($B$15,Tableau1[Equipe],0),12)),"s",IF(AND(E$13>OFFSET($F$5,MATCH($B$15,Tableau1[Equipe],0),12),E$13<=OFFSET($F$5,MATCH($B$15,Tableau1[Equipe],0),13)),"d",IF(E$13>OFFSET($F$5,MATCH($B$15,Tableau1[Equipe],0),13),"")))))} | F15: {=IF(F$13<OFFSET($F$5,MATCH($B$15,Tableau1[Equipe],0),10),"",IF(AND(F$13>=OFFSET($F$5,MATCH($B$15,Tableau1[Equipe],0),10),F$13<=OFFSET($F$5,MATCH($B$15,Tableau1[Equipe],0),11)),"mo",IF(AND(F$13>OFFSET($F$5,MATCH($B$15,Tableau1[Equipe],0),11),F$13<=OFFSET($F$5,MATCH($B$15,Tableau1[Equipe],0),12)),"s",IF(AND(F$13>OFFSET($F$5,MATCH($B$15,Tableau1[Equipe],0),12),F$13<=OFFSET($F$5,MATCH($B$15,Tableau1[Equipe],0),13)),"d",IF(F$13>OFFSET($F$5,MATCH($B$15,Tableau1[Equipe],0),13),"")))))} | G15: {=IF(G$13<OFFSET($F$5,MATCH($B$15,Tableau1[Equipe],0),10),"",IF(AND(G$13>=OFFSET($F$5,MATCH($B$15,Tableau1[Equipe],0),10),G$13<=OFFSET($F$5,MATCH($B$15,Tableau1[Equipe],0),11)),"mo",IF(AND(G$13>OFFSET($F$5,MATCH($B$15,Tableau1[Equipe],0),11),G$13<=OFFSET($F$5,MATCH($B$15,Tableau1[Equipe],0),12)),"s",IF(AND(G$13>OFFSET($F$5,MATCH($B$15,Tableau1[Equipe],0),12),G$13<=OFFSET($F$5,MATCH($B$15,Tableau1[Equipe],0),13)),"d",IF(G$13>OFFSET($F$5,MATCH($B$15,Tableau1[Equipe],0),13),"")))))} | H15: {=IF(H$13<OFFSET($F$5,MATCH($B$15,Tableau1[Equipe],0),10),"",IF(AND(H$13>=OFFSET($F$5,MATCH($B$15,Tableau1[Equipe],0),10),H$13<=OFFSET($F$5,MATCH($B$15,Tableau1[Equipe],0),11)),"mo",IF(AND(H$13>OFFSET($F$5,MATCH($B$15,Tableau1[Equipe],0),11),H$13<=OFFSET($F$5,MATCH($B$15,Tableau1[Equipe],0),12)),"s",IF(AND(H$13>OFFSET($F$5,MATCH($B$15,Tableau1[Equipe],0),12),H$13<=OFFSET($F$5,MATCH($B$15,Tableau1[Equipe],0),13)),"d",IF(H$13>OFFSET($F$5,MATCH($B$15,Tableau1[Equipe],0),13),"")))))} -> mo | I15: {=IF(I$13<OFFSET($F$5,MATCH($B$15,Tableau1[Equipe],0),10),"",IF(AND(I$13>=OFFSET($F$5,MATCH($B$15,Tableau1[Equipe],0),10),I$13<=OFFSET($F$5,MATCH($B$15,Tableau1[Equipe],0),11)),"mo",IF(AND(I$13>OFFSET($F$5,MATCH($B$15,Tableau1[Equipe],0),11),I$13<=OFFSET($F$5,MATCH($B$15,Tableau1[Equipe],0),12)),"s",IF(AND(I$13>OFFSET($F$5,MATCH($B$15,Tableau1[Equipe],0),12),I$13<=OFFSET($F$5,MATCH($B$15,Tableau1[Equipe],0),13)),"d",IF(I$13>OFFSET($F$5,MATCH($B$15,Tableau1[Equipe],0),13),"")))))} -> mo | J15: {=IF(J$13<OFFSET($F$5,MATCH($B$15,Tableau1[Equipe],0),10),"",IF(AND(J$13>=OFFSET($F$5,MATCH($B$15,Tableau1[Equipe],0),10),J$13<=OFFSET($F$5,MATCH($B$15,Tableau1[Equipe],0),11)),"mo",IF(AND(J$13>OFFSET($F$5,MATCH($B$15,Tableau1[Equipe],0),11),J$13<=OFFSET($F$5,MATCH($B$15,Tableau1[Equipe],0),12)),"s",IF(AND(J$13>OFFSET($F$5,MATCH($B$15,Tableau1[Equipe],0),12),J$13<=OFFSET($F$5,MATCH($B$15,Tableau1[Equipe],0),13)),"d",IF(J$13>OFFSET($F$5,MATCH($B$15,Tableau1[Equipe],0),13),"")))))} -> mo | K15: {=IF(K$13<OFFSET($F$5,MATCH($B$15,Tableau1[Equipe],0),10),"",IF(AND(K$13>=OFFSET($F$5,MATCH($B$15,Tableau1[Equipe],0),10),K$13<=OFFSET($F$5,MATCH($B$15,Tableau1[Equipe],0),11)),"mo",IF(AND(K$13>OFFSET($F$5,MATCH($B$15,Tableau1[Equipe],0),11),K$13<=OFFSET($F$5,MATCH($B$15,Tableau1[Equipe],0),12)),"s",IF(AND(K$13>OFFSET($F$5,MATCH($B$15,Tableau1[Equipe],0),12),K$13<=OFFSET($F$5,MATCH($B$15,Tableau1[Equipe],0),13)),"d",IF(K$13>OFFSET($F$5,MATCH($B$15,Tableau1[Equipe],0),13),"")))))} -> mo | ... AH15: {=IF(AH$13<OFFSET($F$5,MATCH($B$15,Tableau1[Equipe],0),10),"",IF(AND(AH$13>=OFFSET($F$5,MATCH($B$15,Tableau1[Equipe],0),10),AH$13<=OFFSET($F$5,MATCH($B$15,Tableau1[Equipe],0),11)),"mo",IF(AND(AH$13>OFFSET($F$5,MATCH($B$15,Tableau1[Equipe],0),11),AH$13<=OFFSET($F$5,MATCH($B$15,Tableau1[Equipe],0),12)),"s",IF(AND(AH$13>OFFSET($F$5,MATCH($B$15,Tableau1[Equipe],0),12),AH$13<=OFFSET($F$5,MATCH($B$15,Tableau1[Equipe],0),13)),"d",IF(AH$13>OFFSET($F$5,MATCH($B$15,Tableau1[Equipe],0),13),"")))))}
B16: Jojo | C16: 3; | D16: {=IF(D$13<OFFSET($G$5,MATCH($B$16,Tableau1[Equipe],0),9),"",IF(AND(D$13>=OFFSET($G$5,MATCH($B$16,Tableau1[Equipe],0),9),D$13<=OFFSET($G$5,MATCH($B$16,Tableau1[Equipe],0),10)),"mo",IF(AND(D$13>OFFSET($G$5,MATCH($B$16,Tableau1[Equipe],0),10),D$13<=OFFSET($G$5,MATCH($B$16,Tableau1[Equipe],0),11)),"s",IF(AND(D$13>OFFSET($G$5,MATCH($B$16,Tableau1[Equipe],0),11),D$13<=OFFSET($G$5,MATCH($B$16,Tableau1[Equipe],0),12)),"d",IF(D$13>OFFSET($G$5,MATCH($B$16,Tableau1[Equipe],0),12),"")))))} | E16: {=IF(E$13<OFFSET($G$5,MATCH($B$16,Tableau1[Equipe],0),9),"",IF(AND(E$13>=OFFSET($G$5,MATCH($B$16,Tableau1[Equipe],0),9),E$13<=OFFSET($G$5,MATCH($B$16,Tableau1[Equipe],0),10)),"mo",IF(AND(E$13>OFFSET($G$5,MATCH($B$16,Tableau1[Equipe],0),10),E$13<=OFFSET($G$5,MATCH($B$16,Tableau1[Equipe],0),11)),"s",IF(AND(E$13>OFFSET($G$5,MATCH($B$16,Tableau1[Equipe],0),11),E$13<=OFFSET($G$5,MATCH($B$16,Tableau1[Equipe],0),12)),"d",IF(E$13>OFFSET($G$5,MATCH($B$16,Tableau1[Equipe],0),12),"")))))} | F16: {=IF(F$13<OFFSET($G$5,MATCH($B$16,Tableau1[Equipe],0),9),"",IF(AND(F$13>=OFFSET($G$5,MATCH($B$16,Tableau1[Equipe],0),9),F$13<=OFFSET($G$5,MATCH($B$16,Tableau1[Equipe],0),10)),"mo",IF(AND(F$13>OFFSET($G$5,MATCH($B$16,Tableau1[Equipe],0),10),F$13<=OFFSET($G$5,MATCH($B$16,Tableau1[Equipe],0),11)),"s",IF(AND(F$13>OFFSET($G$5,MATCH($B$16,Tableau1[Equipe],0),11),F$13<=OFFSET($G$5,MATCH($B$16,Tableau1[Equipe],0),12)),"d",IF(F$13>OFFSET($G$5,MATCH($B$16,Tableau1[Equipe],0),12),"")))))} | G16: {=IF(G$13<OFFSET($G$5,MATCH($B$16,Tableau1[Equipe],0),9),"",IF(AND(G$13>=OFFSET($G$5,MATCH($B$16,Tableau1[Equipe],0),9),G$13<=OFFSET($G$5,MATCH($B$16,Tableau1[Equipe],0),10)),"mo",IF(AND(G$13>OFFSET($G$5,MATCH($B$16,Tableau1[Equipe],0),10),G$13<=OFFSET($G$5,MATCH($B$16,Tableau1[Equipe],0),11)),"s",IF(AND(G$13>OFFSET($G$5,MATCH($B$16,Tableau1[Equipe],0),11),G$13<=OFFSET($G$5,MATCH($B$16,Tableau1[Equipe],0),12)),"d",IF(G$13>OFFSET($G$5,MATCH($B$16,Tableau1[Equipe],0),12),"")))))} | H16: {=IF(H$13<OFFSET($G$5,MATCH($B$16,Tableau1[Equipe],0),9),"",IF(AND(H$13>=OFFSET($G$5,MATCH($B$16,Tableau1[Equipe],0),9),H$13<=OFFSET($G$5,MATCH($B$16,Tableau1[Equipe],0),10)),"mo",IF(AND(H$13>OFFSET($G$5,MATCH($B$16,Tableau1[Equipe],0),10),H$13<=OFFSET($G$5,MATCH($B$16,Tableau1[Equipe],0),11)),"s",IF(AND(H$13>OFFSET($G$5,MATCH($B$16,Tableau1[Equipe],0),11),H$13<=OFFSET($G$5,MATCH($B$16,Tableau1[Equipe],0),12)),"d",IF(H$13>OFFSET($G$5,MATCH($B$16,Tableau1[Equipe],0),12),"")))))} -> mo | I16: {=IF(I$13<OFFSET($G$5,MATCH($B$16,Tableau1[Equipe],0),9),"",IF(AND(I$13>=OFFSET($G$5,MATCH($B$16,Tableau1[Equipe],0),9),I$13<=OFFSET($G$5,MATCH($B$16,Tableau1[Equipe],0),10)),"mo",IF(AND(I$13>OFFSET($G$5,MATCH($B$16,Tableau1[Equipe],0),10),I$13<=OFFSET($G$5,MATCH($B$16,Tableau1[Equipe],0),11)),"s",IF(AND(I$13>OFFSET($G$5,MATCH($B$16,Tableau1[Equipe],0),11),I$13<=OFFSET($G$5,MATCH($B$16,Tableau1[Equipe],0),12)),"d",IF(I$13>OFFSET($G$5,MATCH($B$16,Tableau1[Equipe],0),12),"")))))} -> mo | J16: {=IF(J$13<OFFSET($G$5,MATCH($B$16,Tableau1[Equipe],0),9),"",IF(AND(J$13>=OFFSET($G$5,MATCH($B$16,Tableau1[Equipe],0),9),J$13<=OFFSET($G$5,MATCH($B$16,Tableau1[Equipe],0),10)),"mo",IF(AND(J$13>OFFSET($G$5,MATCH($B$16,Tableau1[Equipe],0),10),J$13<=OFFSET($G$5,MATCH($B$16,Tableau1[Equipe],0),11)),"s",IF(AND(J$13>OFFSET($G$5,MATCH($B$16,Tableau1[Equipe],0),11),J$13<=OFFSET($G$5,MATCH($B$16,Tableau1[Equipe],0),12)),"d",IF(J$13>OFFSET($G$5,MATCH($B$16,Tableau1[Equipe],0),12),"")))))} -> mo | K16: {=IF(K$13<OFFSET($G$5,MATCH($B$16,Tableau1[Equipe],0),9),"",IF(AND(K$13>=OFFSET($G$5,MATCH($B$16,Tableau1[Equipe],0),9),K$13<=OFFSET($G$5,MATCH($B$16,Tableau1[Equipe],0),10)),"mo",IF(AND(K$13>OFFSET($G$5,MATCH($B$16,Tableau1[Equipe],0),10),K$13<=OFFSET($G$5,MATCH($B$16,Tableau1[Equipe],0),11)),"s",IF(AND(K$13>OFFSET($G$5,MATCH($B$16,Tableau1[Equipe],0),11),K$13<=OFFSET($G$5,MATCH($B$16,Tableau1[Equipe],0),12)),"d",IF(K$13>OFFSET($G$5,MATCH($B$16,Tableau1[Equipe],0),12),"")))))} -> mo | ... AH16: {=IF(AH$13<OFFSET($G$5,MATCH($B$16,Tableau1[Equipe],0),9),"",IF(AND(AH$13>=OFFSET($G$5,MATCH($B$16,Tableau1[Equipe],0),9),AH$13<=OFFSET($G$5,MATCH($B$16,Tableau1[Equipe],0),10)),"mo",IF(AND(AH$13>OFFSET($G$5,MATCH($B$16,Tableau1[Equipe],0),10),AH$13<=OFFSET($G$5,MATCH($B$16,Tableau1[Equipe],0),11)),"s",IF(AND(AH$13>OFFSET($G$5,MATCH($B$16,Tableau1[Equipe],0),11),AH$13<=OFFSET($G$5,MATCH($B$16,Tableau1[Equipe],0),12)),"d",IF(AH$13>OFFSET($G$5,MATCH($B$16,Tableau1[Equipe],0),12),"")))))}
A17: Jec | B17: Toto | C17: 4; | D17: {=IF(D$13<OFFSET($H$5,MATCH($B$17,Tableau1[Equipe],0),8),"",IF(AND(D$13>=OFFSET($H$5,MATCH($B$17,Tableau1[Equipe],0),8),D$13<=OFFSET($H$5,MATCH($B$17,Tableau1[Equipe],0),9)),"mo",IF(AND(D$13>OFFSET($H$5,MATCH($B$17,Tableau1[Equipe],0),9),D$13<=OFFSET($H$5,MATCH($B$17,Tableau1[Equipe],0),10)),"s",IF(AND(D$13>OFFSET($H$5,MATCH($B$17,Tableau1[Equipe],0),10),D$13<=OFFSET($H$5,MATCH($B$17,Tableau1[Equipe],0),11)),"d",IF(D$13>OFFSET($H$5,MATCH($B$17,Tableau1[Equipe],0),11),"")))))} | E17: {=IF(E$13<OFFSET($H$5,MATCH($B$17,Tableau1[Equipe],0),8),"",IF(AND(E$13>=OFFSET($H$5,MATCH($B$17,Tableau1[Equipe],0),8),E$13<=OFFSET($H$5,MATCH($B$17,Tableau1[Equipe],0),9)),"mo",IF(AND(E$13>OFFSET($H$5,MATCH($B$17,Tableau1[Equipe],0),9),E$13<=OFFSET($H$5,MATCH($B$17,Tableau1[Equipe],0),10)),"s",IF(AND(E$13>OFFSET($H$5,MATCH($B$17,Tableau1[Equipe],0),10),E$13<=OFFSET($H$5,MATCH($B$17,Tableau1[Equipe],0),11)),"d",IF(E$13>OFFSET($H$5,MATCH($B$17,Tableau1[Equipe],0),11),"")))))} | F17: {=IF(F$13<OFFSET($H$5,MATCH($B$17,Tableau1[Equipe],0),8),"",IF(AND(F$13>=OFFSET($H$5,MATCH($B$17,Tableau1[Equipe],0),8),F$13<=OFFSET($H$5,MATCH($B$17,Tableau1[Equipe],0),9)),"mo",IF(AND(F$13>OFFSET($H$5,MATCH($B$17,Tableau1[Equipe],0),9),F$13<=OFFSET($H$5,MATCH($B$17,Tableau1[Equipe],0),10)),"s",IF(AND(F$13>OFFSET($H$5,MATCH($B$17,Tableau1[Equipe],0),10),F$13<=OFFSET($H$5,MATCH($B$17,Tableau1[Equipe],0),11)),"d",IF(F$13>OFFSET($H$5,MATCH($B$17,Tableau1[Equipe],0),11),"")))))} -> mo | G17: {=IF(G$13<OFFSET($H$5,MATCH($B$17,Tableau1[Equipe],0),8),"",IF(AND(G$13>=OFFSET($H$5,MATCH($B$17,Tableau1[Equipe],0),8),G$13<=OFFSET($H$5,MATCH($B$17,Tableau1[Equipe],0),9)),"mo",IF(AND(G$13>OFFSET($H$5,MATCH($B$17,Tableau1[Equipe],0),9),G$13<=OFFSET($H$5,MATCH($B$17,Tableau1[Equipe],0),10)),"s",IF(AND(G$13>OFFSET($H$5,MATCH($B$17,Tableau1[Equipe],0),10),G$13<=OFFSET($H$5,MATCH($B$17,Tableau1[Equipe],0),11)),"d",IF(G$13>OFFSET($H$5,MATCH($B$17,Tableau1[Equipe],0),11),"")))))} -> mo | H17: {=IF(H$13<OFFSET($H$5,MATCH($B$17,Tableau1[Equipe],0),8),"",IF(AND(H$13>=OFFSET($H$5,MATCH($B$17,Tableau1[Equipe],0),8),H$13<=OFFSET($H$5,MATCH($B$17,Tableau1[Equipe],0),9)),"mo",IF(AND(H$13>OFFSET($H$5,MATCH($B$17,Tableau1[Equipe],0),9),H$13<=OFFSET($H$5,MATCH($B$17,Tableau1[Equipe],0),10)),"s",IF(AND(H$13>OFFSET($H$5,MATCH($B$17,Tableau1[Equipe],0),10),H$13<=OFFSET($H$5,MATCH($B$17,Tableau1[Equipe],0),11)),"d",IF(H$13>OFFSET($H$5,MATCH($B$17,Tableau1[Equipe],0),11),"")))))} -> mo | I17: {=IF(I$13<OFFSET($H$5,MATCH($B$17,Tableau1[Equipe],0),8),"",IF(AND(I$13>=OFFSET($H$5,MATCH($B$17,Tableau1[Equipe],0),8),I$13<=OFFSET($H$5,MATCH($B$17,Tableau1[Equipe],0),9)),"mo",IF(AND(I$13>OFFSET($H$5,MATCH($B$17,Tableau1[Equipe],0),9),I$13<=OFFSET($H$5,MATCH($B$17,Tableau1[Equipe],0),10)),"s",IF(AND(I$13>OFFSET($H$5,MATCH($B$17,Tableau1[Equipe],0),10),I$13<=OFFSET($H$5,MATCH($B$17,Tableau1[Equipe],0),11)),"d",IF(I$13>OFFSET($H$5,MATCH($B$17,Tableau1[Equipe],0),11),"")))))} -> mo | J17: {=IF(J$13<OFFSET($H$5,MATCH($B$17,Tableau1[Equipe],0),8),"",IF(AND(J$13>=OFFSET($H$5,MATCH($B$17,Tableau1[Equipe],0),8),J$13<=OFFSET($H$5,MATCH($B$17,Tableau1[Equipe],0),9)),"mo",IF(AND(J$13>OFFSET($H$5,MATCH($B$17,Tableau1[Equipe],0),9),J$13<=OFFSET($H$5,MATCH($B$17,Tableau1[Equipe],0),10)),"s",IF(AND(J$13>OFFSET($H$5,MATCH($B$17,Tableau1[Equipe],0),10),J$13<=OFFSET($H$5,MATCH($B$17,Tableau1[Equipe],0),11)),"d",IF(J$13>OFFSET($H$5,MATCH($B$17,Tableau1[Equipe],0),11),"")))))} -> mo | K17: {=IF(K$13<OFFSET($H$5,MATCH($B$17,Tableau1[Equipe],0),8),"",IF(AND(K$13>=OFFSET($H$5,MATCH($B$17,Tableau1[Equipe],0),8),K$13<=OFFSET($H$5,MATCH($B$17,Tableau1[Equipe],0),9)),"mo",IF(AND(K$13>OFFSET($H$5,MATCH($B$17,Tableau1[Equipe],0),9),K$13<=OFFSET($H$5,MATCH($B$17,Tableau1[Equipe],0),10)),"s",IF(AND(K$13>OFFSET($H$5,MATCH($B$17,Tableau1[Equipe],0),10),K$13<=OFFSET($H$5,MATCH($B$17,Tableau1[Equipe],0),11)),"d",IF(K$13>OFFSET($H$5,MATCH($B$17,Tableau1[Equipe],0),11),"")))))} -> mo | ... AH17: {=IF(AH$13<OFFSET($H$5,MATCH($B$17,Tableau1[Equipe],0),8),"",IF(AND(AH$13>=OFFSET($H$5,MATCH($B$17,Tableau1[Equipe],0),8),AH$13<=OFFSET($H$5,MATCH($B$17,Tableau1[Equipe],0),9)),"mo",IF(AND(AH$13>OFFSET($H$5,MATCH($B$17,Tableau1[Equipe],0),9),AH$13<=OFFSET($H$5,MATCH($B$17,Tableau1[Equipe],0),10)),"s",IF(AND(AH$13>OFFSET($H$5,MATCH($B$17,Tableau1[Equipe],0),10),AH$13<=OFFSET($H$5,MATCH($B$17,Tableau1[Equipe],0),11)),"d",IF(AH$13>OFFSET($H$5,MATCH($B$17,Tableau1[Equipe],0),11),"")))))}
B18: Toto | C18: 5A; | D18: {=IF(D$13<OFFSET($I$5,MATCH($B$18,Tableau1[Equipe],0),7),"",IF(AND(D$13>=OFFSET($I$5,MATCH($B$18,Tableau1[Equipe],0),7),D$13<=OFFSET($I$5,MATCH($B$18,Tableau1[Equipe],0),8)),"mo",IF(AND(D$13>OFFSET($I$5,MATCH($B$18,Tableau1[Equipe],0),8),D$13<=OFFSET($I$5,MATCH($B$18,Tableau1[Equipe],0),9)),"s",IF(AND(D$13>OFFSET($I$5,MATCH($B$18,Tableau1[Equipe],0),9),D$13<=OFFSET($I$5,MATCH($B$18,Tableau1[Equipe],0),10)),"d",IF(D$13>OFFSET($I$5,MATCH($B$18,Tableau1[Equipe],0),10),"")))))} | E18: {=IF(E$13<OFFSET($I$5,MATCH($B$18,Tableau1[Equipe],0),7),"",IF(AND(E$13>=OFFSET($I$5,MATCH($B$18,Tableau1[Equipe],0),7),E$13<=OFFSET($I$5,MATCH($B$18,Tableau1[Equipe],0),8)),"mo",IF(AND(E$13>OFFSET($I$5,MATCH($B$18,Tableau1[Equipe],0),8),E$13<=OFFSET($I$5,MATCH($B$18,Tableau1[Equipe],0),9)),"s",IF(AND(E$13>OFFSET($I$5,MATCH($B$18,Tableau1[Equipe],0),9),E$13<=OFFSET($I$5,MATCH($B$18,Tableau1[Equipe],0),10)),"d",IF(E$13>OFFSET($I$5,MATCH($B$18,Tableau1[Equipe],0),10),"")))))} | F18: {=IF(F$13<OFFSET($I$5,MATCH($B$18,Tableau1[Equipe],0),7),"",IF(AND(F$13>=OFFSET($I$5,MATCH($B$18,Tableau1[Equipe],0),7),F$13<=OFFSET($I$5,MATCH($B$18,Tableau1[Equipe],0),8)),"mo",IF(AND(F$13>OFFSET($I$5,MATCH($B$18,Tableau1[Equipe],0),8),F$13<=OFFSET($I$5,MATCH($B$18,Tableau1[Equipe],0),9)),"s",IF(AND(F$13>OFFSET($I$5,MATCH($B$18,Tableau1[Equipe],0),9),F$13<=OFFSET($I$5,MATCH($B$18,Tableau1[Equipe],0),10)),"d",IF(F$13>OFFSET($I$5,MATCH($B$18,Tableau1[Equipe],0),10),"")))))} -> mo | G18: {=IF(G$13<OFFSET($I$5,MATCH($B$18,Tableau1[Equipe],0),7),"",IF(AND(G$13>=OFFSET($I$5,MATCH($B$18,Tableau1[Equipe],0),7),G$13<=OFFSET($I$5,MATCH($B$18,Tableau1[Equipe],0),8)),"mo",IF(AND(G$13>OFFSET($I$5,MATCH($B$18,Tableau1[Equipe],0),8),G$13<=OFFSET($I$5,MATCH($B$18,Tableau1[Equipe],0),9)),"s",IF(AND(G$13>OFFSET($I$5,MATCH($B$18,Tableau1[Equipe],0),9),G$13<=OFFSET($I$5,MATCH($B$18,Tableau1[Equipe],0),10)),"d",IF(G$13>OFFSET($I$5,MATCH($B$18,Tableau1[Equipe],0),10),"")))))} -> mo | H18: {=IF(H$13<OFFSET($I$5,MATCH($B$18,Tableau1[Equipe],0),7),"",IF(AND(H$13>=OFFSET($I$5,MATCH($B$18,Tableau1[Equipe],0),7),H$13<=OFFSET($I$5,MATCH($B$18,Tableau1[Equipe],0),8)),"mo",IF(AND(H$13>OFFSET($I$5,MATCH($B$18,Tableau1[Equipe],0),8),H$13<=OFFSET($I$5,MATCH($B$18,Tableau1[Equipe],0),9)),"s",IF(AND(H$13>OFFSET($I$5,MATCH($B$18,Tableau1[Equipe],0),9),H$13<=OFFSET($I$5,MATCH($B$18,Tableau1[Equipe],0),10)),"d",IF(H$13>OFFSET($I$5,MATCH($B$18,Tableau1[Equipe],0),10),"")))))} -> mo | I18: {=IF(I$13<OFFSET($I$5,MATCH($B$18,Tableau1[Equipe],0),7),"",IF(AND(I$13>=OFFSET($I$5,MATCH($B$18,Tableau1[Equipe],0),7),I$13<=OFFSET($I$5,MATCH($B$18,Tableau1[Equipe],0),8)),"mo",IF(AND(I$13>OFFSET($I$5,MATCH($B$18,Tableau1[Equipe],0),8),I$13<=OFFSET($I$5,MATCH($B$18,Tableau1[Equipe],0),9)),"s",IF(AND(I$13>OFFSET($I$5,MATCH($B$18,Tableau1[Equipe],0),9),I$13<=OFFSET($I$5,MATCH($B$18,Tableau1[Equipe],0),10)),"d",IF(I$13>OFFSET($I$5,MATCH($B$18,Tableau1[Equipe],0),10),"")))))} -> mo | J18: {=IF(J$13<OFFSET($I$5,MATCH($B$18,Tableau1[Equipe],0),7),"",IF(AND(J$13>=OFFSET($I$5,MATCH($B$18,Tableau1[Equipe],0),7),J$13<=OFFSET($I$5,MATCH($B$18,Tableau1[Equipe],0),8)),"mo",IF(AND(J$13>OFFSET($I$5,MATCH($B$18,Tableau1[Equipe],0),8),J$13<=OFFSET($I$5,MATCH($B$18,Tableau1[Equipe],0),9)),"s",IF(AND(J$13>OFFSET($I$5,MATCH($B$18,Tableau1[Equipe],0),9),J$13<=OFFSET($I$5,MATCH($B$18,Tableau1[Equipe],0),10)),"d",IF(J$13>OFFSET($I$5,MATCH($B$18,Tableau1[Equipe],0),10),"")))))} -> mo | K18: {=IF(K$13<OFFSET($I$5,MATCH($B$18,Tableau1[Equipe],0),7),"",IF(AND(K$13>=OFFSET($I$5,MATCH($B$18,Tableau1[Equipe],0),7),K$13<=OFFSET($I$5,MATCH($B$18,Tableau1[Equipe],0),8)),"mo",IF(AND(K$13>OFFSET($I$5,MATCH($B$18,Tableau1[Equipe],0),8),K$13<=OFFSET($I$5,MATCH($B$18,Tableau1[Equipe],0),9)),"s",IF(AND(K$13>OFFSET($I$5,MATCH($B$18,Tableau1[Equipe],0),9),K$13<=OFFSET($I$5,MATCH($B$18,Tableau1[Equipe],0),10)),"d",IF(K$13>OFFSET($I$5,MATCH($B$18,Tableau1[Equipe],0),10),"")))))} -> mo | ... AH18: {=IF(AH$13<OFFSET($I$5,MATCH($B$18,Tableau1[Equipe],0),7),"",IF(AND(AH$13>=OFFSET($I$5,MATCH($B$18,Tableau1[Equipe],0),7),AH$13<=OFFSET($I$5,MATCH($B$18,Tableau1[Equipe],0),8)),"mo",IF(AND(AH$13>OFFSET($I$5,MATCH($B$18,Tableau1[Equipe],0),8),AH$13<=OFFSET($I$5,MATCH($B$18,Tableau1[Equipe],0),9)),"s",IF(AND(AH$13>OFFSET($I$5,MATCH($B$18,Tableau1[Equipe],0),9),AH$13<=OFFSET($I$5,MATCH($B$18,Tableau1[Equipe],0),10)),"d",IF(AH$13>OFFSET($I$5,MATCH($B$18,Tableau1[Equipe],0),10),"")))))}
B19: Jojo | C19: 5B1; | D19: {=IF(D$13<OFFSET($J$5,MATCH($B$19,Tableau1[Equipe],0),6),"",IF(AND(D$13>=OFFSET($J$5,MATCH($B$19,Tableau1[Equipe],0),6),D$13<=OFFSET($J$5,MATCH($B$19,Tableau1[Equipe],0),7)),"mo",IF(AND(D$13>OFFSET($J$5,MATCH($B$19,Tableau1[Equipe],0),7),D$13<=OFFSET($J$5,MATCH($B$19,Tableau1[Equipe],0),8)),"s",IF(AND(D$13>OFFSET($J$5,MATCH($B$19,Tableau1[Equipe],0),8),D$13<=OFFSET($J$5,MATCH($B$19,Tableau1[Equipe],0),9)),"d",IF(D$13>OFFSET($J$5,MATCH($B$19,Tableau1[Equipe],0),9),"")))))} | E19: {=IF(E$13<OFFSET($J$5,MATCH($B$19,Tableau1[Equipe],0),6),"",IF(AND(E$13>=OFFSET($J$5,MATCH($B$19,Tableau1[Equipe],0),6),E$13<=OFFSET($J$5,MATCH($B$19,Tableau1[Equipe],0),7)),"mo",IF(AND(E$13>OFFSET($J$5,MATCH($B$19,Tableau1[Equipe],0),7),E$13<=OFFSET($J$5,MATCH($B$19,Tableau1[Equipe],0),8)),"s",IF(AND(E$13>OFFSET($J$5,MATCH($B$19,Tableau1[Equipe],0),8),E$13<=OFFSET($J$5,MATCH($B$19,Tableau1[Equipe],0),9)),"d",IF(E$13>OFFSET($J$5,MATCH($B$19,Tableau1[Equipe],0),9),"")))))} | F19: {=IF(F$13<OFFSET($J$5,MATCH($B$19,Tableau1[Equipe],0),6),"",IF(AND(F$13>=OFFSET($J$5,MATCH($B$19,Tableau1[Equipe],0),6),F$13<=OFFSET($J$5,MATCH($B$19,Tableau1[Equipe],0),7)),"mo",IF(AND(F$13>OFFSET($J$5,MATCH($B$19,Tableau1[Equipe],0),7),F$13<=OFFSET($J$5,MATCH($B$19,Tableau1[Equipe],0),8)),"s",IF(AND(F$13>OFFSET($J$5,MATCH($B$19,Tableau1[Equipe],0),8),F$13<=OFFSET($J$5,MATCH($B$19,Tableau1[Equipe],0),9)),"d",IF(F$13>OFFSET($J$5,MATCH($B$19,Tableau1[Equipe],0),9),"")))))} | G19: {=IF(G$13<OFFSET($J$5,MATCH($B$19,Tableau1[Equipe],0),6),"",IF(AND(G$13>=OFFSET($J$5,MATCH($B$19,Tableau1[Equipe],0),6),G$13<=OFFSET($J$5,MATCH($B$19,Tableau1[Equipe],0),7)),"mo",IF(AND(G$13>OFFSET($J$5,MATCH($B$19,Tableau1[Equipe],0),7),G$13<=OFFSET($J$5,MATCH($B$19,Tableau1[Equipe],0),8)),"s",IF(AND(G$13>OFFSET($J$5,MATCH($B$19,Tableau1[Equipe],0),8),G$13<=OFFSET($J$5,MATCH($B$19,Tableau1[Equipe],0),9)),"d",IF(G$13>OFFSET($J$5,MATCH($B$19,Tableau1[Equipe],0),9),"")))))} | H19: {=IF(H$13<OFFSET($J$5,MATCH($B$19,Tableau1[Equipe],0),6),"",IF(AND(H$13>=OFFSET($J$5,MATCH($B$19,Tableau1[Equipe],0),6),H$13<=OFFSET($J$5,MATCH($B$19,Tableau1[Equipe],0),7)),"mo",IF(AND(H$13>OFFSET($J$5,MATCH($B$19,Tableau1[Equipe],0),7),H$13<=OFFSET($J$5,MATCH($B$19,Tableau1[Equipe],0),8)),"s",IF(AND(H$13>OFFSET($J$5,MATCH($B$19,Tableau1[Equipe],0),8),H$13<=OFFSET($J$5,MATCH($B$19,Tableau1[Equipe],0),9)),"d",IF(H$13>OFFSET($J$5,MATCH($B$19,Tableau1[Equipe],0),9),"")))))} -> mo | I19: {=IF(I$13<OFFSET($J$5,MATCH($B$19,Tableau1[Equipe],0),6),"",IF(AND(I$13>=OFFSET($J$5,MATCH($B$19,Tableau1[Equipe],0),6),I$13<=OFFSET($J$5,MATCH($B$19,Tableau1[Equipe],0),7)),"mo",IF(AND(I$13>OFFSET($J$5,MATCH($B$19,Tableau1[Equipe],0),7),I$13<=OFFSET($J$5,MATCH($B$19,Tableau1[Equipe],0),8)),"s",IF(AND(I$13>OFFSET($J$5,MATCH($B$19,Tableau1[Equipe],0),8),I$13<=OFFSET($J$5,MATCH($B$19,Tableau1[Equipe],0),9)),"d",IF(I$13>OFFSET($J$5,MATCH($B$19,Tableau1[Equipe],0),9),"")))))} -> mo | J19: {=IF(J$13<OFFSET($J$5,MATCH($B$19,Tableau1[Equipe],0),6),"",IF(AND(J$13>=OFFSET($J$5,MATCH($B$19,Tableau1[Equipe],0),6),J$13<=OFFSET($J$5,MATCH($B$19,Tableau1[Equipe],0),7)),"mo",IF(AND(J$13>OFFSET($J$5,MATCH($B$19,Tableau1[Equipe],0),7),J$13<=OFFSET($J$5,MATCH($B$19,Tableau1[Equipe],0),8)),"s",IF(AND(J$13>OFFSET($J$5,MATCH($B$19,Tableau1[Equipe],0),8),J$13<=OFFSET($J$5,MATCH($B$19,Tableau1[Equipe],0),9)),"d",IF(J$13>OFFSET($J$5,MATCH($B$19,Tableau1[Equipe],0),9),"")))))} -> mo | K19: {=IF(K$13<OFFSET($J$5,MATCH($B$19,Tableau1[Equipe],0),6),"",IF(AND(K$13>=OFFSET($J$5,MATCH($B$19,Tableau1[Equipe],0),6),K$13<=OFFSET($J$5,MATCH($B$19,Tableau1[Equipe],0),7)),"mo",IF(AND(K$13>OFFSET($J$5,MATCH($B$19,Tableau1[Equipe],0),7),K$13<=OFFSET($J$5,MATCH($B$19,Tableau1[Equipe],0),8)),"s",IF(AND(K$13>OFFSET($J$5,MATCH($B$19,Tableau1[Equipe],0),8),K$13<=OFFSET($J$5,MATCH($B$19,Tableau1[Equipe],0),9)),"d",IF(K$13>OFFSET($J$5,MATCH($B$19,Tableau1[Equipe],0),9),"")))))} -> mo | ... AH19: {=IF(AH$13<OFFSET($J$5,MATCH($B$19,Tableau1[Equipe],0),6),"",IF(AND(AH$13>=OFFSET($J$5,MATCH($B$19,Tableau1[Equipe],0),6),AH$13<=OFFSET($J$5,MATCH($B$19,Tableau1[Equipe],0),7)),"mo",IF(AND(AH$13>OFFSET($J$5,MATCH($B$19,Tableau1[Equipe],0),7),AH$13<=OFFSET($J$5,MATCH($B$19,Tableau1[Equipe],0),8)),"s",IF(AND(AH$13>OFFSET($J$5,MATCH($B$19,Tableau1[Equipe],0),8),AH$13<=OFFSET($J$5,MATCH($B$19,Tableau1[Equipe],0),9)),"d",IF(AH$13>OFFSET($J$5,MATCH($B$19,Tableau1[Equipe],0),9),"")))))}
B20: Jec | C20: 5B2; | D20: {=IF(D$13<OFFSET($K$5,MATCH($B$20,Tableau1[Equipe],0),5),"",IF(AND(D$13>=OFFSET($K$5,MATCH($B$20,Tableau1[Equipe],0),5),D$13<=OFFSET($K$5,MATCH($B$20,Tableau1[Equipe],0),6)),"mo",IF(AND(D$13>OFFSET($K$5,MATCH($B$20,Tableau1[Equipe],0),6),D$13<=OFFSET($K$5,MATCH($B$20,Tableau1[Equipe],0),7)),"s",IF(AND(D$13>OFFSET($K$5,MATCH($B$20,Tableau1[Equipe],0),7),D$13<=OFFSET($K$5,MATCH($B$20,Tableau1[Equipe],0),8)),"d",IF(D$13>OFFSET($K$5,MATCH($B$20,Tableau1[Equipe],0),8),"")))))} | E20: {=IF(E$13<OFFSET($K$5,MATCH($B$20,Tableau1[Equipe],0),5),"",IF(AND(E$13>=OFFSET($K$5,MATCH($B$20,Tableau1[Equipe],0),5),E$13<=OFFSET($K$5,MATCH($B$20,Tableau1[Equipe],0),6)),"mo",IF(AND(E$13>OFFSET($K$5,MATCH($B$20,Tableau1[Equipe],0),6),E$13<=OFFSET($K$5,MATCH($B$20,Tableau1[Equipe],0),7)),"s",IF(AND(E$13>OFFSET($K$5,MATCH($B$20,Tableau1[Equipe],0),7),E$13<=OFFSET($K$5,MATCH($B$20,Tableau1[Equipe],0),8)),"d",IF(E$13>OFFSET($K$5,MATCH($B$20,Tableau1[Equipe],0),8),"")))))} | F20: {=IF(F$13<OFFSET($K$5,MATCH($B$20,Tableau1[Equipe],0),5),"",IF(AND(F$13>=OFFSET($K$5,MATCH($B$20,Tableau1[Equipe],0),5),F$13<=OFFSET($K$5,MATCH($B$20,Tableau1[Equipe],0),6)),"mo",IF(AND(F$13>OFFSET($K$5,MATCH($B$20,Tableau1[Equipe],0),6),F$13<=OFFSET($K$5,MATCH($B$20,Tableau1[Equipe],0),7)),"s",IF(AND(F$13>OFFSET($K$5,MATCH($B$20,Tableau1[Equipe],0),7),F$13<=OFFSET($K$5,MATCH($B$20,Tableau1[Equipe],0),8)),"d",IF(F$13>OFFSET($K$5,MATCH($B$20,Tableau1[Equipe],0),8),"")))))} | G20: {=IF(G$13<OFFSET($K$5,MATCH($B$20,Tableau1[Equipe],0),5),"",IF(AND(G$13>=OFFSET($K$5,MATCH($B$20,Tableau1[Equipe],0),5),G$13<=OFFSET($K$5,MATCH($B$20,Tableau1[Equipe],0),6)),"mo",IF(AND(G$13>OFFSET($K$5,MATCH($B$20,Tableau1[Equipe],0),6),G$13<=OFFSET($K$5,MATCH($B$20,Tableau1[Equipe],0),7)),"s",IF(AND(G$13>OFFSET($K$5,MATCH($B$20,Tableau1[Equipe],0),7),G$13<=OFFSET($K$5,MATCH($B$20,Tableau1[Equipe],0),8)),"d",IF(G$13>OFFSET($K$5,MATCH($B$20,Tableau1[Equipe],0),8),"")))))} | H20: {=IF(H$13<OFFSET($K$5,MATCH($B$20,Tableau1[Equipe],0),5),"",IF(AND(H$13>=OFFSET($K$5,MATCH($B$20,Tableau1[Equipe],0),5),H$13<=OFFSET($K$5,MATCH($B$20,Tableau1[Equipe],0),6)),"mo",IF(AND(H$13>OFFSET($K$5,MATCH($B$20,Tableau1[Equipe],0),6),H$13<=OFFSET($K$5,MATCH($B$20,Tableau1[Equipe],0),7)),"s",IF(AND(H$13>OFFSET($K$5,MATCH($B$20,Tableau1[Equipe],0),7),H$13<=OFFSET($K$5,MATCH($B$20,Tableau1[Equipe],0),8)),"d",IF(H$13>OFFSET($K$5,MATCH($B$20,Tableau1[Equipe],0),8),"")))))} | I20: {=IF(I$13<OFFSET($K$5,MATCH($B$20,Tableau1[Equipe],0),5),"",IF(AND(I$13>=OFFSET($K$5,MATCH($B$20,Tableau1[Equipe],0),5),I$13<=OFFSET($K$5,MATCH($B$20,Tableau1[Equipe],0),6)),"mo",IF(AND(I$13>OFFSET($K$5,MATCH($B$20,Tableau1[Equipe],0),6),I$13<=OFFSET($K$5,MATCH($B$20,Tableau1[Equipe],0),7)),"s",IF(AND(I$13>OFFSET($K$5,MATCH($B$20,Tableau1[Equipe],0),7),I$13<=OFFSET($K$5,MATCH($B$20,Tableau1[Equipe],0),8)),"d",IF(I$13>OFFSET($K$5,MATCH($B$20,Tableau1[Equipe],0),8),"")))))} | J20: {=IF(J$13<OFFSET($K$5,MATCH($B$20,Tableau1[Equipe],0),5),"",IF(AND(J$13>=OFFSET($K$5,MATCH($B$20,Tableau1[Equipe],0),5),J$13<=OFFSET($K$5,MATCH($B$20,Tableau1[Equipe],0),6)),"mo",IF(AND(J$13>OFFSET($K$5,MATCH($B$20,Tableau1[Equipe],0),6),J$13<=OFFSET($K$5,MATCH($B$20,Tableau1[Equipe],0),7)),"s",IF(AND(J$13>OFFSET($K$5,MATCH($B$20,Tableau1[Equipe],0),7),J$13<=OFFSET($K$5,MATCH($B$20,Tableau1[Equipe],0),8)),"d",IF(J$13>OFFSET($K$5,MATCH($B$20,Tableau1[Equipe],0),8),"")))))} | K20: {=IF(K$13<OFFSET($K$5,MATCH($B$20,Tableau1[Equipe],0),5),"",IF(AND(K$13>=OFFSET($K$5,MATCH($B$20,Tableau1[Equipe],0),5),K$13<=OFFSET($K$5,MATCH($B$20,Tableau1[Equipe],0),6)),"mo",IF(AND(K$13>OFFSET($K$5,MATCH($B$20,Tableau1[Equipe],0),6),K$13<=OFFSET($K$5,MATCH($B$20,Tableau1[Equipe],0),7)),"s",IF(AND(K$13>OFFSET($K$5,MATCH($B$20,Tableau1[Equipe],0),7),K$13<=OFFSET($K$5,MATCH($B$20,Tableau1[Equipe],0),8)),"d",IF(K$13>OFFSET($K$5,MATCH($B$20,Tableau1[Equipe],0),8),"")))))} | ... AH20: {=IF(AH$13<OFFSET($K$5,MATCH($B$20,Tableau1[Equipe],0),5),"",IF(AND(AH$13>=OFFSET($K$5,MATCH($B$20,Tableau1[Equipe],0),5),AH$13<=OFFSET($K$5,MATCH($B$20,Tableau1[Equipe],0),6)),"mo",IF(AND(AH$13>OFFSET($K$5,MATCH($B$20,Tableau1[Equipe],0),6),AH$13<=OFFSET($K$5,MATCH($B$20,Tableau1[Equipe],0),7)),"s",IF(AND(AH$13>OFFSET($K$5,MATCH($B$20,Tableau1[Equipe],0),7),AH$13<=OFFSET($K$5,MATCH($B$20,Tableau1[Equipe],0),8)),"d",IF(AH$13>OFFSET($K$5,MATCH($B$20,Tableau1[Equipe],0),8),"")))))}
B21: Papa | C21: 6; | D21: {=IF(D$13<OFFSET($L$5,MATCH($B$21,Tableau1[Equipe],0),4),"",IF(AND(D$13>=OFFSET($L$5,MATCH($B$21,Tableau1[Equipe],0),4),D$13<=OFFSET($L$5,MATCH($B$21,Tableau1[Equipe],0),5)),"mo",IF(AND(D$13>OFFSET($L$5,MATCH($B$21,Tableau1[Equipe],0),5),D$13<=OFFSET($L$5,MATCH($B$21,Tableau1[Equipe],0),6)),"s",IF(AND(D$13>OFFSET($L$5,MATCH($B$21,Tableau1[Equipe],0),6),D$13<=OFFSET($L$5,MATCH($B$21,Tableau1[Equipe],0),7)),"d",IF(D$13>OFFSET($L$5,MATCH($B$21,Tableau1[Equipe],0),7),"")))))} | E21: {=IF(E$13<OFFSET($L$5,MATCH($B$21,Tableau1[Equipe],0),4),"",IF(AND(E$13>=OFFSET($L$5,MATCH($B$21,Tableau1[Equipe],0),4),E$13<=OFFSET($L$5,MATCH($B$21,Tableau1[Equipe],0),5)),"mo",IF(AND(E$13>OFFSET($L$5,MATCH($B$21,Tableau1[Equipe],0),5),E$13<=OFFSET($L$5,MATCH($B$21,Tableau1[Equipe],0),6)),"s",IF(AND(E$13>OFFSET($L$5,MATCH($B$21,Tableau1[Equipe],0),6),E$13<=OFFSET($L$5,MATCH($B$21,Tableau1[Equipe],0),7)),"d",IF(E$13>OFFSET($L$5,MATCH($B$21,Tableau1[Equipe],0),7),"")))))} | F21: {=IF(F$13<OFFSET($L$5,MATCH($B$21,Tableau1[Equipe],0),4),"",IF(AND(F$13>=OFFSET($L$5,MATCH($B$21,Tableau1[Equipe],0),4),F$13<=OFFSET($L$5,MATCH($B$21,Tableau1[Equipe],0),5)),"mo",IF(AND(F$13>OFFSET($L$5,MATCH($B$21,Tableau1[Equipe],0),5),F$13<=OFFSET($L$5,MATCH($B$21,Tableau1[Equipe],0),6)),"s",IF(AND(F$13>OFFSET($L$5,MATCH($B$21,Tableau1[Equipe],0),6),F$13<=OFFSET($L$5,MATCH($B$21,Tableau1[Equipe],0),7)),"d",IF(F$13>OFFSET($L$5,MATCH($B$21,Tableau1[Equipe],0),7),"")))))} | G21: {=IF(G$13<OFFSET($L$5,MATCH($B$21,Tableau1[Equipe],0),4),"",IF(AND(G$13>=OFFSET($L$5,MATCH($B$21,Tableau1[Equipe],0),4),G$13<=OFFSET($L$5,MATCH($B$21,Tableau1[Equipe],0),5)),"mo",IF(AND(G$13>OFFSET($L$5,MATCH($B$21,Tableau1[Equipe],0),5),G$13<=OFFSET($L$5,MATCH($B$21,Tableau1[Equipe],0),6)),"s",IF(AND(G$13>OFFSET($L$5,MATCH($B$21,Tableau1[Equipe],0),6),G$13<=OFFSET($L$5,MATCH($B$21,Tableau1[Equipe],0),7)),"d",IF(G$13>OFFSET($L$5,MATCH($B$21,Tableau1[Equipe],0),7),"")))))} | H21: {=IF(H$13<OFFSET($L$5,MATCH($B$21,Tableau1[Equipe],0),4),"",IF(AND(H$13>=OFFSET($L$5,MATCH($B$21,Tableau1[Equipe],0),4),H$13<=OFFSET($L$5,MATCH($B$21,Tableau1[Equipe],0),5)),"mo",IF(AND(H$13>OFFSET($L$5,MATCH($B$21,Tableau1[Equipe],0),5),H$13<=OFFSET($L$5,MATCH($B$21,Tableau1[Equipe],0),6)),"s",IF(AND(H$13>OFFSET($L$5,MATCH($B$21,Tableau1[Equipe],0),6),H$13<=OFFSET($L$5,MATCH($B$21,Tableau1[Equipe],0),7)),"d",IF(H$13>OFFSET($L$5,MATCH($B$21,Tableau1[Equipe],0),7),"")))))} | I21: {=IF(I$13<OFFSET($L$5,MATCH($B$21,Tableau1[Equipe],0),4),"",IF(AND(I$13>=OFFSET($L$5,MATCH($B$21,Tableau1[Equipe],0),4),I$13<=OFFSET($L$5,MATCH($B$21,Tableau1[Equipe],0),5)),"mo",IF(AND(I$13>OFFSET($L$5,MATCH($B$21,Tableau1[Equipe],0),5),I$13<=OFFSET($L$5,MATCH($B$21,Tableau1[Equipe],0),6)),"s",IF(AND(I$13>OFFSET($L$5,MATCH($B$21,Tableau1[Equipe],0),6),I$13<=OFFSET($L$5,MATCH($B$21,Tableau1[Equipe],0),7)),"d",IF(I$13>OFFSET($L$5,MATCH($B$21,Tableau1[Equipe],0),7),"")))))} | J21: {=IF(J$13<OFFSET($L$5,MATCH($B$21,Tableau1[Equipe],0),4),"",IF(AND(J$13>=OFFSET($L$5,MATCH($B$21,Tableau1[Equipe],0),4),J$13<=OFFSET($L$5,MATCH($B$21,Tableau1[Equipe],0),5)),"mo",IF(AND(J$13>OFFSET($L$5,MATCH($B$21,Tableau1[Equipe],0),5),J$13<=OFFSET($L$5,MATCH($B$21,Tableau1[Equipe],0),6)),"s",IF(AND(J$13>OFFSET($L$5,MATCH($B$21,Tableau1[Equipe],0),6),J$13<=OFFSET($L$5,MATCH($B$21,Tableau1[Equipe],0),7)),"d",IF(J$13>OFFSET($L$5,MATCH($B$21,Tableau1[Equipe],0),7),"")))))} | K21: {=IF(K$13<OFFSET($L$5,MATCH($B$21,Tableau1[Equipe],0),4),"",IF(AND(K$13>=OFFSET($L$5,MATCH($B$21,Tableau1[Equipe],0),4),K$13<=OFFSET($L$5,MATCH($B$21,Tableau1[Equipe],0),5)),"mo",IF(AND(K$13>OFFSET($L$5,MATCH($B$21,Tableau1[Equipe],0),5),K$13<=OFFSET($L$5,MATCH($B$21,Tableau1[Equipe],0),6)),"s",IF(AND(K$13>OFFSET($L$5,MATCH($B$21,Tableau1[Equipe],0),6),K$13<=OFFSET($L$5,MATCH($B$21,Tableau1[Equipe],0),7)),"d",IF(K$13>OFFSET($L$5,MATCH($B$21,Tableau1[Equipe],0),7),"")))))} | ... AH21: {=IF(AH$13<OFFSET($L$5,MATCH($B$21,Tableau1[Equipe],0),4),"",IF(AND(AH$13>=OFFSET($L$5,MATCH($B$21,Tableau1[Equipe],0),4),AH$13<=OFFSET($L$5,MATCH($B$21,Tableau1[Equipe],0),5)),"mo",IF(AND(AH$13>OFFSET($L$5,MATCH($B$21,Tableau1[Equipe],0),5),AH$13<=OFFSET($L$5,MATCH($B$21,Tableau1[Equipe],0),6)),"s",IF(AND(AH$13>OFFSET($L$5,MATCH($B$21,Tableau1[Equipe],0),6),AH$13<=OFFSET($L$5,MATCH($B$21,Tableau1[Equipe],0),7)),"d",IF(AH$13>OFFSET($L$5,MATCH($B$21,Tableau1[Equipe],0),7),"")))))} -> s
B22: mama | C22: 7; | D22: {=IF(D$13<OFFSET($M$5,MATCH($B$22,Tableau1[Equipe],0),3),"",IF(AND(D$13>=OFFSET($M$5,MATCH($B$22,Tableau1[Equipe],0),3),D$13<=OFFSET($M$5,MATCH($B$22,Tableau1[Equipe],0),4)),"mo",IF(AND(D$13>OFFSET($M$5,MATCH($B$22,Tableau1[Equipe],0),4),D$13<=OFFSET($M$5,MATCH($B$22,Tableau1[Equipe],0),5)),"s",IF(AND(D$13>OFFSET($M$5,MATCH($B$22,Tableau1[Equipe],0),5),D$13<=OFFSET($M$5,MATCH($B$22,Tableau1[Equipe],0),6)),"d",IF(D$13>OFFSET($M$5,MATCH($B$22,Tableau1[Equipe],0),6),"")))))} | E22: {=IF(E$13<OFFSET($M$5,MATCH($B$22,Tableau1[Equipe],0),3),"",IF(AND(E$13>=OFFSET($M$5,MATCH($B$22,Tableau1[Equipe],0),3),E$13<=OFFSET($M$5,MATCH($B$22,Tableau1[Equipe],0),4)),"mo",IF(AND(E$13>OFFSET($M$5,MATCH($B$22,Tableau1[Equipe],0),4),E$13<=OFFSET($M$5,MATCH($B$22,Tableau1[Equipe],0),5)),"s",IF(AND(E$13>OFFSET($M$5,MATCH($B$22,Tableau1[Equipe],0),5),E$13<=OFFSET($M$5,MATCH($B$22,Tableau1[Equipe],0),6)),"d",IF(E$13>OFFSET($M$5,MATCH($B$22,Tableau1[Equipe],0),6),"")))))} | F22: {=IF(F$13<OFFSET($M$5,MATCH($B$22,Tableau1[Equipe],0),3),"",IF(AND(F$13>=OFFSET($M$5,MATCH($B$22,Tableau1[Equipe],0),3),F$13<=OFFSET($M$5,MATCH($B$22,Tableau1[Equipe],0),4)),"mo",IF(AND(F$13>OFFSET($M$5,MATCH($B$22,Tableau1[Equipe],0),4),F$13<=OFFSET($M$5,MATCH($B$22,Tableau1[Equipe],0),5)),"s",IF(AND(F$13>OFFSET($M$5,MATCH($B$22,Tableau1[Equipe],0),5),F$13<=OFFSET($M$5,MATCH($B$22,Tableau1[Equipe],0),6)),"d",IF(F$13>OFFSET($M$5,MATCH($B$22,Tableau1[Equipe],0),6),"")))))} | G22: {=IF(G$13<OFFSET($M$5,MATCH($B$22,Tableau1[Equipe],0),3),"",IF(AND(G$13>=OFFSET($M$5,MATCH($B$22,Tableau1[Equipe],0),3),G$13<=OFFSET($M$5,MATCH($B$22,Tableau1[Equipe],0),4)),"mo",IF(AND(G$13>OFFSET($M$5,MATCH($B$22,Tableau1[Equipe],0),4),G$13<=OFFSET($M$5,MATCH($B$22,Tableau1[Equipe],0),5)),"s",IF(AND(G$13>OFFSET($M$5,MATCH($B$22,Tableau1[Equipe],0),5),G$13<=OFFSET($M$5,MATCH($B$22,Tableau1[Equipe],0),6)),"d",IF(G$13>OFFSET($M$5,MATCH($B$22,Tableau1[Equipe],0),6),"")))))} | H22: {=IF(H$13<OFFSET($M$5,MATCH($B$22,Tableau1[Equipe],0),3),"",IF(AND(H$13>=OFFSET($M$5,MATCH($B$22,Tableau1[Equipe],0),3),H$13<=OFFSET($M$5,MATCH($B$22,Tableau1[Equipe],0),4)),"mo",IF(AND(H$13>OFFSET($M$5,MATCH($B$22,Tableau1[Equipe],0),4),H$13<=OFFSET($M$5,MATCH($B$22,Tableau1[Equipe],0),5)),"s",IF(AND(H$13>OFFSET($M$5,MATCH($B$22,Tableau1[Equipe],0),5),H$13<=OFFSET($M$5,MATCH($B$22,Tableau1[Equipe],0),6)),"d",IF(H$13>OFFSET($M$5,MATCH($B$22,Tableau1[Equipe],0),6),"")))))} | I22: {=IF(I$13<OFFSET($M$5,MATCH($B$22,Tableau1[Equipe],0),3),"",IF(AND(I$13>=OFFSET($M$5,MATCH($B$22,Tableau1[Equipe],0),3),I$13<=OFFSET($M$5,MATCH($B$22,Tableau1[Equipe],0),4)),"mo",IF(AND(I$13>OFFSET($M$5,MATCH($B$22,Tableau1[Equipe],0),4),I$13<=OFFSET($M$5,MATCH($B$22,Tableau1[Equipe],0),5)),"s",IF(AND(I$13>OFFSET($M$5,MATCH($B$22,Tableau1[Equipe],0),5),I$13<=OFFSET($M$5,MATCH($B$22,Tableau1[Equipe],0),6)),"d",IF(I$13>OFFSET($M$5,MATCH($B$22,Tableau1[Equipe],0),6),"")))))} | J22: {=IF(J$13<OFFSET($M$5,MATCH($B$22,Tableau1[Equipe],0),3),"",IF(AND(J$13>=OFFSET($M$5,MATCH($B$22,Tableau1[Equipe],0),3),J$13<=OFFSET($M$5,MATCH($B$22,Tableau1[Equipe],0),4)),"mo",IF(AND(J$13>OFFSET($M$5,MATCH($B$22,Tableau1[Equipe],0),4),J$13<=OFFSET($M$5,MATCH($B$22,Tableau1[Equipe],0),5)),"s",IF(AND(J$13>OFFSET($M$5,MATCH($B$22,Tableau1[Equipe],0),5),J$13<=OFFSET($M$5,MATCH($B$22,Tableau1[Equipe],0),6)),"d",IF(J$13>OFFSET($M$5,MATCH($B$22,Tableau1[Equipe],0),6),"")))))} | K22: {=IF(K$13<OFFSET($M$5,MATCH($B$22,Tableau1[Equipe],0),3),"",IF(AND(K$13>=OFFSET($M$5,MATCH($B$22,Tableau1[Equipe],0),3),K$13<=OFFSET($M$5,MATCH($B$22,Tableau1[Equipe],0),4)),"mo",IF(AND(K$13>OFFSET($M$5,MATCH($B$22,Tableau1[Equipe],0),4),K$13<=OFFSET($M$5,MATCH($B$22,Tableau1[Equipe],0),5)),"s",IF(AND(K$13>OFFSET($M$5,MATCH($B$22,Tableau1[Equipe],0),5),K$13<=OFFSET($M$5,MATCH($B$22,Tableau1[Equipe],0),6)),"d",IF(K$13>OFFSET($M$5,MATCH($B$22,Tableau1[Equipe],0),6),"")))))} | ... AH22: {=IF(AH$13<OFFSET($M$5,MATCH($B$22,Tableau1[Equipe],0),3),"",IF(AND(AH$13>=OFFSET($M$5,MATCH($B$22,Tableau1[Equipe],0),3),AH$13<=OFFSET($M$5,MATCH($B$22,Tableau1[Equipe],0),4)),"mo",IF(AND(AH$13>OFFSET($M$5,MATCH($B$22,Tableau1[Equipe],0),4),AH$13<=OFFSET($M$5,MATCH($B$22,Tableau1[Equipe],0),5)),"s",IF(AND(AH$13>OFFSET($M$5,MATCH($B$22,Tableau1[Equipe],0),5),AH$13<=OFFSET($M$5,MATCH($B$22,Tableau1[Equipe],0),6)),"d",IF(AH$13>OFFSET($M$5,MATCH($B$22,Tableau1[Equipe],0),6),"")))))}
B23: Jojo | C23: 8A; | D23: {=IF(D$13<OFFSET($N$5,MATCH($B$23,Tableau1[Equipe],0),2),"",IF(AND(D$13>=OFFSET($N$5,MATCH($B$23,Tableau1[Equipe],0),2),D$13<=OFFSET($N$5,MATCH($B$23,Tableau1[Equipe],0),3)),"mo",IF(AND(D$13>OFFSET($N$5,MATCH($B$23,Tableau1[Equipe],0),3),D$13<=OFFSET($N$5,MATCH($B$23,Tableau1[Equipe],0),4)),"s",IF(AND(D$13>OFFSET($N$5,MATCH($B$23,Tableau1[Equipe],0),4),D$13<=OFFSET($N$5,MATCH($B$23,Tableau1[Equipe],0),5)),"d",IF(D$13>OFFSET($N$5,MATCH($B$23,Tableau1[Equipe],0),5),"")))))} | E23: {=IF(E$13<OFFSET($N$5,MATCH($B$23,Tableau1[Equipe],0),2),"",IF(AND(E$13>=OFFSET($N$5,MATCH($B$23,Tableau1[Equipe],0),2),E$13<=OFFSET($N$5,MATCH($B$23,Tableau1[Equipe],0),3)),"mo",IF(AND(E$13>OFFSET($N$5,MATCH($B$23,Tableau1[Equipe],0),3),E$13<=OFFSET($N$5,MATCH($B$23,Tableau1[Equipe],0),4)),"s",IF(AND(E$13>OFFSET($N$5,MATCH($B$23,Tableau1[Equipe],0),4),E$13<=OFFSET($N$5,MATCH($B$23,Tableau1[Equipe],0),5)),"d",IF(E$13>OFFSET($N$5,MATCH($B$23,Tableau1[Equipe],0),5),"")))))} | F23: {=IF(F$13<OFFSET($N$5,MATCH($B$23,Tableau1[Equipe],0),2),"",IF(AND(F$13>=OFFSET($N$5,MATCH($B$23,Tableau1[Equipe],0),2),F$13<=OFFSET($N$5,MATCH($B$23,Tableau1[Equipe],0),3)),"mo",IF(AND(F$13>OFFSET($N$5,MATCH($B$23,Tableau1[Equipe],0),3),F$13<=OFFSET($N$5,MATCH($B$23,Tableau1[Equipe],0),4)),"s",IF(AND(F$13>OFFSET($N$5,MATCH($B$23,Tableau1[Equipe],0),4),F$13<=OFFSET($N$5,MATCH($B$23,Tableau1[Equipe],0),5)),"d",IF(F$13>OFFSET($N$5,MATCH($B$23,Tableau1[Equipe],0),5),"")))))} | G23: {=IF(G$13<OFFSET($N$5,MATCH($B$23,Tableau1[Equipe],0),2),"",IF(AND(G$13>=OFFSET($N$5,MATCH($B$23,Tableau1[Equipe],0),2),G$13<=OFFSET($N$5,MATCH($B$23,Tableau1[Equipe],0),3)),"mo",IF(AND(G$13>OFFSET($N$5,MATCH($B$23,Tableau1[Equipe],0),3),G$13<=OFFSET($N$5,MATCH($B$23,Tableau1[Equipe],0),4)),"s",IF(AND(G$13>OFFSET($N$5,MATCH($B$23,Tableau1[Equipe],0),4),G$13<=OFFSET($N$5,MATCH($B$23,Tableau1[Equipe],0),5)),"d",IF(G$13>OFFSET($N$5,MATCH($B$23,Tableau1[Equipe],0),5),"")))))} | H23: {=IF(H$13<OFFSET($N$5,MATCH($B$23,Tableau1[Equipe],0),2),"",IF(AND(H$13>=OFFSET($N$5,MATCH($B$23,Tableau1[Equipe],0),2),H$13<=OFFSET($N$5,MATCH($B$23,Tableau1[Equipe],0),3)),"mo",IF(AND(H$13>OFFSET($N$5,MATCH($B$23,Tableau1[Equipe],0),3),H$13<=OFFSET($N$5,MATCH($B$23,Tableau1[Equipe],0),4)),"s",IF(AND(H$13>OFFSET($N$5,MATCH($B$23,Tableau1[Equipe],0),4),H$13<=OFFSET($N$5,MATCH($B$23,Tableau1[Equipe],0),5)),"d",IF(H$13>OFFSET($N$5,MATCH($B$23,Tableau1[Equipe],0),5),"")))))} -> mo | I23: {=IF(I$13<OFFSET($N$5,MATCH($B$23,Tableau1[Equipe],0),2),"",IF(AND(I$13>=OFFSET($N$5,MATCH($B$23,Tableau1[Equipe],0),2),I$13<=OFFSET($N$5,MATCH($B$23,Tableau1[Equipe],0),3)),"mo",IF(AND(I$13>OFFSET($N$5,MATCH($B$23,Tableau1[Equipe],0),3),I$13<=OFFSET($N$5,MATCH($B$23,Tableau1[Equipe],0),4)),"s",IF(AND(I$13>OFFSET($N$5,MATCH($B$23,Tableau1[Equipe],0),4),I$13<=OFFSET($N$5,MATCH($B$23,Tableau1[Equipe],0),5)),"d",IF(I$13>OFFSET($N$5,MATCH($B$23,Tableau1[Equipe],0),5),"")))))} -> mo | J23: {=IF(J$13<OFFSET($N$5,MATCH($B$23,Tableau1[Equipe],0),2),"",IF(AND(J$13>=OFFSET($N$5,MATCH($B$23,Tableau1[Equipe],0),2),J$13<=OFFSET($N$5,MATCH($B$23,Tableau1[Equipe],0),3)),"mo",IF(AND(J$13>OFFSET($N$5,MATCH($B$23,Tableau1[Equipe],0),3),J$13<=OFFSET($N$5,MATCH($B$23,Tableau1[Equipe],0),4)),"s",IF(AND(J$13>OFFSET($N$5,MATCH($B$23,Tableau1[Equipe],0),4),J$13<=OFFSET($N$5,MATCH($B$23,Tableau1[Equipe],0),5)),"d",IF(J$13>OFFSET($N$5,MATCH($B$23,Tableau1[Equipe],0),5),"")))))} -> mo | K23: {=IF(K$13<OFFSET($N$5,MATCH($B$23,Tableau1[Equipe],0),2),"",IF(AND(K$13>=OFFSET($N$5,MATCH($B$23,Tableau1[Equipe],0),2),K$13<=OFFSET($N$5,MATCH($B$23,Tableau1[Equipe],0),3)),"mo",IF(AND(K$13>OFFSET($N$5,MATCH($B$23,Tableau1[Equipe],0),3),K$13<=OFFSET($N$5,MATCH($B$23,Tableau1[Equipe],0),4)),"s",IF(AND(K$13>OFFSET($N$5,MATCH($B$23,Tableau1[Equipe],0),4),K$13<=OFFSET($N$5,MATCH($B$23,Tableau1[Equipe],0),5)),"d",IF(K$13>OFFSET($N$5,MATCH($B$23,Tableau1[Equipe],0),5),"")))))} -> mo | ... AH23: {=IF(AH$13<OFFSET($N$5,MATCH($B$23,Tableau1[Equipe],0),2),"",IF(AND(AH$13>=OFFSET($N$5,MATCH($B$23,Tableau1[Equipe],0),2),AH$13<=OFFSET($N$5,MATCH($B$23,Tableau1[Equipe],0),3)),"mo",IF(AND(AH$13>OFFSET($N$5,MATCH($B$23,Tableau1[Equipe],0),3),AH$13<=OFFSET($N$5,MATCH($B$23,Tableau1[Equipe],0),4)),"s",IF(AND(AH$13>OFFSET($N$5,MATCH($B$23,Tableau1[Equipe],0),4),AH$13<=OFFSET($N$5,MATCH($B$23,Tableau1[Equipe],0),5)),"d",IF(AH$13>OFFSET($N$5,MATCH($B$23,Tableau1[Equipe],0),5),"")))))}
B24: Papa | C24: 8B; | D24: {=IF(D$13<OFFSET($O$5,MATCH($B$24,Tableau1[Equipe],0),1),"",IF(AND(D$13>=OFFSET($O$5,MATCH($B$24,Tableau1[Equipe],0),1),D$13<=OFFSET($O$5,MATCH($B$24,Tableau1[Equipe],0),2)),"mo",IF(AND(D$13>OFFSET($O$5,MATCH($B$24,Tableau1[Equipe],0),2),D$13<=OFFSET($O$5,MATCH($B$24,Tableau1[Equipe],0),3)),"s",IF(AND(D$13>OFFSET($O$5,MATCH($B$24,Tableau1[Equipe],0),3),D$13<=OFFSET($O$5,MATCH($B$24,Tableau1[Equipe],0),4)),"d",IF(D$13>OFFSET($O$5,MATCH($B$24,Tableau1[Equipe],0),4),"")))))} | E24: {=IF(E$13<OFFSET($O$5,MATCH($B$24,Tableau1[Equipe],0),1),"",IF(AND(E$13>=OFFSET($O$5,MATCH($B$24,Tableau1[Equipe],0),1),E$13<=OFFSET($O$5,MATCH($B$24,Tableau1[Equipe],0),2)),"mo",IF(AND(E$13>OFFSET($O$5,MATCH($B$24,Tableau1[Equipe],0),2),E$13<=OFFSET($O$5,MATCH($B$24,Tableau1[Equipe],0),3)),"s",IF(AND(E$13>OFFSET($O$5,MATCH($B$24,Tableau1[Equipe],0),3),E$13<=OFFSET($O$5,MATCH($B$24,Tableau1[Equipe],0),4)),"d",IF(E$13>OFFSET($O$5,MATCH($B$24,Tableau1[Equipe],0),4),"")))))} | F24: {=IF(F$13<OFFSET($O$5,MATCH($B$24,Tableau1[Equipe],0),1),"",IF(AND(F$13>=OFFSET($O$5,MATCH($B$24,Tableau1[Equipe],0),1),F$13<=OFFSET($O$5,MATCH($B$24,Tableau1[Equipe],0),2)),"mo",IF(AND(F$13>OFFSET($O$5,MATCH($B$24,Tableau1[Equipe],0),2),F$13<=OFFSET($O$5,MATCH($B$24,Tableau1[Equipe],0),3)),"s",IF(AND(F$13>OFFSET($O$5,MATCH($B$24,Tableau1[Equipe],0),3),F$13<=OFFSET($O$5,MATCH($B$24,Tableau1[Equipe],0),4)),"d",IF(F$13>OFFSET($O$5,MATCH($B$24,Tableau1[Equipe],0),4),"")))))} | G24: {=IF(G$13<OFFSET($O$5,MATCH($B$24,Tableau1[Equipe],0),1),"",IF(AND(G$13>=OFFSET($O$5,MATCH($B$24,Tableau1[Equipe],0),1),G$13<=OFFSET($O$5,MATCH($B$24,Tableau1[Equipe],0),2)),"mo",IF(AND(G$13>OFFSET($O$5,MATCH($B$24,Tableau1[Equipe],0),2),G$13<=OFFSET($O$5,MATCH($B$24,Tableau1[Equipe],0),3)),"s",IF(AND(G$13>OFFSET($O$5,MATCH($B$24,Tableau1[Equipe],0),3),G$13<=OFFSET($O$5,MATCH($B$24,Tableau1[Equipe],0),4)),"d",IF(G$13>OFFSET($O$5,MATCH($B$24,Tableau1[Equipe],0),4),"")))))} | H24: {=IF(H$13<OFFSET($O$5,MATCH($B$24,Tableau1[Equipe],0),1),"",IF(AND(H$13>=OFFSET($O$5,MATCH($B$24,Tableau1[Equipe],0),1),H$13<=OFFSET($O$5,MATCH($B$24,Tableau1[Equipe],0),2)),"mo",IF(AND(H$13>OFFSET($O$5,MATCH($B$24,Tableau1[Equipe],0),2),H$13<=OFFSET($O$5,MATCH($B$24,Tableau1[Equipe],0),3)),"s",IF(AND(H$13>OFFSET($O$5,MATCH($B$24,Tableau1[Equipe],0),3),H$13<=OFFSET($O$5,MATCH($B$24,Tableau1[Equipe],0),4)),"d",IF(H$13>OFFSET($O$5,MATCH($B$24,Tableau1[Equipe],0),4),"")))))} | I24: {=IF(I$13<OFFSET($O$5,MATCH($B$24,Tableau1[Equipe],0),1),"",IF(AND(I$13>=OFFSET($O$5,MATCH($B$24,Tableau1[Equipe],0),1),I$13<=OFFSET($O$5,MATCH($B$24,Tableau1[Equipe],0),2)),"mo",IF(AND(I$13>OFFSET($O$5,MATCH($B$24,Tableau1[Equipe],0),2),I$13<=OFFSET($O$5,MATCH($B$24,Tableau1[Equipe],0),3)),"s",IF(AND(I$13>OFFSET($O$5,MATCH($B$24,Tableau1[Equipe],0),3),I$13<=OFFSET($O$5,MATCH($B$24,Tableau1[Equipe],0),4)),"d",IF(I$13>OFFSET($O$5,MATCH($B$24,Tableau1[Equipe],0),4),"")))))} | J24: {=IF(J$13<OFFSET($O$5,MATCH($B$24,Tableau1[Equipe],0),1),"",IF(AND(J$13>=OFFSET($O$5,MATCH($B$24,Tableau1[Equipe],0),1),J$13<=OFFSET($O$5,MATCH($B$24,Tableau1[Equipe],0),2)),"mo",IF(AND(J$13>OFFSET($O$5,MATCH($B$24,Tableau1[Equipe],0),2),J$13<=OFFSET($O$5,MATCH($B$24,Tableau1[Equipe],0),3)),"s",IF(AND(J$13>OFFSET($O$5,MATCH($B$24,Tableau1[Equipe],0),3),J$13<=OFFSET($O$5,MATCH($B$24,Tableau1[Equipe],0),4)),"d",IF(J$13>OFFSET($O$5,MATCH($B$24,Tableau1[Equipe],0),4),"")))))} | K24: {=IF(K$13<OFFSET($O$5,MATCH($B$24,Tableau1[Equipe],0),1),"",IF(AND(K$13>=OFFSET($O$5,MATCH($B$24,Tableau1[Equipe],0),1),K$13<=OFFSET($O$5,MATCH($B$24,Tableau1[Equipe],0),2)),"mo",IF(AND(K$13>OFFSET($O$5,MATCH($B$24,Tableau1[Equipe],0),2),K$13<=OFFSET($O$5,MATCH($B$24,Tableau1[Equipe],0),3)),"s",IF(AND(K$13>OFFSET($O$5,MATCH($B$24,Tableau1[Equipe],0),3),K$13<=OFFSET($O$5,MATCH($B$24,Tableau1[Equipe],0),4)),"d",IF(K$13>OFFSET($O$5,MATCH($B$24,Tableau1[Equipe],0),4),"")))))} | ... AH24: {=IF(AH$13<OFFSET($O$5,MATCH($B$24,Tableau1[Equipe],0),1),"",IF(AND(AH$13>=OFFSET($O$5,MATCH($B$24,Tableau1[Equipe],0),1),AH$13<=OFFSET($O$5,MATCH($B$24,Tableau1[Equipe],0),2)),"mo",IF(AND(AH$13>OFFSET($O$5,MATCH($B$24,Tableau1[Equipe],0),2),AH$13<=OFFSET($O$5,MATCH($B$24,Tableau1[Equipe],0),3)),"s",IF(AND(AH$13>OFFSET($O$5,MATCH($B$24,Tableau1[Equipe],0),3),AH$13<=OFFSET($O$5,MATCH($B$24,Tableau1[Equipe],0),4)),"d",IF(AH$13>OFFSET($O$5,MATCH($B$24,Tableau1[Equipe],0),4),"")))))} -> s

Sheet Feuil2
A4: date | B4: jec | C4: 1 | D4: 2 | E4: 3 | F4: 4 | G4: 5A | H4: 5B1 | I4: 5B2 | J4: 6 | K4: 7 | L4: 8A | M4: 8B | N4: pav | O4: toto | P4: pav | Q4: jec | R4: pav | S4: mama | T4: pav | U4: papa | V4: pav
A5: 43466 | B5: =IF($A5<OFFSET(Feuil1!$E$5,MATCH(B$4,Tableau1[Equipe],0),11),"",IF(AND($A5>=OFFSET(Feuil1!$E$5,MATCH(B$4,Tableau1[Equipe],0),11),$A5<=OFFSET(Feuil1!$E$5,MATCH(B$4,Tableau1[Equipe],0),12)),"mo",IF(AND($A5>OFFSET(Feuil1!$E$5,MATCH(B$4,Tableau1[Equipe],0),12),$A5<=OFFSET(Feuil1!$E$5,MATCH(B$4,Tableau1[Equipe],0),13)),"s",IF(AND($A5>OFFSET(Feuil1!$E$5,MATCH(B$4,Tableau1[Equipe],0),13),$A5<=OFFSET(Feuil1!$E$5,MATCH(B$4,Tableau1[Equipe],0),14)),"d",IF($A5>OFFSET(Feuil1!$E$5,MATCH(B$4,Tableau1[Equipe],0),14),""))))) | C5: =IF($B5="","",IF(Feuil1!E$6="x",Feuil2!C$4,"")) | D5: =IF($B5="","",IF(Feuil1!F$6="x",Feuil2!D$4,"")) | E5: =IF($B5="","",IF(Feuil1!G$6="x",Feuil2!E$4,"")) | F5: =IF($B5="","",IF(Feuil1!H$6="x",Feuil2!F$4,"")) | G5: =IF($B5="","",IF(Feuil1!I$6="x",Feuil2!G$4,"")) | H5: =IF($B5="","",IF(Feuil1!J$6="x",Feuil2!H$4,"")) | I5: =IF($B5="","",IF(Feuil1!K$6="x",Feuil2!I$4,"")) | J5: =IF($B5="","",IF(Feuil1!L$6="x",Feuil2!J$4,"")) | ... M5: =IF($B5="","",IF(Feuil1!O$6="x",Feuil2!M$4,""))
A6: 43467 | B6: {=IF($A6<OFFSET(Feuil1!$E$5,MATCH(B$4,Tableau1[Equipe],0),11),"",IF(AND($A6>=OFFSET(Feuil1!$E$5,MATCH(B$4,Tableau1[Equipe],0),11),$A6<=OFFSET(Feuil1!$E$5,MATCH(B$4,Tableau1[Equipe],0),12)),"mo",IF(AND($A6>OFFSET(Feuil1!$E$5,MATCH(B$4,Tableau1[Equipe],0),12),$A6<=OFFSET(Feuil1!$E$5,MATCH(B$4,Tableau1[Equipe],0),13)),"s",IF(AND($A6>OFFSET(Feuil1!$E$5,MATCH(B$4,Tableau1[Equipe],0),13),$A6<=OFFSET(Feuil1!$E$5,MATCH(B$4,Tableau1[Equipe],0),14)),"d",IF($A6>OFFSET(Feuil1!$E$5,MATCH(B$4,Tableau1[Equipe],0),14),"")))))} | C6: =IF($B6="","",IF(Feuil1!E$6="x",Feuil2!C$4,"")) | D6: =IF($B6="","",IF(Feuil1!F$6="x",Feuil2!D$4,"")) | E6: =IF($B6="","",IF(Feuil1!G$6="x",Feuil2!E$4,"")) | F6: =IF($B6="","",IF(Feuil1!H$6="x",Feuil2!F$4,"")) | G6: =IF($B6="","",IF(Feuil1!I$6="x",Feuil2!G$4,"")) | H6: =IF($B6="","",IF(Feuil1!J$6="x",Feuil2!H$4,"")) | I6: =IF($B6="","",IF(Feuil1!K$6="x",Feuil2!I$4,"")) | J6: =IF($B6="","",IF(Feuil1!L$6="x",Feuil2!J$4,"")) | ... M6: =IF($B6="","",IF(Feuil1!O$6="x",Feuil2!M$4,""))
A7: 43468 | B7: {=IF($A7<OFFSET(Feuil1!$E$5,MATCH(B$4,Tableau1[Equipe],0),11),"",IF(AND($A7>=OFFSET(Feuil1!$E$5,MATCH(B$4,Tableau1[Equipe],0),11),$A7<=OFFSET(Feuil1!$E$5,MATCH(B$4,Tableau1[Equipe],0),12)),"mo",IF(AND($A7>OFFSET(Feuil1!$E$5,MATCH(B$4,Tableau1[Equipe],0),12),$A7<=OFFSET(Feuil1!$E$5,MATCH(B$4,Tableau1[Equipe],0),13)),"s",IF(AND($A7>OFFSET(Feuil1!$E$5,MATCH(B$4,Tableau1[Equipe],0),13),$A7<=OFFSET(Feuil1!$E$5,MATCH(B$4,Tableau1[Equipe],0),14)),"d",IF($A7>OFFSET(Feuil1!$E$5,MATCH(B$4,Tableau1[Equipe],0),14),"")))))} | C7: =IF($B7="","",IF(Feuil1!E$6="x",Feuil2!C$4,"")) | D7: =IF($B7="","",IF(Feuil1!F$6="x",Feuil2!D$4,"")) | E7: =IF($B7="","",IF(Feuil1!G$6="x",Feuil2!E$4,"")) | F7: =IF($B7="","",IF(Feuil1!H$6="x",Feuil2!F$4,"")) | G7: =IF($B7="","",IF(Feuil1!I$6="x",Feuil2!G$4,"")) | H7: =IF($B7="","",IF(Feuil1!J$6="x",Feuil2!H$4,"")) | I7: =IF($B7="","",IF(Feuil1!K$6="x",Feuil2!I$4,"")) | J7: =IF($B7="","",IF(Feuil1!L$6="x",Feuil2!J$4,"")) | ... M7: =IF($B7="","",IF(Feuil1!O$6="x",Feuil2!M$4,""))
A8: 43469 | B8: {=IF($A8<OFFSET(Feuil1!$E$5,MATCH(B$4,Tableau1[Equipe],0),11),"",IF(AND($A8>=OFFSET(Feuil1!$E$5,MATCH(B$4,Tableau1[Equipe],0),11),$A8<=OFFSET(Feuil1!$E$5,MATCH(B$4,Tableau1[Equipe],0),12)),"mo",IF(AND($A8>OFFSET(Feuil1!$E$5,MATCH(B$4,Tableau1[Equipe],0),12),$A8<=OFFSET(Feuil1!$E$5,MATCH(B$4,Tableau1[Equipe],0),13)),"s",IF(AND($A8>OFFSET(Feuil1!$E$5,MATCH(B$4,Tableau1[Equipe],0),13),$A8<=OFFSET(Feuil1!$E$5,MATCH(B$4,Tableau1[Equipe],0),14)),"d",IF($A8>OFFSET(Feuil1!$E$5,MATCH(B$4,Tableau1[Equipe],0),14),"")))))} | C8: =IF($B8="","",IF(Feuil1!E$6="x",Feuil2!C$4,"")) | D8: =IF($B8="","",IF(Feuil1!F$6="x",Feuil2!D$4,"")) | E8: =IF($B8="","",IF(Feuil1!G$6="x",Feuil2!E$4,"")) | F8: =IF($B8="","",IF(Feuil1!H$6="x",Feuil2!F$4,"")) | G8: =IF($B8="","",IF(Feuil1!I$6="x",Feuil2!G$4,"")) | H8: =IF($B8="","",IF(Feuil1!J$6="x",Feuil2!H$4,"")) | I8: =IF($B8="","",IF(Feuil1!K$6="x",Feuil2!I$4,"")) | J8: =IF($B8="","",IF(Feuil1!L$6="x",Feuil2!J$4,"")) | ... M8: =IF($B8="","",IF(Feuil1!O$6="x",Feuil2!M$4,""))
A9: 43470 | B9: {=IF($A9<OFFSET(Feuil1!$E$5,MATCH(B$4,Tableau1[Equipe],0),11),"",IF(AND($A9>=OFFSET(Feuil1!$E$5,MATCH(B$4,Tableau1[Equipe],0),11),$A9<=OFFSET(Feuil1!$E$5,MATCH(B$4,Tableau1[Equipe],0),12)),"mo",IF(AND($A9>OFFSET(Feuil1!$E$5,MATCH(B$4,Tableau1[Equipe],0),12),$A9<=OFFSET(Feuil1!$E$5,MATCH(B$4,Tableau1[Equipe],0),13)),"s",IF(AND($A9>OFFSET(Feuil1!$E$5,MATCH(B$4,Tableau1[Equipe],0),13),$A9<=OFFSET(Feuil1!$E$5,MATCH(B$4,Tableau1[Equipe],0),14)),"d",IF($A9>OFFSET(Feuil1!$E$5,MATCH(B$4,Tableau1[Equipe],0),14),"")))))} | C9: =IF($B9="","",IF(Feuil1!E$6="x",Feuil2!C$4,"")) | D9: =IF($B9="","",IF(Feuil1!F$6="x",Feuil2!D$4,"")) | E9: =IF($B9="","",IF(Feuil1!G$6="x",Feuil2!E$4,"")) | F9: =IF($B9="","",IF(Feuil1!H$6="x",Feuil2!F$4,"")) | G9: =IF($B9="","",IF(Feuil1!I$6="x",Feuil2!G$4,"")) | H9: =IF($B9="","",IF(Feuil1!J$6="x",Feuil2!H$4,"")) | I9: =IF($B9="","",IF(Feuil1!K$6="x",Feuil2!I$4,"")) | J9: =IF($B9="","",IF(Feuil1!L$6="x",Feuil2!J$4,"")) | ... M9: =IF($B9="","",IF(Feuil1!O$6="x",Feuil2!M$4,""))
A10: 43471 | B10: {=IF($A10<OFFSET(Feuil1!$E$5,MATCH(B$4,Tableau1[Equipe],0),11),"",IF(AND($A10>=OFFSET(Feuil1!$E$5,MATCH(B$4,Tableau1[Equipe],0),11),$A10<=OFFSET(Feuil1!$E$5,MATCH(B$4,Tableau1[Equipe],0),12)),"mo",IF(AND($A10>OFFSET(Feuil1!$E$5,MATCH(B$4,Tableau1[Equipe],0),12),$A10<=OFFSET(Feuil1!$E$5,MATCH(B$4,Tableau1[Equipe],0),13)),"s",IF(AND($A10>OFFSET(Feuil1!$E$5,MATCH(B$4,Tableau1[Equipe],0),13),$A10<=OFFSET(Feuil1!$E$5,MATCH(B$4,Tableau1[Equipe],0),14)),"d",IF($A10>OFFSET(Feuil1!$E$5,MATCH(B$4,Tableau1[Equipe],0),14),"")))))} | C10: =IF($B10="","",IF(Feuil1!E$6="x",Feuil2!C$4,"")) | D10: =IF($B10="","",IF(Feuil1!F$6="x",Feuil2!D$4,"")) | E10: =IF($B10="","",IF(Feuil1!G$6="x",Feuil2!E$4,"")) | F10: =IF($B10="","",IF(Feuil1!H$6="x",Feuil2!F$4,"")) | G10: =IF($B10="","",IF(Feuil1!I$6="x",Feuil2!G$4,"")) | H10: =IF($B10="","",IF(Feuil1!J$6="x",Feuil2!H$4,"")) | I10: =IF($B10="","",IF(Feuil1!K$6="x",Feuil2!I$4,"")) | J10: =IF($B10="","",IF(Feuil1!L$6="x",Feuil2!J$4,"")) | ... M10: =IF($B10="","",IF(Feuil1!O$6="x",Feuil2!M$4,""))
A11: 43472 | B11: {=IF($A11<OFFSET(Feuil1!$E$5,MATCH(B$4,Tableau1[Equipe],0),11),"",IF(AND($A11>=OFFSET(Feuil1!$E$5,MATCH(B$4,Tableau1[Equipe],0),11),$A11<=OFFSET(Feuil1!$E$5,MATCH(B$4,Tableau1[Equipe],0),12)),"mo",IF(AND($A11>OFFSET(Feuil1!$E$5,MATCH(B$4,Tableau1[Equipe],0),12),$A11<=OFFSET(Feuil1!$E$5,MATCH(B$4,Tableau1[Equipe],0),13)),"s",IF(AND($A11>OFFSET(Feuil1!$E$5,MATCH(B$4,Tableau1[Equipe],0),13),$A11<=OFFSET(Feuil1!$E$5,MATCH(B$4,Tableau1[Equipe],0),14)),"d",IF($A11>OFFSET(Feuil1!$E$5,MATCH(B$4,Tableau1[Equipe],0),14),"")))))} | C11: =IF($B11="","",IF(Feuil1!E$6="x",Feuil2!C$4,"")) | D11: =IF($B11="","",IF(Feuil1!F$6="x",Feuil2!D$4,"")) | E11: =IF($B11="","",IF(Feuil1!G$6="x",Feuil2!E$4,"")) | F11: =IF($B11="","",IF(Feuil1!H$6="x",Feuil2!F$4,"")) | G11: =IF($B11="","",IF(Feuil1!I$6="x",Feuil2!G$4,"")) | H11: =IF($B11="","",IF(Feuil1!J$6="x",Feuil2!H$4,"")) | I11: =IF($B11="","",IF(Feuil1!K$6="x",Feuil2!I$4,"")) | J11: =IF($B11="","",IF(Feuil1!L$6="x",Feuil2!J$4,"")) | ... M11: =IF($B11="","",IF(Feuil1!O$6="x",Feuil2!M$4,""))
A12: 43473 | B12: {=IF($A12<OFFSET(Feuil1!$E$5,MATCH(B$4,Tableau1[Equipe],0),11),"",IF(AND($A12>=OFFSET(Feuil1!$E$5,MATCH(B$4,Tableau1[Equipe],0),11),$A12<=OFFSET(Feuil1!$E$5,MATCH(B$4,Tableau1[Equipe],0),12)),"mo",IF(AND($A12>OFFSET(Feuil1!$E$5,MATCH(B$4,Tableau1[Equipe],0),12),$A12<=OFFSET(Feuil1!$E$5,MATCH(B$4,Tableau1[Equipe],0),13)),"s",IF(AND($A12>OFFSET(Feuil1!$E$5,MATCH(B$4,Tableau1[Equipe],0),13),$A12<=OFFSET(Feuil1!$E$5,MATCH(B$4,Tableau1[Equipe],0),14)),"d",IF($A12>OFFSET(Feuil1!$E$5,MATCH(B$4,Tableau1[Equipe],0),14),"")))))} | C12: =IF($B12="","",IF(Feuil1!E$6="x",Feuil2!C$4,"")) | D12: =IF($B12="","",IF(Feuil1!F$6="x",Feuil2!D$4,"")) | E12: =IF($B12="","",IF(Feuil1!G$6="x",Feuil2!E$4,"")) | F12: =IF($B12="","",IF(Feuil1!H$6="x",Feuil2!F$4,"")) | G12: =IF($B12="","",IF(Feuil1!I$6="x",Feuil2!G$4,"")) | H12: =IF($B12="","",IF(Feuil1!J$6="x",Feuil2!H$4,"")) | I12: =IF($B12="","",IF(Feuil1!K$6="x",Feuil2!I$4,"")) | J12: =IF($B12="","",IF(Feuil1!L$6="x",Feuil2!J$4,"")) | ... M12: =IF($B12="","",IF(Feuil1!O$6="x",Feuil2!M$4,""))
A13: 43474 | B13: {=IF($A13<OFFSET(Feuil1!$E$5,MATCH(B$4,Tableau1[Equipe],0),11),"",IF(AND($A13>=OFFSET(Feuil1!$E$5,MATCH(B$4,Tableau1[Equipe],0),11),$A13<=OFFSET(Feuil1!$E$5,MATCH(B$4,Tableau1[Equipe],0),12)),"mo",IF(AND($A13>OFFSET(Feuil1!$E$5,MATCH(B$4,Tableau1[Equipe],0),12),$A13<=OFFSET(Feuil1!$E$5,MATCH(B$4,Tableau1[Equipe],0),13)),"s",IF(AND($A13>OFFSET(Feuil1!$E$5,MATCH(B$4,Tableau1[Equipe],0),13),$A13<=OFFSET(Feuil1!$E$5,MATCH(B$4,Tableau1[Equipe],0),14)),"d",IF($A13>OFFSET(Feuil1!$E$5,MATCH(B$4,Tableau1[Equipe],0),14),"")))))} | C13: =IF($B13="","",IF(Feuil1!E$6="x",Feuil2!C$4,"")) | D13: =IF($B13="","",IF(Feuil1!F$6="x",Feuil2!D$4,"")) | E13: =IF($B13="","",IF(Feuil1!G$6="x",Feuil2!E$4,"")) | F13: =IF($B13="","",IF(Feuil1!H$6="x",Feuil2!F$4,"")) | G13: =IF($B13="","",IF(Feuil1!I$6="x",Feuil2!G$4,"")) | H13: =IF($B13="","",IF(Feuil1!J$6="x",Feuil2!H$4,"")) | I13: =IF($B13="","",IF(Feuil1!K$6="x",Feuil2!I$4,"")) | J13: =IF($B13="","",IF(Feuil1!L$6="x",Feuil2!J$4,"")) | ... M13: =IF($B13="","",IF(Feuil1!O$6="x",Feuil2!M$4,""))
