Workbook

Sheet JANVIER
A1: 2020
A2: vacances scolaire | B2: =CHOOSE(WEEKDAY(B$3,2),"L","M","M","J","V","S","D") -> M | C2: =CHOOSE(WEEKDAY(C$3,2),"L","M","M","J","V","S","D") -> J | D2: =CHOOSE(WEEKDAY(D$3,2),"L","M","M","J","V","S","D") -> V | E2: =CHOOSE(WEEKDAY(E$3,2),"L","M","M","J","V","S","D") -> S | F2: =CHOOSE(WEEKDAY(F$3,2),"L","M","M","J","V","S","D") -> D | G2: =CHOOSE(WEEKDAY(G$3,2),"L","M","M","J","V","S","D") -> L | H2: =CHOOSE(WEEKDAY(H$3,2),"L","M","M","J","V","S","D") -> M | I2: =CHOOSE(WEEKDAY(I$3,2),"L","M","M","J","V","S","D") -> M | ... AF2: =CHOOSE(WEEKDAY(AF$3,2),"L","M","M","J","V","S","D") -> V
B3: =DATE($A$1,1,1) -> 43831 | C3: =DATE($A$1,1,2) -> 43832 | D3: =DATE($A$1,1,3) -> 43833 | E3: =DATE($A$1,1,4) -> 43834 | F3: =DATE($A$1,1,5) -> 43835 | G3: =DATE($A$1,1,6) -> 43836 | H3: =DATE($A$1,1,7) -> 43837 | I3: =DATE($A$1,1,8) -> 43838 | J3: =DATE($A$1,1,9) -> 43839 | K3: =DATE($A$1,1,10) -> 43840 | L3: =DATE($A$1,1,11) -> 43841 | M3: =DATE($A$1,1,12) -> 43842 | N3: =DATE($A$1,1,13) -> 43843 | O3: =DATE($A$1,1,14) -> 43844 | P3: =DATE($A$1,1,15) -> 43845 | Q3: =DATE($A$1,1,16) -> 43846 | R3: =DATE($A$1,1,17) -> 43847 | S3: =DATE($A$1,1,18) -> 43848 | T3: =DATE($A$1,1,19) -> 43849 | U3: =DATE($A$1,1,20) -> 43850 | V3: =DATE($A$1,1,21) -> 43851 | W3: =DATE($A$1,1,22) -> 43852 | X3: =DATE($A$1,1,23) -> 43853 | Y3: =DATE($A$1,1,24) -> 43854 | Z3: =DATE($A$1,1,25) -> 43855 | AA3: =DATE($A$1,1,26) -> 43856 | AB3: =DATE($A$1,1,27) -> 43857 | AC3: =DATE($A$1,1,28) -> 43858 | AD3: =DATE($A$1,1,29) -> 43859 | AE3: =DATE($A$1,1,30) -> 43860 | AF3: =DATE($A$1,1,31) -> 43861
A4: Reunion P Projet | C4: 4
A6: Reunion EJE
A8: Projets NVC
A10: Art et Tout petit
A12: Reunion Institutionnelle

Sheet FEVRIER
A1: =JANVIER!$A$1 -> 2020
A2: vacances scolaire | B2: =CHOOSE(WEEKDAY(B$3,2),"L","M","M","J","V","S","D") -> S | C2: =CHOOSE(WEEKDAY(C$3,2),"L","M","M","J","V","S","D") -> D | D2: =CHOOSE(WEEKDAY(D$3,2),"L","M","M","J","V","S","D") -> L | E2: =CHOOSE(WEEKDAY(E$3,2),"L","M","M","J","V","S","D") -> M | F2: =CHOOSE(WEEKDAY(F$3,2),"L","M","M","J","V","S","D") -> M | G2: =CHOOSE(WEEKDAY(G$3,2),"L","M","M","J","V","S","D") -> J | H2: =CHOOSE(WEEKDAY(H$3,2),"L","M","M","J","V","S","D") -> V | I2: =CHOOSE(WEEKDAY(I$3,2),"L","M","M","J","V","S","D") -> S | ... AD2: =CHOOSE(WEEKDAY(AD$3,2),"L","M","M","J","V","S","D") -> S
B3: =DATE($A$1,2,1) -> 43862 | C3: =DATE($A$1,2,2) -> 43863 | D3: =DATE($A$1,2,3) -> 43864 | E3: =DATE($A$1,2,4) -> 43865 | F3: =DATE($A$1,2,5) -> 43866 | G3: =DATE($A$1,2,6) -> 43867 | H3: =DATE($A$1,2,7) -> 43868 | I3: =DATE($A$1,2,8) -> 43869 | J3: =DATE($A$1,2,9) -> 43870 | K3: =DATE($A$1,2,10) -> 43871 | L3: =DATE($A$1,2,11) -> 43872 | M3: =DATE($A$1,2,12) -> 43873 | N3: =DATE($A$1,2,13) -> 43874 | O3: =DATE($A$1,2,14) -> 43875 | P3: =DATE($A$1,2,15) -> 43876 | Q3: =DATE($A$1,2,16) -> 43877 | R3: =DATE($A$1,2,17) -> 43878 | S3: =DATE($A$1,2,18) -> 43879 | T3: =DATE($A$1,2,19) -> 43880 | U3: =DATE($A$1,2,20) -> 43881 | V3: =DATE($A$1,2,21) -> 43882 | W3: =DATE($A$1,2,22) -> 43883 | X3: =DATE($A$1,2,23) -> 43884 | Y3: =DATE($A$1,2,24) -> 43885 | Z3: =DATE($A$1,2,25) -> 43886 | AA3: =DATE($A$1,2,26) -> 43887 | AB3: =DATE($A$1,2,27) -> 43888 | AC3: =DATE($A$1,2,28) -> 43889 | AD3: =DATE($A$1,2,29) -> 43890
A4: Reunion P Projet
A6: Reunion EJE
A8: Projets NVC
A10: Art et Tout petit
A12: Reunion Institutionnelle

Sheet MARS
A1: =JANVIER!$A$1 -> 2020
A2: vacances scolaire | B2: =CHOOSE(WEEKDAY(B$3,2),"L","M","M","J","V","S","D") -> D | C2: =CHOOSE(WEEKDAY(C$3,2),"L","M","M","J","V","S","D") -> L | D2: =CHOOSE(WEEKDAY(D$3,2),"L","M","M","J","V","S","D") -> M | E2: =CHOOSE(WEEKDAY(E$3,2),"L","M","M","J","V","S","D") -> M | F2: =CHOOSE(WEEKDAY(F$3,2),"L","M","M","J","V","S","D") -> J | G2: =CHOOSE(WEEKDAY(G$3,2),"L","M","M","J","V","S","D") -> V | H2: =CHOOSE(WEEKDAY(H$3,2),"L","M","M","J","V","S","D") -> S | I2: =CHOOSE(WEEKDAY(I$3,2),"L","M","M","J","V","S","D") -> D | ... AF2: =CHOOSE(WEEKDAY(AF$3,2),"L","M","M","J","V","S","D") -> M
B3: =DATE($A$1,3,1) -> 43891 | C3: =DATE($A$1,3,2) -> 43892 | D3: =DATE($A$1,3,3) -> 43893 | E3: =DATE($A$1,3,4) -> 43894 | F3: =DATE($A$1,3,5) -> 43895 | G3: =DATE($A$1,3,6) -> 43896 | H3: =DATE($A$1,3,7) -> 43897 | I3: =DATE($A$1,3,8) -> 43898 | J3: =DATE($A$1,3,9) -> 43899 | K3: =DATE($A$1,3,10) -> 43900 | L3: =DATE($A$1,3,11) -> 43901 | M3: =DATE($A$1,3,12) -> 43902 | N3: =DATE($A$1,3,13) -> 43903 | O3: =DATE($A$1,3,14) -> 43904 | P3: =DATE($A$1,3,15) -> 43905 | Q3: =DATE($A$1,3,16) -> 43906 | R3: =DATE($A$1,3,17) -> 43907 | S3: =DATE($A$1,3,18) -> 43908 | T3: =DATE($A$1,3,19) -> 43909 | U3: =DATE($A$1,3,20) -> 43910 | V3: =DATE($A$1,3,21) -> 43911 | W3: =DATE($A$1,3,22) -> 43912 | X3: =DATE($A$1,3,23) -> 43913 | Y3: =DATE($A$1,3,24) -> 43914 | Z3: =DATE($A$1,3,25) -> 43915 | AA3: =DATE($A$1,3,26) -> 43916 | AB3: =DATE($A$1,3,27) -> 43917 | AC3: =DATE($A$1,3,28) -> 43918 | AD3: =DATE($A$1,3,29) -> 43919 | AE3: =DATE($A$1,3,30) -> 43920 | AF3: =DATE($A$1,3,31) -> 43921
A4: Reunion P Projet
A6: Reunion EJE
A8: Projets NVC
A10: Art et Tout petit
A12: Reunion Institutionnelle

Sheet AVRIL
A1: =JANVIER!$A$1 -> 2020
A2: vacances scolaire | B2: =CHOOSE(WEEKDAY(B$3,2),"L","M","M","J","V","S","D") -> M | C2: =CHOOSE(WEEKDAY(C$3,2),"L","M","M","J","V","S","D") -> J | D2: =CHOOSE(WEEKDAY(D$3,2),"L","M","M","J","V","S","D") -> V | E2: =CHOOSE(WEEKDAY(E$3,2),"L","M","M","J","V","S","D") -> S | F2: =CHOOSE(WEEKDAY(F$3,2),"L","M","M","J","V","S","D") -> D | G2: =CHOOSE(WEEKDAY(G$3,2),"L","M","M","J","V","S","D") -> L | H2: =CHOOSE(WEEKDAY(H$3,2),"L","M","M","J","V","S","D") -> M | I2: =CHOOSE(WEEKDAY(I$3,2),"L","M","M","J","V","S","D") -> M | ... AE2: =CHOOSE(WEEKDAY(AE$3,2),"L","M","M","J","V","S","D") -> J
B3: =DATE($A$1,4,1) -> 43922 | C3: =DATE($A$1,4,2) -> 43923 | D3: =DATE($A$1,4,3) -> 43924 | E3: =DATE($A$1,4,4) -> 43925 | F3: =DATE($A$1,4,5) -> 43926 | G3: =DATE($A$1,4,6) -> 43927 | H3: =DATE($A$1,4,7) -> 43928 | I3: =DATE($A$1,4,8) -> 43929 | J3: =DATE($A$1,4,9) -> 43930 | K3: =DATE($A$1,4,10) -> 43931 | L3: =DATE($A$1,4,11) -> 43932 | M3: =DATE($A$1,4,12) -> 43933 | N3: =DATE($A$1,4,13) -> 43934 | O3: =DATE($A$1,4,14) -> 43935 | P3: =DATE($A$1,4,15) -> 43936 | Q3: =DATE($A$1,4,16) -> 43937 | R3: =DATE($A$1,4,17) -> 43938 | S3: =DATE($A$1,4,18) -> 43939 | T3: =DATE($A$1,4,19) -> 43940 | U3: =DATE($A$1,4,20) -> 43941 | V3: =DATE($A$1,4,21) -> 43942 | W3: =DATE($A$1,4,22) -> 43943 | X3: =DATE($A$1,4,23) -> 43944 | Y3: =DATE($A$1,4,24) -> 43945 | Z3: =DATE($A$1,4,25) -> 43946 | AA3: =DATE($A$1,4,26) -> 43947 | AB3: =DATE($A$1,4,27) -> 43948 | AC3: =DATE($A$1,4,28) -> 43949 | AD3: =DATE($A$1,4,29) -> 43950 | AE3: =DATE($A$1,4,30) -> 43951
A4: Reunion P Projet
A6: Reunion EJE
A8: Projets NVC
A10: Art et Tout petit
A12: Reunion Institutionnelle

Sheet MAI
A1: =JANVIER!$A$1 -> 2020
A2: vacances scolaire | B2: =CHOOSE(WEEKDAY(B$3,2),"L","M","M","J","V","S","D") -> V | C2: =CHOOSE(WEEKDAY(C$3,2),"L","M","M","J","V","S","D") -> S | D2: =CHOOSE(WEEKDAY(D$3,2),"L","M","M","J","V","S","D") -> D | E2: =CHOOSE(WEEKDAY(E$3,2),"L","M","M","J","V","S","D") -> L | F2: =CHOOSE(WEEKDAY(F$3,2),"L","M","M","J","V","S","D") -> M | G2: =CHOOSE(WEEKDAY(G$3,2),"L","M","M","J","V","S","D") -> M | H2: =CHOOSE(WEEKDAY(H$3,2),"L","M","M","J","V","S","D") -> J | I2: =CHOOSE(WEEKDAY(I$3,2),"L","M","M","J","V","S","D") -> V | ... AF2: =CHOOSE(WEEKDAY(AF$3,2),"L","M","M","J","V","S","D") -> D
B3: =DATE($A$1,5,1) -> 43952 | C3: =DATE($A$1,5,2) -> 43953 | D3: =DATE($A$1,5,3) -> 43954 | E3: =DATE($A$1,5,4) -> 43955 | F3: =DATE($A$1,5,5) -> 43956 | G3: =DATE($A$1,5,6) -> 43957 | H3: =DATE($A$1,5,7) -> 43958 | I3: =DATE($A$1,5,8) -> 43959 | J3: =DATE($A$1,5,9) -> 43960 | K3: =DATE($A$1,5,10) -> 43961 | L3: =DATE($A$1,5,11) -> 43962 | M3: =DATE($A$1,5,12) -> 43963 | N3: =DATE($A$1,5,13) -> 43964 | O3: =DATE($A$1,5,14) -> 43965 | P3: =DATE($A$1,5,15) -> 43966 | Q3: =DATE($A$1,5,16) -> 43967 | R3: =DATE($A$1,5,17) -> 43968 | S3: =DATE($A$1,5,18) -> 43969 | T3: =DATE($A$1,5,19) -> 43970 | U3: =DATE($A$1,5,20) -> 43971 | V3: =DATE($A$1,5,21) -> 43972 | W3: =DATE($A$1,5,22) -> 43973 | X3: =DATE($A$1,5,23) -> 43974 | Y3: =DATE($A$1,5,24) -> 43975 | Z3: =DATE($A$1,5,25) -> 43976 | AA3: =DATE($A$1,5,26) -> 43977 | AB3: =DATE($A$1,5,27) -> 43978 | AC3: =DATE($A$1,5,28) -> 43979 | AD3: =DATE($A$1,5,29) -> 43980 | AE3: =DATE($A$1,5,30) -> 43981 | AF3: =DATE($A$1,5,31) -> 43982
A4: Reunion P Projet
A6: Reunion EJE
A8: Projets NVC
A10: Art et Tout petit
A12: Reunion Institutionnelle

Sheet JUIN
A1: =JANVIER!$A$1 -> 2020
A2: vacances scolaire | B2: =CHOOSE(WEEKDAY(B$3,2),"L","M","M","J","V","S","D") -> L | C2: =CHOOSE(WEEKDAY(C$3,2),"L","M","M","J","V","S","D") -> M | D2: =CHOOSE(WEEKDAY(D$3,2),"L","M","M","J","V","S","D") -> M | E2: =CHOOSE(WEEKDAY(E$3,2),"L","M","M","J","V","S","D") -> J | F2: =CHOOSE(WEEKDAY(F$3,2),"L","M","M","J","V","S","D") -> V | G2: =CHOOSE(WEEKDAY(G$3,2),"L","M","M","J","V","S","D") -> S | H2: =CHOOSE(WEEKDAY(H$3,2),"L","M","M","J","V","S","D") -> D | I2: =CHOOSE(WEEKDAY(I$3,2),"L","M","M","J","V","S","D") -> L | ... AE2: =CHOOSE(WEEKDAY(AE$3,2),"L","M","M","J","V","S","D") -> M
B3: =DATE($A$1,6,1) -> 43983 | C3: =DATE($A$1,6,2) -> 43984 | D3: =DATE($A$1,6,3) -> 43985 | E3: =DATE($A$1,6,4) -> 43986 | F3: =DATE($A$1,6,5) -> 43987 | G3: =DATE($A$1,6,6) -> 43988 | H3: =DATE($A$1,6,7) -> 43989 | I3: =DATE($A$1,6,8) -> 43990 | J3: =DATE($A$1,6,9) -> 43991 | K3: =DATE($A$1,6,10) -> 43992 | L3: =DATE($A$1,6,11) -> 43993 | M3: =DATE($A$1,6,12) -> 43994 | N3: =DATE($A$1,6,13) -> 43995 | O3: =DATE($A$1,6,14) -> 43996 | P3: =DATE($A$1,6,15) -> 43997 | Q3: =DATE($A$1,6,16) -> 43998 | R3: =DATE($A$1,6,17) -> 43999 | S3: =DATE($A$1,6,18) -> 44000 | T3: =DATE($A$1,6,19) -> 44001 | U3: =DATE($A$1,6,20) -> 44002 | V3: =DATE($A$1,6,21) -> 44003 | W3: =DATE($A$1,6,22) -> 44004 | X3: =DATE($A$1,6,23) -> 44005 | Y3: =DATE($A$1,6,24) -> 44006 | Z3: =DATE($A$1,6,25) -> 44007 | AA3: =DATE($A$1,6,26) -> 44008 | AB3: =DATE($A$1,6,27) -> 44009 | AC3: =DATE($A$1,6,28) -> 44010 | AD3: =DATE($A$1,6,29) -> 44011 | AE3: =DATE($A$1,6,30) -> 44012
A4: Reunion P Projet
A6: Reunion EJE
A8: Projets NVC
A10: Art et Tout petit
A12: Reunion Institutionnelle

Sheet JUILLET
A1: =JANVIER!$A$1 -> 2020
A2: vacances scolaire | B2: =CHOOSE(WEEKDAY(B$3,2),"L","M","M","J","V","S","D") -> M | C2: =CHOOSE(WEEKDAY(C$3,2),"L","M","M","J","V","S","D") -> J | D2: =CHOOSE(WEEKDAY(D$3,2),"L","M","M","J","V","S","D") -> V | E2: =CHOOSE(WEEKDAY(E$3,2),"L","M","M","J","V","S","D") -> S | F2: =CHOOSE(WEEKDAY(F$3,2),"L","M","M","J","V","S","D") -> D | G2: =CHOOSE(WEEKDAY(G$3,2),"L","M","M","J","V","S","D") -> L | H2: =CHOOSE(WEEKDAY(H$3,2),"L","M","M","J","V","S","D") -> M | I2: =CHOOSE(WEEKDAY(I$3,2),"L","M","M","J","V","S","D") -> M | ... AF2: =CHOOSE(WEEKDAY(AF$3,2),"L","M","M","J","V","S","D") -> V
B3: =DATE($A$1,7,1) -> 44013 | C3: =DATE($A$1,7,2) -> 44014 | D3: =DATE($A$1,7,3) -> 44015 | E3: =DATE($A$1,7,4) -> 44016 | F3: =DATE($A$1,7,5) -> 44017 | G3: =DATE($A$1,7,6) -> 44018 | H3: =DATE($A$1,7,7) -> 44019 | I3: =DATE($A$1,7,8) -> 44020 | J3: =DATE($A$1,7,9) -> 44021 | K3: =DATE($A$1,7,10) -> 44022 | L3: =DATE($A$1,7,11) -> 44023 | M3: =DATE($A$1,7,12) -> 44024 | N3: =DATE($A$1,7,13) -> 44025 | O3: =DATE($A$1,7,14) -> 44026 | P3: =DATE($A$1,7,15) -> 44027 | Q3: =DATE($A$1,7,16) -> 44028 | R3: =DATE($A$1,7,17) -> 44029 | S3: =DATE($A$1,7,18) -> 44030 | T3: =DATE($A$1,7,19) -> 44031 | U3: =DATE($A$1,7,20) -> 44032 | V3: =DATE($A$1,7,21) -> 44033 | W3: =DATE($A$1,7,22) -> 44034 | X3: =DATE($A$1,7,23) -> 44035 | Y3: =DATE($A$1,7,24) -> 44036 | Z3: =DATE($A$1,7,25) -> 44037 | AA3: =DATE($A$1,7,26) -> 44038 | AB3: =DATE($A$1,7,27) -> 44039 | AC3: =DATE($A$1,7,28) -> 44040 | AD3: =DATE($A$1,7,29) -> 44041 | AE3: =DATE($A$1,7,30) -> 44042 | AF3: =DATE($A$1,7,31) -> 44043
A4: Reunion P Projet
A6: Reunion EJE
A8: Projets NVC
A10: Art et Tout petit
A12: Reunion Institutionnelle

Sheet AOUT
A1: =JANVIER!$A$1 -> 2020
A2: vacances scolaire | B2: =CHOOSE(WEEKDAY(B$3,2),"L","M","M","J","V","S","D") -> S | C2: =CHOOSE(WEEKDAY(C$3,2),"L","M","M","J","V","S","D") -> D | D2: =CHOOSE(WEEKDAY(D$3,2),"L","M","M","J","V","S","D") -> L | E2: =CHOOSE(WEEKDAY(E$3,2),"L","M","M","J","V","S","D") -> M | F2: =CHOOSE(WEEKDAY(F$3,2),"L","M","M","J","V","S","D") -> M | G2: =CHOOSE(WEEKDAY(G$3,2),"L","M","M","J","V","S","D") -> J | H2: =CHOOSE(WEEKDAY(H$3,2),"L","M","M","J","V","S","D") -> V | I2: =CHOOSE(WEEKDAY(I$3,2),"L","M","M","J","V","S","D") -> S | ... AF2: =CHOOSE(WEEKDAY(AF$3,2),"L","M","M","J","V","S","D") -> L
B3: =DATE($A$1,8,1) -> 44044 | C3: =DATE($A$1,8,2) -> 44045 | D3: =DATE($A$1,8,3) -> 44046 | E3: =DATE($A$1,8,4) -> 44047 | F3: =DATE($A$1,8,5) -> 44048 | G3: =DATE($A$1,8,6) -> 44049 | H3: =DATE($A$1,8,7) -> 44050 | I3: =DATE($A$1,8,8) -> 44051 | J3: =DATE($A$1,8,9) -> 44052 | K3: =DATE($A$1,8,10) -> 44053 | L3: =DATE($A$1,8,11) -> 44054 | M3: =DATE($A$1,8,12) -> 44055 | N3: =DATE($A$1,8,13) -> 44056 | O3: =DATE($A$1,8,14) -> 44057 | P3: =DATE($A$1,8,15) -> 44058 | Q3: =DATE($A$1,8,16) -> 44059 | R3: =DATE($A$1,8,17) -> 44060 | S3: =DATE($A$1,8,18) -> 44061 | T3: =DATE($A$1,8,19) -> 44062 | U3: =DATE($A$1,8,20) -> 44063 | V3: =DATE($A$1,8,21) -> 44064 | W3: =DATE($A$1,8,22) -> 44065 | X3: =DATE($A$1,8,23) -> 44066 | Y3: =DATE($A$1,8,24) -> 44067 | Z3: =DATE($A$1,8,25) -> 44068 | AA3: =DATE($A$1,8,26) -> 44069 | AB3: =DATE($A$1,8,27) -> 44070 | AC3: =DATE($A$1,8,28) -> 44071 | AD3: =DATE($A$1,8,29) -> 44072 | AE3: =DATE($A$1,8,30) -> 44073 | AF3: =DATE($A$1,8,31) -> 44074
A4: Reunion P Projet
A6: Reunion EJE
A8: Projets NVC
A10: Art et Tout petit
A12: Reunion Institutionnelle

Sheet SEPTEMBRE
A1: =JANVIER!$A$1 -> 2020
A2: vacances scolaire | B2: =CHOOSE(WEEKDAY(B$3,2),"L","M","M","J","V","S","D") -> M | C2: =CHOOSE(WEEKDAY(C$3,2),"L","M","M","J","V","S","D") -> M | D2: =CHOOSE(WEEKDAY(D$3,2),"L","M","M","J","V","S","D") -> J | E2: =CHOOSE(WEEKDAY(E$3,2),"L","M","M","J","V","S","D") -> V | F2: =CHOOSE(WEEKDAY(F$3,2),"L","M","M","J","V","S","D") -> S | G2: =CHOOSE(WEEKDAY(G$3,2),"L","M","M","J","V","S","D") -> D | H2: =CHOOSE(WEEKDAY(H$3,2),"L","M","M","J","V","S","D") -> L | I2: =CHOOSE(WEEKDAY(I$3,2),"L","M","M","J","V","S","D") -> M | ... AE2: =CHOOSE(WEEKDAY(AE$3,2),"L","M","M","J","V","S","D") -> M
B3: =DATE($A$1,9,1) -> 44075 | C3: =DATE($A$1,9,2) -> 44076 | D3: =DATE($A$1,9,3) -> 44077 | E3: =DATE($A$1,9,4) -> 44078 | F3: =DATE($A$1,9,5) -> 44079 | G3: =DATE($A$1,9,6) -> 44080 | H3: =DATE($A$1,9,7) -> 44081 | I3: =DATE($A$1,9,8) -> 44082 | J3: =DATE($A$1,9,9) -> 44083 | K3: =DATE($A$1,9,10) -> 44084 | L3: =DATE($A$1,9,11) -> 44085 | M3: =DATE($A$1,9,12) -> 44086 | N3: =DATE($A$1,9,13) -> 44087 | O3: =DATE($A$1,9,14) -> 44088 | P3: =DATE($A$1,9,15) -> 44089 | Q3: =DATE($A$1,9,16) -> 44090 | R3: =DATE($A$1,9,17) -> 44091 | S3: =DATE($A$1,9,18) -> 44092 | T3: =DATE($A$1,9,19) -> 44093 | U3: =DATE($A$1,9,20) -> 44094 | V3: =DATE($A$1,9,21) -> 44095 | W3: =DATE($A$1,9,22) -> 44096 | X3: =DATE($A$1,9,23) -> 44097 | Y3: =DATE($A$1,9,24) -> 44098 | Z3: =DATE($A$1,9,25) -> 44099 | AA3: =DATE($A$1,9,26) -> 44100 | AB3: =DATE($A$1,9,27) -> 44101 | AC3: =DATE($A$1,9,28) -> 44102 | AD3: =DATE($A$1,9,29) -> 44103 | AE3: =DATE($A$1,9,30) -> 44104
A4: Reunion P Projet
A6: Reunion EJE
A8: Projets NVC
A10: Art et Tout petit
A12: Reunion Institutionnelle

Sheet OCTOBRE
A1: =JANVIER!$A$1 -> 2020
A2: vacances scolaire | B2: =CHOOSE(WEEKDAY(B$3,2),"L","M","M","J","V","S","D") -> J | C2: =CHOOSE(WEEKDAY(C$3,2),"L","M","M","J","V","S","D") -> V | D2: =CHOOSE(WEEKDAY(D$3,2),"L","M","M","J","V","S","D") -> S | E2: =CHOOSE(WEEKDAY(E$3,2),"L","M","M","J","V","S","D") -> D | F2: =CHOOSE(WEEKDAY(F$3,2),"L","M","M","J","V","S","D") -> L | G2: =CHOOSE(WEEKDAY(G$3,2),"L","M","M","J","V","S","D") -> M | H2: =CHOOSE(WEEKDAY(H$3,2),"L","M","M","J","V","S","D") -> M | I2: =CHOOSE(WEEKDAY(I$3,2),"L","M","M","J","V","S","D") -> J | ... AF2: =CHOOSE(WEEKDAY(AF$3,2),"L","M","M","J","V","S","D") -> S
B3: =DATE($A$1,10,1) -> 44105 | C3: =DATE($A$1,10,2) -> 44106 | D3: =DATE($A$1,10,3) -> 44107 | E3: =DATE($A$1,10,4) -> 44108 | F3: =DATE($A$1,10,5) -> 44109 | G3: =DATE($A$1,10,6) -> 44110 | H3: =DATE($A$1,10,7) -> 44111 | I3: =DATE($A$1,10,8) -> 44112 | J3: =DATE($A$1,10,9) -> 44113 | K3: =DATE($A$1,10,10) -> 44114 | L3: =DATE($A$1,10,11) -> 44115 | M3: =DATE($A$1,10,12) -> 44116 | N3: =DATE($A$1,10,13) -> 44117 | O3: =DATE($A$1,10,14) -> 44118 | P3: =DATE($A$1,10,15) -> 44119 | Q3: =DATE($A$1,10,16) -> 44120 | R3: =DATE($A$1,10,17) -> 44121 | S3: =DATE($A$1,10,18) -> 44122 | T3: =DATE($A$1,10,19) -> 44123 | U3: =DATE($A$1,10,20) -> 44124 | V3: =DATE($A$1,10,21) -> 44125 | W3: =DATE($A$1,10,22) -> 44126 | X3: =DATE($A$1,10,23) -> 44127 | Y3: =DATE($A$1,10,24) -> 44128 | Z3: =DATE($A$1,10,25) -> 44129 | AA3: =DATE($A$1,10,26) -> 44130 | AB3: =DATE($A$1,10,27) -> 44131 | AC3: =DATE($A$1,10,28) -> 44132 | AD3: =DATE($A$1,10,29) -> 44133 | AE3: =DATE($A$1,10,30) -> 44134 | AF3: =DATE($A$1,10,31) -> 44135
A4: Reunion P Projet
A6: Reunion EJE
A8: Projets NVC
A10: Art et Tout petit
A12: Reunion Institutionnelle

Sheet NOVEMBRE
A1: =JANVIER!$A$1 -> 2020
A2: vacances scolaire | B2: =CHOOSE(WEEKDAY(B$3,2),"L","M","M","J","V","S","D") -> D | C2: =CHOOSE(WEEKDAY(C$3,2),"L","M","M","J","V","S","D") -> L | D2: =CHOOSE(WEEKDAY(D$3,2),"L","M","M","J","V","S","D") -> M | E2: =CHOOSE(WEEKDAY(E$3,2),"L","M","M","J","V","S","D") -> M | F2: =CHOOSE(WEEKDAY(F$3,2),"L","M","M","J","V","S","D") -> J | G2: =CHOOSE(WEEKDAY(G$3,2),"L","M","M","J","V","S","D") -> V | H2: =CHOOSE(WEEKDAY(H$3,2),"L","M","M","J","V","S","D") -> S | I2: =CHOOSE(WEEKDAY(I$3,2),"L","M","M","J","V","S","D") -> D | ... AE2: =CHOOSE(WEEKDAY(AE$3,2),"L","M","M","J","V","S","D") -> L
B3: =DATE($A$1,11,1) -> 44136 | C3: =DATE($A$1,11,2) -> 44137 | D3: =DATE($A$1,11,3) -> 44138 | E3: =DATE($A$1,11,4) -> 44139 | F3: =DATE($A$1,11,5) -> 44140 | G3: =DATE($A$1,11,6) -> 44141 | H3: =DATE($A$1,11,7) -> 44142 | I3: =DATE($A$1,11,8) -> 44143 | J3: =DATE($A$1,11,9) -> 44144 | K3: =DATE($A$1,11,10) -> 44145 | L3: =DATE($A$1,11,11) -> 44146 | M3: =DATE($A$1,11,12) -> 44147 | N3: =DATE($A$1,11,13) -> 44148 | O3: =DATE($A$1,11,14) -> 44149 | P3: =DATE($A$1,11,15) -> 44150 | Q3: =DATE($A$1,11,16) -> 44151 | R3: =DATE($A$1,11,17) -> 44152 | S3: =DATE($A$1,11,18) -> 44153 | T3: =DATE($A$1,11,19) -> 44154 | U3: =DATE($A$1,11,20) -> 44155 | V3: =DATE($A$1,11,21) -> 44156 | W3: =DATE($A$1,11,22) -> 44157 | X3: =DATE($A$1,11,23) -> 44158 | Y3: =DATE($A$1,11,24) -> 44159 | Z3: =DATE($A$1,11,25) -> 44160 | AA3: =DATE($A$1,11,26) -> 44161 | AB3: =DATE($A$1,11,27) -> 44162 | AC3: =DATE($A$1,11,28) -> 44163 | AD3: =DATE($A$1,11,29) -> 44164 | AE3: =DATE($A$1,11,30) -> 44165
A4: Reunion P Projet
A6: Reunion EJE
A8: Projets NVC
A10: Art et Tout petit
A12: Reunion Institutionnelle

Sheet DECEMBRE
A1: =JANVIER!$A$1 -> 2020
A2: vacances scolaire | B2: =CHOOSE(WEEKDAY(B$3,2),"L","M","M","J","V","S","D") -> M | C2: =CHOOSE(WEEKDAY(C$3,2),"L","M","M","J","V","S","D") -> M | D2: =CHOOSE(WEEKDAY(D$3,2),"L","M","M","J","V","S","D") -> J | E2: =CHOOSE(WEEKDAY(E$3,2),"L","M","M","J","V","S","D") -> V | F2: =CHOOSE(WEEKDAY(F$3,2),"L","M","M","J","V","S","D") -> S | G2: =CHOOSE(WEEKDAY(G$3,2),"L","M","M","J","V","S","D") -> D | H2: =CHOOSE(WEEKDAY(H$3,2),"L","M","M","J","V","S","D") -> L | I2: =CHOOSE(WEEKDAY(I$3,2),"L","M","M","J","V","S","D") -> M | ... AF2: =CHOOSE(WEEKDAY(AF$3,2),"L","M","M","J","V","S","D") -> J
B3: =DATE($A$1,12,1) -> 44166 | C3: =DATE($A$1,12,2) -> 44167 | D3: =DATE($A$1,12,3) -> 44168 | E3: =DATE($A$1,12,4) -> 44169 | F3: =DATE($A$1,12,5) -> 44170 | G3: =DATE($A$1,12,6) -> 44171 | H3: =DATE($A$1,12,7) -> 44172 | I3: =DATE($A$1,12,8) -> 44173 | J3: =DATE($A$1,12,9) -> 44174 | K3: =DATE($A$1,12,10) -> 44175 | L3: =DATE($A$1,12,11) -> 44176 | M3: =DATE($A$1,12,12) -> 44177 | N3: =DATE($A$1,12,13) -> 44178 | O3: =DATE($A$1,12,14) -> 44179 | P3: =DATE($A$1,12,15) -> 44180 | Q3: =DATE($A$1,12,16) -> 44181 | R3: =DATE($A$1,12,17) -> 44182 | S3: =DATE($A$1,12,18) -> 44183 | T3: =DATE($A$1,12,19) -> 44184 | U3: =DATE($A$1,12,20) -> 44185 | V3: =DATE($A$1,12,21) -> 44186 | W3: =DATE($A$1,12,22) -> 44187 | X3: =DATE($A$1,12,23) -> 44188 | Y3: =DATE($A$1,12,24) -> 44189 | Z3: =DATE($A$1,12,25) -> 44190 | AA3: =DATE($A$1,12,26) -> 44191 | AB3: =DATE($A$1,12,27) -> 44192 | AC3: =DATE($A$1,12,28) -> 44193 | AD3: =DATE($A$1,12,29) -> 44194 | AE3: =DATE($A$1,12,30) -> 44195 | AF3: =DATE($A$1,12,31) -> 44196
A4: Reunion P Projet
A6: Reunion EJE
A8: Projets NVC
A10: Art et Tout petit
A12: Reunion Institutionnelle

Sheet RECAP
B1: 1 | C1: 1 | D1: 1 | E1: 1 | F1: 1 | G1: 1 | H1: 1 | Q1: 2 | R1: 2 | S1: 2 | T1: 2 | U1: 2 | V1: 2 | W1: 2 | AF1: 3 | AG1: 3 | AH1: 3 | AI1: 3 | AJ1: 3 | AK1: 3 | AL1: 3 | AU1: 4 | AV1: 4 | AW1: 4 | AX1: 4 | AY1: 4 | AZ1: 4 | BA1: 4
B2: =WEEKDAY(DATE(JANVIER!$A$1,B1,1),2) -> 3 | C2: =WEEKDAY(DATE(JANVIER!$A$1,C1,1),2) -> 3 | D2: =WEEKDAY(DATE(JANVIER!$A$1,D1,1),2) -> 3 | E2: =WEEKDAY(DATE(JANVIER!$A$1,E1,1),2) -> 3 | F2: =WEEKDAY(DATE(JANVIER!$A$1,F1,1),2) -> 3 | G2: =WEEKDAY(DATE(JANVIER!$A$1,G1,1),2) -> 3 | H2: =WEEKDAY(DATE(JANVIER!$A$1,H1,1),2) -> 3 | Q2: =WEEKDAY(DATE(JANVIER!$A$1,Q1,1),2) -> 6 | R2: =WEEKDAY(DATE(JANVIER!$A$1,R1,1),2) -> 6 | S2: =WEEKDAY(DATE(JANVIER!$A$1,S1,1),2) -> 6 | T2: =WEEKDAY(DATE(JANVIER!$A$1,T1,1),2) -> 6 | U2: =WEEKDAY(DATE(JANVIER!$A$1,U1,1),2) -> 6 | V2: =WEEKDAY(DATE(JANVIER!$A$1,V1,1),2) -> 6 | W2: =WEEKDAY(DATE(JANVIER!$A$1,W1,1),2) -> 6 | AF2: =WEEKDAY(DATE(JANVIER!$A$1,AF1,1),2) -> 7 | AG2: =WEEKDAY(DATE(JANVIER!$A$1,AG1,1),2) -> 7 | AH2: =WEEKDAY(DATE(JANVIER!$A$1,AH1,1),2) -> 7 | AI2: =WEEKDAY(DATE(JANVIER!$A$1,AI1,1),2) -> 7 | AJ2: =WEEKDAY(DATE(JANVIER!$A$1,AJ1,1),2) -> 7 | AK2: =WEEKDAY(DATE(JANVIER!$A$1,AK1,1),2) -> 7 | AL2: =WEEKDAY(DATE(JANVIER!$A$1,AL1,1),2) -> 7 | AU2: =WEEKDAY(DATE(JANVIER!$A$1,AU1,1),2) -> 3 | AV2: =WEEKDAY(DATE(JANVIER!$A$1,AV1,1),2) -> 3 | AW2: =WEEKDAY(DATE(JANVIER!$A$1,AW1,1),2) -> 3 | AX2: =WEEKDAY(DATE(JANVIER!$A$1,AX1,1),2) -> 3 | AY2: =WEEKDAY(DATE(JANVIER!$A$1,AY1,1),2) -> 3 | AZ2: =WEEKDAY(DATE(JANVIER!$A$1,AZ1,1),2) -> 3 | BA2: =WEEKDAY(DATE(JANVIER!$A$1,BA1,1),2) -> 3
B3: 1 | C3: 2 | D3: 3 | E3: 4 | F3: 5 | G3: 6 | H3: 7 | Q3: 1 | R3: 2 | S3: 3 | T3: 4 | U3: 5 | V3: 6 | W3: 7 | AF3: 1 | AG3: 2 | AH3: 3 | AI3: 4 | AJ3: 5 | AK3: 6 | AL3: 7 | AU3: 1 | AV3: 2 | AW3: 3 | AX3: 4 | AY3: 5 | AZ3: 6 | BA3: 7
B6: L | C6: M | D6: M | E6: J | F6: V | G6: S | H6: D | Q6: L | R6: M | S6: M | T6: J | U6: V | V6: S | W6: D | AF6: L | AG6: M | AH6: M | AI6: J | AJ6: V | AK6: S | AL6: D | AU6: L | AV6: M | AW6: M | AX6: J | AY6: V | AZ6: S | BA6: D
B7: =IFERROR(IF(AND(A7="",B3=B2,ISNUMBER(H6)=FALSE,ISNUMBER(B6)=FALSE,B6<>""),DATE(JANVIER!$A$1,B1,1),IF(AND(A7<>"",MONTH(A7+1)=MONTH(A7)),A7+1,IF(AND(H6<>"",MONTH(H6+1)=MONTH(H6)),H6+1,""))),"") | C7: =IFERROR(IF(AND(B7="",C3=C2,ISNUMBER(I6)=FALSE,ISNUMBER(C6)=FALSE,C6<>""),DATE(JANVIER!$A$1,C1,1),IF(AND(B7<>"",MONTH(B7+1)=MONTH(B7)),B7+1,IF(AND(I6<>"",MONTH(I6+1)=MONTH(I6)),I6+1,""))),"") | D7: =IFERROR(IF(AND(C7="",D3=D2,ISNUMBER(J6)=FALSE,ISNUMBER(D6)=FALSE,D6<>""),DATE(JANVIER!$A$1,D1,1),IF(AND(C7<>"",MONTH(C7+1)=MONTH(C7)),C7+1,IF(AND(J6<>"",MONTH(J6+1)=MONTH(J6)),J6+1,""))),"") -> 43831 | E7: =IFERROR(IF(AND(D7="",E3=E2,ISNUMBER(K6)=FALSE,ISNUMBER(E6)=FALSE,E6<>""),DATE(JANVIER!$A$1,E1,1),IF(AND(D7<>"",MONTH(D7+1)=MONTH(D7)),D7+1,IF(AND(K6<>"",MONTH(K6+1)=MONTH(K6)),K6+1,""))),"") -> 43832 | F7: =IFERROR(IF(AND(E7="",F3=F2,ISNUMBER(L6)=FALSE,ISNUMBER(F6)=FALSE,F6<>""),DATE(JANVIER!$A$1,F1,1),IF(AND(E7<>"",MONTH(E7+1)=MONTH(E7)),E7+1,IF(AND(L6<>"",MONTH(L6+1)=MONTH(L6)),L6+1,""))),"") -> 43833 | G7: =IFERROR(IF(AND(F7="",G3=G2,ISNUMBER(M6)=FALSE,ISNUMBER(G6)=FALSE,G6<>""),DATE(JANVIER!$A$1,G1,1),IF(AND(F7<>"",MONTH(F7+1)=MONTH(F7)),F7+1,IF(AND(M6<>"",MONTH(M6+1)=MONTH(M6)),M6+1,""))),"") -> 43834 | H7: =IFERROR(IF(AND(G7="",H3=H2,ISNUMBER(N6)=FALSE,ISNUMBER(H6)=FALSE,H6<>""),DATE(JANVIER!$A$1,H1,1),IF(AND(G7<>"",MONTH(G7+1)=MONTH(G7)),G7+1,IF(AND(N6<>"",MONTH(N6+1)=MONTH(N6)),N6+1,""))),"") -> 43835 | Q7: =IFERROR(IF(AND(P7="",Q3=Q2,ISNUMBER(W6)=FALSE,ISNUMBER(Q6)=FALSE,Q6<>""),DATE(JANVIER!$A$1,Q1,1),IF(AND(P7<>"",MONTH(P7+1)=MONTH(P7)),P7+1,IF(AND(W6<>"",MONTH(W6+1)=MONTH(W6)),W6+1,""))),"") | R7: =IFERROR(IF(AND(Q7="",R3=R2,ISNUMBER(X6)=FALSE,ISNUMBER(R6)=FALSE,R6<>""),DATE(JANVIER!$A$1,R1,1),IF(AND(Q7<>"",MONTH(Q7+1)=MONTH(Q7)),Q7+1,IF(AND(X6<>"",MONTH(X6+1)=MONTH(X6)),X6+1,""))),"") | S7: =IFERROR(IF(AND(R7="",S3=S2,ISNUMBER(Y6)=FALSE,ISNUMBER(S6)=FALSE,S6<>""),DATE(JANVIER!$A$1,S1,1),IF(AND(R7<>"",MONTH(R7+1)=MONTH(R7)),R7+1,IF(AND(Y6<>"",MONTH(Y6+1)=MONTH(Y6)),Y6+1,""))),"") | T7: =IFERROR(IF(AND(S7="",T3=T2,ISNUMBER(Z6)=FALSE,ISNUMBER(T6)=FALSE,T6<>""),DATE(JANVIER!$A$1,T1,1),IF(AND(S7<>"",MONTH(S7+1)=MONTH(S7)),S7+1,IF(AND(Z6<>"",MONTH(Z6+1)=MONTH(Z6)),Z6+1,""))),"") | U7: =IFERROR(IF(AND(T7="",U3=U2,ISNUMBER(AA6)=FALSE,ISNUMBER(U6)=FALSE,U6<>""),DATE(JANVIER!$A$1,U1,1),IF(AND(T7<>"",MONTH(T7+1)=MONTH(T7)),T7+1,IF(AND(AA6<>"",MONTH(AA6+1)=MONTH(AA6)),AA6+1,""))),"") | V7: =IFERROR(IF(AND(U7="",V3=V2,ISNUMBER(AB6)=FALSE,ISNUMBER(V6)=FALSE,V6<>""),DATE(JANVIER!$A$1,V1,1),IF(AND(U7<>"",MONTH(U7+1)=MONTH(U7)),U7+1,IF(AND(AB6<>"",MONTH(AB6+1)=MONTH(AB6)),AB6+1,""))),"") -> 43862 | W7: =IFERROR(IF(AND(V7="",W3=W2,ISNUMBER(AC6)=FALSE,ISNUMBER(W6)=FALSE,W6<>""),DATE(JANVIER!$A$1,W1,1),IF(AND(V7<>"",MONTH(V7+1)=MONTH(V7)),V7+1,IF(AND(AC6<>"",MONTH(AC6+1)=MONTH(AC6)),AC6+1,""))),"") -> 43863 | AF7: =IFERROR(IF(AND(AE7="",AF3=AF2,ISNUMBER(AL6)=FALSE,ISNUMBER(AF6)=FALSE,AF6<>""),DATE(JANVIER!$A$1,AF1,1),IF(AND(AE7<>"",MONTH(AE7+1)=MONTH(AE7)),AE7+1,IF(AND(AL6<>"",MONTH(AL6+1)=MONTH(AL6)),AL6+1,""))),"") | AG7: =IFERROR(IF(AND(AF7="",AG3=AG2,ISNUMBER(AM6)=FALSE,ISNUMBER(AG6)=FALSE,AG6<>""),DATE(JANVIER!$A$1,AG1,1),IF(AND(AF7<>"",MONTH(AF7+1)=MONTH(AF7)),AF7+1,IF(AND(AM6<>"",MONTH(AM6+1)=MONTH(AM6)),AM6+1,""))),"") | AH7: =IFERROR(IF(AND(AG7="",AH3=AH2,ISNUMBER(AN6)=FALSE,ISNUMBER(AH6)=FALSE,AH6<>""),DATE(JANVIER!$A$1,AH1,1),IF(AND(AG7<>"",MONTH(AG7+1)=MONTH(AG7)),AG7+1,IF(AND(AN6<>"",MONTH(AN6+1)=MONTH(AN6)),AN6+1,""))),"") | AI7: =IFERROR(IF(AND(AH7="",AI3=AI2,ISNUMBER(AO6)=FALSE,ISNUMBER(AI6)=FALSE,AI6<>""),DATE(JANVIER!$A$1,AI1,1),IF(AND(AH7<>"",MONTH(AH7+1)=MONTH(AH7)),AH7+1,IF(AND(AO6<>"",MONTH(AO6+1)=MONTH(AO6)),AO6+1,""))),"") | AJ7: =IFERROR(IF(AND(AI7="",AJ3=AJ2,ISNUMBER(AP6)=FALSE,ISNUMBER(AJ6)=FALSE,AJ6<>""),DATE(JANVIER!$A$1,AJ1,1),IF(AND(AI7<>"",MONTH(AI7+1)=MONTH(AI7)),AI7+1,IF(AND(AP6<>"",MONTH(AP6+1)=MONTH(AP6)),AP6+1,""))),"") | AK7: =IFERROR(IF(AND(AJ7="",AK3=AK2,ISNUMBER(AQ6)=FALSE,ISNUMBER(AK6)=FALSE,AK6<>""),DATE(JANVIER!$A$1,AK1,1),IF(AND(AJ7<>"",MONTH(AJ7+1)=MONTH(AJ7)),AJ7+1,IF(AND(AQ6<>"",MONTH(AQ6+1)=MONTH(AQ6)),AQ6+1,""))),"") | AL7: =IFERROR(IF(AND(AK7="",AL3=AL2,ISNUMBER(AR6)=FALSE,ISNUMBER(AL6)=FALSE,AL6<>""),DATE(JANVIER!$A$1,AL1,1),IF(AND(AK7<>"",MONTH(AK7+1)=MONTH(AK7)),AK7+1,IF(AND(AR6<>"",MONTH(AR6+1)=MONTH(AR6)),AR6+1,""))),"") -> 43891 | AU7: =IFERROR(IF(AND(AT7="",AU3=AU2,ISNUMBER(BA6)=FALSE,ISNUMBER(AU6)=FALSE,AU6<>""),DATE(JANVIER!$A$1,AU1,1),IF(AND(AT7<>"",MONTH(AT7+1)=MONTH(AT7)),AT7+1,IF(AND(BA6<>"",MONTH(BA6+1)=MONTH(BA6)),BA6+1,""))),"") | AV7: =IFERROR(IF(AND(AU7="",AV3=AV2,ISNUMBER(BB6)=FALSE,ISNUMBER(AV6)=FALSE,AV6<>""),DATE(JANVIER!$A$1,AV1,1),IF(AND(AU7<>"",MONTH(AU7+1)=MONTH(AU7)),AU7+1,IF(AND(BB6<>"",MONTH(BB6+1)=MONTH(BB6)),BB6+1,""))),"") | AW7: =IFERROR(IF(AND(AV7="",AW3=AW2,ISNUMBER(BC6)=FALSE,ISNUMBER(AW6)=FALSE,AW6<>""),DATE(JANVIER!$A$1,AW1,1),IF(AND(AV7<>"",MONTH(AV7+1)=MONTH(AV7)),AV7+1,IF(AND(BC6<>"",MONTH(BC6+1)=MONTH(BC6)),BC6+1,""))),"") -> 43922 | AX7: =IFERROR(IF(AND(AW7="",AX3=AX2,ISNUMBER(BD6)=FALSE,ISNUMBER(AX6)=FALSE,AX6<>""),DATE(JANVIER!$A$1,AX1,1),IF(AND(AW7<>"",MONTH(AW7+1)=MONTH(AW7)),AW7+1,IF(AND(BD6<>"",MONTH(BD6+1)=MONTH(BD6)),BD6+1,""))),"") -> 43923 | AY7: =IFERROR(IF(AND(AX7="",AY3=AY2,ISNUMBER(BE6)=FALSE,ISNUMBER(AY6)=FALSE,AY6<>""),DATE(JANVIER!$A$1,AY1,1),IF(AND(AX7<>"",MONTH(AX7+1)=MONTH(AX7)),AX7+1,IF(AND(BE6<>"",MONTH(BE6+1)=MONTH(BE6)),BE6+1,""))),"") -> 43924 | AZ7: =IFERROR(IF(AND(AY7="",AZ3=AZ2,ISNUMBER(BF6)=FALSE,ISNUMBER(AZ6)=FALSE,AZ6<>""),DATE(JANVIER!$A$1,AZ1,1),IF(AND(AY7<>"",MONTH(AY7+1)=MONTH(AY7)),AY7+1,IF(AND(BF6<>"",MONTH(BF6+1)=MONTH(BF6)),BF6+1,""))),"") -> 43925 | BA7: =IFERROR(IF(AND(AZ7="",BA3=BA2,ISNUMBER(BG6)=FALSE,ISNUMBER(BA6)=FALSE,BA6<>""),DATE(JANVIER!$A$1,BA1,1),IF(AND(AZ7<>"",MONTH(AZ7+1)=MONTH(AZ7)),AZ7+1,IF(AND(BG6<>"",MONTH(BG6+1)=MONTH(BG6)),BG6+1,""))),"") -> 43926
B8: =IFERROR(IF(AND(A8="",B4=B3,ISNUMBER(H7)=FALSE,ISNUMBER(B7)=FALSE,B7<>""),DATE(JANVIER!$A$1,B2,1),IF(AND(A8<>"",MONTH(A8+1)=MONTH(A8)),A8+1,IF(AND(H7<>"",MONTH(H7+1)=MONTH(H7)),H7+1,""))),"") -> 43836 | C8: =IFERROR(IF(AND(B8="",C4=C3,ISNUMBER(I7)=FALSE,ISNUMBER(C7)=FALSE,C7<>""),DATE(JANVIER!$A$1,C2,1),IF(AND(B8<>"",MONTH(B8+1)=MONTH(B8)),B8+1,IF(AND(I7<>"",MONTH(I7+1)=MONTH(I7)),I7+1,""))),"") -> 43837 | D8: =IFERROR(IF(AND(C8="",D4=D3,ISNUMBER(J7)=FALSE,ISNUMBER(D7)=FALSE,D7<>""),DATE(JANVIER!$A$1,D2,1),IF(AND(C8<>"",MONTH(C8+1)=MONTH(C8)),C8+1,IF(AND(J7<>"",MONTH(J7+1)=MONTH(J7)),J7+1,""))),"") -> 43838 | E8: =IFERROR(IF(AND(D8="",E4=E3,ISNUMBER(K7)=FALSE,ISNUMBER(E7)=FALSE,E7<>""),DATE(JANVIER!$A$1,E2,1),IF(AND(D8<>"",MONTH(D8+1)=MONTH(D8)),D8+1,IF(AND(K7<>"",MONTH(K7+1)=MONTH(K7)),K7+1,""))),"") -> 43839 | F8: =IFERROR(IF(AND(E8="",F4=F3,ISNUMBER(L7)=FALSE,ISNUMBER(F7)=FALSE,F7<>""),DATE(JANVIER!$A$1,F2,1),IF(AND(E8<>"",MONTH(E8+1)=MONTH(E8)),E8+1,IF(AND(L7<>"",MONTH(L7+1)=MONTH(L7)),L7+1,""))),"") -> 43840 | G8: =IFERROR(IF(AND(F8="",G4=G3,ISNUMBER(M7)=FALSE,ISNUMBER(G7)=FALSE,G7<>""),DATE(JANVIER!$A$1,G2,1),IF(AND(F8<>"",MONTH(F8+1)=MONTH(F8)),F8+1,IF(AND(M7<>"",MONTH(M7+1)=MONTH(M7)),M7+1,""))),"") -> 43841 | H8: =IFERROR(IF(AND(G8="",H4=H3,ISNUMBER(N7)=FALSE,ISNUMBER(H7)=FALSE,H7<>""),DATE(JANVIER!$A$1,H2,1),IF(AND(G8<>"",MONTH(G8+1)=MONTH(G8)),G8+1,IF(AND(N7<>"",MONTH(N7+1)=MONTH(N7)),N7+1,""))),"") -> 43842 | Q8: =IFERROR(IF(AND(P8="",Q4=Q3,ISNUMBER(W7)=FALSE,ISNUMBER(Q7)=FALSE,Q7<>""),DATE(JANVIER!$A$1,Q2,1),IF(AND(P8<>"",MONTH(P8+1)=MONTH(P8)),P8+1,IF(AND(W7<>"",MONTH(W7+1)=MONTH(W7)),W7+1,""))),"") -> 43864 | R8: =IFERROR(IF(AND(Q8="",R4=R3,ISNUMBER(X7)=FALSE,ISNUMBER(R7)=FALSE,R7<>""),DATE(JANVIER!$A$1,R2,1),IF(AND(Q8<>"",MONTH(Q8+1)=MONTH(Q8)),Q8+1,IF(AND(X7<>"",MONTH(X7+1)=MONTH(X7)),X7+1,""))),"") -> 43865 | S8: =IFERROR(IF(AND(R8="",S4=S3,ISNUMBER(Y7)=FALSE,ISNUMBER(S7)=FALSE,S7<>""),DATE(JANVIER!$A$1,S2,1),IF(AND(R8<>"",MONTH(R8+1)=MONTH(R8)),R8+1,IF(AND(Y7<>"",MONTH(Y7+1)=MONTH(Y7)),Y7+1,""))),"") -> 43866 | T8: =IFERROR(IF(AND(S8="",T4=T3,ISNUMBER(Z7)=FALSE,ISNUMBER(T7)=FALSE,T7<>""),DATE(JANVIER!$A$1,T2,1),IF(AND(S8<>"",MONTH(S8+1)=MONTH(S8)),S8+1,IF(AND(Z7<>"",MONTH(Z7+1)=MONTH(Z7)),Z7+1,""))),"") -> 43867 | U8: =IFERROR(IF(AND(T8="",U4=U3,ISNUMBER(AA7)=FALSE,ISNUMBER(U7)=FALSE,U7<>""),DATE(JANVIER!$A$1,U2,1),IF(AND(T8<>"",MONTH(T8+1)=MONTH(T8)),T8+1,IF(AND(AA7<>"",MONTH(AA7+1)=MONTH(AA7)),AA7+1,""))),"") -> 43868 | V8: =IFERROR(IF(AND(U8="",V4=V3,ISNUMBER(AB7)=FALSE,ISNUMBER(V7)=FALSE,V7<>""),DATE(JANVIER!$A$1,V2,1),IF(AND(U8<>"",MONTH(U8+1)=MONTH(U8)),U8+1,IF(AND(AB7<>"",MONTH(AB7+1)=MONTH(AB7)),AB7+1,""))),"") -> 43869 | W8: =IFERROR(IF(AND(V8="",W4=W3,ISNUMBER(AC7)=FALSE,ISNUMBER(W7)=FALSE,W7<>""),DATE(JANVIER!$A$1,W2,1),IF(AND(V8<>"",MONTH(V8+1)=MONTH(V8)),V8+1,IF(AND(AC7<>"",MONTH(AC7+1)=MONTH(AC7)),AC7+1,""))),"") -> 43870 | AF8: =IFERROR(IF(AND(AE8="",AF4=AF3,ISNUMBER(AL7)=FALSE,ISNUMBER(AF7)=FALSE,AF7<>""),DATE(JANVIER!$A$1,AF2,1),IF(AND(AE8<>"",MONTH(AE8+1)=MONTH(AE8)),AE8+1,IF(AND(AL7<>"",MONTH(AL7+1)=MONTH(AL7)),AL7+1,""))),"") -> 43892 | AG8: =IFERROR(IF(AND(AF8="",AG4=AG3,ISNUMBER(AM7)=FALSE,ISNUMBER(AG7)=FALSE,AG7<>""),DATE(JANVIER!$A$1,AG2,1),IF(AND(AF8<>"",MONTH(AF8+1)=MONTH(AF8)),AF8+1,IF(AND(AM7<>"",MONTH(AM7+1)=MONTH(AM7)),AM7+1,""))),"") -> 43893 | AH8: =IFERROR(IF(AND(AG8="",AH4=AH3,ISNUMBER(AN7)=FALSE,ISNUMBER(AH7)=FALSE,AH7<>""),DATE(JANVIER!$A$1,AH2,1),IF(AND(AG8<>"",MONTH(AG8+1)=MONTH(AG8)),AG8+1,IF(AND(AN7<>"",MONTH(AN7+1)=MONTH(AN7)),AN7+1,""))),"") -> 43894 | AI8: =IFERROR(IF(AND(AH8="",AI4=AI3,ISNUMBER(AO7)=FALSE,ISNUMBER(AI7)=FALSE,AI7<>""),DATE(JANVIER!$A$1,AI2,1),IF(AND(AH8<>"",MONTH(AH8+1)=MONTH(AH8)),AH8+1,IF(AND(AO7<>"",MONTH(AO7+1)=MONTH(AO7)),AO7+1,""))),"") -> 43895 | AJ8: =IFERROR(IF(AND(AI8="",AJ4=AJ3,ISNUMBER(AP7)=FALSE,ISNUMBER(AJ7)=FALSE,AJ7<>""),DATE(JANVIER!$A$1,AJ2,1),IF(AND(AI8<>"",MONTH(AI8+1)=MONTH(AI8)),AI8+1,IF(AND(AP7<>"",MONTH(AP7+1)=MONTH(AP7)),AP7+1,""))),"") -> 43896 | AK8: =IFERROR(IF(AND(AJ8="",AK4=AK3,ISNUMBER(AQ7)=FALSE,ISNUMBER(AK7)=FALSE,AK7<>""),DATE(JANVIER!$A$1,AK2,1),IF(AND(AJ8<>"",MONTH(AJ8+1)=MONTH(AJ8)),AJ8+1,IF(AND(AQ7<>"",MONTH(AQ7+1)=MONTH(AQ7)),AQ7+1,""))),"") -> 43897 | AL8: =IFERROR(IF(AND(AK8="",AL4=AL3,ISNUMBER(AR7)=FALSE,ISNUMBER(AL7)=FALSE,AL7<>""),DATE(JANVIER!$A$1,AL2,1),IF(AND(AK8<>"",MONTH(AK8+1)=MONTH(AK8)),AK8+1,IF(AND(AR7<>"",MONTH(AR7+1)=MONTH(AR7)),AR7+1,""))),"") -> 43898 | AU8: =IFERROR(IF(AND(AT8="",AU4=AU3,ISNUMBER(BA7)=FALSE,ISNUMBER(AU7)=FALSE,AU7<>""),DATE(JANVIER!$A$1,AU2,1),IF(AND(AT8<>"",MONTH(AT8+1)=MONTH(AT8)),AT8+1,IF(AND(BA7<>"",MONTH(BA7+1)=MONTH(BA7)),BA7+1,""))),"") -> 43927 | AV8: =IFERROR(IF(AND(AU8="",AV4=AV3,ISNUMBER(BB7)=FALSE,ISNUMBER(AV7)=FALSE,AV7<>""),DATE(JANVIER!$A$1,AV2,1),IF(AND(AU8<>"",MONTH(AU8+1)=MONTH(AU8)),AU8+1,IF(AND(BB7<>"",MONTH(BB7+1)=MONTH(BB7)),BB7+1,""))),"") -> 43928 | AW8: =IFERROR(IF(AND(AV8="",AW4=AW3,ISNUMBER(BC7)=FALSE,ISNUMBER(AW7)=FALSE,AW7<>""),DATE(JANVIER!$A$1,AW2,1),IF(AND(AV8<>"",MONTH(AV8+1)=MONTH(AV8)),AV8+1,IF(AND(BC7<>"",MONTH(BC7+1)=MONTH(BC7)),BC7+1,""))),"") -> 43929 | AX8: =IFERROR(IF(AND(AW8="",AX4=AX3,ISNUMBER(BD7)=FALSE,ISNUMBER(AX7)=FALSE,AX7<>""),DATE(JANVIER!$A$1,AX2,1),IF(AND(AW8<>"",MONTH(AW8+1)=MONTH(AW8)),AW8+1,IF(AND(BD7<>"",MONTH(BD7+1)=MONTH(BD7)),BD7+1,""))),"") -> 43930 | AY8: =IFERROR(IF(AND(AX8="",AY4=AY3,ISNUMBER(BE7)=FALSE,ISNUMBER(AY7)=FALSE,AY7<>""),DATE(JANVIER!$A$1,AY2,1),IF(AND(AX8<>"",MONTH(AX8+1)=MONTH(AX8)),AX8+1,IF(AND(BE7<>"",MONTH(BE7+1)=MONTH(BE7)),BE7+1,""))),"") -> 43931 | AZ8: =IFERROR(IF(AND(AY8="",AZ4=AZ3,ISNUMBER(BF7)=FALSE,ISNUMBER(AZ7)=FALSE,AZ7<>""),DATE(JANVIER!$A$1,AZ2,1),IF(AND(AY8<>"",MONTH(AY8+1)=MONTH(AY8)),AY8+1,IF(AND(BF7<>"",MONTH(BF7+1)=MONTH(BF7)),BF7+1,""))),"") -> 43932 | BA8: =IFERROR(IF(AND(AZ8="",BA4=BA3,ISNUMBER(BG7)=FALSE,ISNUMBER(BA7)=FALSE,BA7<>""),DATE(JANVIER!$A$1,BA2,1),IF(AND(AZ8<>"",MONTH(AZ8+1)=MONTH(AZ8)),AZ8+1,IF(AND(BG7<>"",MONTH(BG7+1)=MONTH(BG7)),BG7+1,""))),"") -> 43933
B9: =IFERROR(IF(AND(A9="",B5=B4,ISNUMBER(H8)=FALSE,ISNUMBER(B8)=FALSE,B8<>""),DATE(JANVIER!$A$1,B3,1),IF(AND(A9<>"",MONTH(A9+1)=MONTH(A9)),A9+1,IF(AND(H8<>"",MONTH(H8+1)=MONTH(H8)),H8+1,""))),"") -> 43843 | C9: =IFERROR(IF(AND(B9="",C5=C4,ISNUMBER(I8)=FALSE,ISNUMBER(C8)=FALSE,C8<>""),DATE(JANVIER!$A$1,C3,1),IF(AND(B9<>"",MONTH(B9+1)=MONTH(B9)),B9+1,IF(AND(I8<>"",MONTH(I8+1)=MONTH(I8)),I8+1,""))),"") -> 43844 | D9: =IFERROR(IF(AND(C9="",D5=D4,ISNUMBER(J8)=FALSE,ISNUMBER(D8)=FALSE,D8<>""),DATE(JANVIER!$A$1,D3,1),IF(AND(C9<>"",MONTH(C9+1)=MONTH(C9)),C9+1,IF(AND(J8<>"",MONTH(J8+1)=MONTH(J8)),J8+1,""))),"") -> 43845 | E9: =IFERROR(IF(AND(D9="",E5=E4,ISNUMBER(K8)=FALSE,ISNUMBER(E8)=FALSE,E8<>""),DATE(JANVIER!$A$1,E3,1),IF(AND(D9<>"",MONTH(D9+1)=MONTH(D9)),D9+1,IF(AND(K8<>"",MONTH(K8+1)=MONTH(K8)),K8+1,""))),"") -> 43846 | F9: =IFERROR(IF(AND(E9="",F5=F4,ISNUMBER(L8)=FALSE,ISNUMBER(F8)=FALSE,F8<>""),DATE(JANVIER!$A$1,F3,1),IF(AND(E9<>"",MONTH(E9+1)=MONTH(E9)),E9+1,IF(AND(L8<>"",MONTH(L8+1)=MONTH(L8)),L8+1,""))),"") -> 43847 | G9: =IFERROR(IF(AND(F9="",G5=G4,ISNUMBER(M8)=FALSE,ISNUMBER(G8)=FALSE,G8<>""),DATE(JANVIER!$A$1,G3,1),IF(AND(F9<>"",MONTH(F9+1)=MONTH(F9)),F9+1,IF(AND(M8<>"",MONTH(M8+1)=MONTH(M8)),M8+1,""))),"") -> 43848 | H9: =IFERROR(IF(AND(G9="",H5=H4,ISNUMBER(N8)=FALSE,ISNUMBER(H8)=FALSE,H8<>""),DATE(JANVIER!$A$1,H3,1),IF(AND(G9<>"",MONTH(G9+1)=MONTH(G9)),G9+1,IF(AND(N8<>"",MONTH(N8+1)=MONTH(N8)),N8+1,""))),"") -> 43849 | Q9: =IFERROR(IF(AND(P9="",Q5=Q4,ISNUMBER(W8)=FALSE,ISNUMBER(Q8)=FALSE,Q8<>""),DATE(JANVIER!$A$1,Q3,1),IF(AND(P9<>"",MONTH(P9+1)=MONTH(P9)),P9+1,IF(AND(W8<>"",MONTH(W8+1)=MONTH(W8)),W8+1,""))),"") -> 43871 | R9: =IFERROR(IF(AND(Q9="",R5=R4,ISNUMBER(X8)=FALSE,ISNUMBER(R8)=FALSE,R8<>""),DATE(JANVIER!$A$1,R3,1),IF(AND(Q9<>"",MONTH(Q9+1)=MONTH(Q9)),Q9+1,IF(AND(X8<>"",MONTH(X8+1)=MONTH(X8)),X8+1,""))),"") -> 43872 | S9: =IFERROR(IF(AND(R9="",S5=S4,ISNUMBER(Y8)=FALSE,ISNUMBER(S8)=FALSE,S8<>""),DATE(JANVIER!$A$1,S3,1),IF(AND(R9<>"",MONTH(R9+1)=MONTH(R9)),R9+1,IF(AND(Y8<>"",MONTH(Y8+1)=MONTH(Y8)),Y8+1,""))),"") -> 43873 | T9: =IFERROR(IF(AND(S9="",T5=T4,ISNUMBER(Z8)=FALSE,ISNUMBER(T8)=FALSE,T8<>""),DATE(JANVIER!$A$1,T3,1),IF(AND(S9<>"",MONTH(S9+1)=MONTH(S9)),S9+1,IF(AND(Z8<>"",MONTH(Z8+1)=MONTH(Z8)),Z8+1,""))),"") -> 43874 | U9: =IFERROR(IF(AND(T9="",U5=U4,ISNUMBER(AA8)=FALSE,ISNUMBER(U8)=FALSE,U8<>""),DATE(JANVIER!$A$1,U3,1),IF(AND(T9<>"",MONTH(T9+1)=MONTH(T9)),T9+1,IF(AND(AA8<>"",MONTH(AA8+1)=MONTH(AA8)),AA8+1,""))),"") -> 43875 | V9: =IFERROR(IF(AND(U9="",V5=V4,ISNUMBER(AB8)=FALSE,ISNUMBER(V8)=FALSE,V8<>""),DATE(JANVIER!$A$1,V3,1),IF(AND(U9<>"",MONTH(U9+1)=MONTH(U9)),U9+1,IF(AND(AB8<>"",MONTH(AB8+1)=MONTH(AB8)),AB8+1,""))),"") -> 43876 | W9: =IFERROR(IF(AND(V9="",W5=W4,ISNUMBER(AC8)=FALSE,ISNUMBER(W8)=FALSE,W8<>""),DATE(JANVIER!$A$1,W3,1),IF(AND(V9<>"",MONTH(V9+1)=MONTH(V9)),V9+1,IF(AND(AC8<>"",MONTH(AC8+1)=MONTH(AC8)),AC8+1,""))),"") -> 43877 | AF9: =IFERROR(IF(AND(AE9="",AF5=AF4,ISNUMBER(AL8)=FALSE,ISNUMBER(AF8)=FALSE,AF8<>""),DATE(JANVIER!$A$1,AF3,1),IF(AND(AE9<>"",MONTH(AE9+1)=MONTH(AE9)),AE9+1,IF(AND(AL8<>"",MONTH(AL8+1)=MONTH(AL8)),AL8+1,""))),"") -> 43899 | AG9: =IFERROR(IF(AND(AF9="",AG5=AG4,ISNUMBER(AM8)=FALSE,ISNUMBER(AG8)=FALSE,AG8<>""),DATE(JANVIER!$A$1,AG3,1),IF(AND(AF9<>"",MONTH(AF9+1)=MONTH(AF9)),AF9+1,IF(AND(AM8<>"",MONTH(AM8+1)=MONTH(AM8)),AM8+1,""))),"") -> 43900 | AH9: =IFERROR(IF(AND(AG9="",AH5=AH4,ISNUMBER(AN8)=FALSE,ISNUMBER(AH8)=FALSE,AH8<>""),DATE(JANVIER!$A$1,AH3,1),IF(AND(AG9<>"",MONTH(AG9+1)=MONTH(AG9)),AG9+1,IF(AND(AN8<>"",MONTH(AN8+1)=MONTH(AN8)),AN8+1,""))),"") -> 43901 | AI9: =IFERROR(IF(AND(AH9="",AI5=AI4,ISNUMBER(AO8)=FALSE,ISNUMBER(AI8)=FALSE,AI8<>""),DATE(JANVIER!$A$1,AI3,1),IF(AND(AH9<>"",MONTH(AH9+1)=MONTH(AH9)),AH9+1,IF(AND(AO8<>"",MONTH(AO8+1)=MONTH(AO8)),AO8+1,""))),"") -> 43902 | AJ9: =IFERROR(IF(AND(AI9="",AJ5=AJ4,ISNUMBER(AP8)=FALSE,ISNUMBER(AJ8)=FALSE,AJ8<>""),DATE(JANVIER!$A$1,AJ3,1),IF(AND(AI9<>"",MONTH(AI9+1)=MONTH(AI9)),AI9+1,IF(AND(AP8<>"",MONTH(AP8+1)=MONTH(AP8)),AP8+1,""))),"") -> 43903 | AK9: =IFERROR(IF(AND(AJ9="",AK5=AK4,ISNUMBER(AQ8)=FALSE,ISNUMBER(AK8)=FALSE,AK8<>""),DATE(JANVIER!$A$1,AK3,1),IF(AND(AJ9<>"",MONTH(AJ9+1)=MONTH(AJ9)),AJ9+1,IF(AND(AQ8<>"",MONTH(AQ8+1)=MONTH(AQ8)),AQ8+1,""))),"") -> 43904 | AL9: =IFERROR(IF(AND(AK9="",AL5=AL4,ISNUMBER(AR8)=FALSE,ISNUMBER(AL8)=FALSE,AL8<>""),DATE(JANVIER!$A$1,AL3,1),IF(AND(AK9<>"",MONTH(AK9+1)=MONTH(AK9)),AK9+1,IF(AND(AR8<>"",MONTH(AR8+1)=MONTH(AR8)),AR8+1,""))),"") -> 43905 | AU9: =IFERROR(IF(AND(AT9="",AU5=AU4,ISNUMBER(BA8)=FALSE,ISNUMBER(AU8)=FALSE,AU8<>""),DATE(JANVIER!$A$1,AU3,1),IF(AND(AT9<>"",MONTH(AT9+1)=MONTH(AT9)),AT9+1,IF(AND(BA8<>"",MONTH(BA8+1)=MONTH(BA8)),BA8+1,""))),"") -> 43934 | AV9: =IFERROR(IF(AND(AU9="",AV5=AV4,ISNUMBER(BB8)=FALSE,ISNUMBER(AV8)=FALSE,AV8<>""),DATE(JANVIER!$A$1,AV3,1),IF(AND(AU9<>"",MONTH(AU9+1)=MONTH(AU9)),AU9+1,IF(AND(BB8<>"",MONTH(BB8+1)=MONTH(BB8)),BB8+1,""))),"") -> 43935 | AW9: =IFERROR(IF(AND(AV9="",AW5=AW4,ISNUMBER(BC8)=FALSE,ISNUMBER(AW8)=FALSE,AW8<>""),DATE(JANVIER!$A$1,AW3,1),IF(AND(AV9<>"",MONTH(AV9+1)=MONTH(AV9)),AV9+1,IF(AND(BC8<>"",MONTH(BC8+1)=MONTH(BC8)),BC8+1,""))),"") -> 43936 | AX9: =IFERROR(IF(AND(AW9="",AX5=AX4,ISNUMBER(BD8)=FALSE,ISNUMBER(AX8)=FALSE,AX8<>""),DATE(JANVIER!$A$1,AX3,1),IF(AND(AW9<>"",MONTH(AW9+1)=MONTH(AW9)),AW9+1,IF(AND(BD8<>"",MONTH(BD8+1)=MONTH(BD8)),BD8+1,""))),"") -> 43937 | AY9: =IFERROR(IF(AND(AX9="",AY5=AY4,ISNUMBER(BE8)=FALSE,ISNUMBER(AY8)=FALSE,AY8<>""),DATE(JANVIER!$A$1,AY3,1),IF(AND(AX9<>"",MONTH(AX9+1)=MONTH(AX9)),AX9+1,IF(AND(BE8<>"",MONTH(BE8+1)=MONTH(BE8)),BE8+1,""))),"") -> 43938 | AZ9: =IFERROR(IF(AND(AY9="",AZ5=AZ4,ISNUMBER(BF8)=FALSE,ISNUMBER(AZ8)=FALSE,AZ8<>""),DATE(JANVIER!$A$1,AZ3,1),IF(AND(AY9<>"",MONTH(AY9+1)=MONTH(AY9)),AY9+1,IF(AND(BF8<>"",MONTH(BF8+1)=MONTH(BF8)),BF8+1,""))),"") -> 43939 | BA9: =IFERROR(IF(AND(AZ9="",BA5=BA4,ISNUMBER(BG8)=FALSE,ISNUMBER(BA8)=FALSE,BA8<>""),DATE(JANVIER!$A$1,BA3,1),IF(AND(AZ9<>"",MONTH(AZ9+1)=MONTH(AZ9)),AZ9+1,IF(AND(BG8<>"",MONTH(BG8+1)=MONTH(BG8)),BG8+1,""))),"") -> 43940
B10: =IFERROR(IF(AND(A10="",B6=B5,ISNUMBER(H9)=FALSE,ISNUMBER(B9)=FALSE,B9<>""),DATE(JANVIER!$A$1,B4,1),IF(AND(A10<>"",MONTH(A10+1)=MONTH(A10)),A10+1,IF(AND(H9<>"",MONTH(H9+1)=MONTH(H9)),H9+1,""))),"") -> 43850 | C10: =IFERROR(IF(AND(B10="",C6=C5,ISNUMBER(I9)=FALSE,ISNUMBER(C9)=FALSE,C9<>""),DATE(JANVIER!$A$1,C4,1),IF(AND(B10<>"",MONTH(B10+1)=MONTH(B10)),B10+1,IF(AND(I9<>"",MONTH(I9+1)=MONTH(I9)),I9+1,""))),"") -> 43851 | D10: =IFERROR(IF(AND(C10="",D6=D5,ISNUMBER(J9)=FALSE,ISNUMBER(D9)=FALSE,D9<>""),DATE(JANVIER!$A$1,D4,1),IF(AND(C10<>"",MONTH(C10+1)=MONTH(C10)),C10+1,IF(AND(J9<>"",MONTH(J9+1)=MONTH(J9)),J9+1,""))),"") -> 43852 | E10: =IFERROR(IF(AND(D10="",E6=E5,ISNUMBER(K9)=FALSE,ISNUMBER(E9)=FALSE,E9<>""),DATE(JANVIER!$A$1,E4,1),IF(AND(D10<>"",MONTH(D10+1)=MONTH(D10)),D10+1,IF(AND(K9<>"",MONTH(K9+1)=MONTH(K9)),K9+1,""))),"") -> 43853 | F10: =IFERROR(IF(AND(E10="",F6=F5,ISNUMBER(L9)=FALSE,ISNUMBER(F9)=FALSE,F9<>""),DATE(JANVIER!$A$1,F4,1),IF(AND(E10<>"",MONTH(E10+1)=MONTH(E10)),E10+1,IF(AND(L9<>"",MONTH(L9+1)=MONTH(L9)),L9+1,""))),"") -> 43854 | G10: =IFERROR(IF(AND(F10="",G6=G5,ISNUMBER(M9)=FALSE,ISNUMBER(G9)=FALSE,G9<>""),DATE(JANVIER!$A$1,G4,1),IF(AND(F10<>"",MONTH(F10+1)=MONTH(F10)),F10+1,IF(AND(M9<>"",MONTH(M9+1)=MONTH(M9)),M9+1,""))),"") -> 43855 | H10: =IFERROR(IF(AND(G10="",H6=H5,ISNUMBER(N9)=FALSE,ISNUMBER(H9)=FALSE,H9<>""),DATE(JANVIER!$A$1,H4,1),IF(AND(G10<>"",MONTH(G10+1)=MONTH(G10)),G10+1,IF(AND(N9<>"",MONTH(N9+1)=MONTH(N9)),N9+1,""))),"") -> 43856 | Q10: =IFERROR(IF(AND(P10="",Q6=Q5,ISNUMBER(W9)=FALSE,ISNUMBER(Q9)=FALSE,Q9<>""),DATE(JANVIER!$A$1,Q4,1),IF(AND(P10<>"",MONTH(P10+1)=MONTH(P10)),P10+1,IF(AND(W9<>"",MONTH(W9+1)=MONTH(W9)),W9+1,""))),"") -> 43878 | R10: =IFERROR(IF(AND(Q10="",R6=R5,ISNUMBER(X9)=FALSE,ISNUMBER(R9)=FALSE,R9<>""),DATE(JANVIER!$A$1,R4,1),IF(AND(Q10<>"",MONTH(Q10+1)=MONTH(Q10)),Q10+1,IF(AND(X9<>"",MONTH(X9+1)=MONTH(X9)),X9+1,""))),"") -> 43879 | S10: =IFERROR(IF(AND(R10="",S6=S5,ISNUMBER(Y9)=FALSE,ISNUMBER(S9)=FALSE,S9<>""),DATE(JANVIER!$A$1,S4,1),IF(AND(R10<>"",MONTH(R10+1)=MONTH(R10)),R10+1,IF(AND(Y9<>"",MONTH(Y9+1)=MONTH(Y9)),Y9+1,""))),"") -> 43880 | T10: =IFERROR(IF(AND(S10="",T6=T5,ISNUMBER(Z9)=FALSE,ISNUMBER(T9)=FALSE,T9<>""),DATE(JANVIER!$A$1,T4,1),IF(AND(S10<>"",MONTH(S10+1)=MONTH(S10)),S10+1,IF(AND(Z9<>"",MONTH(Z9+1)=MONTH(Z9)),Z9+1,""))),"") -> 43881 | U10: =IFERROR(IF(AND(T10="",U6=U5,ISNUMBER(AA9)=FALSE,ISNUMBER(U9)=FALSE,U9<>""),DATE(JANVIER!$A$1,U4,1),IF(AND(T10<>"",MONTH(T10+1)=MONTH(T10)),T10+1,IF(AND(AA9<>"",MONTH(AA9+1)=MONTH(AA9)),AA9+1,""))),"") -> 43882 | V10: =IFERROR(IF(AND(U10="",V6=V5,ISNUMBER(AB9)=FALSE,ISNUMBER(V9)=FALSE,V9<>""),DATE(JANVIER!$A$1,V4,1),IF(AND(U10<>"",MONTH(U10+1)=MONTH(U10)),U10+1,IF(AND(AB9<>"",MONTH(AB9+1)=MONTH(AB9)),AB9+1,""))),"") -> 43883 | W10: =IFERROR(IF(AND(V10="",W6=W5,ISNUMBER(AC9)=FALSE,ISNUMBER(W9)=FALSE,W9<>""),DATE(JANVIER!$A$1,W4,1),IF(AND(V10<>"",MONTH(V10+1)=MONTH(V10)),V10+1,IF(AND(AC9<>"",MONTH(AC9+1)=MONTH(AC9)),AC9+1,""))),"") -> 43884 | AF10: =IFERROR(IF(AND(AE10="",AF6=AF5,ISNUMBER(AL9)=FALSE,ISNUMBER(AF9)=FALSE,AF9<>""),DATE(JANVIER!$A$1,AF4,1),IF(AND(AE10<>"",MONTH(AE10+1)=MONTH(AE10)),AE10+1,IF(AND(AL9<>"",MONTH(AL9+1)=MONTH(AL9)),AL9+1,""))),"") -> 43906 | AG10: =IFERROR(IF(AND(AF10="",AG6=AG5,ISNUMBER(AM9)=FALSE,ISNUMBER(AG9)=FALSE,AG9<>""),DATE(JANVIER!$A$1,AG4,1),IF(AND(AF10<>"",MONTH(AF10+1)=MONTH(AF10)),AF10+1,IF(AND(AM9<>"",MONTH(AM9+1)=MONTH(AM9)),AM9+1,""))),"") -> 43907 | AH10: =IFERROR(IF(AND(AG10="",AH6=AH5,ISNUMBER(AN9)=FALSE,ISNUMBER(AH9)=FALSE,AH9<>""),DATE(JANVIER!$A$1,AH4,1),IF(AND(AG10<>"",MONTH(AG10+1)=MONTH(AG10)),AG10+1,IF(AND(AN9<>"",MONTH(AN9+1)=MONTH(AN9)),AN9+1,""))),"") -> 43908 | AI10: =IFERROR(IF(AND(AH10="",AI6=AI5,ISNUMBER(AO9)=FALSE,ISNUMBER(AI9)=FALSE,AI9<>""),DATE(JANVIER!$A$1,AI4,1),IF(AND(AH10<>"",MONTH(AH10+1)=MONTH(AH10)),AH10+1,IF(AND(AO9<>"",MONTH(AO9+1)=MONTH(AO9)),AO9+1,""))),"") -> 43909 | AJ10: =IFERROR(IF(AND(AI10="",AJ6=AJ5,ISNUMBER(AP9)=FALSE,ISNUMBER(AJ9)=FALSE,AJ9<>""),DATE(JANVIER!$A$1,AJ4,1),IF(AND(AI10<>"",MONTH(AI10+1)=MONTH(AI10)),AI10+1,IF(AND(AP9<>"",MONTH(AP9+1)=MONTH(AP9)),AP9+1,""))),"") -> 43910 | AK10: =IFERROR(IF(AND(AJ10="",AK6=AK5,ISNUMBER(AQ9)=FALSE,ISNUMBER(AK9)=FALSE,AK9<>""),DATE(JANVIER!$A$1,AK4,1),IF(AND(AJ10<>"",MONTH(AJ10+1)=MONTH(AJ10)),AJ10+1,IF(AND(AQ9<>"",MONTH(AQ9+1)=MONTH(AQ9)),AQ9+1,""))),"") -> 43911 | AL10: =IFERROR(IF(AND(AK10="",AL6=AL5,ISNUMBER(AR9)=FALSE,ISNUMBER(AL9)=FALSE,AL9<>""),DATE(JANVIER!$A$1,AL4,1),IF(AND(AK10<>"",MONTH(AK10+1)=MONTH(AK10)),AK10+1,IF(AND(AR9<>"",MONTH(AR9+1)=MONTH(AR9)),AR9+1,""))),"") -> 43912 | AU10: =IFERROR(IF(AND(AT10="",AU6=AU5,ISNUMBER(BA9)=FALSE,ISNUMBER(AU9)=FALSE,AU9<>""),DATE(JANVIER!$A$1,AU4,1),IF(AND(AT10<>"",MONTH(AT10+1)=MONTH(AT10)),AT10+1,IF(AND(BA9<>"",MONTH(BA9+1)=MONTH(BA9)),BA9+1,""))),"") -> 43941 | AV10: =IFERROR(IF(AND(AU10="",AV6=AV5,ISNUMBER(BB9)=FALSE,ISNUMBER(AV9)=FALSE,AV9<>""),DATE(JANVIER!$A$1,AV4,1),IF(AND(AU10<>"",MONTH(AU10+1)=MONTH(AU10)),AU10+1,IF(AND(BB9<>"",MONTH(BB9+1)=MONTH(BB9)),BB9+1,""))),"") -> 43942 | AW10: =IFERROR(IF(AND(AV10="",AW6=AW5,ISNUMBER(BC9)=FALSE,ISNUMBER(AW9)=FALSE,AW9<>""),DATE(JANVIER!$A$1,AW4,1),IF(AND(AV10<>"",MONTH(AV10+1)=MONTH(AV10)),AV10+1,IF(AND(BC9<>"",MONTH(BC9+1)=MONTH(BC9)),BC9+1,""))),"") -> 43943 | AX10: =IFERROR(IF(AND(AW10="",AX6=AX5,ISNUMBER(BD9)=FALSE,ISNUMBER(AX9)=FALSE,AX9<>""),DATE(JANVIER!$A$1,AX4,1),IF(AND(AW10<>"",MONTH(AW10+1)=MONTH(AW10)),AW10+1,IF(AND(BD9<>"",MONTH(BD9+1)=MONTH(BD9)),BD9+1,""))),"") -> 43944 | AY10: =IFERROR(IF(AND(AX10="",AY6=AY5,ISNUMBER(BE9)=FALSE,ISNUMBER(AY9)=FALSE,AY9<>""),DATE(JANVIER!$A$1,AY4,1),IF(AND(AX10<>"",MONTH(AX10+1)=MONTH(AX10)),AX10+1,IF(AND(BE9<>"",MONTH(BE9+1)=MONTH(BE9)),BE9+1,""))),"") -> 43945 | AZ10: =IFERROR(IF(AND(AY10="",AZ6=AZ5,ISNUMBER(BF9)=FALSE,ISNUMBER(AZ9)=FALSE,AZ9<>""),DATE(JANVIER!$A$1,AZ4,1),IF(AND(AY10<>"",MONTH(AY10+1)=MONTH(AY10)),AY10+1,IF(AND(BF9<>"",MONTH(BF9+1)=MONTH(BF9)),BF9+1,""))),"") -> 43946 | BA10: =IFERROR(IF(AND(AZ10="",BA6=BA5,ISNUMBER(BG9)=FALSE,ISNUMBER(BA9)=FALSE,BA9<>""),DATE(JANVIER!$A$1,BA4,1),IF(AND(AZ10<>"",MONTH(AZ10+1)=MONTH(AZ10)),AZ10+1,IF(AND(BG9<>"",MONTH(BG9+1)=MONTH(BG9)),BG9+1,""))),"") -> 43947
B11: =IFERROR(IF(AND(A11="",B7=B6,ISNUMBER(H10)=FALSE,ISNUMBER(B10)=FALSE,B10<>""),DATE(JANVIER!$A$1,B5,1),IF(AND(A11<>"",MONTH(A11+1)=MONTH(A11)),A11+1,IF(AND(H10<>"",MONTH(H10+1)=MONTH(H10)),H10+1,""))),"") -> 43857 | C11: =IFERROR(IF(AND(B11="",C7=C6,ISNUMBER(I10)=FALSE,ISNUMBER(C10)=FALSE,C10<>""),DATE(JANVIER!$A$1,C5,1),IF(AND(B11<>"",MONTH(B11+1)=MONTH(B11)),B11+1,IF(AND(I10<>"",MONTH(I10+1)=MONTH(I10)),I10+1,""))),"") -> 43858 | D11: =IFERROR(IF(AND(C11="",D7=D6,ISNUMBER(J10)=FALSE,ISNUMBER(D10)=FALSE,D10<>""),DATE(JANVIER!$A$1,D5,1),IF(AND(C11<>"",MONTH(C11+1)=MONTH(C11)),C11+1,IF(AND(J10<>"",MONTH(J10+1)=MONTH(J10)),J10+1,""))),"") -> 43859 | E11: =IFERROR(IF(AND(D11="",E7=E6,ISNUMBER(K10)=FALSE,ISNUMBER(E10)=FALSE,E10<>""),DATE(JANVIER!$A$1,E5,1),IF(AND(D11<>"",MONTH(D11+1)=MONTH(D11)),D11+1,IF(AND(K10<>"",MONTH(K10+1)=MONTH(K10)),K10+1,""))),"") -> 43860 | F11: =IFERROR(IF(AND(E11="",F7=F6,ISNUMBER(L10)=FALSE,ISNUMBER(F10)=FALSE,F10<>""),DATE(JANVIER!$A$1,F5,1),IF(AND(E11<>"",MONTH(E11+1)=MONTH(E11)),E11+1,IF(AND(L10<>"",MONTH(L10+1)=MONTH(L10)),L10+1,""))),"") -> 43861 | G11: =IFERROR(IF(AND(F11="",G7=G6,ISNUMBER(M10)=FALSE,ISNUMBER(G10)=FALSE,G10<>""),DATE(JANVIER!$A$1,G5,1),IF(AND(F11<>"",MONTH(F11+1)=MONTH(F11)),F11+1,IF(AND(M10<>"",MONTH(M10+1)=MONTH(M10)),M10+1,""))),"") | H11: =IFERROR(IF(AND(G11="",H7=H6,ISNUMBER(N10)=FALSE,ISNUMBER(H10)=FALSE,H10<>""),DATE(JANVIER!$A$1,H5,1),IF(AND(G11<>"",MONTH(G11+1)=MONTH(G11)),G11+1,IF(AND(N10<>"",MONTH(N10+1)=MONTH(N10)),N10+1,""))),"") | Q11: =IFERROR(IF(AND(P11="",Q7=Q6,ISNUMBER(W10)=FALSE,ISNUMBER(Q10)=FALSE,Q10<>""),DATE(JANVIER!$A$1,Q5,1),IF(AND(P11<>"",MONTH(P11+1)=MONTH(P11)),P11+1,IF(AND(W10<>"",MONTH(W10+1)=MONTH(W10)),W10+1,""))),"") -> 43885 | R11: =IFERROR(IF(AND(Q11="",R7=R6,ISNUMBER(X10)=FALSE,ISNUMBER(R10)=FALSE,R10<>""),DATE(JANVIER!$A$1,R5,1),IF(AND(Q11<>"",MONTH(Q11+1)=MONTH(Q11)),Q11+1,IF(AND(X10<>"",MONTH(X10+1)=MONTH(X10)),X10+1,""))),"") -> 43886 | S11: =IFERROR(IF(AND(R11="",S7=S6,ISNUMBER(Y10)=FALSE,ISNUMBER(S10)=FALSE,S10<>""),DATE(JANVIER!$A$1,S5,1),IF(AND(R11<>"",MONTH(R11+1)=MONTH(R11)),R11+1,IF(AND(Y10<>"",MONTH(Y10+1)=MONTH(Y10)),Y10+1,""))),"") -> 43887 | T11: =IFERROR(IF(AND(S11="",T7=T6,ISNUMBER(Z10)=FALSE,ISNUMBER(T10)=FALSE,T10<>""),DATE(JANVIER!$A$1,T5,1),IF(AND(S11<>"",MONTH(S11+1)=MONTH(S11)),S11+1,IF(AND(Z10<>"",MONTH(Z10+1)=MONTH(Z10)),Z10+1,""))),"") -> 43888 | U11: =IFERROR(IF(AND(T11="",U7=U6,ISNUMBER(AA10)=FALSE,ISNUMBER(U10)=FALSE,U10<>""),DATE(JANVIER!$A$1,U5,1),IF(AND(T11<>"",MONTH(T11+1)=MONTH(T11)),T11+1,IF(AND(AA10<>"",MONTH(AA10+1)=MONTH(AA10)),AA10+1,""))),"") -> 43889 | V11: =IFERROR(IF(AND(U11="",V7=V6,ISNUMBER(AB10)=FALSE,ISNUMBER(V10)=FALSE,V10<>""),DATE(JANVIER!$A$1,V5,1),IF(AND(U11<>"",MONTH(U11+1)=MONTH(U11)),U11+1,IF(AND(AB10<>"",MONTH(AB10+1)=MONTH(AB10)),AB10+1,""))),"") -> 43890 | W11: =IFERROR(IF(AND(V11="",W7=W6,ISNUMBER(AC10)=FALSE,ISNUMBER(W10)=FALSE,W10<>""),DATE(JANVIER!$A$1,W5,1),IF(AND(V11<>"",MONTH(V11+1)=MONTH(V11)),V11+1,IF(AND(AC10<>"",MONTH(AC10+1)=MONTH(AC10)),AC10+1,""))),"") | AF11: =IFERROR(IF(AND(AE11="",AF7=AF6,ISNUMBER(AL10)=FALSE,ISNUMBER(AF10)=FALSE,AF10<>""),DATE(JANVIER!$A$1,AF5,1),IF(AND(AE11<>"",MONTH(AE11+1)=MONTH(AE11)),AE11+1,IF(AND(AL10<>"",MONTH(AL10+1)=MONTH(AL10)),AL10+1,""))),"") -> 43913 | AG11: =IFERROR(IF(AND(AF11="",AG7=AG6,ISNUMBER(AM10)=FALSE,ISNUMBER(AG10)=FALSE,AG10<>""),DATE(JANVIER!$A$1,AG5,1),IF(AND(AF11<>"",MONTH(AF11+1)=MONTH(AF11)),AF11+1,IF(AND(AM10<>"",MONTH(AM10+1)=MONTH(AM10)),AM10+1,""))),"") -> 43914 | AH11: =IFERROR(IF(AND(AG11="",AH7=AH6,ISNUMBER(AN10)=FALSE,ISNUMBER(AH10)=FALSE,AH10<>""),DATE(JANVIER!$A$1,AH5,1),IF(AND(AG11<>"",MONTH(AG11+1)=MONTH(AG11)),AG11+1,IF(AND(AN10<>"",MONTH(AN10+1)=MONTH(AN10)),AN10+1,""))),"") -> 43915 | AI11: =IFERROR(IF(AND(AH11="",AI7=AI6,ISNUMBER(AO10)=FALSE,ISNUMBER(AI10)=FALSE,AI10<>""),DATE(JANVIER!$A$1,AI5,1),IF(AND(AH11<>"",MONTH(AH11+1)=MONTH(AH11)),AH11+1,IF(AND(AO10<>"",MONTH(AO10+1)=MONTH(AO10)),AO10+1,""))),"") -> 43916 | AJ11: =IFERROR(IF(AND(AI11="",AJ7=AJ6,ISNUMBER(AP10)=FALSE,ISNUMBER(AJ10)=FALSE,AJ10<>""),DATE(JANVIER!$A$1,AJ5,1),IF(AND(AI11<>"",MONTH(AI11+1)=MONTH(AI11)),AI11+1,IF(AND(AP10<>"",MONTH(AP10+1)=MONTH(AP10)),AP10+1,""))),"") -> 43917 | AK11: =IFERROR(IF(AND(AJ11="",AK7=AK6,ISNUMBER(AQ10)=FALSE,ISNUMBER(AK10)=FALSE,AK10<>""),DATE(JANVIER!$A$1,AK5,1),IF(AND(AJ11<>"",MONTH(AJ11+1)=MONTH(AJ11)),AJ11+1,IF(AND(AQ10<>"",MONTH(AQ10+1)=MONTH(AQ10)),AQ10+1,""))),"") -> 43918 | AL11: =IFERROR(IF(AND(AK11="",AL7=AL6,ISNUMBER(AR10)=FALSE,ISNUMBER(AL10)=FALSE,AL10<>""),DATE(JANVIER!$A$1,AL5,1),IF(AND(AK11<>"",MONTH(AK11+1)=MONTH(AK11)),AK11+1,IF(AND(AR10<>"",MONTH(AR10+1)=MONTH(AR10)),AR10+1,""))),"") -> 43919 | AU11: =IFERROR(IF(AND(AT11="",AU7=AU6,ISNUMBER(BA10)=FALSE,ISNUMBER(AU10)=FALSE,AU10<>""),DATE(JANVIER!$A$1,AU5,1),IF(AND(AT11<>"",MONTH(AT11+1)=MONTH(AT11)),AT11+1,IF(AND(BA10<>"",MONTH(BA10+1)=MONTH(BA10)),BA10+1,""))),"") -> 43948 | AV11: =IFERROR(IF(AND(AU11="",AV7=AV6,ISNUMBER(BB10)=FALSE,ISNUMBER(AV10)=FALSE,AV10<>""),DATE(JANVIER!$A$1,AV5,1),IF(AND(AU11<>"",MONTH(AU11+1)=MONTH(AU11)),AU11+1,IF(AND(BB10<>"",MONTH(BB10+1)=MONTH(BB10)),BB10+1,""))),"") -> 43949 | AW11: =IFERROR(IF(AND(AV11="",AW7=AW6,ISNUMBER(BC10)=FALSE,ISNUMBER(AW10)=FALSE,AW10<>""),DATE(JANVIER!$A$1,AW5,1),IF(AND(AV11<>"",MONTH(AV11+1)=MONTH(AV11)),AV11+1,IF(AND(BC10<>"",MONTH(BC10+1)=MONTH(BC10)),BC10+1,""))),"") -> 43950 | AX11: =IFERROR(IF(AND(AW11="",AX7=AX6,ISNUMBER(BD10)=FALSE,ISNUMBER(AX10)=FALSE,AX10<>""),DATE(JANVIER!$A$1,AX5,1),IF(AND(AW11<>"",MONTH(AW11+1)=MONTH(AW11)),AW11+1,IF(AND(BD10<>"",MONTH(BD10+1)=MONTH(BD10)),BD10+1,""))),"") -> 43951 | AY11: =IFERROR(IF(AND(AX11="",AY7=AY6,ISNUMBER(BE10)=FALSE,ISNUMBER(AY10)=FALSE,AY10<>""),DATE(JANVIER!$A$1,AY5,1),IF(AND(AX11<>"",MONTH(AX11+1)=MONTH(AX11)),AX11+1,IF(AND(BE10<>"",MONTH(BE10+1)=MONTH(BE10)),BE10+1,""))),"") | AZ11: =IFERROR(IF(AND(AY11="",AZ7=AZ6,ISNUMBER(BF10)=FALSE,ISNUMBER(AZ10)=FALSE,AZ10<>""),DATE(JANVIER!$A$1,AZ5,1),IF(AND(AY11<>"",MONTH(AY11+1)=MONTH(AY11)),AY11+1,IF(AND(BF10<>"",MONTH(BF10+1)=MONTH(BF10)),BF10+1,""))),"") | BA11: =IFERROR(IF(AND(AZ11="",BA7=BA6,ISNUMBER(BG10)=FALSE,ISNUMBER(BA10)=FALSE,BA10<>""),DATE(JANVIER!$A$1,BA5,1),IF(AND(AZ11<>"",MONTH(AZ11+1)=MONTH(AZ11)),AZ11+1,IF(AND(BG10<>"",MONTH(BG10+1)=MONTH(BG10)),BG10+1,""))),"")
B12: =IFERROR(IF(AND(A12="",B8=B7,ISNUMBER(H11)=FALSE,ISNUMBER(B11)=FALSE,B11<>""),DATE(JANVIER!$A$1,B6,1),IF(AND(A12<>"",MONTH(A12+1)=MONTH(A12)),A12+1,IF(AND(H11<>"",MONTH(H11+1)=MONTH(H11)),H11+1,""))),"") | C12: =IFERROR(IF(AND(B12="",C8=C7,ISNUMBER(I11)=FALSE,ISNUMBER(C11)=FALSE,C11<>""),DATE(JANVIER!$A$1,C6,1),IF(AND(B12<>"",MONTH(B12+1)=MONTH(B12)),B12+1,IF(AND(I11<>"",MONTH(I11+1)=MONTH(I11)),I11+1,""))),"") | D12: =IFERROR(IF(AND(C12="",D8=D7,ISNUMBER(J11)=FALSE,ISNUMBER(D11)=FALSE,D11<>""),DATE(JANVIER!$A$1,D6,1),IF(AND(C12<>"",MONTH(C12+1)=MONTH(C12)),C12+1,IF(AND(J11<>"",MONTH(J11+1)=MONTH(J11)),J11+1,""))),"") | E12: =IFERROR(IF(AND(D12="",E8=E7,ISNUMBER(K11)=FALSE,ISNUMBER(E11)=FALSE,E11<>""),DATE(JANVIER!$A$1,E6,1),IF(AND(D12<>"",MONTH(D12+1)=MONTH(D12)),D12+1,IF(AND(K11<>"",MONTH(K11+1)=MONTH(K11)),K11+1,""))),"") | F12: =IFERROR(IF(AND(E12="",F8=F7,ISNUMBER(L11)=FALSE,ISNUMBER(F11)=FALSE,F11<>""),DATE(JANVIER!$A$1,F6,1),IF(AND(E12<>"",MONTH(E12+1)=MONTH(E12)),E12+1,IF(AND(L11<>"",MONTH(L11+1)=MONTH(L11)),L11+1,""))),"") | G12: =IFERROR(IF(AND(F12="",G8=G7,ISNUMBER(M11)=FALSE,ISNUMBER(G11)=FALSE,G11<>""),DATE(JANVIER!$A$1,G6,1),IF(AND(F12<>"",MONTH(F12+1)=MONTH(F12)),F12+1,IF(AND(M11<>"",MONTH(M11+1)=MONTH(M11)),M11+1,""))),"") | H12: =IFERROR(IF(AND(G12="",H8=H7,ISNUMBER(N11)=FALSE,ISNUMBER(H11)=FALSE,H11<>""),DATE(JANVIER!$A$1,H6,1),IF(AND(G12<>"",MONTH(G12+1)=MONTH(G12)),G12+1,IF(AND(N11<>"",MONTH(N11+1)=MONTH(N11)),N11+1,""))),"") | Q12: =IFERROR(IF(AND(P12="",Q8=Q7,ISNUMBER(W11)=FALSE,ISNUMBER(Q11)=FALSE,Q11<>""),DATE(JANVIER!$A$1,Q6,1),IF(AND(P12<>"",MONTH(P12+1)=MONTH(P12)),P12+1,IF(AND(W11<>"",MONTH(W11+1)=MONTH(W11)),W11+1,""))),"") | R12: =IFERROR(IF(AND(Q12="",R8=R7,ISNUMBER(X11)=FALSE,ISNUMBER(R11)=FALSE,R11<>""),DATE(JANVIER!$A$1,R6,1),IF(AND(Q12<>"",MONTH(Q12+1)=MONTH(Q12)),Q12+1,IF(AND(X11<>"",MONTH(X11+1)=MONTH(X11)),X11+1,""))),"") | S12: =IFERROR(IF(AND(R12="",S8=S7,ISNUMBER(Y11)=FALSE,ISNUMBER(S11)=FALSE,S11<>""),DATE(JANVIER!$A$1,S6,1),IF(AND(R12<>"",MONTH(R12+1)=MONTH(R12)),R12+1,IF(AND(Y11<>"",MONTH(Y11+1)=MONTH(Y11)),Y11+1,""))),"") | T12: =IFERROR(IF(AND(S12="",T8=T7,ISNUMBER(Z11)=FALSE,ISNUMBER(T11)=FALSE,T11<>""),DATE(JANVIER!$A$1,T6,1),IF(AND(S12<>"",MONTH(S12+1)=MONTH(S12)),S12+1,IF(AND(Z11<>"",MONTH(Z11+1)=MONTH(Z11)),Z11+1,""))),"") | U12: =IFERROR(IF(AND(T12="",U8=U7,ISNUMBER(AA11)=FALSE,ISNUMBER(U11)=FALSE,U11<>""),DATE(JANVIER!$A$1,U6,1),IF(AND(T12<>"",MONTH(T12+1)=MONTH(T12)),T12+1,IF(AND(AA11<>"",MONTH(AA11+1)=MONTH(AA11)),AA11+1,""))),"") | V12: =IFERROR(IF(AND(U12="",V8=V7,ISNUMBER(AB11)=FALSE,ISNUMBER(V11)=FALSE,V11<>""),DATE(JANVIER!$A$1,V6,1),IF(AND(U12<>"",MONTH(U12+1)=MONTH(U12)),U12+1,IF(AND(AB11<>"",MONTH(AB11+1)=MONTH(AB11)),AB11+1,""))),"") | W12: =IFERROR(IF(AND(V12="",W8=W7,ISNUMBER(AC11)=FALSE,ISNUMBER(W11)=FALSE,W11<>""),DATE(JANVIER!$A$1,W6,1),IF(AND(V12<>"",MONTH(V12+1)=MONTH(V12)),V12+1,IF(AND(AC11<>"",MONTH(AC11+1)=MONTH(AC11)),AC11+1,""))),"") | AF12: =IFERROR(IF(AND(AE12="",AF8=AF7,ISNUMBER(AL11)=FALSE,ISNUMBER(AF11)=FALSE,AF11<>""),DATE(JANVIER!$A$1,AF6,1),IF(AND(AE12<>"",MONTH(AE12+1)=MONTH(AE12)),AE12+1,IF(AND(AL11<>"",MONTH(AL11+1)=MONTH(AL11)),AL11+1,""))),"") -> 43920 | AG12: =IFERROR(IF(AND(AF12="",AG8=AG7,ISNUMBER(AM11)=FALSE,ISNUMBER(AG11)=FALSE,AG11<>""),DATE(JANVIER!$A$1,AG6,1),IF(AND(AF12<>"",MONTH(AF12+1)=MONTH(AF12)),AF12+1,IF(AND(AM11<>"",MONTH(AM11+1)=MONTH(AM11)),AM11+1,""))),"") -> 43921 | AH12: =IFERROR(IF(AND(AG12="",AH8=AH7,ISNUMBER(AN11)=FALSE,ISNUMBER(AH11)=FALSE,AH11<>""),DATE(JANVIER!$A$1,AH6,1),IF(AND(AG12<>"",MONTH(AG12+1)=MONTH(AG12)),AG12+1,IF(AND(AN11<>"",MONTH(AN11+1)=MONTH(AN11)),AN11+1,""))),"") | AI12: =IFERROR(IF(AND(AH12="",AI8=AI7,ISNUMBER(AO11)=FALSE,ISNUMBER(AI11)=FALSE,AI11<>""),DATE(JANVIER!$A$1,AI6,1),IF(AND(AH12<>"",MONTH(AH12+1)=MONTH(AH12)),AH12+1,IF(AND(AO11<>"",MONTH(AO11+1)=MONTH(AO11)),AO11+1,""))),"") | AJ12: =IFERROR(IF(AND(AI12="",AJ8=AJ7,ISNUMBER(AP11)=FALSE,ISNUMBER(AJ11)=FALSE,AJ11<>""),DATE(JANVIER!$A$1,AJ6,1),IF(AND(AI12<>"",MONTH(AI12+1)=MONTH(AI12)),AI12+1,IF(AND(AP11<>"",MONTH(AP11+1)=MONTH(AP11)),AP11+1,""))),"") | AK12: =IFERROR(IF(AND(AJ12="",AK8=AK7,ISNUMBER(AQ11)=FALSE,ISNUMBER(AK11)=FALSE,AK11<>""),DATE(JANVIER!$A$1,AK6,1),IF(AND(AJ12<>"",MONTH(AJ12+1)=MONTH(AJ12)),AJ12+1,IF(AND(AQ11<>"",MONTH(AQ11+1)=MONTH(AQ11)),AQ11+1,""))),"") | AL12: =IFERROR(IF(AND(AK12="",AL8=AL7,ISNUMBER(AR11)=FALSE,ISNUMBER(AL11)=FALSE,AL11<>""),DATE(JANVIER!$A$1,AL6,1),IF(AND(AK12<>"",MONTH(AK12+1)=MONTH(AK12)),AK12+1,IF(AND(AR11<>"",MONTH(AR11+1)=MONTH(AR11)),AR11+1,""))),"") | AU12: =IFERROR(IF(AND(AT12="",AU8=AU7,ISNUMBER(BA11)=FALSE,ISNUMBER(AU11)=FALSE,AU11<>""),DATE(JANVIER!$A$1,AU6,1),IF(AND(AT12<>"",MONTH(AT12+1)=MONTH(AT12)),AT12+1,IF(AND(BA11<>"",MONTH(BA11+1)=MONTH(BA11)),BA11+1,""))),"") | AV12: =IFERROR(IF(AND(AU12="",AV8=AV7,ISNUMBER(BB11)=FALSE,ISNUMBER(AV11)=FALSE,AV11<>""),DATE(JANVIER!$A$1,AV6,1),IF(AND(AU12<>"",MONTH(AU12+1)=MONTH(AU12)),AU12+1,IF(AND(BB11<>"",MONTH(BB11+1)=MONTH(BB11)),BB11+1,""))),"") | AW12: =IFERROR(IF(AND(AV12="",AW8=AW7,ISNUMBER(BC11)=FALSE,ISNUMBER(AW11)=FALSE,AW11<>""),DATE(JANVIER!$A$1,AW6,1),IF(AND(AV12<>"",MONTH(AV12+1)=MONTH(AV12)),AV12+1,IF(AND(BC11<>"",MONTH(BC11+1)=MONTH(BC11)),BC11+1,""))),"") | AX12: =IFERROR(IF(AND(AW12="",AX8=AX7,ISNUMBER(BD11)=FALSE,ISNUMBER(AX11)=FALSE,AX11<>""),DATE(JANVIER!$A$1,AX6,1),IF(AND(AW12<>"",MONTH(AW12+1)=MONTH(AW12)),AW12+1,IF(AND(BD11<>"",MONTH(BD11+1)=MONTH(BD11)),BD11+1,""))),"") | AY12: =IFERROR(IF(AND(AX12="",AY8=AY7,ISNUMBER(BE11)=FALSE,ISNUMBER(AY11)=FALSE,AY11<>""),DATE(JANVIER!$A$1,AY6,1),IF(AND(AX12<>"",MONTH(AX12+1)=MONTH(AX12)),AX12+1,IF(AND(BE11<>"",MONTH(BE11+1)=MONTH(BE11)),BE11+1,""))),"") | AZ12: =IFERROR(IF(AND(AY12="",AZ8=AZ7,ISNUMBER(BF11)=FALSE,ISNUMBER(AZ11)=FALSE,AZ11<>""),DATE(JANVIER!$A$1,AZ6,1),IF(AND(AY12<>"",MONTH(AY12+1)=MONTH(AY12)),AY12+1,IF(AND(BF11<>"",MONTH(BF11+1)=MONTH(BF11)),BF11+1,""))),"") | BA12: =IFERROR(IF(AND(AZ12="",BA8=BA7,ISNUMBER(BG11)=FALSE,ISNUMBER(BA11)=FALSE,BA11<>""),DATE(JANVIER!$A$1,BA6,1),IF(AND(AZ12<>"",MONTH(AZ12+1)=MONTH(AZ12)),AZ12+1,IF(AND(BG11<>"",MONTH(BG11+1)=MONTH(BG11)),BG11+1,""))),"")
B13: =IFERROR(IF(AND(A13="",B3=B2,ISNUMBER(H6)=FALSE,ISNUMBER(B6)=FALSE,B6<>""),DATE(JANVIER!$A$1,B1,1),IF(AND(A13<>"",MONTH(A13+1)=MONTH(A13)),A13+1,IF(AND(H6<>"",MONTH(H6+1)=MONTH(H6)),H6+1,""))),"") | C13: =IFERROR(IF(AND(B13="",C3=C2,ISNUMBER(I6)=FALSE,ISNUMBER(C6)=FALSE,C6<>""),DATE(JANVIER!$A$1,C1,1),IF(AND(B13<>"",MONTH(B13+1)=MONTH(B13)),B13+1,IF(AND(I6<>"",MONTH(I6+1)=MONTH(I6)),I6+1,""))),"") | D13: =IFERROR(IF(AND(C13="",D3=D2,ISNUMBER(J6)=FALSE,ISNUMBER(D6)=FALSE,D6<>""),DATE(JANVIER!$A$1,D1,1),IF(AND(C13<>"",MONTH(C13+1)=MONTH(C13)),C13+1,IF(AND(J6<>"",MONTH(J6+1)=MONTH(J6)),J6+1,""))),"") -> 43831 | E13: =IFERROR(IF(AND(D13="",E3=E2,ISNUMBER(K6)=FALSE,ISNUMBER(E6)=FALSE,E6<>""),DATE(JANVIER!$A$1,E1,1),IF(AND(D13<>"",MONTH(D13+1)=MONTH(D13)),D13+1,IF(AND(K6<>"",MONTH(K6+1)=MONTH(K6)),K6+1,""))),"") -> 43832 | F13: =IFERROR(IF(AND(E13="",F3=F2,ISNUMBER(L6)=FALSE,ISNUMBER(F6)=FALSE,F6<>""),DATE(JANVIER!$A$1,F1,1),IF(AND(E13<>"",MONTH(E13+1)=MONTH(E13)),E13+1,IF(AND(L6<>"",MONTH(L6+1)=MONTH(L6)),L6+1,""))),"") -> 43833 | G13: =IFERROR(IF(AND(F13="",G3=G2,ISNUMBER(M6)=FALSE,ISNUMBER(G6)=FALSE,G6<>""),DATE(JANVIER!$A$1,G1,1),IF(AND(F13<>"",MONTH(F13+1)=MONTH(F13)),F13+1,IF(AND(M6<>"",MONTH(M6+1)=MONTH(M6)),M6+1,""))),"") -> 43834 | H13: =IFERROR(IF(AND(G13="",H3=H2,ISNUMBER(N6)=FALSE,ISNUMBER(H6)=FALSE,H6<>""),DATE(JANVIER!$A$1,H1,1),IF(AND(G13<>"",MONTH(G13+1)=MONTH(G13)),G13+1,IF(AND(N6<>"",MONTH(N6+1)=MONTH(N6)),N6+1,""))),"") -> 43835 | Q13: =IFERROR(IF(AND(P7="",Q3=Q2,ISNUMBER(W6)=FALSE,ISNUMBER(Q6)=FALSE,Q6<>""),DATE(JANVIER!$A$1,Q1,1),IF(AND(P7<>"",MONTH(P7+1)=MONTH(P7)),P7+1,IF(AND(W6<>"",MONTH(W6+1)=MONTH(W6)),W6+1,""))),"") | R13: =IFERROR(IF(AND(Q7="",R3=R2,ISNUMBER(X6)=FALSE,ISNUMBER(R6)=FALSE,R6<>""),DATE(JANVIER!$A$1,R1,1),IF(AND(Q7<>"",MONTH(Q7+1)=MONTH(Q7)),Q7+1,IF(AND(X6<>"",MONTH(X6+1)=MONTH(X6)),X6+1,""))),"") | S13: =IFERROR(IF(AND(R7="",S3=S2,ISNUMBER(Y6)=FALSE,ISNUMBER(S6)=FALSE,S6<>""),DATE(JANVIER!$A$1,S1,1),IF(AND(R7<>"",MONTH(R7+1)=MONTH(R7)),R7+1,IF(AND(Y6<>"",MONTH(Y6+1)=MONTH(Y6)),Y6+1,""))),"") | T13: =IFERROR(IF(AND(S7="",T3=T2,ISNUMBER(Z6)=FALSE,ISNUMBER(T6)=FALSE,T6<>""),DATE(JANVIER!$A$1,T1,1),IF(AND(S7<>"",MONTH(S7+1)=MONTH(S7)),S7+1,IF(AND(Z6<>"",MONTH(Z6+1)=MONTH(Z6)),Z6+1,""))),"") | U13: =IFERROR(IF(AND(T7="",U3=U2,ISNUMBER(AA6)=FALSE,ISNUMBER(U6)=FALSE,U6<>""),DATE(JANVIER!$A$1,U1,1),IF(AND(T7<>"",MONTH(T7+1)=MONTH(T7)),T7+1,IF(AND(AA6<>"",MONTH(AA6+1)=MONTH(AA6)),AA6+1,""))),"") | V13: =IFERROR(IF(AND(U7="",V3=V2,ISNUMBER(AB6)=FALSE,ISNUMBER(V6)=FALSE,V6<>""),DATE(JANVIER!$A$1,V1,1),IF(AND(U7<>"",MONTH(U7+1)=MONTH(U7)),U7+1,IF(AND(AB6<>"",MONTH(AB6+1)=MONTH(AB6)),AB6+1,""))),"") -> 43862 | W13: =IFERROR(IF(AND(V7="",W3=W2,ISNUMBER(AC6)=FALSE,ISNUMBER(W6)=FALSE,W6<>""),DATE(JANVIER!$A$1,W1,1),IF(AND(V7<>"",MONTH(V7+1)=MONTH(V7)),V7+1,IF(AND(AC6<>"",MONTH(AC6+1)=MONTH(AC6)),AC6+1,""))),"") -> 43863 | AF13: =IFERROR(IF(AND(AE7="",AF3=AF2,ISNUMBER(AL6)=FALSE,ISNUMBER(AF6)=FALSE,AF6<>""),DATE(JANVIER!$A$1,AF1,1),IF(AND(AE7<>"",MONTH(AE7+1)=MONTH(AE7)),AE7+1,IF(AND(AL6<>"",MONTH(AL6+1)=MONTH(AL6)),AL6+1,""))),"") | AG13: =IFERROR(IF(AND(AF7="",AG3=AG2,ISNUMBER(AM6)=FALSE,ISNUMBER(AG6)=FALSE,AG6<>""),DATE(JANVIER!$A$1,AG1,1),IF(AND(AF7<>"",MONTH(AF7+1)=MONTH(AF7)),AF7+1,IF(AND(AM6<>"",MONTH(AM6+1)=MONTH(AM6)),AM6+1,""))),"") | AH13: =IFERROR(IF(AND(AG7="",AH3=AH2,ISNUMBER(AN6)=FALSE,ISNUMBER(AH6)=FALSE,AH6<>""),DATE(JANVIER!$A$1,AH1,1),IF(AND(AG7<>"",MONTH(AG7+1)=MONTH(AG7)),AG7+1,IF(AND(AN6<>"",MONTH(AN6+1)=MONTH(AN6)),AN6+1,""))),"") | AI13: =IFERROR(IF(AND(AH7="",AI3=AI2,ISNUMBER(AO6)=FALSE,ISNUMBER(AI6)=FALSE,AI6<>""),DATE(JANVIER!$A$1,AI1,1),IF(AND(AH7<>"",MONTH(AH7+1)=MONTH(AH7)),AH7+1,IF(AND(AO6<>"",MONTH(AO6+1)=MONTH(AO6)),AO6+1,""))),"") | AJ13: =IFERROR(IF(AND(AI7="",AJ3=AJ2,ISNUMBER(AP6)=FALSE,ISNUMBER(AJ6)=FALSE,AJ6<>""),DATE(JANVIER!$A$1,AJ1,1),IF(AND(AI7<>"",MONTH(AI7+1)=MONTH(AI7)),AI7+1,IF(AND(AP6<>"",MONTH(AP6+1)=MONTH(AP6)),AP6+1,""))),"") | AK13: =IFERROR(IF(AND(AJ7="",AK3=AK2,ISNUMBER(AQ6)=FALSE,ISNUMBER(AK6)=FALSE,AK6<>""),DATE(JANVIER!$A$1,AK1,1),IF(AND(AJ7<>"",MONTH(AJ7+1)=MONTH(AJ7)),AJ7+1,IF(AND(AQ6<>"",MONTH(AQ6+1)=MONTH(AQ6)),AQ6+1,""))),"") | AL13: =IFERROR(IF(AND(AK7="",AL3=AL2,ISNUMBER(AR6)=FALSE,ISNUMBER(AL6)=FALSE,AL6<>""),DATE(JANVIER!$A$1,AL1,1),IF(AND(AK7<>"",MONTH(AK7+1)=MONTH(AK7)),AK7+1,IF(AND(AR6<>"",MONTH(AR6+1)=MONTH(AR6)),AR6+1,""))),"") -> 43891 | AU13: =IFERROR(IF(AND(AT7="",AU3=AU2,ISNUMBER(BA6)=FALSE,ISNUMBER(AU6)=FALSE,AU6<>""),DATE(JANVIER!$A$1,AU1,1),IF(AND(AT7<>"",MONTH(AT7+1)=MONTH(AT7)),AT7+1,IF(AND(BA6<>"",MONTH(BA6+1)=MONTH(BA6)),BA6+1,""))),"") | AV13: =IFERROR(IF(AND(AU7="",AV3=AV2,ISNUMBER(BB6)=FALSE,ISNUMBER(AV6)=FALSE,AV6<>""),DATE(JANVIER!$A$1,AV1,1),IF(AND(AU7<>"",MONTH(AU7+1)=MONTH(AU7)),AU7+1,IF(AND(BB6<>"",MONTH(BB6+1)=MONTH(BB6)),BB6+1,""))),"") | AW13: =IFERROR(IF(AND(AV7="",AW3=AW2,ISNUMBER(BC6)=FALSE,ISNUMBER(AW6)=FALSE,AW6<>""),DATE(JANVIER!$A$1,AW1,1),IF(AND(AV7<>"",MONTH(AV7+1)=MONTH(AV7)),AV7+1,IF(AND(BC6<>"",MONTH(BC6+1)=MONTH(BC6)),BC6+1,""))),"") -> 43922 | AX13: =IFERROR(IF(AND(AW7="",AX3=AX2,ISNUMBER(BD6)=FALSE,ISNUMBER(AX6)=FALSE,AX6<>""),DATE(JANVIER!$A$1,AX1,1),IF(AND(AW7<>"",MONTH(AW7+1)=MONTH(AW7)),AW7+1,IF(AND(BD6<>"",MONTH(BD6+1)=MONTH(BD6)),BD6+1,""))),"") -> 43923 | AY13: =IFERROR(IF(AND(AX7="",AY3=AY2,ISNUMBER(BE6)=FALSE,ISNUMBER(AY6)=FALSE,AY6<>""),DATE(JANVIER!$A$1,AY1,1),IF(AND(AX7<>"",MONTH(AX7+1)=MONTH(AX7)),AX7+1,IF(AND(BE6<>"",MONTH(BE6+1)=MONTH(BE6)),BE6+1,""))),"") -> 43924 | AZ13: =IFERROR(IF(AND(AY7="",AZ3=AZ2,ISNUMBER(BF6)=FALSE,ISNUMBER(AZ6)=FALSE,AZ6<>""),DATE(JANVIER!$A$1,AZ1,1),IF(AND(AY7<>"",MONTH(AY7+1)=MONTH(AY7)),AY7+1,IF(AND(BF6<>"",MONTH(BF6+1)=MONTH(BF6)),BF6+1,""))),"") -> 43925 | BA13: =IFERROR(IF(AND(AZ7="",BA3=BA2,ISNUMBER(BG6)=FALSE,ISNUMBER(BA6)=FALSE,BA6<>""),DATE(JANVIER!$A$1,BA1,1),IF(AND(AZ7<>"",MONTH(AZ7+1)=MONTH(AZ7)),AZ7+1,IF(AND(BG6<>"",MONTH(BG6+1)=MONTH(BG6)),BG6+1,""))),"") -> 43926
B14: =IFERROR(IF(AND(A14="",B4=B3,ISNUMBER(H7)=FALSE,ISNUMBER(B7)=FALSE,B7<>""),DATE(JANVIER!$A$1,B2,1),IF(AND(A14<>"",MONTH(A14+1)=MONTH(A14)),A14+1,IF(AND(H7<>"",MONTH(H7+1)=MONTH(H7)),H7+1,""))),"") -> 43836 | C14: =IFERROR(IF(AND(B14="",C4=C3,ISNUMBER(I7)=FALSE,ISNUMBER(C7)=FALSE,C7<>""),DATE(JANVIER!$A$1,C2,1),IF(AND(B14<>"",MONTH(B14+1)=MONTH(B14)),B14+1,IF(AND(I7<>"",MONTH(I7+1)=MONTH(I7)),I7+1,""))),"") -> 43837 | D14: =IFERROR(IF(AND(C14="",D4=D3,ISNUMBER(J7)=FALSE,ISNUMBER(D7)=FALSE,D7<>""),DATE(JANVIER!$A$1,D2,1),IF(AND(C14<>"",MONTH(C14+1)=MONTH(C14)),C14+1,IF(AND(J7<>"",MONTH(J7+1)=MONTH(J7)),J7+1,""))),"") -> 43838 | E14: =IFERROR(IF(AND(D14="",E4=E3,ISNUMBER(K7)=FALSE,ISNUMBER(E7)=FALSE,E7<>""),DATE(JANVIER!$A$1,E2,1),IF(AND(D14<>"",MONTH(D14+1)=MONTH(D14)),D14+1,IF(AND(K7<>"",MONTH(K7+1)=MONTH(K7)),K7+1,""))),"") -> 43839 | F14: =IFERROR(IF(AND(E14="",F4=F3,ISNUMBER(L7)=FALSE,ISNUMBER(F7)=FALSE,F7<>""),DATE(JANVIER!$A$1,F2,1),IF(AND(E14<>"",MONTH(E14+1)=MONTH(E14)),E14+1,IF(AND(L7<>"",MONTH(L7+1)=MONTH(L7)),L7+1,""))),"") -> 43840 | G14: =IFERROR(IF(AND(F14="",G4=G3,ISNUMBER(M7)=FALSE,ISNUMBER(G7)=FALSE,G7<>""),DATE(JANVIER!$A$1,G2,1),IF(AND(F14<>"",MONTH(F14+1)=MONTH(F14)),F14+1,IF(AND(M7<>"",MONTH(M7+1)=MONTH(M7)),M7+1,""))),"") -> 43841 | H14: =IFERROR(IF(AND(G14="",H4=H3,ISNUMBER(N7)=FALSE,ISNUMBER(H7)=FALSE,H7<>""),DATE(JANVIER!$A$1,H2,1),IF(AND(G14<>"",MONTH(G14+1)=MONTH(G14)),G14+1,IF(AND(N7<>"",MONTH(N7+1)=MONTH(N7)),N7+1,""))),"") -> 43842 | Q14: =IFERROR(IF(AND(P8="",Q4=Q3,ISNUMBER(W7)=FALSE,ISNUMBER(Q7)=FALSE,Q7<>""),DATE(JANVIER!$A$1,Q2,1),IF(AND(P8<>"",MONTH(P8+1)=MONTH(P8)),P8+1,IF(AND(W7<>"",MONTH(W7+1)=MONTH(W7)),W7+1,""))),"") -> 43864 | R14: =IFERROR(IF(AND(Q8="",R4=R3,ISNUMBER(X7)=FALSE,ISNUMBER(R7)=FALSE,R7<>""),DATE(JANVIER!$A$1,R2,1),IF(AND(Q8<>"",MONTH(Q8+1)=MONTH(Q8)),Q8+1,IF(AND(X7<>"",MONTH(X7+1)=MONTH(X7)),X7+1,""))),"") -> 43865 | S14: =IFERROR(IF(AND(R8="",S4=S3,ISNUMBER(Y7)=FALSE,ISNUMBER(S7)=FALSE,S7<>""),DATE(JANVIER!$A$1,S2,1),IF(AND(R8<>"",MONTH(R8+1)=MONTH(R8)),R8+1,IF(AND(Y7<>"",MONTH(Y7+1)=MONTH(Y7)),Y7+1,""))),"") -> 43866 | T14: =IFERROR(IF(AND(S8="",T4=T3,ISNUMBER(Z7)=FALSE,ISNUMBER(T7)=FALSE,T7<>""),DATE(JANVIER!$A$1,T2,1),IF(AND(S8<>"",MONTH(S8+1)=MONTH(S8)),S8+1,IF(AND(Z7<>"",MONTH(Z7+1)=MONTH(Z7)),Z7+1,""))),"") -> 43867 | U14: =IFERROR(IF(AND(T8="",U4=U3,ISNUMBER(AA7)=FALSE,ISNUMBER(U7)=FALSE,U7<>""),DATE(JANVIER!$A$1,U2,1),IF(AND(T8<>"",MONTH(T8+1)=MONTH(T8)),T8+1,IF(AND(AA7<>"",MONTH(AA7+1)=MONTH(AA7)),AA7+1,""))),"") -> 43868 | V14: =IFERROR(IF(AND(U8="",V4=V3,ISNUMBER(AB7)=FALSE,ISNUMBER(V7)=FALSE,V7<>""),DATE(JANVIER!$A$1,V2,1),IF(AND(U8<>"",MONTH(U8+1)=MONTH(U8)),U8+1,IF(AND(AB7<>"",MONTH(AB7+1)=MONTH(AB7)),AB7+1,""))),"") -> 43869 | W14: =IFERROR(IF(AND(V8="",W4=W3,ISNUMBER(AC7)=FALSE,ISNUMBER(W7)=FALSE,W7<>""),DATE(JANVIER!$A$1,W2,1),IF(AND(V8<>"",MONTH(V8+1)=MONTH(V8)),V8+1,IF(AND(AC7<>"",MONTH(AC7+1)=MONTH(AC7)),AC7+1,""))),"") -> 43870 | AF14: =IFERROR(IF(AND(AE8="",AF4=AF3,ISNUMBER(AL7)=FALSE,ISNUMBER(AF7)=FALSE,AF7<>""),DATE(JANVIER!$A$1,AF2,1),IF(AND(AE8<>"",MONTH(AE8+1)=MONTH(AE8)),AE8+1,IF(AND(AL7<>"",MONTH(AL7+1)=MONTH(AL7)),AL7+1,""))),"") -> 43892 | AG14: =IFERROR(IF(AND(AF8="",AG4=AG3,ISNUMBER(AM7)=FALSE,ISNUMBER(AG7)=FALSE,AG7<>""),DATE(JANVIER!$A$1,AG2,1),IF(AND(AF8<>"",MONTH(AF8+1)=MONTH(AF8)),AF8+1,IF(AND(AM7<>"",MONTH(AM7+1)=MONTH(AM7)),AM7+1,""))),"") -> 43893 | AH14: =IFERROR(IF(AND(AG8="",AH4=AH3,ISNUMBER(AN7)=FALSE,ISNUMBER(AH7)=FALSE,AH7<>""),DATE(JANVIER!$A$1,AH2,1),IF(AND(AG8<>"",MONTH(AG8+1)=MONTH(AG8)),AG8+1,IF(AND(AN7<>"",MONTH(AN7+1)=MONTH(AN7)),AN7+1,""))),"") -> 43894 | AI14: =IFERROR(IF(AND(AH8="",AI4=AI3,ISNUMBER(AO7)=FALSE,ISNUMBER(AI7)=FALSE,AI7<>""),DATE(JANVIER!$A$1,AI2,1),IF(AND(AH8<>"",MONTH(AH8+1)=MONTH(AH8)),AH8+1,IF(AND(AO7<>"",MONTH(AO7+1)=MONTH(AO7)),AO7+1,""))),"") -> 43895 | AJ14: =IFERROR(IF(AND(AI8="",AJ4=AJ3,ISNUMBER(AP7)=FALSE,ISNUMBER(AJ7)=FALSE,AJ7<>""),DATE(JANVIER!$A$1,AJ2,1),IF(AND(AI8<>"",MONTH(AI8+1)=MONTH(AI8)),AI8+1,IF(AND(AP7<>"",MONTH(AP7+1)=MONTH(AP7)),AP7+1,""))),"") -> 43896 | AK14: =IFERROR(IF(AND(AJ8="",AK4=AK3,ISNUMBER(AQ7)=FALSE,ISNUMBER(AK7)=FALSE,AK7<>""),DATE(JANVIER!$A$1,AK2,1),IF(AND(AJ8<>"",MONTH(AJ8+1)=MONTH(AJ8)),AJ8+1,IF(AND(AQ7<>"",MONTH(AQ7+1)=MONTH(AQ7)),AQ7+1,""))),"") -> 43897 | AL14: =IFERROR(IF(AND(AK8="",AL4=AL3,ISNUMBER(AR7)=FALSE,ISNUMBER(AL7)=FALSE,AL7<>""),DATE(JANVIER!$A$1,AL2,1),IF(AND(AK8<>"",MONTH(AK8+1)=MONTH(AK8)),AK8+1,IF(AND(AR7<>"",MONTH(AR7+1)=MONTH(AR7)),AR7+1,""))),"") -> 43898 | AU14: =IFERROR(IF(AND(AT8="",AU4=AU3,ISNUMBER(BA7)=FALSE,ISNUMBER(AU7)=FALSE,AU7<>""),DATE(JANVIER!$A$1,AU2,1),IF(AND(AT8<>"",MONTH(AT8+1)=MONTH(AT8)),AT8+1,IF(AND(BA7<>"",MONTH(BA7+1)=MONTH(BA7)),BA7+1,""))),"") -> 43927 | AV14: =IFERROR(IF(AND(AU8="",AV4=AV3,ISNUMBER(BB7)=FALSE,ISNUMBER(AV7)=FALSE,AV7<>""),DATE(JANVIER!$A$1,AV2,1),IF(AND(AU8<>"",MONTH(AU8+1)=MONTH(AU8)),AU8+1,IF(AND(BB7<>"",MONTH(BB7+1)=MONTH(BB7)),BB7+1,""))),"") -> 43928 | AW14: =IFERROR(IF(AND(AV8="",AW4=AW3,ISNUMBER(BC7)=FALSE,ISNUMBER(AW7)=FALSE,AW7<>""),DATE(JANVIER!$A$1,AW2,1),IF(AND(AV8<>"",MONTH(AV8+1)=MONTH(AV8)),AV8+1,IF(AND(BC7<>"",MONTH(BC7+1)=MONTH(BC7)),BC7+1,""))),"") -> 43929 | AX14: =IFERROR(IF(AND(AW8="",AX4=AX3,ISNUMBER(BD7)=FALSE,ISNUMBER(AX7)=FALSE,AX7<>""),DATE(JANVIER!$A$1,AX2,1),IF(AND(AW8<>"",MONTH(AW8+1)=MONTH(AW8)),AW8+1,IF(AND(BD7<>"",MONTH(BD7+1)=MONTH(BD7)),BD7+1,""))),"") -> 43930 | AY14: =IFERROR(IF(AND(AX8="",AY4=AY3,ISNUMBER(BE7)=FALSE,ISNUMBER(AY7)=FALSE,AY7<>""),DATE(JANVIER!$A$1,AY2,1),IF(AND(AX8<>"",MONTH(AX8+1)=MONTH(AX8)),AX8+1,IF(AND(BE7<>"",MONTH(BE7+1)=MONTH(BE7)),BE7+1,""))),"") -> 43931 | AZ14: =IFERROR(IF(AND(AY8="",AZ4=AZ3,ISNUMBER(BF7)=FALSE,ISNUMBER(AZ7)=FALSE,AZ7<>""),DATE(JANVIER!$A$1,AZ2,1),IF(AND(AY8<>"",MONTH(AY8+1)=MONTH(AY8)),AY8+1,IF(AND(BF7<>"",MONTH(BF7+1)=MONTH(BF7)),BF7+1,""))),"") -> 43932 | BA14: =IFERROR(IF(AND(AZ8="",BA4=BA3,ISNUMBER(BG7)=FALSE,ISNUMBER(BA7)=FALSE,BA7<>""),DATE(JANVIER!$A$1,BA2,1),IF(AND(AZ8<>"",MONTH(AZ8+1)=MONTH(AZ8)),AZ8+1,IF(AND(BG7<>"",MONTH(BG7+1)=MONTH(BG7)),BG7+1,""))),"") -> 43933
B15: =IFERROR(IF(AND(A15="",B5=B4,ISNUMBER(H8)=FALSE,ISNUMBER(B8)=FALSE,B8<>""),DATE(JANVIER!$A$1,B3,1),IF(AND(A15<>"",MONTH(A15+1)=MONTH(A15)),A15+1,IF(AND(H8<>"",MONTH(H8+1)=MONTH(H8)),H8+1,""))),"") -> 43843 | C15: =IFERROR(IF(AND(B15="",C5=C4,ISNUMBER(I8)=FALSE,ISNUMBER(C8)=FALSE,C8<>""),DATE(JANVIER!$A$1,C3,1),IF(AND(B15<>"",MONTH(B15+1)=MONTH(B15)),B15+1,IF(AND(I8<>"",MONTH(I8+1)=MONTH(I8)),I8+1,""))),"") -> 43844 | D15: =IFERROR(IF(AND(C15="",D5=D4,ISNUMBER(J8)=FALSE,ISNUMBER(D8)=FALSE,D8<>""),DATE(JANVIER!$A$1,D3,1),IF(AND(C15<>"",MONTH(C15+1)=MONTH(C15)),C15+1,IF(AND(J8<>"",MONTH(J8+1)=MONTH(J8)),J8+1,""))),"") -> 43845 | E15: =IFERROR(IF(AND(D15="",E5=E4,ISNUMBER(K8)=FALSE,ISNUMBER(E8)=FALSE,E8<>""),DATE(JANVIER!$A$1,E3,1),IF(AND(D15<>"",MONTH(D15+1)=MONTH(D15)),D15+1,IF(AND(K8<>"",MONTH(K8+1)=MONTH(K8)),K8+1,""))),"") -> 43846 | F15: =IFERROR(IF(AND(E15="",F5=F4,ISNUMBER(L8)=FALSE,ISNUMBER(F8)=FALSE,F8<>""),DATE(JANVIER!$A$1,F3,1),IF(AND(E15<>"",MONTH(E15+1)=MONTH(E15)),E15+1,IF(AND(L8<>"",MONTH(L8+1)=MONTH(L8)),L8+1,""))),"") -> 43847 | G15: =IFERROR(IF(AND(F15="",G5=G4,ISNUMBER(M8)=FALSE,ISNUMBER(G8)=FALSE,G8<>""),DATE(JANVIER!$A$1,G3,1),IF(AND(F15<>"",MONTH(F15+1)=MONTH(F15)),F15+1,IF(AND(M8<>"",MONTH(M8+1)=MONTH(M8)),M8+1,""))),"") -> 43848 | H15: =IFERROR(IF(AND(G15="",H5=H4,ISNUMBER(N8)=FALSE,ISNUMBER(H8)=FALSE,H8<>""),DATE(JANVIER!$A$1,H3,1),IF(AND(G15<>"",MONTH(G15+1)=MONTH(G15)),G15+1,IF(AND(N8<>"",MONTH(N8+1)=MONTH(N8)),N8+1,""))),"") -> 43849 | Q15: =IFERROR(IF(AND(P9="",Q5=Q4,ISNUMBER(W8)=FALSE,ISNUMBER(Q8)=FALSE,Q8<>""),DATE(JANVIER!$A$1,Q3,1),IF(AND(P9<>"",MONTH(P9+1)=MONTH(P9)),P9+1,IF(AND(W8<>"",MONTH(W8+1)=MONTH(W8)),W8+1,""))),"") -> 43871 | R15: =IFERROR(IF(AND(Q9="",R5=R4,ISNUMBER(X8)=FALSE,ISNUMBER(R8)=FALSE,R8<>""),DATE(JANVIER!$A$1,R3,1),IF(AND(Q9<>"",MONTH(Q9+1)=MONTH(Q9)),Q9+1,IF(AND(X8<>"",MONTH(X8+1)=MONTH(X8)),X8+1,""))),"") -> 43872 | S15: =IFERROR(IF(AND(R9="",S5=S4,ISNUMBER(Y8)=FALSE,ISNUMBER(S8)=FALSE,S8<>""),DATE(JANVIER!$A$1,S3,1),IF(AND(R9<>"",MONTH(R9+1)=MONTH(R9)),R9+1,IF(AND(Y8<>"",MONTH(Y8+1)=MONTH(Y8)),Y8+1,""))),"") -> 43873 | T15: =IFERROR(IF(AND(S9="",T5=T4,ISNUMBER(Z8)=FALSE,ISNUMBER(T8)=FALSE,T8<>""),DATE(JANVIER!$A$1,T3,1),IF(AND(S9<>"",MONTH(S9+1)=MONTH(S9)),S9+1,IF(AND(Z8<>"",MONTH(Z8+1)=MONTH(Z8)),Z8+1,""))),"") -> 43874 | U15: =IFERROR(IF(AND(T9="",U5=U4,ISNUMBER(AA8)=FALSE,ISNUMBER(U8)=FALSE,U8<>""),DATE(JANVIER!$A$1,U3,1),IF(AND(T9<>"",MONTH(T9+1)=MONTH(T9)),T9+1,IF(AND(AA8<>"",MONTH(AA8+1)=MONTH(AA8)),AA8+1,""))),"") -> 43875 | V15: =IFERROR(IF(AND(U9="",V5=V4,ISNUMBER(AB8)=FALSE,ISNUMBER(V8)=FALSE,V8<>""),DATE(JANVIER!$A$1,V3,1),IF(AND(U9<>"",MONTH(U9+1)=MONTH(U9)),U9+1,IF(AND(AB8<>"",MONTH(AB8+1)=MONTH(AB8)),AB8+1,""))),"") -> 43876 | W15: =IFERROR(IF(AND(V9="",W5=W4,ISNUMBER(AC8)=FALSE,ISNUMBER(W8)=FALSE,W8<>""),DATE(JANVIER!$A$1,W3,1),IF(AND(V9<>"",MONTH(V9+1)=MONTH(V9)),V9+1,IF(AND(AC8<>"",MONTH(AC8+1)=MONTH(AC8)),AC8+1,""))),"") -> 43877 | AF15: =IFERROR(IF(AND(AE9="",AF5=AF4,ISNUMBER(AL8)=FALSE,ISNUMBER(AF8)=FALSE,AF8<>""),DATE(JANVIER!$A$1,AF3,1),IF(AND(AE9<>"",MONTH(AE9+1)=MONTH(AE9)),AE9+1,IF(AND(AL8<>"",MONTH(AL8+1)=MONTH(AL8)),AL8+1,""))),"") -> 43899 | AG15: =IFERROR(IF(AND(AF9="",AG5=AG4,ISNUMBER(AM8)=FALSE,ISNUMBER(AG8)=FALSE,AG8<>""),DATE(JANVIER!$A$1,AG3,1),IF(AND(AF9<>"",MONTH(AF9+1)=MONTH(AF9)),AF9+1,IF(AND(AM8<>"",MONTH(AM8+1)=MONTH(AM8)),AM8+1,""))),"") -> 43900 | AH15: =IFERROR(IF(AND(AG9="",AH5=AH4,ISNUMBER(AN8)=FALSE,ISNUMBER(AH8)=FALSE,AH8<>""),DATE(JANVIER!$A$1,AH3,1),IF(AND(AG9<>"",MONTH(AG9+1)=MONTH(AG9)),AG9+1,IF(AND(AN8<>"",MONTH(AN8+1)=MONTH(AN8)),AN8+1,""))),"") -> 43901 | AI15: =IFERROR(IF(AND(AH9="",AI5=AI4,ISNUMBER(AO8)=FALSE,ISNUMBER(AI8)=FALSE,AI8<>""),DATE(JANVIER!$A$1,AI3,1),IF(AND(AH9<>"",MONTH(AH9+1)=MONTH(AH9)),AH9+1,IF(AND(AO8<>"",MONTH(AO8+1)=MONTH(AO8)),AO8+1,""))),"") -> 43902 | AJ15: =IFERROR(IF(AND(AI9="",AJ5=AJ4,ISNUMBER(AP8)=FALSE,ISNUMBER(AJ8)=FALSE,AJ8<>""),DATE(JANVIER!$A$1,AJ3,1),IF(AND(AI9<>"",MONTH(AI9+1)=MONTH(AI9)),AI9+1,IF(AND(AP8<>"",MONTH(AP8+1)=MONTH(AP8)),AP8+1,""))),"") -> 43903 | AK15: =IFERROR(IF(AND(AJ9="",AK5=AK4,ISNUMBER(AQ8)=FALSE,ISNUMBER(AK8)=FALSE,AK8<>""),DATE(JANVIER!$A$1,AK3,1),IF(AND(AJ9<>"",MONTH(AJ9+1)=MONTH(AJ9)),AJ9+1,IF(AND(AQ8<>"",MONTH(AQ8+1)=MONTH(AQ8)),AQ8+1,""))),"") -> 43904 | AL15: =IFERROR(IF(AND(AK9="",AL5=AL4,ISNUMBER(AR8)=FALSE,ISNUMBER(AL8)=FALSE,AL8<>""),DATE(JANVIER!$A$1,AL3,1),IF(AND(AK9<>"",MONTH(AK9+1)=MONTH(AK9)),AK9+1,IF(AND(AR8<>"",MONTH(AR8+1)=MONTH(AR8)),AR8+1,""))),"") -> 43905 | AU15: =IFERROR(IF(AND(AT9="",AU5=AU4,ISNUMBER(BA8)=FALSE,ISNUMBER(AU8)=FALSE,AU8<>""),DATE(JANVIER!$A$1,AU3,1),IF(AND(AT9<>"",MONTH(AT9+1)=MONTH(AT9)),AT9+1,IF(AND(BA8<>"",MONTH(BA8+1)=MONTH(BA8)),BA8+1,""))),"") -> 43934 | AV15: =IFERROR(IF(AND(AU9="",AV5=AV4,ISNUMBER(BB8)=FALSE,ISNUMBER(AV8)=FALSE,AV8<>""),DATE(JANVIER!$A$1,AV3,1),IF(AND(AU9<>"",MONTH(AU9+1)=MONTH(AU9)),AU9+1,IF(AND(BB8<>"",MONTH(BB8+1)=MONTH(BB8)),BB8+1,""))),"") -> 43935 | AW15: =IFERROR(IF(AND(AV9="",AW5=AW4,ISNUMBER(BC8)=FALSE,ISNUMBER(AW8)=FALSE,AW8<>""),DATE(JANVIER!$A$1,AW3,1),IF(AND(AV9<>"",MONTH(AV9+1)=MONTH(AV9)),AV9+1,IF(AND(BC8<>"",MONTH(BC8+1)=MONTH(BC8)),BC8+1,""))),"") -> 43936 | AX15: =IFERROR(IF(AND(AW9="",AX5=AX4,ISNUMBER(BD8)=FALSE,ISNUMBER(AX8)=FALSE,AX8<>""),DATE(JANVIER!$A$1,AX3,1),IF(AND(AW9<>"",MONTH(AW9+1)=MONTH(AW9)),AW9+1,IF(AND(BD8<>"",MONTH(BD8+1)=MONTH(BD8)),BD8+1,""))),"") -> 43937 | AY15: =IFERROR(IF(AND(AX9="",AY5=AY4,ISNUMBER(BE8)=FALSE,ISNUMBER(AY8)=FALSE,AY8<>""),DATE(JANVIER!$A$1,AY3,1),IF(AND(AX9<>"",MONTH(AX9+1)=MONTH(AX9)),AX9+1,IF(AND(BE8<>"",MONTH(BE8+1)=MONTH(BE8)),BE8+1,""))),"") -> 43938 | AZ15: =IFERROR(IF(AND(AY9="",AZ5=AZ4,ISNUMBER(BF8)=FALSE,ISNUMBER(AZ8)=FALSE,AZ8<>""),DATE(JANVIER!$A$1,AZ3,1),IF(AND(AY9<>"",MONTH(AY9+1)=MONTH(AY9)),AY9+1,IF(AND(BF8<>"",MONTH(BF8+1)=MONTH(BF8)),BF8+1,""))),"") -> 43939 | BA15: =IFERROR(IF(AND(AZ9="",BA5=BA4,ISNUMBER(BG8)=FALSE,ISNUMBER(BA8)=FALSE,BA8<>""),DATE(JANVIER!$A$1,BA3,1),IF(AND(AZ9<>"",MONTH(AZ9+1)=MONTH(AZ9)),AZ9+1,IF(AND(BG8<>"",MONTH(BG8+1)=MONTH(BG8)),BG8+1,""))),"") -> 43940
B16: =IFERROR(IF(AND(A16="",B6=B5,ISNUMBER(H9)=FALSE,ISNUMBER(B9)=FALSE,B9<>""),DATE(JANVIER!$A$1,B4,1),IF(AND(A16<>"",MONTH(A16+1)=MONTH(A16)),A16+1,IF(AND(H9<>"",MONTH(H9+1)=MONTH(H9)),H9+1,""))),"") -> 43850 | C16: =IFERROR(IF(AND(B16="",C6=C5,ISNUMBER(I9)=FALSE,ISNUMBER(C9)=FALSE,C9<>""),DATE(JANVIER!$A$1,C4,1),IF(AND(B16<>"",MONTH(B16+1)=MONTH(B16)),B16+1,IF(AND(I9<>"",MONTH(I9+1)=MONTH(I9)),I9+1,""))),"") -> 43851 | D16: =IFERROR(IF(AND(C16="",D6=D5,ISNUMBER(J9)=FALSE,ISNUMBER(D9)=FALSE,D9<>""),DATE(JANVIER!$A$1,D4,1),IF(AND(C16<>"",MONTH(C16+1)=MONTH(C16)),C16+1,IF(AND(J9<>"",MONTH(J9+1)=MONTH(J9)),J9+1,""))),"") -> 43852 | E16: =IFERROR(IF(AND(D16="",E6=E5,ISNUMBER(K9)=FALSE,ISNUMBER(E9)=FALSE,E9<>""),DATE(JANVIER!$A$1,E4,1),IF(AND(D16<>"",MONTH(D16+1)=MONTH(D16)),D16+1,IF(AND(K9<>"",MONTH(K9+1)=MONTH(K9)),K9+1,""))),"") -> 43853 | F16: =IFERROR(IF(AND(E16="",F6=F5,ISNUMBER(L9)=FALSE,ISNUMBER(F9)=FALSE,F9<>""),DATE(JANVIER!$A$1,F4,1),IF(AND(E16<>"",MONTH(E16+1)=MONTH(E16)),E16+1,IF(AND(L9<>"",MONTH(L9+1)=MONTH(L9)),L9+1,""))),"") -> 43854 | G16: =IFERROR(IF(AND(F16="",G6=G5,ISNUMBER(M9)=FALSE,ISNUMBER(G9)=FALSE,G9<>""),DATE(JANVIER!$A$1,G4,1),IF(AND(F16<>"",MONTH(F16+1)=MONTH(F16)),F16+1,IF(AND(M9<>"",MONTH(M9+1)=MONTH(M9)),M9+1,""))),"") -> 43855 | H16: =IFERROR(IF(AND(G16="",H6=H5,ISNUMBER(N9)=FALSE,ISNUMBER(H9)=FALSE,H9<>""),DATE(JANVIER!$A$1,H4,1),IF(AND(G16<>"",MONTH(G16+1)=MONTH(G16)),G16+1,IF(AND(N9<>"",MONTH(N9+1)=MONTH(N9)),N9+1,""))),"") -> 43856 | Q16: =IFERROR(IF(AND(P10="",Q6=Q5,ISNUMBER(W9)=FALSE,ISNUMBER(Q9)=FALSE,Q9<>""),DATE(JANVIER!$A$1,Q4,1),IF(AND(P10<>"",MONTH(P10+1)=MONTH(P10)),P10+1,IF(AND(W9<>"",MONTH(W9+1)=MONTH(W9)),W9+1,""))),"") -> 43878 | R16: =IFERROR(IF(AND(Q10="",R6=R5,ISNUMBER(X9)=FALSE,ISNUMBER(R9)=FALSE,R9<>""),DATE(JANVIER!$A$1,R4,1),IF(AND(Q10<>"",MONTH(Q10+1)=MONTH(Q10)),Q10+1,IF(AND(X9<>"",MONTH(X9+1)=MONTH(X9)),X9+1,""))),"") -> 43879 | S16: =IFERROR(IF(AND(R10="",S6=S5,ISNUMBER(Y9)=FALSE,ISNUMBER(S9)=FALSE,S9<>""),DATE(JANVIER!$A$1,S4,1),IF(AND(R10<>"",MONTH(R10+1)=MONTH(R10)),R10+1,IF(AND(Y9<>"",MONTH(Y9+1)=MONTH(Y9)),Y9+1,""))),"") -> 43880 | T16: =IFERROR(IF(AND(S10="",T6=T5,ISNUMBER(Z9)=FALSE,ISNUMBER(T9)=FALSE,T9<>""),DATE(JANVIER!$A$1,T4,1),IF(AND(S10<>"",MONTH(S10+1)=MONTH(S10)),S10+1,IF(AND(Z9<>"",MONTH(Z9+1)=MONTH(Z9)),Z9+1,""))),"") -> 43881 | U16: =IFERROR(IF(AND(T10="",U6=U5,ISNUMBER(AA9)=FALSE,ISNUMBER(U9)=FALSE,U9<>""),DATE(JANVIER!$A$1,U4,1),IF(AND(T10<>"",MONTH(T10+1)=MONTH(T10)),T10+1,IF(AND(AA9<>"",MONTH(AA9+1)=MONTH(AA9)),AA9+1,""))),"") -> 43882 | V16: =IFERROR(IF(AND(U10="",V6=V5,ISNUMBER(AB9)=FALSE,ISNUMBER(V9)=FALSE,V9<>""),DATE(JANVIER!$A$1,V4,1),IF(AND(U10<>"",MONTH(U10+1)=MONTH(U10)),U10+1,IF(AND(AB9<>"",MONTH(AB9+1)=MONTH(AB9)),AB9+1,""))),"") -> 43883 | W16: =IFERROR(IF(AND(V10="",W6=W5,ISNUMBER(AC9)=FALSE,ISNUMBER(W9)=FALSE,W9<>""),DATE(JANVIER!$A$1,W4,1),IF(AND(V10<>"",MONTH(V10+1)=MONTH(V10)),V10+1,IF(AND(AC9<>"",MONTH(AC9+1)=MONTH(AC9)),AC9+1,""))),"") -> 43884 | AF16: =IFERROR(IF(AND(AE10="",AF6=AF5,ISNUMBER(AL9)=FALSE,ISNUMBER(AF9)=FALSE,AF9<>""),DATE(JANVIER!$A$1,AF4,1),IF(AND(AE10<>"",MONTH(AE10+1)=MONTH(AE10)),AE10+1,IF(AND(AL9<>"",MONTH(AL9+1)=MONTH(AL9)),AL9+1,""))),"") -> 43906 | AG16: =IFERROR(IF(AND(AF10="",AG6=AG5,ISNUMBER(AM9)=FALSE,ISNUMBER(AG9)=FALSE,AG9<>""),DATE(JANVIER!$A$1,AG4,1),IF(AND(AF10<>"",MONTH(AF10+1)=MONTH(AF10)),AF10+1,IF(AND(AM9<>"",MONTH(AM9+1)=MONTH(AM9)),AM9+1,""))),"") -> 43907 | AH16: =IFERROR(IF(AND(AG10="",AH6=AH5,ISNUMBER(AN9)=FALSE,ISNUMBER(AH9)=FALSE,AH9<>""),DATE(JANVIER!$A$1,AH4,1),IF(AND(AG10<>"",MONTH(AG10+1)=MONTH(AG10)),AG10+1,IF(AND(AN9<>"",MONTH(AN9+1)=MONTH(AN9)),AN9+1,""))),"") -> 43908 | AI16: =IFERROR(IF(AND(AH10="",AI6=AI5,ISNUMBER(AO9)=FALSE,ISNUMBER(AI9)=FALSE,AI9<>""),DATE(JANVIER!$A$1,AI4,1),IF(AND(AH10<>"",MONTH(AH10+1)=MONTH(AH10)),AH10+1,IF(AND(AO9<>"",MONTH(AO9+1)=MONTH(AO9)),AO9+1,""))),"") -> 43909 | AJ16: =IFERROR(IF(AND(AI10="",AJ6=AJ5,ISNUMBER(AP9)=FALSE,ISNUMBER(AJ9)=FALSE,AJ9<>""),DATE(JANVIER!$A$1,AJ4,1),IF(AND(AI10<>"",MONTH(AI10+1)=MONTH(AI10)),AI10+1,IF(AND(AP9<>"",MONTH(AP9+1)=MONTH(AP9)),AP9+1,""))),"") -> 43910 | AK16: =IFERROR(IF(AND(AJ10="",AK6=AK5,ISNUMBER(AQ9)=FALSE,ISNUMBER(AK9)=FALSE,AK9<>""),DATE(JANVIER!$A$1,AK4,1),IF(AND(AJ10<>"",MONTH(AJ10+1)=MONTH(AJ10)),AJ10+1,IF(AND(AQ9<>"",MONTH(AQ9+1)=MONTH(AQ9)),AQ9+1,""))),"") -> 43911 | AL16: =IFERROR(IF(AND(AK10="",AL6=AL5,ISNUMBER(AR9)=FALSE,ISNUMBER(AL9)=FALSE,AL9<>""),DATE(JANVIER!$A$1,AL4,1),IF(AND(AK10<>"",MONTH(AK10+1)=MONTH(AK10)),AK10+1,IF(AND(AR9<>"",MONTH(AR9+1)=MONTH(AR9)),AR9+1,""))),"") -> 43912 | AU16: =IFERROR(IF(AND(AT10="",AU6=AU5,ISNUMBER(BA9)=FALSE,ISNUMBER(AU9)=FALSE,AU9<>""),DATE(JANVIER!$A$1,AU4,1),IF(AND(AT10<>"",MONTH(AT10+1)=MONTH(AT10)),AT10+1,IF(AND(BA9<>"",MONTH(BA9+1)=MONTH(BA9)),BA9+1,""))),"") -> 43941 | AV16: =IFERROR(IF(AND(AU10="",AV6=AV5,ISNUMBER(BB9)=FALSE,ISNUMBER(AV9)=FALSE,AV9<>""),DATE(JANVIER!$A$1,AV4,1),IF(AND(AU10<>"",MONTH(AU10+1)=MONTH(AU10)),AU10+1,IF(AND(BB9<>"",MONTH(BB9+1)=MONTH(BB9)),BB9+1,""))),"") -> 43942 | AW16: =IFERROR(IF(AND(AV10="",AW6=AW5,ISNUMBER(BC9)=FALSE,ISNUMBER(AW9)=FALSE,AW9<>""),DATE(JANVIER!$A$1,AW4,1),IF(AND(AV10<>"",MONTH(AV10+1)=MONTH(AV10)),AV10+1,IF(AND(BC9<>"",MONTH(BC9+1)=MONTH(BC9)),BC9+1,""))),"") -> 43943 | AX16: =IFERROR(IF(AND(AW10="",AX6=AX5,ISNUMBER(BD9)=FALSE,ISNUMBER(AX9)=FALSE,AX9<>""),DATE(JANVIER!$A$1,AX4,1),IF(AND(AW10<>"",MONTH(AW10+1)=MONTH(AW10)),AW10+1,IF(AND(BD9<>"",MONTH(BD9+1)=MONTH(BD9)),BD9+1,""))),"") -> 43944 | AY16: =IFERROR(IF(AND(AX10="",AY6=AY5,ISNUMBER(BE9)=FALSE,ISNUMBER(AY9)=FALSE,AY9<>""),DATE(JANVIER!$A$1,AY4,1),IF(AND(AX10<>"",MONTH(AX10+1)=MONTH(AX10)),AX10+1,IF(AND(BE9<>"",MONTH(BE9+1)=MONTH(BE9)),BE9+1,""))),"") -> 43945 | AZ16: =IFERROR(IF(AND(AY10="",AZ6=AZ5,ISNUMBER(BF9)=FALSE,ISNUMBER(AZ9)=FALSE,AZ9<>""),DATE(JANVIER!$A$1,AZ4,1),IF(AND(AY10<>"",MONTH(AY10+1)=MONTH(AY10)),AY10+1,IF(AND(BF9<>"",MONTH(BF9+1)=MONTH(BF9)),BF9+1,""))),"") -> 43946 | BA16: =IFERROR(IF(AND(AZ10="",BA6=BA5,ISNUMBER(BG9)=FALSE,ISNUMBER(BA9)=FALSE,BA9<>""),DATE(JANVIER!$A$1,BA4,1),IF(AND(AZ10<>"",MONTH(AZ10+1)=MONTH(AZ10)),AZ10+1,IF(AND(BG9<>"",MONTH(BG9+1)=MONTH(BG9)),BG9+1,""))),"") -> 43947
B17: =IFERROR(IF(AND(A17="",B7=B6,ISNUMBER(H10)=FALSE,ISNUMBER(B10)=FALSE,B10<>""),DATE(JANVIER!$A$1,B5,1),IF(AND(A17<>"",MONTH(A17+1)=MONTH(A17)),A17+1,IF(AND(H10<>"",MONTH(H10+1)=MONTH(H10)),H10+1,""))),"") -> 43857 | C17: =IFERROR(IF(AND(B17="",C7=C6,ISNUMBER(I10)=FALSE,ISNUMBER(C10)=FALSE,C10<>""),DATE(JANVIER!$A$1,C5,1),IF(AND(B17<>"",MONTH(B17+1)=MONTH(B17)),B17+1,IF(AND(I10<>"",MONTH(I10+1)=MONTH(I10)),I10+1,""))),"") -> 43858 | D17: =IFERROR(IF(AND(C17="",D7=D6,ISNUMBER(J10)=FALSE,ISNUMBER(D10)=FALSE,D10<>""),DATE(JANVIER!$A$1,D5,1),IF(AND(C17<>"",MONTH(C17+1)=MONTH(C17)),C17+1,IF(AND(J10<>"",MONTH(J10+1)=MONTH(J10)),J10+1,""))),"") -> 43859 | E17: =IFERROR(IF(AND(D17="",E7=E6,ISNUMBER(K10)=FALSE,ISNUMBER(E10)=FALSE,E10<>""),DATE(JANVIER!$A$1,E5,1),IF(AND(D17<>"",MONTH(D17+1)=MONTH(D17)),D17+1,IF(AND(K10<>"",MONTH(K10+1)=MONTH(K10)),K10+1,""))),"") -> 43860 | F17: =IFERROR(IF(AND(E17="",F7=F6,ISNUMBER(L10)=FALSE,ISNUMBER(F10)=FALSE,F10<>""),DATE(JANVIER!$A$1,F5,1),IF(AND(E17<>"",MONTH(E17+1)=MONTH(E17)),E17+1,IF(AND(L10<>"",MONTH(L10+1)=MONTH(L10)),L10+1,""))),"") -> 43861 | G17: =IFERROR(IF(AND(F17="",G7=G6,ISNUMBER(M10)=FALSE,ISNUMBER(G10)=FALSE,G10<>""),DATE(JANVIER!$A$1,G5,1),IF(AND(F17<>"",MONTH(F17+1)=MONTH(F17)),F17+1,IF(AND(M10<>"",MONTH(M10+1)=MONTH(M10)),M10+1,""))),"") | H17: =IFERROR(IF(AND(G17="",H7=H6,ISNUMBER(N10)=FALSE,ISNUMBER(H10)=FALSE,H10<>""),DATE(JANVIER!$A$1,H5,1),IF(AND(G17<>"",MONTH(G17+1)=MONTH(G17)),G17+1,IF(AND(N10<>"",MONTH(N10+1)=MONTH(N10)),N10+1,""))),"") | Q17: =IFERROR(IF(AND(P11="",Q7=Q6,ISNUMBER(W10)=FALSE,ISNUMBER(Q10)=FALSE,Q10<>""),DATE(JANVIER!$A$1,Q5,1),IF(AND(P11<>"",MONTH(P11+1)=MONTH(P11)),P11+1,IF(AND(W10<>"",MONTH(W10+1)=MONTH(W10)),W10+1,""))),"") -> 43885 | R17: =IFERROR(IF(AND(Q11="",R7=R6,ISNUMBER(X10)=FALSE,ISNUMBER(R10)=FALSE,R10<>""),DATE(JANVIER!$A$1,R5,1),IF(AND(Q11<>"",MONTH(Q11+1)=MONTH(Q11)),Q11+1,IF(AND(X10<>"",MONTH(X10+1)=MONTH(X10)),X10+1,""))),"") -> 43886 | S17: =IFERROR(IF(AND(R11="",S7=S6,ISNUMBER(Y10)=FALSE,ISNUMBER(S10)=FALSE,S10<>""),DATE(JANVIER!$A$1,S5,1),IF(AND(R11<>"",MONTH(R11+1)=MONTH(R11)),R11+1,IF(AND(Y10<>"",MONTH(Y10+1)=MONTH(Y10)),Y10+1,""))),"") -> 43887 | T17: =IFERROR(IF(AND(S11="",T7=T6,ISNUMBER(Z10)=FALSE,ISNUMBER(T10)=FALSE,T10<>""),DATE(JANVIER!$A$1,T5,1),IF(AND(S11<>"",MONTH(S11+1)=MONTH(S11)),S11+1,IF(AND(Z10<>"",MONTH(Z10+1)=MONTH(Z10)),Z10+1,""))),"") -> 43888 | U17: =IFERROR(IF(AND(T11="",U7=U6,ISNUMBER(AA10)=FALSE,ISNUMBER(U10)=FALSE,U10<>""),DATE(JANVIER!$A$1,U5,1),IF(AND(T11<>"",MONTH(T11+1)=MONTH(T11)),T11+1,IF(AND(AA10<>"",MONTH(AA10+1)=MONTH(AA10)),AA10+1,""))),"") -> 43889 | V17: =IFERROR(IF(AND(U11="",V7=V6,ISNUMBER(AB10)=FALSE,ISNUMBER(V10)=FALSE,V10<>""),DATE(JANVIER!$A$1,V5,1),IF(AND(U11<>"",MONTH(U11+1)=MONTH(U11)),U11+1,IF(AND(AB10<>"",MONTH(AB10+1)=MONTH(AB10)),AB10+1,""))),"") -> 43890 | W17: =IFERROR(IF(AND(V11="",W7=W6,ISNUMBER(AC10)=FALSE,ISNUMBER(W10)=FALSE,W10<>""),DATE(JANVIER!$A$1,W5,1),IF(AND(V11<>"",MONTH(V11+1)=MONTH(V11)),V11+1,IF(AND(AC10<>"",MONTH(AC10+1)=MONTH(AC10)),AC10+1,""))),"") | AF17: =IFERROR(IF(AND(AE11="",AF7=AF6,ISNUMBER(AL10)=FALSE,ISNUMBER(AF10)=FALSE,AF10<>""),DATE(JANVIER!$A$1,AF5,1),IF(AND(AE11<>"",MONTH(AE11+1)=MONTH(AE11)),AE11+1,IF(AND(AL10<>"",MONTH(AL10+1)=MONTH(AL10)),AL10+1,""))),"") -> 43913 | AG17: =IFERROR(IF(AND(AF11="",AG7=AG6,ISNUMBER(AM10)=FALSE,ISNUMBER(AG10)=FALSE,AG10<>""),DATE(JANVIER!$A$1,AG5,1),IF(AND(AF11<>"",MONTH(AF11+1)=MONTH(AF11)),AF11+1,IF(AND(AM10<>"",MONTH(AM10+1)=MONTH(AM10)),AM10+1,""))),"") -> 43914 | AH17: =IFERROR(IF(AND(AG11="",AH7=AH6,ISNUMBER(AN10)=FALSE,ISNUMBER(AH10)=FALSE,AH10<>""),DATE(JANVIER!$A$1,AH5,1),IF(AND(AG11<>"",MONTH(AG11+1)=MONTH(AG11)),AG11+1,IF(AND(AN10<>"",MONTH(AN10+1)=MONTH(AN10)),AN10+1,""))),"") -> 43915 | AI17: =IFERROR(IF(AND(AH11="",AI7=AI6,ISNUMBER(AO10)=FALSE,ISNUMBER(AI10)=FALSE,AI10<>""),DATE(JANVIER!$A$1,AI5,1),IF(AND(AH11<>"",MONTH(AH11+1)=MONTH(AH11)),AH11+1,IF(AND(AO10<>"",MONTH(AO10+1)=MONTH(AO10)),AO10+1,""))),"") -> 43916 | AJ17: =IFERROR(IF(AND(AI11="",AJ7=AJ6,ISNUMBER(AP10)=FALSE,ISNUMBER(AJ10)=FALSE,AJ10<>""),DATE(JANVIER!$A$1,AJ5,1),IF(AND(AI11<>"",MONTH(AI11+1)=MONTH(AI11)),AI11+1,IF(AND(AP10<>"",MONTH(AP10+1)=MONTH(AP10)),AP10+1,""))),"") -> 43917 | AK17: =IFERROR(IF(AND(AJ11="",AK7=AK6,ISNUMBER(AQ10)=FALSE,ISNUMBER(AK10)=FALSE,AK10<>""),DATE(JANVIER!$A$1,AK5,1),IF(AND(AJ11<>"",MONTH(AJ11+1)=MONTH(AJ11)),AJ11+1,IF(AND(AQ10<>"",MONTH(AQ10+1)=MONTH(AQ10)),AQ10+1,""))),"") -> 43918 | AL17: =IFERROR(IF(AND(AK11="",AL7=AL6,ISNUMBER(AR10)=FALSE,ISNUMBER(AL10)=FALSE,AL10<>""),DATE(JANVIER!$A$1,AL5,1),IF(AND(AK11<>"",MONTH(AK11+1)=MONTH(AK11)),AK11+1,IF(AND(AR10<>"",MONTH(AR10+1)=MONTH(AR10)),AR10+1,""))),"") -> 43919 | AU17: =IFERROR(IF(AND(AT11="",AU7=AU6,ISNUMBER(BA10)=FALSE,ISNUMBER(AU10)=FALSE,AU10<>""),DATE(JANVIER!$A$1,AU5,1),IF(AND(AT11<>"",MONTH(AT11+1)=MONTH(AT11)),AT11+1,IF(AND(BA10<>"",MONTH(BA10+1)=MONTH(BA10)),BA10+1,""))),"") -> 43948 | AV17: =IFERROR(IF(AND(AU11="",AV7=AV6,ISNUMBER(BB10)=FALSE,ISNUMBER(AV10)=FALSE,AV10<>""),DATE(JANVIER!$A$1,AV5,1),IF(AND(AU11<>"",MONTH(AU11+1)=MONTH(AU11)),AU11+1,IF(AND(BB10<>"",MONTH(BB10+1)=MONTH(BB10)),BB10+1,""))),"") -> 43949 | AW17: =IFERROR(IF(AND(AV11="",AW7=AW6,ISNUMBER(BC10)=FALSE,ISNUMBER(AW10)=FALSE,AW10<>""),DATE(JANVIER!$A$1,AW5,1),IF(AND(AV11<>"",MONTH(AV11+1)=MONTH(AV11)),AV11+1,IF(AND(BC10<>"",MONTH(BC10+1)=MONTH(BC10)),BC10+1,""))),"") -> 43950 | AX17: =IFERROR(IF(AND(AW11="",AX7=AX6,ISNUMBER(BD10)=FALSE,ISNUMBER(AX10)=FALSE,AX10<>""),DATE(JANVIER!$A$1,AX5,1),IF(AND(AW11<>"",MONTH(AW11+1)=MONTH(AW11)),AW11+1,IF(AND(BD10<>"",MONTH(BD10+1)=MONTH(BD10)),BD10+1,""))),"") -> 43951 | AY17: =IFERROR(IF(AND(AX11="",AY7=AY6,ISNUMBER(BE10)=FALSE,ISNUMBER(AY10)=FALSE,AY10<>""),DATE(JANVIER!$A$1,AY5,1),IF(AND(AX11<>"",MONTH(AX11+1)=MONTH(AX11)),AX11+1,IF(AND(BE10<>"",MONTH(BE10+1)=MONTH(BE10)),BE10+1,""))),"") | AZ17: =IFERROR(IF(AND(AY11="",AZ7=AZ6,ISNUMBER(BF10)=FALSE,ISNUMBER(AZ10)=FALSE,AZ10<>""),DATE(JANVIER!$A$1,AZ5,1),IF(AND(AY11<>"",MONTH(AY11+1)=MONTH(AY11)),AY11+1,IF(AND(BF10<>"",MONTH(BF10+1)=MONTH(BF10)),BF10+1,""))),"") | BA17: =IFERROR(IF(AND(AZ11="",BA7=BA6,ISNUMBER(BG10)=FALSE,ISNUMBER(BA10)=FALSE,BA10<>""),DATE(JANVIER!$A$1,BA5,1),IF(AND(AZ11<>"",MONTH(AZ11+1)=MONTH(AZ11)),AZ11+1,IF(AND(BG10<>"",MONTH(BG10+1)=MONTH(BG10)),BG10+1,""))),"")
B18: =IFERROR(IF(AND(A18="",B8=B7,ISNUMBER(H11)=FALSE,ISNUMBER(B11)=FALSE,B11<>""),DATE(JANVIER!$A$1,B6,1),IF(AND(A18<>"",MONTH(A18+1)=MONTH(A18)),A18+1,IF(AND(H11<>"",MONTH(H11+1)=MONTH(H11)),H11+1,""))),"") | C18: =IFERROR(IF(AND(B18="",C8=C7,ISNUMBER(I11)=FALSE,ISNUMBER(C11)=FALSE,C11<>""),DATE(JANVIER!$A$1,C6,1),IF(AND(B18<>"",MONTH(B18+1)=MONTH(B18)),B18+1,IF(AND(I11<>"",MONTH(I11+1)=MONTH(I11)),I11+1,""))),"") | D18: =IFERROR(IF(AND(C18="",D8=D7,ISNUMBER(J11)=FALSE,ISNUMBER(D11)=FALSE,D11<>""),DATE(JANVIER!$A$1,D6,1),IF(AND(C18<>"",MONTH(C18+1)=MONTH(C18)),C18+1,IF(AND(J11<>"",MONTH(J11+1)=MONTH(J11)),J11+1,""))),"") | E18: =IFERROR(IF(AND(D18="",E8=E7,ISNUMBER(K11)=FALSE,ISNUMBER(E11)=FALSE,E11<>""),DATE(JANVIER!$A$1,E6,1),IF(AND(D18<>"",MONTH(D18+1)=MONTH(D18)),D18+1,IF(AND(K11<>"",MONTH(K11+1)=MONTH(K11)),K11+1,""))),"") | F18: =IFERROR(IF(AND(E18="",F8=F7,ISNUMBER(L11)=FALSE,ISNUMBER(F11)=FALSE,F11<>""),DATE(JANVIER!$A$1,F6,1),IF(AND(E18<>"",MONTH(E18+1)=MONTH(E18)),E18+1,IF(AND(L11<>"",MONTH(L11+1)=MONTH(L11)),L11+1,""))),"") | G18: =IFERROR(IF(AND(F18="",G8=G7,ISNUMBER(M11)=FALSE,ISNUMBER(G11)=FALSE,G11<>""),DATE(JANVIER!$A$1,G6,1),IF(AND(F18<>"",MONTH(F18+1)=MONTH(F18)),F18+1,IF(AND(M11<>"",MONTH(M11+1)=MONTH(M11)),M11+1,""))),"") | H18: =IFERROR(IF(AND(G18="",H8=H7,ISNUMBER(N11)=FALSE,ISNUMBER(H11)=FALSE,H11<>""),DATE(JANVIER!$A$1,H6,1),IF(AND(G18<>"",MONTH(G18+1)=MONTH(G18)),G18+1,IF(AND(N11<>"",MONTH(N11+1)=MONTH(N11)),N11+1,""))),"") | Q18: =IFERROR(IF(AND(P12="",Q8=Q7,ISNUMBER(W11)=FALSE,ISNUMBER(Q11)=FALSE,Q11<>""),DATE(JANVIER!$A$1,Q6,1),IF(AND(P12<>"",MONTH(P12+1)=MONTH(P12)),P12+1,IF(AND(W11<>"",MONTH(W11+1)=MONTH(W11)),W11+1,""))),"") | R18: =IFERROR(IF(AND(Q12="",R8=R7,ISNUMBER(X11)=FALSE,ISNUMBER(R11)=FALSE,R11<>""),DATE(JANVIER!$A$1,R6,1),IF(AND(Q12<>"",MONTH(Q12+1)=MONTH(Q12)),Q12+1,IF(AND(X11<>"",MONTH(X11+1)=MONTH(X11)),X11+1,""))),"") | S18: =IFERROR(IF(AND(R12="",S8=S7,ISNUMBER(Y11)=FALSE,ISNUMBER(S11)=FALSE,S11<>""),DATE(JANVIER!$A$1,S6,1),IF(AND(R12<>"",MONTH(R12+1)=MONTH(R12)),R12+1,IF(AND(Y11<>"",MONTH(Y11+1)=MONTH(Y11)),Y11+1,""))),"") | T18: =IFERROR(IF(AND(S12="",T8=T7,ISNUMBER(Z11)=FALSE,ISNUMBER(T11)=FALSE,T11<>""),DATE(JANVIER!$A$1,T6,1),IF(AND(S12<>"",MONTH(S12+1)=MONTH(S12)),S12+1,IF(AND(Z11<>"",MONTH(Z11+1)=MONTH(Z11)),Z11+1,""))),"") | U18: =IFERROR(IF(AND(T12="",U8=U7,ISNUMBER(AA11)=FALSE,ISNUMBER(U11)=FALSE,U11<>""),DATE(JANVIER!$A$1,U6,1),IF(AND(T12<>"",MONTH(T12+1)=MONTH(T12)),T12+1,IF(AND(AA11<>"",MONTH(AA11+1)=MONTH(AA11)),AA11+1,""))),"") | V18: =IFERROR(IF(AND(U12="",V8=V7,ISNUMBER(AB11)=FALSE,ISNUMBER(V11)=FALSE,V11<>""),DATE(JANVIER!$A$1,V6,1),IF(AND(U12<>"",MONTH(U12+1)=MONTH(U12)),U12+1,IF(AND(AB11<>"",MONTH(AB11+1)=MONTH(AB11)),AB11+1,""))),"") | W18: =IFERROR(IF(AND(V12="",W8=W7,ISNUMBER(AC11)=FALSE,ISNUMBER(W11)=FALSE,W11<>""),DATE(JANVIER!$A$1,W6,1),IF(AND(V12<>"",MONTH(V12+1)=MONTH(V12)),V12+1,IF(AND(AC11<>"",MONTH(AC11+1)=MONTH(AC11)),AC11+1,""))),"") | AF18: =IFERROR(IF(AND(AE12="",AF8=AF7,ISNUMBER(AL11)=FALSE,ISNUMBER(AF11)=FALSE,AF11<>""),DATE(JANVIER!$A$1,AF6,1),IF(AND(AE12<>"",MONTH(AE12+1)=MONTH(AE12)),AE12+1,IF(AND(AL11<>"",MONTH(AL11+1)=MONTH(AL11)),AL11+1,""))),"") -> 43920 | AG18: =IFERROR(IF(AND(AF12="",AG8=AG7,ISNUMBER(AM11)=FALSE,ISNUMBER(AG11)=FALSE,AG11<>""),DATE(JANVIER!$A$1,AG6,1),IF(AND(AF12<>"",MONTH(AF12+1)=MONTH(AF12)),AF12+1,IF(AND(AM11<>"",MONTH(AM11+1)=MONTH(AM11)),AM11+1,""))),"") -> 43921 | AH18: =IFERROR(IF(AND(AG12="",AH8=AH7,ISNUMBER(AN11)=FALSE,ISNUMBER(AH11)=FALSE,AH11<>""),DATE(JANVIER!$A$1,AH6,1),IF(AND(AG12<>"",MONTH(AG12+1)=MONTH(AG12)),AG12+1,IF(AND(AN11<>"",MONTH(AN11+1)=MONTH(AN11)),AN11+1,""))),"") | AI18: =IFERROR(IF(AND(AH12="",AI8=AI7,ISNUMBER(AO11)=FALSE,ISNUMBER(AI11)=FALSE,AI11<>""),DATE(JANVIER!$A$1,AI6,1),IF(AND(AH12<>"",MONTH(AH12+1)=MONTH(AH12)),AH12+1,IF(AND(AO11<>"",MONTH(AO11+1)=MONTH(AO11)),AO11+1,""))),"") | AJ18: =IFERROR(IF(AND(AI12="",AJ8=AJ7,ISNUMBER(AP11)=FALSE,ISNUMBER(AJ11)=FALSE,AJ11<>""),DATE(JANVIER!$A$1,AJ6,1),IF(AND(AI12<>"",MONTH(AI12+1)=MONTH(AI12)),AI12+1,IF(AND(AP11<>"",MONTH(AP11+1)=MONTH(AP11)),AP11+1,""))),"") | AK18: =IFERROR(IF(AND(AJ12="",AK8=AK7,ISNUMBER(AQ11)=FALSE,ISNUMBER(AK11)=FALSE,AK11<>""),DATE(JANVIER!$A$1,AK6,1),IF(AND(AJ12<>"",MONTH(AJ12+1)=MONTH(AJ12)),AJ12+1,IF(AND(AQ11<>"",MONTH(AQ11+1)=MONTH(AQ11)),AQ11+1,""))),"") | AL18: =IFERROR(IF(AND(AK12="",AL8=AL7,ISNUMBER(AR11)=FALSE,ISNUMBER(AL11)=FALSE,AL11<>""),DATE(JANVIER!$A$1,AL6,1),IF(AND(AK12<>"",MONTH(AK12+1)=MONTH(AK12)),AK12+1,IF(AND(AR11<>"",MONTH(AR11+1)=MONTH(AR11)),AR11+1,""))),"") | AU18: =IFERROR(IF(AND(AT12="",AU8=AU7,ISNUMBER(BA11)=FALSE,ISNUMBER(AU11)=FALSE,AU11<>""),DATE(JANVIER!$A$1,AU6,1),IF(AND(AT12<>"",MONTH(AT12+1)=MONTH(AT12)),AT12+1,IF(AND(BA11<>"",MONTH(BA11+1)=MONTH(BA11)),BA11+1,""))),"") | AV18: =IFERROR(IF(AND(AU12="",AV8=AV7,ISNUMBER(BB11)=FALSE,ISNUMBER(AV11)=FALSE,AV11<>""),DATE(JANVIER!$A$1,AV6,1),IF(AND(AU12<>"",MONTH(AU12+1)=MONTH(AU12)),AU12+1,IF(AND(BB11<>"",MONTH(BB11+1)=MONTH(BB11)),BB11+1,""))),"") | AW18: =IFERROR(IF(AND(AV12="",AW8=AW7,ISNUMBER(BC11)=FALSE,ISNUMBER(AW11)=FALSE,AW11<>""),DATE(JANVIER!$A$1,AW6,1),IF(AND(AV12<>"",MONTH(AV12+1)=MONTH(AV12)),AV12+1,IF(AND(BC11<>"",MONTH(BC11+1)=MONTH(BC11)),BC11+1,""))),"") | AX18: =IFERROR(IF(AND(AW12="",AX8=AX7,ISNUMBER(BD11)=FALSE,ISNUMBER(AX11)=FALSE,AX11<>""),DATE(JANVIER!$A$1,AX6,1),IF(AND(AW12<>"",MONTH(AW12+1)=MONTH(AW12)),AW12+1,IF(AND(BD11<>"",MONTH(BD11+1)=MONTH(BD11)),BD11+1,""))),"") | AY18: =IFERROR(IF(AND(AX12="",AY8=AY7,ISNUMBER(BE11)=FALSE,ISNUMBER(AY11)=FALSE,AY11<>""),DATE(JANVIER!$A$1,AY6,1),IF(AND(AX12<>"",MONTH(AX12+1)=MONTH(AX12)),AX12+1,IF(AND(BE11<>"",MONTH(BE11+1)=MONTH(BE11)),BE11+1,""))),"") | AZ18: =IFERROR(IF(AND(AY12="",AZ8=AZ7,ISNUMBER(BF11)=FALSE,ISNUMBER(AZ11)=FALSE,AZ11<>""),DATE(JANVIER!$A$1,AZ6,1),IF(AND(AY12<>"",MONTH(AY12+1)=MONTH(AY12)),AY12+1,IF(AND(BF11<>"",MONTH(BF11+1)=MONTH(BF11)),BF11+1,""))),"") | BA18: =IFERROR(IF(AND(AZ12="",BA8=BA7,ISNUMBER(BG11)=FALSE,ISNUMBER(BA11)=FALSE,BA11<>""),DATE(JANVIER!$A$1,BA6,1),IF(AND(AZ12<>"",MONTH(AZ12+1)=MONTH(AZ12)),AZ12+1,IF(AND(BG11<>"",MONTH(BG11+1)=MONTH(BG11)),BG11+1,""))),"")
B20: 5 | C20: 5 | D20: 5 | E20: 5 | F20: 5 | G20: 5 | H20: 5 | Q20: 6 | R20: 6 | S20: 6 | T20: 6 | U20: 6 | V20: 6 | W20: 6 | AF20: 7 | AG20: 7 | AH20: 7 | AI20: 7 | AJ20: 7 | AK20: 7 | AL20: 7 | AU20: 8 | AV20: 8 | AW20: 8 | AX20: 8 | AY20: 8 | AZ20: 8 | BA20: 8
B21: =WEEKDAY(DATE(JANVIER!$A$1,B20,1),2) -> 5 | C21: =WEEKDAY(DATE(JANVIER!$A$1,C20,1),2) -> 5 | D21: =WEEKDAY(DATE(JANVIER!$A$1,D20,1),2) -> 5 | E21: =WEEKDAY(DATE(JANVIER!$A$1,E20,1),2) -> 5 | F21: =WEEKDAY(DATE(JANVIER!$A$1,F20,1),2) -> 5 | G21: =WEEKDAY(DATE(JANVIER!$A$1,G20,1),2) -> 5 | H21: =WEEKDAY(DATE(JANVIER!$A$1,H20,1),2) -> 5 | Q21: =WEEKDAY(DATE(JANVIER!$A$1,Q20,1),2) -> 1 | R21: =WEEKDAY(DATE(JANVIER!$A$1,R20,1),2) -> 1 | S21: =WEEKDAY(DATE(JANVIER!$A$1,S20,1),2) -> 1 | T21: =WEEKDAY(DATE(JANVIER!$A$1,T20,1),2) -> 1 | U21: =WEEKDAY(DATE(JANVIER!$A$1,U20,1),2) -> 1 | V21: =WEEKDAY(DATE(JANVIER!$A$1,V20,1),2) -> 1 | W21: =WEEKDAY(DATE(JANVIER!$A$1,W20,1),2) -> 1 | AF21: =WEEKDAY(DATE(JANVIER!$A$1,AF20,1),2) -> 3 | AG21: =WEEKDAY(DATE(JANVIER!$A$1,AG20,1),2) -> 3 | AH21: =WEEKDAY(DATE(JANVIER!$A$1,AH20,1),2) -> 3 | AI21: =WEEKDAY(DATE(JANVIER!$A$1,AI20,1),2) -> 3 | AJ21: =WEEKDAY(DATE(JANVIER!$A$1,AJ20,1),2) -> 3 | AK21: =WEEKDAY(DATE(JANVIER!$A$1,AK20,1),2) -> 3 | AL21: =WEEKDAY(DATE(JANVIER!$A$1,AL20,1),2) -> 3 | AU21: =WEEKDAY(DATE(JANVIER!$A$1,AU20,1),2) -> 6 | AV21: =WEEKDAY(DATE(JANVIER!$A$1,AV20,1),2) -> 6 | AW21: =WEEKDAY(DATE(JANVIER!$A$1,AW20,1),2) -> 6 | AX21: =WEEKDAY(DATE(JANVIER!$A$1,AX20,1),2) -> 6 | AY21: =WEEKDAY(DATE(JANVIER!$A$1,AY20,1),2) -> 6 | AZ21: =WEEKDAY(DATE(JANVIER!$A$1,AZ20,1),2) -> 6 | BA21: =WEEKDAY(DATE(JANVIER!$A$1,BA20,1),2) -> 6
B22: 1 | C22: 2 | D22: 3 | E22: 4 | F22: 5 | G22: 6 | H22: 7 | Q22: 1 | R22: 2 | S22: 3 | T22: 4 | U22: 5 | V22: 6 | W22: 7 | AF22: 1 | AG22: 2 | AH22: 3 | AI22: 4 | AJ22: 5 | AK22: 6 | AL22: 7 | AU22: 1 | AV22: 2 | AW22: 3 | AX22: 4 | AY22: 5 | AZ22: 6 | BA22: 7
B25: L | C25: M | D25: M | E25: J | F25: V | G25: S | H25: D | Q25: L | R25: M | S25: M | T25: J | U25: V | V25: S | W25: D | AF25: L | AG25: M | AH25: M | AI25: J | AJ25: V | AK25: S | AL25: D | AU25: L | AV25: M | AW25: M | AX25: J | AY25: V | AZ25: S | BA25: D
B26: =IFERROR(IF(AND(A26="",B22=B21,ISNUMBER(H25)=FALSE,ISNUMBER(B25)=FALSE,B25<>""),DATE(JANVIER!$A$1,B20,1),IF(AND(A26<>"",MONTH(A26+1)=MONTH(A26)),A26+1,IF(AND(H25<>"",MONTH(H25+1)=MONTH(H25)),H25+1,""))),"") | C26: =IFERROR(IF(AND(B26="",C22=C21,ISNUMBER(I25)=FALSE,ISNUMBER(C25)=FALSE,C25<>""),DATE(JANVIER!$A$1,C20,1),IF(AND(B26<>"",MONTH(B26+1)=MONTH(B26)),B26+1,IF(AND(I25<>"",MONTH(I25+1)=MONTH(I25)),I25+1,""))),"") | D26: =IFERROR(IF(AND(C26="",D22=D21,ISNUMBER(J25)=FALSE,ISNUMBER(D25)=FALSE,D25<>""),DATE(JANVIER!$A$1,D20,1),IF(AND(C26<>"",MONTH(C26+1)=MONTH(C26)),C26+1,IF(AND(J25<>"",MONTH(J25+1)=MONTH(J25)),J25+1,""))),"") | E26: =IFERROR(IF(AND(D26="",E22=E21,ISNUMBER(K25)=FALSE,ISNUMBER(E25)=FALSE,E25<>""),DATE(JANVIER!$A$1,E20,1),IF(AND(D26<>"",MONTH(D26+1)=MONTH(D26)),D26+1,IF(AND(K25<>"",MONTH(K25+1)=MONTH(K25)),K25+1,""))),"") | F26: =IFERROR(IF(AND(E26="",F22=F21,ISNUMBER(L25)=FALSE,ISNUMBER(F25)=FALSE,F25<>""),DATE(JANVIER!$A$1,F20,1),IF(AND(E26<>"",MONTH(E26+1)=MONTH(E26)),E26+1,IF(AND(L25<>"",MONTH(L25+1)=MONTH(L25)),L25+1,""))),"") -> 43952 | G26: =IFERROR(IF(AND(F26="",G22=G21,ISNUMBER(M25)=FALSE,ISNUMBER(G25)=FALSE,G25<>""),DATE(JANVIER!$A$1,G20,1),IF(AND(F26<>"",MONTH(F26+1)=MONTH(F26)),F26+1,IF(AND(M25<>"",MONTH(M25+1)=MONTH(M25)),M25+1,""))),"") -> 43953 | H26: =IFERROR(IF(AND(G26="",H22=H21,ISNUMBER(N25)=FALSE,ISNUMBER(H25)=FALSE,H25<>""),DATE(JANVIER!$A$1,H20,1),IF(AND(G26<>"",MONTH(G26+1)=MONTH(G26)),G26+1,IF(AND(N25<>"",MONTH(N25+1)=MONTH(N25)),N25+1,""))),"") -> 43954 | Q26: =IFERROR(IF(AND(P26="",Q22=Q21,ISNUMBER(W25)=FALSE,ISNUMBER(Q25)=FALSE,Q25<>""),DATE(JANVIER!$A$1,Q20,1),IF(AND(P26<>"",MONTH(P26+1)=MONTH(P26)),P26+1,IF(AND(W25<>"",MONTH(W25+1)=MONTH(W25)),W25+1,""))),"") -> 43983 | R26: =IFERROR(IF(AND(Q26="",R22=R21,ISNUMBER(X25)=FALSE,ISNUMBER(R25)=FALSE,R25<>""),DATE(JANVIER!$A$1,R20,1),IF(AND(Q26<>"",MONTH(Q26+1)=MONTH(Q26)),Q26+1,IF(AND(X25<>"",MONTH(X25+1)=MONTH(X25)),X25+1,""))),"") -> 43984 | S26: =IFERROR(IF(AND(R26="",S22=S21,ISNUMBER(Y25)=FALSE,ISNUMBER(S25)=FALSE,S25<>""),DATE(JANVIER!$A$1,S20,1),IF(AND(R26<>"",MONTH(R26+1)=MONTH(R26)),R26+1,IF(AND(Y25<>"",MONTH(Y25+1)=MONTH(Y25)),Y25+1,""))),"") -> 43985 | T26: =IFERROR(IF(AND(S26="",T22=T21,ISNUMBER(Z25)=FALSE,ISNUMBER(T25)=FALSE,T25<>""),DATE(JANVIER!$A$1,T20,1),IF(AND(S26<>"",MONTH(S26+1)=MONTH(S26)),S26+1,IF(AND(Z25<>"",MONTH(Z25+1)=MONTH(Z25)),Z25+1,""))),"") -> 43986 | U26: =IFERROR(IF(AND(T26="",U22=U21,ISNUMBER(AA25)=FALSE,ISNUMBER(U25)=FALSE,U25<>""),DATE(JANVIER!$A$1,U20,1),IF(AND(T26<>"",MONTH(T26+1)=MONTH(T26)),T26+1,IF(AND(AA25<>"",MONTH(AA25+1)=MONTH(AA25)),AA25+1,""))),"") -> 43987 | V26: =IFERROR(IF(AND(U26="",V22=V21,ISNUMBER(AB25)=FALSE,ISNUMBER(V25)=FALSE,V25<>""),DATE(JANVIER!$A$1,V20,1),IF(AND(U26<>"",MONTH(U26+1)=MONTH(U26)),U26+1,IF(AND(AB25<>"",MONTH(AB25+1)=MONTH(AB25)),AB25+1,""))),"") -> 43988 | W26: =IFERROR(IF(AND(V26="",W22=W21,ISNUMBER(AC25)=FALSE,ISNUMBER(W25)=FALSE,W25<>""),DATE(JANVIER!$A$1,W20,1),IF(AND(V26<>"",MONTH(V26+1)=MONTH(V26)),V26+1,IF(AND(AC25<>"",MONTH(AC25+1)=MONTH(AC25)),AC25+1,""))),"") -> 43989 | AF26: =IFERROR(IF(AND(AE26="",AF22=AF21,ISNUMBER(AL25)=FALSE,ISNUMBER(AF25)=FALSE,AF25<>""),DATE(JANVIER!$A$1,AF20,1),IF(AND(AE26<>"",MONTH(AE26+1)=MONTH(AE26)),AE26+1,IF(AND(AL25<>"",MONTH(AL25+1)=MONTH(AL25)),AL25+1,""))),"") | AG26: =IFERROR(IF(AND(AF26="",AG22=AG21,ISNUMBER(AM25)=FALSE,ISNUMBER(AG25)=FALSE,AG25<>""),DATE(JANVIER!$A$1,AG20,1),IF(AND(AF26<>"",MONTH(AF26+1)=MONTH(AF26)),AF26+1,IF(AND(AM25<>"",MONTH(AM25+1)=MONTH(AM25)),AM25+1,""))),"") | AH26: =IFERROR(IF(AND(AG26="",AH22=AH21,ISNUMBER(AN25)=FALSE,ISNUMBER(AH25)=FALSE,AH25<>""),DATE(JANVIER!$A$1,AH20,1),IF(AND(AG26<>"",MONTH(AG26+1)=MONTH(AG26)),AG26+1,IF(AND(AN25<>"",MONTH(AN25+1)=MONTH(AN25)),AN25+1,""))),"") -> 44013 | AI26: =IFERROR(IF(AND(AH26="",AI22=AI21,ISNUMBER(AO25)=FALSE,ISNUMBER(AI25)=FALSE,AI25<>""),DATE(JANVIER!$A$1,AI20,1),IF(AND(AH26<>"",MONTH(AH26+1)=MONTH(AH26)),AH26+1,IF(AND(AO25<>"",MONTH(AO25+1)=MONTH(AO25)),AO25+1,""))),"") -> 44014 | AJ26: =IFERROR(IF(AND(AI26="",AJ22=AJ21,ISNUMBER(AP25)=FALSE,ISNUMBER(AJ25)=FALSE,AJ25<>""),DATE(JANVIER!$A$1,AJ20,1),IF(AND(AI26<>"",MONTH(AI26+1)=MONTH(AI26)),AI26+1,IF(AND(AP25<>"",MONTH(AP25+1)=MONTH(AP25)),AP25+1,""))),"") -> 44015 | AK26: =IFERROR(IF(AND(AJ26="",AK22=AK21,ISNUMBER(AQ25)=FALSE,ISNUMBER(AK25)=FALSE,AK25<>""),DATE(JANVIER!$A$1,AK20,1),IF(AND(AJ26<>"",MONTH(AJ26+1)=MONTH(AJ26)),AJ26+1,IF(AND(AQ25<>"",MONTH(AQ25+1)=MONTH(AQ25)),AQ25+1,""))),"") -> 44016 | AL26: =IFERROR(IF(AND(AK26="",AL22=AL21,ISNUMBER(AR25)=FALSE,ISNUMBER(AL25)=FALSE,AL25<>""),DATE(JANVIER!$A$1,AL20,1),IF(AND(AK26<>"",MONTH(AK26+1)=MONTH(AK26)),AK26+1,IF(AND(AR25<>"",MONTH(AR25+1)=MONTH(AR25)),AR25+1,""))),"") -> 44017 | AU26: =IFERROR(IF(AND(AT26="",AU22=AU21,ISNUMBER(BA25)=FALSE,ISNUMBER(AU25)=FALSE,AU25<>""),DATE(JANVIER!$A$1,AU20,1),IF(AND(AT26<>"",MONTH(AT26+1)=MONTH(AT26)),AT26+1,IF(AND(BA25<>"",MONTH(BA25+1)=MONTH(BA25)),BA25+1,""))),"") | AV26: =IFERROR(IF(AND(AU26="",AV22=AV21,ISNUMBER(BB25)=FALSE,ISNUMBER(AV25)=FALSE,AV25<>""),DATE(JANVIER!$A$1,AV20,1),IF(AND(AU26<>"",MONTH(AU26+1)=MONTH(AU26)),AU26+1,IF(AND(BB25<>"",MONTH(BB25+1)=MONTH(BB25)),BB25+1,""))),"") | AW26: =IFERROR(IF(AND(AV26="",AW22=AW21,ISNUMBER(BC25)=FALSE,ISNUMBER(AW25)=FALSE,AW25<>""),DATE(JANVIER!$A$1,AW20,1),IF(AND(AV26<>"",MONTH(AV26+1)=MONTH(AV26)),AV26+1,IF(AND(BC25<>"",MONTH(BC25+1)=MONTH(BC25)),BC25+1,""))),"") | AX26: =IFERROR(IF(AND(AW26="",AX22=AX21,ISNUMBER(BD25)=FALSE,ISNUMBER(AX25)=FALSE,AX25<>""),DATE(JANVIER!$A$1,AX20,1),IF(AND(AW26<>"",MONTH(AW26+1)=MONTH(AW26)),AW26+1,IF(AND(BD25<>"",MONTH(BD25+1)=MONTH(BD25)),BD25+1,""))),"") | AY26: =IFERROR(IF(AND(AX26="",AY22=AY21,ISNUMBER(BE25)=FALSE,ISNUMBER(AY25)=FALSE,AY25<>""),DATE(JANVIER!$A$1,AY20,1),IF(AND(AX26<>"",MONTH(AX26+1)=MONTH(AX26)),AX26+1,IF(AND(BE25<>"",MONTH(BE25+1)=MONTH(BE25)),BE25+1,""))),"") | AZ26: =IFERROR(IF(AND(AY26="",AZ22=AZ21,ISNUMBER(BF25)=FALSE,ISNUMBER(AZ25)=FALSE,AZ25<>""),DATE(JANVIER!$A$1,AZ20,1),IF(AND(AY26<>"",MONTH(AY26+1)=MONTH(AY26)),AY26+1,IF(AND(BF25<>"",MONTH(BF25+1)=MONTH(BF25)),BF25+1,""))),"") -> 44044 | BA26: =IFERROR(IF(AND(AZ26="",BA22=BA21,ISNUMBER(BG25)=FALSE,ISNUMBER(BA25)=FALSE,BA25<>""),DATE(JANVIER!$A$1,BA20,1),IF(AND(AZ26<>"",MONTH(AZ26+1)=MONTH(AZ26)),AZ26+1,IF(AND(BG25<>"",MONTH(BG25+1)=MONTH(BG25)),BG25+1,""))),"") -> 44045
B27: =IFERROR(IF(AND(A27="",B23=B22,ISNUMBER(H26)=FALSE,ISNUMBER(B26)=FALSE,B26<>""),DATE(JANVIER!$A$1,B21,1),IF(AND(A27<>"",MONTH(A27+1)=MONTH(A27)),A27+1,IF(AND(H26<>"",MONTH(H26+1)=MONTH(H26)),H26+1,""))),"") -> 43955 | C27: =IFERROR(IF(AND(B27="",C23=C22,ISNUMBER(I26)=FALSE,ISNUMBER(C26)=FALSE,C26<>""),DATE(JANVIER!$A$1,C21,1),IF(AND(B27<>"",MONTH(B27+1)=MONTH(B27)),B27+1,IF(AND(I26<>"",MONTH(I26+1)=MONTH(I26)),I26+1,""))),"") -> 43956 | D27: =IFERROR(IF(AND(C27="",D23=D22,ISNUMBER(J26)=FALSE,ISNUMBER(D26)=FALSE,D26<>""),DATE(JANVIER!$A$1,D21,1),IF(AND(C27<>"",MONTH(C27+1)=MONTH(C27)),C27+1,IF(AND(J26<>"",MONTH(J26+1)=MONTH(J26)),J26+1,""))),"") -> 43957 | E27: =IFERROR(IF(AND(D27="",E23=E22,ISNUMBER(K26)=FALSE,ISNUMBER(E26)=FALSE,E26<>""),DATE(JANVIER!$A$1,E21,1),IF(AND(D27<>"",MONTH(D27+1)=MONTH(D27)),D27+1,IF(AND(K26<>"",MONTH(K26+1)=MONTH(K26)),K26+1,""))),"") -> 43958 | F27: =IFERROR(IF(AND(E27="",F23=F22,ISNUMBER(L26)=FALSE,ISNUMBER(F26)=FALSE,F26<>""),DATE(JANVIER!$A$1,F21,1),IF(AND(E27<>"",MONTH(E27+1)=MONTH(E27)),E27+1,IF(AND(L26<>"",MONTH(L26+1)=MONTH(L26)),L26+1,""))),"") -> 43959 | G27: =IFERROR(IF(AND(F27="",G23=G22,ISNUMBER(M26)=FALSE,ISNUMBER(G26)=FALSE,G26<>""),DATE(JANVIER!$A$1,G21,1),IF(AND(F27<>"",MONTH(F27+1)=MONTH(F27)),F27+1,IF(AND(M26<>"",MONTH(M26+1)=MONTH(M26)),M26+1,""))),"") -> 43960 | H27: =IFERROR(IF(AND(G27="",H23=H22,ISNUMBER(N26)=FALSE,ISNUMBER(H26)=FALSE,H26<>""),DATE(JANVIER!$A$1,H21,1),IF(AND(G27<>"",MONTH(G27+1)=MONTH(G27)),G27+1,IF(AND(N26<>"",MONTH(N26+1)=MONTH(N26)),N26+1,""))),"") -> 43961 | Q27: =IFERROR(IF(AND(P27="",Q23=Q22,ISNUMBER(W26)=FALSE,ISNUMBER(Q26)=FALSE,Q26<>""),DATE(JANVIER!$A$1,Q21,1),IF(AND(P27<>"",MONTH(P27+1)=MONTH(P27)),P27+1,IF(AND(W26<>"",MONTH(W26+1)=MONTH(W26)),W26+1,""))),"") -> 43990 | R27: =IFERROR(IF(AND(Q27="",R23=R22,ISNUMBER(X26)=FALSE,ISNUMBER(R26)=FALSE,R26<>""),DATE(JANVIER!$A$1,R21,1),IF(AND(Q27<>"",MONTH(Q27+1)=MONTH(Q27)),Q27+1,IF(AND(X26<>"",MONTH(X26+1)=MONTH(X26)),X26+1,""))),"") -> 43991 | S27: =IFERROR(IF(AND(R27="",S23=S22,ISNUMBER(Y26)=FALSE,ISNUMBER(S26)=FALSE,S26<>""),DATE(JANVIER!$A$1,S21,1),IF(AND(R27<>"",MONTH(R27+1)=MONTH(R27)),R27+1,IF(AND(Y26<>"",MONTH(Y26+1)=MONTH(Y26)),Y26+1,""))),"") -> 43992 | T27: =IFERROR(IF(AND(S27="",T23=T22,ISNUMBER(Z26)=FALSE,ISNUMBER(T26)=FALSE,T26<>""),DATE(JANVIER!$A$1,T21,1),IF(AND(S27<>"",MONTH(S27+1)=MONTH(S27)),S27+1,IF(AND(Z26<>"",MONTH(Z26+1)=MONTH(Z26)),Z26+1,""))),"") -> 43993 | U27: =IFERROR(IF(AND(T27="",U23=U22,ISNUMBER(AA26)=FALSE,ISNUMBER(U26)=FALSE,U26<>""),DATE(JANVIER!$A$1,U21,1),IF(AND(T27<>"",MONTH(T27+1)=MONTH(T27)),T27+1,IF(AND(AA26<>"",MONTH(AA26+1)=MONTH(AA26)),AA26+1,""))),"") -> 43994 | V27: =IFERROR(IF(AND(U27="",V23=V22,ISNUMBER(AB26)=FALSE,ISNUMBER(V26)=FALSE,V26<>""),DATE(JANVIER!$A$1,V21,1),IF(AND(U27<>"",MONTH(U27+1)=MONTH(U27)),U27+1,IF(AND(AB26<>"",MONTH(AB26+1)=MONTH(AB26)),AB26+1,""))),"") -> 43995 | W27: =IFERROR(IF(AND(V27="",W23=W22,ISNUMBER(AC26)=FALSE,ISNUMBER(W26)=FALSE,W26<>""),DATE(JANVIER!$A$1,W21,1),IF(AND(V27<>"",MONTH(V27+1)=MONTH(V27)),V27+1,IF(AND(AC26<>"",MONTH(AC26+1)=MONTH(AC26)),AC26+1,""))),"") -> 43996 | AF27: =IFERROR(IF(AND(AE27="",AF23=AF22,ISNUMBER(AL26)=FALSE,ISNUMBER(AF26)=FALSE,AF26<>""),DATE(JANVIER!$A$1,AF21,1),IF(AND(AE27<>"",MONTH(AE27+1)=MONTH(AE27)),AE27+1,IF(AND(AL26<>"",MONTH(AL26+1)=MONTH(AL26)),AL26+1,""))),"") -> 44018 | AG27: =IFERROR(IF(AND(AF27="",AG23=AG22,ISNUMBER(AM26)=FALSE,ISNUMBER(AG26)=FALSE,AG26<>""),DATE(JANVIER!$A$1,AG21,1),IF(AND(AF27<>"",MONTH(AF27+1)=MONTH(AF27)),AF27+1,IF(AND(AM26<>"",MONTH(AM26+1)=MONTH(AM26)),AM26+1,""))),"") -> 44019 | AH27: =IFERROR(IF(AND(AG27="",AH23=AH22,ISNUMBER(AN26)=FALSE,ISNUMBER(AH26)=FALSE,AH26<>""),DATE(JANVIER!$A$1,AH21,1),IF(AND(AG27<>"",MONTH(AG27+1)=MONTH(AG27)),AG27+1,IF(AND(AN26<>"",MONTH(AN26+1)=MONTH(AN26)),AN26+1,""))),"") -> 44020 | AI27: =IFERROR(IF(AND(AH27="",AI23=AI22,ISNUMBER(AO26)=FALSE,ISNUMBER(AI26)=FALSE,AI26<>""),DATE(JANVIER!$A$1,AI21,1),IF(AND(AH27<>"",MONTH(AH27+1)=MONTH(AH27)),AH27+1,IF(AND(AO26<>"",MONTH(AO26+1)=MONTH(AO26)),AO26+1,""))),"") -> 44021 | AJ27: =IFERROR(IF(AND(AI27="",AJ23=AJ22,ISNUMBER(AP26)=FALSE,ISNUMBER(AJ26)=FALSE,AJ26<>""),DATE(JANVIER!$A$1,AJ21,1),IF(AND(AI27<>"",MONTH(AI27+1)=MONTH(AI27)),AI27+1,IF(AND(AP26<>"",MONTH(AP26+1)=MONTH(AP26)),AP26+1,""))),"") -> 44022 | AK27: =IFERROR(IF(AND(AJ27="",AK23=AK22,ISNUMBER(AQ26)=FALSE,ISNUMBER(AK26)=FALSE,AK26<>""),DATE(JANVIER!$A$1,AK21,1),IF(AND(AJ27<>"",MONTH(AJ27+1)=MONTH(AJ27)),AJ27+1,IF(AND(AQ26<>"",MONTH(AQ26+1)=MONTH(AQ26)),AQ26+1,""))),"") -> 44023 | AL27: =IFERROR(IF(AND(AK27="",AL23=AL22,ISNUMBER(AR26)=FALSE,ISNUMBER(AL26)=FALSE,AL26<>""),DATE(JANVIER!$A$1,AL21,1),IF(AND(AK27<>"",MONTH(AK27+1)=MONTH(AK27)),AK27+1,IF(AND(AR26<>"",MONTH(AR26+1)=MONTH(AR26)),AR26+1,""))),"") -> 44024 | AU27: =IFERROR(IF(AND(AT27="",AU23=AU22,ISNUMBER(BA26)=FALSE,ISNUMBER(AU26)=FALSE,AU26<>""),DATE(JANVIER!$A$1,AU21,1),IF(AND(AT27<>"",MONTH(AT27+1)=MONTH(AT27)),AT27+1,IF(AND(BA26<>"",MONTH(BA26+1)=MONTH(BA26)),BA26+1,""))),"") -> 44046 | AV27: =IFERROR(IF(AND(AU27="",AV23=AV22,ISNUMBER(BB26)=FALSE,ISNUMBER(AV26)=FALSE,AV26<>""),DATE(JANVIER!$A$1,AV21,1),IF(AND(AU27<>"",MONTH(AU27+1)=MONTH(AU27)),AU27+1,IF(AND(BB26<>"",MONTH(BB26+1)=MONTH(BB26)),BB26+1,""))),"") -> 44047 | AW27: =IFERROR(IF(AND(AV27="",AW23=AW22,ISNUMBER(BC26)=FALSE,ISNUMBER(AW26)=FALSE,AW26<>""),DATE(JANVIER!$A$1,AW21,1),IF(AND(AV27<>"",MONTH(AV27+1)=MONTH(AV27)),AV27+1,IF(AND(BC26<>"",MONTH(BC26+1)=MONTH(BC26)),BC26+1,""))),"") -> 44048 | AX27: =IFERROR(IF(AND(AW27="",AX23=AX22,ISNUMBER(BD26)=FALSE,ISNUMBER(AX26)=FALSE,AX26<>""),DATE(JANVIER!$A$1,AX21,1),IF(AND(AW27<>"",MONTH(AW27+1)=MONTH(AW27)),AW27+1,IF(AND(BD26<>"",MONTH(BD26+1)=MONTH(BD26)),BD26+1,""))),"") -> 44049 | AY27: =IFERROR(IF(AND(AX27="",AY23=AY22,ISNUMBER(BE26)=FALSE,ISNUMBER(AY26)=FALSE,AY26<>""),DATE(JANVIER!$A$1,AY21,1),IF(AND(AX27<>"",MONTH(AX27+1)=MONTH(AX27)),AX27+1,IF(AND(BE26<>"",MONTH(BE26+1)=MONTH(BE26)),BE26+1,""))),"") -> 44050 | AZ27: =IFERROR(IF(AND(AY27="",AZ23=AZ22,ISNUMBER(BF26)=FALSE,ISNUMBER(AZ26)=FALSE,AZ26<>""),DATE(JANVIER!$A$1,AZ21,1),IF(AND(AY27<>"",MONTH(AY27+1)=MONTH(AY27)),AY27+1,IF(AND(BF26<>"",MONTH(BF26+1)=MONTH(BF26)),BF26+1,""))),"") -> 44051 | BA27: =IFERROR(IF(AND(AZ27="",BA23=BA22,ISNUMBER(BG26)=FALSE,ISNUMBER(BA26)=FALSE,BA26<>""),DATE(JANVIER!$A$1,BA21,1),IF(AND(AZ27<>"",MONTH(AZ27+1)=MONTH(AZ27)),AZ27+1,IF(AND(BG26<>"",MONTH(BG26+1)=MONTH(BG26)),BG26+1,""))),"") -> 44052
B28: =IFERROR(IF(AND(A28="",B24=B23,ISNUMBER(H27)=FALSE,ISNUMBER(B27)=FALSE,B27<>""),DATE(JANVIER!$A$1,B22,1),IF(AND(A28<>"",MONTH(A28+1)=MONTH(A28)),A28+1,IF(AND(H27<>"",MONTH(H27+1)=MONTH(H27)),H27+1,""))),"") -> 43962 | C28: =IFERROR(IF(AND(B28="",C24=C23,ISNUMBER(I27)=FALSE,ISNUMBER(C27)=FALSE,C27<>""),DATE(JANVIER!$A$1,C22,1),IF(AND(B28<>"",MONTH(B28+1)=MONTH(B28)),B28+1,IF(AND(I27<>"",MONTH(I27+1)=MONTH(I27)),I27+1,""))),"") -> 43963 | D28: =IFERROR(IF(AND(C28="",D24=D23,ISNUMBER(J27)=FALSE,ISNUMBER(D27)=FALSE,D27<>""),DATE(JANVIER!$A$1,D22,1),IF(AND(C28<>"",MONTH(C28+1)=MONTH(C28)),C28+1,IF(AND(J27<>"",MONTH(J27+1)=MONTH(J27)),J27+1,""))),"") -> 43964 | E28: =IFERROR(IF(AND(D28="",E24=E23,ISNUMBER(K27)=FALSE,ISNUMBER(E27)=FALSE,E27<>""),DATE(JANVIER!$A$1,E22,1),IF(AND(D28<>"",MONTH(D28+1)=MONTH(D28)),D28+1,IF(AND(K27<>"",MONTH(K27+1)=MONTH(K27)),K27+1,""))),"") -> 43965 | F28: =IFERROR(IF(AND(E28="",F24=F23,ISNUMBER(L27)=FALSE,ISNUMBER(F27)=FALSE,F27<>""),DATE(JANVIER!$A$1,F22,1),IF(AND(E28<>"",MONTH(E28+1)=MONTH(E28)),E28+1,IF(AND(L27<>"",MONTH(L27+1)=MONTH(L27)),L27+1,""))),"") -> 43966 | G28: =IFERROR(IF(AND(F28="",G24=G23,ISNUMBER(M27)=FALSE,ISNUMBER(G27)=FALSE,G27<>""),DATE(JANVIER!$A$1,G22,1),IF(AND(F28<>"",MONTH(F28+1)=MONTH(F28)),F28+1,IF(AND(M27<>"",MONTH(M27+1)=MONTH(M27)),M27+1,""))),"") -> 43967 | H28: =IFERROR(IF(AND(G28="",H24=H23,ISNUMBER(N27)=FALSE,ISNUMBER(H27)=FALSE,H27<>""),DATE(JANVIER!$A$1,H22,1),IF(AND(G28<>"",MONTH(G28+1)=MONTH(G28)),G28+1,IF(AND(N27<>"",MONTH(N27+1)=MONTH(N27)),N27+1,""))),"") -> 43968 | Q28: =IFERROR(IF(AND(P28="",Q24=Q23,ISNUMBER(W27)=FALSE,ISNUMBER(Q27)=FALSE,Q27<>""),DATE(JANVIER!$A$1,Q22,1),IF(AND(P28<>"",MONTH(P28+1)=MONTH(P28)),P28+1,IF(AND(W27<>"",MONTH(W27+1)=MONTH(W27)),W27+1,""))),"") -> 43997 | R28: =IFERROR(IF(AND(Q28="",R24=R23,ISNUMBER(X27)=FALSE,ISNUMBER(R27)=FALSE,R27<>""),DATE(JANVIER!$A$1,R22,1),IF(AND(Q28<>"",MONTH(Q28+1)=MONTH(Q28)),Q28+1,IF(AND(X27<>"",MONTH(X27+1)=MONTH(X27)),X27+1,""))),"") -> 43998 | S28: =IFERROR(IF(AND(R28="",S24=S23,ISNUMBER(Y27)=FALSE,ISNUMBER(S27)=FALSE,S27<>""),DATE(JANVIER!$A$1,S22,1),IF(AND(R28<>"",MONTH(R28+1)=MONTH(R28)),R28+1,IF(AND(Y27<>"",MONTH(Y27+1)=MONTH(Y27)),Y27+1,""))),"") -> 43999 | T28: =IFERROR(IF(AND(S28="",T24=T23,ISNUMBER(Z27)=FALSE,ISNUMBER(T27)=FALSE,T27<>""),DATE(JANVIER!$A$1,T22,1),IF(AND(S28<>"",MONTH(S28+1)=MONTH(S28)),S28+1,IF(AND(Z27<>"",MONTH(Z27+1)=MONTH(Z27)),Z27+1,""))),"") -> 44000 | U28: =IFERROR(IF(AND(T28="",U24=U23,ISNUMBER(AA27)=FALSE,ISNUMBER(U27)=FALSE,U27<>""),DATE(JANVIER!$A$1,U22,1),IF(AND(T28<>"",MONTH(T28+1)=MONTH(T28)),T28+1,IF(AND(AA27<>"",MONTH(AA27+1)=MONTH(AA27)),AA27+1,""))),"") -> 44001 | V28: =IFERROR(IF(AND(U28="",V24=V23,ISNUMBER(AB27)=FALSE,ISNUMBER(V27)=FALSE,V27<>""),DATE(JANVIER!$A$1,V22,1),IF(AND(U28<>"",MONTH(U28+1)=MONTH(U28)),U28+1,IF(AND(AB27<>"",MONTH(AB27+1)=MONTH(AB27)),AB27+1,""))),"") -> 44002 | W28: =IFERROR(IF(AND(V28="",W24=W23,ISNUMBER(AC27)=FALSE,ISNUMBER(W27)=FALSE,W27<>""),DATE(JANVIER!$A$1,W22,1),IF(AND(V28<>"",MONTH(V28+1)=MONTH(V28)),V28+1,IF(AND(AC27<>"",MONTH(AC27+1)=MONTH(AC27)),AC27+1,""))),"") -> 44003 | AF28: =IFERROR(IF(AND(AE28="",AF24=AF23,ISNUMBER(AL27)=FALSE,ISNUMBER(AF27)=FALSE,AF27<>""),DATE(JANVIER!$A$1,AF22,1),IF(AND(AE28<>"",MONTH(AE28+1)=MONTH(AE28)),AE28+1,IF(AND(AL27<>"",MONTH(AL27+1)=MONTH(AL27)),AL27+1,""))),"") -> 44025 | AG28: =IFERROR(IF(AND(AF28="",AG24=AG23,ISNUMBER(AM27)=FALSE,ISNUMBER(AG27)=FALSE,AG27<>""),DATE(JANVIER!$A$1,AG22,1),IF(AND(AF28<>"",MONTH(AF28+1)=MONTH(AF28)),AF28+1,IF(AND(AM27<>"",MONTH(AM27+1)=MONTH(AM27)),AM27+1,""))),"") -> 44026 | AH28: =IFERROR(IF(AND(AG28="",AH24=AH23,ISNUMBER(AN27)=FALSE,ISNUMBER(AH27)=FALSE,AH27<>""),DATE(JANVIER!$A$1,AH22,1),IF(AND(AG28<>"",MONTH(AG28+1)=MONTH(AG28)),AG28+1,IF(AND(AN27<>"",MONTH(AN27+1)=MONTH(AN27)),AN27+1,""))),"") -> 44027 | AI28: =IFERROR(IF(AND(AH28="",AI24=AI23,ISNUMBER(AO27)=FALSE,ISNUMBER(AI27)=FALSE,AI27<>""),DATE(JANVIER!$A$1,AI22,1),IF(AND(AH28<>"",MONTH(AH28+1)=MONTH(AH28)),AH28+1,IF(AND(AO27<>"",MONTH(AO27+1)=MONTH(AO27)),AO27+1,""))),"") -> 44028 | AJ28: =IFERROR(IF(AND(AI28="",AJ24=AJ23,ISNUMBER(AP27)=FALSE,ISNUMBER(AJ27)=FALSE,AJ27<>""),DATE(JANVIER!$A$1,AJ22,1),IF(AND(AI28<>"",MONTH(AI28+1)=MONTH(AI28)),AI28+1,IF(AND(AP27<>"",MONTH(AP27+1)=MONTH(AP27)),AP27+1,""))),"") -> 44029 | AK28: =IFERROR(IF(AND(AJ28="",AK24=AK23,ISNUMBER(AQ27)=FALSE,ISNUMBER(AK27)=FALSE,AK27<>""),DATE(JANVIER!$A$1,AK22,1),IF(AND(AJ28<>"",MONTH(AJ28+1)=MONTH(AJ28)),AJ28+1,IF(AND(AQ27<>"",MONTH(AQ27+1)=MONTH(AQ27)),AQ27+1,""))),"") -> 44030 | AL28: =IFERROR(IF(AND(AK28="",AL24=AL23,ISNUMBER(AR27)=FALSE,ISNUMBER(AL27)=FALSE,AL27<>""),DATE(JANVIER!$A$1,AL22,1),IF(AND(AK28<>"",MONTH(AK28+1)=MONTH(AK28)),AK28+1,IF(AND(AR27<>"",MONTH(AR27+1)=MONTH(AR27)),AR27+1,""))),"") -> 44031 | AU28: =IFERROR(IF(AND(AT28="",AU24=AU23,ISNUMBER(BA27)=FALSE,ISNUMBER(AU27)=FALSE,AU27<>""),DATE(JANVIER!$A$1,AU22,1),IF(AND(AT28<>"",MONTH(AT28+1)=MONTH(AT28)),AT28+1,IF(AND(BA27<>"",MONTH(BA27+1)=MONTH(BA27)),BA27+1,""))),"") -> 44053 | AV28: =IFERROR(IF(AND(AU28="",AV24=AV23,ISNUMBER(BB27)=FALSE,ISNUMBER(AV27)=FALSE,AV27<>""),DATE(JANVIER!$A$1,AV22,1),IF(AND(AU28<>"",MONTH(AU28+1)=MONTH(AU28)),AU28+1,IF(AND(BB27<>"",MONTH(BB27+1)=MONTH(BB27)),BB27+1,""))),"") -> 44054 | AW28: =IFERROR(IF(AND(AV28="",AW24=AW23,ISNUMBER(BC27)=FALSE,ISNUMBER(AW27)=FALSE,AW27<>""),DATE(JANVIER!$A$1,AW22,1),IF(AND(AV28<>"",MONTH(AV28+1)=MONTH(AV28)),AV28+1,IF(AND(BC27<>"",MONTH(BC27+1)=MONTH(BC27)),BC27+1,""))),"") -> 44055 | AX28: =IFERROR(IF(AND(AW28="",AX24=AX23,ISNUMBER(BD27)=FALSE,ISNUMBER(AX27)=FALSE,AX27<>""),DATE(JANVIER!$A$1,AX22,1),IF(AND(AW28<>"",MONTH(AW28+1)=MONTH(AW28)),AW28+1,IF(AND(BD27<>"",MONTH(BD27+1)=MONTH(BD27)),BD27+1,""))),"") -> 44056 | AY28: =IFERROR(IF(AND(AX28="",AY24=AY23,ISNUMBER(BE27)=FALSE,ISNUMBER(AY27)=FALSE,AY27<>""),DATE(JANVIER!$A$1,AY22,1),IF(AND(AX28<>"",MONTH(AX28+1)=MONTH(AX28)),AX28+1,IF(AND(BE27<>"",MONTH(BE27+1)=MONTH(BE27)),BE27+1,""))),"") -> 44057 | AZ28: =IFERROR(IF(AND(AY28="",AZ24=AZ23,ISNUMBER(BF27)=FALSE,ISNUMBER(AZ27)=FALSE,AZ27<>""),DATE(JANVIER!$A$1,AZ22,1),IF(AND(AY28<>"",MONTH(AY28+1)=MONTH(AY28)),AY28+1,IF(AND(BF27<>"",MONTH(BF27+1)=MONTH(BF27)),BF27+1,""))),"") -> 44058 | BA28: =IFERROR(IF(AND(AZ28="",BA24=BA23,ISNUMBER(BG27)=FALSE,ISNUMBER(BA27)=FALSE,BA27<>""),DATE(JANVIER!$A$1,BA22,1),IF(AND(AZ28<>"",MONTH(AZ28+1)=MONTH(AZ28)),AZ28+1,IF(AND(BG27<>"",MONTH(BG27+1)=MONTH(BG27)),BG27+1,""))),"") -> 44059
B29: =IFERROR(IF(AND(A29="",B25=B24,ISNUMBER(H28)=FALSE,ISNUMBER(B28)=FALSE,B28<>""),DATE(JANVIER!$A$1,B23,1),IF(AND(A29<>"",MONTH(A29+1)=MONTH(A29)),A29+1,IF(AND(H28<>"",MONTH(H28+1)=MONTH(H28)),H28+1,""))),"") -> 43969 | C29: =IFERROR(IF(AND(B29="",C25=C24,ISNUMBER(I28)=FALSE,ISNUMBER(C28)=FALSE,C28<>""),DATE(JANVIER!$A$1,C23,1),IF(AND(B29<>"",MONTH(B29+1)=MONTH(B29)),B29+1,IF(AND(I28<>"",MONTH(I28+1)=MONTH(I28)),I28+1,""))),"") -> 43970 | D29: =IFERROR(IF(AND(C29="",D25=D24,ISNUMBER(J28)=FALSE,ISNUMBER(D28)=FALSE,D28<>""),DATE(JANVIER!$A$1,D23,1),IF(AND(C29<>"",MONTH(C29+1)=MONTH(C29)),C29+1,IF(AND(J28<>"",MONTH(J28+1)=MONTH(J28)),J28+1,""))),"") -> 43971 | E29: =IFERROR(IF(AND(D29="",E25=E24,ISNUMBER(K28)=FALSE,ISNUMBER(E28)=FALSE,E28<>""),DATE(JANVIER!$A$1,E23,1),IF(AND(D29<>"",MONTH(D29+1)=MONTH(D29)),D29+1,IF(AND(K28<>"",MONTH(K28+1)=MONTH(K28)),K28+1,""))),"") -> 43972 | F29: =IFERROR(IF(AND(E29="",F25=F24,ISNUMBER(L28)=FALSE,ISNUMBER(F28)=FALSE,F28<>""),DATE(JANVIER!$A$1,F23,1),IF(AND(E29<>"",MONTH(E29+1)=MONTH(E29)),E29+1,IF(AND(L28<>"",MONTH(L28+1)=MONTH(L28)),L28+1,""))),"") -> 43973 | G29: =IFERROR(IF(AND(F29="",G25=G24,ISNUMBER(M28)=FALSE,ISNUMBER(G28)=FALSE,G28<>""),DATE(JANVIER!$A$1,G23,1),IF(AND(F29<>"",MONTH(F29+1)=MONTH(F29)),F29+1,IF(AND(M28<>"",MONTH(M28+1)=MONTH(M28)),M28+1,""))),"") -> 43974 | H29: =IFERROR(IF(AND(G29="",H25=H24,ISNUMBER(N28)=FALSE,ISNUMBER(H28)=FALSE,H28<>""),DATE(JANVIER!$A$1,H23,1),IF(AND(G29<>"",MONTH(G29+1)=MONTH(G29)),G29+1,IF(AND(N28<>"",MONTH(N28+1)=MONTH(N28)),N28+1,""))),"") -> 43975 | Q29: =IFERROR(IF(AND(P29="",Q25=Q24,ISNUMBER(W28)=FALSE,ISNUMBER(Q28)=FALSE,Q28<>""),DATE(JANVIER!$A$1,Q23,1),IF(AND(P29<>"",MONTH(P29+1)=MONTH(P29)),P29+1,IF(AND(W28<>"",MONTH(W28+1)=MONTH(W28)),W28+1,""))),"") -> 44004 | R29: =IFERROR(IF(AND(Q29="",R25=R24,ISNUMBER(X28)=FALSE,ISNUMBER(R28)=FALSE,R28<>""),DATE(JANVIER!$A$1,R23,1),IF(AND(Q29<>"",MONTH(Q29+1)=MONTH(Q29)),Q29+1,IF(AND(X28<>"",MONTH(X28+1)=MONTH(X28)),X28+1,""))),"") -> 44005 | S29: =IFERROR(IF(AND(R29="",S25=S24,ISNUMBER(Y28)=FALSE,ISNUMBER(S28)=FALSE,S28<>""),DATE(JANVIER!$A$1,S23,1),IF(AND(R29<>"",MONTH(R29+1)=MONTH(R29)),R29+1,IF(AND(Y28<>"",MONTH(Y28+1)=MONTH(Y28)),Y28+1,""))),"") -> 44006 | T29: =IFERROR(IF(AND(S29="",T25=T24,ISNUMBER(Z28)=FALSE,ISNUMBER(T28)=FALSE,T28<>""),DATE(JANVIER!$A$1,T23,1),IF(AND(S29<>"",MONTH(S29+1)=MONTH(S29)),S29+1,IF(AND(Z28<>"",MONTH(Z28+1)=MONTH(Z28)),Z28+1,""))),"") -> 44007 | U29: =IFERROR(IF(AND(T29="",U25=U24,ISNUMBER(AA28)=FALSE,ISNUMBER(U28)=FALSE,U28<>""),DATE(JANVIER!$A$1,U23,1),IF(AND(T29<>"",MONTH(T29+1)=MONTH(T29)),T29+1,IF(AND(AA28<>"",MONTH(AA28+1)=MONTH(AA28)),AA28+1,""))),"") -> 44008 | V29: =IFERROR(IF(AND(U29="",V25=V24,ISNUMBER(AB28)=FALSE,ISNUMBER(V28)=FALSE,V28<>""),DATE(JANVIER!$A$1,V23,1),IF(AND(U29<>"",MONTH(U29+1)=MONTH(U29)),U29+1,IF(AND(AB28<>"",MONTH(AB28+1)=MONTH(AB28)),AB28+1,""))),"") -> 44009 | W29: =IFERROR(IF(AND(V29="",W25=W24,ISNUMBER(AC28)=FALSE,ISNUMBER(W28)=FALSE,W28<>""),DATE(JANVIER!$A$1,W23,1),IF(AND(V29<>"",MONTH(V29+1)=MONTH(V29)),V29+1,IF(AND(AC28<>"",MONTH(AC28+1)=MONTH(AC28)),AC28+1,""))),"") -> 44010 | AF29: =IFERROR(IF(AND(AE29="",AF25=AF24,ISNUMBER(AL28)=FALSE,ISNUMBER(AF28)=FALSE,AF28<>""),DATE(JANVIER!$A$1,AF23,1),IF(AND(AE29<>"",MONTH(AE29+1)=MONTH(AE29)),AE29+1,IF(AND(AL28<>"",MONTH(AL28+1)=MONTH(AL28)),AL28+1,""))),"") -> 44032 | AG29: =IFERROR(IF(AND(AF29="",AG25=AG24,ISNUMBER(AM28)=FALSE,ISNUMBER(AG28)=FALSE,AG28<>""),DATE(JANVIER!$A$1,AG23,1),IF(AND(AF29<>"",MONTH(AF29+1)=MONTH(AF29)),AF29+1,IF(AND(AM28<>"",MONTH(AM28+1)=MONTH(AM28)),AM28+1,""))),"") -> 44033 | AH29: =IFERROR(IF(AND(AG29="",AH25=AH24,ISNUMBER(AN28)=FALSE,ISNUMBER(AH28)=FALSE,AH28<>""),DATE(JANVIER!$A$1,AH23,1),IF(AND(AG29<>"",MONTH(AG29+1)=MONTH(AG29)),AG29+1,IF(AND(AN28<>"",MONTH(AN28+1)=MONTH(AN28)),AN28+1,""))),"") -> 44034 | AI29: =IFERROR(IF(AND(AH29="",AI25=AI24,ISNUMBER(AO28)=FALSE,ISNUMBER(AI28)=FALSE,AI28<>""),DATE(JANVIER!$A$1,AI23,1),IF(AND(AH29<>"",MONTH(AH29+1)=MONTH(AH29)),AH29+1,IF(AND(AO28<>"",MONTH(AO28+1)=MONTH(AO28)),AO28+1,""))),"") -> 44035 | AJ29: =IFERROR(IF(AND(AI29="",AJ25=AJ24,ISNUMBER(AP28)=FALSE,ISNUMBER(AJ28)=FALSE,AJ28<>""),DATE(JANVIER!$A$1,AJ23,1),IF(AND(AI29<>"",MONTH(AI29+1)=MONTH(AI29)),AI29+1,IF(AND(AP28<>"",MONTH(AP28+1)=MONTH(AP28)),AP28+1,""))),"") -> 44036 | AK29: =IFERROR(IF(AND(AJ29="",AK25=AK24,ISNUMBER(AQ28)=FALSE,ISNUMBER(AK28)=FALSE,AK28<>""),DATE(JANVIER!$A$1,AK23,1),IF(AND(AJ29<>"",MONTH(AJ29+1)=MONTH(AJ29)),AJ29+1,IF(AND(AQ28<>"",MONTH(AQ28+1)=MONTH(AQ28)),AQ28+1,""))),"") -> 44037 | AL29: =IFERROR(IF(AND(AK29="",AL25=AL24,ISNUMBER(AR28)=FALSE,ISNUMBER(AL28)=FALSE,AL28<>""),DATE(JANVIER!$A$1,AL23,1),IF(AND(AK29<>"",MONTH(AK29+1)=MONTH(AK29)),AK29+1,IF(AND(AR28<>"",MONTH(AR28+1)=MONTH(AR28)),AR28+1,""))),"") -> 44038 | AU29: =IFERROR(IF(AND(AT29="",AU25=AU24,ISNUMBER(BA28)=FALSE,ISNUMBER(AU28)=FALSE,AU28<>""),DATE(JANVIER!$A$1,AU23,1),IF(AND(AT29<>"",MONTH(AT29+1)=MONTH(AT29)),AT29+1,IF(AND(BA28<>"",MONTH(BA28+1)=MONTH(BA28)),BA28+1,""))),"") -> 44060 | AV29: =IFERROR(IF(AND(AU29="",AV25=AV24,ISNUMBER(BB28)=FALSE,ISNUMBER(AV28)=FALSE,AV28<>""),DATE(JANVIER!$A$1,AV23,1),IF(AND(AU29<>"",MONTH(AU29+1)=MONTH(AU29)),AU29+1,IF(AND(BB28<>"",MONTH(BB28+1)=MONTH(BB28)),BB28+1,""))),"") -> 44061 | AW29: =IFERROR(IF(AND(AV29="",AW25=AW24,ISNUMBER(BC28)=FALSE,ISNUMBER(AW28)=FALSE,AW28<>""),DATE(JANVIER!$A$1,AW23,1),IF(AND(AV29<>"",MONTH(AV29+1)=MONTH(AV29)),AV29+1,IF(AND(BC28<>"",MONTH(BC28+1)=MONTH(BC28)),BC28+1,""))),"") -> 44062 | AX29: =IFERROR(IF(AND(AW29="",AX25=AX24,ISNUMBER(BD28)=FALSE,ISNUMBER(AX28)=FALSE,AX28<>""),DATE(JANVIER!$A$1,AX23,1),IF(AND(AW29<>"",MONTH(AW29+1)=MONTH(AW29)),AW29+1,IF(AND(BD28<>"",MONTH(BD28+1)=MONTH(BD28)),BD28+1,""))),"") -> 44063 | AY29: =IFERROR(IF(AND(AX29="",AY25=AY24,ISNUMBER(BE28)=FALSE,ISNUMBER(AY28)=FALSE,AY28<>""),DATE(JANVIER!$A$1,AY23,1),IF(AND(AX29<>"",MONTH(AX29+1)=MONTH(AX29)),AX29+1,IF(AND(BE28<>"",MONTH(BE28+1)=MONTH(BE28)),BE28+1,""))),"") -> 44064 | AZ29: =IFERROR(IF(AND(AY29="",AZ25=AZ24,ISNUMBER(BF28)=FALSE,ISNUMBER(AZ28)=FALSE,AZ28<>""),DATE(JANVIER!$A$1,AZ23,1),IF(AND(AY29<>"",MONTH(AY29+1)=MONTH(AY29)),AY29+1,IF(AND(BF28<>"",MONTH(BF28+1)=MONTH(BF28)),BF28+1,""))),"") -> 44065 | BA29: =IFERROR(IF(AND(AZ29="",BA25=BA24,ISNUMBER(BG28)=FALSE,ISNUMBER(BA28)=FALSE,BA28<>""),DATE(JANVIER!$A$1,BA23,1),IF(AND(AZ29<>"",MONTH(AZ29+1)=MONTH(AZ29)),AZ29+1,IF(AND(BG28<>"",MONTH(BG28+1)=MONTH(BG28)),BG28+1,""))),"") -> 44066
B30: =IFERROR(IF(AND(A30="",B26=B25,ISNUMBER(H29)=FALSE,ISNUMBER(B29)=FALSE,B29<>""),DATE(JANVIER!$A$1,B24,1),IF(AND(A30<>"",MONTH(A30+1)=MONTH(A30)),A30+1,IF(AND(H29<>"",MONTH(H29+1)=MONTH(H29)),H29+1,""))),"") -> 43976 | C30: =IFERROR(IF(AND(B30="",C26=C25,ISNUMBER(I29)=FALSE,ISNUMBER(C29)=FALSE,C29<>""),DATE(JANVIER!$A$1,C24,1),IF(AND(B30<>"",MONTH(B30+1)=MONTH(B30)),B30+1,IF(AND(I29<>"",MONTH(I29+1)=MONTH(I29)),I29+1,""))),"") -> 43977 | D30: =IFERROR(IF(AND(C30="",D26=D25,ISNUMBER(J29)=FALSE,ISNUMBER(D29)=FALSE,D29<>""),DATE(JANVIER!$A$1,D24,1),IF(AND(C30<>"",MONTH(C30+1)=MONTH(C30)),C30+1,IF(AND(J29<>"",MONTH(J29+1)=MONTH(J29)),J29+1,""))),"") -> 43978 | E30: =IFERROR(IF(AND(D30="",E26=E25,ISNUMBER(K29)=FALSE,ISNUMBER(E29)=FALSE,E29<>""),DATE(JANVIER!$A$1,E24,1),IF(AND(D30<>"",MONTH(D30+1)=MONTH(D30)),D30+1,IF(AND(K29<>"",MONTH(K29+1)=MONTH(K29)),K29+1,""))),"") -> 43979 | F30: =IFERROR(IF(AND(E30="",F26=F25,ISNUMBER(L29)=FALSE,ISNUMBER(F29)=FALSE,F29<>""),DATE(JANVIER!$A$1,F24,1),IF(AND(E30<>"",MONTH(E30+1)=MONTH(E30)),E30+1,IF(AND(L29<>"",MONTH(L29+1)=MONTH(L29)),L29+1,""))),"") -> 43980 | G30: =IFERROR(IF(AND(F30="",G26=G25,ISNUMBER(M29)=FALSE,ISNUMBER(G29)=FALSE,G29<>""),DATE(JANVIER!$A$1,G24,1),IF(AND(F30<>"",MONTH(F30+1)=MONTH(F30)),F30+1,IF(AND(M29<>"",MONTH(M29+1)=MONTH(M29)),M29+1,""))),"") -> 43981 | H30: =IFERROR(IF(AND(G30="",H26=H25,ISNUMBER(N29)=FALSE,ISNUMBER(H29)=FALSE,H29<>""),DATE(JANVIER!$A$1,H24,1),IF(AND(G30<>"",MONTH(G30+1)=MONTH(G30)),G30+1,IF(AND(N29<>"",MONTH(N29+1)=MONTH(N29)),N29+1,""))),"") -> 43982 | Q30: =IFERROR(IF(AND(P30="",Q26=Q25,ISNUMBER(W29)=FALSE,ISNUMBER(Q29)=FALSE,Q29<>""),DATE(JANVIER!$A$1,Q24,1),IF(AND(P30<>"",MONTH(P30+1)=MONTH(P30)),P30+1,IF(AND(W29<>"",MONTH(W29+1)=MONTH(W29)),W29+1,""))),"") -> 44011 | R30: =IFERROR(IF(AND(Q30="",R26=R25,ISNUMBER(X29)=FALSE,ISNUMBER(R29)=FALSE,R29<>""),DATE(JANVIER!$A$1,R24,1),IF(AND(Q30<>"",MONTH(Q30+1)=MONTH(Q30)),Q30+1,IF(AND(X29<>"",MONTH(X29+1)=MONTH(X29)),X29+1,""))),"") -> 44012 | S30: =IFERROR(IF(AND(R30="",S26=S25,ISNUMBER(Y29)=FALSE,ISNUMBER(S29)=FALSE,S29<>""),DATE(JANVIER!$A$1,S24,1),IF(AND(R30<>"",MONTH(R30+1)=MONTH(R30)),R30+1,IF(AND(Y29<>"",MONTH(Y29+1)=MONTH(Y29)),Y29+1,""))),"") | T30: =IFERROR(IF(AND(S30="",T26=T25,ISNUMBER(Z29)=FALSE,ISNUMBER(T29)=FALSE,T29<>""),DATE(JANVIER!$A$1,T24,1),IF(AND(S30<>"",MONTH(S30+1)=MONTH(S30)),S30+1,IF(AND(Z29<>"",MONTH(Z29+1)=MONTH(Z29)),Z29+1,""))),"") | U30: =IFERROR(IF(AND(T30="",U26=U25,ISNUMBER(AA29)=FALSE,ISNUMBER(U29)=FALSE,U29<>""),DATE(JANVIER!$A$1,U24,1),IF(AND(T30<>"",MONTH(T30+1)=MONTH(T30)),T30+1,IF(AND(AA29<>"",MONTH(AA29+1)=MONTH(AA29)),AA29+1,""))),"") | V30: =IFERROR(IF(AND(U30="",V26=V25,ISNUMBER(AB29)=FALSE,ISNUMBER(V29)=FALSE,V29<>""),DATE(JANVIER!$A$1,V24,1),IF(AND(U30<>"",MONTH(U30+1)=MONTH(U30)),U30+1,IF(AND(AB29<>"",MONTH(AB29+1)=MONTH(AB29)),AB29+1,""))),"") | W30: =IFERROR(IF(AND(V30="",W26=W25,ISNUMBER(AC29)=FALSE,ISNUMBER(W29)=FALSE,W29<>""),DATE(JANVIER!$A$1,W24,1),IF(AND(V30<>"",MONTH(V30+1)=MONTH(V30)),V30+1,IF(AND(AC29<>"",MONTH(AC29+1)=MONTH(AC29)),AC29+1,""))),"") | AF30: =IFERROR(IF(AND(AE30="",AF26=AF25,ISNUMBER(AL29)=FALSE,ISNUMBER(AF29)=FALSE,AF29<>""),DATE(JANVIER!$A$1,AF24,1),IF(AND(AE30<>"",MONTH(AE30+1)=MONTH(AE30)),AE30+1,IF(AND(AL29<>"",MONTH(AL29+1)=MONTH(AL29)),AL29+1,""))),"") -> 44039 | AG30: =IFERROR(IF(AND(AF30="",AG26=AG25,ISNUMBER(AM29)=FALSE,ISNUMBER(AG29)=FALSE,AG29<>""),DATE(JANVIER!$A$1,AG24,1),IF(AND(AF30<>"",MONTH(AF30+1)=MONTH(AF30)),AF30+1,IF(AND(AM29<>"",MONTH(AM29+1)=MONTH(AM29)),AM29+1,""))),"") -> 44040 | AH30: =IFERROR(IF(AND(AG30="",AH26=AH25,ISNUMBER(AN29)=FALSE,ISNUMBER(AH29)=FALSE,AH29<>""),DATE(JANVIER!$A$1,AH24,1),IF(AND(AG30<>"",MONTH(AG30+1)=MONTH(AG30)),AG30+1,IF(AND(AN29<>"",MONTH(AN29+1)=MONTH(AN29)),AN29+1,""))),"") -> 44041 | AI30: =IFERROR(IF(AND(AH30="",AI26=AI25,ISNUMBER(AO29)=FALSE,ISNUMBER(AI29)=FALSE,AI29<>""),DATE(JANVIER!$A$1,AI24,1),IF(AND(AH30<>"",MONTH(AH30+1)=MONTH(AH30)),AH30+1,IF(AND(AO29<>"",MONTH(AO29+1)=MONTH(AO29)),AO29+1,""))),"") -> 44042 | AJ30: =IFERROR(IF(AND(AI30="",AJ26=AJ25,ISNUMBER(AP29)=FALSE,ISNUMBER(AJ29)=FALSE,AJ29<>""),DATE(JANVIER!$A$1,AJ24,1),IF(AND(AI30<>"",MONTH(AI30+1)=MONTH(AI30)),AI30+1,IF(AND(AP29<>"",MONTH(AP29+1)=MONTH(AP29)),AP29+1,""))),"") -> 44043 | AK30: =IFERROR(IF(AND(AJ30="",AK26=AK25,ISNUMBER(AQ29)=FALSE,ISNUMBER(AK29)=FALSE,AK29<>""),DATE(JANVIER!$A$1,AK24,1),IF(AND(AJ30<>"",MONTH(AJ30+1)=MONTH(AJ30)),AJ30+1,IF(AND(AQ29<>"",MONTH(AQ29+1)=MONTH(AQ29)),AQ29+1,""))),"") | AL30: =IFERROR(IF(AND(AK30="",AL26=AL25,ISNUMBER(AR29)=FALSE,ISNUMBER(AL29)=FALSE,AL29<>""),DATE(JANVIER!$A$1,AL24,1),IF(AND(AK30<>"",MONTH(AK30+1)=MONTH(AK30)),AK30+1,IF(AND(AR29<>"",MONTH(AR29+1)=MONTH(AR29)),AR29+1,""))),"") | AU30: =IFERROR(IF(AND(AT30="",AU26=AU25,ISNUMBER(BA29)=FALSE,ISNUMBER(AU29)=FALSE,AU29<>""),DATE(JANVIER!$A$1,AU24,1),IF(AND(AT30<>"",MONTH(AT30+1)=MONTH(AT30)),AT30+1,IF(AND(BA29<>"",MONTH(BA29+1)=MONTH(BA29)),BA29+1,""))),"") -> 44067 | AV30: =IFERROR(IF(AND(AU30="",AV26=AV25,ISNUMBER(BB29)=FALSE,ISNUMBER(AV29)=FALSE,AV29<>""),DATE(JANVIER!$A$1,AV24,1),IF(AND(AU30<>"",MONTH(AU30+1)=MONTH(AU30)),AU30+1,IF(AND(BB29<>"",MONTH(BB29+1)=MONTH(BB29)),BB29+1,""))),"") -> 44068 | AW30: =IFERROR(IF(AND(AV30="",AW26=AW25,ISNUMBER(BC29)=FALSE,ISNUMBER(AW29)=FALSE,AW29<>""),DATE(JANVIER!$A$1,AW24,1),IF(AND(AV30<>"",MONTH(AV30+1)=MONTH(AV30)),AV30+1,IF(AND(BC29<>"",MONTH(BC29+1)=MONTH(BC29)),BC29+1,""))),"") -> 44069 | AX30: =IFERROR(IF(AND(AW30="",AX26=AX25,ISNUMBER(BD29)=FALSE,ISNUMBER(AX29)=FALSE,AX29<>""),DATE(JANVIER!$A$1,AX24,1),IF(AND(AW30<>"",MONTH(AW30+1)=MONTH(AW30)),AW30+1,IF(AND(BD29<>"",MONTH(BD29+1)=MONTH(BD29)),BD29+1,""))),"") -> 44070 | AY30: =IFERROR(IF(AND(AX30="",AY26=AY25,ISNUMBER(BE29)=FALSE,ISNUMBER(AY29)=FALSE,AY29<>""),DATE(JANVIER!$A$1,AY24,1),IF(AND(AX30<>"",MONTH(AX30+1)=MONTH(AX30)),AX30+1,IF(AND(BE29<>"",MONTH(BE29+1)=MONTH(BE29)),BE29+1,""))),"") -> 44071 | AZ30: =IFERROR(IF(AND(AY30="",AZ26=AZ25,ISNUMBER(BF29)=FALSE,ISNUMBER(AZ29)=FALSE,AZ29<>""),DATE(JANVIER!$A$1,AZ24,1),IF(AND(AY30<>"",MONTH(AY30+1)=MONTH(AY30)),AY30+1,IF(AND(BF29<>"",MONTH(BF29+1)=MONTH(BF29)),BF29+1,""))),"") -> 44072 | BA30: =IFERROR(IF(AND(AZ30="",BA26=BA25,ISNUMBER(BG29)=FALSE,ISNUMBER(BA29)=FALSE,BA29<>""),DATE(JANVIER!$A$1,BA24,1),IF(AND(AZ30<>"",MONTH(AZ30+1)=MONTH(AZ30)),AZ30+1,IF(AND(BG29<>"",MONTH(BG29+1)=MONTH(BG29)),BG29+1,""))),"") -> 44073
B31: =IFERROR(IF(AND(A31="",B27=B26,ISNUMBER(H30)=FALSE,ISNUMBER(B30)=FALSE,B30<>""),DATE(JANVIER!$A$1,B25,1),IF(AND(A31<>"",MONTH(A31+1)=MONTH(A31)),A31+1,IF(AND(H30<>"",MONTH(H30+1)=MONTH(H30)),H30+1,""))),"") | C31: =IFERROR(IF(AND(B31="",C27=C26,ISNUMBER(I30)=FALSE,ISNUMBER(C30)=FALSE,C30<>""),DATE(JANVIER!$A$1,C25,1),IF(AND(B31<>"",MONTH(B31+1)=MONTH(B31)),B31+1,IF(AND(I30<>"",MONTH(I30+1)=MONTH(I30)),I30+1,""))),"") | D31: =IFERROR(IF(AND(C31="",D27=D26,ISNUMBER(J30)=FALSE,ISNUMBER(D30)=FALSE,D30<>""),DATE(JANVIER!$A$1,D25,1),IF(AND(C31<>"",MONTH(C31+1)=MONTH(C31)),C31+1,IF(AND(J30<>"",MONTH(J30+1)=MONTH(J30)),J30+1,""))),"") | E31: =IFERROR(IF(AND(D31="",E27=E26,ISNUMBER(K30)=FALSE,ISNUMBER(E30)=FALSE,E30<>""),DATE(JANVIER!$A$1,E25,1),IF(AND(D31<>"",MONTH(D31+1)=MONTH(D31)),D31+1,IF(AND(K30<>"",MONTH(K30+1)=MONTH(K30)),K30+1,""))),"") | F31: =IFERROR(IF(AND(E31="",F27=F26,ISNUMBER(L30)=FALSE,ISNUMBER(F30)=FALSE,F30<>""),DATE(JANVIER!$A$1,F25,1),IF(AND(E31<>"",MONTH(E31+1)=MONTH(E31)),E31+1,IF(AND(L30<>"",MONTH(L30+1)=MONTH(L30)),L30+1,""))),"") | G31: =IFERROR(IF(AND(F31="",G27=G26,ISNUMBER(M30)=FALSE,ISNUMBER(G30)=FALSE,G30<>""),DATE(JANVIER!$A$1,G25,1),IF(AND(F31<>"",MONTH(F31+1)=MONTH(F31)),F31+1,IF(AND(M30<>"",MONTH(M30+1)=MONTH(M30)),M30+1,""))),"") | H31: =IFERROR(IF(AND(G31="",H27=H26,ISNUMBER(N30)=FALSE,ISNUMBER(H30)=FALSE,H30<>""),DATE(JANVIER!$A$1,H25,1),IF(AND(G31<>"",MONTH(G31+1)=MONTH(G31)),G31+1,IF(AND(N30<>"",MONTH(N30+1)=MONTH(N30)),N30+1,""))),"") | Q31: =IFERROR(IF(AND(P31="",Q27=Q26,ISNUMBER(W30)=FALSE,ISNUMBER(Q30)=FALSE,Q30<>""),DATE(JANVIER!$A$1,Q25,1),IF(AND(P31<>"",MONTH(P31+1)=MONTH(P31)),P31+1,IF(AND(W30<>"",MONTH(W30+1)=MONTH(W30)),W30+1,""))),"") | R31: =IFERROR(IF(AND(Q31="",R27=R26,ISNUMBER(X30)=FALSE,ISNUMBER(R30)=FALSE,R30<>""),DATE(JANVIER!$A$1,R25,1),IF(AND(Q31<>"",MONTH(Q31+1)=MONTH(Q31)),Q31+1,IF(AND(X30<>"",MONTH(X30+1)=MONTH(X30)),X30+1,""))),"") | S31: =IFERROR(IF(AND(R31="",S27=S26,ISNUMBER(Y30)=FALSE,ISNUMBER(S30)=FALSE,S30<>""),DATE(JANVIER!$A$1,S25,1),IF(AND(R31<>"",MONTH(R31+1)=MONTH(R31)),R31+1,IF(AND(Y30<>"",MONTH(Y30+1)=MONTH(Y30)),Y30+1,""))),"") | T31: =IFERROR(IF(AND(S31="",T27=T26,ISNUMBER(Z30)=FALSE,ISNUMBER(T30)=FALSE,T30<>""),DATE(JANVIER!$A$1,T25,1),IF(AND(S31<>"",MONTH(S31+1)=MONTH(S31)),S31+1,IF(AND(Z30<>"",MONTH(Z30+1)=MONTH(Z30)),Z30+1,""))),"") | U31: =IFERROR(IF(AND(T31="",U27=U26,ISNUMBER(AA30)=FALSE,ISNUMBER(U30)=FALSE,U30<>""),DATE(JANVIER!$A$1,U25,1),IF(AND(T31<>"",MONTH(T31+1)=MONTH(T31)),T31+1,IF(AND(AA30<>"",MONTH(AA30+1)=MONTH(AA30)),AA30+1,""))),"") | V31: =IFERROR(IF(AND(U31="",V27=V26,ISNUMBER(AB30)=FALSE,ISNUMBER(V30)=FALSE,V30<>""),DATE(JANVIER!$A$1,V25,1),IF(AND(U31<>"",MONTH(U31+1)=MONTH(U31)),U31+1,IF(AND(AB30<>"",MONTH(AB30+1)=MONTH(AB30)),AB30+1,""))),"") | W31: =IFERROR(IF(AND(V31="",W27=W26,ISNUMBER(AC30)=FALSE,ISNUMBER(W30)=FALSE,W30<>""),DATE(JANVIER!$A$1,W25,1),IF(AND(V31<>"",MONTH(V31+1)=MONTH(V31)),V31+1,IF(AND(AC30<>"",MONTH(AC30+1)=MONTH(AC30)),AC30+1,""))),"") | AF31: =IFERROR(IF(AND(AE31="",AF27=AF26,ISNUMBER(AL30)=FALSE,ISNUMBER(AF30)=FALSE,AF30<>""),DATE(JANVIER!$A$1,AF25,1),IF(AND(AE31<>"",MONTH(AE31+1)=MONTH(AE31)),AE31+1,IF(AND(AL30<>"",MONTH(AL30+1)=MONTH(AL30)),AL30+1,""))),"") | AG31: =IFERROR(IF(AND(AF31="",AG27=AG26,ISNUMBER(AM30)=FALSE,ISNUMBER(AG30)=FALSE,AG30<>""),DATE(JANVIER!$A$1,AG25,1),IF(AND(AF31<>"",MONTH(AF31+1)=MONTH(AF31)),AF31+1,IF(AND(AM30<>"",MONTH(AM30+1)=MONTH(AM30)),AM30+1,""))),"") | AH31: =IFERROR(IF(AND(AG31="",AH27=AH26,ISNUMBER(AN30)=FALSE,ISNUMBER(AH30)=FALSE,AH30<>""),DATE(JANVIER!$A$1,AH25,1),IF(AND(AG31<>"",MONTH(AG31+1)=MONTH(AG31)),AG31+1,IF(AND(AN30<>"",MONTH(AN30+1)=MONTH(AN30)),AN30+1,""))),"") | AI31: =IFERROR(IF(AND(AH31="",AI27=AI26,ISNUMBER(AO30)=FALSE,ISNUMBER(AI30)=FALSE,AI30<>""),DATE(JANVIER!$A$1,AI25,1),IF(AND(AH31<>"",MONTH(AH31+1)=MONTH(AH31)),AH31+1,IF(AND(AO30<>"",MONTH(AO30+1)=MONTH(AO30)),AO30+1,""))),"") | AJ31: =IFERROR(IF(AND(AI31="",AJ27=AJ26,ISNUMBER(AP30)=FALSE,ISNUMBER(AJ30)=FALSE,AJ30<>""),DATE(JANVIER!$A$1,AJ25,1),IF(AND(AI31<>"",MONTH(AI31+1)=MONTH(AI31)),AI31+1,IF(AND(AP30<>"",MONTH(AP30+1)=MONTH(AP30)),AP30+1,""))),"") | AK31: =IFERROR(IF(AND(AJ31="",AK27=AK26,ISNUMBER(AQ30)=FALSE,ISNUMBER(AK30)=FALSE,AK30<>""),DATE(JANVIER!$A$1,AK25,1),IF(AND(AJ31<>"",MONTH(AJ31+1)=MONTH(AJ31)),AJ31+1,IF(AND(AQ30<>"",MONTH(AQ30+1)=MONTH(AQ30)),AQ30+1,""))),"") | AL31: =IFERROR(IF(AND(AK31="",AL27=AL26,ISNUMBER(AR30)=FALSE,ISNUMBER(AL30)=FALSE,AL30<>""),DATE(JANVIER!$A$1,AL25,1),IF(AND(AK31<>"",MONTH(AK31+1)=MONTH(AK31)),AK31+1,IF(AND(AR30<>"",MONTH(AR30+1)=MONTH(AR30)),AR30+1,""))),"") | AU31: =IFERROR(IF(AND(AT31="",AU27=AU26,ISNUMBER(BA30)=FALSE,ISNUMBER(AU30)=FALSE,AU30<>""),DATE(JANVIER!$A$1,AU25,1),IF(AND(AT31<>"",MONTH(AT31+1)=MONTH(AT31)),AT31+1,IF(AND(BA30<>"",MONTH(BA30+1)=MONTH(BA30)),BA30+1,""))),"") -> 44074 | AV31: =IFERROR(IF(AND(AU31="",AV27=AV26,ISNUMBER(BB30)=FALSE,ISNUMBER(AV30)=FALSE,AV30<>""),DATE(JANVIER!$A$1,AV25,1),IF(AND(AU31<>"",MONTH(AU31+1)=MONTH(AU31)),AU31+1,IF(AND(BB30<>"",MONTH(BB30+1)=MONTH(BB30)),BB30+1,""))),"") | AW31: =IFERROR(IF(AND(AV31="",AW27=AW26,ISNUMBER(BC30)=FALSE,ISNUMBER(AW30)=FALSE,AW30<>""),DATE(JANVIER!$A$1,AW25,1),IF(AND(AV31<>"",MONTH(AV31+1)=MONTH(AV31)),AV31+1,IF(AND(BC30<>"",MONTH(BC30+1)=MONTH(BC30)),BC30+1,""))),"") | AX31: =IFERROR(IF(AND(AW31="",AX27=AX26,ISNUMBER(BD30)=FALSE,ISNUMBER(AX30)=FALSE,AX30<>""),DATE(JANVIER!$A$1,AX25,1),IF(AND(AW31<>"",MONTH(AW31+1)=MONTH(AW31)),AW31+1,IF(AND(BD30<>"",MONTH(BD30+1)=MONTH(BD30)),BD30+1,""))),"") | AY31: =IFERROR(IF(AND(AX31="",AY27=AY26,ISNUMBER(BE30)=FALSE,ISNUMBER(AY30)=FALSE,AY30<>""),DATE(JANVIER!$A$1,AY25,1),IF(AND(AX31<>"",MONTH(AX31+1)=MONTH(AX31)),AX31+1,IF(AND(BE30<>"",MONTH(BE30+1)=MONTH(BE30)),BE30+1,""))),"") | AZ31: =IFERROR(IF(AND(AY31="",AZ27=AZ26,ISNUMBER(BF30)=FALSE,ISNUMBER(AZ30)=FALSE,AZ30<>""),DATE(JANVIER!$A$1,AZ25,1),IF(AND(AY31<>"",MONTH(AY31+1)=MONTH(AY31)),AY31+1,IF(AND(BF30<>"",MONTH(BF30+1)=MONTH(BF30)),BF30+1,""))),"") | BA31: =IFERROR(IF(AND(AZ31="",BA27=BA26,ISNUMBER(BG30)=FALSE,ISNUMBER(BA30)=FALSE,BA30<>""),DATE(JANVIER!$A$1,BA25,1),IF(AND(AZ31<>"",MONTH(AZ31+1)=MONTH(AZ31)),AZ31+1,IF(AND(BG30<>"",MONTH(BG30+1)=MONTH(BG30)),BG30+1,""))),"")
B32: =IFERROR(IF(AND(A26="",B22=B21,ISNUMBER(H25)=FALSE,ISNUMBER(B25)=FALSE,B25<>""),DATE(JANVIER!$A$1,B20,1),IF(AND(A26<>"",MONTH(A26+1)=MONTH(A26)),A26+1,IF(AND(H25<>"",MONTH(H25+1)=MONTH(H25)),H25+1,""))),"") | C32: =IFERROR(IF(AND(B26="",C22=C21,ISNUMBER(I25)=FALSE,ISNUMBER(C25)=FALSE,C25<>""),DATE(JANVIER!$A$1,C20,1),IF(AND(B26<>"",MONTH(B26+1)=MONTH(B26)),B26+1,IF(AND(I25<>"",MONTH(I25+1)=MONTH(I25)),I25+1,""))),"") | D32: =IFERROR(IF(AND(C26="",D22=D21,ISNUMBER(J25)=FALSE,ISNUMBER(D25)=FALSE,D25<>""),DATE(JANVIER!$A$1,D20,1),IF(AND(C26<>"",MONTH(C26+1)=MONTH(C26)),C26+1,IF(AND(J25<>"",MONTH(J25+1)=MONTH(J25)),J25+1,""))),"") | E32: =IFERROR(IF(AND(D26="",E22=E21,ISNUMBER(K25)=FALSE,ISNUMBER(E25)=FALSE,E25<>""),DATE(JANVIER!$A$1,E20,1),IF(AND(D26<>"",MONTH(D26+1)=MONTH(D26)),D26+1,IF(AND(K25<>"",MONTH(K25+1)=MONTH(K25)),K25+1,""))),"") | F32: =IFERROR(IF(AND(E26="",F22=F21,ISNUMBER(L25)=FALSE,ISNUMBER(F25)=FALSE,F25<>""),DATE(JANVIER!$A$1,F20,1),IF(AND(E26<>"",MONTH(E26+1)=MONTH(E26)),E26+1,IF(AND(L25<>"",MONTH(L25+1)=MONTH(L25)),L25+1,""))),"") -> 43952 | G32: =IFERROR(IF(AND(F26="",G22=G21,ISNUMBER(M25)=FALSE,ISNUMBER(G25)=FALSE,G25<>""),DATE(JANVIER!$A$1,G20,1),IF(AND(F26<>"",MONTH(F26+1)=MONTH(F26)),F26+1,IF(AND(M25<>"",MONTH(M25+1)=MONTH(M25)),M25+1,""))),"") -> 43953 | H32: =IFERROR(IF(AND(G26="",H22=H21,ISNUMBER(N25)=FALSE,ISNUMBER(H25)=FALSE,H25<>""),DATE(JANVIER!$A$1,H20,1),IF(AND(G26<>"",MONTH(G26+1)=MONTH(G26)),G26+1,IF(AND(N25<>"",MONTH(N25+1)=MONTH(N25)),N25+1,""))),"") -> 43954 | Q32: =IFERROR(IF(AND(P26="",Q22=Q21,ISNUMBER(W25)=FALSE,ISNUMBER(Q25)=FALSE,Q25<>""),DATE(JANVIER!$A$1,Q20,1),IF(AND(P26<>"",MONTH(P26+1)=MONTH(P26)),P26+1,IF(AND(W25<>"",MONTH(W25+1)=MONTH(W25)),W25+1,""))),"") -> 43983 | R32: =IFERROR(IF(AND(Q26="",R22=R21,ISNUMBER(X25)=FALSE,ISNUMBER(R25)=FALSE,R25<>""),DATE(JANVIER!$A$1,R20,1),IF(AND(Q26<>"",MONTH(Q26+1)=MONTH(Q26)),Q26+1,IF(AND(X25<>"",MONTH(X25+1)=MONTH(X25)),X25+1,""))),"") -> 43984 | S32: =IFERROR(IF(AND(R26="",S22=S21,ISNUMBER(Y25)=FALSE,ISNUMBER(S25)=FALSE,S25<>""),DATE(JANVIER!$A$1,S20,1),IF(AND(R26<>"",MONTH(R26+1)=MONTH(R26)),R26+1,IF(AND(Y25<>"",MONTH(Y25+1)=MONTH(Y25)),Y25+1,""))),"") -> 43985 | T32: =IFERROR(IF(AND(S26="",T22=T21,ISNUMBER(Z25)=FALSE,ISNUMBER(T25)=FALSE,T25<>""),DATE(JANVIER!$A$1,T20,1),IF(AND(S26<>"",MONTH(S26+1)=MONTH(S26)),S26+1,IF(AND(Z25<>"",MONTH(Z25+1)=MONTH(Z25)),Z25+1,""))),"") -> 43986 | U32: =IFERROR(IF(AND(T26="",U22=U21,ISNUMBER(AA25)=FALSE,ISNUMBER(U25)=FALSE,U25<>""),DATE(JANVIER!$A$1,U20,1),IF(AND(T26<>"",MONTH(T26+1)=MONTH(T26)),T26+1,IF(AND(AA25<>"",MONTH(AA25+1)=MONTH(AA25)),AA25+1,""))),"") -> 43987 | V32: =IFERROR(IF(AND(U26="",V22=V21,ISNUMBER(AB25)=FALSE,ISNUMBER(V25)=FALSE,V25<>""),DATE(JANVIER!$A$1,V20,1),IF(AND(U26<>"",MONTH(U26+1)=MONTH(U26)),U26+1,IF(AND(AB25<>"",MONTH(AB25+1)=MONTH(AB25)),AB25+1,""))),"") -> 43988 | W32: =IFERROR(IF(AND(V26="",W22=W21,ISNUMBER(AC25)=FALSE,ISNUMBER(W25)=FALSE,W25<>""),DATE(JANVIER!$A$1,W20,1),IF(AND(V26<>"",MONTH(V26+1)=MONTH(V26)),V26+1,IF(AND(AC25<>"",MONTH(AC25+1)=MONTH(AC25)),AC25+1,""))),"") -> 43989 | AF32: =IFERROR(IF(AND(AE26="",AF22=AF21,ISNUMBER(AL25)=FALSE,ISNUMBER(AF25)=FALSE,AF25<>""),DATE(JANVIER!$A$1,AF20,1),IF(AND(AE26<>"",MONTH(AE26+1)=MONTH(AE26)),AE26+1,IF(AND(AL25<>"",MONTH(AL25+1)=MONTH(AL25)),AL25+1,""))),"") | AG32: =IFERROR(IF(AND(AF26="",AG22=AG21,ISNUMBER(AM25)=FALSE,ISNUMBER(AG25)=FALSE,AG25<>""),DATE(JANVIER!$A$1,AG20,1),IF(AND(AF26<>"",MONTH(AF26+1)=MONTH(AF26)),AF26+1,IF(AND(AM25<>"",MONTH(AM25+1)=MONTH(AM25)),AM25+1,""))),"") | AH32: =IFERROR(IF(AND(AG26="",AH22=AH21,ISNUMBER(AN25)=FALSE,ISNUMBER(AH25)=FALSE,AH25<>""),DATE(JANVIER!$A$1,AH20,1),IF(AND(AG26<>"",MONTH(AG26+1)=MONTH(AG26)),AG26+1,IF(AND(AN25<>"",MONTH(AN25+1)=MONTH(AN25)),AN25+1,""))),"") -> 44013 | AI32: =IFERROR(IF(AND(AH26="",AI22=AI21,ISNUMBER(AO25)=FALSE,ISNUMBER(AI25)=FALSE,AI25<>""),DATE(JANVIER!$A$1,AI20,1),IF(AND(AH26<>"",MONTH(AH26+1)=MONTH(AH26)),AH26+1,IF(AND(AO25<>"",MONTH(AO25+1)=MONTH(AO25)),AO25+1,""))),"") -> 44014 | AJ32: =IFERROR(IF(AND(AI26="",AJ22=AJ21,ISNUMBER(AP25)=FALSE,ISNUMBER(AJ25)=FALSE,AJ25<>""),DATE(JANVIER!$A$1,AJ20,1),IF(AND(AI26<>"",MONTH(AI26+1)=MONTH(AI26)),AI26+1,IF(AND(AP25<>"",MONTH(AP25+1)=MONTH(AP25)),AP25+1,""))),"") -> 44015 | AK32: =IFERROR(IF(AND(AJ26="",AK22=AK21,ISNUMBER(AQ25)=FALSE,ISNUMBER(AK25)=FALSE,AK25<>""),DATE(JANVIER!$A$1,AK20,1),IF(AND(AJ26<>"",MONTH(AJ26+1)=MONTH(AJ26)),AJ26+1,IF(AND(AQ25<>"",MONTH(AQ25+1)=MONTH(AQ25)),AQ25+1,""))),"") -> 44016 | AL32: =IFERROR(IF(AND(AK26="",AL22=AL21,ISNUMBER(AR25)=FALSE,ISNUMBER(AL25)=FALSE,AL25<>""),DATE(JANVIER!$A$1,AL20,1),IF(AND(AK26<>"",MONTH(AK26+1)=MONTH(AK26)),AK26+1,IF(AND(AR25<>"",MONTH(AR25+1)=MONTH(AR25)),AR25+1,""))),"") -> 44017 | AU32: =IFERROR(IF(AND(AT26="",AU22=AU21,ISNUMBER(BA25)=FALSE,ISNUMBER(AU25)=FALSE,AU25<>""),DATE(JANVIER!$A$1,AU20,1),IF(AND(AT26<>"",MONTH(AT26+1)=MONTH(AT26)),AT26+1,IF(AND(BA25<>"",MONTH(BA25+1)=MONTH(BA25)),BA25+1,""))),"") | AV32: =IFERROR(IF(AND(AU26="",AV22=AV21,ISNUMBER(BB25)=FALSE,ISNUMBER(AV25)=FALSE,AV25<>""),DATE(JANVIER!$A$1,AV20,1),IF(AND(AU26<>"",MONTH(AU26+1)=MONTH(AU26)),AU26+1,IF(AND(BB25<>"",MONTH(BB25+1)=MONTH(BB25)),BB25+1,""))),"") | AW32: =IFERROR(IF(AND(AV26="",AW22=AW21,ISNUMBER(BC25)=FALSE,ISNUMBER(AW25)=FALSE,AW25<>""),DATE(JANVIER!$A$1,AW20,1),IF(AND(AV26<>"",MONTH(AV26+1)=MONTH(AV26)),AV26+1,IF(AND(BC25<>"",MONTH(BC25+1)=MONTH(BC25)),BC25+1,""))),"") | AX32: =IFERROR(IF(AND(AW26="",AX22=AX21,ISNUMBER(BD25)=FALSE,ISNUMBER(AX25)=FALSE,AX25<>""),DATE(JANVIER!$A$1,AX20,1),IF(AND(AW26<>"",MONTH(AW26+1)=MONTH(AW26)),AW26+1,IF(AND(BD25<>"",MONTH(BD25+1)=MONTH(BD25)),BD25+1,""))),"") | AY32: =IFERROR(IF(AND(AX26="",AY22=AY21,ISNUMBER(BE25)=FALSE,ISNUMBER(AY25)=FALSE,AY25<>""),DATE(JANVIER!$A$1,AY20,1),IF(AND(AX26<>"",MONTH(AX26+1)=MONTH(AX26)),AX26+1,IF(AND(BE25<>"",MONTH(BE25+1)=MONTH(BE25)),BE25+1,""))),"") | AZ32: =IFERROR(IF(AND(AY26="",AZ22=AZ21,ISNUMBER(BF25)=FALSE,ISNUMBER(AZ25)=FALSE,AZ25<>""),DATE(JANVIER!$A$1,AZ20,1),IF(AND(AY26<>"",MONTH(AY26+1)=MONTH(AY26)),AY26+1,IF(AND(BF25<>"",MONTH(BF25+1)=MONTH(BF25)),BF25+1,""))),"") -> 44044 | BA32: =IFERROR(IF(AND(AZ26="",BA22=BA21,ISNUMBER(BG25)=FALSE,ISNUMBER(BA25)=FALSE,BA25<>""),DATE(JANVIER!$A$1,BA20,1),IF(AND(AZ26<>"",MONTH(AZ26+1)=MONTH(AZ26)),AZ26+1,IF(AND(BG25<>"",MONTH(BG25+1)=MONTH(BG25)),BG25+1,""))),"") -> 44045
B33: =IFERROR(IF(AND(A27="",B23=B22,ISNUMBER(H26)=FALSE,ISNUMBER(B26)=FALSE,B26<>""),DATE(JANVIER!$A$1,B21,1),IF(AND(A27<>"",MONTH(A27+1)=MONTH(A27)),A27+1,IF(AND(H26<>"",MONTH(H26+1)=MONTH(H26)),H26+1,""))),"") -> 43955 | C33: =IFERROR(IF(AND(B27="",C23=C22,ISNUMBER(I26)=FALSE,ISNUMBER(C26)=FALSE,C26<>""),DATE(JANVIER!$A$1,C21,1),IF(AND(B27<>"",MONTH(B27+1)=MONTH(B27)),B27+1,IF(AND(I26<>"",MONTH(I26+1)=MONTH(I26)),I26+1,""))),"") -> 43956 | D33: =IFERROR(IF(AND(C27="",D23=D22,ISNUMBER(J26)=FALSE,ISNUMBER(D26)=FALSE,D26<>""),DATE(JANVIER!$A$1,D21,1),IF(AND(C27<>"",MONTH(C27+1)=MONTH(C27)),C27+1,IF(AND(J26<>"",MONTH(J26+1)=MONTH(J26)),J26+1,""))),"") -> 43957 | E33: =IFERROR(IF(AND(D27="",E23=E22,ISNUMBER(K26)=FALSE,ISNUMBER(E26)=FALSE,E26<>""),DATE(JANVIER!$A$1,E21,1),IF(AND(D27<>"",MONTH(D27+1)=MONTH(D27)),D27+1,IF(AND(K26<>"",MONTH(K26+1)=MONTH(K26)),K26+1,""))),"") -> 43958 | F33: =IFERROR(IF(AND(E27="",F23=F22,ISNUMBER(L26)=FALSE,ISNUMBER(F26)=FALSE,F26<>""),DATE(JANVIER!$A$1,F21,1),IF(AND(E27<>"",MONTH(E27+1)=MONTH(E27)),E27+1,IF(AND(L26<>"",MONTH(L26+1)=MONTH(L26)),L26+1,""))),"") -> 43959 | G33: =IFERROR(IF(AND(F27="",G23=G22,ISNUMBER(M26)=FALSE,ISNUMBER(G26)=FALSE,G26<>""),DATE(JANVIER!$A$1,G21,1),IF(AND(F27<>"",MONTH(F27+1)=MONTH(F27)),F27+1,IF(AND(M26<>"",MONTH(M26+1)=MONTH(M26)),M26+1,""))),"") -> 43960 | H33: =IFERROR(IF(AND(G27="",H23=H22,ISNUMBER(N26)=FALSE,ISNUMBER(H26)=FALSE,H26<>""),DATE(JANVIER!$A$1,H21,1),IF(AND(G27<>"",MONTH(G27+1)=MONTH(G27)),G27+1,IF(AND(N26<>"",MONTH(N26+1)=MONTH(N26)),N26+1,""))),"") -> 43961 | Q33: =IFERROR(IF(AND(P27="",Q23=Q22,ISNUMBER(W26)=FALSE,ISNUMBER(Q26)=FALSE,Q26<>""),DATE(JANVIER!$A$1,Q21,1),IF(AND(P27<>"",MONTH(P27+1)=MONTH(P27)),P27+1,IF(AND(W26<>"",MONTH(W26+1)=MONTH(W26)),W26+1,""))),"") -> 43990 | R33: =IFERROR(IF(AND(Q27="",R23=R22,ISNUMBER(X26)=FALSE,ISNUMBER(R26)=FALSE,R26<>""),DATE(JANVIER!$A$1,R21,1),IF(AND(Q27<>"",MONTH(Q27+1)=MONTH(Q27)),Q27+1,IF(AND(X26<>"",MONTH(X26+1)=MONTH(X26)),X26+1,""))),"") -> 43991 | S33: =IFERROR(IF(AND(R27="",S23=S22,ISNUMBER(Y26)=FALSE,ISNUMBER(S26)=FALSE,S26<>""),DATE(JANVIER!$A$1,S21,1),IF(AND(R27<>"",MONTH(R27+1)=MONTH(R27)),R27+1,IF(AND(Y26<>"",MONTH(Y26+1)=MONTH(Y26)),Y26+1,""))),"") -> 43992 | T33: =IFERROR(IF(AND(S27="",T23=T22,ISNUMBER(Z26)=FALSE,ISNUMBER(T26)=FALSE,T26<>""),DATE(JANVIER!$A$1,T21,1),IF(AND(S27<>"",MONTH(S27+1)=MONTH(S27)),S27+1,IF(AND(Z26<>"",MONTH(Z26+1)=MONTH(Z26)),Z26+1,""))),"") -> 43993 | U33: =IFERROR(IF(AND(T27="",U23=U22,ISNUMBER(AA26)=FALSE,ISNUMBER(U26)=FALSE,U26<>""),DATE(JANVIER!$A$1,U21,1),IF(AND(T27<>"",MONTH(T27+1)=MONTH(T27)),T27+1,IF(AND(AA26<>"",MONTH(AA26+1)=MONTH(AA26)),AA26+1,""))),"") -> 43994 | V33: =IFERROR(IF(AND(U27="",V23=V22,ISNUMBER(AB26)=FALSE,ISNUMBER(V26)=FALSE,V26<>""),DATE(JANVIER!$A$1,V21,1),IF(AND(U27<>"",MONTH(U27+1)=MONTH(U27)),U27+1,IF(AND(AB26<>"",MONTH(AB26+1)=MONTH(AB26)),AB26+1,""))),"") -> 43995 | W33: =IFERROR(IF(AND(V27="",W23=W22,ISNUMBER(AC26)=FALSE,ISNUMBER(W26)=FALSE,W26<>""),DATE(JANVIER!$A$1,W21,1),IF(AND(V27<>"",MONTH(V27+1)=MONTH(V27)),V27+1,IF(AND(AC26<>"",MONTH(AC26+1)=MONTH(AC26)),AC26+1,""))),"") -> 43996 | AF33: =IFERROR(IF(AND(AE27="",AF23=AF22,ISNUMBER(AL26)=FALSE,ISNUMBER(AF26)=FALSE,AF26<>""),DATE(JANVIER!$A$1,AF21,1),IF(AND(AE27<>"",MONTH(AE27+1)=MONTH(AE27)),AE27+1,IF(AND(AL26<>"",MONTH(AL26+1)=MONTH(AL26)),AL26+1,""))),"") -> 44018 | AG33: =IFERROR(IF(AND(AF27="",AG23=AG22,ISNUMBER(AM26)=FALSE,ISNUMBER(AG26)=FALSE,AG26<>""),DATE(JANVIER!$A$1,AG21,1),IF(AND(AF27<>"",MONTH(AF27+1)=MONTH(AF27)),AF27+1,IF(AND(AM26<>"",MONTH(AM26+1)=MONTH(AM26)),AM26+1,""))),"") -> 44019 | AH33: =IFERROR(IF(AND(AG27="",AH23=AH22,ISNUMBER(AN26)=FALSE,ISNUMBER(AH26)=FALSE,AH26<>""),DATE(JANVIER!$A$1,AH21,1),IF(AND(AG27<>"",MONTH(AG27+1)=MONTH(AG27)),AG27+1,IF(AND(AN26<>"",MONTH(AN26+1)=MONTH(AN26)),AN26+1,""))),"") -> 44020 | AI33: =IFERROR(IF(AND(AH27="",AI23=AI22,ISNUMBER(AO26)=FALSE,ISNUMBER(AI26)=FALSE,AI26<>""),DATE(JANVIER!$A$1,AI21,1),IF(AND(AH27<>"",MONTH(AH27+1)=MONTH(AH27)),AH27+1,IF(AND(AO26<>"",MONTH(AO26+1)=MONTH(AO26)),AO26+1,""))),"") -> 44021 | AJ33: =IFERROR(IF(AND(AI27="",AJ23=AJ22,ISNUMBER(AP26)=FALSE,ISNUMBER(AJ26)=FALSE,AJ26<>""),DATE(JANVIER!$A$1,AJ21,1),IF(AND(AI27<>"",MONTH(AI27+1)=MONTH(AI27)),AI27+1,IF(AND(AP26<>"",MONTH(AP26+1)=MONTH(AP26)),AP26+1,""))),"") -> 44022 | AK33: =IFERROR(IF(AND(AJ27="",AK23=AK22,ISNUMBER(AQ26)=FALSE,ISNUMBER(AK26)=FALSE,AK26<>""),DATE(JANVIER!$A$1,AK21,1),IF(AND(AJ27<>"",MONTH(AJ27+1)=MONTH(AJ27)),AJ27+1,IF(AND(AQ26<>"",MONTH(AQ26+1)=MONTH(AQ26)),AQ26+1,""))),"") -> 44023 | AL33: =IFERROR(IF(AND(AK27="",AL23=AL22,ISNUMBER(AR26)=FALSE,ISNUMBER(AL26)=FALSE,AL26<>""),DATE(JANVIER!$A$1,AL21,1),IF(AND(AK27<>"",MONTH(AK27+1)=MONTH(AK27)),AK27+1,IF(AND(AR26<>"",MONTH(AR26+1)=MONTH(AR26)),AR26+1,""))),"") -> 44024 | AU33: =IFERROR(IF(AND(AT27="",AU23=AU22,ISNUMBER(BA26)=FALSE,ISNUMBER(AU26)=FALSE,AU26<>""),DATE(JANVIER!$A$1,AU21,1),IF(AND(AT27<>"",MONTH(AT27+1)=MONTH(AT27)),AT27+1,IF(AND(BA26<>"",MONTH(BA26+1)=MONTH(BA26)),BA26+1,""))),"") -> 44046 | AV33: =IFERROR(IF(AND(AU27="",AV23=AV22,ISNUMBER(BB26)=FALSE,ISNUMBER(AV26)=FALSE,AV26<>""),DATE(JANVIER!$A$1,AV21,1),IF(AND(AU27<>"",MONTH(AU27+1)=MONTH(AU27)),AU27+1,IF(AND(BB26<>"",MONTH(BB26+1)=MONTH(BB26)),BB26+1,""))),"") -> 44047 | AW33: =IFERROR(IF(AND(AV27="",AW23=AW22,ISNUMBER(BC26)=FALSE,ISNUMBER(AW26)=FALSE,AW26<>""),DATE(JANVIER!$A$1,AW21,1),IF(AND(AV27<>"",MONTH(AV27+1)=MONTH(AV27)),AV27+1,IF(AND(BC26<>"",MONTH(BC26+1)=MONTH(BC26)),BC26+1,""))),"") -> 44048 | AX33: =IFERROR(IF(AND(AW27="",AX23=AX22,ISNUMBER(BD26)=FALSE,ISNUMBER(AX26)=FALSE,AX26<>""),DATE(JANVIER!$A$1,AX21,1),IF(AND(AW27<>"",MONTH(AW27+1)=MONTH(AW27)),AW27+1,IF(AND(BD26<>"",MONTH(BD26+1)=MONTH(BD26)),BD26+1,""))),"") -> 44049 | AY33: =IFERROR(IF(AND(AX27="",AY23=AY22,ISNUMBER(BE26)=FALSE,ISNUMBER(AY26)=FALSE,AY26<>""),DATE(JANVIER!$A$1,AY21,1),IF(AND(AX27<>"",MONTH(AX27+1)=MONTH(AX27)),AX27+1,IF(AND(BE26<>"",MONTH(BE26+1)=MONTH(BE26)),BE26+1,""))),"") -> 44050 | AZ33: =IFERROR(IF(AND(AY27="",AZ23=AZ22,ISNUMBER(BF26)=FALSE,ISNUMBER(AZ26)=FALSE,AZ26<>""),DATE(JANVIER!$A$1,AZ21,1),IF(AND(AY27<>"",MONTH(AY27+1)=MONTH(AY27)),AY27+1,IF(AND(BF26<>"",MONTH(BF26+1)=MONTH(BF26)),BF26+1,""))),"") -> 44051 | BA33: =IFERROR(IF(AND(AZ27="",BA23=BA22,ISNUMBER(BG26)=FALSE,ISNUMBER(BA26)=FALSE,BA26<>""),DATE(JANVIER!$A$1,BA21,1),IF(AND(AZ27<>"",MONTH(AZ27+1)=MONTH(AZ27)),AZ27+1,IF(AND(BG26<>"",MONTH(BG26+1)=MONTH(BG26)),BG26+1,""))),"") -> 44052
B34: =IFERROR(IF(AND(A28="",B24=B23,ISNUMBER(H27)=FALSE,ISNUMBER(B27)=FALSE,B27<>""),DATE(JANVIER!$A$1,B22,1),IF(AND(A28<>"",MONTH(A28+1)=MONTH(A28)),A28+1,IF(AND(H27<>"",MONTH(H27+1)=MONTH(H27)),H27+1,""))),"") -> 43962 | C34: =IFERROR(IF(AND(B28="",C24=C23,ISNUMBER(I27)=FALSE,ISNUMBER(C27)=FALSE,C27<>""),DATE(JANVIER!$A$1,C22,1),IF(AND(B28<>"",MONTH(B28+1)=MONTH(B28)),B28+1,IF(AND(I27<>"",MONTH(I27+1)=MONTH(I27)),I27+1,""))),"") -> 43963 | D34: =IFERROR(IF(AND(C28="",D24=D23,ISNUMBER(J27)=FALSE,ISNUMBER(D27)=FALSE,D27<>""),DATE(JANVIER!$A$1,D22,1),IF(AND(C28<>"",MONTH(C28+1)=MONTH(C28)),C28+1,IF(AND(J27<>"",MONTH(J27+1)=MONTH(J27)),J27+1,""))),"") -> 43964 | E34: =IFERROR(IF(AND(D28="",E24=E23,ISNUMBER(K27)=FALSE,ISNUMBER(E27)=FALSE,E27<>""),DATE(JANVIER!$A$1,E22,1),IF(AND(D28<>"",MONTH(D28+1)=MONTH(D28)),D28+1,IF(AND(K27<>"",MONTH(K27+1)=MONTH(K27)),K27+1,""))),"") -> 43965 | F34: =IFERROR(IF(AND(E28="",F24=F23,ISNUMBER(L27)=FALSE,ISNUMBER(F27)=FALSE,F27<>""),DATE(JANVIER!$A$1,F22,1),IF(AND(E28<>"",MONTH(E28+1)=MONTH(E28)),E28+1,IF(AND(L27<>"",MONTH(L27+1)=MONTH(L27)),L27+1,""))),"") -> 43966 | G34: =IFERROR(IF(AND(F28="",G24=G23,ISNUMBER(M27)=FALSE,ISNUMBER(G27)=FALSE,G27<>""),DATE(JANVIER!$A$1,G22,1),IF(AND(F28<>"",MONTH(F28+1)=MONTH(F28)),F28+1,IF(AND(M27<>"",MONTH(M27+1)=MONTH(M27)),M27+1,""))),"") -> 43967 | H34: =IFERROR(IF(AND(G28="",H24=H23,ISNUMBER(N27)=FALSE,ISNUMBER(H27)=FALSE,H27<>""),DATE(JANVIER!$A$1,H22,1),IF(AND(G28<>"",MONTH(G28+1)=MONTH(G28)),G28+1,IF(AND(N27<>"",MONTH(N27+1)=MONTH(N27)),N27+1,""))),"") -> 43968 | Q34: =IFERROR(IF(AND(P28="",Q24=Q23,ISNUMBER(W27)=FALSE,ISNUMBER(Q27)=FALSE,Q27<>""),DATE(JANVIER!$A$1,Q22,1),IF(AND(P28<>"",MONTH(P28+1)=MONTH(P28)),P28+1,IF(AND(W27<>"",MONTH(W27+1)=MONTH(W27)),W27+1,""))),"") -> 43997 | R34: =IFERROR(IF(AND(Q28="",R24=R23,ISNUMBER(X27)=FALSE,ISNUMBER(R27)=FALSE,R27<>""),DATE(JANVIER!$A$1,R22,1),IF(AND(Q28<>"",MONTH(Q28+1)=MONTH(Q28)),Q28+1,IF(AND(X27<>"",MONTH(X27+1)=MONTH(X27)),X27+1,""))),"") -> 43998 | S34: =IFERROR(IF(AND(R28="",S24=S23,ISNUMBER(Y27)=FALSE,ISNUMBER(S27)=FALSE,S27<>""),DATE(JANVIER!$A$1,S22,1),IF(AND(R28<>"",MONTH(R28+1)=MONTH(R28)),R28+1,IF(AND(Y27<>"",MONTH(Y27+1)=MONTH(Y27)),Y27+1,""))),"") -> 43999 | T34: =IFERROR(IF(AND(S28="",T24=T23,ISNUMBER(Z27)=FALSE,ISNUMBER(T27)=FALSE,T27<>""),DATE(JANVIER!$A$1,T22,1),IF(AND(S28<>"",MONTH(S28+1)=MONTH(S28)),S28+1,IF(AND(Z27<>"",MONTH(Z27+1)=MONTH(Z27)),Z27+1,""))),"") -> 44000 | U34: =IFERROR(IF(AND(T28="",U24=U23,ISNUMBER(AA27)=FALSE,ISNUMBER(U27)=FALSE,U27<>""),DATE(JANVIER!$A$1,U22,1),IF(AND(T28<>"",MONTH(T28+1)=MONTH(T28)),T28+1,IF(AND(AA27<>"",MONTH(AA27+1)=MONTH(AA27)),AA27+1,""))),"") -> 44001 | V34: =IFERROR(IF(AND(U28="",V24=V23,ISNUMBER(AB27)=FALSE,ISNUMBER(V27)=FALSE,V27<>""),DATE(JANVIER!$A$1,V22,1),IF(AND(U28<>"",MONTH(U28+1)=MONTH(U28)),U28+1,IF(AND(AB27<>"",MONTH(AB27+1)=MONTH(AB27)),AB27+1,""))),"") -> 44002 | W34: =IFERROR(IF(AND(V28="",W24=W23,ISNUMBER(AC27)=FALSE,ISNUMBER(W27)=FALSE,W27<>""),DATE(JANVIER!$A$1,W22,1),IF(AND(V28<>"",MONTH(V28+1)=MONTH(V28)),V28+1,IF(AND(AC27<>"",MONTH(AC27+1)=MONTH(AC27)),AC27+1,""))),"") -> 44003 | AF34: =IFERROR(IF(AND(AE28="",AF24=AF23,ISNUMBER(AL27)=FALSE,ISNUMBER(AF27)=FALSE,AF27<>""),DATE(JANVIER!$A$1,AF22,1),IF(AND(AE28<>"",MONTH(AE28+1)=MONTH(AE28)),AE28+1,IF(AND(AL27<>"",MONTH(AL27+1)=MONTH(AL27)),AL27+1,""))),"") -> 44025 | AG34: =IFERROR(IF(AND(AF28="",AG24=AG23,ISNUMBER(AM27)=FALSE,ISNUMBER(AG27)=FALSE,AG27<>""),DATE(JANVIER!$A$1,AG22,1),IF(AND(AF28<>"",MONTH(AF28+1)=MONTH(AF28)),AF28+1,IF(AND(AM27<>"",MONTH(AM27+1)=MONTH(AM27)),AM27+1,""))),"") -> 44026 | AH34: =IFERROR(IF(AND(AG28="",AH24=AH23,ISNUMBER(AN27)=FALSE,ISNUMBER(AH27)=FALSE,AH27<>""),DATE(JANVIER!$A$1,AH22,1),IF(AND(AG28<>"",MONTH(AG28+1)=MONTH(AG28)),AG28+1,IF(AND(AN27<>"",MONTH(AN27+1)=MONTH(AN27)),AN27+1,""))),"") -> 44027 | AI34: =IFERROR(IF(AND(AH28="",AI24=AI23,ISNUMBER(AO27)=FALSE,ISNUMBER(AI27)=FALSE,AI27<>""),DATE(JANVIER!$A$1,AI22,1),IF(AND(AH28<>"",MONTH(AH28+1)=MONTH(AH28)),AH28+1,IF(AND(AO27<>"",MONTH(AO27+1)=MONTH(AO27)),AO27+1,""))),"") -> 44028 | AJ34: =IFERROR(IF(AND(AI28="",AJ24=AJ23,ISNUMBER(AP27)=FALSE,ISNUMBER(AJ27)=FALSE,AJ27<>""),DATE(JANVIER!$A$1,AJ22,1),IF(AND(AI28<>"",MONTH(AI28+1)=MONTH(AI28)),AI28+1,IF(AND(AP27<>"",MONTH(AP27+1)=MONTH(AP27)),AP27+1,""))),"") -> 44029 | AK34: =IFERROR(IF(AND(AJ28="",AK24=AK23,ISNUMBER(AQ27)=FALSE,ISNUMBER(AK27)=FALSE,AK27<>""),DATE(JANVIER!$A$1,AK22,1),IF(AND(AJ28<>"",MONTH(AJ28+1)=MONTH(AJ28)),AJ28+1,IF(AND(AQ27<>"",MONTH(AQ27+1)=MONTH(AQ27)),AQ27+1,""))),"") -> 44030 | AL34: =IFERROR(IF(AND(AK28="",AL24=AL23,ISNUMBER(AR27)=FALSE,ISNUMBER(AL27)=FALSE,AL27<>""),DATE(JANVIER!$A$1,AL22,1),IF(AND(AK28<>"",MONTH(AK28+1)=MONTH(AK28)),AK28+1,IF(AND(AR27<>"",MONTH(AR27+1)=MONTH(AR27)),AR27+1,""))),"") -> 44031 | AU34: =IFERROR(IF(AND(AT28="",AU24=AU23,ISNUMBER(BA27)=FALSE,ISNUMBER(AU27)=FALSE,AU27<>""),DATE(JANVIER!$A$1,AU22,1),IF(AND(AT28<>"",MONTH(AT28+1)=MONTH(AT28)),AT28+1,IF(AND(BA27<>"",MONTH(BA27+1)=MONTH(BA27)),BA27+1,""))),"") -> 44053 | AV34: =IFERROR(IF(AND(AU28="",AV24=AV23,ISNUMBER(BB27)=FALSE,ISNUMBER(AV27)=FALSE,AV27<>""),DATE(JANVIER!$A$1,AV22,1),IF(AND(AU28<>"",MONTH(AU28+1)=MONTH(AU28)),AU28+1,IF(AND(BB27<>"",MONTH(BB27+1)=MONTH(BB27)),BB27+1,""))),"") -> 44054 | AW34: =IFERROR(IF(AND(AV28="",AW24=AW23,ISNUMBER(BC27)=FALSE,ISNUMBER(AW27)=FALSE,AW27<>""),DATE(JANVIER!$A$1,AW22,1),IF(AND(AV28<>"",MONTH(AV28+1)=MONTH(AV28)),AV28+1,IF(AND(BC27<>"",MONTH(BC27+1)=MONTH(BC27)),BC27+1,""))),"") -> 44055 | AX34: =IFERROR(IF(AND(AW28="",AX24=AX23,ISNUMBER(BD27)=FALSE,ISNUMBER(AX27)=FALSE,AX27<>""),DATE(JANVIER!$A$1,AX22,1),IF(AND(AW28<>"",MONTH(AW28+1)=MONTH(AW28)),AW28+1,IF(AND(BD27<>"",MONTH(BD27+1)=MONTH(BD27)),BD27+1,""))),"") -> 44056 | AY34: =IFERROR(IF(AND(AX28="",AY24=AY23,ISNUMBER(BE27)=FALSE,ISNUMBER(AY27)=FALSE,AY27<>""),DATE(JANVIER!$A$1,AY22,1),IF(AND(AX28<>"",MONTH(AX28+1)=MONTH(AX28)),AX28+1,IF(AND(BE27<>"",MONTH(BE27+1)=MONTH(BE27)),BE27+1,""))),"") -> 44057 | AZ34: =IFERROR(IF(AND(AY28="",AZ24=AZ23,ISNUMBER(BF27)=FALSE,ISNUMBER(AZ27)=FALSE,AZ27<>""),DATE(JANVIER!$A$1,AZ22,1),IF(AND(AY28<>"",MONTH(AY28+1)=MONTH(AY28)),AY28+1,IF(AND(BF27<>"",MONTH(BF27+1)=MONTH(BF27)),BF27+1,""))),"") -> 44058 | BA34: =IFERROR(IF(AND(AZ28="",BA24=BA23,ISNUMBER(BG27)=FALSE,ISNUMBER(BA27)=FALSE,BA27<>""),DATE(JANVIER!$A$1,BA22,1),IF(AND(AZ28<>"",MONTH(AZ28+1)=MONTH(AZ28)),AZ28+1,IF(AND(BG27<>"",MONTH(BG27+1)=MONTH(BG27)),BG27+1,""))),"") -> 44059
B35: =IFERROR(IF(AND(A29="",B25=B24,ISNUMBER(H28)=FALSE,ISNUMBER(B28)=FALSE,B28<>""),DATE(JANVIER!$A$1,B23,1),IF(AND(A29<>"",MONTH(A29+1)=MONTH(A29)),A29+1,IF(AND(H28<>"",MONTH(H28+1)=MONTH(H28)),H28+1,""))),"") -> 43969 | C35: =IFERROR(IF(AND(B29="",C25=C24,ISNUMBER(I28)=FALSE,ISNUMBER(C28)=FALSE,C28<>""),DATE(JANVIER!$A$1,C23,1),IF(AND(B29<>"",MONTH(B29+1)=MONTH(B29)),B29+1,IF(AND(I28<>"",MONTH(I28+1)=MONTH(I28)),I28+1,""))),"") -> 43970 | D35: =IFERROR(IF(AND(C29="",D25=D24,ISNUMBER(J28)=FALSE,ISNUMBER(D28)=FALSE,D28<>""),DATE(JANVIER!$A$1,D23,1),IF(AND(C29<>"",MONTH(C29+1)=MONTH(C29)),C29+1,IF(AND(J28<>"",MONTH(J28+1)=MONTH(J28)),J28+1,""))),"") -> 43971 | E35: =IFERROR(IF(AND(D29="",E25=E24,ISNUMBER(K28)=FALSE,ISNUMBER(E28)=FALSE,E28<>""),DATE(JANVIER!$A$1,E23,1),IF(AND(D29<>"",MONTH(D29+1)=MONTH(D29)),D29+1,IF(AND(K28<>"",MONTH(K28+1)=MONTH(K28)),K28+1,""))),"") -> 43972 | F35: =IFERROR(IF(AND(E29="",F25=F24,ISNUMBER(L28)=FALSE,ISNUMBER(F28)=FALSE,F28<>""),DATE(JANVIER!$A$1,F23,1),IF(AND(E29<>"",MONTH(E29+1)=MONTH(E29)),E29+1,IF(AND(L28<>"",MONTH(L28+1)=MONTH(L28)),L28+1,""))),"") -> 43973 | G35: =IFERROR(IF(AND(F29="",G25=G24,ISNUMBER(M28)=FALSE,ISNUMBER(G28)=FALSE,G28<>""),DATE(JANVIER!$A$1,G23,1),IF(AND(F29<>"",MONTH(F29+1)=MONTH(F29)),F29+1,IF(AND(M28<>"",MONTH(M28+1)=MONTH(M28)),M28+1,""))),"") -> 43974 | H35: =IFERROR(IF(AND(G29="",H25=H24,ISNUMBER(N28)=FALSE,ISNUMBER(H28)=FALSE,H28<>""),DATE(JANVIER!$A$1,H23,1),IF(AND(G29<>"",MONTH(G29+1)=MONTH(G29)),G29+1,IF(AND(N28<>"",MONTH(N28+1)=MONTH(N28)),N28+1,""))),"") -> 43975 | Q35: =IFERROR(IF(AND(P29="",Q25=Q24,ISNUMBER(W28)=FALSE,ISNUMBER(Q28)=FALSE,Q28<>""),DATE(JANVIER!$A$1,Q23,1),IF(AND(P29<>"",MONTH(P29+1)=MONTH(P29)),P29+1,IF(AND(W28<>"",MONTH(W28+1)=MONTH(W28)),W28+1,""))),"") -> 44004 | R35: =IFERROR(IF(AND(Q29="",R25=R24,ISNUMBER(X28)=FALSE,ISNUMBER(R28)=FALSE,R28<>""),DATE(JANVIER!$A$1,R23,1),IF(AND(Q29<>"",MONTH(Q29+1)=MONTH(Q29)),Q29+1,IF(AND(X28<>"",MONTH(X28+1)=MONTH(X28)),X28+1,""))),"") -> 44005 | S35: =IFERROR(IF(AND(R29="",S25=S24,ISNUMBER(Y28)=FALSE,ISNUMBER(S28)=FALSE,S28<>""),DATE(JANVIER!$A$1,S23,1),IF(AND(R29<>"",MONTH(R29+1)=MONTH(R29)),R29+1,IF(AND(Y28<>"",MONTH(Y28+1)=MONTH(Y28)),Y28+1,""))),"") -> 44006 | T35: =IFERROR(IF(AND(S29="",T25=T24,ISNUMBER(Z28)=FALSE,ISNUMBER(T28)=FALSE,T28<>""),DATE(JANVIER!$A$1,T23,1),IF(AND(S29<>"",MONTH(S29+1)=MONTH(S29)),S29+1,IF(AND(Z28<>"",MONTH(Z28+1)=MONTH(Z28)),Z28+1,""))),"") -> 44007 | U35: =IFERROR(IF(AND(T29="",U25=U24,ISNUMBER(AA28)=FALSE,ISNUMBER(U28)=FALSE,U28<>""),DATE(JANVIER!$A$1,U23,1),IF(AND(T29<>"",MONTH(T29+1)=MONTH(T29)),T29+1,IF(AND(AA28<>"",MONTH(AA28+1)=MONTH(AA28)),AA28+1,""))),"") -> 44008 | V35: =IFERROR(IF(AND(U29="",V25=V24,ISNUMBER(AB28)=FALSE,ISNUMBER(V28)=FALSE,V28<>""),DATE(JANVIER!$A$1,V23,1),IF(AND(U29<>"",MONTH(U29+1)=MONTH(U29)),U29+1,IF(AND(AB28<>"",MONTH(AB28+1)=MONTH(AB28)),AB28+1,""))),"") -> 44009 | W35: =IFERROR(IF(AND(V29="",W25=W24,ISNUMBER(AC28)=FALSE,ISNUMBER(W28)=FALSE,W28<>""),DATE(JANVIER!$A$1,W23,1),IF(AND(V29<>"",MONTH(V29+1)=MONTH(V29)),V29+1,IF(AND(AC28<>"",MONTH(AC28+1)=MONTH(AC28)),AC28+1,""))),"") -> 44010 | AF35: =IFERROR(IF(AND(AE29="",AF25=AF24,ISNUMBER(AL28)=FALSE,ISNUMBER(AF28)=FALSE,AF28<>""),DATE(JANVIER!$A$1,AF23,1),IF(AND(AE29<>"",MONTH(AE29+1)=MONTH(AE29)),AE29+1,IF(AND(AL28<>"",MONTH(AL28+1)=MONTH(AL28)),AL28+1,""))),"") -> 44032 | AG35: =IFERROR(IF(AND(AF29="",AG25=AG24,ISNUMBER(AM28)=FALSE,ISNUMBER(AG28)=FALSE,AG28<>""),DATE(JANVIER!$A$1,AG23,1),IF(AND(AF29<>"",MONTH(AF29+1)=MONTH(AF29)),AF29+1,IF(AND(AM28<>"",MONTH(AM28+1)=MONTH(AM28)),AM28+1,""))),"") -> 44033 | AH35: =IFERROR(IF(AND(AG29="",AH25=AH24,ISNUMBER(AN28)=FALSE,ISNUMBER(AH28)=FALSE,AH28<>""),DATE(JANVIER!$A$1,AH23,1),IF(AND(AG29<>"",MONTH(AG29+1)=MONTH(AG29)),AG29+1,IF(AND(AN28<>"",MONTH(AN28+1)=MONTH(AN28)),AN28+1,""))),"") -> 44034 | AI35: =IFERROR(IF(AND(AH29="",AI25=AI24,ISNUMBER(AO28)=FALSE,ISNUMBER(AI28)=FALSE,AI28<>""),DATE(JANVIER!$A$1,AI23,1),IF(AND(AH29<>"",MONTH(AH29+1)=MONTH(AH29)),AH29+1,IF(AND(AO28<>"",MONTH(AO28+1)=MONTH(AO28)),AO28+1,""))),"") -> 44035 | AJ35: =IFERROR(IF(AND(AI29="",AJ25=AJ24,ISNUMBER(AP28)=FALSE,ISNUMBER(AJ28)=FALSE,AJ28<>""),DATE(JANVIER!$A$1,AJ23,1),IF(AND(AI29<>"",MONTH(AI29+1)=MONTH(AI29)),AI29+1,IF(AND(AP28<>"",MONTH(AP28+1)=MONTH(AP28)),AP28+1,""))),"") -> 44036 | AK35: =IFERROR(IF(AND(AJ29="",AK25=AK24,ISNUMBER(AQ28)=FALSE,ISNUMBER(AK28)=FALSE,AK28<>""),DATE(JANVIER!$A$1,AK23,1),IF(AND(AJ29<>"",MONTH(AJ29+1)=MONTH(AJ29)),AJ29+1,IF(AND(AQ28<>"",MONTH(AQ28+1)=MONTH(AQ28)),AQ28+1,""))),"") -> 44037 | AL35: =IFERROR(IF(AND(AK29="",AL25=AL24,ISNUMBER(AR28)=FALSE,ISNUMBER(AL28)=FALSE,AL28<>""),DATE(JANVIER!$A$1,AL23,1),IF(AND(AK29<>"",MONTH(AK29+1)=MONTH(AK29)),AK29+1,IF(AND(AR28<>"",MONTH(AR28+1)=MONTH(AR28)),AR28+1,""))),"") -> 44038 | AU35: =IFERROR(IF(AND(AT29="",AU25=AU24,ISNUMBER(BA28)=FALSE,ISNUMBER(AU28)=FALSE,AU28<>""),DATE(JANVIER!$A$1,AU23,1),IF(AND(AT29<>"",MONTH(AT29+1)=MONTH(AT29)),AT29+1,IF(AND(BA28<>"",MONTH(BA28+1)=MONTH(BA28)),BA28+1,""))),"") -> 44060 | AV35: =IFERROR(IF(AND(AU29="",AV25=AV24,ISNUMBER(BB28)=FALSE,ISNUMBER(AV28)=FALSE,AV28<>""),DATE(JANVIER!$A$1,AV23,1),IF(AND(AU29<>"",MONTH(AU29+1)=MONTH(AU29)),AU29+1,IF(AND(BB28<>"",MONTH(BB28+1)=MONTH(BB28)),BB28+1,""))),"") -> 44061 | AW35: =IFERROR(IF(AND(AV29="",AW25=AW24,ISNUMBER(BC28)=FALSE,ISNUMBER(AW28)=FALSE,AW28<>""),DATE(JANVIER!$A$1,AW23,1),IF(AND(AV29<>"",MONTH(AV29+1)=MONTH(AV29)),AV29+1,IF(AND(BC28<>"",MONTH(BC28+1)=MONTH(BC28)),BC28+1,""))),"") -> 44062 | AX35: =IFERROR(IF(AND(AW29="",AX25=AX24,ISNUMBER(BD28)=FALSE,ISNUMBER(AX28)=FALSE,AX28<>""),DATE(JANVIER!$A$1,AX23,1),IF(AND(AW29<>"",MONTH(AW29+1)=MONTH(AW29)),AW29+1,IF(AND(BD28<>"",MONTH(BD28+1)=MONTH(BD28)),BD28+1,""))),"") -> 44063 | AY35: =IFERROR(IF(AND(AX29="",AY25=AY24,ISNUMBER(BE28)=FALSE,ISNUMBER(AY28)=FALSE,AY28<>""),DATE(JANVIER!$A$1,AY23,1),IF(AND(AX29<>"",MONTH(AX29+1)=MONTH(AX29)),AX29+1,IF(AND(BE28<>"",MONTH(BE28+1)=MONTH(BE28)),BE28+1,""))),"") -> 44064 | AZ35: =IFERROR(IF(AND(AY29="",AZ25=AZ24,ISNUMBER(BF28)=FALSE,ISNUMBER(AZ28)=FALSE,AZ28<>""),DATE(JANVIER!$A$1,AZ23,1),IF(AND(AY29<>"",MONTH(AY29+1)=MONTH(AY29)),AY29+1,IF(AND(BF28<>"",MONTH(BF28+1)=MONTH(BF28)),BF28+1,""))),"") -> 44065 | BA35: =IFERROR(IF(AND(AZ29="",BA25=BA24,ISNUMBER(BG28)=FALSE,ISNUMBER(BA28)=FALSE,BA28<>""),DATE(JANVIER!$A$1,BA23,1),IF(AND(AZ29<>"",MONTH(AZ29+1)=MONTH(AZ29)),AZ29+1,IF(AND(BG28<>"",MONTH(BG28+1)=MONTH(BG28)),BG28+1,""))),"") -> 44066
B36: =IFERROR(IF(AND(A30="",B26=B25,ISNUMBER(H29)=FALSE,ISNUMBER(B29)=FALSE,B29<>""),DATE(JANVIER!$A$1,B24,1),IF(AND(A30<>"",MONTH(A30+1)=MONTH(A30)),A30+1,IF(AND(H29<>"",MONTH(H29+1)=MONTH(H29)),H29+1,""))),"") -> 43976 | C36: =IFERROR(IF(AND(B30="",C26=C25,ISNUMBER(I29)=FALSE,ISNUMBER(C29)=FALSE,C29<>""),DATE(JANVIER!$A$1,C24,1),IF(AND(B30<>"",MONTH(B30+1)=MONTH(B30)),B30+1,IF(AND(I29<>"",MONTH(I29+1)=MONTH(I29)),I29+1,""))),"") -> 43977 | D36: =IFERROR(IF(AND(C30="",D26=D25,ISNUMBER(J29)=FALSE,ISNUMBER(D29)=FALSE,D29<>""),DATE(JANVIER!$A$1,D24,1),IF(AND(C30<>"",MONTH(C30+1)=MONTH(C30)),C30+1,IF(AND(J29<>"",MONTH(J29+1)=MONTH(J29)),J29+1,""))),"") -> 43978 | E36: =IFERROR(IF(AND(D30="",E26=E25,ISNUMBER(K29)=FALSE,ISNUMBER(E29)=FALSE,E29<>""),DATE(JANVIER!$A$1,E24,1),IF(AND(D30<>"",MONTH(D30+1)=MONTH(D30)),D30+1,IF(AND(K29<>"",MONTH(K29+1)=MONTH(K29)),K29+1,""))),"") -> 43979 | F36: =IFERROR(IF(AND(E30="",F26=F25,ISNUMBER(L29)=FALSE,ISNUMBER(F29)=FALSE,F29<>""),DATE(JANVIER!$A$1,F24,1),IF(AND(E30<>"",MONTH(E30+1)=MONTH(E30)),E30+1,IF(AND(L29<>"",MONTH(L29+1)=MONTH(L29)),L29+1,""))),"") -> 43980 | G36: =IFERROR(IF(AND(F30="",G26=G25,ISNUMBER(M29)=FALSE,ISNUMBER(G29)=FALSE,G29<>""),DATE(JANVIER!$A$1,G24,1),IF(AND(F30<>"",MONTH(F30+1)=MONTH(F30)),F30+1,IF(AND(M29<>"",MONTH(M29+1)=MONTH(M29)),M29+1,""))),"") -> 43981 | H36: =IFERROR(IF(AND(G30="",H26=H25,ISNUMBER(N29)=FALSE,ISNUMBER(H29)=FALSE,H29<>""),DATE(JANVIER!$A$1,H24,1),IF(AND(G30<>"",MONTH(G30+1)=MONTH(G30)),G30+1,IF(AND(N29<>"",MONTH(N29+1)=MONTH(N29)),N29+1,""))),"") -> 43982 | Q36: =IFERROR(IF(AND(P30="",Q26=Q25,ISNUMBER(W29)=FALSE,ISNUMBER(Q29)=FALSE,Q29<>""),DATE(JANVIER!$A$1,Q24,1),IF(AND(P30<>"",MONTH(P30+1)=MONTH(P30)),P30+1,IF(AND(W29<>"",MONTH(W29+1)=MONTH(W29)),W29+1,""))),"") -> 44011 | R36: =IFERROR(IF(AND(Q30="",R26=R25,ISNUMBER(X29)=FALSE,ISNUMBER(R29)=FALSE,R29<>""),DATE(JANVIER!$A$1,R24,1),IF(AND(Q30<>"",MONTH(Q30+1)=MONTH(Q30)),Q30+1,IF(AND(X29<>"",MONTH(X29+1)=MONTH(X29)),X29+1,""))),"") -> 44012 | S36: =IFERROR(IF(AND(R30="",S26=S25,ISNUMBER(Y29)=FALSE,ISNUMBER(S29)=FALSE,S29<>""),DATE(JANVIER!$A$1,S24,1),IF(AND(R30<>"",MONTH(R30+1)=MONTH(R30)),R30+1,IF(AND(Y29<>"",MONTH(Y29+1)=MONTH(Y29)),Y29+1,""))),"") | T36: =IFERROR(IF(AND(S30="",T26=T25,ISNUMBER(Z29)=FALSE,ISNUMBER(T29)=FALSE,T29<>""),DATE(JANVIER!$A$1,T24,1),IF(AND(S30<>"",MONTH(S30+1)=MONTH(S30)),S30+1,IF(AND(Z29<>"",MONTH(Z29+1)=MONTH(Z29)),Z29+1,""))),"") | U36: =IFERROR(IF(AND(T30="",U26=U25,ISNUMBER(AA29)=FALSE,ISNUMBER(U29)=FALSE,U29<>""),DATE(JANVIER!$A$1,U24,1),IF(AND(T30<>"",MONTH(T30+1)=MONTH(T30)),T30+1,IF(AND(AA29<>"",MONTH(AA29+1)=MONTH(AA29)),AA29+1,""))),"") | V36: =IFERROR(IF(AND(U30="",V26=V25,ISNUMBER(AB29)=FALSE,ISNUMBER(V29)=FALSE,V29<>""),DATE(JANVIER!$A$1,V24,1),IF(AND(U30<>"",MONTH(U30+1)=MONTH(U30)),U30+1,IF(AND(AB29<>"",MONTH(AB29+1)=MONTH(AB29)),AB29+1,""))),"") | W36: =IFERROR(IF(AND(V30="",W26=W25,ISNUMBER(AC29)=FALSE,ISNUMBER(W29)=FALSE,W29<>""),DATE(JANVIER!$A$1,W24,1),IF(AND(V30<>"",MONTH(V30+1)=MONTH(V30)),V30+1,IF(AND(AC29<>"",MONTH(AC29+1)=MONTH(AC29)),AC29+1,""))),"") | AF36: =IFERROR(IF(AND(AE30="",AF26=AF25,ISNUMBER(AL29)=FALSE,ISNUMBER(AF29)=FALSE,AF29<>""),DATE(JANVIER!$A$1,AF24,1),IF(AND(AE30<>"",MONTH(AE30+1)=MONTH(AE30)),AE30+1,IF(AND(AL29<>"",MONTH(AL29+1)=MONTH(AL29)),AL29+1,""))),"") -> 44039 | AG36: =IFERROR(IF(AND(AF30="",AG26=AG25,ISNUMBER(AM29)=FALSE,ISNUMBER(AG29)=FALSE,AG29<>""),DATE(JANVIER!$A$1,AG24,1),IF(AND(AF30<>"",MONTH(AF30+1)=MONTH(AF30)),AF30+1,IF(AND(AM29<>"",MONTH(AM29+1)=MONTH(AM29)),AM29+1,""))),"") -> 44040 | AH36: =IFERROR(IF(AND(AG30="",AH26=AH25,ISNUMBER(AN29)=FALSE,ISNUMBER(AH29)=FALSE,AH29<>""),DATE(JANVIER!$A$1,AH24,1),IF(AND(AG30<>"",MONTH(AG30+1)=MONTH(AG30)),AG30+1,IF(AND(AN29<>"",MONTH(AN29+1)=MONTH(AN29)),AN29+1,""))),"") -> 44041 | AI36: =IFERROR(IF(AND(AH30="",AI26=AI25,ISNUMBER(AO29)=FALSE,ISNUMBER(AI29)=FALSE,AI29<>""),DATE(JANVIER!$A$1,AI24,1),IF(AND(AH30<>"",MONTH(AH30+1)=MONTH(AH30)),AH30+1,IF(AND(AO29<>"",MONTH(AO29+1)=MONTH(AO29)),AO29+1,""))),"") -> 44042 | AJ36: =IFERROR(IF(AND(AI30="",AJ26=AJ25,ISNUMBER(AP29)=FALSE,ISNUMBER(AJ29)=FALSE,AJ29<>""),DATE(JANVIER!$A$1,AJ24,1),IF(AND(AI30<>"",MONTH(AI30+1)=MONTH(AI30)),AI30+1,IF(AND(AP29<>"",MONTH(AP29+1)=MONTH(AP29)),AP29+1,""))),"") -> 44043 | AK36: =IFERROR(IF(AND(AJ30="",AK26=AK25,ISNUMBER(AQ29)=FALSE,ISNUMBER(AK29)=FALSE,AK29<>""),DATE(JANVIER!$A$1,AK24,1),IF(AND(AJ30<>"",MONTH(AJ30+1)=MONTH(AJ30)),AJ30+1,IF(AND(AQ29<>"",MONTH(AQ29+1)=MONTH(AQ29)),AQ29+1,""))),"") | AL36: =IFERROR(IF(AND(AK30="",AL26=AL25,ISNUMBER(AR29)=FALSE,ISNUMBER(AL29)=FALSE,AL29<>""),DATE(JANVIER!$A$1,AL24,1),IF(AND(AK30<>"",MONTH(AK30+1)=MONTH(AK30)),AK30+1,IF(AND(AR29<>"",MONTH(AR29+1)=MONTH(AR29)),AR29+1,""))),"") | AU36: =IFERROR(IF(AND(AT30="",AU26=AU25,ISNUMBER(BA29)=FALSE,ISNUMBER(AU29)=FALSE,AU29<>""),DATE(JANVIER!$A$1,AU24,1),IF(AND(AT30<>"",MONTH(AT30+1)=MONTH(AT30)),AT30+1,IF(AND(BA29<>"",MONTH(BA29+1)=MONTH(BA29)),BA29+1,""))),"") -> 44067 | AV36: =IFERROR(IF(AND(AU30="",AV26=AV25,ISNUMBER(BB29)=FALSE,ISNUMBER(AV29)=FALSE,AV29<>""),DATE(JANVIER!$A$1,AV24,1),IF(AND(AU30<>"",MONTH(AU30+1)=MONTH(AU30)),AU30+1,IF(AND(BB29<>"",MONTH(BB29+1)=MONTH(BB29)),BB29+1,""))),"") -> 44068 | AW36: =IFERROR(IF(AND(AV30="",AW26=AW25,ISNUMBER(BC29)=FALSE,ISNUMBER(AW29)=FALSE,AW29<>""),DATE(JANVIER!$A$1,AW24,1),IF(AND(AV30<>"",MONTH(AV30+1)=MONTH(AV30)),AV30+1,IF(AND(BC29<>"",MONTH(BC29+1)=MONTH(BC29)),BC29+1,""))),"") -> 44069 | AX36: =IFERROR(IF(AND(AW30="",AX26=AX25,ISNUMBER(BD29)=FALSE,ISNUMBER(AX29)=FALSE,AX29<>""),DATE(JANVIER!$A$1,AX24,1),IF(AND(AW30<>"",MONTH(AW30+1)=MONTH(AW30)),AW30+1,IF(AND(BD29<>"",MONTH(BD29+1)=MONTH(BD29)),BD29+1,""))),"") -> 44070 | AY36: =IFERROR(IF(AND(AX30="",AY26=AY25,ISNUMBER(BE29)=FALSE,ISNUMBER(AY29)=FALSE,AY29<>""),DATE(JANVIER!$A$1,AY24,1),IF(AND(AX30<>"",MONTH(AX30+1)=MONTH(AX30)),AX30+1,IF(AND(BE29<>"",MONTH(BE29+1)=MONTH(BE29)),BE29+1,""))),"") -> 44071 | AZ36: =IFERROR(IF(AND(AY30="",AZ26=AZ25,ISNUMBER(BF29)=FALSE,ISNUMBER(AZ29)=FALSE,AZ29<>""),DATE(JANVIER!$A$1,AZ24,1),IF(AND(AY30<>"",MONTH(AY30+1)=MONTH(AY30)),AY30+1,IF(AND(BF29<>"",MONTH(BF29+1)=MONTH(BF29)),BF29+1,""))),"") -> 44072 | BA36: =IFERROR(IF(AND(AZ30="",BA26=BA25,ISNUMBER(BG29)=FALSE,ISNUMBER(BA29)=FALSE,BA29<>""),DATE(JANVIER!$A$1,BA24,1),IF(AND(AZ30<>"",MONTH(AZ30+1)=MONTH(AZ30)),AZ30+1,IF(AND(BG29<>"",MONTH(BG29+1)=MONTH(BG29)),BG29+1,""))),"") -> 44073
B37: =IFERROR(IF(AND(A31="",B27=B26,ISNUMBER(H30)=FALSE,ISNUMBER(B30)=FALSE,B30<>""),DATE(JANVIER!$A$1,B25,1),IF(AND(A31<>"",MONTH(A31+1)=MONTH(A31)),A31+1,IF(AND(H30<>"",MONTH(H30+1)=MONTH(H30)),H30+1,""))),"") | C37: =IFERROR(IF(AND(B31="",C27=C26,ISNUMBER(I30)=FALSE,ISNUMBER(C30)=FALSE,C30<>""),DATE(JANVIER!$A$1,C25,1),IF(AND(B31<>"",MONTH(B31+1)=MONTH(B31)),B31+1,IF(AND(I30<>"",MONTH(I30+1)=MONTH(I30)),I30+1,""))),"") | D37: =IFERROR(IF(AND(C31="",D27=D26,ISNUMBER(J30)=FALSE,ISNUMBER(D30)=FALSE,D30<>""),DATE(JANVIER!$A$1,D25,1),IF(AND(C31<>"",MONTH(C31+1)=MONTH(C31)),C31+1,IF(AND(J30<>"",MONTH(J30+1)=MONTH(J30)),J30+1,""))),"") | E37: =IFERROR(IF(AND(D31="",E27=E26,ISNUMBER(K30)=FALSE,ISNUMBER(E30)=FALSE,E30<>""),DATE(JANVIER!$A$1,E25,1),IF(AND(D31<>"",MONTH(D31+1)=MONTH(D31)),D31+1,IF(AND(K30<>"",MONTH(K30+1)=MONTH(K30)),K30+1,""))),"") | F37: =IFERROR(IF(AND(E31="",F27=F26,ISNUMBER(L30)=FALSE,ISNUMBER(F30)=FALSE,F30<>""),DATE(JANVIER!$A$1,F25,1),IF(AND(E31<>"",MONTH(E31+1)=MONTH(E31)),E31+1,IF(AND(L30<>"",MONTH(L30+1)=MONTH(L30)),L30+1,""))),"") | G37: =IFERROR(IF(AND(F31="",G27=G26,ISNUMBER(M30)=FALSE,ISNUMBER(G30)=FALSE,G30<>""),DATE(JANVIER!$A$1,G25,1),IF(AND(F31<>"",MONTH(F31+1)=MONTH(F31)),F31+1,IF(AND(M30<>"",MONTH(M30+1)=MONTH(M30)),M30+1,""))),"") | H37: =IFERROR(IF(AND(G31="",H27=H26,ISNUMBER(N30)=FALSE,ISNUMBER(H30)=FALSE,H30<>""),DATE(JANVIER!$A$1,H25,1),IF(AND(G31<>"",MONTH(G31+1)=MONTH(G31)),G31+1,IF(AND(N30<>"",MONTH(N30+1)=MONTH(N30)),N30+1,""))),"") | Q37: =IFERROR(IF(AND(P31="",Q27=Q26,ISNUMBER(W30)=FALSE,ISNUMBER(Q30)=FALSE,Q30<>""),DATE(JANVIER!$A$1,Q25,1),IF(AND(P31<>"",MONTH(P31+1)=MONTH(P31)),P31+1,IF(AND(W30<>"",MONTH(W30+1)=MONTH(W30)),W30+1,""))),"") | R37: =IFERROR(IF(AND(Q31="",R27=R26,ISNUMBER(X30)=FALSE,ISNUMBER(R30)=FALSE,R30<>""),DATE(JANVIER!$A$1,R25,1),IF(AND(Q31<>"",MONTH(Q31+1)=MONTH(Q31)),Q31+1,IF(AND(X30<>"",MONTH(X30+1)=MONTH(X30)),X30+1,""))),"") | S37: =IFERROR(IF(AND(R31="",S27=S26,ISNUMBER(Y30)=FALSE,ISNUMBER(S30)=FALSE,S30<>""),DATE(JANVIER!$A$1,S25,1),IF(AND(R31<>"",MONTH(R31+1)=MONTH(R31)),R31+1,IF(AND(Y30<>"",MONTH(Y30+1)=MONTH(Y30)),Y30+1,""))),"") | T37: =IFERROR(IF(AND(S31="",T27=T26,ISNUMBER(Z30)=FALSE,ISNUMBER(T30)=FALSE,T30<>""),DATE(JANVIER!$A$1,T25,1),IF(AND(S31<>"",MONTH(S31+1)=MONTH(S31)),S31+1,IF(AND(Z30<>"",MONTH(Z30+1)=MONTH(Z30)),Z30+1,""))),"") | U37: =IFERROR(IF(AND(T31="",U27=U26,ISNUMBER(AA30)=FALSE,ISNUMBER(U30)=FALSE,U30<>""),DATE(JANVIER!$A$1,U25,1),IF(AND(T31<>"",MONTH(T31+1)=MONTH(T31)),T31+1,IF(AND(AA30<>"",MONTH(AA30+1)=MONTH(AA30)),AA30+1,""))),"") | V37: =IFERROR(IF(AND(U31="",V27=V26,ISNUMBER(AB30)=FALSE,ISNUMBER(V30)=FALSE,V30<>""),DATE(JANVIER!$A$1,V25,1),IF(AND(U31<>"",MONTH(U31+1)=MONTH(U31)),U31+1,IF(AND(AB30<>"",MONTH(AB30+1)=MONTH(AB30)),AB30+1,""))),"") | W37: =IFERROR(IF(AND(V31="",W27=W26,ISNUMBER(AC30)=FALSE,ISNUMBER(W30)=FALSE,W30<>""),DATE(JANVIER!$A$1,W25,1),IF(AND(V31<>"",MONTH(V31+1)=MONTH(V31)),V31+1,IF(AND(AC30<>"",MONTH(AC30+1)=MONTH(AC30)),AC30+1,""))),"") | AF37: =IFERROR(IF(AND(AE31="",AF27=AF26,ISNUMBER(AL30)=FALSE,ISNUMBER(AF30)=FALSE,AF30<>""),DATE(JANVIER!$A$1,AF25,1),IF(AND(AE31<>"",MONTH(AE31+1)=MONTH(AE31)),AE31+1,IF(AND(AL30<>"",MONTH(AL30+1)=MONTH(AL30)),AL30+1,""))),"") | AG37: =IFERROR(IF(AND(AF31="",AG27=AG26,ISNUMBER(AM30)=FALSE,ISNUMBER(AG30)=FALSE,AG30<>""),DATE(JANVIER!$A$1,AG25,1),IF(AND(AF31<>"",MONTH(AF31+1)=MONTH(AF31)),AF31+1,IF(AND(AM30<>"",MONTH(AM30+1)=MONTH(AM30)),AM30+1,""))),"") | AH37: =IFERROR(IF(AND(AG31="",AH27=AH26,ISNUMBER(AN30)=FALSE,ISNUMBER(AH30)=FALSE,AH30<>""),DATE(JANVIER!$A$1,AH25,1),IF(AND(AG31<>"",MONTH(AG31+1)=MONTH(AG31)),AG31+1,IF(AND(AN30<>"",MONTH(AN30+1)=MONTH(AN30)),AN30+1,""))),"") | AI37: =IFERROR(IF(AND(AH31="",AI27=AI26,ISNUMBER(AO30)=FALSE,ISNUMBER(AI30)=FALSE,AI30<>""),DATE(JANVIER!$A$1,AI25,1),IF(AND(AH31<>"",MONTH(AH31+1)=MONTH(AH31)),AH31+1,IF(AND(AO30<>"",MONTH(AO30+1)=MONTH(AO30)),AO30+1,""))),"") | AJ37: =IFERROR(IF(AND(AI31="",AJ27=AJ26,ISNUMBER(AP30)=FALSE,ISNUMBER(AJ30)=FALSE,AJ30<>""),DATE(JANVIER!$A$1,AJ25,1),IF(AND(AI31<>"",MONTH(AI31+1)=MONTH(AI31)),AI31+1,IF(AND(AP30<>"",MONTH(AP30+1)=MONTH(AP30)),AP30+1,""))),"") | AK37: =IFERROR(IF(AND(AJ31="",AK27=AK26,ISNUMBER(AQ30)=FALSE,ISNUMBER(AK30)=FALSE,AK30<>""),DATE(JANVIER!$A$1,AK25,1),IF(AND(AJ31<>"",MONTH(AJ31+1)=MONTH(AJ31)),AJ31+1,IF(AND(AQ30<>"",MONTH(AQ30+1)=MONTH(AQ30)),AQ30+1,""))),"") | AL37: =IFERROR(IF(AND(AK31="",AL27=AL26,ISNUMBER(AR30)=FALSE,ISNUMBER(AL30)=FALSE,AL30<>""),DATE(JANVIER!$A$1,AL25,1),IF(AND(AK31<>"",MONTH(AK31+1)=MONTH(AK31)),AK31+1,IF(AND(AR30<>"",MONTH(AR30+1)=MONTH(AR30)),AR30+1,""))),"") | AU37: =IFERROR(IF(AND(AT31="",AU27=AU26,ISNUMBER(BA30)=FALSE,ISNUMBER(AU30)=FALSE,AU30<>""),DATE(JANVIER!$A$1,AU25,1),IF(AND(AT31<>"",MONTH(AT31+1)=MONTH(AT31)),AT31+1,IF(AND(BA30<>"",MONTH(BA30+1)=MONTH(BA30)),BA30+1,""))),"") -> 44074 | AV37: =IFERROR(IF(AND(AU31="",AV27=AV26,ISNUMBER(BB30)=FALSE,ISNUMBER(AV30)=FALSE,AV30<>""),DATE(JANVIER!$A$1,AV25,1),IF(AND(AU31<>"",MONTH(AU31+1)=MONTH(AU31)),AU31+1,IF(AND(BB30<>"",MONTH(BB30+1)=MONTH(BB30)),BB30+1,""))),"") | AW37: =IFERROR(IF(AND(AV31="",AW27=AW26,ISNUMBER(BC30)=FALSE,ISNUMBER(AW30)=FALSE,AW30<>""),DATE(JANVIER!$A$1,AW25,1),IF(AND(AV31<>"",MONTH(AV31+1)=MONTH(AV31)),AV31+1,IF(AND(BC30<>"",MONTH(BC30+1)=MONTH(BC30)),BC30+1,""))),"") | AX37: =IFERROR(IF(AND(AW31="",AX27=AX26,ISNUMBER(BD30)=FALSE,ISNUMBER(AX30)=FALSE,AX30<>""),DATE(JANVIER!$A$1,AX25,1),IF(AND(AW31<>"",MONTH(AW31+1)=MONTH(AW31)),AW31+1,IF(AND(BD30<>"",MONTH(BD30+1)=MONTH(BD30)),BD30+1,""))),"") | AY37: =IFERROR(IF(AND(AX31="",AY27=AY26,ISNUMBER(BE30)=FALSE,ISNUMBER(AY30)=FALSE,AY30<>""),DATE(JANVIER!$A$1,AY25,1),IF(AND(AX31<>"",MONTH(AX31+1)=MONTH(AX31)),AX31+1,IF(AND(BE30<>"",MONTH(BE30+1)=MONTH(BE30)),BE30+1,""))),"") | AZ37: =IFERROR(IF(AND(AY31="",AZ27=AZ26,ISNUMBER(BF30)=FALSE,ISNUMBER(AZ30)=FALSE,AZ30<>""),DATE(JANVIER!$A$1,AZ25,1),IF(AND(AY31<>"",MONTH(AY31+1)=MONTH(AY31)),AY31+1,IF(AND(BF30<>"",MONTH(BF30+1)=MONTH(BF30)),BF30+1,""))),"") | BA37: =IFERROR(IF(AND(AZ31="",BA27=BA26,ISNUMBER(BG30)=FALSE,ISNUMBER(BA30)=FALSE,BA30<>""),DATE(JANVIER!$A$1,BA25,1),IF(AND(AZ31<>"",MONTH(AZ31+1)=MONTH(AZ31)),AZ31+1,IF(AND(BG30<>"",MONTH(BG30+1)=MONTH(BG30)),BG30+1,""))),"")
B39: 9 | C39: 9 | D39: 9 | E39: 9 | F39: 9 | G39: 9 | H39: 9 | Q39: 10 | R39: 10 | S39: 10 | T39: 10 | U39: 10 | V39: 10 | W39: 10 | AF39: 11 | AG39: 11 | AH39: 11 | AI39: 11 | AJ39: 11 | AK39: 11 | AL39: 11 | AU39: 12 | AV39: 12 | AW39: 12 | AX39: 12 | AY39: 12 | AZ39: 12 | BA39: 12
B40: =WEEKDAY(DATE(JANVIER!$A$1,B39,1),2) -> 2 | C40: =WEEKDAY(DATE(JANVIER!$A$1,C39,1),2) -> 2 | D40: =WEEKDAY(DATE(JANVIER!$A$1,D39,1),2) -> 2 | E40: =WEEKDAY(DATE(JANVIER!$A$1,E39,1),2) -> 2 | F40: =WEEKDAY(DATE(JANVIER!$A$1,F39,1),2) -> 2 | G40: =WEEKDAY(DATE(JANVIER!$A$1,G39,1),2) -> 2 | H40: =WEEKDAY(DATE(JANVIER!$A$1,H39,1),2) -> 2 | Q40: =WEEKDAY(DATE(JANVIER!$A$1,Q39,1),2) -> 4 | R40: =WEEKDAY(DATE(JANVIER!$A$1,R39,1),2) -> 4 | S40: =WEEKDAY(DATE(JANVIER!$A$1,S39,1),2) -> 4 | T40: =WEEKDAY(DATE(JANVIER!$A$1,T39,1),2) -> 4 | U40: =WEEKDAY(DATE(JANVIER!$A$1,U39,1),2) -> 4 | V40: =WEEKDAY(DATE(JANVIER!$A$1,V39,1),2) -> 4 | W40: =WEEKDAY(DATE(JANVIER!$A$1,W39,1),2) -> 4 | AF40: =WEEKDAY(DATE(JANVIER!$A$1,AF39,1),2) -> 7 | AG40: =WEEKDAY(DATE(JANVIER!$A$1,AG39,1),2) -> 7 | AH40: =WEEKDAY(DATE(JANVIER!$A$1,AH39,1),2) -> 7 | AI40: =WEEKDAY(DATE(JANVIER!$A$1,AI39,1),2) -> 7 | AJ40: =WEEKDAY(DATE(JANVIER!$A$1,AJ39,1),2) -> 7 | AK40: =WEEKDAY(DATE(JANVIER!$A$1,AK39,1),2) -> 7 | AL40: =WEEKDAY(DATE(JANVIER!$A$1,AL39,1),2) -> 7 | AU40: =WEEKDAY(DATE(JANVIER!$A$1,AU39,1),2) -> 2 | AV40: =WEEKDAY(DATE(JANVIER!$A$1,AV39,1),2) -> 2 | AW40: =WEEKDAY(DATE(JANVIER!$A$1,AW39,1),2) -> 2 | AX40: =WEEKDAY(DATE(JANVIER!$A$1,AX39,1),2) -> 2 | AY40: =WEEKDAY(DATE(JANVIER!$A$1,AY39,1),2) -> 2 | AZ40: =WEEKDAY(DATE(JANVIER!$A$1,AZ39,1),2) -> 2 | BA40: =WEEKDAY(DATE(JANVIER!$A$1,BA39,1),2) -> 2
B41: 1 | C41: 2 | D41: 3 | E41: 4 | F41: 5 | G41: 6 | H41: 7 | Q41: 1 | R41: 2 | S41: 3 | T41: 4 | U41: 5 | V41: 6 | W41: 7 | AF41: 1 | AG41: 2 | AH41: 3 | AI41: 4 | AJ41: 5 | AK41: 6 | AL41: 7 | AU41: 1 | AV41: 2 | AW41: 3 | AX41: 4 | AY41: 5 | AZ41: 6 | BA41: 7
B44: L | C44: M | D44: M | E44: J | F44: V | G44: S | H44: D | Q44: L | R44: M | S44: M | T44: J | U44: V | V44: S | W44: D | AF44: L | AG44: M | AH44: M | AI44: J | AJ44: V | AK44: S | AL44: D | AU44: L | AV44: M | AW44: M | AX44: J | AY44: V | AZ44: S | BA44: D
B45: =IFERROR(IF(AND(A45="",B41=B40,ISNUMBER(H44)=FALSE,ISNUMBER(B44)=FALSE,B44<>""),DATE(JANVIER!$A$1,B39,1),IF(AND(A45<>"",MONTH(A45+1)=MONTH(A45)),A45+1,IF(AND(H44<>"",MONTH(H44+1)=MONTH(H44)),H44+1,""))),"") | C45: =IFERROR(IF(AND(B45="",C41=C40,ISNUMBER(I44)=FALSE,ISNUMBER(C44)=FALSE,C44<>""),DATE(JANVIER!$A$1,C39,1),IF(AND(B45<>"",MONTH(B45+1)=MONTH(B45)),B45+1,IF(AND(I44<>"",MONTH(I44+1)=MONTH(I44)),I44+1,""))),"") -> 44075 | D45: =IFERROR(IF(AND(C45="",D41=D40,ISNUMBER(J44)=FALSE,ISNUMBER(D44)=FALSE,D44<>""),DATE(JANVIER!$A$1,D39,1),IF(AND(C45<>"",MONTH(C45+1)=MONTH(C45)),C45+1,IF(AND(J44<>"",MONTH(J44+1)=MONTH(J44)),J44+1,""))),"") -> 44076 | E45: =IFERROR(IF(AND(D45="",E41=E40,ISNUMBER(K44)=FALSE,ISNUMBER(E44)=FALSE,E44<>""),DATE(JANVIER!$A$1,E39,1),IF(AND(D45<>"",MONTH(D45+1)=MONTH(D45)),D45+1,IF(AND(K44<>"",MONTH(K44+1)=MONTH(K44)),K44+1,""))),"") -> 44077 | F45: =IFERROR(IF(AND(E45="",F41=F40,ISNUMBER(L44)=FALSE,ISNUMBER(F44)=FALSE,F44<>""),DATE(JANVIER!$A$1,F39,1),IF(AND(E45<>"",MONTH(E45+1)=MONTH(E45)),E45+1,IF(AND(L44<>"",MONTH(L44+1)=MONTH(L44)),L44+1,""))),"") -> 44078 | G45: =IFERROR(IF(AND(F45="",G41=G40,ISNUMBER(M44)=FALSE,ISNUMBER(G44)=FALSE,G44<>""),DATE(JANVIER!$A$1,G39,1),IF(AND(F45<>"",MONTH(F45+1)=MONTH(F45)),F45+1,IF(AND(M44<>"",MONTH(M44+1)=MONTH(M44)),M44+1,""))),"") -> 44079 | H45: =IFERROR(IF(AND(G45="",H41=H40,ISNUMBER(N44)=FALSE,ISNUMBER(H44)=FALSE,H44<>""),DATE(JANVIER!$A$1,H39,1),IF(AND(G45<>"",MONTH(G45+1)=MONTH(G45)),G45+1,IF(AND(N44<>"",MONTH(N44+1)=MONTH(N44)),N44+1,""))),"") -> 44080 | Q45: =IFERROR(IF(AND(P45="",Q41=Q40,ISNUMBER(W44)=FALSE,ISNUMBER(Q44)=FALSE,Q44<>""),DATE(JANVIER!$A$1,Q39,1),IF(AND(P45<>"",MONTH(P45+1)=MONTH(P45)),P45+1,IF(AND(W44<>"",MONTH(W44+1)=MONTH(W44)),W44+1,""))),"") | R45: =IFERROR(IF(AND(Q45="",R41=R40,ISNUMBER(X44)=FALSE,ISNUMBER(R44)=FALSE,R44<>""),DATE(JANVIER!$A$1,R39,1),IF(AND(Q45<>"",MONTH(Q45+1)=MONTH(Q45)),Q45+1,IF(AND(X44<>"",MONTH(X44+1)=MONTH(X44)),X44+1,""))),"") | S45: =IFERROR(IF(AND(R45="",S41=S40,ISNUMBER(Y44)=FALSE,ISNUMBER(S44)=FALSE,S44<>""),DATE(JANVIER!$A$1,S39,1),IF(AND(R45<>"",MONTH(R45+1)=MONTH(R45)),R45+1,IF(AND(Y44<>"",MONTH(Y44+1)=MONTH(Y44)),Y44+1,""))),"") | T45: =IFERROR(IF(AND(S45="",T41=T40,ISNUMBER(Z44)=FALSE,ISNUMBER(T44)=FALSE,T44<>""),DATE(JANVIER!$A$1,T39,1),IF(AND(S45<>"",MONTH(S45+1)=MONTH(S45)),S45+1,IF(AND(Z44<>"",MONTH(Z44+1)=MONTH(Z44)),Z44+1,""))),"") -> 44105 | U45: =IFERROR(IF(AND(T45="",U41=U40,ISNUMBER(AA44)=FALSE,ISNUMBER(U44)=FALSE,U44<>""),DATE(JANVIER!$A$1,U39,1),IF(AND(T45<>"",MONTH(T45+1)=MONTH(T45)),T45+1,IF(AND(AA44<>"",MONTH(AA44+1)=MONTH(AA44)),AA44+1,""))),"") -> 44106 | V45: =IFERROR(IF(AND(U45="",V41=V40,ISNUMBER(AB44)=FALSE,ISNUMBER(V44)=FALSE,V44<>""),DATE(JANVIER!$A$1,V39,1),IF(AND(U45<>"",MONTH(U45+1)=MONTH(U45)),U45+1,IF(AND(AB44<>"",MONTH(AB44+1)=MONTH(AB44)),AB44+1,""))),"") -> 44107 | W45: =IFERROR(IF(AND(V45="",W41=W40,ISNUMBER(AC44)=FALSE,ISNUMBER(W44)=FALSE,W44<>""),DATE(JANVIER!$A$1,W39,1),IF(AND(V45<>"",MONTH(V45+1)=MONTH(V45)),V45+1,IF(AND(AC44<>"",MONTH(AC44+1)=MONTH(AC44)),AC44+1,""))),"") -> 44108 | AF45: =IFERROR(IF(AND(AE45="",AF41=AF40,ISNUMBER(AL44)=FALSE,ISNUMBER(AF44)=FALSE,AF44<>""),DATE(JANVIER!$A$1,AF39,1),IF(AND(AE45<>"",MONTH(AE45+1)=MONTH(AE45)),AE45+1,IF(AND(AL44<>"",MONTH(AL44+1)=MONTH(AL44)),AL44+1,""))),"") | AG45: =IFERROR(IF(AND(AF45="",AG41=AG40,ISNUMBER(AM44)=FALSE,ISNUMBER(AG44)=FALSE,AG44<>""),DATE(JANVIER!$A$1,AG39,1),IF(AND(AF45<>"",MONTH(AF45+1)=MONTH(AF45)),AF45+1,IF(AND(AM44<>"",MONTH(AM44+1)=MONTH(AM44)),AM44+1,""))),"") | AH45: =IFERROR(IF(AND(AG45="",AH41=AH40,ISNUMBER(AN44)=FALSE,ISNUMBER(AH44)=FALSE,AH44<>""),DATE(JANVIER!$A$1,AH39,1),IF(AND(AG45<>"",MONTH(AG45+1)=MONTH(AG45)),AG45+1,IF(AND(AN44<>"",MONTH(AN44+1)=MONTH(AN44)),AN44+1,""))),"") | AI45: =IFERROR(IF(AND(AH45="",AI41=AI40,ISNUMBER(AO44)=FALSE,ISNUMBER(AI44)=FALSE,AI44<>""),DATE(JANVIER!$A$1,AI39,1),IF(AND(AH45<>"",MONTH(AH45+1)=MONTH(AH45)),AH45+1,IF(AND(AO44<>"",MONTH(AO44+1)=MONTH(AO44)),AO44+1,""))),"") | AJ45: =IFERROR(IF(AND(AI45="",AJ41=AJ40,ISNUMBER(AP44)=FALSE,ISNUMBER(AJ44)=FALSE,AJ44<>""),DATE(JANVIER!$A$1,AJ39,1),IF(AND(AI45<>"",MONTH(AI45+1)=MONTH(AI45)),AI45+1,IF(AND(AP44<>"",MONTH(AP44+1)=MONTH(AP44)),AP44+1,""))),"") | AK45: =IFERROR(IF(AND(AJ45="",AK41=AK40,ISNUMBER(AQ44)=FALSE,ISNUMBER(AK44)=FALSE,AK44<>""),DATE(JANVIER!$A$1,AK39,1),IF(AND(AJ45<>"",MONTH(AJ45+1)=MONTH(AJ45)),AJ45+1,IF(AND(AQ44<>"",MONTH(AQ44+1)=MONTH(AQ44)),AQ44+1,""))),"") | AL45: =IFERROR(IF(AND(AK45="",AL41=AL40,ISNUMBER(AR44)=FALSE,ISNUMBER(AL44)=FALSE,AL44<>""),DATE(JANVIER!$A$1,AL39,1),IF(AND(AK45<>"",MONTH(AK45+1)=MONTH(AK45)),AK45+1,IF(AND(AR44<>"",MONTH(AR44+1)=MONTH(AR44)),AR44+1,""))),"") -> 44136 | AU45: =IFERROR(IF(AND(AT45="",AU41=AU40,ISNUMBER(BA44)=FALSE,ISNUMBER(AU44)=FALSE,AU44<>""),DATE(JANVIER!$A$1,AU39,1),IF(AND(AT45<>"",MONTH(AT45+1)=MONTH(AT45)),AT45+1,IF(AND(BA44<>"",MONTH(BA44+1)=MONTH(BA44)),BA44+1,""))),"") | AV45: =IFERROR(IF(AND(AU45="",AV41=AV40,ISNUMBER(BB44)=FALSE,ISNUMBER(AV44)=FALSE,AV44<>""),DATE(JANVIER!$A$1,AV39,1),IF(AND(AU45<>"",MONTH(AU45+1)=MONTH(AU45)),AU45+1,IF(AND(BB44<>"",MONTH(BB44+1)=MONTH(BB44)),BB44+1,""))),"") -> 44166 | AW45: =IFERROR(IF(AND(AV45="",AW41=AW40,ISNUMBER(BC44)=FALSE,ISNUMBER(AW44)=FALSE,AW44<>""),DATE(JANVIER!$A$1,AW39,1),IF(AND(AV45<>"",MONTH(AV45+1)=MONTH(AV45)),AV45+1,IF(AND(BC44<>"",MONTH(BC44+1)=MONTH(BC44)),BC44+1,""))),"") -> 44167 | AX45: =IFERROR(IF(AND(AW45="",AX41=AX40,ISNUMBER(BD44)=FALSE,ISNUMBER(AX44)=FALSE,AX44<>""),DATE(JANVIER!$A$1,AX39,1),IF(AND(AW45<>"",MONTH(AW45+1)=MONTH(AW45)),AW45+1,IF(AND(BD44<>"",MONTH(BD44+1)=MONTH(BD44)),BD44+1,""))),"") -> 44168 | AY45: =IFERROR(IF(AND(AX45="",AY41=AY40,ISNUMBER(BE44)=FALSE,ISNUMBER(AY44)=FALSE,AY44<>""),DATE(JANVIER!$A$1,AY39,1),IF(AND(AX45<>"",MONTH(AX45+1)=MONTH(AX45)),AX45+1,IF(AND(BE44<>"",MONTH(BE44+1)=MONTH(BE44)),BE44+1,""))),"") -> 44169 | AZ45: =IFERROR(IF(AND(AY45="",AZ41=AZ40,ISNUMBER(BF44)=FALSE,ISNUMBER(AZ44)=FALSE,AZ44<>""),DATE(JANVIER!$A$1,AZ39,1),IF(AND(AY45<>"",MONTH(AY45+1)=MONTH(AY45)),AY45+1,IF(AND(BF44<>"",MONTH(BF44+1)=MONTH(BF44)),BF44+1,""))),"") -> 44170 | BA45: =IFERROR(IF(AND(AZ45="",BA41=BA40,ISNUMBER(BG44)=FALSE,ISNUMBER(BA44)=FALSE,BA44<>""),DATE(JANVIER!$A$1,BA39,1),IF(AND(AZ45<>"",MONTH(AZ45+1)=MONTH(AZ45)),AZ45+1,IF(AND(BG44<>"",MONTH(BG44+1)=MONTH(BG44)),BG44+1,""))),"") -> 44171
B46: =IFERROR(IF(AND(A46="",B42=B41,ISNUMBER(H45)=FALSE,ISNUMBER(B45)=FALSE,B45<>""),DATE(JANVIER!$A$1,B40,1),IF(AND(A46<>"",MONTH(A46+1)=MONTH(A46)),A46+1,IF(AND(H45<>"",MONTH(H45+1)=MONTH(H45)),H45+1,""))),"") -> 44081 | C46: =IFERROR(IF(AND(B46="",C42=C41,ISNUMBER(I45)=FALSE,ISNUMBER(C45)=FALSE,C45<>""),DATE(JANVIER!$A$1,C40,1),IF(AND(B46<>"",MONTH(B46+1)=MONTH(B46)),B46+1,IF(AND(I45<>"",MONTH(I45+1)=MONTH(I45)),I45+1,""))),"") -> 44082 | D46: =IFERROR(IF(AND(C46="",D42=D41,ISNUMBER(J45)=FALSE,ISNUMBER(D45)=FALSE,D45<>""),DATE(JANVIER!$A$1,D40,1),IF(AND(C46<>"",MONTH(C46+1)=MONTH(C46)),C46+1,IF(AND(J45<>"",MONTH(J45+1)=MONTH(J45)),J45+1,""))),"") -> 44083 | E46: =IFERROR(IF(AND(D46="",E42=E41,ISNUMBER(K45)=FALSE,ISNUMBER(E45)=FALSE,E45<>""),DATE(JANVIER!$A$1,E40,1),IF(AND(D46<>"",MONTH(D46+1)=MONTH(D46)),D46+1,IF(AND(K45<>"",MONTH(K45+1)=MONTH(K45)),K45+1,""))),"") -> 44084 | F46: =IFERROR(IF(AND(E46="",F42=F41,ISNUMBER(L45)=FALSE,ISNUMBER(F45)=FALSE,F45<>""),DATE(JANVIER!$A$1,F40,1),IF(AND(E46<>"",MONTH(E46+1)=MONTH(E46)),E46+1,IF(AND(L45<>"",MONTH(L45+1)=MONTH(L45)),L45+1,""))),"") -> 44085 | G46: =IFERROR(IF(AND(F46="",G42=G41,ISNUMBER(M45)=FALSE,ISNUMBER(G45)=FALSE,G45<>""),DATE(JANVIER!$A$1,G40,1),IF(AND(F46<>"",MONTH(F46+1)=MONTH(F46)),F46+1,IF(AND(M45<>"",MONTH(M45+1)=MONTH(M45)),M45+1,""))),"") -> 44086 | H46: =IFERROR(IF(AND(G46="",H42=H41,ISNUMBER(N45)=FALSE,ISNUMBER(H45)=FALSE,H45<>""),DATE(JANVIER!$A$1,H40,1),IF(AND(G46<>"",MONTH(G46+1)=MONTH(G46)),G46+1,IF(AND(N45<>"",MONTH(N45+1)=MONTH(N45)),N45+1,""))),"") -> 44087 | Q46: =IFERROR(IF(AND(P46="",Q42=Q41,ISNUMBER(W45)=FALSE,ISNUMBER(Q45)=FALSE,Q45<>""),DATE(JANVIER!$A$1,Q40,1),IF(AND(P46<>"",MONTH(P46+1)=MONTH(P46)),P46+1,IF(AND(W45<>"",MONTH(W45+1)=MONTH(W45)),W45+1,""))),"") -> 44109 | R46: =IFERROR(IF(AND(Q46="",R42=R41,ISNUMBER(X45)=FALSE,ISNUMBER(R45)=FALSE,R45<>""),DATE(JANVIER!$A$1,R40,1),IF(AND(Q46<>"",MONTH(Q46+1)=MONTH(Q46)),Q46+1,IF(AND(X45<>"",MONTH(X45+1)=MONTH(X45)),X45+1,""))),"") -> 44110 | S46: =IFERROR(IF(AND(R46="",S42=S41,ISNUMBER(Y45)=FALSE,ISNUMBER(S45)=FALSE,S45<>""),DATE(JANVIER!$A$1,S40,1),IF(AND(R46<>"",MONTH(R46+1)=MONTH(R46)),R46+1,IF(AND(Y45<>"",MONTH(Y45+1)=MONTH(Y45)),Y45+1,""))),"") -> 44111 | T46: =IFERROR(IF(AND(S46="",T42=T41,ISNUMBER(Z45)=FALSE,ISNUMBER(T45)=FALSE,T45<>""),DATE(JANVIER!$A$1,T40,1),IF(AND(S46<>"",MONTH(S46+1)=MONTH(S46)),S46+1,IF(AND(Z45<>"",MONTH(Z45+1)=MONTH(Z45)),Z45+1,""))),"") -> 44112 | U46: =IFERROR(IF(AND(T46="",U42=U41,ISNUMBER(AA45)=FALSE,ISNUMBER(U45)=FALSE,U45<>""),DATE(JANVIER!$A$1,U40,1),IF(AND(T46<>"",MONTH(T46+1)=MONTH(T46)),T46+1,IF(AND(AA45<>"",MONTH(AA45+1)=MONTH(AA45)),AA45+1,""))),"") -> 44113 | V46: =IFERROR(IF(AND(U46="",V42=V41,ISNUMBER(AB45)=FALSE,ISNUMBER(V45)=FALSE,V45<>""),DATE(JANVIER!$A$1,V40,1),IF(AND(U46<>"",MONTH(U46+1)=MONTH(U46)),U46+1,IF(AND(AB45<>"",MONTH(AB45+1)=MONTH(AB45)),AB45+1,""))),"") -> 44114 | W46: =IFERROR(IF(AND(V46="",W42=W41,ISNUMBER(AC45)=FALSE,ISNUMBER(W45)=FALSE,W45<>""),DATE(JANVIER!$A$1,W40,1),IF(AND(V46<>"",MONTH(V46+1)=MONTH(V46)),V46+1,IF(AND(AC45<>"",MONTH(AC45+1)=MONTH(AC45)),AC45+1,""))),"") -> 44115 | AF46: =IFERROR(IF(AND(AE46="",AF42=AF41,ISNUMBER(AL45)=FALSE,ISNUMBER(AF45)=FALSE,AF45<>""),DATE(JANVIER!$A$1,AF40,1),IF(AND(AE46<>"",MONTH(AE46+1)=MONTH(AE46)),AE46+1,IF(AND(AL45<>"",MONTH(AL45+1)=MONTH(AL45)),AL45+1,""))),"") -> 44137 | AG46: =IFERROR(IF(AND(AF46="",AG42=AG41,ISNUMBER(AM45)=FALSE,ISNUMBER(AG45)=FALSE,AG45<>""),DATE(JANVIER!$A$1,AG40,1),IF(AND(AF46<>"",MONTH(AF46+1)=MONTH(AF46)),AF46+1,IF(AND(AM45<>"",MONTH(AM45+1)=MONTH(AM45)),AM45+1,""))),"") -> 44138 | AH46: =IFERROR(IF(AND(AG46="",AH42=AH41,ISNUMBER(AN45)=FALSE,ISNUMBER(AH45)=FALSE,AH45<>""),DATE(JANVIER!$A$1,AH40,1),IF(AND(AG46<>"",MONTH(AG46+1)=MONTH(AG46)),AG46+1,IF(AND(AN45<>"",MONTH(AN45+1)=MONTH(AN45)),AN45+1,""))),"") -> 44139 | AI46: =IFERROR(IF(AND(AH46="",AI42=AI41,ISNUMBER(AO45)=FALSE,ISNUMBER(AI45)=FALSE,AI45<>""),DATE(JANVIER!$A$1,AI40,1),IF(AND(AH46<>"",MONTH(AH46+1)=MONTH(AH46)),AH46+1,IF(AND(AO45<>"",MONTH(AO45+1)=MONTH(AO45)),AO45+1,""))),"") -> 44140 | AJ46: =IFERROR(IF(AND(AI46="",AJ42=AJ41,ISNUMBER(AP45)=FALSE,ISNUMBER(AJ45)=FALSE,AJ45<>""),DATE(JANVIER!$A$1,AJ40,1),IF(AND(AI46<>"",MONTH(AI46+1)=MONTH(AI46)),AI46+1,IF(AND(AP45<>"",MONTH(AP45+1)=MONTH(AP45)),AP45+1,""))),"") -> 44141 | AK46: =IFERROR(IF(AND(AJ46="",AK42=AK41,ISNUMBER(AQ45)=FALSE,ISNUMBER(AK45)=FALSE,AK45<>""),DATE(JANVIER!$A$1,AK40,1),IF(AND(AJ46<>"",MONTH(AJ46+1)=MONTH(AJ46)),AJ46+1,IF(AND(AQ45<>"",MONTH(AQ45+1)=MONTH(AQ45)),AQ45+1,""))),"") -> 44142 | AL46: =IFERROR(IF(AND(AK46="",AL42=AL41,ISNUMBER(AR45)=FALSE,ISNUMBER(AL45)=FALSE,AL45<>""),DATE(JANVIER!$A$1,AL40,1),IF(AND(AK46<>"",MONTH(AK46+1)=MONTH(AK46)),AK46+1,IF(AND(AR45<>"",MONTH(AR45+1)=MONTH(AR45)),AR45+1,""))),"") -> 44143 | AU46: =IFERROR(IF(AND(AT46="",AU42=AU41,ISNUMBER(BA45)=FALSE,ISNUMBER(AU45)=FALSE,AU45<>""),DATE(JANVIER!$A$1,AU40,1),IF(AND(AT46<>"",MONTH(AT46+1)=MONTH(AT46)),AT46+1,IF(AND(BA45<>"",MONTH(BA45+1)=MONTH(BA45)),BA45+1,""))),"") -> 44172 | AV46: =IFERROR(IF(AND(AU46="",AV42=AV41,ISNUMBER(BB45)=FALSE,ISNUMBER(AV45)=FALSE,AV45<>""),DATE(JANVIER!$A$1,AV40,1),IF(AND(AU46<>"",MONTH(AU46+1)=MONTH(AU46)),AU46+1,IF(AND(BB45<>"",MONTH(BB45+1)=MONTH(BB45)),BB45+1,""))),"") -> 44173 | AW46: =IFERROR(IF(AND(AV46="",AW42=AW41,ISNUMBER(BC45)=FALSE,ISNUMBER(AW45)=FALSE,AW45<>""),DATE(JANVIER!$A$1,AW40,1),IF(AND(AV46<>"",MONTH(AV46+1)=MONTH(AV46)),AV46+1,IF(AND(BC45<>"",MONTH(BC45+1)=MONTH(BC45)),BC45+1,""))),"") -> 44174 | AX46: =IFERROR(IF(AND(AW46="",AX42=AX41,ISNUMBER(BD45)=FALSE,ISNUMBER(AX45)=FALSE,AX45<>""),DATE(JANVIER!$A$1,AX40,1),IF(AND(AW46<>"",MONTH(AW46+1)=MONTH(AW46)),AW46+1,IF(AND(BD45<>"",MONTH(BD45+1)=MONTH(BD45)),BD45+1,""))),"") -> 44175 | AY46: =IFERROR(IF(AND(AX46="",AY42=AY41,ISNUMBER(BE45)=FALSE,ISNUMBER(AY45)=FALSE,AY45<>""),DATE(JANVIER!$A$1,AY40,1),IF(AND(AX46<>"",MONTH(AX46+1)=MONTH(AX46)),AX46+1,IF(AND(BE45<>"",MONTH(BE45+1)=MONTH(BE45)),BE45+1,""))),"") -> 44176 | AZ46: =IFERROR(IF(AND(AY46="",AZ42=AZ41,ISNUMBER(BF45)=FALSE,ISNUMBER(AZ45)=FALSE,AZ45<>""),DATE(JANVIER!$A$1,AZ40,1),IF(AND(AY46<>"",MONTH(AY46+1)=MONTH(AY46)),AY46+1,IF(AND(BF45<>"",MONTH(BF45+1)=MONTH(BF45)),BF45+1,""))),"") -> 44177 | BA46: =IFERROR(IF(AND(AZ46="",BA42=BA41,ISNUMBER(BG45)=FALSE,ISNUMBER(BA45)=FALSE,BA45<>""),DATE(JANVIER!$A$1,BA40,1),IF(AND(AZ46<>"",MONTH(AZ46+1)=MONTH(AZ46)),AZ46+1,IF(AND(BG45<>"",MONTH(BG45+1)=MONTH(BG45)),BG45+1,""))),"") -> 44178
B47: =IFERROR(IF(AND(A47="",B43=B42,ISNUMBER(H46)=FALSE,ISNUMBER(B46)=FALSE,B46<>""),DATE(JANVIER!$A$1,B41,1),IF(AND(A47<>"",MONTH(A47+1)=MONTH(A47)),A47+1,IF(AND(H46<>"",MONTH(H46+1)=MONTH(H46)),H46+1,""))),"") -> 44088 | C47: =IFERROR(IF(AND(B47="",C43=C42,ISNUMBER(I46)=FALSE,ISNUMBER(C46)=FALSE,C46<>""),DATE(JANVIER!$A$1,C41,1),IF(AND(B47<>"",MONTH(B47+1)=MONTH(B47)),B47+1,IF(AND(I46<>"",MONTH(I46+1)=MONTH(I46)),I46+1,""))),"") -> 44089 | D47: =IFERROR(IF(AND(C47="",D43=D42,ISNUMBER(J46)=FALSE,ISNUMBER(D46)=FALSE,D46<>""),DATE(JANVIER!$A$1,D41,1),IF(AND(C47<>"",MONTH(C47+1)=MONTH(C47)),C47+1,IF(AND(J46<>"",MONTH(J46+1)=MONTH(J46)),J46+1,""))),"") -> 44090 | E47: =IFERROR(IF(AND(D47="",E43=E42,ISNUMBER(K46)=FALSE,ISNUMBER(E46)=FALSE,E46<>""),DATE(JANVIER!$A$1,E41,1),IF(AND(D47<>"",MONTH(D47+1)=MONTH(D47)),D47+1,IF(AND(K46<>"",MONTH(K46+1)=MONTH(K46)),K46+1,""))),"") -> 44091 | F47: =IFERROR(IF(AND(E47="",F43=F42,ISNUMBER(L46)=FALSE,ISNUMBER(F46)=FALSE,F46<>""),DATE(JANVIER!$A$1,F41,1),IF(AND(E47<>"",MONTH(E47+1)=MONTH(E47)),E47+1,IF(AND(L46<>"",MONTH(L46+1)=MONTH(L46)),L46+1,""))),"") -> 44092 | G47: =IFERROR(IF(AND(F47="",G43=G42,ISNUMBER(M46)=FALSE,ISNUMBER(G46)=FALSE,G46<>""),DATE(JANVIER!$A$1,G41,1),IF(AND(F47<>"",MONTH(F47+1)=MONTH(F47)),F47+1,IF(AND(M46<>"",MONTH(M46+1)=MONTH(M46)),M46+1,""))),"") -> 44093 | H47: =IFERROR(IF(AND(G47="",H43=H42,ISNUMBER(N46)=FALSE,ISNUMBER(H46)=FALSE,H46<>""),DATE(JANVIER!$A$1,H41,1),IF(AND(G47<>"",MONTH(G47+1)=MONTH(G47)),G47+1,IF(AND(N46<>"",MONTH(N46+1)=MONTH(N46)),N46+1,""))),"") -> 44094 | Q47: =IFERROR(IF(AND(P47="",Q43=Q42,ISNUMBER(W46)=FALSE,ISNUMBER(Q46)=FALSE,Q46<>""),DATE(JANVIER!$A$1,Q41,1),IF(AND(P47<>"",MONTH(P47+1)=MONTH(P47)),P47+1,IF(AND(W46<>"",MONTH(W46+1)=MONTH(W46)),W46+1,""))),"") -> 44116 | R47: =IFERROR(IF(AND(Q47="",R43=R42,ISNUMBER(X46)=FALSE,ISNUMBER(R46)=FALSE,R46<>""),DATE(JANVIER!$A$1,R41,1),IF(AND(Q47<>"",MONTH(Q47+1)=MONTH(Q47)),Q47+1,IF(AND(X46<>"",MONTH(X46+1)=MONTH(X46)),X46+1,""))),"") -> 44117 | S47: =IFERROR(IF(AND(R47="",S43=S42,ISNUMBER(Y46)=FALSE,ISNUMBER(S46)=FALSE,S46<>""),DATE(JANVIER!$A$1,S41,1),IF(AND(R47<>"",MONTH(R47+1)=MONTH(R47)),R47+1,IF(AND(Y46<>"",MONTH(Y46+1)=MONTH(Y46)),Y46+1,""))),"") -> 44118 | T47: =IFERROR(IF(AND(S47="",T43=T42,ISNUMBER(Z46)=FALSE,ISNUMBER(T46)=FALSE,T46<>""),DATE(JANVIER!$A$1,T41,1),IF(AND(S47<>"",MONTH(S47+1)=MONTH(S47)),S47+1,IF(AND(Z46<>"",MONTH(Z46+1)=MONTH(Z46)),Z46+1,""))),"") -> 44119 | U47: =IFERROR(IF(AND(T47="",U43=U42,ISNUMBER(AA46)=FALSE,ISNUMBER(U46)=FALSE,U46<>""),DATE(JANVIER!$A$1,U41,1),IF(AND(T47<>"",MONTH(T47+1)=MONTH(T47)),T47+1,IF(AND(AA46<>"",MONTH(AA46+1)=MONTH(AA46)),AA46+1,""))),"") -> 44120 | V47: =IFERROR(IF(AND(U47="",V43=V42,ISNUMBER(AB46)=FALSE,ISNUMBER(V46)=FALSE,V46<>""),DATE(JANVIER!$A$1,V41,1),IF(AND(U47<>"",MONTH(U47+1)=MONTH(U47)),U47+1,IF(AND(AB46<>"",MONTH(AB46+1)=MONTH(AB46)),AB46+1,""))),"") -> 44121 | W47: =IFERROR(IF(AND(V47="",W43=W42,ISNUMBER(AC46)=FALSE,ISNUMBER(W46)=FALSE,W46<>""),DATE(JANVIER!$A$1,W41,1),IF(AND(V47<>"",MONTH(V47+1)=MONTH(V47)),V47+1,IF(AND(AC46<>"",MONTH(AC46+1)=MONTH(AC46)),AC46+1,""))),"") -> 44122 | AF47: =IFERROR(IF(AND(AE47="",AF43=AF42,ISNUMBER(AL46)=FALSE,ISNUMBER(AF46)=FALSE,AF46<>""),DATE(JANVIER!$A$1,AF41,1),IF(AND(AE47<>"",MONTH(AE47+1)=MONTH(AE47)),AE47+1,IF(AND(AL46<>"",MONTH(AL46+1)=MONTH(AL46)),AL46+1,""))),"") -> 44144 | AG47: =IFERROR(IF(AND(AF47="",AG43=AG42,ISNUMBER(AM46)=FALSE,ISNUMBER(AG46)=FALSE,AG46<>""),DATE(JANVIER!$A$1,AG41,1),IF(AND(AF47<>"",MONTH(AF47+1)=MONTH(AF47)),AF47+1,IF(AND(AM46<>"",MONTH(AM46+1)=MONTH(AM46)),AM46+1,""))),"") -> 44145 | AH47: =IFERROR(IF(AND(AG47="",AH43=AH42,ISNUMBER(AN46)=FALSE,ISNUMBER(AH46)=FALSE,AH46<>""),DATE(JANVIER!$A$1,AH41,1),IF(AND(AG47<>"",MONTH(AG47+1)=MONTH(AG47)),AG47+1,IF(AND(AN46<>"",MONTH(AN46+1)=MONTH(AN46)),AN46+1,""))),"") -> 44146 | AI47: =IFERROR(IF(AND(AH47="",AI43=AI42,ISNUMBER(AO46)=FALSE,ISNUMBER(AI46)=FALSE,AI46<>""),DATE(JANVIER!$A$1,AI41,1),IF(AND(AH47<>"",MONTH(AH47+1)=MONTH(AH47)),AH47+1,IF(AND(AO46<>"",MONTH(AO46+1)=MONTH(AO46)),AO46+1,""))),"") -> 44147 | AJ47: =IFERROR(IF(AND(AI47="",AJ43=AJ42,ISNUMBER(AP46)=FALSE,ISNUMBER(AJ46)=FALSE,AJ46<>""),DATE(JANVIER!$A$1,AJ41,1),IF(AND(AI47<>"",MONTH(AI47+1)=MONTH(AI47)),AI47+1,IF(AND(AP46<>"",MONTH(AP46+1)=MONTH(AP46)),AP46+1,""))),"") -> 44148 | AK47: =IFERROR(IF(AND(AJ47="",AK43=AK42,ISNUMBER(AQ46)=FALSE,ISNUMBER(AK46)=FALSE,AK46<>""),DATE(JANVIER!$A$1,AK41,1),IF(AND(AJ47<>"",MONTH(AJ47+1)=MONTH(AJ47)),AJ47+1,IF(AND(AQ46<>"",MONTH(AQ46+1)=MONTH(AQ46)),AQ46+1,""))),"") -> 44149 | AL47: =IFERROR(IF(AND(AK47="",AL43=AL42,ISNUMBER(AR46)=FALSE,ISNUMBER(AL46)=FALSE,AL46<>""),DATE(JANVIER!$A$1,AL41,1),IF(AND(AK47<>"",MONTH(AK47+1)=MONTH(AK47)),AK47+1,IF(AND(AR46<>"",MONTH(AR46+1)=MONTH(AR46)),AR46+1,""))),"") -> 44150 | AU47: =IFERROR(IF(AND(AT47="",AU43=AU42,ISNUMBER(BA46)=FALSE,ISNUMBER(AU46)=FALSE,AU46<>""),DATE(JANVIER!$A$1,AU41,1),IF(AND(AT47<>"",MONTH(AT47+1)=MONTH(AT47)),AT47+1,IF(AND(BA46<>"",MONTH(BA46+1)=MONTH(BA46)),BA46+1,""))),"") -> 44179 | AV47: =IFERROR(IF(AND(AU47="",AV43=AV42,ISNUMBER(BB46)=FALSE,ISNUMBER(AV46)=FALSE,AV46<>""),DATE(JANVIER!$A$1,AV41,1),IF(AND(AU47<>"",MONTH(AU47+1)=MONTH(AU47)),AU47+1,IF(AND(BB46<>"",MONTH(BB46+1)=MONTH(BB46)),BB46+1,""))),"") -> 44180 | AW47: =IFERROR(IF(AND(AV47="",AW43=AW42,ISNUMBER(BC46)=FALSE,ISNUMBER(AW46)=FALSE,AW46<>""),DATE(JANVIER!$A$1,AW41,1),IF(AND(AV47<>"",MONTH(AV47+1)=MONTH(AV47)),AV47+1,IF(AND(BC46<>"",MONTH(BC46+1)=MONTH(BC46)),BC46+1,""))),"") -> 44181 | AX47: =IFERROR(IF(AND(AW47="",AX43=AX42,ISNUMBER(BD46)=FALSE,ISNUMBER(AX46)=FALSE,AX46<>""),DATE(JANVIER!$A$1,AX41,1),IF(AND(AW47<>"",MONTH(AW47+1)=MONTH(AW47)),AW47+1,IF(AND(BD46<>"",MONTH(BD46+1)=MONTH(BD46)),BD46+1,""))),"") -> 44182 | AY47: =IFERROR(IF(AND(AX47="",AY43=AY42,ISNUMBER(BE46)=FALSE,ISNUMBER(AY46)=FALSE,AY46<>""),DATE(JANVIER!$A$1,AY41,1),IF(AND(AX47<>"",MONTH(AX47+1)=MONTH(AX47)),AX47+1,IF(AND(BE46<>"",MONTH(BE46+1)=MONTH(BE46)),BE46+1,""))),"") -> 44183 | AZ47: =IFERROR(IF(AND(AY47="",AZ43=AZ42,ISNUMBER(BF46)=FALSE,ISNUMBER(AZ46)=FALSE,AZ46<>""),DATE(JANVIER!$A$1,AZ41,1),IF(AND(AY47<>"",MONTH(AY47+1)=MONTH(AY47)),AY47+1,IF(AND(BF46<>"",MONTH(BF46+1)=MONTH(BF46)),BF46+1,""))),"") -> 44184 | BA47: =IFERROR(IF(AND(AZ47="",BA43=BA42,ISNUMBER(BG46)=FALSE,ISNUMBER(BA46)=FALSE,BA46<>""),DATE(JANVIER!$A$1,BA41,1),IF(AND(AZ47<>"",MONTH(AZ47+1)=MONTH(AZ47)),AZ47+1,IF(AND(BG46<>"",MONTH(BG46+1)=MONTH(BG46)),BG46+1,""))),"") -> 44185
