Workbook

Sheet JANVIER
A1: 2020
A2: vacances scolaire | B2: =CHOOSE(WEEKDAY(B$3,2),"L","M","M","J","V","S","D") -> M | C2: =CHOOSE(WEEKDAY(C$3,2),"L","M","M","J","V","S","D") -> J | D2: =CHOOSE(WEEKDAY(D$3,2),"L","M","M","J","V","S","D") -> V | E2: =CHOOSE(WEEKDAY(E$3,2),"L","M","M","J","V","S","D") -> S | F2: =CHOOSE(WEEKDAY(F$3,2),"L","M","M","J","V","S","D") -> D | G2: =CHOOSE(WEEKDAY(G$3,2),"L","M","M","J","V","S","D") -> L | H2: =CHOOSE(WEEKDAY(H$3,2),"L","M","M","J","V","S","D") -> M | I2: =CHOOSE(WEEKDAY(I$3,2),"L","M","M","J","V","S","D") -> M | ... AF2: =CHOOSE(WEEKDAY(AF$3,2),"L","M","M","J","V","S","D") -> V
B3: =DATE($A$1,1,1) -> 43831 | C3: =DATE($A$1,1,2) -> 43832 | D3: =DATE($A$1,1,3) -> 43833 | E3: =DATE($A$1,1,4) -> 43834 | F3: =DATE($A$1,1,5) -> 43835 | G3: =DATE($A$1,1,6) -> 43836 | H3: =DATE($A$1,1,7) -> 43837 | I3: =DATE($A$1,1,8) -> 43838 | J3: =DATE($A$1,1,9) -> 43839 | K3: =DATE($A$1,1,10) -> 43840 | L3: =DATE($A$1,1,11) -> 43841 | M3: =DATE($A$1,1,12) -> 43842 | N3: =DATE($A$1,1,13) -> 43843 | O3: =DATE($A$1,1,14) -> 43844 | P3: =DATE($A$1,1,15) -> 43845 | Q3: =DATE($A$1,1,16) -> 43846 | R3: =DATE($A$1,1,17) -> 43847 | S3: =DATE($A$1,1,18) -> 43848 | T3: =DATE($A$1,1,19) -> 43849 | U3: =DATE($A$1,1,20) -> 43850 | V3: =DATE($A$1,1,21) -> 43851 | W3: =DATE($A$1,1,22) -> 43852 | X3: =DATE($A$1,1,23) -> 43853 | Y3: =DATE($A$1,1,24) -> 43854 | Z3: =DATE($A$1,1,25) -> 43855 | AA3: =DATE($A$1,1,26) -> 43856 | AB3: =DATE($A$1,1,27) -> 43857 | AC3: =DATE($A$1,1,28) -> 43858 | AD3: =DATE($A$1,1,29) -> 43859 | AE3: =DATE($A$1,1,30) -> 43860 | AF3: =DATE($A$1,1,31) -> 43861
A4: Reunion P Projet | C4: 4
A6: Reunion EJE
A8: Projets NVC
A10: Art et Tout petit
A12: Reunion Institutionnelle

Sheet FEVRIER
A1: =JANVIER!$A$1 -> 2020
A2: vacances scolaire | B2: =CHOOSE(WEEKDAY(B$3,2),"L","M","M","J","V","S","D") -> S | C2: =CHOOSE(WEEKDAY(C$3,2),"L","M","M","J","V","S","D") -> D | D2: =CHOOSE(WEEKDAY(D$3,2),"L","M","M","J","V","S","D") -> L | E2: =CHOOSE(WEEKDAY(E$3,2),"L","M","M","J","V","S","D") -> M | F2: =CHOOSE(WEEKDAY(F$3,2),"L","M","M","J","V","S","D") -> M | G2: =CHOOSE(WEEKDAY(G$3,2),"L","M","M","J","V","S","D") -> J | H2: =CHOOSE(WEEKDAY(H$3,2),"L","M","M","J","V","S","D") -> V | I2: =CHOOSE(WEEKDAY(I$3,2),"L","M","M","J","V","S","D") -> S | ... AD2: =CHOOSE(WEEKDAY(AD$3,2),"L","M","M","J","V","S","D") -> S
B3: =DATE($A$1,2,1) -> 43862 | C3: =DATE($A$1,2,2) -> 43863 | D3: =DATE($A$1,2,3) -> 43864 | E3: =DATE($A$1,2,4) -> 43865 | F3: =DATE($A$1,2,5) -> 43866 | G3: =DATE($A$1,2,6) -> 43867 | H3: =DATE($A$1,2,7) -> 43868 | I3: =DATE($A$1,2,8) -> 43869 | J3: =DATE($A$1,2,9) -> 43870 | K3: =DATE($A$1,2,10) -> 43871 | L3: =DATE($A$1,2,11) -> 43872 | M3: =DATE($A$1,2,12) -> 43873 | N3: =DATE($A$1,2,13) -> 43874 | O3: =DATE($A$1,2,14) -> 43875 | P3: =DATE($A$1,2,15) -> 43876 | Q3: =DATE($A$1,2,16) -> 43877 | R3: =DATE($A$1,2,17) -> 43878 | S3: =DATE($A$1,2,18) -> 43879 | T3: =DATE($A$1,2,19) -> 43880 | U3: =DATE($A$1,2,20) -> 43881 | V3: =DATE($A$1,2,21) -> 43882 | W3: =DATE($A$1,2,22) -> 43883 | X3: =DATE($A$1,2,23) -> 43884 | Y3: =DATE($A$1,2,24) -> 43885 | Z3: =DATE($A$1,2,25) -> 43886 | AA3: =DATE($A$1,2,26) -> 43887 | AB3: =DATE($A$1,2,27) -> 43888 | AC3: =DATE($A$1,2,28) -> 43889 | AD3: =DATE($A$1,2,29) -> 43890
A4: Reunion P Projet
A6: Reunion EJE
A8: Projets NVC
A10: Art et Tout petit
A12: Reunion Institutionnelle

Sheet MARS
A1: =JANVIER!$A$1 -> 2020
A2: vacances scolaire | B2: =CHOOSE(WEEKDAY(B$3,2),"L","M","M","J","V","S","D") -> D | C2: =CHOOSE(WEEKDAY(C$3,2),"L","M","M","J","V","S","D") -> L | D2: =CHOOSE(WEEKDAY(D$3,2),"L","M","M","J","V","S","D") -> M | E2: =CHOOSE(WEEKDAY(E$3,2),"L","M","M","J","V","S","D") -> M | F2: =CHOOSE(WEEKDAY(F$3,2),"L","M","M","J","V","S","D") -> J | G2: =CHOOSE(WEEKDAY(G$3,2),"L","M","M","J","V","S","D") -> V | H2: =CHOOSE(WEEKDAY(H$3,2),"L","M","M","J","V","S","D") -> S | I2: =CHOOSE(WEEKDAY(I$3,2),"L","M","M","J","V","S","D") -> D | ... AF2: =CHOOSE(WEEKDAY(AF$3,2),"L","M","M","J","V","S","D") -> M
B3: =DATE($A$1,3,1) -> 43891 | C3: =DATE($A$1,3,2) -> 43892 | D3: =DATE($A$1,3,3) -> 43893 | E3: =DATE($A$1,3,4) -> 43894 | F3: =DATE($A$1,3,5) -> 43895 | G3: =DATE($A$1,3,6) -> 43896 | H3: =DATE($A$1,3,7) -> 43897 | I3: =DATE($A$1,3,8) -> 43898 | J3: =DATE($A$1,3,9) -> 43899 | K3: =DATE($A$1,3,10) -> 43900 | L3: =DATE($A$1,3,11) -> 43901 | M3: =DATE($A$1,3,12) -> 43902 | N3: =DATE($A$1,3,13) -> 43903 | O3: =DATE($A$1,3,14) -> 43904 | P3: =DATE($A$1,3,15) -> 43905 | Q3: =DATE($A$1,3,16) -> 43906 | R3: =DATE($A$1,3,17) -> 43907 | S3: =DATE($A$1,3,18) -> 43908 | T3: =DATE($A$1,3,19) -> 43909 | U3: =DATE($A$1,3,20) -> 43910 | V3: =DATE($A$1,3,21) -> 43911 | W3: =DATE($A$1,3,22) -> 43912 | X3: =DATE($A$1,3,23) -> 43913 | Y3: =DATE($A$1,3,24) -> 43914 | Z3: =DATE($A$1,3,25) -> 43915 | AA3: =DATE($A$1,3,26) -> 43916 | AB3: =DATE($A$1,3,27) -> 43917 | AC3: =DATE($A$1,3,28) -> 43918 | AD3: =DATE($A$1,3,29) -> 43919 | AE3: =DATE($A$1,3,30) -> 43920 | AF3: =DATE($A$1,3,31) -> 43921
A4: Reunion P Projet
A6: Reunion EJE
A8: Projets NVC
A10: Art et Tout petit
A12: Reunion Institutionnelle

Sheet AVRIL
A1: =JANVIER!$A$1 -> 2020
A2: vacances scolaire | B2: =CHOOSE(WEEKDAY(B$3,2),"L","M","M","J","V","S","D") -> M | C2: =CHOOSE(WEEKDAY(C$3,2),"L","M","M","J","V","S","D") -> J | D2: =CHOOSE(WEEKDAY(D$3,2),"L","M","M","J","V","S","D") -> V | E2: =CHOOSE(WEEKDAY(E$3,2),"L","M","M","J","V","S","D") -> S | F2: =CHOOSE(WEEKDAY(F$3,2),"L","M","M","J","V","S","D") -> D | G2: =CHOOSE(WEEKDAY(G$3,2),"L","M","M","J","V","S","D") -> L | H2: =CHOOSE(WEEKDAY(H$3,2),"L","M","M","J","V","S","D") -> M | I2: =CHOOSE(WEEKDAY(I$3,2),"L","M","M","J","V","S","D") -> M | ... AE2: =CHOOSE(WEEKDAY(AE$3,2),"L","M","M","J","V","S","D") -> J
B3: =DATE($A$1,4,1) -> 43922 | C3: =DATE($A$1,4,2) -> 43923 | D3: =DATE($A$1,4,3) -> 43924 | E3: =DATE($A$1,4,4) -> 43925 | F3: =DATE($A$1,4,5) -> 43926 | G3: =DATE($A$1,4,6) -> 43927 | H3: =DATE($A$1,4,7) -> 43928 | I3: =DATE($A$1,4,8) -> 43929 | J3: =DATE($A$1,4,9) -> 43930 | K3: =DATE($A$1,4,10) -> 43931 | L3: =DATE($A$1,4,11) -> 43932 | M3: =DATE($A$1,4,12) -> 43933 | N3: =DATE($A$1,4,13) -> 43934 | O3: =DATE($A$1,4,14) -> 43935 | P3: =DATE($A$1,4,15) -> 43936 | Q3: =DATE($A$1,4,16) -> 43937 | R3: =DATE($A$1,4,17) -> 43938 | S3: =DATE($A$1,4,18) -> 43939 | T3: =DATE($A$1,4,19) -> 43940 | U3: =DATE($A$1,4,20) -> 43941 | V3: =DATE($A$1,4,21) -> 43942 | W3: =DATE($A$1,4,22) -> 43943 | X3: =DATE($A$1,4,23) -> 43944 | Y3: =DATE($A$1,4,24) -> 43945 | Z3: =DATE($A$1,4,25) -> 43946 | AA3: =DATE($A$1,4,26) -> 43947 | AB3: =DATE($A$1,4,27) -> 43948 | AC3: =DATE($A$1,4,28) -> 43949 | AD3: =DATE($A$1,4,29) -> 43950 | AE3: =DATE($A$1,4,30) -> 43951
A4: Reunion P Projet
A6: Reunion EJE
A8: Projets NVC
A10: Art et Tout petit
A12: Reunion Institutionnelle

Sheet MAI
A1: =JANVIER!$A$1 -> 2020
A2: vacances scolaire | B2: =CHOOSE(WEEKDAY(B$3,2),"L","M","M","J","V","S","D") -> V | C2: =CHOOSE(WEEKDAY(C$3,2),"L","M","M","J","V","S","D") -> S | D2: =CHOOSE(WEEKDAY(D$3,2),"L","M","M","J","V","S","D") -> D | E2: =CHOOSE(WEEKDAY(E$3,2),"L","M","M","J","V","S","D") -> L | F2: =CHOOSE(WEEKDAY(F$3,2),"L","M","M","J","V","S","D") -> M | G2: =CHOOSE(WEEKDAY(G$3,2),"L","M","M","J","V","S","D") -> M | H2: =CHOOSE(WEEKDAY(H$3,2),"L","M","M","J","V","S","D") -> J | I2: =CHOOSE(WEEKDAY(I$3,2),"L","M","M","J","V","S","D") -> V | ... AF2: =CHOOSE(WEEKDAY(AF$3,2),"L","M","M","J","V","S","D") -> D
B3: =DATE($A$1,5,1) -> 43952 | C3: =DATE($A$1,5,2) -> 43953 | D3: =DATE($A$1,5,3) -> 43954 | E3: =DATE($A$1,5,4) -> 43955 | F3: =DATE($A$1,5,5) -> 43956 | G3: =DATE($A$1,5,6) -> 43957 | H3: =DATE($A$1,5,7) -> 43958 | I3: =DATE($A$1,5,8) -> 43959 | J3: =DATE($A$1,5,9) -> 43960 | K3: =DATE($A$1,5,10) -> 43961 | L3: =DATE($A$1,5,11) -> 43962 | M3: =DATE($A$1,5,12) -> 43963 | N3: =DATE($A$1,5,13) -> 43964 | O3: =DATE($A$1,5,14) -> 43965 | P3: =DATE($A$1,5,15) -> 43966 | Q3: =DATE($A$1,5,16) -> 43967 | R3: =DATE($A$1,5,17) -> 43968 | S3: =DATE($A$1,5,18) -> 43969 | T3: =DATE($A$1,5,19) -> 43970 | U3: =DATE($A$1,5,20) -> 43971 | V3: =DATE($A$1,5,21) -> 43972 | W3: =DATE($A$1,5,22) -> 43973 | X3: =DATE($A$1,5,23) -> 43974 | Y3: =DATE($A$1,5,24) -> 43975 | Z3: =DATE($A$1,5,25) -> 43976 | AA3: =DATE($A$1,5,26) -> 43977 | AB3: =DATE($A$1,5,27) -> 43978 | AC3: =DATE($A$1,5,28) -> 43979 | AD3: =DATE($A$1,5,29) -> 43980 | AE3: =DATE($A$1,5,30) -> 43981 | AF3: =DATE($A$1,5,31) -> 43982
A4: Reunion P Projet
A6: Reunion EJE
A8: Projets NVC
A10: Art et Tout petit
A12: Reunion Institutionnelle

Sheet JUIN
A1: =JANVIER!$A$1 -> 2020
A2: vacances scolaire | B2: =CHOOSE(WEEKDAY(B$3,2),"L","M","M","J","V","S","D") -> L | C2: =CHOOSE(WEEKDAY(C$3,2),"L","M","M","J","V","S","D") -> M | D2: =CHOOSE(WEEKDAY(D$3,2),"L","M","M","J","V","S","D") -> M | E2: =CHOOSE(WEEKDAY(E$3,2),"L","M","M","J","V","S","D") -> J | F2: =CHOOSE(WEEKDAY(F$3,2),"L","M","M","J","V","S","D") -> V | G2: =CHOOSE(WEEKDAY(G$3,2),"L","M","M","J","V","S","D") -> S | H2: =CHOOSE(WEEKDAY(H$3,2),"L","M","M","J","V","S","D") -> D | I2: =CHOOSE(WEEKDAY(I$3,2),"L","M","M","J","V","S","D") -> L | ... AE2: =CHOOSE(WEEKDAY(AE$3,2),"L","M","M","J","V","S","D") -> M
B3: =DATE($A$1,6,1) -> 43983 | C3: =DATE($A$1,6,2) -> 43984 | D3: =DATE($A$1,6,3) -> 43985 | E3: =DATE($A$1,6,4) -> 43986 | F3: =DATE($A$1,6,5) -> 43987 | G3: =DATE($A$1,6,6) -> 43988 | H3: =DATE($A$1,6,7) -> 43989 | I3: =DATE($A$1,6,8) -> 43990 | J3: =DATE($A$1,6,9) -> 43991 | K3: =DATE($A$1,6,10) -> 43992 | L3: =DATE($A$1,6,11) -> 43993 | M3: =DATE($A$1,6,12) -> 43994 | N3: =DATE($A$1,6,13) -> 43995 | O3: =DATE($A$1,6,14) -> 43996 | P3: =DATE($A$1,6,15) -> 43997 | Q3: =DATE($A$1,6,16) -> 43998 | R3: =DATE($A$1,6,17) -> 43999 | S3: =DATE($A$1,6,18) -> 44000 | T3: =DATE($A$1,6,19) -> 44001 | U3: =DATE($A$1,6,20) -> 44002 | V3: =DATE($A$1,6,21) -> 44003 | W3: =DATE($A$1,6,22) -> 44004 | X3: =DATE($A$1,6,23) -> 44005 | Y3: =DATE($A$1,6,24) -> 44006 | Z3: =DATE($A$1,6,25) -> 44007 | AA3: =DATE($A$1,6,26) -> 44008 | AB3: =DATE($A$1,6,27) -> 44009 | AC3: =DATE($A$1,6,28) -> 44010 | AD3: =DATE($A$1,6,29) -> 44011 | AE3: =DATE($A$1,6,30) -> 44012
A4: Reunion P Projet
A6: Reunion EJE
A8: Projets NVC
A10: Art et Tout petit
A12: Reunion Institutionnelle

Sheet JUILLET
A1: =JANVIER!$A$1 -> 2020
A2: vacances scolaire | B2: =CHOOSE(WEEKDAY(B$3,2),"L","M","M","J","V","S","D") -> M | C2: =CHOOSE(WEEKDAY(C$3,2),"L","M","M","J","V","S","D") -> J | D2: =CHOOSE(WEEKDAY(D$3,2),"L","M","M","J","V","S","D") -> V | E2: =CHOOSE(WEEKDAY(E$3,2),"L","M","M","J","V","S","D") -> S | F2: =CHOOSE(WEEKDAY(F$3,2),"L","M","M","J","V","S","D") -> D | G2: =CHOOSE(WEEKDAY(G$3,2),"L","M","M","J","V","S","D") -> L | H2: =CHOOSE(WEEKDAY(H$3,2),"L","M","M","J","V","S","D") -> M | I2: =CHOOSE(WEEKDAY(I$3,2),"L","M","M","J","V","S","D") -> M | ... AF2: =CHOOSE(WEEKDAY(AF$3,2),"L","M","M","J","V","S","D") -> V
B3: =DATE($A$1,7,1) -> 44013 | C3: =DATE($A$1,7,2) -> 44014 | D3: =DATE($A$1,7,3) -> 44015 | E3: =DATE($A$1,7,4) -> 44016 | F3: =DATE($A$1,7,5) -> 44017 | G3: =DATE($A$1,7,6) -> 44018 | H3: =DATE($A$1,7,7) -> 44019 | I3: =DATE($A$1,7,8) -> 44020 | J3: =DATE($A$1,7,9) -> 44021 | K3: =DATE($A$1,7,10) -> 44022 | L3: =DATE($A$1,7,11) -> 44023 | M3: =DATE($A$1,7,12) -> 44024 | N3: =DATE($A$1,7,13) -> 44025 | O3: =DATE($A$1,7,14) -> 44026 | P3: =DATE($A$1,7,15) -> 44027 | Q3: =DATE($A$1,7,16) -> 44028 | R3: =DATE($A$1,7,17) -> 44029 | S3: =DATE($A$1,7,18) -> 44030 | T3: =DATE($A$1,7,19) -> 44031 | U3: =DATE($A$1,7,20) -> 44032 | V3: =DATE($A$1,7,21) -> 44033 | W3: =DATE($A$1,7,22) -> 44034 | X3: =DATE($A$1,7,23) -> 44035 | Y3: =DATE($A$1,7,24) -> 44036 | Z3: =DATE($A$1,7,25) -> 44037 | AA3: =DATE($A$1,7,26) -> 44038 | AB3: =DATE($A$1,7,27) -> 44039 | AC3: =DATE($A$1,7,28) -> 44040 | AD3: =DATE($A$1,7,29) -> 44041 | AE3: =DATE($A$1,7,30) -> 44042 | AF3: =DATE($A$1,7,31) -> 44043
A4: Reunion P Projet
A6: Reunion EJE
A8: Projets NVC
A10: Art et Tout petit
A12: Reunion Institutionnelle

Sheet AOUT
A1: =JANVIER!$A$1 -> 2020
A2: vacances scolaire | B2: =CHOOSE(WEEKDAY(B$3,2),"L","M","M","J","V","S","D") -> S | C2: =CHOOSE(WEEKDAY(C$3,2),"L","M","M","J","V","S","D") -> D | D2: =CHOOSE(WEEKDAY(D$3,2),"L","M","M","J","V","S","D") -> L | E2: =CHOOSE(WEEKDAY(E$3,2),"L","M","M","J","V","S","D") -> M | F2: =CHOOSE(WEEKDAY(F$3,2),"L","M","M","J","V","S","D") -> M | G2: =CHOOSE(WEEKDAY(G$3,2),"L","M","M","J","V","S","D") -> J | H2: =CHOOSE(WEEKDAY(H$3,2),"L","M","M","J","V","S","D") -> V | I2: =CHOOSE(WEEKDAY(I$3,2),"L","M","M","J","V","S","D") -> S | ... AF2: =CHOOSE(WEEKDAY(AF$3,2),"L","M","M","J","V","S","D") -> L
B3: =DATE($A$1,8,1) -> 44044 | C3: =DATE($A$1,8,2) -> 44045 | D3: =DATE($A$1,8,3) -> 44046 | E3: =DATE($A$1,8,4) -> 44047 | F3: =DATE($A$1,8,5) -> 44048 | G3: =DATE($A$1,8,6) -> 44049 | H3: =DATE($A$1,8,7) -> 44050 | I3: =DATE($A$1,8,8) -> 44051 | J3: =DATE($A$1,8,9) -> 44052 | K3: =DATE($A$1,8,10) -> 44053 | L3: =DATE($A$1,8,11) -> 44054 | M3: =DATE($A$1,8,12) -> 44055 | N3: =DATE($A$1,8,13) -> 44056 | O3: =DATE($A$1,8,14) -> 44057 | P3: =DATE($A$1,8,15) -> 44058 | Q3: =DATE($A$1,8,16) -> 44059 | R3: =DATE($A$1,8,17) -> 44060 | S3: =DATE($A$1,8,18) -> 44061 | T3: =DATE($A$1,8,19) -> 44062 | U3: =DATE($A$1,8,20) -> 44063 | V3: =DATE($A$1,8,21) -> 44064 | W3: =DATE($A$1,8,22) -> 44065 | X3: =DATE($A$1,8,23) -> 44066 | Y3: =DATE($A$1,8,24) -> 44067 | Z3: =DATE($A$1,8,25) -> 44068 | AA3: =DATE($A$1,8,26) -> 44069 | AB3: =DATE($A$1,8,27) -> 44070 | AC3: =DATE($A$1,8,28) -> 44071 | AD3: =DATE($A$1,8,29) -> 44072 | AE3: =DATE($A$1,8,30) -> 44073 | AF3: =DATE($A$1,8,31) -> 44074
A4: Reunion P Projet
A6: Reunion EJE
A8: Projets NVC
A10: Art et Tout petit
A12: Reunion Institutionnelle

Sheet SEPTEMBRE
A1: =JANVIER!$A$1 -> 2020
A2: vacances scolaire | B2: =CHOOSE(WEEKDAY(B$3,2),"L","M","M","J","V","S","D") -> M | C2: =CHOOSE(WEEKDAY(C$3,2),"L","M","M","J","V","S","D") -> M | D2: =CHOOSE(WEEKDAY(D$3,2),"L","M","M","J","V","S","D") -> J | E2: =CHOOSE(WEEKDAY(E$3,2),"L","M","M","J","V","S","D") -> V | F2: =CHOOSE(WEEKDAY(F$3,2),"L","M","M","J","V","S","D") -> S | G2: =CHOOSE(WEEKDAY(G$3,2),"L","M","M","J","V","S","D") -> D | H2: =CHOOSE(WEEKDAY(H$3,2),"L","M","M","J","V","S","D") -> L | I2: =CHOOSE(WEEKDAY(I$3,2),"L","M","M","J","V","S","D") -> M | ... AE2: =CHOOSE(WEEKDAY(AE$3,2),"L","M","M","J","V","S","D") -> M
B3: =DATE($A$1,9,1) -> 44075 | C3: =DATE($A$1,9,2) -> 44076 | D3: =DATE($A$1,9,3) -> 44077 | E3: =DATE($A$1,9,4) -> 44078 | F3: =DATE($A$1,9,5) -> 44079 | G3: =DATE($A$1,9,6) -> 44080 | H3: =DATE($A$1,9,7) -> 44081 | I3: =DATE($A$1,9,8) -> 44082 | J3: =DATE($A$1,9,9) -> 44083 | K3: =DATE($A$1,9,10) -> 44084 | L3: =DATE($A$1,9,11) -> 44085 | M3: =DATE($A$1,9,12) -> 44086 | N3: =DATE($A$1,9,13) -> 44087 | O3: =DATE($A$1,9,14) -> 44088 | P3: =DATE($A$1,9,15) -> 44089 | Q3: =DATE($A$1,9,16) -> 44090 | R3: =DATE($A$1,9,17) -> 44091 | S3: =DATE($A$1,9,18) -> 44092 | T3: =DATE($A$1,9,19) -> 44093 | U3: =DATE($A$1,9,20) -> 44094 | V3: =DATE($A$1,9,21) -> 44095 | W3: =DATE($A$1,9,22) -> 44096 | X3: =DATE($A$1,9,23) -> 44097 | Y3: =DATE($A$1,9,24) -> 44098 | Z3: =DATE($A$1,9,25) -> 44099 | AA3: =DATE($A$1,9,26) -> 44100 | AB3: =DATE($A$1,9,27) -> 44101 | AC3: =DATE($A$1,9,28) -> 44102 | AD3: =DATE($A$1,9,29) -> 44103 | AE3: =DATE($A$1,9,30) -> 44104
A4: Reunion P Projet
A6: Reunion EJE
A8: Projets NVC
A10: Art et Tout petit
A12: Reunion Institutionnelle

Sheet OCTOBRE
A1: =JANVIER!$A$1 -> 2020
A2: vacances scolaire | B2: =CHOOSE(WEEKDAY(B$3,2),"L","M","M","J","V","S","D") -> J | C2: =CHOOSE(WEEKDAY(C$3,2),"L","M","M","J","V","S","D") -> V | D2: =CHOOSE(WEEKDAY(D$3,2),"L","M","M","J","V","S","D") -> S | E2: =CHOOSE(WEEKDAY(E$3,2),"L","M","M","J","V","S","D") -> D | F2: =CHOOSE(WEEKDAY(F$3,2),"L","M","M","J","V","S","D") -> L | G2: =CHOOSE(WEEKDAY(G$3,2),"L","M","M","J","V","S","D") -> M | H2: =CHOOSE(WEEKDAY(H$3,2),"L","M","M","J","V","S","D") -> M | I2: =CHOOSE(WEEKDAY(I$3,2),"L","M","M","J","V","S","D") -> J | ... AF2: =CHOOSE(WEEKDAY(AF$3,2),"L","M","M","J","V","S","D") -> S
B3: =DATE($A$1,10,1) -> 44105 | C3: =DATE($A$1,10,2) -> 44106 | D3: =DATE($A$1,10,3) -> 44107 | E3: =DATE($A$1,10,4) -> 44108 | F3: =DATE($A$1,10,5) -> 44109 | G3: =DATE($A$1,10,6) -> 44110 | H3: =DATE($A$1,10,7) -> 44111 | I3: =DATE($A$1,10,8) -> 44112 | J3: =DATE($A$1,10,9) -> 44113 | K3: =DATE($A$1,10,10) -> 44114 | L3: =DATE($A$1,10,11) -> 44115 | M3: =DATE($A$1,10,12) -> 44116 | N3: =DATE($A$1,10,13) -> 44117 | O3: =DATE($A$1,10,14) -> 44118 | P3: =DATE($A$1,10,15) -> 44119 | Q3: =DATE($A$1,10,16) -> 44120 | R3: =DATE($A$1,10,17) -> 44121 | S3: =DATE($A$1,10,18) -> 44122 | T3: =DATE($A$1,10,19) -> 44123 | U3: =DATE($A$1,10,20) -> 44124 | V3: =DATE($A$1,10,21) -> 44125 | W3: =DATE($A$1,10,22) -> 44126 | X3: =DATE($A$1,10,23) -> 44127 | Y3: =DATE($A$1,10,24) -> 44128 | Z3: =DATE($A$1,10,25) -> 44129 | AA3: =DATE($A$1,10,26) -> 44130 | AB3: =DATE($A$1,10,27) -> 44131 | AC3: =DATE($A$1,10,28) -> 44132 | AD3: =DATE($A$1,10,29) -> 44133 | AE3: =DATE($A$1,10,30) -> 44134 | AF3: =DATE($A$1,10,31) -> 44135
A4: Reunion P Projet
A6: Reunion EJE
A8: Projets NVC
A10: Art et Tout petit
A12: Reunion Institutionnelle

Sheet NOVEMBRE
A1: =JANVIER!$A$1 -> 2020
A2: vacances scolaire | B2: =CHOOSE(WEEKDAY(B$3,2),"L","M","M","J","V","S","D") -> D | C2: =CHOOSE(WEEKDAY(C$3,2),"L","M","M","J","V","S","D") -> L | D2: =CHOOSE(WEEKDAY(D$3,2),"L","M","M","J","V","S","D") -> M | E2: =CHOOSE(WEEKDAY(E$3,2),"L","M","M","J","V","S","D") -> M | F2: =CHOOSE(WEEKDAY(F$3,2),"L","M","M","J","V","S","D") -> J | G2: =CHOOSE(WEEKDAY(G$3,2),"L","M","M","J","V","S","D") -> V | H2: =CHOOSE(WEEKDAY(H$3,2),"L","M","M","J","V","S","D") -> S | I2: =CHOOSE(WEEKDAY(I$3,2),"L","M","M","J","V","S","D") -> D | ... AE2: =CHOOSE(WEEKDAY(AE$3,2),"L","M","M","J","V","S","D") -> L
B3: =DATE($A$1,11,1) -> 44136 | C3: =DATE($A$1,11,2) -> 44137 | D3: =DATE($A$1,11,3) -> 44138 | E3: =DATE($A$1,11,4) -> 44139 | F3: =DATE($A$1,11,5) -> 44140 | G3: =DATE($A$1,11,6) -> 44141 | H3: =DATE($A$1,11,7) -> 44142 | I3: =DATE($A$1,11,8) -> 44143 | J3: =DATE($A$1,11,9) -> 44144 | K3: =DATE($A$1,11,10) -> 44145 | L3: =DATE($A$1,11,11) -> 44146 | M3: =DATE($A$1,11,12) -> 44147 | N3: =DATE($A$1,11,13) -> 44148 | O3: =DATE($A$1,11,14) -> 44149 | P3: =DATE($A$1,11,15) -> 44150 | Q3: =DATE($A$1,11,16) -> 44151 | R3: =DATE($A$1,11,17) -> 44152 | S3: =DATE($A$1,11,18) -> 44153 | T3: =DATE($A$1,11,19) -> 44154 | U3: =DATE($A$1,11,20) -> 44155 | V3: =DATE($A$1,11,21) -> 44156 | W3: =DATE($A$1,11,22) -> 44157 | X3: =DATE($A$1,11,23) -> 44158 | Y3: =DATE($A$1,11,24) -> 44159 | Z3: =DATE($A$1,11,25) -> 44160 | AA3: =DATE($A$1,11,26) -> 44161 | AB3: =DATE($A$1,11,27) -> 44162 | AC3: =DATE($A$1,11,28) -> 44163 | AD3: =DATE($A$1,11,29) -> 44164 | AE3: =DATE($A$1,11,30) -> 44165
A4: Reunion P Projet
A6: Reunion EJE
A8: Projets NVC
A10: Art et Tout petit
A12: Reunion Institutionnelle

Sheet DECEMBRE
A1: =JANVIER!$A$1 -> 2020
A2: vacances scolaire | B2: =CHOOSE(WEEKDAY(B$3,2),"L","M","M","J","V","S","D") -> M | C2: =CHOOSE(WEEKDAY(C$3,2),"L","M","M","J","V","S","D") -> M | D2: =CHOOSE(WEEKDAY(D$3,2),"L","M","M","J","V","S","D") -> J | E2: =CHOOSE(WEEKDAY(E$3,2),"L","M","M","J","V","S","D") -> V | F2: =CHOOSE(WEEKDAY(F$3,2),"L","M","M","J","V","S","D") -> S | G2: =CHOOSE(WEEKDAY(G$3,2),"L","M","M","J","V","S","D") -> D | H2: =CHOOSE(WEEKDAY(H$3,2),"L","M","M","J","V","S","D") -> L | I2: =CHOOSE(WEEKDAY(I$3,2),"L","M","M","J","V","S","D") -> M | ... AF2: =CHOOSE(WEEKDAY(AF$3,2),"L","M","M","J","V","S","D") -> J
B3: =DATE($A$1,12,1) -> 44166 | C3: =DATE($A$1,12,2) -> 44167 | D3: =DATE($A$1,12,3) -> 44168 | E3: =DATE($A$1,12,4) -> 44169 | F3: =DATE($A$1,12,5) -> 44170 | G3: =DATE($A$1,12,6) -> 44171 | H3: =DATE($A$1,12,7) -> 44172 | I3: =DATE($A$1,12,8) -> 44173 | J3: =DATE($A$1,12,9) -> 44174 | K3: =DATE($A$1,12,10) -> 44175 | L3: =DATE($A$1,12,11) -> 44176 | M3: =DATE($A$1,12,12) -> 44177 | N3: =DATE($A$1,12,13) -> 44178 | O3: =DATE($A$1,12,14) -> 44179 | P3: =DATE($A$1,12,15) -> 44180 | Q3: =DATE($A$1,12,16) -> 44181 | R3: =DATE($A$1,12,17) -> 44182 | S3: =DATE($A$1,12,18) -> 44183 | T3: =DATE($A$1,12,19) -> 44184 | U3: =DATE($A$1,12,20) -> 44185 | V3: =DATE($A$1,12,21) -> 44186 | W3: =DATE($A$1,12,22) -> 44187 | X3: =DATE($A$1,12,23) -> 44188 | Y3: =DATE($A$1,12,24) -> 44189 | Z3: =DATE($A$1,12,25) -> 44190 | AA3: =DATE($A$1,12,26) -> 44191 | AB3: =DATE($A$1,12,27) -> 44192 | AC3: =DATE($A$1,12,28) -> 44193 | AD3: =DATE($A$1,12,29) -> 44194 | AE3: =DATE($A$1,12,30) -> 44195 | AF3: =DATE($A$1,12,31) -> 44196
A4: Reunion P Projet
A6: Reunion EJE
A8: Projets NVC
A10: Art et Tout petit
A12: Reunion Institutionnelle

Sheet RECAP
B1: 1 | C1: 1 | D1: 1 | E1: 1 | F1: 1 | G1: 1 | H1: 1 | Q1: 2 | R1: 2 | S1: 2 | T1: 2 | U1: 2 | V1: 2 | W1: 2 | AF1: 3 | AG1: 3 | AH1: 3 | AI1: 3 | AJ1: 3 | AK1: 3 | AL1: 3 | AU1: 4 | AV1: 4 | AW1: 4 | AX1: 4 | AY1: 4 | AZ1: 4 | BA1: 4
B2: =WEEKDAY(DATE(JANVIER!$A$1,B1,1),2) -> 3 | C2: =WEEKDAY(DATE(JANVIER!$A$1,C1,1),2) -> 3 | D2: =WEEKDAY(DATE(JANVIER!$A$1,D1,1),2) -> 3 | E2: =WEEKDAY(DATE(JANVIER!$A$1,E1,1),2) -> 3 | F2: =WEEKDAY(DATE(JANVIER!$A$1,F1,1),2) -> 3 | G2: =WEEKDAY(DATE(JANVIER!$A$1,G1,1),2) -> 3 | H2: =WEEKDAY(DATE(JANVIER!$A$1,H1,1),2) -> 3 | Q2: =WEEKDAY(DATE(JANVIER!$A$1,Q1,1),2) -> 6 | R2: =WEEKDAY(DATE(JANVIER!$A$1,R1,1),2) -> 6 | S2: =WEEKDAY(DATE(JANVIER!$A$1,S1,1),2) -> 6 | T2: =WEEKDAY(DATE(JANVIER!$A$1,T1,1),2) -> 6 | U2: =WEEKDAY(DATE(JANVIER!$A$1,U1,1),2) -> 6 | V2: =WEEKDAY(DATE(JANVIER!$A$1,V1,1),2) -> 6 | W2: =WEEKDAY(DATE(JANVIER!$A$1,W1,1),2) -> 6 | AF2: =WEEKDAY(DATE(JANVIER!$A$1,AF1,1),2) -> 7 | AG2: =WEEKDAY(DATE(JANVIER!$A$1,AG1,1),2) -> 7 | AH2: =WEEKDAY(DATE(JANVIER!$A$1,AH1,1),2) -> 7 | AI2: =WEEKDAY(DATE(JANVIER!$A$1,AI1,1),2) -> 7 | AJ2: =WEEKDAY(DATE(JANVIER!$A$1,AJ1,1),2) -> 7 | AK2: =WEEKDAY(DATE(JANVIER!$A$1,AK1,1),2) -> 7 | AL2: =WEEKDAY(DATE(JANVIER!$A$1,AL1,1),2) -> 7 | AU2: =WEEKDAY(DATE(JANVIER!$A$1,AU1,1),2) -> 3 | AV2: =WEEKDAY(DATE(JANVIER!$A$1,AV1,1),2) -> 3 | AW2: =WEEKDAY(DATE(JANVIER!$A$1,AW1,1),2) -> 3 | AX2: =WEEKDAY(DATE(JANVIER!$A$1,AX1,1),2) -> 3 | AY2: =WEEKDAY(DATE(JANVIER!$A$1,AY1,1),2) -> 3 | AZ2: =WEEKDAY(DATE(JANVIER!$A$1,AZ1,1),2) -> 3 | BA2: =WEEKDAY(DATE(JANVIER!$A$1,BA1,1),2) -> 3
B3: 1 | C3: 2 | D3: 3 | E3: 4 | F3: 5 | G3: 6 | H3: 7 | Q3: 1 | R3: 2 | S3: 3 | T3: 4 | U3: 5 | V3: 6 | W3: 7 | AF3: 1 | AG3: 2 | AH3: 3 | AI3: 4 | AJ3: 5 | AK3: 6 | AL3: 7 | AU3: 1 | AV3: 2 | AW3: 3 | AX3: 4 | AY3: 5 | AZ3: 6 | BA3: 7
B6: L | C6: M | D6: M | E6: J | F6: V | G6: S | H6: D | Q6: L | R6: M | S6: M | T6: J | U6: V | V6: S | W6: D | AF6: L | AG6: M | AH6: M | AI6: J | AJ6: V | AK6: S | AL6: D | AU6: L | AV6: M | AW6: M | AX6: J | AY6: V | AZ6: S | BA6: D
B7: =IFERROR(IF(AND(A7="",B3=B2,ISNUMBER(H6)=FALSE,ISNUMBER(B6)=FALSE,B6<>""),DATE(JANVIER!$A$1,B1,1),IF(AND(A7<>"",MONTH(A7+1)=MONTH(A7)),A7+1,IF(AND(H6<>"",MONTH(H6+1)=MONTH(H6)),H6+1,""))),"") | C7: =IFERROR(IF(AND(B7="",C3=C2,ISNUMBER(I6)=FALSE,ISNUMBER(C6)=FALSE,C6<>""),DATE(JANVIER!$A$1,C1,1),IF(AND(B7<>"",MONTH(B7+1)=MONTH(B7)),B7+1,IF(AND(I6<>"",MONTH(I6+1)=MONTH(I6)),I6+1,""))),"") | D7: =IFERROR(IF(AND(C7="",D3=D2,ISNUMBER(J6)=FALSE,ISNUMBER(D6)=FALSE,D6<>""),DATE(JANVIER!$A$1,D1,1),IF(AND(C7<>"",MONTH(C7+1)=MONTH(C7)),C7+1,IF(AND(J6<>"",MONTH(J6+1)=MONTH(J6)),J6+1,""))),"") -> 43831 | E7: =IFERROR(IF(AND(D7="",E3=E2,ISNUMBER(K6)=FALSE,ISNUMBER(E6)=FALSE,E6<>""),DATE(JANVIER!$A$1,E1,1),IF(AND(D7<>"",MONTH(D7+1)=MONTH(D7)),D7+1,IF(AND(K6<>"",MONTH(K6+1)=MONTH(K6)),K6+1,""))),"") -> 43832 | F7: =IFERROR(IF(AND(E7="",F3=F2,ISNUMBER(L6)=FALSE,ISNUMBER(F6)=FALSE,F6<>""),DATE(JANVIER!$A$1,F1,1),IF(AND(E7<>"",MONTH(E7+1)=MONTH(E7)),E7+1,IF(AND(L6<>"",MONTH(L6+1)=MONTH(L6)),L6+1,""))),"") -> 43833 | G7: =IFERROR(IF(AND(F7="",G3=G2,ISNUMBER(M6)=FALSE,ISNUMBER(G6)=FALSE,G6<>""),DATE(JANVIER!$A$1,G1,1),IF(AND(F7<>"",MONTH(F7+1)=MONTH(F7)),F7+1,IF(AND(M6<>"",MONTH(M6+1)=MONTH(M6)),M6+1,""))),"") -> 43834 | H7: =IFERROR(IF(AND(G7="",H3=H2,ISNUMBER(N6)=FALSE,ISNUMBER(H6)=FALSE,H6<>""),DATE(JANVIER!$A$1,H1,1),IF(AND(G7<>"",MONTH(G7+1)=MONTH(G7)),G7+1,IF(AND(N6<>"",MONTH(N6+1)=MONTH(N6)),N6+1,""))),"") -> 43835 | Q7: =IFERROR(IF(AND(P7="",Q3=Q2,ISNUMBER(W6)=FALSE,ISNUMBER(Q6)=FALSE,Q6<>""),DATE(JANVIER!$A$1,Q1,1),IF(AND(P7<>"",MONTH(P7+1)=MONTH(P7)),P7+1,IF(AND(W6<>"",MONTH(W6+1)=MONTH(W6)),W6+1,""))),"") | R7: =IFERROR(IF(AND(Q7="",R3=R2,ISNUMBER(X6)=FALSE,ISNUMBER(R6)=FALSE,R6<>""),DATE(JANVIER!$A$1,R1,1),IF(AND(Q7<>"",MONTH(Q7+1)=MONTH(Q7)),Q7+1,IF(AND(X6<>"",MONTH(X6+1)=MONTH(X6)),X6+1,""))),"") | S7: =IFERROR(IF(AND(R7="",S3=S2,ISNUMBER(Y6)=FALSE,ISNUMBER(S6)=FALSE,S6<>""),DATE(JANVIER!$A$1,S1,1),IF(AND(R7<>"",MONTH(R7+1)=MONTH(R7)),R7+1,IF(AND(Y6<>"",MONTH(Y6+1)=MONTH(Y6)),Y6+1,""))),"") | T7: =IFERROR(IF(AND(S7="",T3=T2,ISNUMBER(Z6)=FALSE,ISNUMBER(T6)=FALSE,T6<>""),DATE(JANVIER!$A$1,T1,1),IF(AND(S7<>"",MONTH(S7+1)=MONTH(S7)),S7+1,IF(AND(Z6<>"",MONTH(Z6+1)=MONTH(Z6)),Z6+1,""))),"") | U7: =IFERROR(IF(AND(T7="",U3=U2,ISNUMBER(AA6)=FALSE,ISNUMBER(U6)=FALSE,U6<>""),DATE(JANVIER!$A$1,U1,1),IF(AND(T7<>"",MONTH(T7+1)=MONTH(T7)),T7+1,IF(AND(AA6<>"",MONTH(AA6+1)=MONTH(AA6)),AA6+1,""))),"") | V7: =IFERROR(IF(AND(U7="",V3=V2,ISNUMBER(AB6)=FALSE,ISNUMBER(V6)=FALSE,V6<>""),DATE(JANVIER!$A$1,V1,1),IF(AND(U7<>"",MONTH(U7+1)=MONTH(U7)),U7+1,IF(AND(AB6<>"",MONTH(AB6+1)=MONTH(AB6)),AB6+1,""))),"") -> 43862 | W7: =IFERROR(IF(AND(V7="",W3=W2,ISNUMBER(AC6)=FALSE,ISNUMBER(W6)=FALSE,W6<>""),DATE(JANVIER!$A$1,W1,1),IF(AND(V7<>"",MONTH(V7+1)=MONTH(V7)),V7+1,IF(AND(AC6<>"",MONTH(AC6+1)=MONTH(AC6)),AC6+1,""))),"") -> 43863 | AF7: =IFERROR(IF(AND(AE7="",AF3=AF2,ISNUMBER(AL6)=FALSE,ISNUMBER(AF6)=FALSE,AF6<>""),DATE(JANVIER!$A$1,AF1,1),IF(AND(AE7<>"",MONTH(AE7+1)=MONTH(AE7)),AE7+1,IF(AND(AL6<>"",MONTH(AL6+1)=MONTH(AL6)),AL6+1,""))),"") | AG7: =IFERROR(IF(AND(AF7="",AG3=AG2,ISNUMBER(AM6)=FALSE,ISNUMBER(AG6)=FALSE,AG6<>""),DATE(JANVIER!$A$1,AG1,1),IF(AND(AF7<>"",MONTH(AF7+1)=MONTH(AF7)),AF7+1,IF(AND(AM6<>"",MONTH(AM6+1)=MONTH(AM6)),AM6+1,""))),"") | AH7: =IFERROR(IF(AND(AG7="",AH3=AH2,ISNUMBER(AN6)=FALSE,ISNUMBER(AH6)=FALSE,AH6<>""),DATE(JANVIER!$A$1,AH1,1),IF(AND(AG7<>"",MONTH(AG7+1)=MONTH(AG7)),AG7+1,IF(AND(AN6<>"",MONTH(AN6+1)=MONTH(AN6)),AN6+1,""))),"") | AI7: =IFERROR(IF(AND(AH7="",AI3=AI2,ISNUMBER(AO6)=FALSE,ISNUMBER(AI6)=FALSE,AI6<>""),DATE(JANVIER!$A$1,AI1,1),IF(AND(AH7<>"",MONTH(AH7+1)=MONTH(AH7)),AH7+1,IF(AND(AO6<>"",MONTH(AO6+1)=MONTH(AO6)),AO6+1,""))),"") | AJ7: =IFERROR(IF(AND(AI7="",AJ3=AJ2,ISNUMBER(AP6)=FALSE,ISNUMBER(AJ6)=FALSE,AJ6<>""),DATE(JANVIER!$A$1,AJ1,1),IF(AND(AI7<>"",MONTH(AI7+1)=MONTH(AI7)),AI7+1,IF(AND(AP6<>"",MONTH(AP6+1)=MONTH(AP6)),AP6+1,""))),"") | AK7: =IFERROR(IF(AND(AJ7="",AK3=AK2,ISNUMBER(AQ6)=FALSE,ISNUMBER(AK6)=FALSE,AK6<>""),DATE(JANVIER!$A$1,AK1,1),IF(AND(AJ7<>"",MONTH(AJ7+1)=MONTH(AJ7)),AJ7+1,IF(AND(AQ6<>"",MONTH(AQ6+1)=MONTH(AQ6)),AQ6+1,""))),"") | AL7: =IFERROR(IF(AND(AK7="",AL3=AL2,ISNUMBER(AR6)=FALSE,ISNUMBER(AL6)=FALSE,AL6<>""),DATE(JANVIER!$A$1,AL1,1),IF(AND(AK7<>"",MONTH(AK7+1)=MONTH(AK7)),AK7+1,IF(AND(AR6<>"",MONTH(AR6+1)=MONTH(AR6)),AR6+1,""))),"") -> 43891 | AU7: =IFERROR(IF(AND(AT7="",AU3=AU2,ISNUMBER(BA6)=FALSE,ISNUMBER(AU6)=FALSE,AU6<>""),DATE(JANVIER!$A$1,AU1,1),IF(AND(AT7<>"",MONTH(AT7+1)=MONTH(AT7)),AT7+1,IF(AND(BA6<>"",MONTH(BA6+1)=MONTH(BA6)),BA6+1,""))),"") | AV7: =IFERROR(IF(AND(AU7="",AV3=AV2,ISNUMBER(BB6)=FALSE,ISNUMBER(AV6)=FALSE,AV6<>""),DATE(JANVIER!$A$1,AV1,1),IF(AND(AU7<>"",MONTH(AU7+1)=MONTH(AU7)),AU7+1,IF(AND(BB6<>"",MONTH(BB6+1)=MONTH(BB6)),BB6+1,""))),"") | AW7: =IFERROR(IF(AND(AV7="",AW3=AW2,ISNUMBER(BC6)=FALSE,ISNUMBER(AW6)=FALSE,AW6<>""),DATE(JANVIER!$A$1,AW1,1),IF(AND(AV7<>"",MONTH(AV7+1)=MONTH(AV7)),AV7+1,IF(AND(BC6<>"",MONTH(BC6+1)=MONTH(BC6)),BC6+1,""))),"") -> 43922 | AX7: =IFERROR(IF(AND(AW7="",AX3=AX2,ISNUMBER(BD6)=FALSE,ISNUMBER(AX6)=FALSE,AX6<>""),DATE(JANVIER!$A$1,AX1,1),IF(AND(AW7<>"",MONTH(AW7+1)=MONTH(AW7)),AW7+1,IF(AND(BD6<>"",MONTH(BD6+1)=MONTH(BD6)),BD6+1,""))),"") -> 43923 | AY7: =IFERROR(IF(AND(AX7="",AY3=AY2,ISNUMBER(BE6)=FALSE,ISNUMBER(AY6)=FALSE,AY6<>""),DATE(JANVIER!$A$1,AY1,1),IF(AND(AX7<>"",MONTH(AX7+1)=MONTH(AX7)),AX7+1,IF(AND(BE6<>"",MONTH(BE6+1)=MONTH(BE6)),BE6+1,""))),"") -> 43924 | AZ7: =IFERROR(IF(AND(AY7="",AZ3=AZ2,ISNUMBER(BF6)=FALSE,ISNUMBER(AZ6)=FALSE,AZ6<>""),DATE(JANVIER!$A$1,AZ1,1),IF(AND(AY7<>"",MONTH(AY7+1)=MONTH(AY7)),AY7+1,IF(AND(BF6<>"",MONTH(BF6+1)=MONTH(BF6)),BF6+1,""))),"") -> 43925 | BA7: =IFERROR(IF(AND(AZ7="",BA3=BA2,ISNUMBER(BG6)=FALSE,ISNUMBER(BA6)=FALSE,BA6<>""),DATE(JANVIER!$A$1,BA1,1),IF(AND(AZ7<>"",MONTH(AZ7+1)=MONTH(AZ7)),AZ7+1,IF(AND(BG6<>"",MONTH(BG6+1)=MONTH(BG6)),BG6+1,""))),"") -> 43926
B8: =IFERROR(IF(AND(A8="",B4=B3,ISNUMBER(H7)=FALSE,ISNUMBER(B7)=FALSE,B7<>""),DATE(JANVIER!$A$1,B2,1),IF(AND(A8<>"",MONTH(A8+1)=MONTH(A8)),A8+1,IF(AND(H7<>"",MONTH(H7+1)=MONTH(H7)),H7+1,""))),"") -> 43836 | C8: =IFERROR(IF(AND(B8="",C4=C3,ISNUMBER(I7)=FALSE,ISNUMBER(C7)=FALSE,C7<>""),DATE(JANVIER!$A$1,C2,1),IF(AND(B8<>"",MONTH(B8+1)=MONTH(B8)),B8+1,IF(AND(I7<>"",MONTH(I7+1)=MONTH(I7)),I7+1,""))),"") -> 43837 | D8: =IFERROR(IF(AND(C8="",D4=D3,ISNUMBER(J7)=FALSE,ISNUMBER(D7)=FALSE,D7<>""),DATE(JANVIER!$A$1,D2,1),IF(AND(C8<>"",MONTH(C8+1)=MONTH(C8)),C8+1,IF(AND(J7<>"",MONTH(J7+1)=MONTH(J7)),J7+1,""))),"") -> 43838 | E8: =IFERROR(IF(AND(D8="",E4=E3,ISNUMBER(K7)=FALSE,ISNUMBER(E7)=FALSE,E7<>""),DATE(JANVIER!$A$1,E2,1),IF(AND(D8<>"",MONTH(D8+1)=MONTH(D8)),D8+1,IF(AND(K7<>"",MONTH(K7+1)=MONTH(K7)),K7+1,""))),"") -> 43839 | F8: =IFERROR(IF(AND(E8="",F4=F3,ISNUMBER(L7)=FALSE,ISNUMBER(F7)=FALSE,F7<>""),DATE(JANVIER!$A$1,F2,1),IF(AND(E8<>"",MONTH(E8+1)=MONTH(E8)),E8+1,IF(AND(L7<>"",MONTH(L7+1)=MONTH(L7)),L7+1,""))),"") -> 43840 | G8: =IFERROR(IF(AND(F8="",G4=G3,ISNUMBER(M7)=FALSE,ISNUMBER(G7)=FALSE,G7<>""),DATE(JANVIER!$A$1,G2,1),IF(AND(F8<>"",MONTH(F8+1)=MONTH(F8)),F8+1,IF(AND(M7<>"",MONTH(M7+1)=MONTH(M7)),M7+1,""))),"") -> 43841 | H8: =IFERROR(IF(AND(G8="",H4=H3,ISNUMBER(N7)=FALSE,ISNUMBER(H7)=FALSE,H7<>""),DATE(JANVIER!$A$1,H2,1),IF(AND(G8<>"",MONTH(G8+1)=MONTH(G8)),G8+1,IF(AND(N7<>"",MONTH(N7+1)=MONTH(N7)),N7+1,""))),"") -> 43842 | Q8: =IFERROR(IF(AND(P8="",Q4=Q3,ISNUMBER(W7)=FALSE,ISNUMBER(Q7)=FALSE,Q7<>""),DATE(JANVIER!$A$1,Q2,1),IF(AND(P8<>"",MONTH(P8+1)=MONTH(P8)),P8+1,IF(AND(W7<>"",MONTH(W7+1)=MONTH(W7)),W7+1,""))),"") -> 43864 | R8: =IFERROR(IF(AND(Q8="",R4=R3,ISNUMBER(X7)=FALSE,ISNUMBER(R7)=FALSE,R7<>""),DATE(JANVIER!$A$1,R2,1),IF(AND(Q8<>"",MONTH(Q8+1)=MONTH(Q8)),Q8+1,IF(AND(X7<>"",MONTH(X7+1)=MONTH(X7)),X7+1,""))),"") -> 43865 | S8: =IFERROR(IF(AND(R8="",S4=S3,ISNUMBER(Y7)=FALSE,ISNUMBER(S7)=FALSE,S7<>""),DATE(JANVIER!$A$1,S2,1),IF(AND(R8<>"",MONTH(R8+1)=MONTH(R8)),R8+1,IF(AND(Y7<>"",MONTH(Y7+1)=MONTH(Y7)),Y7+1,""))),"") -> 43866 | T8: =IFERROR(IF(AND(S8="",T4=T3,ISNUMBER(Z7)=FALSE,ISNUMBER(T7)=FALSE,T7<>""),DATE(JANVIER!$A$1,T2,1),IF(AND(S8<>"",MONTH(S8+1)=MONTH(S8)),S8+1,IF(AND(Z7<>"",MONTH(Z7+1)=MONTH(Z7)),Z7+1,""))),"") -> 43867 | U8: =IFERROR(IF(AND(T8="",U4=U3,ISNUMBER(AA7)=FALSE,ISNUMBER(U7)=FALSE,U7<>""),DATE(JANVIER!$A$1,U2,1),IF(AND(T8<>"",MONTH(T8+1)=MONTH(T8)),T8+1,IF(AND(AA7<>"",MONTH(AA7+1)=MONTH(AA7)),AA7+1,""))),"") -> 43868 | V8: =IFERROR(IF(AND(U8="",V4=V3,ISNUMBER(AB7)=FALSE,ISNUMBER(V7)=FALSE,V7<>""),DATE(JANVIER!$A$1,V2,1),IF(AND(U8<>"",MONTH(U8+1)=MONTH(U8)),U8+1,IF(AND(AB7<>"",MONTH(AB7+1)=MONTH(AB7)),AB7+1,""))),"") -> 43869 | W8: =IFERROR(IF(AND(V8="",W4=W3,ISNUMBER(AC7)=FALSE,ISNUMBER(W7)=FALSE,W7<>""),DATE(JANVIER!$A$1,W2,1),IF(AND(V8<>"",MONTH(V8+1)=MONTH(V8)),V8+1,IF(AND(AC7<>"",MONTH(AC7+1)=MONTH(AC7)),AC7+1,""))),"") -> 43870 | AF8: =IFERROR(IF(AND(AE8="",AF4=AF3,ISNUMBER(AL7)=FALSE,ISNUMBER(AF7)=FALSE,AF7<>""),DATE(JANVIER!$A$1,AF2,1),IF(AND(AE8<>"",MONTH(AE8+1)=MONTH(AE8)),AE8+1,IF(AND(AL7<>"",MONTH(AL7+1)=MONTH(AL7)),AL7+1,""))),"") -> 43892 | AG8: =IFERROR(IF(AND(AF8="",AG4=AG3,ISNUMBER(AM7)=FALSE,ISNUMBER(AG7)=FALSE,AG7<>""),DATE(JANVIER!$A$1,AG2,1),IF(AND(AF8<>"",MONTH(AF8+1)=MONTH(AF8)),AF8+1,IF(AND(AM7<>"",MONTH(AM7+1)=MONTH(AM7)),AM7+1,""))),"") -> 43893 | AH8: =IFERROR(IF(AND(AG8="",AH4=AH3,ISNUMBER(AN7)=FALSE,ISNUMBER(AH7)=FALSE,AH7<>""),DATE(JANVIER!$A$1,AH2,1),IF(AND(AG8<>"",MONTH(AG8+1)=MONTH(AG8)),AG8+1,IF(AND(AN7<>"",MONTH(AN7+1)=MONTH(AN7)),AN7+1,""))),"") -> 43894 | AI8: =IFERROR(IF(AND(AH8="",AI4=AI3,ISNUMBER(AO7)=FALSE,ISNUMBER(AI7)=FALSE,AI7<>""),DATE(JANVIER!$A$1,AI2,1),IF(AND(AH8<>"",MONTH(AH8+1)=MONTH(AH8)),AH8+1,IF(AND(AO7<>"",MONTH(AO7+1)=MONTH(AO7)),AO7+1,""))),"") -> 43895 | AJ8: =IFERROR(IF(AND(AI8="",AJ4=AJ3,ISNUMBER(AP7)=FALSE,ISNUMBER(AJ7)=FALSE,AJ7<>""),DATE(JANVIER!$A$1,AJ2,1),IF(AND(AI8<>"",MONTH(AI8+1)=MONTH(AI8)),AI8+1,IF(AND(AP7<>"",MONTH(AP7+1)=MONTH(AP7)),AP7+1,""))),"") -> 43896 | AK8: =IFERROR(IF(AND(AJ8="",AK4=AK3,ISNUMBER(AQ7)=FALSE,ISNUMBER(AK7)=FALSE,AK7<>""),DATE(JANVIER!$A$1,AK2,1),IF(AND(AJ8<>"",MONTH(AJ8+1)=MONTH(AJ8)),AJ8+1,IF(AND(AQ7<>"",MONTH(AQ7+1)=MONTH(AQ7)),AQ7+1,""))),"") -> 43897 | AL8: =IFERROR(IF(AND(AK8="",AL4=AL3,ISNUMBER(AR7)=FALSE,ISNUMBER(AL7)=FALSE,AL7<>""),DATE(JANVIER!$A$1,AL2,1),IF(AND(AK8<>"",MONTH(AK8+1)=MONTH(AK8)),AK8+1,IF(AND(AR7<>"",MONTH(AR7+1)=MONTH(AR7)),AR7+1,""))),"") -> 43898 | AU8: =IFERROR(IF(AND(AT8="",AU4=AU3,ISNUMBER(BA7)=FALSE,ISNUMBER(AU7)=FALSE,AU7<>""),DATE(JANVIER!$A$1,AU2,1),IF(AND(AT8<>"",MONTH(AT8+1)=MONTH(AT8)),AT8+1,IF(AND(BA7<>"",MONTH(BA7+1)=MONTH(BA7)),BA7+1,""))),"") -> 43927 | AV8: =IFERROR(IF(AND(AU8="",AV4=AV3,ISNUMBER(BB7)=FALSE,ISNUMBER(AV7)=FALSE,AV7<>""),DATE(JANVIER!$A$1,AV2,1),IF(AND(AU8<>"",MONTH(AU8+1)=MONTH(AU8)),AU8+1,IF(AND(BB7<>"",MONTH(BB7+1)=MONTH(BB7)),BB7+1,""))),"") -> 43928 | AW8: =IFERROR(IF(AND(AV8="",AW4=AW3,ISNUMBER(BC7)=FALSE,ISNUMBER(AW7)=FALSE,AW7<>""),DATE(JANVIER!$A$1,AW2,1),IF(AND(AV8<>"",MONTH(AV8+1)=MONTH(AV8)),AV8+1,IF(AND(BC7<>"",MONTH(BC7+1)=MONTH(BC7)),BC7+1,""))),"") -> 43929 | AX8: =IFERROR(IF(AND(AW8="",AX4=AX3,ISNUMBER(BD7)=FALSE,ISNUMBER(AX7)=FALSE,AX7<>""),DATE(JANVIER!$A$1,AX2,1),IF(AND(AW8<>"",MONTH(AW8+1)=MONTH(AW8)),AW8+1,IF(AND(BD7<>"",MONTH(BD7+1)=MONTH(BD7)),BD7+1,""))),"") -> 43930 | AY8: =IFERROR(IF(AND(AX8="",AY4=AY3,ISNUMBER(BE7)=FALSE,ISNUMBER(AY7)=FALSE,AY7<>""),DATE(JANVIER!$A$1,AY2,1),IF(AND(AX8<>"",MONTH(AX8+1)=MONTH(AX8)),AX8+1,IF(AND(BE7<>"",MONTH(BE7+1)=MONTH(BE7)),BE7+1,""))),"") -> 43931 | AZ8: =IFERROR(IF(AND(AY8="",AZ4=AZ3,ISNUMBER(BF7)=FALSE,ISNUMBER(AZ7)=FALSE,AZ7<>""),DATE(JANVIER!$A$1,AZ2,1),IF(AND(AY8<>"",MONTH(AY8+1)=MONTH(AY8)),AY8+1,IF(AND(BF7<>"",MONTH(BF7+1)=MONTH(BF7)),BF7+1,""))),"") -> 43932 | BA8: =IFERROR(IF(AND(AZ8="",BA4=BA3,ISNUMBER(BG7)=FALSE,ISNUMBER(BA7)=FALSE,BA7<>""),DATE(JANVIER!$A$1,BA2,1),IF(AND(AZ8<>"",MONTH(AZ8+1)=MONTH(AZ8)),AZ8+1,IF(AND(BG7<>"",MONTH(BG7+1)=MONTH(BG7)),BG7+1,""))),"") -> 43933
B9: =IFERROR(IF(AND(A9="",B5=B4,ISNUMBER(H8)=FALSE,ISNUMBER(B8)=FALSE,B8<>""),DATE(JANVIER!$A$1,B3,1),IF(AND(A9<>"",MONTH(A9+1)=MONTH(A9)),A9+1,IF(AND(H8<>"",MONTH(H8+1)=MONTH(H8)),H8+1,""))),"") -> 43843 | C9: =IFERROR(IF(AND(B9="",C5=C4,ISNUMBER(I8)=FALSE,ISNUMBER(C8)=FALSE,C8<>""),DATE(JANVIER!$A$1,C3,1),IF(AND(B9<>"",MONTH(B9+1)=MONTH(B9)),B9+1,IF(AND(I8<>"",MONTH(I8+1)=MONTH(I8)),I8+1,""))),"") -> 43844 | D9: =IFERROR(IF(AND(C9="",D5=D4,ISNUMBER(J8)=FALSE,ISNUMBER(D8)=FALSE,D8<>""),DATE(JANVIER!$A$1,D3,1),IF(AND(C9<>"",MONTH(C9+1)=MONTH(C9)),C9+1,IF(AND(J8<>"",MONTH(J8+1)=MONTH(J8)),J8+1,""))),"") -> 43845 | E9: =IFERROR(IF(AND(D9="",E5=E4,ISNUMBER(K8)=FALSE,ISNUMBER(E8)=FALSE,E8<>""),DATE(JANVIER!$A$1,E3,1),IF(AND(D9<>"",MONTH(D9+1)=MONTH(D9)),D9+1,IF(AND(K8<>"",MONTH(K8+1)=MONTH(K8)),K8+1,""))),"") -> 43846 | F9: =IFERROR(IF(AND(E9="",F5=F4,ISNUMBER(L8)=FALSE,ISNUMBER(F8)=FALSE,F8<>""),DATE(JANVIER!$A$1,F3,1),IF(AND(E9<>"",MONTH(E9+1)=MONTH(E9)),E9+1,IF(AND(L8<>"",MONTH(L8+1)=MONTH(L8)),L8+1,""))),"") -> 43847 | G9: =IFERROR(IF(AND(F9="",G5=G4,ISNUMBER(M8)=FALSE,ISNUMBER(G8)=FALSE,G8<>""),DATE(JANVIER!$A$1,G3,1),IF(AND(F9<>"",MONTH(F9+1)=MONTH(F9)),F9+1,IF(AND(M8<>"",MONTH(M8+1)=MONTH(M8)),M8+1,""))),"") -> 43848 | H9: =IFERROR(IF(AND(G9="",H5=H4,ISNUMBER(N8)=FALSE,ISNUMBER(H8)=FALSE,H8<>""),DATE(JANVIER!$A$1,H3,1),IF(AND(G9<>"",MONTH(G9+1)=MONTH(G9)),G9+1,IF(AND(N8<>"",MONTH(N8+1)=MONTH(N8)),N8+1,""))),"") -> 43849 | Q9: =IFERROR(IF(AND(P9="",Q5=Q4,ISNUMBER(W8)=FALSE,ISNUMBER(Q8)=FALSE,Q8<>""),DATE(JANVIER!$A$1,Q3,1),IF(AND(P9<>"",MONTH(P9+1)=MONTH(P9)),P9+1,IF(AND(W8<>"",MONTH(W8+1)=MONTH(W8)),W8+1,""))),"") -> 43871 | R9: =IFERROR(IF(AND(Q9="",R5=R4,ISNUMBER(X8)=FALSE,ISNUMBER(R8)=FALSE,R8<>""),DATE(JANVIER!$A$1,R3,1),IF(AND(Q9<>"",MONTH(Q9+1)=MONTH(Q9)),Q9+1,IF(AND(X8<>"",MONTH(X8+1)=MONTH(X8)),X8+1,""))),"") -> 43872 | S9: =IFERROR(IF(AND(R9="",S5=S4,ISNUMBER(Y8)=FALSE,ISNUMBER(S8)=FALSE,S8<>""),DATE(JANVIER!$A$1,S3,1),IF(AND(R9<>"",MONTH(R9+1)=MONTH(R9)),R9+1,IF(AND(Y8<>"",MONTH(Y8+1)=MONTH(Y8)),Y8+1,""))),"") -> 43873 | T9: =IFERROR(IF(AND(S9="",T5=T4,ISNUMBER(Z8)=FALSE,ISNUMBER(T8)=FALSE,T8<>""),DATE(JANVIER!$A$1,T3,1),IF(AND(S9<>"",MONTH(S9+1)=MONTH(S9)),S9+1,IF(AND(Z8<>"",MONTH(Z8+1)=MONTH(Z8)),Z8+1,""))),"") -> 43874 | U9: =IFERROR(IF(AND(T9="",U5=U4,ISNUMBER(AA8)=FALSE,ISNUMBER(U8)=FALSE,U8<>""),DATE(JANVIER!$A$1,U3,1),IF(AND(T9<>"",MONTH(T9+1)=MONTH(T9)),T9+1,IF(AND(AA8<>"",MONTH(AA8+1)=MONTH(AA8)),AA8+1,""))),"") -> 43875 | V9: =IFERROR(IF(AND(U9="",V5=V4,ISNUMBER(AB8)=FALSE,ISNUMBER(V8)=FALSE,V8<>""),DATE(JANVIER!$A$1,V3,1),IF(AND(U9<>"",MONTH(U9+1)=MONTH(U9)),U9+1,IF(AND(AB8<>"",MONTH(AB8+1)=MONTH(AB8)),AB8+1,""))),"") -> 43876 | W9: =IFERROR(IF(AND(V9="",W5=W4,ISNUMBER(AC8)=FALSE,ISNUMBER(W8)=FALSE,W8<>""),DATE(JANVIER!$A$1,W3,1),IF(AND(V9<>"",MONTH(V9+1)=MONTH(V9)),V9+1,IF(AND(AC8<>"",MONTH(AC8+1)=MONTH(AC8)),AC8+1,""))),"") -> 43877 | AF9: =IFERROR(IF(AND(AE9="",AF5=AF4,ISNUMBER(AL8)=FALSE,ISNUMBER(AF8)=FALSE,AF8<>""),DATE(JANVIER!$A$1,AF3,1),IF(AND(AE9<>"",MONTH(AE9+1)=MONTH(AE9)),AE9+1,IF(AND(AL8<>"",MONTH(AL8+1)=MONTH(AL8)),AL8+1,""))),"") -> 43899 | AG9: =IFERROR(IF(AND(AF9="",AG5=AG4,ISNUMBER(AM8)=FALSE,ISNUMBER(AG8)=FALSE,AG8<>""),DATE(JANVIER!$A$1,AG3,1),IF(AND(AF9<>"",MONTH(AF9+1)=MONTH(AF9)),AF9+1,IF(AND(AM8<>"",MONTH(AM8+1)=MONTH(AM8)),AM8+1,""))),"") -> 43900 | AH9: =IFERROR(IF(AND(AG9="",AH5=AH4,ISNUMBER(AN8)=FALSE,ISNUMBER(AH8)=FALSE,AH8<>""),DATE(JANVIER!$A$1,AH3,1),IF(AND(AG9<>"",MONTH(AG9+1)=MONTH(AG9)),AG9+1,IF(AND(AN8<>"",MONTH(AN8+1)=MONTH(AN8)),AN8+1,""))),"") -> 43901 | AI9: =IFERROR(IF(AND(AH9="",AI5=AI4,ISNUMBER(AO8)=FALSE,ISNUMBER(AI8)=FALSE,AI8<>""),DATE(JANVIER!$A$1,AI3,1),IF(AND(AH9<>"",MONTH(AH9+1)=MONTH(AH9)),AH9+1,IF(AND(AO8<>"",MONTH(AO8+1)=MONTH(AO8)),AO8+1,""))),"") -> 43902 | AJ9: =IFERROR(IF(AND(AI9="",AJ5=AJ4,ISNUMBER(AP8)=FALSE,ISNUMBER(AJ8)=FALSE,AJ8<>""),DATE(JANVIER!$A$1,AJ3,1),IF(AND(AI9<>"",MONTH(AI9+1)=MONTH(AI9)),AI9+1,IF(AND(AP8<>"",MONTH(AP8+1)=MONTH(AP8)),AP8+1,""))),"") -> 43903 | AK9: =IFERROR(IF(AND(AJ9="",AK5=AK4,ISNUMBER(AQ8)=FALSE,ISNUMBER(AK8)=FALSE,AK8<>""),DATE(JANVIER!$A$1,AK3,1),IF(AND(AJ9<>"",MONTH(AJ9+1)=MONTH(AJ9)),AJ9+1,IF(AND(AQ8<>"",MONTH(AQ8+1)=MONTH(AQ8)),AQ8+1,""))),"") -> 43904 | AL9: =IFERROR(IF(AND(AK9="",AL5=AL4,ISNUMBER(AR8)=FALSE,ISNUMBER(AL8)=FALSE,AL8<>""),DATE(JANVIER!$A$1,AL3,1),IF(AND(AK9<>"",MONTH(AK9+1)=MONTH(AK9)),AK9+1,IF(AND(AR8<>"",MONTH(AR8+1)=MONTH(AR8)),AR8+1,""))),"") -> 43905 | AU9: =IFERROR(IF(AND(AT9="",AU5=AU4,ISNUMBER(BA8)=FALSE,ISNUMBER(AU8)=FALSE,AU8<>""),DATE(JANVIER!$A$1,AU3,1),IF(AND(AT9<>"",MONTH(AT9+1)=MONTH(AT9)),AT9+1,IF(AND(BA8<>"",MONTH(BA8+1)=MONTH(BA8)),BA8+1,""))),"") -> 43934 | AV9: =IFERROR(IF(AND(AU9="",AV5=AV4,ISNUMBER(BB8)=FALSE,ISNUMBER(AV8)=FALSE,AV8<>""),DATE(JANVIER!$A$1,AV3,1),IF(AND(AU9<>"",MONTH(AU9+1)=MONTH(AU9)),AU9+1,IF(AND(BB8<>"",MONTH(BB8+1)=MONTH(BB8)),BB8+1,""))),"") -> 43935 | AW9: =IFERROR(IF(AND(AV9="",AW5=AW4,ISNUMBER(BC8)=FALSE,ISNUMBER(AW8)=FALSE,AW8<>""),DATE(JANVIER!$A$1,AW3,1),IF(AND(AV9<>"",MONTH(AV9+1)=MONTH(AV9)),AV9+1,IF(AND(BC8<>"",MONTH(BC8+1)=MONTH(BC8)),BC8+1,""))),"") -> 43936 | AX9: =IFERROR(IF(AND(AW9="",AX5=AX4,ISNUMBER(BD8)=FALSE,ISNUMBER(AX8)=FALSE,AX8<>""),DATE(JANVIER!$A$1,AX3,1),IF(AND(AW9<>"",MONTH(AW9+1)=MONTH(AW9)),AW9+1,IF(AND(BD8<>"",MONTH(BD8+1)=MONTH(BD8)),BD8+1,""))),"") -> 43937 | AY9: =IFERROR(IF(AND(AX9="",AY5=AY4,ISNUMBER(BE8)=FALSE,ISNUMBER(AY8)=FALSE,AY8<>""),DATE(JANVIER!$A$1,AY3,1),IF(AND(AX9<>"",MONTH(AX9+1)=MONTH(AX9)),AX9+1,IF(AND(BE8<>"",MONTH(BE8+1)=MONTH(BE8)),BE8+1,""))),"") -> 43938 | AZ9: =IFERROR(IF(AND(AY9="",AZ5=AZ4,ISNUMBER(BF8)=FALSE,ISNUMBER(AZ8)=FALSE,AZ8<>""),DATE(JANVIER!$A$1,AZ3,1),IF(AND(AY9<>"",MONTH(AY9+1)=MONTH(AY9)),AY9+1,IF(AND(BF8<>"",MONTH(BF8+1)=MONTH(BF8)),BF8+1,""))),"") -> 43939 | BA9: =IFERROR(IF(AND(AZ9="",BA5=BA4,ISNUMBER(BG8)=FALSE,ISNUMBER(BA8)=FALSE,BA8<>""),DATE(JANVIER!$A$1,BA3,1),IF(AND(AZ9<>"",MONTH(AZ9+1)=MONTH(AZ9)),AZ9+1,IF(AND(BG8<>"",MONTH(BG8+1)=MONTH(BG8)),BG8+1,""))),"") -> 43940
B10: =IFERROR(IF(AND(A10="",B6=B5,ISNUMBER(H9)=FALSE,ISNUMBER(B9)=FALSE,B9<>""),DATE(JANVIER!$A$1,B4,1),IF(AND(A10<>"",MONTH(A10+1)=MONTH(A10)),A10+1,IF(AND(H9<>"",MONTH(H9+1)=MONTH(H9)),H9+1,""))),"") -> 43850 | C10: =IFERROR(IF(AND(B10="",C6=C5,ISNUMBER(I9)=FALSE,ISNUMBER(C9)=FALSE,C9<>""),DATE(JANVIER!$A$1,C4,1),IF(AND(B10<>"",MONTH(B10+1)=MONTH(B10)),B10+1,IF(AND(I9<>"",MONTH(I9+1)=MONTH(I9)),I9+1,""))),"") -> 43851 | D10: =IFERROR(IF(AND(C10="",D6=D5,ISNUMBER(J9)=FALSE,ISNUMBER(D9)=FALSE,D9<>""),DATE(JANVIER!$A$1,D4,1),IF(AND(C10<>"",MONTH(C10+1)=MONTH(C10)),C10+1,IF(AND(J9<>"",MONTH(J9+1)=MONTH(J9)),J9+1,""))),"") -> 43852 | E10: =IFERROR(IF(AND(D10="",E6=E5,ISNUMBER(K9)=FALSE,ISNUMBER(E9)=FALSE,E9<>""),DATE(JANVIER!$A$1,E4,1),IF(AND(D10<>"",MONTH(D10+1)=MONTH(D10)),D10+1,IF(AND(K9<>"",MONTH(K9+1)=MONTH(K9)),K9+1,""))),"") -> 43853 | F10: =IFERROR(IF(AND(E10="",F6=F5,ISNUMBER(L9)=FALSE,ISNUMBER(F9)=FALSE,F9<>""),DATE(JANVIER!$A$1,F4,1),IF(AND(E10<>"",MONTH(E10+1)=MONTH(E10)),E10+1,IF(AND(L9<>"",MONTH(L9+1)=MONTH(L9)),L9+1,""))),"") -> 43854 | G10: =IFERROR(IF(AND(F10="",G6=G5,ISNUMBER(M9)=FALSE,ISNUMBER(G9)=FALSE,G9<>""),DATE(JANVIER!$A$1,G4,1),IF(AND(F10<>"",MONTH(F10+1)=MONTH(F10)),F10+1,IF(AND(M9<>"",MONTH(M9+1)=MONTH(M9)),M9+1,""))),"") -> 43855 | H10: =IFERROR(IF(AND(G10="",H6=H5,ISNUMBER(N9)=FALSE,ISNUMBER(H9)=FALSE,H9<>""),DATE(JANVIER!$A$1,H4,1),IF(AND(G10<>"",MONTH(G10+1)=MONTH(G10)),G10+1,IF(AND(N9<>"",MONTH(N9+1)=MONTH(N9)),N9+1,""))),"") -> 43856 | Q10: =IFERROR(IF(AND(P10="",Q6=Q5,ISNUMBER(W9)=FALSE,ISNUMBER(Q9)=FALSE,Q9<>""),DATE(JANVIER!$A$1,Q4,1),IF(AND(P10<>"",MONTH(P10+1)=MONTH(P10)),P10+1,IF(AND(W9<>"",MONTH(W9+1)=MONTH(W9)),W9+1,""))),"") -> 43878 | R10: =IFERROR(IF(AND(Q10="",R6=R5,ISNUMBER(X9)=FALSE,ISNUMBER(R9)=FALSE,R9<>""),DATE(JANVIER!$A$1,R4,1),IF(AND(Q10<>"",MONTH(Q10+1)=MONTH(Q10)),Q10+1,IF(AND(X9<>"",MONTH(X9+1)=MONTH(X9)),X9+1,""))),"") -> 43879 | S10: =IFERROR(IF(AND(R10="",S6=S5,ISNUMBER(Y9)=FALSE,ISNUMBER(S9)=FALSE,S9<>""),DATE(JANVIER!$A$1,S4,1),IF(AND(R10<>"",MONTH(R10+1)=MONTH(R10)),R10+1,IF(AND(Y9<>"",MONTH(Y9+1)=MONTH(Y9)),Y9+1,""))),"") -> 43880 | T10: =IFERROR(IF(AND(S10="",T6=T5,ISNUMBER(Z9)=FALSE,ISNUMBER(T9)=FALSE,T9<>""),DATE(JANVIER!$A$1,T4,1),IF(AND(S10<>"",MONTH(S10+1)=MONTH(S10)),S10+1,IF(AND(Z9<>"",MONTH(Z9+1)=MONTH(Z9)),Z9+1,""))),"") -> 43881 | U10: =IFERROR(IF(AND(T10="",U6=U5,ISNUMBER(AA9)=FALSE,ISNUMBER(U9)=FALSE,U9<>""),DATE(JANVIER!$A$1,U4,1),IF(AND(T10<>"",MONTH(T10+1)=MONTH(T10)),T10+1,IF(AND(AA9<>"",MONTH(AA9+1)=MONTH(AA9)),AA9+1,""))),"") -> 43882 | V10: =IFERROR(IF(AND(U10="",V6=V5,ISNUMBER(AB9)=FALSE,ISNUMBER(V9)=FALSE,V9<>""),DATE(JANVIER!$A$1,V4,1),IF(AND(U10<>"",MONTH(U10+1)=MONTH(U10)),U10+1,IF(AND(AB9<>"",MONTH(AB9+1)=MONTH(AB9)),AB9+1,""))),"") -> 43883 | W10: =IFERROR(IF(AND(V10="",W6=W5,ISNUMBER(AC9)=FALSE,ISNUMBER(W9)=FALSE,W9<>""),DATE(JANVIER!$A$1,W4,1),IF(AND(V10<>"",MONTH(V10+1)=MONTH(V10)),V10+1,IF(AND(AC9<>"",MONTH(AC9+1)=MONTH(AC9)),AC9+1,""))),"") -> 43884 | AF10: =IFERROR(IF(AND(AE10="",AF6=AF5,ISNUMBER(AL9)=FALSE,ISNUMBER(AF9)=FALSE,AF9<>""),DATE(JANVIER!$A$1,AF4,1),IF(AND(AE10<>"",MONTH(AE10+1)=MONTH(AE10)),AE10+1,IF(AND(AL9<>"",MONTH(AL9+1)=MONTH(AL9)),AL9+1,""))),"") -> 43906 | AG10: =IFERROR(IF(AND(AF10="",AG6=AG5,ISNUMBER(AM9)=FALSE,ISNUMBER(AG9)=FALSE,AG9<>""),DATE(JANVIER!$A$1,AG4,1),IF(AND(AF10<>"",MONTH(AF10+1)=MONTH(AF10)),AF10+1,IF(AND(AM9<>"",MONTH(AM9+1)=MONTH(AM9)),AM9+1,""))),"") -> 43907 | AH10: =IFERROR(IF(AND(AG10="",AH6=AH5,ISNUMBER(AN9)=FALSE,ISNUMBER(AH9)=FALSE,AH9<>""),DATE(JANVIER!$A$1,AH4,1),IF(AND(AG10<>"",MONTH(AG10+1)=MONTH(AG10)),AG10+1,IF(AND(AN9<>"",MONTH(AN9+1)=MONTH(AN9)),AN9+1,""))),"") -> 43908 | AI10: =IFERROR(IF(AND(AH10="",AI6=AI5,ISNUMBER(AO9)=FALSE,ISNUMBER(AI9)=FALSE,AI9<>""),DATE(JANVIER!$A$1,AI4,1),IF(AND(AH10<>"",MONTH(AH10+1)=MONTH(AH10)),AH10+1,IF(AND(AO9<>"",MONTH(AO9+1)=MONTH(AO9)),AO9+1,""))),"") -> 43909 | AJ10: =IFERROR(IF(AND(AI10="",AJ6=AJ5,ISNUMBER(AP9)=FALSE,ISNUMBER(AJ9)=FALSE,AJ9<>""),DATE(JANVIER!$A$1,AJ4,1),IF(AND(AI10<>"",MONTH(AI10+1)=MONTH(AI10)),AI10+1,IF(AND(AP9<>"",MONTH(AP9+1)=MONTH(AP9)),AP9+1,""))),"") -> 43910 | AK10: =IFERROR(IF(AND(AJ10="",AK6=AK5,ISNUMBER(AQ9)=FALSE,ISNUMBER(AK9)=FALSE,AK9<>""),DATE(JANVIER!$A$1,AK4,1),IF(AND(AJ10<>"",MONTH(AJ10+1)=MONTH(AJ10)),AJ10+1,IF(AND(AQ9<>"",MONTH(AQ9+1)=MONTH(AQ9)),AQ9+1,""))),"") -> 43911 | AL10: =IFERROR(IF(AND(AK10="",AL6=AL5,ISNUMBER(AR9)=FALSE,ISNUMBER(AL9)=FALSE,AL9<>""),DATE(JANVIER!$A$1,AL4,1),IF(AND(AK10<>"",MONTH(AK10+1)=MONTH(AK10)),AK10+1,IF(AND(AR9<>"",MONTH(AR9+1)=MONTH(AR9)),AR9+1,""))),"") -> 43912 | AU10: =IFERROR(IF(AND(AT10="",AU6=AU5,ISNUMBER(BA9)=FALSE,ISNUMBER(AU9)=FALSE,AU9<>""),DATE(JANVIER!$A$1,AU4,1),IF(AND(AT10<>"",MONTH(AT10+1)=MONTH(AT10)),AT10+1,IF(AND(BA9<>"",MONTH(BA9+1)=MONTH(BA9)),BA9+1,""))),"") -> 43941 | AV10: =IFERROR(IF(AND(AU10="",AV6=AV5,ISNUMBER(BB9)=FALSE,ISNUMBER(AV9)=FALSE,AV9<>""),DATE(JANVIER!$A$1,AV4,1),IF(AND(AU10<>"",MONTH(AU10+1)=MONTH(AU10)),AU10+1,IF(AND(BB9<>"",MONTH(BB9+1)=MONTH(BB9)),BB9+1,""))),"") -> 43942 | AW10: =IFERROR(IF(AND(AV10="",AW6=AW5,ISNUMBER(BC9)=FALSE,ISNUMBER(AW9)=FALSE,AW9<>""),DATE(JANVIER!$A$1,AW4,1),IF(AND(AV10<>"",MONTH(AV10+1)=MONTH(AV10)),AV10+1,IF(AND(BC9<>"",MONTH(BC9+1)=MONTH(BC9)),BC9+1,""))),"") -> 43943 | AX10: =IFERROR(IF(AND(AW10="",AX6=AX5,ISNUMBER(BD9)=FALSE,ISNUMBER(AX9)=FALSE,AX9<>""),DATE(JANVIER!$A$1,AX4,1),IF(AND(AW10<>"",MONTH(AW10+1)=MONTH(AW10)),AW10+1,IF(AND(BD9<>"",MONTH(BD9+1)=MONTH(BD9)),BD9+1,""))),"") -> 43944 | AY10: =IFERROR(IF(AND(AX10="",AY6=AY5,ISNUMBER(BE9)=FALSE,ISNUMBER(AY9)=FALSE,AY9<>""),DATE(JANVIER!$A$1,AY4,1),IF(AND(AX10<>"",MONTH(AX10+1)=MONTH(AX10)),AX10+1,IF(AND(BE9<>"",MONTH(BE9+1)=MONTH(BE9)),BE9+1,""))),"") -> 43945 | AZ10: =IFERROR(IF(AND(AY10="",AZ6=AZ5,ISNUMBER(BF9)=FALSE,ISNUMBER(AZ9)=FALSE,AZ9<>""),DATE(JANVIER!$A$1,AZ4,1),IF(AND(AY10<>"",MONTH(AY10+1)=MONTH(AY10)),AY10+1,IF(AND(BF9<>"",MONTH(BF9+1)=MONTH(BF9)),BF9+1,""))),"") -> 43946 | BA10: =IFERROR(IF(AND(AZ10="",BA6=BA5,ISNUMBER(BG9)=FALSE,ISNUMBER(BA9)=FALSE,BA9<>""),DATE(JANVIER!$A$1,BA4,1),IF(AND(AZ10<>"",MONTH(AZ10+1)=MONTH(AZ10)),AZ10+1,IF(AND(BG9<>"",MONTH(BG9+1)=MONTH(BG9)),BG9+1,""))),"") -> 43947
B11: =IFERROR(IF(AND(A11="",B7=B6,ISNUMBER(H10)=FALSE,ISNUMBER(B10)=FALSE,B10<>""),DATE(JANVIER!$A$1,B5,1),IF(AND(A11<>"",MONTH(A11+1)=MONTH(A11)),A11+1,IF(AND(H10<>"",MONTH(H10+1)=MONTH(H10)),H10+1,""))),"") -> 43857 | C11: =IFERROR(IF(AND(B11="",C7=C6,ISNUMBER(I10)=FALSE,ISNUMBER(C10)=FALSE,C10<>""),DATE(JANVIER!$A$1,C5,1),IF(AND(B11<>"",MONTH(B11+1)=MONTH(B11)),B11+1,IF(AND(I10<>"",MONTH(I10+1)=MONTH(I10)),I10+1,""))),"") -> 43858 | D11: =IFERROR(IF(AND(C11="",D7=D6,ISNUMBER(J10)=FALSE,ISNUMBER(D10)=FALSE,D10<>""),DATE(JANVIER!$A$1,D5,1),IF(AND(C11<>"",MONTH(C11+1)=MONTH(C11)),C11+1,IF(AND(J10<>"",MONTH(J10+1)=MONTH(J10)),J10+1,""))),"") -> 43859 | E11: =IFERROR(IF(AND(D11="",E7=E6,ISNUMBER(K10)=FALSE,ISNUMBER(E10)=FALSE,E10<>""),DATE(JANVIER!$A$1,E5,1),IF(AND(D11<>"",MONTH(D11+1)=MONTH(D11)),D11+1,IF(AND(K10<>"",MONTH(K10+1)=MONTH(K10)),K10+1,""))),"") -> 43860 | F11: =IFERROR(IF(AND(E11="",F7=F6,ISNUMBER(L10)=FALSE,ISNUMBER(F10)=FALSE,F10<>""),DATE(JANVIER!$A$1,F5,1),IF(AND(E11<>"",MONTH(E11+1)=MONTH(E11)),E11+1,IF(AND(L10<>"",MONTH(L10+1)=MONTH(L10)),L10+1,""))),"") -> 43861 | G11: =IFERROR(IF(AND(F11="",G7=G6,ISNUMBER(M10)=FALSE,ISNUMBER(G10)=FALSE,G10<>""),DATE(JANVIER!$A$1,G5,1),IF(AND(F11<>"",MONTH(F11+1)=MONTH(F11)),F11+1,IF(AND(M10<>"",MONTH(M10+1)=MONTH(M10)),M10+1,""))),"") | H11: =IFERROR(IF(AND(G11="",H7=H6,ISNUMBER(N10)=FALSE,ISNUMBER(H10)=FALSE,H10<>""),DATE(JANVIER!$A$1,H5,1),IF(AND(G11<>"",MONTH(G11+1)=MONTH(G11)),G11+1,IF(AND(N10<>"",MONTH(N10+1)=MONTH(N10)),N10+1,""))),"") | Q11: =IFERROR(IF(AND(P11="",Q7=Q6,ISNUMBER(W10)=FALSE,ISNUMBER(Q10)=FALSE,Q10<>""),DATE(JANVIER!$A$1,Q5,1),IF(AND(P11<>"",MONTH(P11+1)=MONTH(P11)),P11+1,IF(AND(W10<>"",MONTH(W10+1)=MONTH(W10)),W10+1,""))),"") -> 43885 | R11: =IFERROR(IF(AND(Q11="",R7=R6,ISNUMBER(X10)=FALSE,ISNUMBER(R10)=FALSE,R10<>""),DATE(JANVIER!$A$1,R5,1),IF(AND(Q11<>"",MONTH(Q11+1)=MONTH(Q11)),Q11+1,IF(AND(X10<>"",MONTH(X10+1)=MONTH(X10)),X10+1,""))),"") -> 43886 | S11: =IFERROR(IF(AND(R11="",S7=S6,ISNUMBER(Y10)=FALSE,ISNUMBER(S10)=FALSE,S10<>""),DATE(JANVIER!$A$1,S5,1),IF(AND(R11<>"",MONTH(R11+1)=MONTH(R11)),R11+1,IF(AND(Y10<>"",MONTH(Y10+1)=MONTH(Y10)),Y10+1,""))),"") -> 43887 | T11: =IFERROR(IF(AND(S11="",T7=T6,ISNUMBER(Z10)=FALSE,ISNUMBER(T10)=FALSE,T10<>""),DATE(JANVIER!$A$1,T5,1),IF(AND(S11<>"",MONTH(S11+1)=MONTH(S11)),S11+1,IF(AND(Z10<>"",MONTH(Z10+1)=MONTH(Z10)),Z10+1,""))),"") -> 43888 | U11: =IFERROR(IF(AND(T11="",U7=U6,ISNUMBER(AA10)=FALSE,ISNUMBER(U10)=FALSE,U10<>""),DATE(JANVIER!$A$1,U5,1),IF(AND(T11<>"",MONTH(T11+1)=MONTH(T11)),T11+1,IF(AND(AA10<>"",MONTH(AA10+1)=MONTH(AA10)),AA10+1,""))),"") -> 43889 | V11: =IFERROR(IF(AND(U11="",V7=V6,ISNUMBER(AB10)=FALSE,ISNUMBER(V10)=FALSE,V10<>""),DATE(JANVIER!$A$1,V5,1),IF(AND(U11<>"",MONTH(U11+1)=MONTH(U11)),U11+1,IF(AND(AB10<>"",MONTH(AB10+1)=MONTH(AB10)),AB10+1,""))),"") -> 43890 | W11: =IFERROR(IF(AND(V11="",W7=W6,ISNUMBER(AC10)=FALSE,ISNUMBER(W10)=FALSE,W10<>""),DATE(JANVIER!$A$1,W5,1),IF(AND(V11<>"",MONTH(V11+1)=MONTH(V11)),V11+1,IF(AND(AC10<>"",MONTH(AC10+1)=MONTH(AC10)),AC10+1,""))),"") | AF11: =IFERROR(IF(AND(AE11="",AF7=AF6,ISNUMBER(AL10)=FALSE,ISNUMBER(AF10)=FALSE,AF10<>""),DATE(JANVIER!$A$1,AF5,1),IF(AND(AE11<>"",MONTH(AE11+1)=MONTH(AE11)),AE11+1,IF(AND(AL10<>"",MONTH(AL10+1)=MONTH(AL10)),AL10+1,""))),"") -> 43913 | AG11: =IFERROR(IF(AND(AF11="",AG7=AG6,ISNUMBER(AM10)=FALSE,ISNUMBER(AG10)=FALSE,AG10<>""),DATE(JANVIER!$A$1,AG5,1),IF(AND(AF11<>"",MONTH(AF11+1)=MONTH(AF11)),AF11+1,IF(AND(AM10<>"",MONTH(AM10+1)=MONTH(AM10)),AM10+1,""))),"") -> 43914 | AH11: =IFERROR(IF(AND(AG11="",AH7=AH6,ISNUMBER(AN10)=FALSE,ISNUMBER(AH10)=FALSE,AH10<>""),DATE(JANVIER!$A$1,AH5,1),IF(AND(AG11<>"",MONTH(AG11+1)=MONTH(AG11)),AG11+1,IF(AND(AN10<>"",MONTH(AN10+1)=MONTH(AN10)),AN10+1,""))),"") -> 43915 | AI11: =IFERROR(IF(AND(AH11="",AI7=AI6,ISNUMBER(AO10)=FALSE,ISNUMBER(AI10)=FALSE,AI10<>""),DATE(JANVIER!$A$1,AI5,1),IF(AND(AH11<>"",MONTH(AH11+1)=MONTH(AH11)),AH11+1,IF(AND(AO10<>"",MONTH(AO10+1)=MONTH(AO10)),AO10+1,""))),"") -> 43916 | AJ11: =IFERROR(IF(AND(AI11="",AJ7=AJ6,ISNUMBER(AP10)=FALSE,ISNUMBER(AJ10)=FALSE,AJ10<>""),DATE(JANVIER!$A$1,AJ5,1),IF(AND(AI11<>"",MONTH(AI11+1)=MONTH(AI11)),AI11+1,IF(AND(AP10<>"",MONTH(AP10+1)=MONTH(AP10)),AP10+1,""))),"") -> 43917 | AK11: =IFERROR(IF(AND(AJ11="",AK7=AK6,ISNUMBER(AQ10)=FALSE,ISNUMBER(AK10)=FALSE,AK10<>""),DATE(JANVIER!$A$1,AK5,1),IF(AND(AJ11<>"",MONTH(AJ11+1)=MONTH(AJ11)),AJ11+1,IF(AND(AQ10<>"",MONTH(AQ10+1)=MONTH(AQ10)),AQ10+1,""))),"") -> 43918 | AL11: =IFERROR(IF(AND(AK11="",AL7=AL6,ISNUMBER(AR10)=FALSE,ISNUMBER(AL10)=FALSE,AL10<>""),DATE(JANVIER!$A$1,AL5,1),IF(AND(AK11<>"",MONTH(AK11+1)=MONTH(AK11)),AK11+1,IF(AND(AR10<>"",MONTH(AR10+1)=MONTH(AR10)),AR10+1,""))),"") -> 43919 | AU11: =IFERROR(IF(AND(AT11="",AU7=AU6,ISNUMBER(BA10)=FALSE,ISNUMBER(AU10)=FALSE,AU10<>""),DATE(JANVIER!$A$1,AU5,1),IF(AND(AT11<>"",MONTH(AT11+1)=MONTH(AT11)),AT11+1,IF(AND(BA10<>"",MONTH(BA10+1)=MONTH(BA10)),BA10+1,""))),"") -> 43948 | AV11: =IFERROR(IF(AND(AU11="",AV7=AV6,ISNUMBER(BB10)=FALSE,ISNUMBER(AV10)=FALSE,AV10<>""),DATE(JANVIER!$A$1,AV5,1),IF(AND(AU11<>"",MONTH(AU11+1)=MONTH(AU11)),AU11+1,IF(AND(BB10<>"",MONTH(BB10+1)=MONTH(BB10)),BB10+1,""))),"") -> 43949 | AW11: =IFERROR(IF(AND(AV11="",AW7=AW6,ISNUMBER(BC10)=FALSE,ISNUMBER(AW10)=FALSE,AW10<>""),DATE(JANVIER!$A$1,AW5,1),IF(AND(AV11<>"",MONTH(AV11+1)=MONTH(AV11)),AV11+1,IF(AND(BC10<>"",MONTH(BC10+1)=MONTH(BC10)),BC10+1,""))),"") -> 43950 | AX11: =IFERROR(IF(AND(AW11="",AX7=AX6,ISNUMBER(BD10)=FALSE,ISNUMBER(AX10)=FALSE,AX10<>""),DATE(JANVIER!$A$1,AX5,1),IF(AND(AW11<>"",MONTH(AW11+1)=MONTH(AW11)),AW11+1,IF(AND(BD10<>"",MONTH(BD10+1)=MONTH(BD10)),BD10+1,""))),"") -> 43951 | AY11: =IFERROR(IF(AND(AX11="",AY7=AY6,ISNUMBER(BE10)=FALSE,ISNUMBER(AY10)=FALSE,AY10<>""),DATE(JANVIER!$A$1,AY5,1),IF(AND(AX11<>"",MONTH(AX11+1)=MONTH(AX11)),AX11+1,IF(AND(BE10<>"",MONTH(BE10+1)=MONTH(BE10)),BE10+1,""))),"") | AZ11: =IFERROR(IF(AND(AY11="",AZ7=AZ6,ISNUMBER(BF10)=FALSE,ISNUMBER(AZ10)=FALSE,AZ10<>""),DATE(JANVIER!$A$1,AZ5,1),IF(AND(AY11<>"",MONTH(AY11+1)=MONTH(AY11)),AY11+1,IF(AND(BF10<>"",MONTH(BF10+1)=MONTH(BF10)),BF10+1,""))),"") | BA11: =IFERROR(IF(AND(AZ11="",BA7=BA6,ISNUMBER(BG10)=FALSE,ISNUMBER(BA10)=FALSE,BA10<>""),DATE(JANVIER!$A$1,BA5,1),IF(AND(AZ11<>"",MONTH(AZ11+1)=MONTH(AZ11)),AZ11+1,IF(AND(BG10<>"",MONTH(BG10+1)=MONTH(BG10)),BG10+1,""))),"")
B12: =IFERROR(IF(AND(A12="",B8=B7,ISNUMBER(H11)=FALSE,ISNUMBER(B11)=FALSE,B11<>""),DATE(JANVIER!$A$1,B6,1),IF(AND(A12<>"",MONTH(A12+1)=MONTH(A12)),A12+1,IF(AND(H11<>"",MONTH(H11+1)=MONTH(H11)),H11+1,""))),"") | C12: =IFERROR(IF(AND(B12="",C8=C7,ISNUMBER(I11)=FALSE,ISNUMBER(C11)=FALSE,C11<>""),DATE(JANVIER!$A$1,C6,1),IF(AND(B12<>"",MONTH(B12+1)=MONTH(B12)),B12+1,IF(AND(I11<>"",MONTH(I11+1)=MONTH(I11)),I11+1,""))),"") | D12: =IFERROR(IF(AND(C12="",D8=D7,ISNUMBER(J11)=FALSE,ISNUMBER(D11)=FALSE,D11<>""),DATE(JANVIER!$A$1,D6,1),IF(AND(C12<>"",MONTH(C12+1)=MONTH(C12)),C12+1,IF(AND(J11<>"",MONTH(J11+1)=MONTH(J11)),J11+1,""))),"") | E12: =IFERROR(IF(AND(D12="",E8=E7,ISNUMBER(K11)=FALSE,ISNUMBER(E11)=FALSE,E11<>""),DATE(JANVIER!$A$1,E6,1),IF(AND(D12<>"",MONTH(D12+1)=MONTH(D12)),D12+1,IF(AND(K11<>"",MONTH(K11+1)=MONTH(K11)),K11+1,""))),"") | F12: =IFERROR(IF(AND(E12="",F8=F7,ISNUMBER(L11)=FALSE,ISNUMBER(F11)=FALSE,F11<>""),DATE(JANVIER!$A$1,F6,1),IF(AND(E12<>"",MONTH(E12+1)=MONTH(E12)),E12+1,IF(AND(L11<>"",MONTH(L11+1)=MONTH(L11)),L11+1,""))),"") | G12: =IFERROR(IF(AND(F12="",G8=G7,ISNUMBER(M11)=FALSE,ISNUMBER(G11)=FALSE,G11<>""),DATE(JANVIER!$A$1,G6,1),IF(AND(F12<>"",MONTH(F12+1)=MONTH(F12)),F12+1,IF(AND(M11<>"",MONTH(M11+1)=MONTH(M11)),M11+1,""))),"") | H12: =IFERROR(IF(AND(G12="",H8=H7,ISNUMBER(N11)=FALSE,ISNUMBER(H11)=FALSE,H11<>""),DATE(JANVIER!$A$1,H6,1),IF(AND(G12<>"",MONTH(G12+1)=MONTH(G12)),G12+1,IF(AND(N11<>"",MONTH(N11+1)=MONTH(N11)),N11+1,""))),"") | Q12: =IFERROR(IF(AND(P12="",Q8=Q7,ISNUMBER(W11)=FALSE,ISNUMBER(Q11)=FALSE,Q11<>""),DATE(JANVIER!$A$1,Q6,1),IF(AND(P12<>"",MONTH(P12+1)=MONTH(P12)),P12+1,IF(AND(W11<>"",MONTH(W11+1)=MONTH(W11)),W11+1,""))),"") | R12: =IFERROR(IF(AND(Q12="",R8=R7,ISNUMBER(X11)=FALSE,ISNUMBER(R11)=FALSE,R11<>""),DATE(JANVIER!$A$1,R6,1),IF(AND(Q12<>"",MONTH(Q12+1)=MONTH(Q12)),Q12+1,IF(AND(X11<>"",MONTH(X11+1)=MONTH(X11)),X11+1,""))),"") | S12: =IFERROR(IF(AND(R12="",S8=S7,ISNUMBER(Y11)=FALSE,ISNUMBER(S11)=FALSE,S11<>""),DATE(JANVIER!$A$1,S6,1),IF(AND(R12<>"",MONTH(R12+1)=MONTH(R12)),R12+1,IF(AND(Y11<>"",MONTH(Y11+1)=MONTH(Y11)),Y11+1,""))),"") | T12: =IFERROR(IF(AND(S12="",T8=T7,ISNUMBER(Z11)=FALSE,ISNUMBER(T11)=FALSE,T11<>""),DATE(JANVIER!$A$1,T6,1),IF(AND(S12<>"",MONTH(S12+1)=MONTH(S12)),S12+1,IF(AND(Z11<>"",MONTH(Z11+1)=MONTH(Z11)),Z11+1,""))),"") | U12: =IFERROR(IF(AND(T12="",U8=U7,ISNUMBER(AA11)=FALSE,ISNUMBER(U11)=FALSE,U11<>""),DATE(JANVIER!$A$1,U6,1),IF(AND(T12<>"",MONTH(T12+1)=MONTH(T12)),T12+1,IF(AND(AA11<>"",MONTH(AA11+1)=MONTH(AA11)),AA11+1,""))),"") | V12: =IFERROR(IF(AND(U12="",V8=V7,ISNUMBER(AB11)=FALSE,ISNUMBER(V11)=FALSE,V11<>""),DATE(JANVIER!$A$1,V6,1),IF(AND(U12<>"",MONTH(U12+1)=MONTH(U12)),U12+1,IF(AND(AB11<>"",MONTH(AB11+1)=MONTH(AB11)),AB11+1,""))),"") | W12: =IFERROR(IF(AND(V12="",W8=W7,ISNUMBER(AC11)=FALSE,ISNUMBER(W11)=FALSE,W11<>""),DATE(JANVIER!$A$1,W6,1),IF(AND(V12<>"",MONTH(V12+1)=MONTH(V12)),V12+1,IF(AND(AC11<>"",MONTH(AC11+1)=MONTH(AC11)),AC11+1,""))),"") | AF12: =IFERROR(IF(AND(AE12="",AF8=AF7,ISNUMBER(AL11)=FALSE,ISNUMBER(AF11)=FALSE,AF11<>""),DATE(JANVIER!$A$1,AF6,1),IF(AND(AE12<>"",MONTH(AE12+1)=MONTH(AE12)),AE12+1,IF(AND(AL11<>"",MONTH(AL11+1)=MONTH(AL11)),AL11+1,""))),"") -> 43920 | AG12: =IFERROR(IF(AND(AF12="",AG8=AG7,ISNUMBER(AM11)=FALSE,ISNUMBER(AG11)=FALSE,AG11<>""),DATE(JANVIER!$A$1,AG6,1),IF(AND(AF12<>"",MONTH(AF12+1)=MONTH(AF12)),AF12+1,IF(AND(AM11<>"",MONTH(AM11+1)=MONTH(AM11)),AM11+1,""))),"") -> 43921 | AH12: =IFERROR(IF(AND(AG12="",AH8=AH7,ISNUMBER(AN11)=FALSE,ISNUMBER(AH11)=FALSE,AH11<>""),DATE(JANVIER!$A$1,AH6,1),IF(AND(AG12<>"",MONTH(AG12+1)=MONTH(AG12)),AG12+1,IF(AND(AN11<>"",MONTH(AN11+1)=MONTH(AN11)),AN11+1,""))),"") | AI12: =IFERROR(IF(AND(AH12="",AI8=AI7,ISNUMBER(AO11)=FALSE,ISNUMBER(AI11)=FALSE,AI11<>""),DATE(JANVIER!$A$1,AI6,1),IF(AND(AH12<>"",MONTH(AH12+1)=MONTH(AH12)),AH12+1,IF(AND(AO11<>"",MONTH(AO11+1)=MONTH(AO11)),AO11+1,""))),"") | AJ12: =IFERROR(IF(AND(AI12="",AJ8=AJ7,ISNUMBER(AP11)=FALSE,ISNUMBER(AJ11)=FALSE,AJ11<>""),DATE(JANVIER!$A$1,AJ6,1),IF(AND(AI12<>"",MONTH(AI12+1)=MONTH(AI12)),AI12+1,IF(AND(AP11<>"",MONTH(AP11+1)=MONTH(AP11)),AP11+1,""))),"") | AK12: =IFERROR(IF(AND(AJ12="",AK8=AK7,ISNUMBER(AQ11)=FALSE,ISNUMBER(AK11)=FALSE,AK11<>""),DATE(JANVIER!$A$1,AK6,1),IF(AND(AJ12<>"",MONTH(AJ12+1)=MONTH(AJ12)),AJ12+1,IF(AND(AQ11<>"",MONTH(AQ11+1)=MONTH(AQ11)),AQ11+1,""))),"") | AL12: =IFERROR(IF(AND(AK12="",AL8=AL7,ISNUMBER(AR11)=FALSE,ISNUMBER(AL11)=FALSE,AL11<>""),DATE(JANVIER!$A$1,AL6,1),IF(AND(AK12<>"",MONTH(AK12+1)=MONTH(AK12)),AK12+1,IF(AND(AR11<>"",MONTH(AR11+1)=MONTH(AR11)),AR11+1,""))),"") | AU12: =IFERROR(IF(AND(AT12="",AU8=AU7,ISNUMBER(BA11)=FALSE,ISNUMBER(AU11)=FALSE,AU11<>""),DATE(JANVIER!$A$1,AU6,1),IF(AND(AT12<>"",MONTH(AT12+1)=MONTH(AT12)),AT12+1,IF(AND(BA11<>"",MONTH(BA11+1)=MONTH(BA11)),BA11+1,""))),"") | AV12: =IFERROR(IF(AND(AU12="",AV8=AV7,ISNUMBER(BB11)=FALSE,ISNUMBER(AV11)=FALSE,AV11<>""),DATE(JANVIER!$A$1,AV6,1),IF(AND(AU12<>"",MONTH(AU12+1)=MONTH(AU12)),AU12+1,IF(AND(BB11<>"",MONTH(BB11+1)=MONTH(BB11)),BB11+1,""))),"") | AW12: =IFERROR(IF(AND(AV12="",AW8=AW7,ISNUMBER(BC11)=FALSE,ISNUMBER(AW11)=FALSE,AW11<>""),DATE(JANVIER!$A$1,AW6,1),IF(AND(AV12<>"",MONTH(AV12+1)=MONTH(AV12)),AV12+1,IF(AND(BC11<>"",MONTH(BC11+1)=MONTH(BC11)),BC11+1,""))),"") | AX12: =IFERROR(IF(AND(AW12="",AX8=AX7,ISNUMBER(BD11)=FALSE,ISNUMBER(AX11)=FALSE,AX11<>""),DATE(JANVIER!$A$1,AX6,1),IF(AND(AW12<>"",MONTH(AW12+1)=MONTH(AW12)),AW12+1,IF(AND(BD11<>"",MONTH(BD11+1)=MONTH(BD11)),BD11+1,""))),"") | AY12: =IFERROR(IF(AND(AX12="",AY8=AY7,ISNUMBER(BE11)=FALSE,ISNUMBER(AY11)=FALSE,AY11<>""),DATE(JANVIER!$A$1,AY6,1),IF(AND(AX12<>"",MONTH(AX12+1)=MONTH(AX12)),AX12+1,IF(AND(BE11<>"",MONTH(BE11+1)=MONTH(BE11)),BE11+1,""))),"") | AZ12: =IFERROR(IF(AND(AY12="",AZ8=AZ7,ISNUMBER(BF11)=FALSE,ISNUMBER(AZ11)=FALSE,AZ11<>""),DATE(JANVIER!$A$1,AZ6,1),IF(AND(AY12<>"",MONTH(AY12+1)=MONTH(AY12)),AY12+1,IF(AND(BF11<>"",MONTH(BF11+1)=MONTH(BF11)),BF11+1,""))),"") | BA12: =IFERROR(IF(AND(AZ12="",BA8=BA7,ISNUMBER(BG11)=FALSE,ISNUMBER(BA11)=FALSE,BA11<>""),DATE(JANVIER!$A$1,BA6,1),IF(AND(AZ12<>"",MONTH(AZ12+1)=MONTH(AZ12)),AZ12+1,IF(AND(BG11<>"",MONTH(BG11+1)=MONTH(BG11)),BG11+1,""))),"")
