Workbook
Name AOUT: '[1]Suivi - vente - Gaz - Prix ORYX'!$X$87
Name AOUT: '[2]Suivi - vente - Gaz - Prix ORYX'!$X$87
Name AOUT: 'Suivi - vente - Gaz - Prix ORYX'!#REF!
Name AOUT: 'Suivi - vente - Gaz - Prix ORYX'!#REF!
Name AOUT: 'Suivi - vente - LUBRIFIANTS'!#REF!
Name AOUT: '[2]Suivi - vente - Gaz - Prix ORYX'!$X$87
Name AOUT: 'Suivi - vente - Gaz - Prix ORYX'!#REF!
Name AOUTLAB: '[1]Point - vente - Commande - Gaz'!$Z$195
Name AOUTLAB: '[2]Point - vente - Commande - Gaz'!$Z$195
Name AOUTLAB: #REF!
Name AOUTLAB: #REF!
Name AOUTLAB: #REF!
Name AOUTLAB: '[2]Point - vente - Commande - Gaz'!$Z$195
Name AOUTLAB: #REF!
Name AVRIL: '[1]Suivi - vente - Gaz - Prix ORYX'!$X$54
Name AVRIL: '[2]Suivi - vente - Gaz - Prix ORYX'!$X$54
Name AVRIL: 'Suivi - vente - Gaz - Prix ORYX'!#REF!
Name AVRIL: 'Suivi - vente - Gaz - Prix ORYX'!#REF!
Name AVRIL: 'Suivi - vente - LUBRIFIANTS'!#REF!
Name AVRIL: '[2]Suivi - vente - Gaz - Prix ORYX'!$X$54
Name AVRIL: 'Suivi - vente - Gaz - Prix ORYX'!#REF!
Name AVRILLAB: '[1]Point - vente - Commande - Gaz'!$Z$112
Name AVRILLAB: '[2]Point - vente - Commande - Gaz'!$Z$112
Name AVRILLAB: #REF!
Name AVRILLAB: #REF!
Name AVRILLAB: #REF!
Name AVRILLAB: '[2]Point - vente - Commande - Gaz'!$Z$112
Name AVRILLAB: #REF!
Name basegest: 'Gest. - Comm. - LUB'!$C$14:$AZ$195
Name basegest: 'Gest. - Comm. - LUBRIFIANTS'!$C$14:$AZ$195
Name basegest: 'Gest. - Comm. - ORYX 2'!$C$14:$AN$195
Name Chargesaout: '[3]Suivi trésorerie'!$D$189
Name Chargesaout: 'Suivi trésorerie LUBRIFIANTS'!$D$189
Name Chargesavril: '[3]Suivi trésorerie'!$D$118
Name Chargesavril: 'Suivi trésorerie LUBRIFIANTS'!$D$118
Name Chargesdec: '[3]Suivi trésorerie'!$D$273
Name Chargesdec: 'Suivi trésorerie LUBRIFIANTS'!$D$273
Name chargesfev: '[3]Suivi trésorerie'!$D$80
Name chargesfev: 'Suivi trésorerie LUBRIFIANTS'!$D$80
Name chargesjanv: '[3]Suivi trésorerie'!$D$40
Name chargesjanv: 'Suivi trésorerie LUBRIFIANTS'!$D$40
Name Chargesjuill: '[3]Suivi trésorerie'!$D$171
Name Chargesjuill: 'Suivi trésorerie LUBRIFIANTS'!$D$171
Name Chargesjuin: '[3]Suivi trésorerie'!$D$154
Name Chargesjuin: 'Suivi trésorerie LUBRIFIANTS'!$D$154
Name Chargesmai: '[3]Suivi trésorerie'!$D$137
Name Chargesmai: 'Suivi trésorerie LUBRIFIANTS'!$D$137
Name Chargesmars: '[3]Suivi trésorerie'!$D$98
Name Chargesmars: 'Suivi trésorerie LUBRIFIANTS'!$D$98
Name Chargesnov: '[3]Suivi trésorerie'!$D$245
Name Chargesnov: 'Suivi trésorerie LUBRIFIANTS'!$D$245
Name Chargesoct: '[3]Suivi trésorerie'!$D$226
Name Chargesoct: 'Suivi trésorerie LUBRIFIANTS'!$D$226
Name Chargessept: '[3]Suivi trésorerie'!$D$207
Name Chargessept: 'Suivi trésorerie LUBRIFIANTS'!$D$207
Name DAOU: '[4]Etat - Dépenses - 2018'!$E$122
Name DAOU: '[4]Etat - Dépenses - 2018'!$E$122
Name DAOU: 'Etat - Dépenses - 2018'!$E$122
Name DAVR: '[4]Etat - Dépenses - 2018'!$E$100
Name DAVR: '[4]Etat - Dépenses - 2018'!$E$100

Sheet Tableau de bord - 2018
K4: 2018
K5: GAZ | AC5: LUBRIFIANT
J6: SUIVI RECETTES | AC6: RECETTES
A7: Menu | E7: 1 | F7: 2 | G7: 3 | H7: 4 | I7: 5 | J7: 6 | K7: 7 | L7: 8 | M7: 9 | N7: 10 | O7: 11 | P7: 12 | X7: 1 | Y7: 2 | Z7: 3 | AA7: 4 | AB7: 5 | AC7: 6 | AD7: 7 | AE7: 8 | AF7: 9 | AG7: 10 | AH7: 11 | AI7: 12
A8: Gestion - Commande GAZ | D8: Prix Oryx | E8: Janvier | F8: Février | G8: Mars | H8: Avril | I8: Mai | J8: Juin | K8: Juillet | L8: Août | M8: Septembre | N8: Octobre | O8: Novembre | P8: Décembre | W8: Prix Oryx | X8: Janvier | Y8: Février | Z8: Mars | AA8: Avril | AB8: Mai | AC8: Juin | AD8: Juillet | AE8: Août | AF8: Septembre | AG8: Octobre | AH8: Novembre | AI8: Décembre
A9: Gestion - Solde | D9: Total recette/Mois | E9: =VLOOKUP(E7,'Gestion - Solde'!$N$8:$O$19,2,0) -> 0 | F9: =VLOOKUP(F7,'Gestion - Solde'!$N$8:$O$19,2,0) -> 0 | G9: =VLOOKUP(G7,'Gestion - Solde'!$N$8:$O$19,2,0) -> 0 | H9: =VLOOKUP(H7,'Gestion - Solde'!$N$8:$O$19,2,0) -> 0 | I9: =VLOOKUP(I7,'Gestion - Solde'!$N$8:$O$19,2,0) -> 0 | J9: =VLOOKUP(J7,'Gestion - Solde'!$N$8:$O$19,2,0) -> 0 | K9: =VLOOKUP(K7,'Gestion - Solde'!$N$8:$O$19,2,0) -> 0 | L9: =VLOOKUP(L7,'Gestion - Solde'!$N$8:$O$19,2,0) -> 0 | ... P9: =VLOOKUP(P7,'Gestion - Solde'!$N$8:$O$19,2,0) -> 0 | T9: Statistiques Annuelles | W9: Total recette/Mois | X9: =VLOOKUP('Tableau de bord - 2018'!X7,'Suivi trésorerie LUBRIFIANTS'!$AE$15:$AF$26,2,0) -> 2000 | Y9: =VLOOKUP('Tableau de bord - 2018'!Y7,'Suivi trésorerie LUBRIFIANTS'!$AE$15:$AF$26,2,0) -> 0 | Z9: =VLOOKUP('Tableau de bord - 2018'!Z7,'Suivi trésorerie LUBRIFIANTS'!$AE$15:$AF$26,2,0) -> 0 | AA9: =VLOOKUP('Tableau de bord - 2018'!AA7,'Suivi trésorerie LUBRIFIANTS'!$AE$15:$AF$26,2,0) -> 0 | AB9: =VLOOKUP('Tableau de bord - 2018'!AB7,'Suivi trésorerie LUBRIFIANTS'!$AE$15:$AF$26,2,0) -> 0 | AC9: =VLOOKUP('Tableau de bord - 2018'!AC7,'Suivi trésorerie LUBRIFIANTS'!$AE$15:$AF$26,2,0) -> 0 | AD9: =VLOOKUP('Tableau de bord - 2018'!AD7,'Suivi trésorerie LUBRIFIANTS'!$AE$15:$AF$26,2,0) -> 0 | AE9: =VLOOKUP('Tableau de bord - 2018'!AE7,'Suivi trésorerie LUBRIFIANTS'!$AE$15:$AF$26,2,0) -> 0 | ... AI9: =VLOOKUP('Tableau de bord - 2018'!AI7,'Suivi trésorerie LUBRIFIANTS'!$AE$15:$AF$26,2,0) -> 0
A10: Suivi - Vente Gaz (Prix Oryx) | T10: Montant recette max
A11: Suivi Vente - LUBRIFIANTS | T11: Montant recette min
A12: Suivi trésorerie LUBRIFIANTS | T12: Montant recette moyen
A13: Mouvements | T13: Montant Total Recette nette
A14: Stocks | T14: Montant Commande max
A15: Etat Dépenses | T15: Montant Commande min
A16: Tableau Comparatif | T16: Montant Commande moyen
A17: Gestion Commande LUBRIFIANTS | T17: Montant Commande Total
T18: Mois/montant recette max
A19: Statistiques Annuelles | T19: Mois/montant recette min
A20: Montant recette max | T20: Nombre total de AXCELLA 400 20W50 API SL 1L
A21: Montant recette min | T21: Nombre total de AXCELLA 400 20W50 API SL 4L
A22: Montant recette moyen | T22: Nombre total de AXCELLA 200 - 50 1L
A23: Montant Total Recette nette | T23: Nombre total de SUPER ZEM 100 1L
A24: Montant Commande max | T24: Nombre total de ENDURO 200 - 50 5L
A25: Montant Commande min | T25: Nombre total de ENDURO 200 - 50 25L
A26: Montant Commande moyen | T26: Nombre total de ENDURO 600 15W40 API CI 4 5L
A27: Montant Commande Total | T27: Nombre total de ENDURO 600SX 10W40 5L
A28: Mois/montant recette max | T28: Nombre total de MATIC PREMIUM (Dexron III)
A29: Mois/montant recette min | E29: 1 | F29: 2 | G29: 3 | H29: 4 | I29: 5 | J29: 6 | K29: 7 | L29: 8 | M29: 9 | N29: 10 | O29: 11 | P29: 12
A30: Nombre total de bouteille de 6 KG
A31: Nombre total de bouteille de 12,5 KG | AC31: DEPENSES
I32: SUIVI DEPENSES MENSULLES | X32: 1 | Y32: 2 | Z32: 3 | AA32: 4 | AB32: 5 | AC32: 6 | AD32: 7 | AE32: 8 | AF32: 9 | AG32: 10 | AH32: 11 | AI32: 12
E33: 1 | F33: 2 | G33: 3 | H33: 4 | I33: 5 | J33: 6 | K33: 7 | L33: 8 | M33: 9 | N33: 10 | O33: 11 | P33: 12 | W33: Mois | X33: Janvier | Y33: Février | Z33: Mars | AA33: Avril | AB33: Mai | AC33: Juin | AD33: Juillet | AE33: Août | AF33: Septembre | AG33: Octobre | AH33: Novembre | AI33: Décembre
D34: Mois | E34: Janvier | F34: Février | G34: Mars | H34: Avril | I34: Mai | J34: Juin | K34: Juillet | L34: Août | M34: Septembre | N34: Octobre | O34: Novembre | P34: Décembre | W34: Dépenses totales | X34: =VLOOKUP(X32,'Suivi trésorerie LUBRIFIANTS'!$AJ$15:$AK$26,2,0) -> 500 | Y34: =VLOOKUP(Y32,'Suivi trésorerie LUBRIFIANTS'!$AJ$15:$AK$26,2,0) -> 0 | Z34: =VLOOKUP(Z32,'Suivi trésorerie LUBRIFIANTS'!$AJ$15:$AK$26,2,0) -> 0 | AA34: =VLOOKUP(AA32,'Suivi trésorerie LUBRIFIANTS'!$AJ$15:$AK$26,2,0) -> 0 | AB34: =VLOOKUP(AB32,'Suivi trésorerie LUBRIFIANTS'!$AJ$15:$AK$26,2,0) -> 0 | AC34: =VLOOKUP(AC32,'Suivi trésorerie LUBRIFIANTS'!$AJ$15:$AK$26,2,0) -> 0 | AD34: =VLOOKUP(AD32,'Suivi trésorerie LUBRIFIANTS'!$AJ$15:$AK$26,2,0) -> 0 | AE34: =VLOOKUP(AE32,'Suivi trésorerie LUBRIFIANTS'!$AJ$15:$AK$26,2,0) -> 0 | ... AI34: =VLOOKUP(AI32,'Suivi trésorerie LUBRIFIANTS'!$AJ$15:$AK$26,2,0) -> 0
D35: Dépenses totales | E35: =VLOOKUP(E33,'Gestion - Solde'!$S$8:$T$19,2,0) -> 0 | F35: =VLOOKUP(F33,'Gestion - Solde'!$S$8:$T$19,2,0) -> 0 | G35: =VLOOKUP(G33,'Gestion - Solde'!$S$8:$T$19,2,0) -> 0 | H35: =VLOOKUP(H33,'Gestion - Solde'!$S$8:$T$19,2,0) -> 0 | I35: =VLOOKUP(I33,'Gestion - Solde'!$S$8:$T$19,2,0) -> 0 | J35: =VLOOKUP(J33,'Gestion - Solde'!$S$8:$T$19,2,0) -> 0 | K35: =VLOOKUP(K33,'Gestion - Solde'!$S$8:$T$19,2,0) -> 0 | L35: =VLOOKUP(L33,'Gestion - Solde'!$S$8:$T$19,2,0) -> 0 | ... P35: =VLOOKUP(P33,'Gestion - Solde'!$S$8:$T$19,2,0) -> 0
B41: Nombre de bouteilles
B42: 6 KG | C42: 12,5 KG
A43: Commande max
A44: Commande min
I48: SUIVI VENTES REELLES MENSUELLES | AC48: VENTES MENSUELLES BRUTES
E49: 1 | F49: 2 | G49: 3 | H49: 4 | I49: 5 | J49: 6 | K49: 7 | L49: 8 | M49: 9 | N49: 10 | O49: 11 | P49: 12 | X49: 1 | Y49: 2 | Z49: 3 | AA49: 4 | AB49: 5 | AC49: 6 | AD49: 7 | AE49: 8 | AF49: 9 | AG49: 10 | AH49: 11 | AI49: 12
D50: Mois | E50: Janvier | F50: Février | G50: Mars | H50: Avril | I50: Mai | J50: Juin | K50: Juillet | L50: Août | M50: Septembre | N50: Octobre | O50: Novembre | P50: Décembre | W50: Mois | X50: Janvier | Y50: Février | Z50: Mars | AA50: Avril | AB50: Mai | AC50: Juin | AD50: Juillet | AE50: Août | AF50: Septembre | AG50: Octobre | AH50: Novembre | AI50: Décembre
D51: Ventes | E51: =VLOOKUP(E49,'Suivi - vente - Gaz - Prix ORYX'!$AF$13:$AG$24,2,0) -> 0 | F51: =VLOOKUP(F49,'Suivi - vente - Gaz - Prix ORYX'!$AF$13:$AG$24,2,0) -> 0 | G51: =VLOOKUP(G49,'Suivi - vente - Gaz - Prix ORYX'!$AF$13:$AG$24,2,0) -> 0 | H51: =VLOOKUP(H49,'Suivi - vente - Gaz - Prix ORYX'!$AF$13:$AG$24,2,0) -> 0 | I51: =VLOOKUP(I49,'Suivi - vente - Gaz - Prix ORYX'!$AF$13:$AG$24,2,0) -> 0 | J51: =VLOOKUP(J49,'Suivi - vente - Gaz - Prix ORYX'!$AF$13:$AG$24,2,0) -> 0 | K51: =VLOOKUP(K49,'Suivi - vente - Gaz - Prix ORYX'!$AF$13:$AG$24,2,0) -> 0 | L51: =VLOOKUP(L49,'Suivi - vente - Gaz - Prix ORYX'!$AF$13:$AG$24,2,0) -> 0 | ... P51: =VLOOKUP(P49,'Suivi - vente - Gaz - Prix ORYX'!$AF$13:$AG$24,2,0) -> 0 | W51: Ventes | X51: =VLOOKUP(X49,'Suivi - vente - LUBRIFIANTS'!$BU$13:$BV$24,2,0) -> 0 | Y51: =VLOOKUP(Y49,'Suivi - vente - LUBRIFIANTS'!$BU$13:$BV$24,2,0) -> 0 | Z51: =VLOOKUP(Z49,'Suivi - vente - LUBRIFIANTS'!$BU$13:$BV$24,2,0) -> 0 | AA51: =VLOOKUP(AA49,'Suivi - vente - LUBRIFIANTS'!$BU$13:$BV$24,2,0) -> 0 | AB51: =VLOOKUP(AB49,'Suivi - vente - LUBRIFIANTS'!$BU$13:$BV$24,2,0) -> 0 | AC51: =VLOOKUP(AC49,'Suivi - vente - LUBRIFIANTS'!$BU$13:$BV$24,2,0) -> 0 | AD51: =VLOOKUP(AD49,'Suivi - vente - LUBRIFIANTS'!$BU$13:$BV$24,2,0) -> 0 | AE51: =VLOOKUP(AE49,'Suivi - vente - LUBRIFIANTS'!$BU$13:$BV$24,2,0) -> 0 | ... AI51: =VLOOKUP(AI49,'Suivi - vente - LUBRIFIANTS'!$BU$13:$BV$24,2,0) -> 0

Sheet Recapitulatif
E3: ETS JEHOVAH TRADING
F5: RECAPITULATIF 2018 | Q5: GAZ
L6: 1 | M6: 2 | N6: 3 | O6: 4 | P6: 5 | Q6: 6 | R6: 7 | S6: 8 | T6: 9 | U6: 10 | V6: 11 | W6: 12
K7: Mois | L7: Janvier | M7: Février | N7: Mars | O7: Avril | P7: Mai | Q7: Juin | R7: Juillet | S7: Août | T7: Septembre | U7: Octobre | V7: Novembre | W7: Décembre
K8: Total marge/Mois | L8: =VLOOKUP(L6,'Suivi - vente - Gaz - Prix ORYX'!$AK$16:$AL$27,2,0) -> 0 | M8: =VLOOKUP(M6,'Suivi - vente - Gaz - Prix ORYX'!$AK$16:$AL$27,2,0) -> 0 | N8: =VLOOKUP(N6,'Suivi - vente - Gaz - Prix ORYX'!$AK$16:$AL$27,2,0) -> 0 | O8: =VLOOKUP(O6,'Suivi - vente - Gaz - Prix ORYX'!$AK$16:$AL$27,2,0) -> 0 | P8: =VLOOKUP(P6,'Suivi - vente - Gaz - Prix ORYX'!$AK$16:$AL$27,2,0) -> 0 | Q8: =VLOOKUP(Q6,'Suivi - vente - Gaz - Prix ORYX'!$AK$16:$AL$27,2,0) -> 0 | R8: =VLOOKUP(R6,'Suivi - vente - Gaz - Prix ORYX'!$AK$16:$AL$27,2,0) -> 0 | S8: =VLOOKUP(S6,'Suivi - vente - Gaz - Prix ORYX'!$AK$16:$AL$27,2,0) -> 0 | ... W8: =VLOOKUP(W6,'Suivi - vente - Gaz - Prix ORYX'!$AK$16:$AL$27,2,0) -> 0
A9: Dates | B9: Nos. | C9: LUBRIFIANTS | D9: GAZ | E9: TOTAL | F9: Totaux mensuels
C11: Janvier
E12: =IF(A12="","",C12+D12)
E13: =IF(A13="","",C13+D13)
E14: =IF(A14="","",C14+D14)
E15: =IF(A15="","",C15+D15)
E16: =IF(A16="","",C16+D16)
E17: =IF(A17="","",C17+D17)
E18: =IF(A18="","",C18+D18)
E19: =IF(A19="","",C19+D19)
E20: =IF(A20="","",C20+D20) | Q20: LUBRIFIANTS
E21: =IF(A21="","",C21+D21) | L21: 1 | M21: 2 | N21: 3 | O21: 4 | P21: 5 | Q21: 6 | R21: 7 | S21: 8 | T21: 9 | U21: 10 | V21: 11 | W21: 12
E22: =IF(A22="","",C22+D22) | K22: Mois | L22: Janvier | M22: Février | N22: Mars | O22: Avril | P22: Mai | Q22: Juin | R22: Juillet | S22: Août | T22: Septembre | U22: Octobre | V22: Novembre | W22: Décembre
E23: =IF(A23="","",C23+D23) | K23: Total marge/Mois | L23: =VLOOKUP(L21,'Suivi - vente - LUBRIFIANTS'!$CB$18:$CC$29,2,0) -> 0 | M23: =VLOOKUP(M21,'Suivi - vente - LUBRIFIANTS'!$CB$18:$CC$29,2,0) -> 0 | N23: =VLOOKUP(N21,'Suivi - vente - LUBRIFIANTS'!$CB$18:$CC$29,2,0) -> 0 | O23: =VLOOKUP(O21,'Suivi - vente - LUBRIFIANTS'!$CB$18:$CC$29,2,0) -> 0 | P23: =VLOOKUP(P21,'Suivi - vente - LUBRIFIANTS'!$CB$18:$CC$29,2,0) -> 0 | Q23: =VLOOKUP(Q21,'Suivi - vente - LUBRIFIANTS'!$CB$18:$CC$29,2,0) -> 0 | R23: =VLOOKUP(R21,'Suivi - vente - LUBRIFIANTS'!$CB$18:$CC$29,2,0) -> 0 | S23: =VLOOKUP(S21,'Suivi - vente - LUBRIFIANTS'!$CB$18:$CC$29,2,0) -> 0 | ... W23: =VLOOKUP(W21,'Suivi - vente - LUBRIFIANTS'!$CB$18:$CC$29,2,0) -> 0
E24: =IF(A24="","",C24+D24)
E25: =IF(A25="","",C25+D25)
E26: =IF(A26="","",C26+D26)
E27: =IF(A27="","",C27+D27)
E28: =IF(A28="","",C28+D28)
E29: =IF(A29="","",C29+D29)
E30: =IF(A30="","",C30+D30)
E31: =IF(A31="","",C31+D31)
E32: =IF(A32="","",C32+D32)
E33: =IF(A33="","",C33+D33)
E34: =IF(A34="","",C34+D34)
E35: =IF(A35="","",C35+D35) | Q35: SUIVI TOTAL MENSUEL
E36: =IF(A36="","",C36+D36) | L36: 1 | M36: 2 | N36: 3 | O36: 4 | P36: 5 | Q36: 6 | R36: 7 | S36: 8 | T36: 9 | U36: 10 | V36: 11 | W36: 12
E37: =IF(A37="","",C37+D37) | K37: Mois | L37: Janvier | M37: Février | N37: Mars | O37: Avril | P37: Mai | Q37: Juin | R37: Juillet | S37: Août | T37: Septembre | U37: Octobre | V37: Novembre | W37: Décembre
E38: =IF(A38="","",C38+D38) | K38: Total Mois | L38: =VLOOKUP(L36,$I$45:$J$56,2,0) -> 0 | M38: =VLOOKUP(M36,$I$45:$J$56,2,0) -> 0 | N38: =VLOOKUP(N36,$I$45:$J$56,2,0) -> 0 | O38: =VLOOKUP(O36,$I$45:$J$56,2,0) -> 0 | P38: =VLOOKUP(P36,$I$45:$J$56,2,0) -> 0 | Q38: =VLOOKUP(Q36,$I$45:$J$56,2,0) -> 0 | R38: =VLOOKUP(R36,$I$45:$J$56,2,0) -> 0 | S38: =VLOOKUP(S36,$I$45:$J$56,2,0) -> 0 | T38: =VLOOKUP(T36,$I$45:$J$56,2,0) -> 0 | U38: g | V38: =VLOOKUP(V36,$I$45:$J$56,2,0) -> 0 | W38: =VLOOKUP(W36,$I$45:$J$56,2,0) -> 0
E39: =IF(A39="","",C39+D39)
E40: =IF(A40="","",C40+D40)
C41: =SUM(C12:C40) -> 0 | D41: =SUM(D12:D40) -> 0 | E41: =SUM(E12:E40) -> 0 | F41: =E41 -> 0
C42: Février | H42: Mois | I42: Nos. | J42: TOTAL
E43: =IF(A43="","",C43+D43)
E44: =IF(A44="","",C44+D44)
...

Sheet Prdts
B1: Recharge de 3 KG
B2: Recharge de 6 KG
B3: Recharge de 12 KG
B4: Brûleur
B5: Racord
B6: Consignation de 3 kg
B7: Consignation de 6 kg
B8: Consignation de 12 KG
B9: Marmite

Sheet Mouvements
A2: Date | B2: Ventes | G2: Approvisionnement
B3: Intitulé de la vente | C3: Qtités | D3: Prix Unit. | E3: Montant | G3: Qtités
E4: =IF(C4="","",D4*C4)
E5: =IF(C5="","",D5*C5)
E6: =IF(C6="","",D6*C6)
E7: =IF(C7="","",D7*C7)
E8: =IF(C8="","",D8*C8)
E9: =IF(C9="","",D9*C9)
E10: =IF(C10="","",D10*C10)
E11: =IF(C11="","",D11*C11)
E12: =IF(C12="","",D12*C12)
E13: =IF(C13="","",D13*C13)
E14: =IF(C14="","",D14*C14)
E15: =IF(C15="","",D15*C15)
G16: 25
G17: 5
G18: 10
G19: 15
E20: =IF(C20="","",D20*C20)
E21: =IF(C21="","",D21*C21)
E22: =IF(C22="","",D22*C22)
E23: =IF(C23="","",D23*C23)
E24: =IF(C24="","",D24*C24)
E25: =IF(C25="","",D25*C25)
E26: =IF(C26="","",D26*C26)
E27: =IF(C27="","",D27*C27)
E28: =IF(C28="","",D28*C28)
E29: =IF(C29="","",D29*C29)
E30: =IF(C30="","",D30*C30)
E31: =IF(C31="","",D31*C31)
... E200: =IF(C200="","",D200*C200)

Sheet Etat - Dépenses - 2018
C6: Etat des dépenses - 2018
A7: (Monnaie : Franc CFA)
A11: Dates | B11: Nos. | C11: Désignation | D11: Montant | E11: Totaux mensuels
C13: Janvier
D43: =SUM(D14:D42) -> 0 | E43: =D43 -> 0
C44: Février
D87: =SUM(D47:D86) -> 0 | E87: =D87 -> 0
C88: Mars
D95: =SUM(D89:D94) -> 0 | E95: =D95 -> 0
C96: Avril
D100: =SUM(D97:D99) -> 0 | E100: =D100 -> 0
C101: Mai
D105: =SUM(D102:D104) -> 0 | E105: =D105 -> 0
C106: Juin
D110: =SUM(D107:D109) -> 0 | E110: =D110 -> 0
C111: Juillet
D116: =SUM(D112:D115) -> 0 | E116: =D116 -> 0
C117: Août
D122: =SUM(D118:D121) -> 0 | E122: =D122 -> 0
C123: Septembre
D128: =SUM(D124:D127) -> 0 | E128: =D128 -> 0
C129: Octobre
D136: =SUM(D130:D135) -> 0 | E136: =D136 -> 0
C137: Novembre
D143: =SUM(D138:D142) -> 0 | E143: =D143 -> 0
C144: Décembre
D149: =SUM(D145:D148) -> 0 | E149: =D149 -> 0
D151: =SUM(D43,D87,D95,D100,D105,D110,D116,D122,D128,D136,D143,D149) -> 0 | E151: =SUM(E43,E87,E95,E100,E105,E110,E116,E122,E128,E136,E143,E149,) -> 0

Sheet Stock
N1: Produits | O1: Catégorie | P1: Stock de sécurité | Q1: Stock Initial | R1: Stock Restant
A2: Angré | B2: COCODY | N2: Recharge de 3 KG | O2: GAZ | P2: 0 | Q2: 0 | R2: =IF(Q2="","",Q2+SUMIF(Mouvements!$B$4:$G$200, N2, Mouvements!$G$4:$G$200)-SUMIF(Mouvements!$B$4:$G$200, N2, Mouvements!$C$4:$C$200)) -> 0
A3: Dokui | B3: COCODY | N3: Recharge de 6 KG | O3: GAZ | P3: 10 | Q3: 71 | R3: =IF(Q3="","",Q3+SUMIF(Mouvements!$B$4:$G$200, N3, Mouvements!$G$4:$G$200)-SUMIF(Mouvements!$B$4:$G$200, N3, Mouvements!$C$4:$C$200)) -> 71
A4: Riviera Palmeraie | B4: COCODY | N4: Recharge de 12 KG | O4: GAZ | P4: 5 | Q4: 20 | R4: =IF(Q4="","",Q4+SUMIF(Mouvements!$B$4:$G$200, N4, Mouvements!$G$4:$G$200)-SUMIF(Mouvements!$B$4:$G$200, N4, Mouvements!$C$4:$C$200)) -> 20
A5: Attoban | B5: MARCORY | N5: Brûleur | O5: Brûleur | P5: 0 | Q5: 6 | R5: =IF(Q5="","",Q5+SUMIF(Mouvements!$B$4:$G$200, N5, Mouvements!$G$4:$G$200)-SUMIF(Mouvements!$B$4:$G$200, N5, Mouvements!$C$4:$C$200)) -> 6
A6: Hibiscuis | B6: MARCORY | N6: Racord | O6: Racord | P6: 0 | Q6: 0 | R6: =IF(Q6="","",Q6+SUMIF(Mouvements!$B$4:$G$200, N6, Mouvements!$G$4:$G$200)-SUMIF(Mouvements!$B$4:$G$200, N6, Mouvements!$C$4:$C$200)) -> 0
A7: Konankro | B7: YOPOUGON | N7: Marmite | O7: support | P7: 2 | Q7: 0 | R7: =IF(Q7="","",Q7+SUMIF(Mouvements!$B$4:$G$200, N7, Mouvements!$G$4:$G$200)-SUMIF(Mouvements!$B$4:$G$200, N7, Mouvements!$C$4:$C$200)) -> 0
A8: Résidentiel | B8: YOPOUGON | R8: =IF(Q8="","",Q8+SUMIF(Mouvements!$B$4:$G$200, N8, Mouvements!$G$4:$G$200)-SUMIF(Mouvements!$B$4:$G$200, N8, Mouvements!$C$4:$C$200))
R9: =IF(Q9="","",Q9+SUMIF(Mouvements!$B$4:$G$200, N9, Mouvements!$G$4:$G$200)-SUMIF(Mouvements!$B$4:$G$200, N9, Mouvements!$C$4:$C$200))
R10: =IF(Q10="","",Q10+SUMIF(Mouvements!$B$4:$G$200, N10, Mouvements!$G$4:$G$200)-SUMIF(Mouvements!$B$4:$G$200, N10, Mouvements!$C$4:$C$200))
R11: =IF(Q11="","",Q11+SUMIF(Mouvements!$B$4:$G$200, N11, Mouvements!$G$4:$G$200)-SUMIF(Mouvements!$B$4:$G$200, N11, Mouvements!$C$4:$C$200))
R12: =IF(Q12="","",Q12+SUMIF(Mouvements!$B$4:$G$200, N12, Mouvements!$G$4:$G$200)-SUMIF(Mouvements!$B$4:$G$200, N12, Mouvements!$C$4:$C$200))
R13: =IF(Q13="","",Q13+SUMIF(Mouvements!$B$4:$G$200, N13, Mouvements!$G$4:$G$200)-SUMIF(Mouvements!$B$4:$G$200, N13, Mouvements!$C$4:$C$200))
R14: =IF(Q14="","",Q14+SUMIF(Mouvements!$B$4:$G$200, N14, Mouvements!$G$4:$G$200)-SUMIF(Mouvements!$B$4:$G$200, N14, Mouvements!$C$4:$C$200))
R15: =IF(Q15="","",Q15+SUMIF(Mouvements!$B$4:$G$200, N15, Mouvements!$G$4:$G$200)-SUMIF(Mouvements!$B$4:$G$200, N15, Mouvements!$C$4:$C$200))
R16: =IF(Q16="","",Q16+SUMIF(Mouvements!$B$4:$G$200, N16, Mouvements!$G$4:$G$200)-SUMIF(Mouvements!$B$4:$G$200, N16, Mouvements!$C$4:$C$200))
R17: =IF(Q17="","",Q17+SUMIF(Mouvements!$B$4:$G$200, N17, Mouvements!$G$4:$G$200)-SUMIF(Mouvements!$B$4:$G$200, N17, Mouvements!$C$4:$C$200))
R18: =IF(Q18="","",Q18+SUMIF(Mouvements!$B$4:$G$200, N18, Mouvements!$G$4:$G$200)-SUMIF(Mouvements!$B$4:$G$200, N18, Mouvements!$C$4:$C$200))
R19: =IF(Q19="","",Q19+SUMIF(Mouvements!$B$4:$G$200, N19, Mouvements!$G$4:$G$200)-SUMIF(Mouvements!$B$4:$G$200, N19, Mouvements!$C$4:$C$200))
R20: =IF(Q20="","",Q20+SUMIF(Mouvements!$B$4:$G$200, N20, Mouvements!$G$4:$G$200)-SUMIF(Mouvements!$B$4:$G$200, N20, Mouvements!$C$4:$C$200))
... R67: =IF(Q67="","",Q67+SUMIF(Mouvements!$B$4:$G$200, N67, Mouvements!$G$4:$G$200)-SUMIF(Mouvements!$B$4:$G$200, N67, Mouvements!$C$4:$C$200))

Sheet Gestion - Solde
M3: Tableau des recettes mensuelles | R3: Tableau des dépenses mensuelles
B5: Date | C5: Intitulé de l'opération | D5: Dépenses | E5: Recettes | F5: Solde cumulé | G5: Remarque | M5: Mois | N5: Nos. | O5: Montant | R5: Mois | S5: Nos. | T5: Montant
C7: Solde Initial | E7: 0 | F7: =E7-D7 -> 0
B8: 1.10.2018 | C8: Ventes et recharges de gaz Oryx | E8: 15475 | F8: =IF(C8="","",F7+E8-D8) -> 15475 | M8: Janvier | N8: 1 | O8: =recf -> 0 | R8: Janvier | S8: 1 | T8: =DJANV -> 0
B9: 3.10.2018 | C9: Ventes et recharges de gaz Oryx | E9: 7850 | F9: =IF(C9="","",F8+E9-D9) -> 23325 | M9: Février | N9: =N8+1 -> 2 | O9: =recj -> 0 | R9: Février | S9: =S8+1 -> 2 | T9: =DFEV -> 0
B10: 5.10.2018 | C10: Ventes et recharges de gaz Oryx | E10: 10400 | F10: =IF(C10="","",F9+E10-D10) -> 33725 | M10: Mars | N10: =N9+1 -> 3 | O10: =recm -> 0 | R10: Mars | S10: =S9+1 -> 3 | T10: =DMAR -> 0
B11: 8.10.2018 | C11: Ventes et recharges de gaz Oryx | E11: 17275 | F11: =IF(C11="","",F10+E11-D11) -> 51000 | M11: Avril | N11: =N10+1 -> 4 | O11: =reca -> 0 | R11: Avril | S11: =S10+1 -> 4 | T11: =DAVR -> 0
F12: =IF(C12="","",F11+E12-D12) | M12: Mai | N12: =N11+1 -> 5 | O12: =recma -> 0 | R12: Mai | S12: =S11+1 -> 5 | T12: =DMAI -> 0
F13: =IF(C13="","",F12+E13-D13) | I13: SOLDE | J13: =J15-J17 -> 51000 | K13: Remarque | M13: Juin | N13: =N12+1 -> 6 | O13: =recju -> 0 | R13: Juin | S13: =S12+1 -> 6 | T13: =DJUI -> 0
F14: =IF(C14="","",F13+E14-D14) | M14: Juillet | N14: =N13+1 -> 7 | O14: =recjui -> 0 | R14: Juillet | S14: =S13+1 -> 7 | T14: =DJUIL -> 0
F15: =IF(C15="","",F14+E15-D15) | I15: RECETTES | J15: =SUM(RECETTES) -> 51000 | M15: Août | N15: =N14+1 -> 8 | O15: =recao -> 0 | R15: Août | S15: =S14+1 -> 8 | T15: =DAOU -> 0
F16: =IF(C16="","",F15+E16-D16) | M16: Septembre | N16: =N15+1 -> 9 | O16: =recse -> 0 | R16: Septembre | S16: =S15+1 -> 9 | T16: =DSEPT -> 0
F17: =IF(C17="","",F16+E17-D17) | I17: DEPENSES | J17: =SUM(DEPENSES) -> 0 | M17: Octobre | N17: =N16+1 -> 10 | O17: =recoc -> 51000 | R17: Octobre | S17: =S16+1 -> 10 | T17: =DOCT -> 0
F18: =IF(C18="","",F17+E18-D18) | M18: Novembre | N18: =N17+1 -> 11 | O18: =recno -> 0 | R18: Novembre | S18: =S17+1 -> 11 | T18: =DNOV -> 0
F19: =IF(C19="","",F18+E19-D19) | M19: Décembre | N19: 12 | O19: =recdec -> 0 | R19: Décembre | S19: 12 | T19: =DDEC -> 0
F20: =IF(C20="","",F19+E20-D20) | M20: Total | O20: =SUM(O8:O19) -> 51000 | R20: Total | T20: =SUM(T8:T19) -> 0
F21: =IF(C21="","",F20+E21-D21)
F22: =IF(C22="","",F21+E22-D22) | P22: =IF(M22="","",P20+O22-N22)
F23: =IF(C23="","",F22+E23-D23)
F24: =IF(C24="","",F23+E24-D24)
F25: =IF(C25="","",F24+E25-D25)
F26: =IF(C26="","",F25+E26-D26)
F27: =IF(C27="","",F26+E27-D27)
F28: =IF(C28="","",F27+E28-D28)
F29: =IF(C29="","",F28+E29-D29)
F30: =IF(C30="","",F29+E30-D30)
F31: =IF(C31="","",F30+E31-D31)
F32: =IF(C32="","",F31+E32-D32)
F33: =IF(C33="","",F32+E33-D33)
F34: =IF(C34="","",F33+E34-D34)
... F188: =IF(C188="","",F187+E188-D188)

Sheet Liste
B5: Ventes de brûleur
B6: Ventes et recharges de gaz Oryx
B7: Frais de déplacement
B8: Achat d'enveloppe
B9: Payement de facture d'électricité
B10: Photocopie de la fiche de commande de Gaz GPL

Sheet Tableau - Comparatif
I4: Monnaie : Franc CFA
B7: 2018 | H7: 2019 | N7: Ecarts
B8: Charges (dépenses quotidiennes) | C8: Produits ( Recettes brutes) | D8: Solde (Recettes Nettes) | E8: Versements | F8: Total | H8: Charges (dépenses quotidiennes) | I8: Produits ( Recettes brutes) | J8: Solde (Recettes Nettes) | K8: Versements | L8: Total | N8: Charges | O8: Produits | P8: Solde | Q8: Versements | R8: Remarque
A10: Janvier | B10: =DJANV -> 0 | C10: =recf -> 0 | D10: =IF(C10="","",C10-B10) -> 0 | J10: =IF(I10="","",I10-H10) | N10: =IF(H10="","",IF(B10="","",H10-B10)) | O10: =IF(I10="","",IF(C10="","",I10-C10)) | P10: =IF(J10="","",IF(D10="","",J10-D10)) | Q10: =IF(K10="","",IF(E10="","",K10-E10))
A11: Février | B11: =DFEV -> 0 | C11: =recj -> 0 | D11: =IF(C11="","",C11-B11) -> 0 | J11: =IF(I11="","",I11-H11) | N11: =IF(H11="","",IF(B11="","",H11-B11)) | O11: =IF(I11="","",IF(C11="","",I11-C11)) | P11: =IF(J11="","",IF(D11="","",J11-D11)) | Q11: =IF(K11="","",IF(E11="","",K11-E11))
A12: Mars | B12: =DMAR -> 0 | C12: =recm -> 0 | D12: =IF(C12="","",C12-B12) -> 0 | J12: =IF(I12="","",I12-H12) | N12: =IF(H12="","",IF(B12="","",H12-B12)) | O12: =IF(I12="","",IF(C12="","",I12-C12)) | P12: =IF(J12="","",IF(D12="","",J12-D12)) | Q12: =IF(K12="","",IF(E12="","",K12-E12))
A13: Avril | B13: =DAVR -> 0 | C13: =reca -> 0 | D13: =IF(C13="","",C13-B13) -> 0 | J13: =IF(I13="","",I13-H13) | N13: =IF(H13="","",IF(B13="","",H13-B13)) | O13: =IF(I13="","",IF(C13="","",I13-C13)) | P13: =IF(J13="","",IF(D13="","",J13-D13)) | Q13: =IF(K13="","",IF(E13="","",K13-E13))
A14: Mai | B14: =DMAI -> 0 | C14: =recma -> 0 | D14: =IF(C14="","",C14-B14) -> 0 | J14: =IF(I14="","",I14-H14) | N14: =IF(H14="","",IF(B14="","",H14-B14)) | O14: =IF(I14="","",IF(C14="","",I14-C14)) | P14: =IF(J14="","",IF(D14="","",J14-D14)) | Q14: =IF(K14="","",IF(E14="","",K14-E14))
A15: Juin | B15: =DJUI -> 0 | C15: =recju -> 0 | D15: =IF(C15="","",C15-B15) -> 0 | J15: =IF(I15="","",I15-H15) | N15: =IF(H15="","",IF(B15="","",H15-B15)) | O15: =IF(I15="","",IF(C15="","",I15-C15)) | P15: =IF(J15="","",IF(D15="","",J15-D15)) | Q15: =IF(K15="","",IF(E15="","",K15-E15))
A16: Juillet | B16: =DJUIL -> 0 | C16: =recjui -> 0 | D16: =IF(C16="","",C16-B16) -> 0 | J16: =IF(I16="","",I16-H16) | N16: =IF(H16="","",IF(B16="","",H16-B16)) | O16: =IF(I16="","",IF(C16="","",I16-C16)) | P16: =IF(J16="","",IF(D16="","",J16-D16)) | Q16: =IF(K16="","",IF(E16="","",K16-E16))
A17: Août | B17: =DAOU -> 0 | C17: =recao -> 0 | D17: =IF(C17="","",C17-B17) -> 0 | J17: =IF(I17="","",I17-H17) | N17: =IF(H17="","",IF(B17="","",H17-B17)) | O17: =IF(I17="","",IF(C17="","",I17-C17)) | P17: =IF(J17="","",IF(D17="","",J17-D17)) | Q17: =IF(K17="","",IF(E17="","",K17-E17))
A18: Septembre | B18: =DSEPT -> 0 | C18: =recse -> 0 | D18: =IF(C18="","",C18-B18) -> 0 | J18: =IF(I18="","",I18-H18) | N18: =IF(H18="","",IF(B18="","",H18-B18)) | O18: =IF(I18="","",IF(C18="","",I18-C18)) | P18: =IF(J18="","",IF(D18="","",J18-D18)) | Q18: =IF(K18="","",IF(E18="","",K18-E18))
A19: Octobre | B19: =DOCT -> 0 | C19: =recoc -> 51000 | D19: =IF(C19="","",C19-B19) -> 51000 | J19: =IF(I19="","",I19-H19) | N19: =IF(H19="","",IF(B19="","",H19-B19)) | O19: =IF(I19="","",IF(C19="","",I19-C19)) | P19: =IF(J19="","",IF(D19="","",J19-D19)) | Q19: =IF(K19="","",IF(E19="","",K19-E19))
A20: Novembre | B20: =DNOV -> 0 | C20: =recno -> 0 | D20: =IF(C20="","",C20-B20) -> 0 | J20: =IF(I20="","",I20-H20) | N20: =IF(H20="","",IF(B20="","",H20-B20)) | O20: =IF(I20="","",IF(C20="","",I20-C20)) | P20: =IF(J20="","",IF(D20="","",J20-D20)) | Q20: =IF(K20="","",IF(E20="","",K20-E20))
A21: Décembre | B21: =DDEC -> 0 | C21: =recdec -> 0 | D21: =IF(C21="","",C21-B21) -> 0 | J21: =IF(I21="","",I21-H21) | N21: =IF(H21="","",IF(B21="","",H21-B21)) | O21: =IF(I21="","",IF(C21="","",I21-C21)) | P21: =IF(J21="","",IF(D21="","",J21-D21)) | Q21: =IF(K21="","",IF(E21="","",K21-E21))
A23: Total/Annuel | B23: =SUM(B10:B21) -> 0 | C23: =SUM(C10:C21) -> 51000 | D23: =SUM(D10:D21) -> 51000 | E23: =SUM(E10:E21) -> 0 | F23: =D23 -> 51000 | H23: =SUM(H10:H21) -> 0 | I23: =SUM(I10:I21) -> 0 | J23: =SUM(J10:J21) -> 0 | K23: =SUM(K10:K21) -> 0 | L23: =J23 -> 0 | N23: =IF(H23=0,"",H23-B23) | O23: =IF(I23=0,"",I23-C23) | P23: =IF(J23=0,"",J23-D23) | Q23: =IF(K23=0,"",K23-E23)

Sheet Gest. - Comm. - ORYX 2
B1: Le Label International
C6: N° Client : 414052 | T6: Contact : 64 93 03 10 | AF6: N° de compte ORYX : 30087980000
P9: RECHARGE GPL | X9: CONSIGNATION
B10: Date | C10: N° commande | D10: Commande effectuée par | E10: Commande éffectuée? | F10: Nbre | G10: Montant disponible | H10: Recette | I10: N° facture | J10: N° Bord. De Liv. | L10: 3 KG | P10: 6 KG | T10: 12,5 KG | X10: 3 KG | AB10: 6 KG | AF10: 12,5 KG | AJ10: Total Commande | AK10: Timbre | AL10: Total Général | AM10: Référence/Fiche de versement | AN10: Remarque
L11: Quantité commandée | M11: Prix | N11: Montant | P11: Quantité commandée | Q11: Prix | R11: Montant | T11: Quantité commandée | U11: Prix | V11: Montant | X11: Quantité consignée | Y11: Prix | Z11: Montant | AB11: Quantité consignée | AC11: Prix | AD11: Montant | AF11: Quantité consignée | AG11: Prix | AH11: Montant
C13: Janvier
H14: =IF(G14="","",G14-AL14) | N14: =IF(L14="","",L14*M14) | R14: =IF(P14="","",Q14*P14) | V14: =IF(T14="","",U14*T14) | Z14: =IF(X14="","",Y14*X14) | AD14: =IF(AB14="","",AC14*AB14) | AH14: =IF(AF14="","",AG14*AF14) | AJ14: =IF(B14="","",R14+V14+Z14+AH14+N14+AD14) | AL14: =IF(AJ14="","",AJ14+AK14)
F15: =IF(E15="","",IF(E15="Oui",1,0)) | H15: =IF(G15="","",G15-AL15) | N15: =IF(L15="","",L15*M15) | R15: =IF(P15="","",Q15*P15) | V15: =IF(T15="","",U15*T15) | Z15: =IF(X15="","",Y15*X15) | AD15: =IF(AB15="","",AC15*AB15) | AH15: =IF(AF15="","",AG15*AF15) | AJ15: =IF(B15="","",R15+V15+Z15+AH15+N15+AD15) | AL15: =IF(AJ15="","",AJ15+AK15)
F16: =IF(E16="","",IF(E16="Oui",1,0)) | H16: =IF(G16="","",G16-AL16) | N16: =IF(L16="","",L16*M16) | R16: =IF(P16="","",Q16*P16) | V16: =IF(T16="","",U16*T16) | Z16: =IF(X16="","",Y16*X16) | AD16: =IF(AB16="","",AC16*AB16) | AH16: =IF(AF16="","",AG16*AF16) | AJ16: =IF(B16="","",R16+V16+Z16+AH16+N16+AD16) | AL16: =IF(AJ16="","",AJ16+AK16)
F17: =IF(E17="","",IF(E17="Oui",1,0)) | H17: =IF(G17="","",G17-AL17) | N17: =IF(L17="","",L17*M17) | R17: =IF(P17="","",Q17*P17) | V17: =IF(T17="","",U17*T17) | Z17: =IF(X17="","",Y17*X17) | AD17: =IF(AB17="","",AC17*AB17) | AH17: =IF(AF17="","",AG17*AF17) | AJ17: =IF(B17="","",R17+V17+Z17+AH17+N17+AD17) | AL17: =IF(AJ17="","",AJ17+AK17)
F18: =IF(E18="","",IF(E18="Oui",1,0)) | H18: =IF(G18="","",G18-AL18) | N18: =IF(L18="","",L18*M18) | R18: =IF(P18="","",Q18*P18) | V18: =IF(T18="","",U18*T18) | Z18: =IF(X18="","",Y18*X18) | AD18: =IF(AB18="","",AC18*AB18) | AH18: =IF(AF18="","",AG18*AF18) | AJ18: =IF(B18="","",R18+V18+Z18+AH18+N18+AD18) | AL18: =IF(AJ18="","",AJ18+AK18)
F19: =IF(E19="","",IF(E19="Oui",1,0)) | H19: =IF(G19="","",G19-AL19) | N19: =IF(L19="","",L19*M19) | R19: =IF(P19="","",Q19*P19) | V19: =IF(T19="","",U19*T19) | Z19: =IF(X19="","",Y19*X19) | AD19: =IF(AB19="","",AC19*AB19) | AH19: =IF(AF19="","",AG19*AF19) | AJ19: =IF(B19="","",R19+V19+Z19+AH19+N19+AD19) | AL19: =IF(AJ19="","",AJ19+AK19)
F20: =IF(E20="","",IF(E20="Oui",1,0)) | H20: =IF(G20="","",G20-AL20) | N20: =IF(L20="","",L20*M20) | R20: =IF(P20="","",Q20*P20) | V20: =IF(T20="","",U20*T20) | Z20: =IF(X20="","",Y20*X20) | AD20: =IF(AB20="","",AC20*AB20) | AH20: =IF(AF20="","",AG20*AF20) | AJ20: =IF(B20="","",R20+V20+Z20+AH20+N20+AD20) | AL20: =IF(AJ20="","",AJ20+AK20)
F21: =IF(E21="","",IF(E21="Oui",1,0)) | H21: =IF(G21="","",G21-AL21) | N21: =IF(L21="","",L21*M21) | R21: =IF(P21="","",Q21*P21) | V21: =IF(T21="","",U21*T21) | Z21: =IF(X21="","",Y21*X21) | AD21: =IF(AB21="","",AC21*AB21) | AH21: =IF(AF21="","",AG21*AF21) | AJ21: =IF(B21="","",R21+V21+Z21+AH21+N21+AD21) | AL21: =IF(AJ21="","",AJ21+AK21)
F22: =IF(E22="","",IF(E22="Oui",1,0)) | H22: =IF(G22="","",G22-AL22) | N22: =IF(L22="","",L22*M22) | R22: =IF(P22="","",Q22*P22) | V22: =IF(T22="","",U22*T22) | Z22: =IF(X22="","",Y22*X22) | AD22: =IF(AB22="","",AC22*AB22) | AH22: =IF(AF22="","",AG22*AF22) | AJ22: =IF(B22="","",R22+V22+Z22+AH22+N22+AD22) | AL22: =IF(AJ22="","",AJ22+AK22)
F23: =IF(E23="","",IF(E23="Oui",1,0)) | H23: =IF(G23="","",G23-AL23) | N23: =IF(L23="","",L23*M23) | R23: =IF(P23="","",Q23*P23) | V23: =IF(T23="","",U23*T23) | Z23: =IF(X23="","",Y23*X23) | AD23: =IF(AB23="","",AC23*AB23) | AH23: =IF(AF23="","",AG23*AF23) | AJ23: =IF(B23="","",R23+V23+Z23+AH23+N23+AD23) | AL23: =IF(AJ23="","",AJ23+AK23)
F24: =IF(E24="","",IF(E24="Oui",1,0)) | H24: =IF(G24="","",G24-AL24) | N24: =IF(L24="","",L24*M24) | R24: =IF(P24="","",Q24*P24) | V24: =IF(T24="","",U24*T24) | Z24: =IF(X24="","",Y24*X24) | AD24: =IF(AB24="","",AC24*AB24) | AH24: =IF(AF24="","",AG24*AF24) | AJ24: =IF(B24="","",R24+V24+Z24+AH24+N24+AD24) | AL24: =IF(AJ24="","",AJ24+AK24)
F25: =IF(E25="","",IF(E25="Oui",1,0)) | H25: =IF(G25="","",G25-AL25) | N25: =IF(L25="","",L25*M25) | R25: =IF(P25="","",Q25*P25) | V25: =IF(T25="","",U25*T25) | Z25: =IF(X25="","",Y25*X25) | AD25: =IF(AB25="","",AC25*AB25) | AH25: =IF(AF25="","",AG25*AF25) | AJ25: =IF(B25="","",R25+V25+Z25+AH25+N25+AD25) | AL25: =IF(AJ25="","",AJ25+AK25)
F26: =IF(E26="","",IF(E26="Oui",1,0)) | H26: =IF(G26="","",G26-AL26) | N26: =IF(L26="","",L26*M26) | R26: =IF(P26="","",Q26*P26) | V26: =IF(T26="","",U26*T26) | Z26: =IF(X26="","",Y26*X26) | AD26: =IF(AB26="","",AC26*AB26) | AH26: =IF(AF26="","",AG26*AF26) | AJ26: =IF(B26="","",R26+V26+Z26+AH26+N26+AD26) | AL26: =IF(AJ26="","",AJ26+AK26)
F27: =SUM(F14:F26) -> 0 | H27: =SUM(H14:H26) -> 0 | L27: =SUM(L14:L26) -> 0 | P27: =SUM(P14:P26) -> 0 | T27: =SUM(T14:T26) -> 0 | AL27: =SUM(AL14:AL26) -> 0
C28: Février
F29: =IF(E29="","",IF(E29="Oui",1,0)) | H29: =IF(G29="","",G29-AL29) | N29: =IF(L29="","",L29*M29) | R29: =IF(P29="","",Q29*P29) | V29: =IF(T29="","",U29*T29) | Z29: =IF(X29="","",Y29*X29) | AD29: =IF(AB29="","",AC29*AB29) | AH29: =IF(AF29="","",AG29*AF29) | AJ29: =IF(B29="","",R29+V29+Z29+AH29+N29+AD29) | AL29: =IF(AJ29="","",AJ29+AK29)
H30: =IF(G30="","",G30-AL30) | N30: =IF(L30="","",L30*M30) | R30: =IF(P30="","",Q30*P30) | V30: =IF(T30="","",U30*T30) | Z30: =IF(X30="","",Y30*X30) | AD30: =IF(AB30="","",AC30*AB30) | AH30: =IF(AF30="","",AG30*AF30) | AJ30: =IF(B30="","",R30+V30+Z30+AH30+N30+AD30) | AL30: =IF(AJ30="","",AJ30+AK30)
H31: =IF(G31="","",G31-AL31) | N31: =IF(L31="","",L31*M31) | R31: =IF(P31="","",Q31*P31) | V31: =IF(T31="","",U31*T31) | Z31: =IF(X31="","",Y31*X31) | AD31: =IF(AB31="","",AC31*AB31) | AH31: =IF(AF31="","",AG31*AF31) | AJ31: =IF(B31="","",R31+V31+Z31+AH31+N31+AD31) | AL31: =IF(AJ31="","",AJ31+AK31)
H32: =IF(G32="","",G32-AL32) | N32: =IF(L32="","",L32*M32) | R32: =IF(P32="","",Q32*P32) | V32: =IF(T32="","",U32*T32) | Z32: =IF(X32="","",Y32*X32) | AD32: =IF(AB32="","",AC32*AB32) | AH32: =IF(AF32="","",AG32*AF32) | AJ32: =IF(B32="","",R32+V32+Z32+AH32+N32+AD32) | AL32: =IF(AJ32="","",AJ32+AK32)
F33: =IF(E33="","",IF(E33="Oui",1,0)) | H33: =IF(G33="","",G33-AL33) | N33: =IF(L33="","",L33*M33) | R33: =IF(P33="","",Q33*P33) | V33: =IF(T33="","",U33*T33) | Z33: =IF(X33="","",Y33*X33) | AD33: =IF(AB33="","",AC33*AB33) | AH33: =IF(AF33="","",AG33*AF33) | AJ33: =IF(B33="","",R33+V33+Z33+AH33+N33+AD33) | AL33: =IF(AJ33="","",AJ33+AK33)
F34: =IF(E34="","",IF(E34="Oui",1,0)) | H34: =IF(G34="","",G34-AL34) | N34: =IF(L34="","",L34*M34) | R34: =IF(P34="","",Q34*P34) | V34: =IF(T34="","",U34*T34) | Z34: =IF(X34="","",Y34*X34) | AD34: =IF(AB34="","",AC34*AB34) | AH34: =IF(AF34="","",AG34*AF34) | AJ34: =IF(B34="","",R34+V34+Z34+AH34+N34+AD34) | AL34: =IF(AJ34="","",AJ34+AK34)
F35: =IF(E35="","",IF(E35="Oui",1,0)) | H35: =IF(G35="","",G35-AL35) | N35: =IF(L35="","",L35*M35) | R35: =IF(P35="","",Q35*P35) | V35: =IF(T35="","",U35*T35) | Z35: =IF(X35="","",Y35*X35) | AD35: =IF(AB35="","",AC35*AB35) | AH35: =IF(AF35="","",AG35*AF35) | AJ35: =IF(B35="","",R35+V35+Z35+AH35+N35+AD35) | AL35: =IF(AJ35="","",AJ35+AK35)
F36: =IF(E36="","",IF(E36="Oui",1,0)) | H36: =IF(G36="","",G36-AL36) | N36: =IF(L36="","",L36*M36) | R36: =IF(P36="","",Q36*P36) | V36: =IF(T36="","",U36*T36) | Z36: =IF(X36="","",Y36*X36) | AD36: =IF(AB36="","",AC36*AB36) | AH36: =IF(AF36="","",AG36*AF36) | AJ36: =IF(B36="","",R36+V36+Z36+AH36+N36+AD36) | AL36: =IF(AJ36="","",AJ36+AK36)
F37: =IF(E37="","",IF(E37="Oui",1,0)) | H37: =IF(G37="","",G37-AL37) | N37: =IF(L37="","",L37*M37) | R37: =IF(P37="","",Q37*P37) | V37: =IF(T37="","",U37*T37) | Z37: =IF(X37="","",Y37*X37) | AD37: =IF(AB37="","",AC37*AB37) | AH37: =IF(AF37="","",AG37*AF37) | AJ37: =IF(B37="","",R37+V37+Z37+AH37+N37+AD37) | AL37: =IF(AJ37="","",AJ37+AK37)
F38: =IF(E38="","",IF(E38="Oui",1,0)) | H38: =IF(G38="","",G38-AL38) | N38: =IF(L38="","",L38*M38) | R38: =IF(P38="","",Q38*P38) | V38: =IF(T38="","",U38*T38) | Z38: =IF(X38="","",Y38*X38) | AD38: =IF(AB38="","",AC38*AB38) | AH38: =IF(AF38="","",AG38*AF38) | AJ38: =IF(B38="","",R38+V38+Z38+AH38+N38+AD38) | AL38: =IF(AJ38="","",AJ38+AK38)
F39: =IF(E39="","",IF(E39="Oui",1,0)) | H39: =IF(G39="","",G39-AL39) | N39: =IF(L39="","",L39*M39) | R39: =IF(P39="","",Q39*P39) | V39: =IF(T39="","",U39*T39) | Z39: =IF(X39="","",Y39*X39) | AD39: =IF(AB39="","",AC39*AB39) | AH39: =IF(AF39="","",AG39*AF39) | AJ39: =IF(B39="","",R39+V39+Z39+AH39+N39+AD39) | AL39: =IF(AJ39="","",AJ39+AK39)
F40: =IF(E40="","",IF(E40="Oui",1,0)) | H40: =IF(G40="","",G40-AL40) | N40: =IF(L40="","",L40*M40) | R40: =IF(P40="","",Q40*P40) | V40: =IF(T40="","",U40*T40) | Z40: =IF(X40="","",Y40*X40) | AD40: =IF(AB40="","",AC40*AB40) | AH40: =IF(AF40="","",AG40*AF40) | AJ40: =IF(B40="","",R40+V40+Z40+AH40+N40+AD40) | AL40: =IF(AJ40="","",AJ40+AK40)
F41: =IF(E41="","",IF(E41="Oui",1,0)) | H41: =IF(G41="","",G41-AL41) | N41: =IF(L41="","",L41*M41) | R41: =IF(P41="","",Q41*P41) | V41: =IF(T41="","",U41*T41) | Z41: =IF(X41="","",Y41*X41) | AD41: =IF(AB41="","",AC41*AB41) | AH41: =IF(AF41="","",AG41*AF41) | AJ41: =IF(B41="","",R41+V41+Z41+AH41+N41+AD41) | AL41: =IF(AJ41="","",AJ41+AK41)
F42: =IF(E42="","",IF(E42="Oui",1,0)) | H42: =IF(G42="","",G42-AL42) | N42: =IF(L42="","",L42*M42) | R42: =IF(P42="","",Q42*P42) | V42: =IF(T42="","",U42*T42) | Z42: =IF(X42="","",Y42*X42) | AD42: =IF(AB42="","",AC42*AB42) | AH42: =IF(AF42="","",AG42*AF42) | AJ42: =IF(B42="","",R42+V42+Z42+AH42+N42+AD42) | AL42: =IF(AJ42="","",AJ42+AK42)
F43: =SUM(F29:F42) -> 0 | H43: =SUM(H29:H42) -> 0 | L43: =SUM(L29:L42) -> 0 | P43: =SUM(P29:P42) -> 0 | T43: =SUM(T29:T42) -> 0 | AL43: =SUM(AL29:AL42) -> 0
C44: Mars
F45: =IF(E45="","",IF(E45="Oui",1,0)) | H45: =IF(G45="","",G45-AL45) | N45: =IF(L45="","",L45*M45) | R45: =IF(P45="","",Q45*P45) | V45: =IF(T45="","",U45*T45) | Z45: =IF(X45="","",Y45*X45) | AD45: =IF(AB45="","",AC45*AB45) | AH45: =IF(AF45="","",AG45*AF45) | AJ45: =IF(B45="","",R45+V45+Z45+AH45+N45+AD45) | AL45: =IF(AJ45="","",AJ45+AK45)
F46: =IF(E46="","",IF(E46="Oui",1,0)) | H46: =IF(G46="","",G46-AL46) | N46: =IF(L46="","",L46*M46) | R46: =IF(P46="","",Q46*P46) | V46: =IF(T46="","",U46*T46) | Z46: =IF(X46="","",Y46*X46) | AD46: =IF(AB46="","",AC46*AB46) | AH46: =IF(AF46="","",AG46*AF46) | AJ46: =IF(B46="","",R46+V46+Z46+AH46+N46+AD46) | AL46: =IF(AJ46="","",AJ46+AK46)
F47: =IF(E47="","",IF(E47="Oui",1,0)) | H47: =IF(G47="","",G47-AL47) | N47: =IF(L47="","",L47*M47) | R47: =IF(P47="","",Q47*P47) | V47: =IF(T47="","",U47*T47) | Z47: =IF(X47="","",Y47*X47) | AD47: =IF(AB47="","",AC47*AB47) | AH47: =IF(AF47="","",AG47*AF47) | AJ47: =IF(B47="","",R47+V47+Z47+AH47+N47+AD47) | AL47: =IF(AJ47="","",AJ47+AK47)
...

Sheet Suivi - vente - Gaz - Prix ORYX
S6: Suivi - Général - Vente - Gaz - Autres - 2018
A7: (Monnaie : Franc CFA)
D10: 6 KG | K10: 12,5 KG | R10: AUTRES | Z10: TOTAL | AA10: TOTAL MARGE | AB10: Totaux Mensuels
A11: Dates | B11: Nos. | D11: Quantité | E11: Prix | F11: Montant | G11: Prix achat | H11: Montant | I11: Marge | K11: Quantité | L11: Prix | M11: Montant | N11: Prix achat | O11: Montant | P11: Marge | R11: Quantité | S11: Désignation | T11: Prix | U11: Montant | V11: Prix achat | W11: Montant | X11: Marge | AE11: Mois | AF11: Nos. | AG11: Montant
AK12: SUIVI MARGE
D13: Janvier | AE13: Janvier | AF13: 1 | AG13: =venja -> 0 | AJ13: Mois | AK13: Nos. | AL13: Montant
F14: =IF(D14="","",D14*E14) | H14: =IF(A14="","",G14*D14) | I14: =IF(A14="","",F14-H14) | M14: =IF(K14="","",K14*L14) | O14: =IF(A14="","",N14*K14) | P14: =IF(A14="","",M14-O14) | U14: =IF(R14="","",R14*T14) | W14: =IF(R14="","",V14*R14) | X14: =IF(A14="","",U14-W14) | Z14: =IF(F14="","",F14+M14+U14) | AA14: =IF(A14="","",I14+P14+X14) | AE14: Février | AF14: =AF13+1 -> 2 | AG14: =venfe -> 0
F15: =IF(D15="","",D15*E15) | H15: =IF(A15="","",G15*D15) | I15: =IF(A15="","",F15-H15) | M15: =IF(K15="","",K15*L15) | O15: =IF(A15="","",N15*K15) | P15: =IF(A15="","",M15-O15) | U15: =IF(R15="","",R15*T15) | W15: =IF(R15="","",V15*R15) | X15: =IF(A15="","",U15-W15) | Z15: =IF(F15="","",F15+M15+U15) | AA15: =IF(A15="","",I15+P15+X15) | AE15: Mars | AF15: =AF14+1 -> 3 | AG15: =venma -> 0
F16: =IF(D16="","",D16*E16) | H16: =IF(A16="","",G16*D16) | I16: =IF(A16="","",F16-H16) | M16: =IF(K16="","",K16*L16) | O16: =IF(A16="","",N16*K16) | P16: =IF(A16="","",M16-O16) | U16: =IF(R16="","",R16*T16) | W16: =IF(R16="","",V16*R16) | X16: =IF(A16="","",U16-W16) | Z16: =IF(F16="","",F16+M16+U16) | AA16: =IF(A16="","",I16+P16+X16) | AE16: Avril | AF16: =AF15+1 -> 4 | AG16: =venav -> 0 | AJ16: Janvier | AK16: 1 | AL16: =TOMAGJ -> 0
F17: =IF(D17="","",D17*E17) | H17: =IF(A17="","",G17*D17) | I17: =IF(A17="","",F17-H17) | M17: =IF(K17="","",K17*L17) | O17: =IF(A17="","",N17*K17) | P17: =IF(A17="","",M17-O17) | U17: =IF(R17="","",R17*T17) | W17: =IF(R17="","",V17*R17) | X17: =IF(A17="","",U17-W17) | Z17: =IF(F17="","",F17+M17+U17) | AA17: =IF(A17="","",I17+P17+X17) | AE17: Mai | AF17: =AF16+1 -> 5 | AG17: =venmai -> 0 | AJ17: Février | AK17: =AK16+1 -> 2 | AL17: =TOMAGF -> 0
F18: =IF(D18="","",D18*E18) | H18: =IF(A18="","",G18*D18) | I18: =IF(A18="","",F18-H18) | M18: =IF(K18="","",K18*L18) | O18: =IF(A18="","",N18*K18) | P18: =IF(A18="","",M18-O18) | U18: =IF(R18="","",R18*T18) | W18: =IF(R18="","",V18*R18) | X18: =IF(A18="","",U18-W18) | Z18: =IF(F18="","",F18+M18+U18) | AA18: =IF(A18="","",I18+P18+X18) | AE18: Juin | AF18: =AF17+1 -> 6 | AG18: =venju -> 0 | AJ18: Mars | AK18: =AK17+1 -> 3 | AL18: =TOMAGM -> 0
F19: =IF(D19="","",D19*E19) | H19: =IF(A19="","",G19*D19) | I19: =IF(A19="","",F19-H19) | M19: =IF(K19="","",K19*L19) | O19: =IF(A19="","",N19*K19) | P19: =IF(A19="","",M19-O19) | U19: =IF(R19="","",R19*T19) | W19: =IF(R19="","",V19*R19) | X19: =IF(A19="","",U19-W19) | Z19: =IF(F19="","",F19+M19+U19) | AA19: =IF(A19="","",I19+P19+X19) | AE19: Juillet | AF19: =AF18+1 -> 7 | AG19: =venjui -> 0 | AJ19: Avril | AK19: =AK18+1 -> 4 | AL19: =TOMAGA -> 0
F20: =IF(D20="","",D20*E20) | H20: =IF(A20="","",G20*D20) | I20: =IF(A20="","",F20-H20) | M20: =IF(K20="","",K20*L20) | O20: =IF(A20="","",N20*K20) | P20: =IF(A20="","",M20-O20) | U20: =IF(R20="","",R20*T20) | W20: =IF(R20="","",V20*R20) | X20: =IF(A20="","",U20-W20) | Z20: =IF(F20="","",F20+M20+U20) | AA20: =IF(A20="","",I20+P20+X20) | AE20: Août | AF20: =AF19+1 -> 8 | AG20: =venao -> 0 | AJ20: Mai | AK20: =AK19+1 -> 5 | AL20: =TOMAGMA -> 0
F21: =IF(D21="","",D21*E21) | H21: =IF(A21="","",G21*D21) | I21: =IF(A21="","",F21-H21) | M21: =IF(K21="","",K21*L21) | O21: =IF(A21="","",N21*K21) | P21: =IF(A21="","",M21-O21) | U21: =IF(R21="","",R21*T21) | W21: =IF(R21="","",V21*R21) | X21: =IF(A21="","",U21-W21) | Z21: =IF(F21="","",F21+M21+U21) | AA21: =IF(A21="","",I21+P21+X21) | AE21: Septembre | AF21: =AF20+1 -> 9 | AJ21: Juin | AK21: =AK20+1 -> 6 | AL21: =TOMAGJU -> 0
F22: =IF(D22="","",D22*E22) | H22: =IF(A22="","",G22*D22) | I22: =IF(A22="","",F22-H22) | M22: =IF(K22="","",K22*L22) | O22: =IF(A22="","",N22*K22) | P22: =IF(A22="","",M22-O22) | U22: =IF(R22="","",R22*T22) | W22: =IF(R22="","",V22*R22) | X22: =IF(A22="","",U22-W22) | Z22: =IF(F22="","",F22+M22+U22) | AA22: =IF(A22="","",I22+P22+X22) | AE22: Octobre | AF22: =AF21+1 -> 10 | AG22: =venoc -> 688365 | AJ22: Juillet | AK22: =AK21+1 -> 7 | AL22: =TOMAGJUI -> 0
F23: =IF(D23="","",D23*E23) | H23: =IF(A23="","",G23*D23) | I23: =IF(A23="","",F23-H23) | M23: =IF(K23="","",K23*L23) | O23: =IF(A23="","",N23*K23) | P23: =IF(A23="","",M23-O23) | U23: =IF(R23="","",R23*T23) | W23: =IF(R23="","",V23*R23) | X23: =IF(A23="","",U23-W23) | Z23: =IF(F23="","",F23+M23+U23) | AA23: =IF(A23="","",I23+P23+X23) | AE23: Novembre | AF23: 11 | AG23: =vennov -> 0 | AJ23: Août | AK23: =AK22+1 -> 8 | AL23: =TOMAGAO -> 0
F24: =IF(D24="","",D24*E24) | H24: =IF(A24="","",G24*D24) | I24: =IF(A24="","",F24-H24) | M24: =IF(K24="","",K24*L24) | O24: =IF(A24="","",N24*K24) | P24: =IF(A24="","",M24-O24) | U24: =IF(R24="","",R24*T24) | W24: =IF(R24="","",V24*R24) | X24: =IF(A24="","",U24-W24) | Z24: =IF(F24="","",F24+M24+U24) | AA24: =IF(A24="","",I24+P24+X24) | AE24: Décembre | AF24: 12 | AG24: =vendec -> 0 | AJ24: Septembre | AK24: =AK23+1 -> 9 | AL24: =TOMAGSE -> 0
D25: =SUM(D14:D24) -> 0 | H25: =IF(A25="","",G25*D25) | I25: =SUM(I14:I24) -> 0 | K25: =SUM(K14:K24) -> 0 | O25: =IF(A25="","",N25*K25) | P25: =SUM(P14:P24) -> 0 | W25: =IF(R25="","",V25*R25) | X25: =SUM(X14:X24) -> 0 | Z25: =SUM(Z14:Z24) -> 0 | AA25: =SUM(AA14:AA24) -> 0 | AB25: =Z25 -> 0 | AE25: Total | AG25: =SUM(AG13:AG24) -> 688365 | AJ25: Octobre | AK25: =AK24+1 -> 10 | AL25: =TOMAGOC -> 33020
D26: Février | H26: =IF(A26="","",G26*D26) | O26: =IF(A26="","",N26*K26) | W26: =IF(R26="","",V26*R26) | AJ26: Novembre | AK26: =AK25+1 -> 11 | AL26: =TOMAGNO -> 0
F27: =IF(D27="","",D27*E27) | H27: =IF(A27="","",G27*D27) | I27: =IF(A27="","",F27-H27) | M27: =IF(K27="","",K27*L27) | O27: =IF(A27="","",N27*K27) | P27: =IF(A27="","",M27-O27) | U27: =IF(R27="","",R27*T27) | W27: =IF(R27="","",V27*R27) | X27: =IF(A27="","",U27-W27) | Z27: =IF(F27="","",F27+M27+U27) | AA27: =IF(A27="","",I27+P27+X27) | AJ27: Décembre | AK27: 12 | AL27: =TOMAGDEC -> 0
F28: =IF(D28="","",D28*E28) | H28: =IF(A28="","",G28*D28) | I28: =IF(A28="","",F28-H28) | M28: =IF(K28="","",K28*L28) | O28: =IF(A28="","",N28*K28) | P28: =IF(A28="","",M28-O28) | U28: =IF(R28="","",R28*T28) | W28: =IF(R28="","",V28*R28) | X28: =IF(A28="","",U28-W28) | Z28: =IF(F28="","",F28+M28+U28) | AA28: =IF(A28="","",I28+P28+X28) | AJ28: Total | AL28: =SUM(AL16:AL27) -> 33020
F29: =IF(D29="","",D29*E29) | H29: =IF(A29="","",G29*D29) | I29: =IF(A29="","",F29-H29) | M29: =IF(K29="","",K29*L29) | O29: =IF(A29="","",N29*K29) | P29: =IF(A29="","",M29-O29) | U29: =IF(R29="","",R29*T29) | W29: =IF(R29="","",V29*R29) | X29: =IF(A29="","",U29-W29) | Z29: =IF(F29="","",F29+M29+U29) | AA29: =IF(A29="","",I29+P29+X29)
F30: =IF(D30="","",D30*E30) | H30: =IF(A30="","",G30*D30) | I30: =IF(A30="","",F30-H30) | M30: =IF(K30="","",K30*L30) | O30: =IF(A30="","",N30*K30) | P30: =IF(A30="","",M30-O30) | U30: =IF(R30="","",R30*T30) | W30: =IF(R30="","",V30*R30) | X30: =IF(A30="","",U30-W30) | Z30: =IF(F30="","",F30+M30+U30) | AA30: =IF(A30="","",I30+P30+X30)
F31: =IF(D31="","",D31*E31) | H31: =IF(A31="","",G31*D31) | I31: =IF(A31="","",F31-H31) | M31: =IF(K31="","",K31*L31) | O31: =IF(A31="","",N31*K31) | P31: =IF(A31="","",M31-O31) | U31: =IF(R31="","",R31*T31) | W31: =IF(R31="","",V31*R31) | X31: =IF(A31="","",U31-W31) | Z31: =IF(F31="","",F31+M31+U31) | AA31: =IF(A31="","",I31+P31+X31)
F32: =IF(D32="","",D32*E32) | H32: =IF(A32="","",G32*D32) | I32: =IF(A32="","",F32-H32) | M32: =IF(K32="","",K32*L32) | O32: =IF(A32="","",N32*K32) | P32: =IF(A32="","",M32-O32) | U32: =IF(R32="","",R32*T32) | W32: =IF(R32="","",V32*R32) | X32: =IF(A32="","",U32-W32) | Z32: =IF(F32="","",F32+M32+U32) | AA32: =IF(A32="","",I32+P32+X32)
F33: =IF(D33="","",D33*E33) | H33: =IF(A33="","",G33*D33) | I33: =IF(A33="","",F33-H33) | M33: =IF(K33="","",K33*L33) | O33: =IF(A33="","",N33*K33) | P33: =IF(A33="","",M33-O33) | U33: =IF(R33="","",R33*T33) | W33: =IF(R33="","",V33*R33) | X33: =IF(A33="","",U33-W33) | Z33: =IF(F33="","",F33+M33+U33) | AA33: =IF(A33="","",I33+P33+X33)
F34: =IF(D34="","",D34*E34) | H34: =IF(A34="","",G34*D34) | I34: =IF(A34="","",F34-H34) | M34: =IF(K34="","",K34*L34) | O34: =IF(A34="","",N34*K34) | P34: =IF(A34="","",M34-O34) | U34: =IF(R34="","",R34*T34) | W34: =IF(R34="","",V34*R34) | X34: =IF(A34="","",U34-W34) | Z34: =IF(F34="","",F34+M34+U34) | AA34: =IF(A34="","",I34+P34+X34)
F35: =IF(D35="","",D35*E35) | H35: =IF(A35="","",G35*D35) | I35: =IF(A35="","",F35-H35) | M35: =IF(K35="","",K35*L35) | O35: =IF(A35="","",N35*K35) | P35: =IF(A35="","",M35-O35) | U35: =IF(R35="","",R35*T35) | W35: =IF(R35="","",V35*R35) | X35: =IF(A35="","",U35-W35) | Z35: =IF(F35="","",F35+M35+U35) | AA35: =IF(A35="","",I35+P35+X35)
F36: =IF(D36="","",D36*E36) | H36: =IF(A36="","",G36*D36) | I36: =IF(A36="","",F36-H36) | M36: =IF(K36="","",K36*L36) | O36: =IF(A36="","",N36*K36) | P36: =IF(A36="","",M36-O36) | U36: =IF(R36="","",R36*T36) | W36: =IF(R36="","",V36*R36) | X36: =IF(A36="","",U36-W36) | Z36: =IF(F36="","",F36+M36+U36) | AA36: =IF(A36="","",I36+P36+X36)
F37: =IF(D37="","",D37*E37) | H37: =IF(A37="","",G37*D37) | I37: =IF(A37="","",F37-H37) | M37: =IF(K37="","",K37*L37) | O37: =IF(A37="","",N37*K37) | P37: =IF(A37="","",M37-O37) | U37: =IF(R37="","",R37*T37) | W37: =IF(R37="","",V37*R37) | X37: =IF(A37="","",U37-W37) | Z37: =IF(F37="","",F37+M37+U37) | AA37: =IF(A37="","",I37+P37+X37)
D38: =SUM(D27:D37) -> 0 | H38: =IF(A38="","",G38*D38) | I38: =SUM(I27:I37) -> 0 | K38: =SUM(K27:K37) -> 0 | O38: =IF(A38="","",N38*K38) | P38: =SUM(P27:P37) -> 0 | W38: =IF(R38="","",V38*R38) | X38: =SUM(X27:X37) -> 0 | Z38: =SUM(Z27:Z37) -> 0 | AA38: =SUM(AA27:AA37) -> 0 | AB38: =Z38 -> 0
D39: Mars | H39: =IF(A39="","",G39*D39) | O39: =IF(A39="","",N39*K39) | W39: =IF(R39="","",V39*R39)
F40: =IF(D40="","",D40*E40) | H40: =IF(A40="","",G40*D40) | I40: =IF(A40="","",F40-H40) | M40: =IF(K40="","",K40*L40) | O40: =IF(A40="","",N40*K40) | P40: =IF(A40="","",M40-O40) | U40: =IF(R40="","",R40*T40) | W40: =IF(R40="","",V40*R40) | X40: =IF(A40="","",U40-W40) | Z40: =IF(F40="","",F40+M40+U40) | AA40: =IF(A40="","",I40+P40+X40)
F41: =IF(D41="","",D41*E41) | H41: =IF(A41="","",G41*D41) | I41: =IF(A41="","",F41-H41) | M41: =IF(K41="","",K41*L41) | O41: =IF(A41="","",N41*K41) | P41: =IF(A41="","",M41-O41) | U41: =IF(R41="","",R41*T41) | W41: =IF(R41="","",V41*R41) | X41: =IF(A41="","",U41-W41) | Z41: =IF(F41="","",F41+M41+U41) | AA41: =IF(A41="","",I41+P41+X41)
F42: =IF(D42="","",D42*E42) | H42: =IF(A42="","",G42*D42) | I42: =IF(A42="","",F42-H42) | M42: =IF(K42="","",K42*L42) | O42: =IF(A42="","",N42*K42) | P42: =IF(A42="","",M42-O42) | U42: =IF(R42="","",R42*T42) | W42: =IF(R42="","",V42*R42) | X42: =IF(A42="","",U42-W42) | Z42: =IF(F42="","",F42+M42+U42) | AA42: =IF(A42="","",I42+P42+X42)
F43: =IF(D43="","",D43*E43) | H43: =IF(A43="","",G43*D43) | I43: =IF(A43="","",F43-H43) | M43: =IF(K43="","",K43*L43) | O43: =IF(A43="","",N43*K43) | P43: =IF(A43="","",M43-O43) | U43: =IF(R43="","",R43*T43) | W43: =IF(R43="","",V43*R43) | X43: =IF(A43="","",U43-W43) | Z43: =IF(F43="","",F43+M43+U43) | AA43: =IF(A43="","",I43+P43+X43)
F44: =IF(D44="","",D44*E44) | H44: =IF(A44="","",G44*D44) | I44: =IF(A44="","",F44-H44) | M44: =IF(K44="","",K44*L44) | O44: =IF(A44="","",N44*K44) | P44: =IF(A44="","",M44-O44) | U44: =IF(R44="","",R44*T44) | W44: =IF(R44="","",V44*R44) | X44: =IF(A44="","",U44-W44) | Z44: =IF(F44="","",F44+M44+U44) | AA44: =IF(A44="","",I44+P44+X44)
F45: =IF(D45="","",D45*E45) | H45: =IF(A45="","",G45*D45) | I45: =IF(A45="","",F45-H45) | M45: =IF(K45="","",K45*L45) | O45: =IF(A45="","",N45*K45) | P45: =IF(A45="","",M45-O45) | U45: =IF(R45="","",R45*T45) | W45: =IF(R45="","",V45*R45) | X45: =IF(A45="","",U45-W45) | Z45: =IF(F45="","",F45+M45+U45) | AA45: =IF(A45="","",I45+P45+X45)
F46: =IF(D46="","",D46*E46) | H46: =IF(A46="","",G46*D46) | I46: =IF(A46="","",F46-H46) | M46: =IF(K46="","",K46*L46) | O46: =IF(A46="","",N46*K46) | P46: =IF(A46="","",M46-O46) | U46: =IF(R46="","",R46*T46) | W46: =IF(R46="","",V46*R46) | X46: =IF(A46="","",U46-W46) | Z46: =IF(F46="","",F46+M46+U46) | AA46: =IF(A46="","",I46+P46+X46)
F47: =IF(D47="","",D47*E47) | H47: =IF(A47="","",G47*D47) | I47: =IF(A47="","",F47-H47) | M47: =IF(K47="","",K47*L47) | O47: =IF(A47="","",N47*K47) | P47: =IF(A47="","",M47-O47) | U47: =IF(R47="","",R47*T47) | W47: =IF(R47="","",V47*R47) | X47: =IF(A47="","",U47-W47) | Z47: =IF(F47="","",F47+M47+U47) | AA47: =IF(A47="","",I47+P47+X47)
...

Sheet Suivi - vente - LUBRIFIANTS
A7: (Monnaie : Franc CFA)
D10: AXCELLA 400 20W50 API SL1L | K10: AXCELLA 400 20W50 API SL 4L | R10: AXCELLA 200 - 50 1L | Y10: SUPER ZEM 100 1L | AF10: ENDURO 200 - 50 5L | AM10: ENDURO 200 - 50 25L | AT10: ENDURO 600 15W40 API CI 4 5L | BA10: ENDURO 600SX 10W40 5L | BH10: MATIC ATF PREMIUM (Dexron III) | BO10: TOTAL | BP10: TOTAL MARGE | BQ10: Totaux Mensuels
A11: Dates | B11: Nos. | D11: Quantité | E11: Prix | F11: Montant | G11: Prix achat | H11: Montant | I11: Marge | K11: Quantité | L11: Prix | M11: Montant | N11: Prix achat | O11: Montant | P11: Marge | R11: Quantité | S11: Prix | T11: Montant | U11: Prix achat | V11: Montant | W11: Marge | Y11: Quantité | Z11: Prix | AA11: Montant | AB11: Prix achat | AC11: Montant | AD11: Marge | AF11: Quantité | AG11: Prix | AH11: Montant | AI11: Prix achat | AJ11: Montant | AK11: Marge | AM11: Quantité | AN11: Prix | AO11: Montant | AP11: Prix achat | AQ11: Montant | AR11: Marge | AT11: Quantité | AU11: Prix | AV11: Montant | AW11: Prix achat | AX11: Montant | AY11: Marge | BA11: Quantité | BB11: Prix | BC11: Montant | BD11: Prix achat | BE11: Montant | BF11: Marge | BH11: Quantité | BI11: Prix | BJ11: Montant | BK11: Prix achat | BL11: Montant | BM11: Marge | BT11: Mois | BU11: Nos. | BV11: Montant
D13: Janvier | BT13: Janvier | BU13: 1 | BV13: =venlj -> 0
F14: =IF(D14="","",D14*E14) | H14: =IF(A14="","",G14*D14) | I14: =IF(A14="","",F14-H14) | M14: =IF(K14="","",K14*L14) | O14: =IF(A14="","",N14*K14) | P14: =IF(A14="","",M14-O14) | T14: =IF(R14="","",R14*S14) | V14: =IF(R14="","",U14*R14) | W14: =IF(A14="","",T14-V14) | AA14: =IF(Y14="","",Y14*Z14) | AC14: =IF(Y14="","",AB14*Y14) | AD14: =IF(H14="","",AA14-AC14) | AH14: =IF(AF14="","",AF14*AG14) | AJ14: =IF(AF14="","",AI14*AF14) | AK14: =IF(O14="","",AH14-AJ14) | AO14: =IF(AM14="","",AM14*AN14) | AQ14: =IF(AM14="","",AP14*AM14) | AR14: =IF(V14="","",AO14-AQ14) | AV14: =IF(AT14="","",AT14*AU14) | AX14: =IF(AT14="","",AW14*AT14) | AY14: =IF(AC14="","",AV14-AX14) | BC14: =IF(BA14="","",BA14*BB14) | BE14: =IF(BA14="","",BD14*BA14) | BF14: =IF(AJ14="","",BC14-BE14) | BJ14: =IF(BH14="","",BH14*BI14) | BL14: =IF(BH14="","",BK14*BH14) | BM14: =IF(AQ14="","",BJ14-BL14) | BO14: =IF(F14="","",F14+M14+T14+AA14+AH14+AO14+AV14+BC14+BJ14) | BP14: =IF(A14="","",I14+P14+W14+AD14+AK14+AR14+AY14+BF14+BM14) | BT14: Février | BU14: =BU13+1 -> 2 | BV14: =vendlf -> 0
F15: =IF(D15="","",D15*E15) | H15: =IF(A15="","",G15*D15) | I15: =IF(A15="","",F15-H15) | M15: =IF(K15="","",K15*L15) | O15: =IF(A15="","",N15*K15) | P15: =IF(A15="","",M15-O15) | T15: =IF(R15="","",R15*S15) | V15: =IF(R15="","",U15*R15) | W15: =IF(A15="","",T15-V15) | AA15: =IF(Y15="","",Y15*Z15) | AC15: =IF(Y15="","",AB15*Y15) | AD15: =IF(H15="","",AA15-AC15) | AH15: =IF(AF15="","",AF15*AG15) | AJ15: =IF(AF15="","",AI15*AF15) | AK15: =IF(O15="","",AH15-AJ15) | AO15: =IF(AM15="","",AM15*AN15) | AQ15: =IF(AM15="","",AP15*AM15) | AR15: =IF(V15="","",AO15-AQ15) | AV15: =IF(AT15="","",AT15*AU15) | AX15: =IF(AT15="","",AW15*AT15) | AY15: =IF(AC15="","",AV15-AX15) | BC15: =IF(BA15="","",BA15*BB15) | BE15: =IF(BA15="","",BD15*BA15) | BF15: =IF(AJ15="","",BC15-BE15) | BJ15: =IF(BH15="","",BH15*BI15) | BL15: =IF(BH15="","",BK15*BH15) | BM15: =IF(AQ15="","",BJ15-BL15) | BO15: =IF(F15="","",F15+M15+T15+AA15+AH15+AO15+AV15+BC15+BJ15) | BP15: =IF(A15="","",I15+P15+W15+AD15+AK15+AR15+AY15+BF15+BM15) | BT15: Mars | BU15: =BU14+1 -> 3 | BV15: =vendlm -> 0 | CA15: Mois | CB15: Nos. | CC15: Montant
F16: =IF(D16="","",D16*E16) | H16: =IF(A16="","",G16*D16) | I16: =IF(A16="","",F16-H16) | M16: =IF(K16="","",K16*L16) | O16: =IF(A16="","",N16*K16) | P16: =IF(A16="","",M16-O16) | T16: =IF(R16="","",R16*S16) | V16: =IF(R16="","",U16*R16) | W16: =IF(A16="","",T16-V16) | AA16: =IF(Y16="","",Y16*Z16) | AC16: =IF(Y16="","",AB16*Y16) | AD16: =IF(H16="","",AA16-AC16) | AH16: =IF(AF16="","",AF16*AG16) | AJ16: =IF(AF16="","",AI16*AF16) | AK16: =IF(O16="","",AH16-AJ16) | AO16: =IF(AM16="","",AM16*AN16) | AQ16: =IF(AM16="","",AP16*AM16) | AR16: =IF(V16="","",AO16-AQ16) | AV16: =IF(AT16="","",AT16*AU16) | AX16: =IF(AT16="","",AW16*AT16) | AY16: =IF(AC16="","",AV16-AX16) | BC16: =IF(BA16="","",BA16*BB16) | BE16: =IF(BA16="","",BD16*BA16) | BF16: =IF(AJ16="","",BC16-BE16) | BJ16: =IF(BH16="","",BH16*BI16) | BL16: =IF(BH16="","",BK16*BH16) | BM16: =IF(AQ16="","",BJ16-BL16) | BO16: =IF(F16="","",F16+M16+T16+AA16+AH16+AO16+AV16+BC16+BJ16) | BP16: =IF(A16="","",I16+P16+W16+AD16+AK16+AR16+AY16+BF16+BM16) | BT16: Avril | BU16: =BU15+1 -> 4 | BV16: =vendla -> 0
F17: =IF(D17="","",D17*E17) | H17: =IF(A17="","",G17*D17) | I17: =IF(A17="","",F17-H17) | M17: =IF(K17="","",K17*L17) | O17: =IF(A17="","",N17*K17) | P17: =IF(A17="","",M17-O17) | T17: =IF(R17="","",R17*S17) | V17: =IF(R17="","",U17*R17) | W17: =IF(A17="","",T17-V17) | AA17: =IF(Y17="","",Y17*Z17) | AC17: =IF(Y17="","",AB17*Y17) | AD17: =IF(H17="","",AA17-AC17) | AH17: =IF(AF17="","",AF17*AG17) | AJ17: =IF(AF17="","",AI17*AF17) | AK17: =IF(O17="","",AH17-AJ17) | AO17: =IF(AM17="","",AM17*AN17) | AQ17: =IF(AM17="","",AP17*AM17) | AR17: =IF(V17="","",AO17-AQ17) | AV17: =IF(AT17="","",AT17*AU17) | AX17: =IF(AT17="","",AW17*AT17) | AY17: =IF(AC17="","",AV17-AX17) | BC17: =IF(BA17="","",BA17*BB17) | BE17: =IF(BA17="","",BD17*BA17) | BF17: =IF(AJ17="","",BC17-BE17) | BJ17: =IF(BH17="","",BH17*BI17) | BL17: =IF(BH17="","",BK17*BH17) | BM17: =IF(AQ17="","",BJ17-BL17) | BO17: =IF(F17="","",F17+M17+T17+AA17+AH17+AO17+AV17+BC17+BJ17) | BP17: =IF(A17="","",I17+P17+W17+AD17+AK17+AR17+AY17+BF17+BM17) | BT17: Mai | BU17: =BU16+1 -> 5 | BV17: =vendlma -> 0
F18: =IF(D18="","",D18*E18) | H18: =IF(A18="","",G18*D18) | I18: =IF(A18="","",F18-H18) | M18: =IF(K18="","",K18*L18) | O18: =IF(A18="","",N18*K18) | P18: =IF(A18="","",M18-O18) | T18: =IF(R18="","",R18*S18) | V18: =IF(R18="","",U18*R18) | W18: =IF(A18="","",T18-V18) | AA18: =IF(Y18="","",Y18*Z18) | AC18: =IF(Y18="","",AB18*Y18) | AD18: =IF(H18="","",AA18-AC18) | AH18: =IF(AF18="","",AF18*AG18) | AJ18: =IF(AF18="","",AI18*AF18) | AK18: =IF(O18="","",AH18-AJ18) | AO18: =IF(AM18="","",AM18*AN18) | AQ18: =IF(AM18="","",AP18*AM18) | AR18: =IF(V18="","",AO18-AQ18) | AV18: =IF(AT18="","",AT18*AU18) | AX18: =IF(AT18="","",AW18*AT18) | AY18: =IF(AC18="","",AV18-AX18) | BC18: =IF(BA18="","",BA18*BB18) | BE18: =IF(BA18="","",BD18*BA18) | BF18: =IF(AJ18="","",BC18-BE18) | BJ18: =IF(BH18="","",BH18*BI18) | BL18: =IF(BH18="","",BK18*BH18) | BM18: =IF(AQ18="","",BJ18-BL18) | BO18: =IF(F18="","",F18+M18+T18+AA18+AH18+AO18+AV18+BC18+BJ18) | BP18: =IF(A18="","",I18+P18+W18+AD18+AK18+AR18+AY18+BF18+BM18) | BT18: Juin | BU18: =BU17+1 -> 6 | BV18: =vendlj -> 0 | CA18: Janvier | CB18: 1 | CC18: =MAGLJ -> 0
F19: =IF(D19="","",D19*E19) | H19: =IF(A19="","",G19*D19) | I19: =IF(A19="","",F19-H19) | M19: =IF(K19="","",K19*L19) | O19: =IF(A19="","",N19*K19) | P19: =IF(A19="","",M19-O19) | T19: =IF(R19="","",R19*S19) | V19: =IF(R19="","",U19*R19) | W19: =IF(A19="","",T19-V19) | AA19: =IF(Y19="","",Y19*Z19) | AC19: =IF(Y19="","",AB19*Y19) | AD19: =IF(H19="","",AA19-AC19) | AH19: =IF(AF19="","",AF19*AG19) | AJ19: =IF(AF19="","",AI19*AF19) | AK19: =IF(O19="","",AH19-AJ19) | AO19: =IF(AM19="","",AM19*AN19) | AQ19: =IF(AM19="","",AP19*AM19) | AR19: =IF(V19="","",AO19-AQ19) | AV19: =IF(AT19="","",AT19*AU19) | AX19: =IF(AT19="","",AW19*AT19) | AY19: =IF(AC19="","",AV19-AX19) | BC19: =IF(BA19="","",BA19*BB19) | BE19: =IF(BA19="","",BD19*BA19) | BF19: =IF(AJ19="","",BC19-BE19) | BJ19: =IF(BH19="","",BH19*BI19) | BL19: =IF(BH19="","",BK19*BH19) | BM19: =IF(AQ19="","",BJ19-BL19) | BO19: =IF(F19="","",F19+M19+T19+AA19+AH19+AO19+AV19+BC19+BJ19) | BP19: =IF(A19="","",I19+P19+W19+AD19+AK19+AR19+AY19+BF19+BM19) | BT19: Juillet | BU19: =BU18+1 -> 7 | BV19: =vendlju -> 0 | CA19: Février | CB19: =CB18+1 -> 2 | CC19: =MAGLF -> 0
