Workbook

Sheet Actions de formation
B3: Actions de formation | C3: Total stagiaire/actions | D3: Taux de participation à la formation
B4: BAC PRO MELEC | C4: 3 | D4: =GETPIVOTDATA("[Measures].[Nombre de Nom]",$B$3,"[Plage].[Diplôme]","[Plage].[Diplôme].&[BAC PRO MELEC]")/GETPIVOTDATA("[Measures].[Nombre de Nom]",$B$3) -> 0.075
B5: BTS CPRP | C5: 5 | D5: =GETPIVOTDATA("[Measures].[Nombre de Nom]",$B$3,"[Plage].[Diplôme]","[Plage].[Diplôme].&[BTS CPRP]")/GETPIVOTDATA("[Measures].[Nombre de Nom]",$B$3) -> 0.125
B6: CMA | C6: 7 | D6: =GETPIVOTDATA("[Measures].[Nombre de Nom]",$B$3,"[Plage].[Diplôme]","[Plage].[Diplôme].&[CMA]")/GETPIVOTDATA("[Measures].[Nombre de Nom]",$B$3) -> 0.175
B7: DU CSPA | C7: 14 | D7: =GETPIVOTDATA("[Measures].[Nombre de Nom]",$B$3,"[Plage].[Diplôme]","[Plage].[Diplôme].&[DU CSPA]")/GETPIVOTDATA("[Measures].[Nombre de Nom]",$B$3) -> 0.35
B8: INITIATION AU SOUDAGE | C8: 11 | D8: =GETPIVOTDATA("[Measures].[Nombre de Nom]",$B$3,"[Plage].[Diplôme]","[Plage].[Diplôme].&[INITIATION AU SOUDAGE]")/GETPIVOTDATA("[Measures].[Nombre de Nom]",$B$3) -> 0.275
B9: Total général | C9: 40 | D9: =SUM(D4:D8) -> 1
B14: Total stagiaire en temps réel | C14: =B15-1 -> 42
B15: =COUNTA('[2]BDD stagiaires 2018'!$A:$A) -> 43

Sheet Taux de réalisation
G2: Suivi des heures réalisées par actions de formation
D4: Actions | E4: Janvier | F4: Février | G4: Mars | H4: Avril | I4: Mai | J4: Juin | K4: Juillet | L4: Août | M4: Septembre | N4: Octobre | O4: Novembre | P4: Décembre
D5: ='Actions de formation'!B4 -> BAC PRO MELEC | E5: =SUM('[2]Suivis stagiaires 2018'!$AG$4:$AG$6+'[2]Suivis stagiaires 2018'!$AL$4:$AL$6) -> 59 | F5: =SUM('[2]Suivis stagiaires 2018'!$AQ$4:$AQ$6+'[2]Suivis stagiaires 2018'!$BA$4:$BA$6+'[2]Suivis stagiaires 2018'!$BF$4:$BF$6) -> 70 | G5: =SUM('[2]Suivis stagiaires 2018'!$BK$4:$BK$6+'[2]Suivis stagiaires 2018'!$BU$4:$BU$6+'[2]Suivis stagiaires 2018'!$BZ$4:$BZ$6) -> 81 | H5: =SUM('[2]Suivis stagiaires 2018'!$CO$4:$CO$6) -> 86 | I5: =SUM('[2]Suivis stagiaires 2018'!$DN$4:$DN$6+'[2]Suivis stagiaires 2018'!$DS$4:$DS$6) -> 55 | J5: =SUM('[2]Suivis stagiaires 2018'!$DX$4:$DX$6+'[2]Suivis stagiaires 2018'!$EC$4:$EC$6+'[2]Suivis stagiaires 2018'!$EH$4:$EH$6) -> 65 | M5: =SUM('[2]Suivis stagiaires 2018'!$GZ$4:$GZ$6) -> 64 | N5: =SUM('[2]Suivis stagiaires 2018'!$HO$4:$HO$6) -> 82
D6: ='Actions de formation'!B5 -> BTS CPRP | E6: ='[2]Suivis stagiaires 2018'!$AG$7+'[2]Suivis stagiaires 2018'!$AG$8+'[2]Suivis stagiaires 2018'!$AG$9+'[2]Suivis stagiaires 2018'!$AG$10+'[2]Suivis stagiaires 2018'!$AG$11+'[2]Suivis stagiaires 2018'!$AL$7+'[2]Suivis stagiaires 2018'!$AL$8+'[2]Suivis stagiaires 2018'!$AL$9+'[2]Suivis stagiaires 2018'!$AL$10+'[2]Suivis stagiaires 2018'!$AL$11 -> 295 | F6: ='[2]Suivis stagiaires 2018'!$AQ$7+'[2]Suivis stagiaires 2018'!$AQ$8+'[2]Suivis stagiaires 2018'!$AQ$9+'[2]Suivis stagiaires 2018'!$AQ$10+'[2]Suivis stagiaires 2018'!$AQ$11+'[2]Suivis stagiaires 2018'!$BA$7+'[2]Suivis stagiaires 2018'!$BA$8+'[2]Suivis stagiaires 2018'!$BA$9+'[2]Suivis stagiaires 2018'!$BA$10+'[2]Suivis stagiaires 2018'!$BA$11+'[2]Suivis stagiaires 2018'!$BF$7+'[2]Suivis stagiaires 2018'!$BF$8+'[2]Suivis stagiaires 2018'!$BF$9+'[2]Suivis stagiaires 2018'!$BF$10+'[2]Suivis stagiaires 2018'!$BF$11 -> 352.5 | G6: ='[2]Suivis stagiaires 2018'!$BK$7+'[2]Suivis stagiaires 2018'!$BK$8+'[2]Suivis stagiaires 2018'!$BK$9+'[2]Suivis stagiaires 2018'!$BK$10+'[2]Suivis stagiaires 2018'!$BK$11+'[2]Suivis stagiaires 2018'!$BU$7+'[2]Suivis stagiaires 2018'!$BU$8+'[2]Suivis stagiaires 2018'!$BU$9+'[2]Suivis stagiaires 2018'!$BU$10+'[2]Suivis stagiaires 2018'!$BU$11+'[2]Suivis stagiaires 2018'!$BZ$7+'[2]Suivis stagiaires 2018'!$BZ$8+'[2]Suivis stagiaires 2018'!$BZ$9+'[2]Suivis stagiaires 2018'!$BZ$10+'[2]Suivis stagiaires 2018'!$BZ$11 -> 407.5 | H6: ='[2]Suivis stagiaires 2018'!$CO$7+'[2]Suivis stagiaires 2018'!$CO$8+'[2]Suivis stagiaires 2018'!$CO$9+'[2]Suivis stagiaires 2018'!$CO$10+'[2]Suivis stagiaires 2018'!$CO$11 -> 175 | I6: ='[2]Suivis stagiaires 2018'!$DN$7+'[2]Suivis stagiaires 2018'!$DN$8+'[2]Suivis stagiaires 2018'!$DN$9+'[2]Suivis stagiaires 2018'!$DN$10+'[2]Suivis stagiaires 2018'!$DN$11+'[2]Suivis stagiaires 2018'!$DS$7+'[2]Suivis stagiaires 2018'!$DS$8+'[2]Suivis stagiaires 2018'!$DS$9+'[2]Suivis stagiaires 2018'!$DS$10+'[2]Suivis stagiaires 2018'!$DS$11 -> 295 | J6: ='[2]Suivis stagiaires 2018'!$EM$7+'[2]Suivis stagiaires 2018'!$EM$8+'[2]Suivis stagiaires 2018'!$EM$9+'[2]Suivis stagiaires 2018'!$EM$10+'[2]Suivis stagiaires 2018'!$EM$11 -> 175 | K6: =SUM('[2]Suivis stagiaires 2018'!$ER$7:$ER$11) -> 140 | M6: =SUM('[2]Suivis stagiaires 2018'!$GZ$7:$GZ$11) -> 160
D7: ='Actions de formation'!B6 -> CMA | N7: 30
D8: ='Actions de formation'!B7 -> DU CSPA
D9: ='Actions de formation'!B8 -> INITIATION AU SOUDAGE

Sheet Taux d'encadrement
