Workbook

Sheet DB L1
A1: Championnat | B1: equipe | C1: adversaire | D1: Journée | E1: Score equipe domicile | F1: Score equipe exterieur | G1: score match | H1: buteur domicile | I1: buteur exterieur | J1: score equipe domicile mi temps | K1: score equipe exterieur mi temps | L1: score match mi temps | M1: Cleansheet equipe domicile | N1: Cleansheet equipe exterieur | O1: Résultat domicile | P1: Résultat exterieur | Q1: Nombre de but match | R1: Nombre de but mi temps match | S1: Mi temps avec le plus de but | T1: Mi temps avec le plus de but equipe domicile | U1: Mi temps avec le plus de but equipe exteieur | V1: Victoire par 1 but d'écart | W1: Victoire par 2 buts d'écart | X1: Victoire par 3 buts d'écart | Y1: Victoire par plus de 3 buts | Z1: Defaite par 1 but d'écart | AA1: defaite par 2 buts d'écart | AB1: defaite par 3 buts d'écart | AC1: defaite par plus de 3 buts | AD1: Deux équipes marquent | AE1: Deux équipes marquent à la mi temps
A2: Ligue 1 | B2: PSG | C2: Caen | D2: 1 | E2: 3 | F2: 0 | G2: =CONCATENATE(E2,"-",F2) -> 3-0 | H2: Neymar ; Rabiot . Weah | I2: - | J2: 2 | K2: 0 | L2: =CONCATENATE(J2,"-",K2) -> 2-0 | M2: =IF(F2=0,"oui","non") -> oui | N2: =IF(E2=0,"oui","non") -> non | O2: =IF(E2>F2,"victoire",IF(E2=F2,"nul","defaite")) -> victoire | P2: =IF(F2>E2,"victoire",IF(E2=F2,"nul","defaite")) -> defaite | Q2: =E2+F2 -> 3 | R2: =J2+K2 -> 2 | S2: =IF((Q2-R2)>R2,"deuxieme mi temps",IF((Q2-R2)=R2,"aucune","premiere mi temps")) -> premiere mi temps | T2: =IF((E2-J2)>J2,"deuxieme mi temps",IF((E2-J2)=J2,"aucune","premiere mi temps")) -> premiere mi temps | U2: =IF((F2-K2)>K2,"deuxieme mi temps",IF((F2-K2)=K2,"aucune","premiere mi temps")) -> aucune | V2: =IF((E2-F2)=1,"oui","non") -> non | W2: =IF((E2-F2)=2,"oui","non") -> non | X2: =IF((E2-F2)=3,"oui","non") -> oui | Y2: =IF((E2-F2)>3,"oui","non") -> non | Z2: =IF((E2-F2)=-1,"oui","non") -> non | AA2: =IF((E2-F2)=-2,"oui","non") -> non | AB2: =IF((E2-F2)=-3,"oui","non") -> non | AC2: =IF((F2-E2)>3,"oui","non") -> non | AD2: =IF((E2>0)*AND(F2>0),"oui","non") -> non | AE2: =IF((J2>0)*AND(K2>0),"oui","non") -> non
A3: Ligue 1 | B3: Bordeaux | C3: Strasbourg | D3: 1 | E3: 0 | F3: 2 | G3: =CONCATENATE(E3,"-",F3) -> 0-2 | H3: - | I3: Sissoko; Da Costa | J3: 0 | K3: 0 | L3: =CONCATENATE(J3,"-",K3) -> 0-0 | M3: =IF(F3=0,"oui","non") -> non | N3: =IF(E3=0,"oui","non") -> oui | O3: =IF(E3>F3,"victoire",IF(E3=F3,"nul","defaite")) -> defaite | P3: =IF(F3>E3,"victoire",IF(E3=F3,"nul","defaite")) -> victoire | Q3: =E3+F3 -> 2 | R3: =J3+K3 -> 0 | S3: =IF((Q3-R3)>R3,"deuxieme mi temps",IF((Q3-R3)=R3,"aucune","premiere")) -> deuxieme mi temps | T3: =IF((E3-J3)>J3,"deuxieme mi temps",IF((E3-J3)=J3,"aucune","premiere mi temps")) -> aucune | U3: =IF((F3-K3)>K3,"deuxieme mi temps",IF((F3-K3)=K3,"aucune","premiere mi temps")) -> deuxieme mi temps | V3: =IF((E3-F3)=1,"oui","non") -> non | W3: =IF((E3-F3)=2,"oui","non") -> non | X3: =IF((E3-F3)=3,"oui","non") -> non | Y3: =IF((E3-F3)>3,"oui","non") -> non | Z3: =IF((E3-F3)=-1,"oui","non") -> non | AA3: =IF((E3-F3)=-2,"oui","non") -> oui | AB3: =IF((E3-F3)=-3,"oui","non") -> non | AC3: =IF((F3-E3)>3,"oui","non") -> non | AD3: =IF((E3>0)*AND(F3>0),"oui","non") -> non | AE3: =IF((J3>0)*AND(K3>0),"oui","non") -> non
A4: Ligue 1 | B4: Lyon | C4: Amiens | D4: 1 | E4: 2 | F4: 0 | G4: =CONCATENATE(E4,"-",F4) -> 2-0 | H4: Traore; Depay | I4: - | J4: 1 | K4: 0 | L4: =CONCATENATE(J4,"-",K4) -> 1-0 | M4: =IF(F4=0,"oui","non") -> oui | N4: =IF(E4=0,"oui","non") -> non | O4: =IF(E4>F4,"victoire",IF(E4=F4,"nul","defaite")) -> victoire | P4: =IF(F4>E4,"victoire",IF(E4=F4,"nul","defaite")) -> defaite | Q4: =E4+F4 -> 2 | R4: =J4+K4 -> 1 | S4: =IF((Q4-R4)>R4,"deuxieme mi temps",IF((Q4-R4)=R4,"aucune","premiere")) -> aucune | T4: =IF((E4-J4)>J4,"deuxieme mi temps",IF((E4-J4)=J4,"aucune","premiere mi temps")) -> aucune | U4: =IF((F4-K4)>K4,"deuxieme mi temps",IF((F4-K4)=K4,"aucune","premiere mi temps")) -> aucune | V4: =IF((E4-F4)=1,"oui","non") -> non | W4: =IF((E4-F4)=2,"oui","non") -> oui | X4: =IF((E4-F4)=3,"oui","non") -> non | Y4: =IF((E4-F4)>3,"oui","non") -> non | Z4: =IF((E4-F4)=-1,"oui","non") -> non | AA4: =IF((E4-F4)=-2,"oui","non") -> non | AB4: =IF((E4-F4)=-3,"oui","non") -> non | AC4: =IF((F4-E4)>3,"oui","non") -> non | AD4: =IF((E4>0)*AND(F4>0),"oui","non") -> non | AE4: =IF((J4>0)*AND(K4>0),"oui","non") -> non
A5: Ligue 1 | B5: Angers | C5: Nimes | D5: 1 | E5: 3 | F5: 4 | G5: =CONCATENATE(E5,"-",F5) -> 3-4 | H5: Capelle; Fulgini ; Traore | I5: Thioub; Depres; Ripart | J5: 1 | K5: 1 | L5: =CONCATENATE(J5,"-",K5) -> 1-1 | M5: =IF(F5=0,"oui","non") -> non | N5: =IF(E5=0,"oui","non") -> non | O5: =IF(E5>F5,"victoire",IF(E5=F5,"nul","defaite")) -> defaite | P5: =IF(F5>E5,"victoire",IF(E5=F5,"nul","defaite")) -> victoire | Q5: =E5+F5 -> 7 | R5: =J5+K5 -> 2 | S5: =IF((Q5-R5)>R5,"deuxieme mi temps",IF((Q5-R5)=R5,"aucune","premiere")) -> deuxieme mi temps | T5: =IF((E5-J5)>J5,"deuxieme mi temps",IF((E5-J5)=J5,"aucune","premiere mi temps")) -> deuxieme mi temps | U5: =IF((F5-K5)>K5,"deuxieme mi temps",IF((F5-K5)=K5,"aucune","premiere mi temps")) -> deuxieme mi temps | V5: =IF((E5-F5)=1,"oui","non") -> non | W5: =IF((E5-F5)=2,"oui","non") -> non | X5: =IF((E5-F5)=3,"oui","non") -> non | Y5: =IF((E5-F5)>3,"oui","non") -> non | Z5: =IF((E5-F5)=-1,"oui","non") -> oui | AA5: =IF((E5-F5)=-2,"oui","non") -> non | AB5: =IF((E5-F5)=-3,"oui","non") -> non | AC5: =IF((F5-E5)>3,"oui","non") -> non | AD5: =IF((E5>0)*AND(F5>0),"oui","non") -> oui | AE5: =IF((J5>0)*AND(K5>0),"oui","non") -> oui
A6: Ligue 1 | B6: Lille | C6: Rennes | D6: 1 | E6: 3 | F6: 1 | G6: =CONCATENATE(E6,"-",F6) -> 3-1 | H6: Mothiba; Pepe ; Bamba | I6: Grenier | J6: 1 | K6: 1 | L6: =CONCATENATE(J6,"-",K6) -> 1-1 | M6: =IF(F6=0,"oui","non") -> non | N6: =IF(E6=0,"oui","non") -> non | O6: =IF(E6>F6,"victoire",IF(E6=F6,"nul","defaite")) -> victoire | P6: =IF(F6>E6,"victoire",IF(E6=F6,"nul","defaite")) -> defaite | Q6: =E6+F6 -> 4 | R6: =J6+K6 -> 2 | S6: =IF((Q6-R6)>R6,"deuxieme mi temps",IF((Q6-R6)=R6,"aucune","premiere")) -> aucune | T6: =IF((E6-J6)>J6,"deuxieme mi temps",IF((E6-J6)=J6,"aucune","premiere mi temps")) -> deuxieme mi temps | U6: =IF((F6-K6)>K6,"deuxieme mi temps",IF((F6-K6)=K6,"aucune","premiere mi temps")) -> premiere mi temps | V6: =IF((E6-F6)=1,"oui","non") -> non | W6: =IF((E6-F6)=2,"oui","non") -> oui | X6: =IF((E6-F6)=3,"oui","non") -> non | Y6: =IF((E6-F6)>3,"oui","non") -> non | Z6: =IF((E6-F6)=-1,"oui","non") -> non | AA6: =IF((E6-F6)=-2,"oui","non") -> non | AB6: =IF((E6-F6)=-3,"oui","non") -> non | AC6: =IF((F6-E6)>3,"oui","non") -> non | AD6: =IF((E6>0)*AND(F6>0),"oui","non") -> oui | AE6: =IF((J6>0)*AND(K6>0),"oui","non") -> oui
A7: Ligue 1 | B7: Montpellier | C7: Dijon | D7: 1 | E7: 1 | F7: 2 | G7: =CONCATENATE(E7,"-",F7) -> 1-2 | H7: Mendes | I7: Tavares ; Coulibaly | J7: 1 | K7: 0 | L7: =CONCATENATE(J7,"-",K7) -> 1-0 | M7: =IF(F7=0,"oui","non") -> non | N7: =IF(E7=0,"oui","non") -> non | O7: =IF(E7>F7,"victoire",IF(E7=F7,"nul","defaite")) -> defaite | P7: =IF(F7>E7,"victoire",IF(E7=F7,"nul","defaite")) -> victoire | Q7: =E7+F7 -> 3 | R7: =J7+K7 -> 1 | S7: =IF((Q7-R7)>R7,"deuxieme mi temps",IF((Q7-R7)=R7,"aucune","premiere")) -> deuxieme mi temps | T7: =IF((E7-J7)>J7,"deuxieme mi temps",IF((E7-J7)=J7,"aucune","premiere mi temps")) -> premiere mi temps | U7: =IF((F7-K7)>K7,"deuxieme mi temps",IF((F7-K7)=K7,"aucune","premiere mi temps")) -> deuxieme mi temps | V7: =IF((E7-F7)=1,"oui","non") -> non | W7: =IF((E7-F7)=2,"oui","non") -> non | X7: =IF((E7-F7)=3,"oui","non") -> non | Y7: =IF((E7-F7)>3,"oui","non") -> non | Z7: =IF((E7-F7)=-1,"oui","non") -> oui | AA7: =IF((E7-F7)=-2,"oui","non") -> non | AB7: =IF((E7-F7)=-3,"oui","non") -> non | AC7: =IF((F7-E7)>3,"oui","non") -> non | AD7: =IF((E7>0)*AND(F7>0),"oui","non") -> oui | AE7: =IF((J7>0)*AND(K7>0),"oui","non") -> non
A8: Ligue 1 | B8: Nice | C8: Reims | D8: 1 | E8: 0 | F8: 1 | G8: =CONCATENATE(E8,"-",F8) -> 0-1 | H8: - | I8: Doumbia | J8: 0 | K8: 1 | L8: =CONCATENATE(J8,"-",K8) -> 0-1 | M8: =IF(F8=0,"oui","non") -> non | N8: =IF(E8=0,"oui","non") -> oui | O8: =IF(E8>F8,"victoire",IF(E8=F8,"nul","defaite")) -> defaite | P8: =IF(F8>E8,"victoire",IF(E8=F8,"nul","defaite")) -> victoire | Q8: =E8+F8 -> 1 | R8: =J8+K8 -> 1 | S8: =IF((Q8-R8)>R8,"deuxieme mi temps",IF((Q8-R8)=R8,"aucune","premiere")) -> premiere | T8: =IF((E8-J8)>J8,"deuxieme mi temps",IF((E8-J8)=J8,"aucune","premiere mi temps")) -> aucune | U8: =IF((F8-K8)>K8,"deuxieme mi temps",IF((F8-K8)=K8,"aucune","premiere mi temps")) -> premiere mi temps | V8: =IF((E8-F8)=1,"oui","non") -> non | W8: =IF((E8-F8)=2,"oui","non") -> non | X8: =IF((E8-F8)=3,"oui","non") -> non | Y8: =IF((E8-F8)>3,"oui","non") -> non | Z8: =IF((E8-F8)=-1,"oui","non") -> oui | AA8: =IF((E8-F8)=-2,"oui","non") -> non | AB8: =IF((E8-F8)=-3,"oui","non") -> non | AC8: =IF((F8-E8)>3,"oui","non") -> non | AD8: =IF((E8>0)*AND(F8>0),"oui","non") -> non | AE8: =IF((J8>0)*AND(K8>0),"oui","non") -> non
A9: Ligue 1 | B9: Saint Etienne | C9: Guingamp | D9: 1 | E9: 2 | F9: 1 | G9: =CONCATENATE(E9,"-",F9) -> 2-1 | H9: Khazri; Diony | I9: Thuram | J9: 1 | K9: 0 | L9: =CONCATENATE(J9,"-",K9) -> 1-0 | M9: =IF(F9=0,"oui","non") -> non | N9: =IF(E9=0,"oui","non") -> non | O9: =IF(E9>F9,"victoire",IF(E9=F9,"nul","defaite")) -> victoire | P9: =IF(F9>E9,"victoire",IF(E9=F9,"nul","defaite")) -> defaite | Q9: =E9+F9 -> 3 | R9: =J9+K9 -> 1 | S9: =IF((Q9-R9)>R9,"deuxieme mi temps",IF((Q9-R9)=R9,"aucune","premiere")) -> deuxieme mi temps | T9: =IF((E9-J9)>J9,"deuxieme mi temps",IF((E9-J9)=J9,"aucune","premiere mi temps")) -> aucune | U9: =IF((F9-K9)>K9,"deuxieme mi temps",IF((F9-K9)=K9,"aucune","premiere mi temps")) -> deuxieme mi temps | V9: =IF((E9-F9)=1,"oui","non") -> oui | W9: =IF((E9-F9)=2,"oui","non") -> non | X9: =IF((E9-F9)=3,"oui","non") -> non | Y9: =IF((E9-F9)>3,"oui","non") -> non | Z9: =IF((E9-F9)=-1,"oui","non") -> non | AA9: =IF((E9-F9)=-2,"oui","non") -> non | AB9: =IF((E9-F9)=-3,"oui","non") -> non | AC9: =IF((F9-E9)>3,"oui","non") -> non | AD9: =IF((E9>0)*AND(F9>0),"oui","non") -> oui | AE9: =IF((J9>0)*AND(K9>0),"oui","non") -> non
A10: Ligue 1 | B10: Nantes | C10: Monaco | D10: 1 | E10: 1 | F10: 3 | G10: =CONCATENATE(E10,"-",F10) -> 1-3 | H10: Sala | I10: Rony Lopes; Jovetic ; Falcao | J10: 0 | K10: 0 | L10: =CONCATENATE(J10,"-",K10) -> 0-0 | M10: =IF(F10=0,"oui","non") -> non | N10: =IF(E10=0,"oui","non") -> non | O10: =IF(E10>F10,"victoire",IF(E10=F10,"nul","defaite")) -> defaite | P10: =IF(F10>E10,"victoire",IF(E10=F10,"nul","defaite")) -> victoire | Q10: =E10+F10 -> 4 | R10: =J10+K10 -> 0 | S10: =IF((Q10-R10)>R10,"deuxieme mi temps",IF((Q10-R10)=R10,"aucune","premiere")) -> deuxieme mi temps | T10: =IF((E10-J10)>J10,"deuxieme mi temps",IF((E10-J10)=J10,"aucune","premiere mi temps")) -> deuxieme mi temps | U10: =IF((F10-K10)>K10,"deuxieme mi temps",IF((F10-K10)=K10,"aucune","premiere mi temps")) -> deuxieme mi temps | V10: =IF((E10-F10)=1,"oui","non") -> non | W10: =IF((E10-F10)=2,"oui","non") -> non | X10: =IF((E10-F10)=3,"oui","non") -> non | Y10: =IF((E10-F10)>3,"oui","non") -> non | Z10: =IF((E10-F10)=-1,"oui","non") -> non | AA10: =IF((E10-F10)=-2,"oui","non") -> oui | AB10: =IF((E10-F10)=-3,"oui","non") -> non | AC10: =IF((F10-E10)>3,"oui","non") -> non | AD10: =IF((E10>0)*AND(F10>0),"oui","non") -> oui | AE10: =IF((J10>0)*AND(K10>0),"oui","non") -> non
A11: Ligue 1 | B11: Marseille | C11: Toulouse | D11: 1 | E11: 4 | F11: 0 | G11: =CONCATENATE(E11,"-",F11) -> 4-0 | H11: Payet ; Germain; Thauvin | I11: - | J11: 1 | K11: 0 | L11: =CONCATENATE(J11,"-",K11) -> 1-0 | M11: =IF(F11=0,"oui","non") -> oui | N11: =IF(E11=0,"oui","non") -> non | O11: =IF(E11>F11,"victoire",IF(E11=F11,"nul","defaite")) -> victoire | P11: =IF(F11>E11,"victoire",IF(E11=F11,"nul","defaite")) -> defaite | Q11: =E11+F11 -> 4 | R11: =J11+K11 -> 1 | S11: =IF((Q11-R11)>R11,"deuxieme mi temps",IF((Q11-R11)=R11,"aucune","premiere")) -> deuxieme mi temps | T11: =IF((E11-J11)>J11,"deuxieme mi temps",IF((E11-J11)=J11,"aucune","premiere mi temps")) -> deuxieme mi temps | U11: =IF((F11-K11)>K11,"deuxieme mi temps",IF((F11-K11)=K11,"aucune","premiere mi temps")) -> aucune | V11: =IF((E11-F11)=1,"oui","non") -> non | W11: =IF((E11-F11)=2,"oui","non") -> non | X11: =IF((E11-F11)=3,"oui","non") -> non | Y11: =IF((E11-F11)>3,"oui","non") -> oui | Z11: =IF((E11-F11)=-1,"oui","non") -> non | AA11: =IF((E11-F11)=-2,"oui","non") -> non | AB11: =IF((E11-F11)=-3,"oui","non") -> non | AC11: =IF((F11-E11)>3,"oui","non") -> non | AD11: =IF((E11>0)*AND(F11>0),"oui","non") -> non | AE11: =IF((J11>0)*AND(K11>0),"oui","non") -> non
A12: Ligue 1 | B12: nimes | C12: marseille | D12: 2 | E12: 3 | F12: 1 | G12: =CONCATENATE(E12,"-",F12) -> 3-1 | H12: Bouanga ; Thioub ; Ripart | I12: Thauvin | J12: 1 | K12: 0 | L12: =CONCATENATE(J12,"-",K12) -> 1-0 | M12: =IF(F12=0,"oui","non") -> non | N12: =IF(E12=0,"oui","non") -> non | O12: =IF(E12>F12,"victoire",IF(E12=F12,"nul","defaite")) -> victoire | P12: =IF(F12>E12,"victoire",IF(E12=F12,"nul","defaite")) -> defaite | Q12: =E12+F12 -> 4 | R12: =J12+K12 -> 1 | S12: =IF((Q12-R12)>R12,"deuxieme mi temps",IF((Q12-R12)=R12,"aucune","premiere")) -> deuxieme mi temps | T12: =IF((E12-J12)>J12,"deuxieme mi temps",IF((E12-J12)=J12,"aucune","premiere mi temps")) -> deuxieme mi temps | U12: =IF((F12-K12)>K12,"deuxieme mi temps",IF((F12-K12)=K12,"aucune","premiere mi temps")) -> deuxieme mi temps | V12: =IF((E12-F12)=1,"oui","non") -> non | W12: =IF((E12-F12)=2,"oui","non") -> oui | X12: =IF((E12-F12)=3,"oui","non") -> non | Y12: =IF((E12-F12)>3,"oui","non") -> non | Z12: =IF((E12-F12)=-1,"oui","non") -> non | AA12: =IF((E12-F12)=-2,"oui","non") -> non | AB12: =IF((E12-F12)=-3,"oui","non") -> non | AC12: =IF((F12-E12)>3,"oui","non") -> non | AD12: =IF((E12>0)*AND(F12>0),"oui","non") -> oui | AE12: =IF((J12>0)*AND(K12>0),"oui","non") -> non
A13: Ligue 1 | B13: toulouse | C13: bordeaux | D13: 2 | E13: 2 | F13: 1 | G13: =CONCATENATE(E13,"-",F13) -> 2-1 | H13: Leya; Dossevi | I13: Kamano | J13: 1 | K13: 0 | L13: =CONCATENATE(J13,"-",K13) -> 1-0 | M13: =IF(F13=0,"oui","non") -> non | N13: =IF(E13=0,"oui","non") -> non | O13: =IF(E13>F13,"victoire",IF(E13=F13,"nul","defaite")) -> victoire | P13: =IF(F13>E13,"victoire",IF(E13=F13,"nul","defaite")) -> defaite | Q13: =E13+F13 -> 3 | R13: =J13+K13 -> 1 | S13: =IF((Q13-R13)>R13,"deuxieme mi temps",IF((Q13-R13)=R13,"aucune","premiere")) -> deuxieme mi temps | T13: =IF((E13-J13)>J13,"deuxieme mi temps",IF((E13-J13)=J13,"aucune","premiere mi temps")) -> aucune | U13: =IF((F13-K13)>K13,"deuxieme mi temps",IF((F13-K13)=K13,"aucune","premiere mi temps")) -> deuxieme mi temps | V13: =IF((E13-F13)=1,"oui","non") -> oui | W13: =IF((E13-F13)=2,"oui","non") -> non | X13: =IF((E13-F13)=3,"oui","non") -> non | Y13: =IF((E13-F13)>3,"oui","non") -> non | Z13: =IF((E13-F13)=-1,"oui","non") -> non | AA13: =IF((E13-F13)=-2,"oui","non") -> non | AB13: =IF((E13-F13)=-3,"oui","non") -> non | AC13: =IF((F13-E13)>3,"oui","non") -> non | AD13: =IF((E13>0)*AND(F13>0),"oui","non") -> oui | AE13: =IF((J13>0)*AND(K13>0),"oui","non") -> non
A14: Ligue 1 | B14: strasbourg | C14: saint etienne | D14: 2 | E14: 1 | F14: 1 | G14: =CONCATENATE(E14,"-",F14) -> 1-1 | H14: Goncalves | I14: Gueye | J14: 0 | K14: 0 | L14: =CONCATENATE(J14,"-",K14) -> 0-0 | M14: =IF(F14=0,"oui","non") -> non | N14: =IF(E14=0,"oui","non") -> non | O14: =IF(E14>F14,"victoire",IF(E14=F14,"nul","defaite")) -> nul | P14: =IF(F14>E14,"victoire",IF(E14=F14,"nul","defaite")) -> nul | Q14: =E14+F14 -> 2 | R14: =J14+K14 -> 0 | S14: =IF((Q14-R14)>R14,"deuxieme mi temps",IF((Q14-R14)=R14,"aucune","premiere")) -> deuxieme mi temps | T14: =IF((E14-J14)>J14,"deuxieme mi temps",IF((E14-J14)=J14,"aucune","premiere mi temps")) -> deuxieme mi temps | U14: =IF((F14-K14)>K14,"deuxieme mi temps",IF((F14-K14)=K14,"aucune","premiere mi temps")) -> deuxieme mi temps | V14: =IF((E14-F14)=1,"oui","non") -> non | W14: =IF((E14-F14)=2,"oui","non") -> non | X14: =IF((E14-F14)=3,"oui","non") -> non | Y14: =IF((E14-F14)>3,"oui","non") -> non | Z14: =IF((E14-F14)=-1,"oui","non") -> non | AA14: =IF((E14-F14)=-2,"oui","non") -> non | AB14: =IF((E14-F14)=-3,"oui","non") -> non | AC14: =IF((F14-E14)>3,"oui","non") -> non | AD14: =IF((E14>0)*AND(F14>0),"oui","non") -> oui | AE14: =IF((J14>0)*AND(K14>0),"oui","non") -> non
... A16: Ligue 1 | B16: caen | C16: nice | D16: 2 | E16: 1 | F16: 1 | G16: =CONCATENATE(E16,"-",F16) -> 1-1 | H16: Bammou | I16: Ganago | J16: 0 | K16: 0 | L16: =CONCATENATE(J16,"-",K16) -> 0-0 | M16: =IF(F16=0,"oui","non") -> non | N16: =IF(E16=0,"oui","non") -> non | O16: =IF(E16>F16,"victoire",IF(E16=F16,"nul","defaite")) -> nul | P16: =IF(F16>E16,"victoire",IF(E16=F16,"nul","defaite")) -> nul | Q16: =E16+F16 -> 2 | R16: =J16+K16 -> 0 | S16: =IF((Q16-R16)>R16,"deuxieme mi temps",IF((Q16-R16)=R16,"aucune","premiere")) -> deuxieme mi temps | T16: =IF((E16-J16)>J16,"deuxieme mi temps",IF((E16-J16)=J16,"aucune","premiere mi temps")) -> deuxieme mi temps | U16: =IF((F16-K16)>K16,"deuxieme mi temps",IF((F16-K16)=K16,"aucune","premiere mi temps")) -> deuxieme mi temps | V16: =IF((E16-F16)=1,"oui","non") -> non | W16: =IF((E16-F16)=2,"oui","non") -> non | X16: =IF((E16-F16)=3,"oui","non") -> non | Y16: =IF((E16-F16)>3,"oui","non") -> non | Z16: =IF((E16-F16)=-1,"oui","non") -> non | AA16: =IF((E16-F16)=-2,"oui","non") -> non | AB16: =IF((E16-F16)=-3,"oui","non") -> non | AC16: =IF((F16-E16)>3,"oui","non") -> non | AD16: =IF((E16>0)*AND(F16>0),"oui","non") -> oui | AE16: =IF((J16>0)*AND(K16>0),"oui","non") -> non
A17: Ligue 1 | B17: dijon | C17: nantes | D17: 2 | E17: 2 | F17: 0 | G17: =CONCATENATE(E17,"-",F17) -> 2-0 | H17: Tavares | J17: 1 | K17: 0 | L17: =CONCATENATE(J17,"-",K17) -> 1-0 | M17: =IF(F17=0,"oui","non") -> oui | N17: =IF(E17=0,"oui","non") -> non | O17: =IF(E17>F17,"victoire",IF(E17=F17,"nul","defaite")) -> victoire | P17: =IF(F17>E17,"victoire",IF(E17=F17,"nul","defaite")) -> defaite | Q17: =E17+F17 -> 2 | R17: =J17+K17 -> 1 | S17: =IF((Q17-R17)>R17,"deuxieme mi temps",IF((Q17-R17)=R17,"aucune","premiere")) -> aucune | T17: =IF((E17-J17)>J17,"deuxieme mi temps",IF((E17-J17)=J17,"aucune","premiere mi temps")) -> aucune | U17: =IF((F17-K17)>K17,"deuxieme mi temps",IF((F17-K17)=K17,"aucune","premiere mi temps")) -> aucune | V17: =IF((E17-F17)=1,"oui","non") -> non | W17: =IF((E17-F17)=2,"oui","non") -> oui | X17: =IF((E17-F17)=3,"oui","non") -> non | Y17: =IF((E17-F17)>3,"oui","non") -> non | Z17: =IF((E17-F17)=-1,"oui","non") -> non | AA17: =IF((E17-F17)=-2,"oui","non") -> non | AB17: =IF((E17-F17)=-3,"oui","non") -> non | AC17: =IF((F17-E17)>3,"oui","non") -> non | AD17: =IF((E17>0)*AND(F17>0),"oui","non") -> non | AE17: =IF((J17>0)*AND(K17>0),"oui","non") -> non
A18: Ligue 1 | B18: Monaco | C18: lille | D18: 2 | E18: 0 | F18: 0 | G18: =CONCATENATE(E18,"-",F18) -> 0-0 | H18: - | I18: - | J18: 0 | K18: 0 | L18: =CONCATENATE(J18,"-",K18) -> 0-0 | M18: =IF(F18=0,"oui","non") -> oui | N18: =IF(E18=0,"oui","non") -> oui | O18: =IF(E18>F18,"victoire",IF(E18=F18,"nul","defaite")) -> nul | P18: =IF(F18>E18,"victoire",IF(E18=F18,"nul","defaite")) -> nul | Q18: =E18+F18 -> 0 | R18: =J18+K18 -> 0 | S18: =IF((Q18-R18)>R18,"deuxieme mi temps",IF((Q18-R18)=R18,"aucune","premiere")) -> aucune | T18: =IF((E18-J18)>J18,"deuxieme mi temps",IF((E18-J18)=J18,"aucune","premiere mi temps")) -> aucune | U18: =IF((F18-K18)>K18,"deuxieme mi temps",IF((F18-K18)=K18,"aucune","premiere mi temps")) -> aucune | V18: =IF((E18-F18)=1,"oui","non") -> non | W18: =IF((E18-F18)=2,"oui","non") -> non | X18: =IF((E18-F18)=3,"oui","non") -> non | Y18: =IF((E18-F18)>3,"oui","non") -> non | Z18: =IF((E18-F18)=-1,"oui","non") -> non | AA18: =IF((E18-F18)=-2,"oui","non") -> non | AB18: =IF((E18-F18)=-3,"oui","non") -> non | AC18: =IF((F18-E18)>3,"oui","non") -> non | AD18: =IF((E18>0)*AND(F18>0),"oui","non") -> non | AE18: =IF((J18>0)*AND(K18>0),"oui","non") -> non
A19: Ligue 1 | B19: rennes | C19: angers | D19: 2 | E19: 1 | F19: 0 | G19: =CONCATENATE(E19,"-",F19) -> 1-0 | H19: Sarr | I19: - | J19: 0 | K19: 0 | L19: =CONCATENATE(J19,"-",K19) -> 0-0 | M19: =IF(F19=0,"oui","non") -> oui | N19: =IF(E19=0,"oui","non") -> non | O19: =IF(E19>F19,"victoire",IF(E19=F19,"nul","defaite")) -> victoire | P19: =IF(F19>E19,"victoire",IF(E19=F19,"nul","defaite")) -> defaite | Q19: =E19+F19 -> 1 | R19: =J19+K19 -> 0 | S19: =IF((Q19-R19)>R19,"deuxieme mi temps",IF((Q19-R19)=R19,"aucune","premiere")) -> deuxieme mi temps | T19: =IF((E19-J19)>J19,"deuxieme mi temps",IF((E19-J19)=J19,"aucune","premiere mi temps")) -> deuxieme mi temps | U19: =IF((F19-K19)>K19,"deuxieme mi temps",IF((F19-K19)=K19,"aucune","premiere mi temps")) -> aucune | V19: =IF((E19-F19)=1,"oui","non") -> oui | W19: =IF((E19-F19)=2,"oui","non") -> non | X19: =IF((E19-F19)=3,"oui","non") -> non | Y19: =IF((E19-F19)>3,"oui","non") -> non | Z19: =IF((E19-F19)=-1,"oui","non") -> non | AA19: =IF((E19-F19)=-2,"oui","non") -> non | AB19: =IF((E19-F19)=-3,"oui","non") -> non | AC19: =IF((F19-E19)>3,"oui","non") -> non | AD19: =IF((E19>0)*AND(F19>0),"oui","non") -> non | AE19: =IF((J19>0)*AND(K19>0),"oui","non") -> non
A20: Ligue 1 | B20: guingamp | C20: PSG | D20: 2 | E20: 1 | F20: 3 | G20: =CONCATENATE(E20,"-",F20) -> 1-3 | H20: Roux | I20: Neymar ; Mbappe | J20: 1 | K20: 0 | L20: =CONCATENATE(J20,"-",K20) -> 1-0 | M20: =IF(F20=0,"oui","non") -> non | N20: =IF(E20=0,"oui","non") -> non | O20: =IF(E20>F20,"victoire",IF(E20=F20,"nul","defaite")) -> defaite | P20: =IF(F20>E20,"victoire",IF(E20=F20,"nul","defaite")) -> victoire | Q20: =E20+F20 -> 4 | R20: =J20+K20 -> 1 | S20: =IF((Q20-R20)>R20,"deuxieme mi temps",IF((Q20-R20)=R20,"aucune","premiere")) -> deuxieme mi temps | T20: =IF((E20-J20)>J20,"deuxieme mi temps",IF((E20-J20)=J20,"aucune","premiere mi temps")) -> premiere mi temps | U20: =IF((F20-K20)>K20,"deuxieme mi temps",IF((F20-K20)=K20,"aucune","premiere mi temps")) -> deuxieme mi temps | V20: =IF((E20-F20)=1,"oui","non") -> non | W20: =IF((E20-F20)=2,"oui","non") -> non | X20: =IF((E20-F20)=3,"oui","non") -> non | Y20: =IF((E20-F20)>3,"oui","non") -> non | Z20: =IF((E20-F20)=-1,"oui","non") -> non | AA20: =IF((E20-F20)=-2,"oui","non") -> oui | AB20: =IF((E20-F20)=-3,"oui","non") -> non | AC20: =IF((F20-E20)>3,"oui","non") -> non | AD20: =IF((E20>0)*AND(F20>0),"oui","non") -> oui | AE20: =IF((J20>0)*AND(K20>0),"oui","non") -> non
A21: Ligue 1 | B21: Reims | C21: Lyon | D21: 2 | E21: 1 | F21: 0 | G21: =CONCATENATE(E21,"-",F21) -> 1-0 | H21: Chavaria | I21: - | J21: 1 | K21: 0 | L21: =CONCATENATE(J21,"-",K21) -> 1-0 | M21: =IF(F21=0,"oui","non") -> oui | N21: =IF(E21=0,"oui","non") -> non | O21: =IF(E21>F21,"victoire",IF(E21=F21,"nul","defaite")) -> victoire | P21: =IF(F21>E21,"victoire",IF(E21=F21,"nul","defaite")) -> defaite | Q21: =E21+F21 -> 1 | R21: =J21+K21 -> 1 | S21: =IF((Q21-R21)>R21,"deuxieme mi temps",IF((Q21-R21)=R21,"aucune","premiere")) -> premiere | T21: =IF((E21-J21)>J21,"deuxieme mi temps",IF((E21-J21)=J21,"aucune","premiere mi temps")) -> premiere mi temps | U21: =IF((F21-K21)>K21,"deuxieme mi temps",IF((F21-K21)=K21,"aucune","premiere mi temps")) -> aucune | V21: =IF((E21-F21)=1,"oui","non") -> oui | W21: =IF((E21-F21)=2,"oui","non") -> non | X21: =IF((E21-F21)=3,"oui","non") -> non | Y21: =IF((E21-F21)>3,"oui","non") -> non | Z21: =IF((E21-F21)=-1,"oui","non") -> non | AA21: =IF((E21-F21)=-2,"oui","non") -> non | AB21: =IF((E21-F21)=-3,"oui","non") -> non | AC21: =IF((F21-E21)>3,"oui","non") -> non | AD21: =IF((E21>0)*AND(F21>0),"oui","non") -> non | AE21: =IF((J21>0)*AND(K21>0),"oui","non") -> non
A22: Ligue 1 | B22: Marseille | C22: Rennes | D22: 3 | E22: 2 | F22: 2 | G22: =CONCATENATE(E22,"-",F22) -> 2-2 | J22: 0 | K22: 2 | L22: =CONCATENATE(J22,"-",K22) -> 0-2 | M22: =IF(F22=0,"oui","non") -> non | N22: =IF(E22=0,"oui","non") -> non | O22: =IF(E22>F22,"victoire",IF(E22=F22,"nul","defaite")) -> nul | P22: =IF(F22>E22,"victoire",IF(E22=F22,"nul","defaite")) -> nul | Q22: =E22+F22 -> 4 | R22: =J22+K22 -> 2 | S22: =IF((Q22-R22)>R22,"deuxieme mi temps",IF((Q22-R22)=R22,"aucune","premiere")) -> aucune | T22: =IF((E22-J22)>J22,"deuxieme mi temps",IF((E22-J22)=J22,"aucune","premiere mi temps")) -> deuxieme mi temps | U22: =IF((F22-K22)>K22,"deuxieme mi temps",IF((F22-K22)=K22,"aucune","premiere mi temps")) -> premiere mi temps | V22: =IF((E22-F22)=1,"oui","non") -> non | W22: =IF((E22-F22)=2,"oui","non") -> non | X22: =IF((E22-F22)=3,"oui","non") -> non | Y22: =IF((E22-F22)>3,"oui","non") -> non | Z22: =IF((E22-F22)=-1,"oui","non") -> non | AA22: =IF((E22-F22)=-2,"oui","non") -> non | AB22: =IF((E22-F22)=-3,"oui","non") -> non | AC22: =IF((F22-E22)>3,"oui","non") -> non | AD22: =IF((E22>0)*AND(F22>0),"oui","non") -> oui | AE22: =IF((J22>0)*AND(K22>0),"oui","non") -> non
A23: Ligue 1 | B23: Bordeaux | C23: Monaco | D23: 3 | E23: 2 | F23: 1 | G23: =CONCATENATE(E23,"-",F23) -> 2-1 | J23: 0 | K23: 0 | L23: =CONCATENATE(J23,"-",K23) -> 0-0 | M23: =IF(F23=0,"oui","non") -> non | N23: =IF(E23=0,"oui","non") -> non | O23: =IF(E23>F23,"victoire",IF(E23=F23,"nul","defaite")) -> victoire | P23: =IF(F23>E23,"victoire",IF(E23=F23,"nul","defaite")) -> defaite | Q23: =E23+F23 -> 3 | R23: =J23+K23 -> 0 | S23: =IF((Q23-R23)>R23,"deuxieme mi temps",IF((Q23-R23)=R23,"aucune","premiere")) -> deuxieme mi temps | T23: =IF((E23-J23)>J23,"deuxieme mi temps",IF((E23-J23)=J23,"aucune","premiere mi temps")) -> deuxieme mi temps | U23: =IF((F23-K23)>K23,"deuxieme mi temps",IF((F23-K23)=K23,"aucune","premiere mi temps")) -> deuxieme mi temps | V23: =IF((E23-F23)=1,"oui","non") -> oui | W23: =IF((E23-F23)=2,"oui","non") -> non | X23: =IF((E23-F23)=3,"oui","non") -> non | Y23: =IF((E23-F23)>3,"oui","non") -> non | Z23: =IF((E23-F23)=-1,"oui","non") -> non | AA23: =IF((E23-F23)=-2,"oui","non") -> non | AB23: =IF((E23-F23)=-3,"oui","non") -> non | AC23: =IF((F23-E23)>3,"oui","non") -> non | AD23: =IF((E23>0)*AND(F23>0),"oui","non") -> oui | AE23: =IF((J23>0)*AND(K23>0),"oui","non") -> non
A24: Ligue 1 | B24: lille | C24: Guingamp | D24: 3 | E24: 3 | F24: 0 | G24: =CONCATENATE(E24,"-",F24) -> 3-0 | J24: 2 | K24: 0 | L24: =CONCATENATE(J24,"-",K24) -> 2-0 | M24: =IF(F24=0,"oui","non") -> oui | N24: =IF(E24=0,"oui","non") -> non | O24: =IF(E24>F24,"victoire",IF(E24=F24,"nul","defaite")) -> victoire | P24: =IF(F24>E24,"victoire",IF(E24=F24,"nul","defaite")) -> defaite | Q24: =E24+F24 -> 3 | R24: =J24+K24 -> 2 | S24: =IF((Q24-R24)>R24,"deuxieme mi temps",IF((Q24-R24)=R24,"aucune","premiere")) -> premiere | T24: =IF((E24-J24)>J24,"deuxieme mi temps",IF((E24-J24)=J24,"aucune","premiere mi temps")) -> premiere mi temps | U24: =IF((F24-K24)>K24,"deuxieme mi temps",IF((F24-K24)=K24,"aucune","premiere mi temps")) -> aucune | V24: =IF((E24-F24)=1,"oui","non") -> non | W24: =IF((E24-F24)=2,"oui","non") -> non | X24: =IF((E24-F24)=3,"oui","non") -> oui | Y24: =IF((E24-F24)>3,"oui","non") -> non | Z24: =IF((E24-F24)=-1,"oui","non") -> non | AA24: =IF((E24-F24)=-2,"oui","non") -> non | AB24: =IF((E24-F24)=-3,"oui","non") -> non | AC24: =IF((F24-E24)>3,"oui","non") -> non | AD24: =IF((E24>0)*AND(F24>0),"oui","non") -> non | AE24: =IF((J24>0)*AND(K24>0),"oui","non") -> non
A25: Ligue 1 | B25: amiens | C25: Reims | D25: 3 | E25: 4 | F25: 1 | G25: =CONCATENATE(E25,"-",F25) -> 4-1 | J25: 1 | K25: 0 | L25: =CONCATENATE(J25,"-",K25) -> 1-0 | M25: =IF(F25=0,"oui","non") -> non | N25: =IF(E25=0,"oui","non") -> non | O25: =IF(E25>F25,"victoire",IF(E25=F25,"nul","defaite")) -> victoire | P25: =IF(F25>E25,"victoire",IF(E25=F25,"nul","defaite")) -> defaite | Q25: =E25+F25 -> 5 | R25: =J25+K25 -> 1 | S25: =IF((Q25-R25)>R25,"deuxieme mi temps",IF((Q25-R25)=R25,"aucune","premiere")) -> deuxieme mi temps | T25: =IF((E25-J25)>J25,"deuxieme mi temps",IF((E25-J25)=J25,"aucune","premiere mi temps")) -> deuxieme mi temps | U25: =IF((F25-K25)>K25,"deuxieme mi temps",IF((F25-K25)=K25,"aucune","premiere mi temps")) -> deuxieme mi temps | V25: =IF((E25-F25)=1,"oui","non") -> non | W25: =IF((E25-F25)=2,"oui","non") -> non | X25: =IF((E25-F25)=3,"oui","non") -> oui | Y25: =IF((E25-F25)>3,"oui","non") -> non | Z25: =IF((E25-F25)=-1,"oui","non") -> non | AA25: =IF((E25-F25)=-2,"oui","non") -> non | AB25: =IF((E25-F25)=-3,"oui","non") -> non | AC25: =IF((F25-E25)>3,"oui","non") -> non | AD25: =IF((E25>0)*AND(F25>0),"oui","non") -> oui | AE25: =IF((J25>0)*AND(K25>0),"oui","non") -> non
A26: Ligue 1 | B26: Montpellier | C26: saint etienne | D26: 3 | E26: 0 | F26: 0 | G26: =CONCATENATE(E26,"-",F26) -> 0-0 | J26: 0 | K26: 0 | L26: =CONCATENATE(J26,"-",K26) -> 0-0 | M26: =IF(F26=0,"oui","non") -> oui | N26: =IF(E26=0,"oui","non") -> oui | O26: =IF(E26>F26,"victoire",IF(E26=F26,"nul","defaite")) -> nul | P26: =IF(F26>E26,"victoire",IF(E26=F26,"nul","defaite")) -> nul | Q26: =E26+F26 -> 0 | R26: =J26+K26 -> 0 | S26: =IF((Q26-R26)>R26,"deuxieme mi temps",IF((Q26-R26)=R26,"aucune","premiere")) -> aucune | T26: =IF((E26-J26)>J26,"deuxieme mi temps",IF((E26-J26)=J26,"aucune","premiere mi temps")) -> aucune | U26: =IF((F26-K26)>K26,"deuxieme mi temps",IF((F26-K26)=K26,"aucune","premiere mi temps")) -> aucune | V26: =IF((E26-F26)=1,"oui","non") -> non | W26: =IF((E26-F26)=2,"oui","non") -> non | X26: =IF((E26-F26)=3,"oui","non") -> non | Y26: =IF((E26-F26)>3,"oui","non") -> non | Z26: =IF((E26-F26)=-1,"oui","non") -> non | AA26: =IF((E26-F26)=-2,"oui","non") -> non | AB26: =IF((E26-F26)=-3,"oui","non") -> non | AC26: =IF((F26-E26)>3,"oui","non") -> non | AD26: =IF((E26>0)*AND(F26>0),"oui","non") -> non | AE26: =IF((J26>0)*AND(K26>0),"oui","non") -> non
A27: Ligue 1 | B27: Nantes | C27: Caen | D27: 3 | E27: 1 | F27: 1 | G27: =CONCATENATE(E27,"-",F27) -> 1-1 | J27: 0 | K27: 1 | L27: =CONCATENATE(J27,"-",K27) -> 0-1 | M27: =IF(F27=0,"oui","non") -> non | N27: =IF(E27=0,"oui","non") -> non | O27: =IF(E27>F27,"victoire",IF(E27=F27,"nul","defaite")) -> nul | P27: =IF(F27>E27,"victoire",IF(E27=F27,"nul","defaite")) -> nul | Q27: =E27+F27 -> 2 | R27: =J27+K27 -> 1 | S27: =IF((Q27-R27)>R27,"deuxieme mi temps",IF((Q27-R27)=R27,"aucune","premiere")) -> aucune | T27: =IF((E27-J27)>J27,"deuxieme mi temps",IF((E27-J27)=J27,"aucune","premiere mi temps")) -> deuxieme mi temps | U27: =IF((F27-K27)>K27,"deuxieme mi temps",IF((F27-K27)=K27,"aucune","premiere mi temps")) -> premiere mi temps | V27: =IF((E27-F27)=1,"oui","non") -> non | W27: =IF((E27-F27)=2,"oui","non") -> non | X27: =IF((E27-F27)=3,"oui","non") -> non | Y27: =IF((E27-F27)>3,"oui","non") -> non | Z27: =IF((E27-F27)=-1,"oui","non") -> non | AA27: =IF((E27-F27)=-2,"oui","non") -> non | AB27: =IF((E27-F27)=-3,"oui","non") -> non | AC27: =IF((F27-E27)>3,"oui","non") -> non | AD27: =IF((E27>0)*AND(F27>0),"oui","non") -> oui | AE27: =IF((J27>0)*AND(K27>0),"oui","non") -> non
A28: Ligue 1 | B28: Nice | C28: Dijon | D28: 3 | E28: 0 | F28: 4 | G28: =CONCATENATE(E28,"-",F28) -> 0-4 | J28: 0 | K28: 0 | L28: =CONCATENATE(J28,"-",K28) -> 0-0 | M28: =IF(F28=0,"oui","non") -> non | N28: =IF(E28=0,"oui","non") -> oui | O28: =IF(E28>F28,"victoire",IF(E28=F28,"nul","defaite")) -> defaite | P28: =IF(F28>E28,"victoire",IF(E28=F28,"nul","defaite")) -> victoire | Q28: =E28+F28 -> 4 | R28: =J28+K28 -> 0 | S28: =IF((Q28-R28)>R28,"deuxieme mi temps",IF((Q28-R28)=R28,"aucune","premiere")) -> deuxieme mi temps | T28: =IF((E28-J28)>J28,"deuxieme mi temps",IF((E28-J28)=J28,"aucune","premiere mi temps")) -> aucune | U28: =IF((F28-K28)>K28,"deuxieme mi temps",IF((F28-K28)=K28,"aucune","premiere mi temps")) -> deuxieme mi temps | V28: =IF((E28-F28)=1,"oui","non") -> non | W28: =IF((E28-F28)=2,"oui","non") -> non | X28: =IF((E28-F28)=3,"oui","non") -> non | Y28: =IF((E28-F28)>3,"oui","non") -> non | Z28: =IF((E28-F28)=-1,"oui","non") -> non | AA28: =IF((E28-F28)=-2,"oui","non") -> non | AB28: =IF((E28-F28)=-3,"oui","non") -> non | AC28: =IF((F28-E28)>3,"oui","non") -> oui | AD28: =IF((E28>0)*AND(F28>0),"oui","non") -> non | AE28: =IF((J28>0)*AND(K28>0),"oui","non") -> non
A29: Ligue 1 | B29: toulouse | C29: Nimes | D29: 3 | E29: 1 | F29: 0 | G29: =CONCATENATE(E29,"-",F29) -> 1-0 | J29: 0 | K29: 0 | L29: =CONCATENATE(J29,"-",K29) -> 0-0 | M29: =IF(F29=0,"oui","non") -> oui | N29: =IF(E29=0,"oui","non") -> non | O29: =IF(E29>F29,"victoire",IF(E29=F29,"nul","defaite")) -> victoire | P29: =IF(F29>E29,"victoire",IF(E29=F29,"nul","defaite")) -> defaite | Q29: =E29+F29 -> 1 | R29: =J29+K29 -> 0 | S29: =IF((Q29-R29)>R29,"deuxieme mi temps",IF((Q29-R29)=R29,"aucune","premiere")) -> deuxieme mi temps | T29: =IF((E29-J29)>J29,"deuxieme mi temps",IF((E29-J29)=J29,"aucune","premiere mi temps")) -> deuxieme mi temps | U29: =IF((F29-K29)>K29,"deuxieme mi temps",IF((F29-K29)=K29,"aucune","premiere mi temps")) -> aucune | V29: =IF((E29-F29)=1,"oui","non") -> oui | W29: =IF((E29-F29)=2,"oui","non") -> non | X29: =IF((E29-F29)=3,"oui","non") -> non | Y29: =IF((E29-F29)>3,"oui","non") -> non | Z29: =IF((E29-F29)=-1,"oui","non") -> non | AA29: =IF((E29-F29)=-2,"oui","non") -> non | AB29: =IF((E29-F29)=-3,"oui","non") -> non | AC29: =IF((F29-E29)>3,"oui","non") -> non | AD29: =IF((E29>0)*AND(F29>0),"oui","non") -> non | AE29: =IF((J29>0)*AND(K29>0),"oui","non") -> non
A30: Ligue 1 | B30: PSG | C30: angers | D30: 3 | E30: 3 | F30: 1 | G30: =CONCATENATE(E30,"-",F30) -> 3-1 | J30: 1 | K30: 1 | L30: =CONCATENATE(J30,"-",K30) -> 1-1 | M30: =IF(F30=0,"oui","non") -> non | N30: =IF(E30=0,"oui","non") -> non | O30: =IF(E30>F30,"victoire",IF(E30=F30,"nul","defaite")) -> victoire | P30: =IF(F30>E30,"victoire",IF(E30=F30,"nul","defaite")) -> defaite | Q30: =E30+F30 -> 4 | R30: =J30+K30 -> 2 | S30: =IF((Q30-R30)>R30,"deuxieme mi temps",IF((Q30-R30)=R30,"aucune","premiere")) -> aucune | T30: =IF((E30-J30)>J30,"deuxieme mi temps",IF((E30-J30)=J30,"aucune","premiere mi temps")) -> deuxieme mi temps | U30: =IF((F30-K30)>K30,"deuxieme mi temps",IF((F30-K30)=K30,"aucune","premiere mi temps")) -> premiere mi temps | V30: =IF((E30-F30)=1,"oui","non") -> non | W30: =IF((E30-F30)=2,"oui","non") -> oui | X30: =IF((E30-F30)=3,"oui","non") -> non | Y30: =IF((E30-F30)>3,"oui","non") -> non | Z30: =IF((E30-F30)=-1,"oui","non") -> non | AA30: =IF((E30-F30)=-2,"oui","non") -> non | AB30: =IF((E30-F30)=-3,"oui","non") -> non | AC30: =IF((F30-E30)>3,"oui","non") -> non | AD30: =IF((E30>0)*AND(F30>0),"oui","non") -> oui | AE30: =IF((J30>0)*AND(K30>0),"oui","non") -> oui
A31: Ligue 1 | B31: Lyon | C31: Strasbourg | D31: 3 | E31: 2 | F31: 0 | G31: =CONCATENATE(E31,"-",F31) -> 2-0 | J31: 1 | K31: 0 | L31: =CONCATENATE(J31,"-",K31) -> 1-0 | M31: =IF(F31=0,"oui","non") -> oui | N31: =IF(E31=0,"oui","non") -> non | O31: =IF(E31>F31,"victoire",IF(E31=F31,"nul","defaite")) -> victoire | P31: =IF(F31>E31,"victoire",IF(E31=F31,"nul","defaite")) -> defaite | Q31: =E31+F31 -> 2 | R31: =J31+K31 -> 1 | S31: =IF((Q31-R31)>R31,"deuxieme mi temps",IF((Q31-R31)=R31,"aucune","premiere")) -> aucune | T31: =IF((E31-J31)>J31,"deuxieme mi temps",IF((E31-J31)=J31,"aucune","premiere mi temps")) -> aucune | U31: =IF((F31-K31)>K31,"deuxieme mi temps",IF((F31-K31)=K31,"aucune","premiere mi temps")) -> aucune | V31: =IF((E31-F31)=1,"oui","non") -> non | W31: =IF((E31-F31)=2,"oui","non") -> oui | X31: =IF((E31-F31)=3,"oui","non") -> non | Y31: =IF((E31-F31)>3,"oui","non") -> non | Z31: =IF((E31-F31)=-1,"oui","non") -> non | AA31: =IF((E31-F31)=-2,"oui","non") -> non | AB31: =IF((E31-F31)=-3,"oui","non") -> non | AC31: =IF((F31-E31)>3,"oui","non") -> non | AD31: =IF((E31>0)*AND(F31>0),"oui","non") -> non | AE31: =IF((J31>0)*AND(K31>0),"oui","non") -> non
A32: Ligue 1 | B32: Monaco | C32: marseille | D32: 4 | E32: 2 | F32: 3 | G32: =CONCATENATE(E32,"-",F32) -> 2-3 | J32: 0 | K32: 1 | L32: =CONCATENATE(J32,"-",K32) -> 0-1 | M32: =IF(F32=0,"oui","non") -> non | N32: =IF(E32=0,"oui","non") -> non | O32: =IF(E32>F32,"victoire",IF(E32=F32,"nul","defaite")) -> defaite | P32: =IF(F32>E32,"victoire",IF(E32=F32,"nul","defaite")) -> victoire | Q32: =E32+F32 -> 5 | R32: =J32+K32 -> 1 | S32: =IF((Q32-R32)>R32,"deuxieme mi temps",IF((Q32-R32)=R32,"aucune","premiere")) -> deuxieme mi temps | T32: =IF((E32-J32)>J32,"deuxieme mi temps",IF((E32-J32)=J32,"aucune","premiere mi temps")) -> deuxieme mi temps | U32: =IF((F32-K32)>K32,"deuxieme mi temps",IF((F32-K32)=K32,"aucune","premiere mi temps")) -> deuxieme mi temps | V32: =IF((E32-F32)=1,"oui","non") -> non | W32: =IF((E32-F32)=2,"oui","non") -> non | X32: =IF((E32-F32)=3,"oui","non") -> non | Y32: =IF((E32-F32)>3,"oui","non") -> non | Z32: =IF((E32-F32)=-1,"oui","non") -> oui | AA32: =IF((E32-F32)=-2,"oui","non") -> non | AB32: =IF((E32-F32)=-3,"oui","non") -> non | AC32: =IF((F32-E32)>3,"oui","non") -> non | AD32: =IF((E32>0)*AND(F32>0),"oui","non") -> oui | AE32: =IF((J32>0)*AND(K32>0),"oui","non") -> non
A33: Ligue 1 | B33: Rennes | C33: bordeaux | D33: 4 | E33: 2 | F33: 0 | G33: =CONCATENATE(E33,"-",F33) -> 2-0 | J33: 2 | K33: 0 | L33: =CONCATENATE(J33,"-",K33) -> 2-0 | M33: =IF(F33=0,"oui","non") -> oui | N33: =IF(E33=0,"oui","non") -> non | O33: =IF(E33>F33,"victoire",IF(E33=F33,"nul","defaite")) -> victoire | P33: =IF(F33>E33,"victoire",IF(E33=F33,"nul","defaite")) -> defaite | Q33: =E33+F33 -> 2 | R33: =J33+K33 -> 2 | S33: =IF((Q33-R33)>R33,"deuxieme mi temps",IF((Q33-R33)=R33,"aucune","premiere")) -> premiere | T33: =IF((E33-J33)>J33,"deuxieme mi temps",IF((E33-J33)=J33,"aucune","premiere mi temps")) -> premiere mi temps | U33: =IF((F33-K33)>K33,"deuxieme mi temps",IF((F33-K33)=K33,"aucune","premiere mi temps")) -> aucune | V33: =IF((E33-F33)=1,"oui","non") -> non | W33: =IF((E33-F33)=2,"oui","non") -> oui | X33: =IF((E33-F33)=3,"oui","non") -> non | Y33: =IF((E33-F33)>3,"oui","non") -> non | Z33: =IF((E33-F33)=-1,"oui","non") -> non | AA33: =IF((E33-F33)=-2,"oui","non") -> non | AB33: =IF((E33-F33)=-3,"oui","non") -> non | AC33: =IF((F33-E33)>3,"oui","non") -> non | AD33: =IF((E33>0)*AND(F33>0),"oui","non") -> non | AE33: =IF((J33>0)*AND(K33>0),"oui","non") -> non
... A101: Ligue 1 | B101: nice | C101: marseille | D101: 10 | E101: 0 | F101: 1 | G101: =CONCATENATE(E101,"-",F101) -> 0-1 | J101: 0 | K101: 1 | L101: =CONCATENATE(J101,"-",K101) -> 0-1 | M101: =IF(F101=0,"oui","non") -> non | N101: =IF(E101=0,"oui","non") -> oui | O101: =IF(E101>F101,"victoire",IF(E101=F101,"nul","defaite")) -> defaite | P101: =IF(F101>E101,"victoire",IF(E101=F101,"nul","defaite")) -> victoire | Q101: =E101+F101 -> 1 | R101: =J101+K101 -> 1 | S101: =IF((Q101-R101)>R101,"deuxieme mi temps",IF((Q101-R101)=R101,"aucune","premiere")) -> premiere | T101: =IF((E101-J101)>J101,"deuxieme mi temps",IF((E101-J101)=J101,"aucune","premiere mi temps")) -> aucune | U101: =IF((F101-K101)>K101,"deuxieme mi temps",IF((F101-K101)=K101,"aucune","premiere mi temps")) -> premiere mi temps | V101: =IF((E101-F101)=1,"oui","non") -> non | W101: =IF((E101-F101)=2,"oui","non") -> non | X101: =IF((E101-F101)=3,"oui","non") -> non | Y101: =IF((E101-F101)>3,"oui","non") -> non | Z101: =IF((E101-F101)=-1,"oui","non") -> oui | AA101: =IF((E101-F101)=-2,"oui","non") -> non | AB101: =IF((E101-F101)=-3,"oui","non") -> non | AC101: =IF((F101-E101)>3,"oui","non") -> non | AD101: =IF((E101>0)*AND(F101>0),"oui","non") -> non | AE101: =IF((J101>0)*AND(K101>0),"oui","non") -> non
A102: Ligue 1 | G102: =CONCATENATE(E102,"-",F102) -> - | L102: =CONCATENATE(J102,"-",K102) -> - | M102: =IF(F102=0,"oui","non") -> oui | N102: =IF(E102=0,"oui","non") -> oui | O102: =IF(E102>F102,"victoire",IF(E102=F102,"nul","defaite")) -> nul | P102: =IF(F102>E102,"victoire",IF(E102=F102,"nul","defaite")) -> nul | Q102: =E102+F102 -> 0 | R102: =J102+K102 -> 0 | S102: =IF((Q102-R102)>R102,"deuxieme mi temps",IF((Q102-R102)=R102,"aucune","premiere")) -> aucune | T102: =IF((E102-J102)>J102,"deuxieme mi temps",IF((E102-J102)=J102,"aucune","premiere mi temps")) -> aucune | U102: =IF((F102-K102)>K102,"deuxieme mi temps",IF((F102-K102)=K102,"aucune","premiere mi temps")) -> aucune | V102: =IF((E102-F102)=1,"oui","non") -> non | W102: =IF((E102-F102)=2,"oui","non") -> non | X102: =IF((E102-F102)=3,"oui","non") -> non | Y102: =IF((E102-F102)>3,"oui","non") -> non | Z102: =IF((E102-F102)=-1,"oui","non") -> non | AA102: =IF((E102-F102)=-2,"oui","non") -> non | AB102: =IF((E102-F102)=-3,"oui","non") -> non | AC102: =IF((F102-E102)>3,"oui","non") -> non | AD102: =IF((E102>0)*AND(F102>0),"oui","non") -> non | AE102: =IF((J102>0)*AND(K102>0),"oui","non") -> non
A103: Ligue 1 | G103: =CONCATENATE(E103,"-",F103) -> - | L103: =CONCATENATE(J103,"-",K103) -> - | M103: =IF(F103=0,"oui","non") -> oui | N103: =IF(E103=0,"oui","non") -> oui | O103: =IF(E103>F103,"victoire",IF(E103=F103,"nul","defaite")) -> nul | P103: =IF(F103>E103,"victoire",IF(E103=F103,"nul","defaite")) -> nul | Q103: =E103+F103 -> 0 | R103: =J103+K103 -> 0 | S103: =IF((Q103-R103)>R103,"deuxieme mi temps",IF((Q103-R103)=R103,"aucune","premiere")) -> aucune | T103: =IF((E103-J103)>J103,"deuxieme mi temps",IF((E103-J103)=J103,"aucune","premiere mi temps")) -> aucune | U103: =IF((F103-K103)>K103,"deuxieme mi temps",IF((F103-K103)=K103,"aucune","premiere mi temps")) -> aucune | V103: =IF((E103-F103)=1,"oui","non") -> non | W103: =IF((E103-F103)=2,"oui","non") -> non | X103: =IF((E103-F103)=3,"oui","non") -> non | Y103: =IF((E103-F103)>3,"oui","non") -> non | Z103: =IF((E103-F103)=-1,"oui","non") -> non | AA103: =IF((E103-F103)=-2,"oui","non") -> non | AB103: =IF((E103-F103)=-3,"oui","non") -> non | AC103: =IF((F103-E103)>3,"oui","non") -> non | AD103: =IF((E103>0)*AND(F103>0),"oui","non") -> non | AE103: =IF((J103>0)*AND(K103>0),"oui","non") -> non
A104: Ligue 1 | G104: =CONCATENATE(E104,"-",F104) -> - | L104: =CONCATENATE(J104,"-",K104) -> - | M104: =IF(F104=0,"oui","non") -> oui | N104: =IF(E104=0,"oui","non") -> oui | O104: =IF(E104>F104,"victoire",IF(E104=F104,"nul","defaite")) -> nul | P104: =IF(F104>E104,"victoire",IF(E104=F104,"nul","defaite")) -> nul | Q104: =E104+F104 -> 0 | R104: =J104+K104 -> 0 | S104: =IF((Q104-R104)>R104,"deuxieme mi temps",IF((Q104-R104)=R104,"aucune","premiere")) -> aucune | T104: =IF((E104-J104)>J104,"deuxieme mi temps",IF((E104-J104)=J104,"aucune","premiere mi temps")) -> aucune | U104: =IF((F104-K104)>K104,"deuxieme mi temps",IF((F104-K104)=K104,"aucune","premiere mi temps")) -> aucune | V104: =IF((E104-F104)=1,"oui","non") -> non | W104: =IF((E104-F104)=2,"oui","non") -> non | X104: =IF((E104-F104)=3,"oui","non") -> non | Y104: =IF((E104-F104)>3,"oui","non") -> non | Z104: =IF((E104-F104)=-1,"oui","non") -> non | AA104: =IF((E104-F104)=-2,"oui","non") -> non | AB104: =IF((E104-F104)=-3,"oui","non") -> non | AC104: =IF((F104-E104)>3,"oui","non") -> non | AD104: =IF((E104>0)*AND(F104>0),"oui","non") -> non | AE104: =IF((J104>0)*AND(K104>0),"oui","non") -> non
A105: Ligue 1 | G105: =CONCATENATE(E105,"-",F105) -> - | L105: =CONCATENATE(J105,"-",K105) -> - | M105: =IF(F105=0,"oui","non") -> oui | N105: =IF(E105=0,"oui","non") -> oui | O105: =IF(E105>F105,"victoire",IF(E105=F105,"nul","defaite")) -> nul | P105: =IF(F105>E105,"victoire",IF(E105=F105,"nul","defaite")) -> nul | Q105: =E105+F105 -> 0 | R105: =J105+K105 -> 0 | S105: =IF((Q105-R105)>R105,"deuxieme mi temps",IF((Q105-R105)=R105,"aucune","premiere")) -> aucune | T105: =IF((E105-J105)>J105,"deuxieme mi temps",IF((E105-J105)=J105,"aucune","premiere mi temps")) -> aucune | U105: =IF((F105-K105)>K105,"deuxieme mi temps",IF((F105-K105)=K105,"aucune","premiere mi temps")) -> aucune | V105: =IF((E105-F105)=1,"oui","non") -> non | W105: =IF((E105-F105)=2,"oui","non") -> non | X105: =IF((E105-F105)=3,"oui","non") -> non | Y105: =IF((E105-F105)>3,"oui","non") -> non | Z105: =IF((E105-F105)=-1,"oui","non") -> non | AA105: =IF((E105-F105)=-2,"oui","non") -> non | AB105: =IF((E105-F105)=-3,"oui","non") -> non | AC105: =IF((F105-E105)>3,"oui","non") -> non | AD105: =IF((E105>0)*AND(F105>0),"oui","non") -> non | AE105: =IF((J105>0)*AND(K105>0),"oui","non") -> non
A106: Ligue 1 | G106: =CONCATENATE(E106,"-",F106) -> - | L106: =CONCATENATE(J106,"-",K106) -> - | M106: =IF(F106=0,"oui","non") -> oui | N106: =IF(E106=0,"oui","non") -> oui | O106: =IF(E106>F106,"victoire",IF(E106=F106,"nul","defaite")) -> nul | P106: =IF(F106>E106,"victoire",IF(E106=F106,"nul","defaite")) -> nul | Q106: =E106+F106 -> 0 | R106: =J106+K106 -> 0 | S106: =IF((Q106-R106)>R106,"deuxieme mi temps",IF((Q106-R106)=R106,"aucune","premiere")) -> aucune | T106: =IF((E106-J106)>J106,"deuxieme mi temps",IF((E106-J106)=J106,"aucune","premiere mi temps")) -> aucune | U106: =IF((F106-K106)>K106,"deuxieme mi temps",IF((F106-K106)=K106,"aucune","premiere mi temps")) -> aucune | V106: =IF((E106-F106)=1,"oui","non") -> non | W106: =IF((E106-F106)=2,"oui","non") -> non | X106: =IF((E106-F106)=3,"oui","non") -> non | Y106: =IF((E106-F106)>3,"oui","non") -> non | Z106: =IF((E106-F106)=-1,"oui","non") -> non | AA106: =IF((E106-F106)=-2,"oui","non") -> non | AB106: =IF((E106-F106)=-3,"oui","non") -> non | AC106: =IF((F106-E106)>3,"oui","non") -> non | AD106: =IF((E106>0)*AND(F106>0),"oui","non") -> non | AE106: =IF((J106>0)*AND(K106>0),"oui","non") -> non
A107: Ligue 1 | G107: =CONCATENATE(E107,"-",F107) -> - | L107: =CONCATENATE(J107,"-",K107) -> - | M107: =IF(F107=0,"oui","non") -> oui | N107: =IF(E107=0,"oui","non") -> oui | O107: =IF(E107>F107,"victoire",IF(E107=F107,"nul","defaite")) -> nul | P107: =IF(F107>E107,"victoire",IF(E107=F107,"nul","defaite")) -> nul | Q107: =E107+F107 -> 0 | R107: =J107+K107 -> 0 | S107: =IF((Q107-R107)>R107,"deuxieme mi temps",IF((Q107-R107)=R107,"aucune","premiere")) -> aucune | T107: =IF((E107-J107)>J107,"deuxieme mi temps",IF((E107-J107)=J107,"aucune","premiere mi temps")) -> aucune | U107: =IF((F107-K107)>K107,"deuxieme mi temps",IF((F107-K107)=K107,"aucune","premiere mi temps")) -> aucune | V107: =IF((E107-F107)=1,"oui","non") -> non | W107: =IF((E107-F107)=2,"oui","non") -> non | X107: =IF((E107-F107)=3,"oui","non") -> non | Y107: =IF((E107-F107)>3,"oui","non") -> non | Z107: =IF((E107-F107)=-1,"oui","non") -> non | AA107: =IF((E107-F107)=-2,"oui","non") -> non | AB107: =IF((E107-F107)=-3,"oui","non") -> non | AC107: =IF((F107-E107)>3,"oui","non") -> non | AD107: =IF((E107>0)*AND(F107>0),"oui","non") -> non | AE107: =IF((J107>0)*AND(K107>0),"oui","non") -> non
A108: Ligue 1 | G108: =CONCATENATE(E108,"-",F108) -> - | L108: =CONCATENATE(J108,"-",K108) -> - | M108: =IF(F108=0,"oui","non") -> oui | N108: =IF(E108=0,"oui","non") -> oui | O108: =IF(E108>F108,"victoire",IF(E108=F108,"nul","defaite")) -> nul | P108: =IF(F108>E108,"victoire",IF(E108=F108,"nul","defaite")) -> nul | Q108: =E108+F108 -> 0 | R108: =J108+K108 -> 0 | S108: =IF((Q108-R108)>R108,"deuxieme mi temps",IF((Q108-R108)=R108,"aucune","premiere")) -> aucune | T108: =IF((E108-J108)>J108,"deuxieme mi temps",IF((E108-J108)=J108,"aucune","premiere mi temps")) -> aucune | U108: =IF((F108-K108)>K108,"deuxieme mi temps",IF((F108-K108)=K108,"aucune","premiere mi temps")) -> aucune | V108: =IF((E108-F108)=1,"oui","non") -> non | W108: =IF((E108-F108)=2,"oui","non") -> non | X108: =IF((E108-F108)=3,"oui","non") -> non | Y108: =IF((E108-F108)>3,"oui","non") -> non | Z108: =IF((E108-F108)=-1,"oui","non") -> non | AA108: =IF((E108-F108)=-2,"oui","non") -> non | AB108: =IF((E108-F108)=-3,"oui","non") -> non | AC108: =IF((F108-E108)>3,"oui","non") -> non | AD108: =IF((E108>0)*AND(F108>0),"oui","non") -> non | AE108: =IF((J108>0)*AND(K108>0),"oui","non") -> non
A109: Ligue 1 | G109: =CONCATENATE(E109,"-",F109) -> - | L109: =CONCATENATE(J109,"-",K109) -> - | M109: =IF(F109=0,"oui","non") -> oui | N109: =IF(E109=0,"oui","non") -> oui | O109: =IF(E109>F109,"victoire",IF(E109=F109,"nul","defaite")) -> nul | P109: =IF(F109>E109,"victoire",IF(E109=F109,"nul","defaite")) -> nul | Q109: =E109+F109 -> 0 | R109: =J109+K109 -> 0 | S109: =IF((Q109-R109)>R109,"deuxieme mi temps",IF((Q109-R109)=R109,"aucune","premiere")) -> aucune | T109: =IF((E109-J109)>J109,"deuxieme mi temps",IF((E109-J109)=J109,"aucune","premiere mi temps")) -> aucune | U109: =IF((F109-K109)>K109,"deuxieme mi temps",IF((F109-K109)=K109,"aucune","premiere mi temps")) -> aucune | V109: =IF((E109-F109)=1,"oui","non") -> non | W109: =IF((E109-F109)=2,"oui","non") -> non | X109: =IF((E109-F109)=3,"oui","non") -> non | Y109: =IF((E109-F109)>3,"oui","non") -> non | Z109: =IF((E109-F109)=-1,"oui","non") -> non | AA109: =IF((E109-F109)=-2,"oui","non") -> non | AB109: =IF((E109-F109)=-3,"oui","non") -> non | AC109: =IF((F109-E109)>3,"oui","non") -> non | AD109: =IF((E109>0)*AND(F109>0),"oui","non") -> non | AE109: =IF((J109>0)*AND(K109>0),"oui","non") -> non
A110: Ligue 1 | G110: =CONCATENATE(E110,"-",F110) -> - | L110: =CONCATENATE(J110,"-",K110) -> - | M110: =IF(F110=0,"oui","non") -> oui | N110: =IF(E110=0,"oui","non") -> oui | O110: =IF(E110>F110,"victoire",IF(E110=F110,"nul","defaite")) -> nul | P110: =IF(F110>E110,"victoire",IF(E110=F110,"nul","defaite")) -> nul | Q110: =E110+F110 -> 0 | R110: =J110+K110 -> 0 | S110: =IF((Q110-R110)>R110,"deuxieme mi temps",IF((Q110-R110)=R110,"aucune","premiere")) -> aucune | T110: =IF((E110-J110)>J110,"deuxieme mi temps",IF((E110-J110)=J110,"aucune","premiere mi temps")) -> aucune | U110: =IF((F110-K110)>K110,"deuxieme mi temps",IF((F110-K110)=K110,"aucune","premiere mi temps")) -> aucune | V110: =IF((E110-F110)=1,"oui","non") -> non | W110: =IF((E110-F110)=2,"oui","non") -> non | X110: =IF((E110-F110)=3,"oui","non") -> non | Y110: =IF((E110-F110)>3,"oui","non") -> non | Z110: =IF((E110-F110)=-1,"oui","non") -> non | AA110: =IF((E110-F110)=-2,"oui","non") -> non | AB110: =IF((E110-F110)=-3,"oui","non") -> non | AC110: =IF((F110-E110)>3,"oui","non") -> non | AD110: =IF((E110>0)*AND(F110>0),"oui","non") -> non | AE110: =IF((J110>0)*AND(K110>0),"oui","non") -> non
A111: Ligue 1 | G111: =CONCATENATE(E111,"-",F111) -> - | L111: =CONCATENATE(J111,"-",K111) -> - | M111: =IF(F111=0,"oui","non") -> oui | N111: =IF(E111=0,"oui","non") -> oui | O111: =IF(E111>F111,"victoire",IF(E111=F111,"nul","defaite")) -> nul | P111: =IF(F111>E111,"victoire",IF(E111=F111,"nul","defaite")) -> nul | Q111: =E111+F111 -> 0 | R111: =J111+K111 -> 0 | S111: =IF((Q111-R111)>R111,"deuxieme mi temps",IF((Q111-R111)=R111,"aucune","premiere")) -> aucune | T111: =IF((E111-J111)>J111,"deuxieme mi temps",IF((E111-J111)=J111,"aucune","premiere mi temps")) -> aucune | U111: =IF((F111-K111)>K111,"deuxieme mi temps",IF((F111-K111)=K111,"aucune","premiere mi temps")) -> aucune | V111: =IF((E111-F111)=1,"oui","non") -> non | W111: =IF((E111-F111)=2,"oui","non") -> non | X111: =IF((E111-F111)=3,"oui","non") -> non | Y111: =IF((E111-F111)>3,"oui","non") -> non | Z111: =IF((E111-F111)=-1,"oui","non") -> non | AA111: =IF((E111-F111)=-2,"oui","non") -> non | AB111: =IF((E111-F111)=-3,"oui","non") -> non | AC111: =IF((F111-E111)>3,"oui","non") -> non | AD111: =IF((E111>0)*AND(F111>0),"oui","non") -> non | AE111: =IF((J111>0)*AND(K111>0),"oui","non") -> non
A112: Ligue 1 | G112: =CONCATENATE(E112,"-",F112) -> - | L112: =CONCATENATE(J112,"-",K112) -> - | M112: =IF(F112=0,"oui","non") -> oui | N112: =IF(E112=0,"oui","non") -> oui | O112: =IF(E112>F112,"victoire",IF(E112=F112,"nul","defaite")) -> nul | P112: =IF(F112>E112,"victoire",IF(E112=F112,"nul","defaite")) -> nul | Q112: =E112+F112 -> 0 | R112: =J112+K112 -> 0 | S112: =IF((Q112-R112)>R112,"deuxieme mi temps",IF((Q112-R112)=R112,"aucune","premiere")) -> aucune | T112: =IF((E112-J112)>J112,"deuxieme mi temps",IF((E112-J112)=J112,"aucune","premiere mi temps")) -> aucune | U112: =IF((F112-K112)>K112,"deuxieme mi temps",IF((F112-K112)=K112,"aucune","premiere mi temps")) -> aucune | V112: =IF((E112-F112)=1,"oui","non") -> non | W112: =IF((E112-F112)=2,"oui","non") -> non | X112: =IF((E112-F112)=3,"oui","non") -> non | Y112: =IF((E112-F112)>3,"oui","non") -> non | Z112: =IF((E112-F112)=-1,"oui","non") -> non | AA112: =IF((E112-F112)=-2,"oui","non") -> non | AB112: =IF((E112-F112)=-3,"oui","non") -> non | AC112: =IF((F112-E112)>3,"oui","non") -> non | AD112: =IF((E112>0)*AND(F112>0),"oui","non") -> non | AE112: =IF((J112>0)*AND(K112>0),"oui","non") -> non
A113: Ligue 1 | G113: =CONCATENATE(E113,"-",F113) -> - | L113: =CONCATENATE(J113,"-",K113) -> - | M113: =IF(F113=0,"oui","non") -> oui | N113: =IF(E113=0,"oui","non") -> oui | O113: =IF(E113>F113,"victoire",IF(E113=F113,"nul","defaite")) -> nul | P113: =IF(F113>E113,"victoire",IF(E113=F113,"nul","defaite")) -> nul | Q113: =E113+F113 -> 0 | R113: =J113+K113 -> 0 | S113: =IF((Q113-R113)>R113,"deuxieme mi temps",IF((Q113-R113)=R113,"aucune","premiere")) -> aucune | T113: =IF((E113-J113)>J113,"deuxieme mi temps",IF((E113-J113)=J113,"aucune","premiere mi temps")) -> aucune | U113: =IF((F113-K113)>K113,"deuxieme mi temps",IF((F113-K113)=K113,"aucune","premiere mi temps")) -> aucune | V113: =IF((E113-F113)=1,"oui","non") -> non | W113: =IF((E113-F113)=2,"oui","non") -> non | X113: =IF((E113-F113)=3,"oui","non") -> non | Y113: =IF((E113-F113)>3,"oui","non") -> non | Z113: =IF((E113-F113)=-1,"oui","non") -> non | AA113: =IF((E113-F113)=-2,"oui","non") -> non | AB113: =IF((E113-F113)=-3,"oui","non") -> non | AC113: =IF((F113-E113)>3,"oui","non") -> non | AD113: =IF((E113>0)*AND(F113>0),"oui","non") -> non | AE113: =IF((J113>0)*AND(K113>0),"oui","non") -> non
... A329: Ligue 1 | G329: =CONCATENATE(E329,"-",F329) -> - | L329: =CONCATENATE(J329,"-",K329) -> - | M329: =IF(F329=0,"oui","non") -> oui | N329: =IF(E329=0,"oui","non") -> oui | O329: =IF(E329>F329,"victoire",IF(E329=F329,"nul","defaite")) -> nul | P329: =IF(F329>E329,"victoire",IF(E329=F329,"nul","defaite")) -> nul | Q329: =E329+F329 -> 0 | R329: =J329+K329 -> 0 | S329: =IF((Q329-R329)>R329,"deuxieme mi temps",IF((Q329-R329)=R329,"aucune","premiere")) -> aucune | T329: =IF((E329-J329)>J329,"deuxieme mi temps",IF((E329-J329)=J329,"aucune","premiere mi temps")) -> aucune | U329: =IF((F329-K329)>K329,"deuxieme mi temps",IF((F329-K329)=K329,"aucune","premiere mi temps")) -> aucune | V329: =IF((E329-F329)=1,"oui","non") -> non | W329: =IF((E329-F329)=2,"oui","non") -> non | X329: =IF((E329-F329)=3,"oui","non") -> non | Y329: =IF((E329-F329)>3,"oui","non") -> non | Z329: =IF((E329-F329)=-1,"oui","non") -> non | AA329: =IF((E329-F329)=-2,"oui","non") -> non | AB329: =IF((E329-F329)=-3,"oui","non") -> non | AC329: =IF((F329-E329)>3,"oui","non") -> non | AD329: =IF((E329>0)*AND(F329>0),"oui","non") -> non | AE329: =IF((J329>0)*AND(K329>0),"oui","non") -> non
G330: =CONCATENATE(E330,"-",F330) -> - | L330: =CONCATENATE(J330,"-",K330) -> - | M330: =IF(F330=0,"oui","non") -> oui | N330: =IF(E330=0,"oui","non") -> oui | O330: =IF(E330>F330,"victoire",IF(E330=F330,"nul","defaite")) -> nul | P330: =IF(F330>E330,"victoire",IF(E330=F330,"nul","defaite")) -> nul | Q330: =E330+F330 -> 0 | R330: =J330+K330 -> 0 | S330: =IF((Q330-R330)>R330,"deuxieme mi temps",IF((Q330-R330)=R330,"aucune","premiere")) -> aucune | T330: =IF((E330-J330)>J330,"deuxieme mi temps",IF((E330-J330)=J330,"aucune","premiere mi temps")) -> aucune | U330: =IF((F330-K330)>K330,"deuxieme mi temps",IF((F330-K330)=K330,"aucune","premiere mi temps")) -> aucune | V330: =IF((E330-F330)=1,"oui","non") -> non | W330: =IF((E330-F330)=2,"oui","non") -> non | X330: =IF((E330-F330)=3,"oui","non") -> non | Y330: =IF((E330-F330)>3,"oui","non") -> non | Z330: =IF((E330-F330)=-1,"oui","non") -> non | AA330: =IF((E330-F330)=-2,"oui","non") -> non | AB330: =IF((E330-F330)=-3,"oui","non") -> non | AC330: =IF((F330-E330)>3,"oui","non") -> non | AD330: =IF((E330>0)*AND(F330>0),"oui","non") -> non | AE330: =IF((J330>0)*AND(K330>0),"oui","non") -> non
G331: =CONCATENATE(E331,"-",F331) -> - | L331: =CONCATENATE(J331,"-",K331) -> - | M331: =IF(F331=0,"oui","non") -> oui | N331: =IF(E331=0,"oui","non") -> oui | O331: =IF(E331>F331,"victoire",IF(E331=F331,"nul","defaite")) -> nul | P331: =IF(F331>E331,"victoire",IF(E331=F331,"nul","defaite")) -> nul | Q331: =E331+F331 -> 0 | R331: =J331+K331 -> 0 | S331: =IF((Q331-R331)>R331,"deuxieme mi temps",IF((Q331-R331)=R331,"aucune","premiere")) -> aucune | T331: =IF((E331-J331)>J331,"deuxieme mi temps",IF((E331-J331)=J331,"aucune","premiere mi temps")) -> aucune | U331: =IF((F331-K331)>K331,"deuxieme mi temps",IF((F331-K331)=K331,"aucune","premiere mi temps")) -> aucune | V331: =IF((E331-F331)=1,"oui","non") -> non | W331: =IF((E331-F331)=2,"oui","non") -> non | X331: =IF((E331-F331)=3,"oui","non") -> non | Y331: =IF((E331-F331)>3,"oui","non") -> non | Z331: =IF((E331-F331)=-1,"oui","non") -> non | AA331: =IF((E331-F331)=-2,"oui","non") -> non | AB331: =IF((E331-F331)=-3,"oui","non") -> non | AC331: =IF((F331-E331)>3,"oui","non") -> non | AD331: =IF((E331>0)*AND(F331>0),"oui","non") -> non | AE331: =IF((J331>0)*AND(K331>0),"oui","non") -> non
G332: =CONCATENATE(E332,"-",F332) -> - | L332: =CONCATENATE(J332,"-",K332) -> - | M332: =IF(F332=0,"oui","non") -> oui | N332: =IF(E332=0,"oui","non") -> oui | O332: =IF(E332>F332,"victoire",IF(E332=F332,"nul","defaite")) -> nul | P332: =IF(F332>E332,"victoire",IF(E332=F332,"nul","defaite")) -> nul | Q332: =E332+F332 -> 0 | R332: =J332+K332 -> 0 | S332: =IF((Q332-R332)>R332,"deuxieme mi temps",IF((Q332-R332)=R332,"aucune","premiere")) -> aucune | T332: =IF((E332-J332)>J332,"deuxieme mi temps",IF((E332-J332)=J332,"aucune","premiere mi temps")) -> aucune | U332: =IF((F332-K332)>K332,"deuxieme mi temps",IF((F332-K332)=K332,"aucune","premiere mi temps")) -> aucune | V332: =IF((E332-F332)=1,"oui","non") -> non | W332: =IF((E332-F332)=2,"oui","non") -> non | X332: =IF((E332-F332)=3,"oui","non") -> non | Y332: =IF((E332-F332)>3,"oui","non") -> non | Z332: =IF((E332-F332)=-1,"oui","non") -> non | AA332: =IF((E332-F332)=-2,"oui","non") -> non | AB332: =IF((E332-F332)=-3,"oui","non") -> non | AC332: =IF((F332-E332)>3,"oui","non") -> non | AD332: =IF((E332>0)*AND(F332>0),"oui","non") -> non | AE332: =IF((J332>0)*AND(K332>0),"oui","non") -> non
G333: =CONCATENATE(E333,"-",F333) -> - | L333: =CONCATENATE(J333,"-",K333) -> - | M333: =IF(F333=0,"oui","non") -> oui | N333: =IF(E333=0,"oui","non") -> oui | O333: =IF(E333>F333,"victoire",IF(E333=F333,"nul","defaite")) -> nul | P333: =IF(F333>E333,"victoire",IF(E333=F333,"nul","defaite")) -> nul | Q333: =E333+F333 -> 0 | R333: =J333+K333 -> 0 | S333: =IF((Q333-R333)>R333,"deuxieme mi temps",IF((Q333-R333)=R333,"aucune","premiere")) -> aucune | T333: =IF((E333-J333)>J333,"deuxieme mi temps",IF((E333-J333)=J333,"aucune","premiere mi temps")) -> aucune | U333: =IF((F333-K333)>K333,"deuxieme mi temps",IF((F333-K333)=K333,"aucune","premiere mi temps")) -> aucune | V333: =IF((E333-F333)=1,"oui","non") -> non | W333: =IF((E333-F333)=2,"oui","non") -> non | X333: =IF((E333-F333)=3,"oui","non") -> non | Y333: =IF((E333-F333)>3,"oui","non") -> non | Z333: =IF((E333-F333)=-1,"oui","non") -> non | AA333: =IF((E333-F333)=-2,"oui","non") -> non | AB333: =IF((E333-F333)=-3,"oui","non") -> non | AC333: =IF((F333-E333)>3,"oui","non") -> non | AD333: =IF((E333>0)*AND(F333>0),"oui","non") -> non | AE333: =IF((J333>0)*AND(K333>0),"oui","non") -> non
G334: =CONCATENATE(E334,"-",F334) -> - | L334: =CONCATENATE(J334,"-",K334) -> - | M334: =IF(F334=0,"oui","non") -> oui | N334: =IF(E334=0,"oui","non") -> oui | O334: =IF(E334>F334,"victoire",IF(E334=F334,"nul","defaite")) -> nul | P334: =IF(F334>E334,"victoire",IF(E334=F334,"nul","defaite")) -> nul | Q334: =E334+F334 -> 0 | R334: =J334+K334 -> 0 | S334: =IF((Q334-R334)>R334,"deuxieme mi temps",IF((Q334-R334)=R334,"aucune","premiere")) -> aucune | T334: =IF((E334-J334)>J334,"deuxieme mi temps",IF((E334-J334)=J334,"aucune","premiere mi temps")) -> aucune | U334: =IF((F334-K334)>K334,"deuxieme mi temps",IF((F334-K334)=K334,"aucune","premiere mi temps")) -> aucune | V334: =IF((E334-F334)=1,"oui","non") -> non | W334: =IF((E334-F334)=2,"oui","non") -> non | X334: =IF((E334-F334)=3,"oui","non") -> non | Y334: =IF((E334-F334)>3,"oui","non") -> non | Z334: =IF((E334-F334)=-1,"oui","non") -> non | AA334: =IF((E334-F334)=-2,"oui","non") -> non | AB334: =IF((E334-F334)=-3,"oui","non") -> non | AC334: =IF((F334-E334)>3,"oui","non") -> non | AD334: =IF((E334>0)*AND(F334>0),"oui","non") -> non | AE334: =IF((J334>0)*AND(K334>0),"oui","non") -> non
G335: =CONCATENATE(E335,"-",F335) -> - | L335: =CONCATENATE(J335,"-",K335) -> - | M335: =IF(F335=0,"oui","non") -> oui | N335: =IF(E335=0,"oui","non") -> oui | O335: =IF(E335>F335,"victoire",IF(E335=F335,"nul","defaite")) -> nul | P335: =IF(F335>E335,"victoire",IF(E335=F335,"nul","defaite")) -> nul | Q335: =E335+F335 -> 0 | R335: =J335+K335 -> 0 | S335: =IF((Q335-R335)>R335,"deuxieme mi temps",IF((Q335-R335)=R335,"aucune","premiere")) -> aucune | T335: =IF((E335-J335)>J335,"deuxieme mi temps",IF((E335-J335)=J335,"aucune","premiere mi temps")) -> aucune | U335: =IF((F335-K335)>K335,"deuxieme mi temps",IF((F335-K335)=K335,"aucune","premiere mi temps")) -> aucune | V335: =IF((E335-F335)=1,"oui","non") -> non | W335: =IF((E335-F335)=2,"oui","non") -> non | X335: =IF((E335-F335)=3,"oui","non") -> non | Y335: =IF((E335-F335)>3,"oui","non") -> non | Z335: =IF((E335-F335)=-1,"oui","non") -> non | AA335: =IF((E335-F335)=-2,"oui","non") -> non | AB335: =IF((E335-F335)=-3,"oui","non") -> non | AC335: =IF((F335-E335)>3,"oui","non") -> non | AD335: =IF((E335>0)*AND(F335>0),"oui","non") -> non | AE335: =IF((J335>0)*AND(K335>0),"oui","non") -> non
G336: =CONCATENATE(E336,"-",F336) -> - | L336: =CONCATENATE(J336,"-",K336) -> - | M336: =IF(F336=0,"oui","non") -> oui | N336: =IF(E336=0,"oui","non") -> oui | O336: =IF(E336>F336,"victoire",IF(E336=F336,"nul","defaite")) -> nul | P336: =IF(F336>E336,"victoire",IF(E336=F336,"nul","defaite")) -> nul | Q336: =E336+F336 -> 0 | R336: =J336+K336 -> 0 | S336: =IF((Q336-R336)>R336,"deuxieme mi temps",IF((Q336-R336)=R336,"aucune","premiere")) -> aucune | T336: =IF((E336-J336)>J336,"deuxieme mi temps",IF((E336-J336)=J336,"aucune","premiere mi temps")) -> aucune | U336: =IF((F336-K336)>K336,"deuxieme mi temps",IF((F336-K336)=K336,"aucune","premiere mi temps")) -> aucune | V336: =IF((E336-F336)=1,"oui","non") -> non | W336: =IF((E336-F336)=2,"oui","non") -> non | X336: =IF((E336-F336)=3,"oui","non") -> non | Y336: =IF((E336-F336)>3,"oui","non") -> non | Z336: =IF((E336-F336)=-1,"oui","non") -> non | AA336: =IF((E336-F336)=-2,"oui","non") -> non | AB336: =IF((E336-F336)=-3,"oui","non") -> non | AC336: =IF((F336-E336)>3,"oui","non") -> non | AD336: =IF((E336>0)*AND(F336>0),"oui","non") -> non | AE336: =IF((J336>0)*AND(K336>0),"oui","non") -> non
G337: =CONCATENATE(E337,"-",F337) -> - | L337: =CONCATENATE(J337,"-",K337) -> - | M337: =IF(F337=0,"oui","non") -> oui | N337: =IF(E337=0,"oui","non") -> oui | O337: =IF(E337>F337,"victoire",IF(E337=F337,"nul","defaite")) -> nul | P337: =IF(F337>E337,"victoire",IF(E337=F337,"nul","defaite")) -> nul | Q337: =E337+F337 -> 0 | R337: =J337+K337 -> 0 | S337: =IF((Q337-R337)>R337,"deuxieme mi temps",IF((Q337-R337)=R337,"aucune","premiere")) -> aucune | T337: =IF((E337-J337)>J337,"deuxieme mi temps",IF((E337-J337)=J337,"aucune","premiere mi temps")) -> aucune | U337: =IF((F337-K337)>K337,"deuxieme mi temps",IF((F337-K337)=K337,"aucune","premiere mi temps")) -> aucune | V337: =IF((E337-F337)=1,"oui","non") -> non | W337: =IF((E337-F337)=2,"oui","non") -> non | X337: =IF((E337-F337)=3,"oui","non") -> non | Y337: =IF((E337-F337)>3,"oui","non") -> non | Z337: =IF((E337-F337)=-1,"oui","non") -> non | AA337: =IF((E337-F337)=-2,"oui","non") -> non | AB337: =IF((E337-F337)=-3,"oui","non") -> non | AC337: =IF((F337-E337)>3,"oui","non") -> non | AD337: =IF((E337>0)*AND(F337>0),"oui","non") -> non | AE337: =IF((J337>0)*AND(K337>0),"oui","non") -> non
G338: =CONCATENATE(E338,"-",F338) -> - | L338: =CONCATENATE(J338,"-",K338) -> - | M338: =IF(F338=0,"oui","non") -> oui | N338: =IF(E338=0,"oui","non") -> oui | O338: =IF(E338>F338,"victoire",IF(E338=F338,"nul","defaite")) -> nul | P338: =IF(F338>E338,"victoire",IF(E338=F338,"nul","defaite")) -> nul | Q338: =E338+F338 -> 0 | R338: =J338+K338 -> 0 | S338: =IF((Q338-R338)>R338,"deuxieme mi temps",IF((Q338-R338)=R338,"aucune","premiere")) -> aucune | T338: =IF((E338-J338)>J338,"deuxieme mi temps",IF((E338-J338)=J338,"aucune","premiere mi temps")) -> aucune | U338: =IF((F338-K338)>K338,"deuxieme mi temps",IF((F338-K338)=K338,"aucune","premiere mi temps")) -> aucune | V338: =IF((E338-F338)=1,"oui","non") -> non | W338: =IF((E338-F338)=2,"oui","non") -> non | X338: =IF((E338-F338)=3,"oui","non") -> non | Y338: =IF((E338-F338)>3,"oui","non") -> non | Z338: =IF((E338-F338)=-1,"oui","non") -> non | AA338: =IF((E338-F338)=-2,"oui","non") -> non | AB338: =IF((E338-F338)=-3,"oui","non") -> non | AC338: =IF((F338-E338)>3,"oui","non") -> non | AD338: =IF((E338>0)*AND(F338>0),"oui","non") -> non | AE338: =IF((J338>0)*AND(K338>0),"oui","non") -> non
G339: =CONCATENATE(E339,"-",F339) -> - | L339: =CONCATENATE(J339,"-",K339) -> - | M339: =IF(F339=0,"oui","non") -> oui | N339: =IF(E339=0,"oui","non") -> oui | O339: =IF(E339>F339,"victoire",IF(E339=F339,"nul","defaite")) -> nul | P339: =IF(F339>E339,"victoire",IF(E339=F339,"nul","defaite")) -> nul | Q339: =E339+F339 -> 0 | R339: =J339+K339 -> 0 | S339: =IF((Q339-R339)>R339,"deuxieme mi temps",IF((Q339-R339)=R339,"aucune","premiere")) -> aucune | T339: =IF((E339-J339)>J339,"deuxieme mi temps",IF((E339-J339)=J339,"aucune","premiere mi temps")) -> aucune | U339: =IF((F339-K339)>K339,"deuxieme mi temps",IF((F339-K339)=K339,"aucune","premiere mi temps")) -> aucune | V339: =IF((E339-F339)=1,"oui","non") -> non | W339: =IF((E339-F339)=2,"oui","non") -> non | X339: =IF((E339-F339)=3,"oui","non") -> non | Y339: =IF((E339-F339)>3,"oui","non") -> non | Z339: =IF((E339-F339)=-1,"oui","non") -> non | AA339: =IF((E339-F339)=-2,"oui","non") -> non | AB339: =IF((E339-F339)=-3,"oui","non") -> non | AC339: =IF((F339-E339)>3,"oui","non") -> non | AD339: =IF((E339>0)*AND(F339>0),"oui","non") -> non | AE339: =IF((J339>0)*AND(K339>0),"oui","non") -> non
G340: =CONCATENATE(E340,"-",F340) -> - | L340: =CONCATENATE(J340,"-",K340) -> - | M340: =IF(F340=0,"oui","non") -> oui | N340: =IF(E340=0,"oui","non") -> oui | O340: =IF(E340>F340,"victoire",IF(E340=F340,"nul","defaite")) -> nul | P340: =IF(F340>E340,"victoire",IF(E340=F340,"nul","defaite")) -> nul | Q340: =E340+F340 -> 0 | R340: =J340+K340 -> 0 | S340: =IF((Q340-R340)>R340,"deuxieme mi temps",IF((Q340-R340)=R340,"aucune","premiere")) -> aucune | T340: =IF((E340-J340)>J340,"deuxieme mi temps",IF((E340-J340)=J340,"aucune","premiere mi temps")) -> aucune | U340: =IF((F340-K340)>K340,"deuxieme mi temps",IF((F340-K340)=K340,"aucune","premiere mi temps")) -> aucune | V340: =IF((E340-F340)=1,"oui","non") -> non | W340: =IF((E340-F340)=2,"oui","non") -> non | X340: =IF((E340-F340)=3,"oui","non") -> non | Y340: =IF((E340-F340)>3,"oui","non") -> non | Z340: =IF((E340-F340)=-1,"oui","non") -> non | AA340: =IF((E340-F340)=-2,"oui","non") -> non | AB340: =IF((E340-F340)=-3,"oui","non") -> non | AC340: =IF((F340-E340)>3,"oui","non") -> non | AD340: =IF((E340>0)*AND(F340>0),"oui","non") -> non | AE340: =IF((J340>0)*AND(K340>0),"oui","non") -> non
G341: =CONCATENATE(E341,"-",F341) -> - | L341: =CONCATENATE(J341,"-",K341) -> - | M341: =IF(F341=0,"oui","non") -> oui | N341: =IF(E341=0,"oui","non") -> oui | O341: =IF(E341>F341,"victoire",IF(E341=F341,"nul","defaite")) -> nul | P341: =IF(F341>E341,"victoire",IF(E341=F341,"nul","defaite")) -> nul | Q341: =E341+F341 -> 0 | R341: =J341+K341 -> 0 | S341: =IF((Q341-R341)>R341,"deuxieme mi temps",IF((Q341-R341)=R341,"aucune","premiere")) -> aucune | T341: =IF((E341-J341)>J341,"deuxieme mi temps",IF((E341-J341)=J341,"aucune","premiere mi temps")) -> aucune | U341: =IF((F341-K341)>K341,"deuxieme mi temps",IF((F341-K341)=K341,"aucune","premiere mi temps")) -> aucune | V341: =IF((E341-F341)=1,"oui","non") -> non | W341: =IF((E341-F341)=2,"oui","non") -> non | X341: =IF((E341-F341)=3,"oui","non") -> non | Y341: =IF((E341-F341)>3,"oui","non") -> non | Z341: =IF((E341-F341)=-1,"oui","non") -> non | AA341: =IF((E341-F341)=-2,"oui","non") -> non | AB341: =IF((E341-F341)=-3,"oui","non") -> non | AC341: =IF((F341-E341)>3,"oui","non") -> non | AD341: =IF((E341>0)*AND(F341>0),"oui","non") -> non | AE341: =IF((J341>0)*AND(K341>0),"oui","non") -> non
... G380: =CONCATENATE(E380,"-",F380) -> - | L380: =CONCATENATE(J380,"-",K380) -> - | M380: =IF(F380=0,"oui","non") -> oui | N380: =IF(E380=0,"oui","non") -> oui | O380: =IF(E380>F380,"victoire",IF(E380=F380,"nul","defaite")) -> nul | P380: =IF(F380>E380,"victoire",IF(E380=F380,"nul","defaite")) -> nul | Q380: =E380+F380 -> 0 | R380: =J380+K380 -> 0 | S380: =IF((Q380-R380)>R380,"deuxieme mi temps",IF((Q380-R380)=R380,"aucune","premiere")) -> aucune | T380: =IF((E380-J380)>J380,"deuxieme mi temps",IF((E380-J380)=J380,"aucune","premiere mi temps")) -> aucune | U380: =IF((F380-K380)>K380,"deuxieme mi temps",IF((F380-K380)=K380,"aucune","premiere mi temps")) -> aucune | V380: =IF((E380-F380)=1,"oui","non") -> non | W380: =IF((E380-F380)=2,"oui","non") -> non | X380: =IF((E380-F380)=3,"oui","non") -> non | Y380: =IF((E380-F380)>3,"oui","non") -> non | Z380: =IF((E380-F380)=-1,"oui","non") -> non | AA380: =IF((E380-F380)=-2,"oui","non") -> non | AB380: =IF((E380-F380)=-3,"oui","non") -> non | AC380: =IF((F380-E380)>3,"oui","non") -> non | AD380: =IF((E380>0)*AND(F380>0),"oui","non") -> non | AE380: =IF((J380>0)*AND(K380>0),"oui","non") -> non

Sheet Résultat équipe
A1: journée | B1: Amiens | C1: Angers | D1: bordeaux | E1: Caen | F1: Dijon | G1: Guingamp | H1: Lille | I1: Lyon | J1: Marseille | K1: Monaco | L1: Montpellier | M1: Nantes | N1: Nice | O1: Nimes | P1: PSG | Q1: Reims | R1: Rennes | S1: Saint Etienne | T1: Strasbourg | U1: Toulouse | W1: serie en cours | X1: Amiens | Y1: Angers | Z1: bordeaux | AA1: Caen | AB1: Dijon | AC1: Guingamp | AD1: Lille | AE1: Lyon | AF1: Marseille | AG1: Monaco | AH1: Montpellier | AI1: Nantes | AJ1: Nice | AK1: Nimes | AL1: PSG | AM1: Reims | AN1: Rennes | AO1: Saint Etienne | AP1: Strasbourg | AQ1: Toulouse | AS1: serie en cours | AT1: Amiens | AU1: Angers | AV1: bordeaux | AW1: Caen | AX1: Dijon | AY1: Guingamp | AZ1: Lille | BA1: Lyon | BB1: Marseille | BC1: Monaco | BD1: Montpellier | BE1: Nantes | BF1: Nice | BG1: Nimes | BH1: PSG | BI1: Reims | BJ1: Rennes | BK1: Saint Etienne | BL1: Strasbourg | BM1: Toulouse
A2: 1 | B2: =IF(COUNTIF('DB L1'!$B2:$B11,'Résultat équipe'!B$1)=1,VLOOKUP(B$1,'DB L1'!$B2:$O11,14,FALSE),VLOOKUP('Résultat équipe'!B$1,'DB L1'!$C2:$P11,14,FALSE)) -> defaite | C2: =IF(COUNTIF('DB L1'!$B2:$B11,'Résultat équipe'!C$1)=1,VLOOKUP(C$1,'DB L1'!$B2:$O11,14,FALSE),VLOOKUP('Résultat équipe'!C$1,'DB L1'!$C2:$P11,14,FALSE)) -> defaite | D2: =IF(COUNTIF('DB L1'!$B2:$B11,'Résultat équipe'!D$1)=1,VLOOKUP(D$1,'DB L1'!$B2:$O11,14,FALSE),VLOOKUP('Résultat équipe'!D$1,'DB L1'!$C2:$P11,14,FALSE)) -> defaite | E2: =IF(COUNTIF('DB L1'!$B2:$B11,'Résultat équipe'!E$1)=1,VLOOKUP(E$1,'DB L1'!$B2:$O11,14,FALSE),VLOOKUP('Résultat équipe'!E$1,'DB L1'!$C2:$P11,14,FALSE)) -> defaite | F2: =IF(COUNTIF('DB L1'!$B2:$B11,'Résultat équipe'!F$1)=1,VLOOKUP(F$1,'DB L1'!$B2:$O11,14,FALSE),VLOOKUP('Résultat équipe'!F$1,'DB L1'!$C2:$P11,14,FALSE)) -> victoire | G2: =IF(COUNTIF('DB L1'!$B2:$B11,'Résultat équipe'!G$1)=1,VLOOKUP(G$1,'DB L1'!$B2:$O11,14,FALSE),VLOOKUP('Résultat équipe'!G$1,'DB L1'!$C2:$P11,14,FALSE)) -> defaite | H2: =IF(COUNTIF('DB L1'!$B2:$B11,'Résultat équipe'!H$1)=1,VLOOKUP(H$1,'DB L1'!$B2:$O11,14,FALSE),VLOOKUP('Résultat équipe'!H$1,'DB L1'!$C2:$P11,14,FALSE)) -> victoire | I2: =IF(COUNTIF('DB L1'!$B2:$B11,'Résultat équipe'!I$1)=1,VLOOKUP(I$1,'DB L1'!$B2:$O11,14,FALSE),VLOOKUP('Résultat équipe'!I$1,'DB L1'!$C2:$P11,14,FALSE)) -> victoire | ... U2: =IF(COUNTIF('DB L1'!$B2:$B11,'Résultat équipe'!U$1)=1,VLOOKUP(U$1,'DB L1'!$B2:$O11,14,FALSE),VLOOKUP('Résultat équipe'!U$1,'DB L1'!$C2:$P11,14,FALSE)) -> defaite | W2: 1 | X2: 1 | Y2: 1 | Z2: 1 | AA2: 1 | AB2: 1 | AC2: 1 | AD2: 1 | AE2: 1 | AF2: 1 | AG2: 1 | AH2: 1 | AI2: 1 | AJ2: 1 | AK2: 1 | AL2: 1 | AM2: 1 | AN2: 1 | AO2: 1 | AP2: 1 | AQ2: 1 | AS2: 1 | AT2: =CONCATENATE(X2,B2) -> 1defaite | AU2: =CONCATENATE(Y2,C2) -> 1defaite | AV2: =CONCATENATE(Z2,D2) -> 1defaite | AW2: =CONCATENATE(AA2,E2) -> 1defaite | AX2: =CONCATENATE(AB2,F2) -> 1victoire | AY2: =CONCATENATE(AC2,G2) -> 1defaite | AZ2: =CONCATENATE(AD2,H2) -> 1victoire | BA2: =CONCATENATE(AE2,I2) -> 1victoire | ... BM2: =CONCATENATE(AQ2,U2) -> 1defaite
A3: 2 | B3: =IF(COUNTIF('DB L1'!$B12:$B21,'Résultat équipe'!B1)=1,VLOOKUP(B1,'DB L1'!$B12:$O21,14,FALSE),VLOOKUP('Résultat équipe'!B1,'DB L1'!$C12:$P21,14,FALSE)) -> defaite | C3: =IF(COUNTIF('DB L1'!$B12:$B21,'Résultat équipe'!C1)=1,VLOOKUP(C1,'DB L1'!$B12:$O21,14,FALSE),VLOOKUP('Résultat équipe'!C1,'DB L1'!$C12:$P21,14,FALSE)) -> defaite | D3: =IF(COUNTIF('DB L1'!$B12:$B21,'Résultat équipe'!D1)=1,VLOOKUP(D1,'DB L1'!$B12:$O21,14,FALSE),VLOOKUP('Résultat équipe'!D1,'DB L1'!$C12:$P21,14,FALSE)) -> defaite | E3: =IF(COUNTIF('DB L1'!$B12:$B21,'Résultat équipe'!E1)=1,VLOOKUP(E1,'DB L1'!$B12:$O21,14,FALSE),VLOOKUP('Résultat équipe'!E1,'DB L1'!$C12:$P21,14,FALSE)) -> nul | F3: =IF(COUNTIF('DB L1'!$B12:$B21,'Résultat équipe'!F1)=1,VLOOKUP(F1,'DB L1'!$B12:$O21,14,FALSE),VLOOKUP('Résultat équipe'!F1,'DB L1'!$C12:$P21,14,FALSE)) -> victoire | G3: =IF(COUNTIF('DB L1'!$B12:$B21,'Résultat équipe'!G1)=1,VLOOKUP(G1,'DB L1'!$B12:$O21,14,FALSE),VLOOKUP('Résultat équipe'!G1,'DB L1'!$C12:$P21,14,FALSE)) -> defaite | H3: =IF(COUNTIF('DB L1'!$B12:$B21,'Résultat équipe'!H1)=1,VLOOKUP(H1,'DB L1'!$B12:$O21,14,FALSE),VLOOKUP('Résultat équipe'!H1,'DB L1'!$C12:$P21,14,FALSE)) -> nul | I3: =IF(COUNTIF('DB L1'!$B12:$B21,'Résultat équipe'!I1)=1,VLOOKUP(I1,'DB L1'!$B12:$O21,14,FALSE),VLOOKUP('Résultat équipe'!I1,'DB L1'!$C12:$P21,14,FALSE)) -> defaite | ... U3: =IF(COUNTIF('DB L1'!$B12:$B21,'Résultat équipe'!U1)=1,VLOOKUP(U1,'DB L1'!$B12:$O21,14,FALSE),VLOOKUP('Résultat équipe'!U1,'DB L1'!$C12:$P21,14,FALSE)) -> victoire | W3: 2 | X3: =IF(B3=B2,X2+1,1) -> 2 | Y3: =IF(C3=C2,Y2+1,1) -> 2 | Z3: =IF(D3=D2,Z2+1,1) -> 2 | AA3: =IF(E3=E2,AA2+1,1) -> 1 | AB3: =IF(F3=F2,AB2+1,1) -> 2 | AC3: =IF(G3=G2,AC2+1,1) -> 2 | AD3: =IF(H3=H2,AD2+1,1) -> 1 | AE3: =IF(I3=I2,AE2+1,1) -> 1 | ... AQ3: =IF(U3=U2,AQ2+1,1) -> 1 | AS3: 2 | AT3: =CONCATENATE(X3,B3) -> 2defaite | AU3: =CONCATENATE(Y3,C3) -> 2defaite | AV3: =CONCATENATE(Z3,D3) -> 2defaite | AW3: =CONCATENATE(AA3,E3) -> 1nul | AX3: =CONCATENATE(AB3,F3) -> 2victoire | AY3: =CONCATENATE(AC3,G3) -> 2defaite | AZ3: =CONCATENATE(AD3,H3) -> 1nul | BA3: =CONCATENATE(AE3,I3) -> 1defaite | ... BM3: =CONCATENATE(AQ3,U3) -> 1victoire
A4: 3 | B4: =IF(COUNTIF('DB L1'!$B22:$B31,'Résultat équipe'!B$1)=1,VLOOKUP(B$1,'DB L1'!$B22:$O31,14,FALSE),VLOOKUP('Résultat équipe'!B$1,'DB L1'!$C22:$P31,14,FALSE)) -> victoire | C4: =IF(COUNTIF('DB L1'!$B22:$B31,'Résultat équipe'!C$1)=1,VLOOKUP(C$1,'DB L1'!$B22:$O31,14,FALSE),VLOOKUP('Résultat équipe'!C$1,'DB L1'!$C22:$P31,14,FALSE)) -> defaite | D4: =IF(COUNTIF('DB L1'!$B22:$B31,'Résultat équipe'!D$1)=1,VLOOKUP(D$1,'DB L1'!$B22:$O31,14,FALSE),VLOOKUP('Résultat équipe'!D$1,'DB L1'!$C22:$P31,14,FALSE)) -> victoire | E4: =IF(COUNTIF('DB L1'!$B22:$B31,'Résultat équipe'!E$1)=1,VLOOKUP(E$1,'DB L1'!$B22:$O31,14,FALSE),VLOOKUP('Résultat équipe'!E$1,'DB L1'!$C22:$P31,14,FALSE)) -> nul | F4: =IF(COUNTIF('DB L1'!$B22:$B31,'Résultat équipe'!F$1)=1,VLOOKUP(F$1,'DB L1'!$B22:$O31,14,FALSE),VLOOKUP('Résultat équipe'!F$1,'DB L1'!$C22:$P31,14,FALSE)) -> victoire | G4: =IF(COUNTIF('DB L1'!$B22:$B31,'Résultat équipe'!G$1)=1,VLOOKUP(G$1,'DB L1'!$B22:$O31,14,FALSE),VLOOKUP('Résultat équipe'!G$1,'DB L1'!$C22:$P31,14,FALSE)) -> defaite | H4: =IF(COUNTIF('DB L1'!$B22:$B31,'Résultat équipe'!H$1)=1,VLOOKUP(H$1,'DB L1'!$B22:$O31,14,FALSE),VLOOKUP('Résultat équipe'!H$1,'DB L1'!$C22:$P31,14,FALSE)) -> victoire | I4: =IF(COUNTIF('DB L1'!$B22:$B31,'Résultat équipe'!I$1)=1,VLOOKUP(I$1,'DB L1'!$B22:$O31,14,FALSE),VLOOKUP('Résultat équipe'!I$1,'DB L1'!$C22:$P31,14,FALSE)) -> victoire | ... U4: =IF(COUNTIF('DB L1'!$B22:$B31,'Résultat équipe'!U$1)=1,VLOOKUP(U$1,'DB L1'!$B22:$O31,14,FALSE),VLOOKUP('Résultat équipe'!U$1,'DB L1'!$C22:$P31,14,FALSE)) -> victoire | W4: 3 | X4: =IF(B4=B3,X3+1,1) -> 1 | Y4: =IF(C4=C3,Y3+1,1) -> 3 | Z4: =IF(D4=D3,Z3+1,1) -> 1 | AA4: =IF(E4=E3,AA3+1,1) -> 2 | AB4: =IF(F4=F3,AB3+1,1) -> 3 | AC4: =IF(G4=G3,AC3+1,1) -> 3 | AD4: =IF(H4=H3,AD3+1,1) -> 1 | AE4: =IF(I4=I3,AE3+1,1) -> 1 | ... AQ4: =IF(U4=U3,AQ3+1,1) -> 2 | AS4: 3 | AT4: =CONCATENATE(X4,B4) -> 1victoire | AU4: =CONCATENATE(Y4,C4) -> 3defaite | AV4: =CONCATENATE(Z4,D4) -> 1victoire | AW4: =CONCATENATE(AA4,E4) -> 2nul | AX4: =CONCATENATE(AB4,F4) -> 3victoire | AY4: =CONCATENATE(AC4,G4) -> 3defaite | AZ4: =CONCATENATE(AD4,H4) -> 1victoire | BA4: =CONCATENATE(AE4,I4) -> 1victoire | ... BM4: =CONCATENATE(AQ4,U4) -> 2victoire
A5: 4 | B5: =IF(COUNTIF('DB L1'!$B32:$B41,'Résultat équipe'!B$1)=1,VLOOKUP(B$1,'DB L1'!$B32:$O41,14,FALSE),VLOOKUP('Résultat équipe'!B$1,'DB L1'!$C32:$P41,14,FALSE)) -> nul | C5: =IF(COUNTIF('DB L1'!$B32:$B41,'Résultat équipe'!C$1)=1,VLOOKUP(C$1,'DB L1'!$B32:$O41,14,FALSE),VLOOKUP('Résultat équipe'!C$1,'DB L1'!$C32:$P41,14,FALSE)) -> victoire | D5: =IF(COUNTIF('DB L1'!$B32:$B41,'Résultat équipe'!D$1)=1,VLOOKUP(D$1,'DB L1'!$B32:$O41,14,FALSE),VLOOKUP('Résultat équipe'!D$1,'DB L1'!$C32:$P41,14,FALSE)) -> defaite | E5: =IF(COUNTIF('DB L1'!$B32:$B41,'Résultat équipe'!E$1)=1,VLOOKUP(E$1,'DB L1'!$B32:$O41,14,FALSE),VLOOKUP('Résultat équipe'!E$1,'DB L1'!$C32:$P41,14,FALSE)) -> victoire | F5: =IF(COUNTIF('DB L1'!$B32:$B41,'Résultat équipe'!F$1)=1,VLOOKUP(F$1,'DB L1'!$B32:$O41,14,FALSE),VLOOKUP('Résultat équipe'!F$1,'DB L1'!$C32:$P41,14,FALSE)) -> defaite | G5: =IF(COUNTIF('DB L1'!$B32:$B41,'Résultat équipe'!G$1)=1,VLOOKUP(G$1,'DB L1'!$B32:$O41,14,FALSE),VLOOKUP('Résultat équipe'!G$1,'DB L1'!$C32:$P41,14,FALSE)) -> defaite | H5: =IF(COUNTIF('DB L1'!$B32:$B41,'Résultat équipe'!H$1)=1,VLOOKUP(H$1,'DB L1'!$B32:$O41,14,FALSE),VLOOKUP('Résultat équipe'!H$1,'DB L1'!$C32:$P41,14,FALSE)) -> defaite | I5: =IF(COUNTIF('DB L1'!$B32:$B41,'Résultat équipe'!I$1)=1,VLOOKUP(I$1,'DB L1'!$B32:$O41,14,FALSE),VLOOKUP('Résultat équipe'!I$1,'DB L1'!$C32:$P41,14,FALSE)) -> defaite | ... U5: =IF(COUNTIF('DB L1'!$B32:$B41,'Résultat équipe'!U$1)=1,VLOOKUP(U$1,'DB L1'!$B32:$O41,14,FALSE),VLOOKUP('Résultat équipe'!U$1,'DB L1'!$C32:$P41,14,FALSE)) -> victoire | W5: 4 | X5: =IF(B5=B4,X4+1,1) -> 1 | Y5: =IF(C5=C4,Y4+1,1) -> 1 | Z5: =IF(D5=D4,Z4+1,1) -> 1 | AA5: =IF(E5=E4,AA4+1,1) -> 1 | AB5: =IF(F5=F4,AB4+1,1) -> 1 | AC5: =IF(G5=G4,AC4+1,1) -> 4 | AD5: =IF(H5=H4,AD4+1,1) -> 1 | AE5: =IF(I5=I4,AE4+1,1) -> 1 | ... AQ5: =IF(U5=U4,AQ4+1,1) -> 3 | AS5: 4 | AT5: =CONCATENATE(X5,B5) -> 1nul | AU5: =CONCATENATE(Y5,C5) -> 1victoire | AV5: =CONCATENATE(Z5,D5) -> 1defaite | AW5: =CONCATENATE(AA5,E5) -> 1victoire | AX5: =CONCATENATE(AB5,F5) -> 1defaite | AY5: =CONCATENATE(AC5,G5) -> 4defaite | AZ5: =CONCATENATE(AD5,H5) -> 1defaite | BA5: =CONCATENATE(AE5,I5) -> 1defaite | ... BM5: =CONCATENATE(AQ5,U5) -> 3victoire
A6: 5 | B6: =IF(COUNTIF('DB L1'!$B42:$B51,'Résultat équipe'!B$1)=1,VLOOKUP(B$1,'DB L1'!$B42:$O51,14,FALSE),VLOOKUP('Résultat équipe'!B$1,'DB L1'!$C42:$P51,14,FALSE)) -> defaite | C6: =IF(COUNTIF('DB L1'!$B42:$B51,'Résultat équipe'!C$1)=1,VLOOKUP(C$1,'DB L1'!$B42:$O51,14,FALSE),VLOOKUP('Résultat équipe'!C$1,'DB L1'!$C42:$P51,14,FALSE)) -> victoire | D6: =IF(COUNTIF('DB L1'!$B42:$B51,'Résultat équipe'!D$1)=1,VLOOKUP(D$1,'DB L1'!$B42:$O51,14,FALSE),VLOOKUP('Résultat équipe'!D$1,'DB L1'!$C42:$P51,14,FALSE)) -> nul | E6: =IF(COUNTIF('DB L1'!$B42:$B51,'Résultat équipe'!E$1)=1,VLOOKUP(E$1,'DB L1'!$B42:$O51,14,FALSE),VLOOKUP('Résultat équipe'!E$1,'DB L1'!$C42:$P51,14,FALSE)) -> nul | F6: =IF(COUNTIF('DB L1'!$B42:$B51,'Résultat équipe'!F$1)=1,VLOOKUP(F$1,'DB L1'!$B42:$O51,14,FALSE),VLOOKUP('Résultat équipe'!F$1,'DB L1'!$C42:$P51,14,FALSE)) -> defaite | G6: =IF(COUNTIF('DB L1'!$B42:$B51,'Résultat équipe'!G$1)=1,VLOOKUP(G$1,'DB L1'!$B42:$O51,14,FALSE),VLOOKUP('Résultat équipe'!G$1,'DB L1'!$C42:$P51,14,FALSE)) -> defaite | H6: =IF(COUNTIF('DB L1'!$B42:$B51,'Résultat équipe'!H$1)=1,VLOOKUP(H$1,'DB L1'!$B42:$O51,14,FALSE),VLOOKUP('Résultat équipe'!H$1,'DB L1'!$C42:$P51,14,FALSE)) -> victoire | I6: =IF(COUNTIF('DB L1'!$B42:$B51,'Résultat équipe'!I$1)=1,VLOOKUP(I$1,'DB L1'!$B42:$O51,14,FALSE),VLOOKUP('Résultat équipe'!I$1,'DB L1'!$C42:$P51,14,FALSE)) -> nul | ... U6: =IF(COUNTIF('DB L1'!$B42:$B51,'Résultat équipe'!U$1)=1,VLOOKUP(U$1,'DB L1'!$B42:$O51,14,FALSE),VLOOKUP('Résultat équipe'!U$1,'DB L1'!$C42:$P51,14,FALSE)) -> nul | W6: 5 | X6: =IF(B6=B5,X5+1,1) -> 1 | Y6: =IF(C6=C5,Y5+1,1) -> 2 | Z6: =IF(D6=D5,Z5+1,1) -> 1 | AA6: =IF(E6=E5,AA5+1,1) -> 1 | AB6: =IF(F6=F5,AB5+1,1) -> 2 | AC6: =IF(G6=G5,AC5+1,1) -> 5 | AD6: =IF(H6=H5,AD5+1,1) -> 1 | AE6: =IF(I6=I5,AE5+1,1) -> 1 | ... AQ6: =IF(U6=U5,AQ5+1,1) -> 1 | AS6: 5 | AT6: =CONCATENATE(X6,B6) -> 1defaite | AU6: =CONCATENATE(Y6,C6) -> 2victoire | AV6: =CONCATENATE(Z6,D6) -> 1nul | AW6: =CONCATENATE(AA6,E6) -> 1nul | AX6: =CONCATENATE(AB6,F6) -> 2defaite | AY6: =CONCATENATE(AC6,G6) -> 5defaite | AZ6: =CONCATENATE(AD6,H6) -> 1victoire | BA6: =CONCATENATE(AE6,I6) -> 1nul | ... BM6: =CONCATENATE(AQ6,U6) -> 1nul
A7: 6 | B7: =IF(COUNTIF('DB L1'!$B52:$B61,'Résultat équipe'!B$1)=1,VLOOKUP(B$1,'DB L1'!$B52:$O61,14,FALSE),VLOOKUP('Résultat équipe'!B$1,'DB L1'!$C52:$P61,14,FALSE)) -> defaite | C7: =IF(COUNTIF('DB L1'!$B52:$B61,'Résultat équipe'!C$1)=1,VLOOKUP(C$1,'DB L1'!$B52:$O61,14,FALSE),VLOOKUP('Résultat équipe'!C$1,'DB L1'!$C52:$P61,14,FALSE)) -> nul | D7: =IF(COUNTIF('DB L1'!$B52:$B61,'Résultat équipe'!D$1)=1,VLOOKUP(D$1,'DB L1'!$B52:$O61,14,FALSE),VLOOKUP('Résultat équipe'!D$1,'DB L1'!$C52:$P61,14,FALSE)) -> victoire | E7: =IF(COUNTIF('DB L1'!$B52:$B61,'Résultat équipe'!E$1)=1,VLOOKUP(E$1,'DB L1'!$B52:$O61,14,FALSE),VLOOKUP('Résultat équipe'!E$1,'DB L1'!$C52:$P61,14,FALSE)) -> defaite | F7: =IF(COUNTIF('DB L1'!$B52:$B61,'Résultat équipe'!F$1)=1,VLOOKUP(F$1,'DB L1'!$B52:$O61,14,FALSE),VLOOKUP('Résultat équipe'!F$1,'DB L1'!$C52:$P61,14,FALSE)) -> nul | G7: =IF(COUNTIF('DB L1'!$B52:$B61,'Résultat équipe'!G$1)=1,VLOOKUP(G$1,'DB L1'!$B52:$O61,14,FALSE),VLOOKUP('Résultat équipe'!G$1,'DB L1'!$C52:$P61,14,FALSE)) -> defaite | H7: =IF(COUNTIF('DB L1'!$B52:$B61,'Résultat équipe'!H$1)=1,VLOOKUP(H$1,'DB L1'!$B52:$O61,14,FALSE),VLOOKUP('Résultat équipe'!H$1,'DB L1'!$C52:$P61,14,FALSE)) -> victoire | I7: =IF(COUNTIF('DB L1'!$B52:$B61,'Résultat équipe'!I$1)=1,VLOOKUP(I$1,'DB L1'!$B52:$O61,14,FALSE),VLOOKUP('Résultat équipe'!I$1,'DB L1'!$C52:$P61,14,FALSE)) -> victoire | ... U7: =IF(COUNTIF('DB L1'!$B52:$B61,'Résultat équipe'!U$1)=1,VLOOKUP(U$1,'DB L1'!$B52:$O61,14,FALSE),VLOOKUP('Résultat équipe'!U$1,'DB L1'!$C52:$P61,14,FALSE)) -> nul | W7: 6 | X7: =IF(B7=B6,X6+1,1) -> 2 | Y7: =IF(C7=C6,Y6+1,1) -> 1 | Z7: =IF(D7=D6,Z6+1,1) -> 1 | AA7: =IF(E7=E6,AA6+1,1) -> 1 | AB7: =IF(F7=F6,AB6+1,1) -> 1 | AC7: =IF(G7=G6,AC6+1,1) -> 6 | AD7: =IF(H7=H6,AD6+1,1) -> 2 | AE7: =IF(I7=I6,AE6+1,1) -> 1 | ... AQ7: =IF(U7=U6,AQ6+1,1) -> 2 | AS7: 6 | AT7: =CONCATENATE(X7,B7) -> 2defaite | AU7: =CONCATENATE(Y7,C7) -> 1nul | AV7: =CONCATENATE(Z7,D7) -> 1victoire | AW7: =CONCATENATE(AA7,E7) -> 1defaite | AX7: =CONCATENATE(AB7,F7) -> 1nul | AY7: =CONCATENATE(AC7,G7) -> 6defaite | AZ7: =CONCATENATE(AD7,H7) -> 2victoire | BA7: =CONCATENATE(AE7,I7) -> 1victoire | ... BM7: =CONCATENATE(AQ7,U7) -> 2nul
A8: 7 | B8: =IF(COUNTIF('DB L1'!$B62:$B71,'Résultat équipe'!B$1)=1,VLOOKUP(B$1,'DB L1'!$B62:$O71,14,FALSE),VLOOKUP('Résultat équipe'!B$1,'DB L1'!$C62:$P71,14,FALSE)) -> victoire | C8: =IF(COUNTIF('DB L1'!$B62:$B71,'Résultat équipe'!C$1)=1,VLOOKUP(C$1,'DB L1'!$B62:$O71,14,FALSE),VLOOKUP('Résultat équipe'!C$1,'DB L1'!$C62:$P71,14,FALSE)) -> victoire | D8: =IF(COUNTIF('DB L1'!$B62:$B71,'Résultat équipe'!D$1)=1,VLOOKUP(D$1,'DB L1'!$B62:$O71,14,FALSE),VLOOKUP('Résultat équipe'!D$1,'DB L1'!$C62:$P71,14,FALSE)) -> victoire | E8: =IF(COUNTIF('DB L1'!$B62:$B71,'Résultat équipe'!E$1)=1,VLOOKUP(E$1,'DB L1'!$B62:$O71,14,FALSE),VLOOKUP('Résultat équipe'!E$1,'DB L1'!$C62:$P71,14,FALSE)) -> nul | F8: =IF(COUNTIF('DB L1'!$B62:$B71,'Résultat équipe'!F$1)=1,VLOOKUP(F$1,'DB L1'!$B62:$O71,14,FALSE),VLOOKUP('Résultat équipe'!F$1,'DB L1'!$C62:$P71,14,FALSE)) -> defaite | G8: =IF(COUNTIF('DB L1'!$B62:$B71,'Résultat équipe'!G$1)=1,VLOOKUP(G$1,'DB L1'!$B62:$O71,14,FALSE),VLOOKUP('Résultat équipe'!G$1,'DB L1'!$C62:$P71,14,FALSE)) -> nul | H8: =IF(COUNTIF('DB L1'!$B62:$B71,'Résultat équipe'!H$1)=1,VLOOKUP(H$1,'DB L1'!$B62:$O71,14,FALSE),VLOOKUP('Résultat équipe'!H$1,'DB L1'!$C62:$P71,14,FALSE)) -> defaite | I8: =IF(COUNTIF('DB L1'!$B62:$B71,'Résultat équipe'!I$1)=1,VLOOKUP(I$1,'DB L1'!$B62:$O71,14,FALSE),VLOOKUP('Résultat équipe'!I$1,'DB L1'!$C62:$P71,14,FALSE)) -> victoire | ... U8: =IF(COUNTIF('DB L1'!$B62:$B71,'Résultat équipe'!U$1)=1,VLOOKUP(U$1,'DB L1'!$B62:$O71,14,FALSE),VLOOKUP('Résultat équipe'!U$1,'DB L1'!$C62:$P71,14,FALSE)) -> defaite | W8: 7 | X8: =IF(B8=B7,X7+1,1) -> 1 | Y8: =IF(C8=C7,Y7+1,1) -> 1 | Z8: =IF(D8=D7,Z7+1,1) -> 2 | AA8: =IF(E8=E7,AA7+1,1) -> 1 | AB8: =IF(F8=F7,AB7+1,1) -> 1 | AC8: =IF(G8=G7,AC7+1,1) -> 1 | AD8: =IF(H8=H7,AD7+1,1) -> 1 | AE8: =IF(I8=I7,AE7+1,1) -> 2 | ... AQ8: =IF(U8=U7,AQ7+1,1) -> 1 | AS8: 7 | AT8: =CONCATENATE(X8,B8) -> 1victoire | AU8: =CONCATENATE(Y8,C8) -> 1victoire | AV8: =CONCATENATE(Z8,D8) -> 2victoire | AW8: =CONCATENATE(AA8,E8) -> 1nul | AX8: =CONCATENATE(AB8,F8) -> 1defaite | AY8: =CONCATENATE(AC8,G8) -> 1nul | AZ8: =CONCATENATE(AD8,H8) -> 1defaite | BA8: =CONCATENATE(AE8,I8) -> 2victoire | ... BM8: =CONCATENATE(AQ8,U8) -> 1defaite
A9: 8 | B9: =IF(COUNTIF('DB L1'!$B72:$B81,'Résultat équipe'!B$1)=1,VLOOKUP(B$1,'DB L1'!$B72:$O81,14,FALSE),VLOOKUP('Résultat équipe'!B$1,'DB L1'!$C72:$P81,14,FALSE)) -> defaite | C9: =IF(COUNTIF('DB L1'!$B72:$B81,'Résultat équipe'!C$1)=1,VLOOKUP(C$1,'DB L1'!$B72:$O81,14,FALSE),VLOOKUP('Résultat équipe'!C$1,'DB L1'!$C72:$P81,14,FALSE)) -> defaite | D9: =IF(COUNTIF('DB L1'!$B72:$B81,'Résultat équipe'!D$1)=1,VLOOKUP(D$1,'DB L1'!$B72:$O81,14,FALSE),VLOOKUP('Résultat équipe'!D$1,'DB L1'!$C72:$P81,14,FALSE)) -> nul | E9: =IF(COUNTIF('DB L1'!$B72:$B81,'Résultat équipe'!E$1)=1,VLOOKUP(E$1,'DB L1'!$B72:$O81,14,FALSE),VLOOKUP('Résultat équipe'!E$1,'DB L1'!$C72:$P81,14,FALSE)) -> victoire | F9: =IF(COUNTIF('DB L1'!$B72:$B81,'Résultat équipe'!F$1)=1,VLOOKUP(F$1,'DB L1'!$B72:$O81,14,FALSE),VLOOKUP('Résultat équipe'!F$1,'DB L1'!$C72:$P81,14,FALSE)) -> defaite | G9: =IF(COUNTIF('DB L1'!$B72:$B81,'Résultat équipe'!G$1)=1,VLOOKUP(G$1,'DB L1'!$B72:$O81,14,FALSE),VLOOKUP('Résultat équipe'!G$1,'DB L1'!$C72:$P81,14,FALSE)) -> victoire | H9: =IF(COUNTIF('DB L1'!$B72:$B81,'Résultat équipe'!H$1)=1,VLOOKUP(H$1,'DB L1'!$B72:$O81,14,FALSE),VLOOKUP('Résultat équipe'!H$1,'DB L1'!$C72:$P81,14,FALSE)) -> victoire | I9: =IF(COUNTIF('DB L1'!$B72:$B81,'Résultat équipe'!I$1)=1,VLOOKUP(I$1,'DB L1'!$B72:$O81,14,FALSE),VLOOKUP('Résultat équipe'!I$1,'DB L1'!$C72:$P81,14,FALSE)) -> nul | ... U9: =IF(COUNTIF('DB L1'!$B72:$B81,'Résultat équipe'!U$1)=1,VLOOKUP(U$1,'DB L1'!$B72:$O81,14,FALSE),VLOOKUP('Résultat équipe'!U$1,'DB L1'!$C72:$P81,14,FALSE)) -> nul | W9: 8 | X9: =IF(B9=B8,X8+1,1) -> 1 | Y9: =IF(C9=C8,Y8+1,1) -> 1 | Z9: =IF(D9=D8,Z8+1,1) -> 1 | AA9: =IF(E9=E8,AA8+1,1) -> 1 | AB9: =IF(F9=F8,AB8+1,1) -> 2 | AC9: =IF(G9=G8,AC8+1,1) -> 1 | AD9: =IF(H9=H8,AD8+1,1) -> 1 | AE9: =IF(I9=I8,AE8+1,1) -> 1 | ... AQ9: =IF(U9=U8,AQ8+1,1) -> 1 | AS9: 8 | AT9: =CONCATENATE(X9,B9) -> 1defaite | AU9: =CONCATENATE(Y9,C9) -> 1defaite | AV9: =CONCATENATE(Z9,D9) -> 1nul | AW9: =CONCATENATE(AA9,E9) -> 1victoire | AX9: =CONCATENATE(AB9,F9) -> 2defaite | AY9: =CONCATENATE(AC9,G9) -> 1victoire | AZ9: =CONCATENATE(AD9,H9) -> 1victoire | BA9: =CONCATENATE(AE9,I9) -> 1nul | ... BM9: =CONCATENATE(AQ9,U9) -> 1nul
A10: 9 | B10: =IF(COUNTIF('DB L1'!$B82:$B91,'Résultat équipe'!B$1)=1,VLOOKUP(B$1,'DB L1'!$B82:$O91,14,FALSE),VLOOKUP('Résultat équipe'!B$1,'DB L1'!$C82:$P91,14,FALSE)) -> victoire | C10: =IF(COUNTIF('DB L1'!$B82:$B91,'Résultat équipe'!C$1)=1,VLOOKUP(C$1,'DB L1'!$B82:$O91,14,FALSE),VLOOKUP('Résultat équipe'!C$1,'DB L1'!$C82:$P91,14,FALSE)) -> nul | D10: =IF(COUNTIF('DB L1'!$B82:$B91,'Résultat équipe'!D$1)=1,VLOOKUP(D$1,'DB L1'!$B82:$O91,14,FALSE),VLOOKUP('Résultat équipe'!D$1,'DB L1'!$C82:$P91,14,FALSE)) -> victoire | E10: =IF(COUNTIF('DB L1'!$B82:$B91,'Résultat équipe'!E$1)=1,VLOOKUP(E$1,'DB L1'!$B82:$O91,14,FALSE),VLOOKUP('Résultat équipe'!E$1,'DB L1'!$C82:$P91,14,FALSE)) -> defaite | F10: =IF(COUNTIF('DB L1'!$B82:$B91,'Résultat équipe'!F$1)=1,VLOOKUP(F$1,'DB L1'!$B82:$O91,14,FALSE),VLOOKUP('Résultat équipe'!F$1,'DB L1'!$C82:$P91,14,FALSE)) -> defaite | G10: =IF(COUNTIF('DB L1'!$B82:$B91,'Résultat équipe'!G$1)=1,VLOOKUP(G$1,'DB L1'!$B82:$O91,14,FALSE),VLOOKUP('Résultat équipe'!G$1,'DB L1'!$C82:$P91,14,FALSE)) -> nul | H10: =IF(COUNTIF('DB L1'!$B82:$B91,'Résultat équipe'!H$1)=1,VLOOKUP(H$1,'DB L1'!$B82:$O91,14,FALSE),VLOOKUP('Résultat équipe'!H$1,'DB L1'!$C82:$P91,14,FALSE)) -> victoire | I10: =IF(COUNTIF('DB L1'!$B82:$B91,'Résultat équipe'!I$1)=1,VLOOKUP(I$1,'DB L1'!$B82:$O91,14,FALSE),VLOOKUP('Résultat équipe'!I$1,'DB L1'!$C82:$P91,14,FALSE)) -> defaite | ... U10: =IF(COUNTIF('DB L1'!$B82:$B91,'Résultat équipe'!U$1)=1,VLOOKUP(U$1,'DB L1'!$B82:$O91,14,FALSE),VLOOKUP('Résultat équipe'!U$1,'DB L1'!$C82:$P91,14,FALSE)) -> nul | W10: 9 | X10: =IF(B10=B9,X9+1,1) -> 1 | Y10: =IF(C10=C9,Y9+1,1) -> 1 | Z10: =IF(D10=D9,Z9+1,1) -> 1 | AA10: =IF(E10=E9,AA9+1,1) -> 1 | AB10: =IF(F10=F9,AB9+1,1) -> 3 | AC10: =IF(G10=G9,AC9+1,1) -> 1 | AD10: =IF(H10=H9,AD9+1,1) -> 2 | AE10: =IF(I10=I9,AE9+1,1) -> 1 | ... AQ10: =IF(U10=U9,AQ9+1,1) -> 2 | AS10: 9 | AT10: =CONCATENATE(X10,B10) -> 1victoire | AU10: =CONCATENATE(Y10,C10) -> 1nul | AV10: =CONCATENATE(Z10,D10) -> 1victoire | AW10: =CONCATENATE(AA10,E10) -> 1defaite | AX10: =CONCATENATE(AB10,F10) -> 3defaite | AY10: =CONCATENATE(AC10,G10) -> 1nul | AZ10: =CONCATENATE(AD10,H10) -> 2victoire | BA10: =CONCATENATE(AE10,I10) -> 1defaite | ... BM10: =CONCATENATE(AQ10,U10) -> 2nul
A11: 10 | B11: =IF(COUNTIF('DB L1'!$B92:$B101,'Résultat équipe'!B$1)=1,VLOOKUP(B$1,'DB L1'!$B92:$O101,14,FALSE),VLOOKUP('Résultat équipe'!B$1,'DB L1'!$C92:$P101,14,FALSE)) -> defaite | C11: =IF(COUNTIF('DB L1'!$B92:$B101,'Résultat équipe'!C$1)=1,VLOOKUP(C$1,'DB L1'!$B92:$O101,14,FALSE),VLOOKUP('Résultat équipe'!C$1,'DB L1'!$C92:$P101,14,FALSE)) -> nul | D11: =IF(COUNTIF('DB L1'!$B92:$B101,'Résultat équipe'!D$1)=1,VLOOKUP(D$1,'DB L1'!$B92:$O101,14,FALSE),VLOOKUP('Résultat équipe'!D$1,'DB L1'!$C92:$P101,14,FALSE)) -> defaite | E11: =IF(COUNTIF('DB L1'!$B92:$B101,'Résultat équipe'!E$1)=1,VLOOKUP(E$1,'DB L1'!$B92:$O101,14,FALSE),VLOOKUP('Résultat équipe'!E$1,'DB L1'!$C92:$P101,14,FALSE)) -> nul | F11: =IF(COUNTIF('DB L1'!$B92:$B101,'Résultat équipe'!F$1)=1,VLOOKUP(F$1,'DB L1'!$B92:$O101,14,FALSE),VLOOKUP('Résultat équipe'!F$1,'DB L1'!$C92:$P101,14,FALSE)) -> defaite | G11: =IF(COUNTIF('DB L1'!$B92:$B101,'Résultat équipe'!G$1)=1,VLOOKUP(G$1,'DB L1'!$B92:$O101,14,FALSE),VLOOKUP('Résultat équipe'!G$1,'DB L1'!$C92:$P101,14,FALSE)) -> nul | H11: =IF(COUNTIF('DB L1'!$B92:$B101,'Résultat équipe'!H$1)=1,VLOOKUP(H$1,'DB L1'!$B92:$O101,14,FALSE),VLOOKUP('Résultat équipe'!H$1,'DB L1'!$C92:$P101,14,FALSE)) -> victoire | I11: =IF(COUNTIF('DB L1'!$B92:$B101,'Résultat équipe'!I$1)=1,VLOOKUP(I$1,'DB L1'!$B92:$O101,14,FALSE),VLOOKUP('Résultat équipe'!I$1,'DB L1'!$C92:$P101,14,FALSE)) -> victoire | ... U11: =IF(COUNTIF('DB L1'!$B92:$B101,'Résultat équipe'!U$1)=1,VLOOKUP(U$1,'DB L1'!$B92:$O101,14,FALSE),VLOOKUP('Résultat équipe'!U$1,'DB L1'!$C92:$P101,14,FALSE)) -> defaite | W11: 10 | X11: =IF(B11=B10,X10+1,1) -> 1 | Y11: =IF(C11=C10,Y10+1,1) -> 2 | Z11: =IF(D11=D10,Z10+1,1) -> 1 | AA11: =IF(E11=E10,AA10+1,1) -> 1 | AB11: =IF(F11=F10,AB10+1,1) -> 4 | AC11: =IF(G11=G10,AC10+1,1) -> 2 | AD11: =IF(H11=H10,AD10+1,1) -> 3 | AE11: =IF(I11=I10,AE10+1,1) -> 1 | ... AQ11: =IF(U11=U10,AQ10+1,1) -> 1 | AS11: 10 | AT11: =CONCATENATE(X11,B11) -> 1defaite | AU11: =CONCATENATE(Y11,C11) -> 2nul | AV11: =CONCATENATE(Z11,D11) -> 1defaite | AW11: =CONCATENATE(AA11,E11) -> 1nul | AX11: =CONCATENATE(AB11,F11) -> 4defaite | AY11: =CONCATENATE(AC11,G11) -> 2nul | AZ11: =CONCATENATE(AD11,H11) -> 3victoire | BA11: =CONCATENATE(AE11,I11) -> 1victoire | ... BM11: =CONCATENATE(AQ11,U11) -> 1defaite
A12: 11 | B12: =IF(COUNTIF('DB L1'!$B102:$B111,'Résultat équipe'!B$1)=1,VLOOKUP(B$1,'DB L1'!$B102:$O111,14,FALSE),VLOOKUP('Résultat équipe'!B$1,'DB L1'!$C102:$P111,14,FALSE)) -> #N/A | C12: =IF(COUNTIF('DB L1'!$B102:$B111,'Résultat équipe'!C$1)=1,VLOOKUP(C$1,'DB L1'!$B102:$O111,14,FALSE),VLOOKUP('Résultat équipe'!C$1,'DB L1'!$C102:$P111,14,FALSE)) -> #N/A | D12: =IF(COUNTIF('DB L1'!$B102:$B111,'Résultat équipe'!D$1)=1,VLOOKUP(D$1,'DB L1'!$B102:$O111,14,FALSE),VLOOKUP('Résultat équipe'!D$1,'DB L1'!$C102:$P111,14,FALSE)) -> #N/A | E12: =IF(COUNTIF('DB L1'!$B102:$B111,'Résultat équipe'!E$1)=1,VLOOKUP(E$1,'DB L1'!$B102:$O111,14,FALSE),VLOOKUP('Résultat équipe'!E$1,'DB L1'!$C102:$P111,14,FALSE)) -> #N/A | F12: =IF(COUNTIF('DB L1'!$B102:$B111,'Résultat équipe'!F$1)=1,VLOOKUP(F$1,'DB L1'!$B102:$O111,14,FALSE),VLOOKUP('Résultat équipe'!F$1,'DB L1'!$C102:$P111,14,FALSE)) -> #N/A | G12: =IF(COUNTIF('DB L1'!$B102:$B111,'Résultat équipe'!G$1)=1,VLOOKUP(G$1,'DB L1'!$B102:$O111,14,FALSE),VLOOKUP('Résultat équipe'!G$1,'DB L1'!$C102:$P111,14,FALSE)) -> #N/A | H12: =IF(COUNTIF('DB L1'!$B102:$B111,'Résultat équipe'!H$1)=1,VLOOKUP(H$1,'DB L1'!$B102:$O111,14,FALSE),VLOOKUP('Résultat équipe'!H$1,'DB L1'!$C102:$P111,14,FALSE)) -> #N/A | I12: =IF(COUNTIF('DB L1'!$B102:$B111,'Résultat équipe'!I$1)=1,VLOOKUP(I$1,'DB L1'!$B102:$O111,14,FALSE),VLOOKUP('Résultat équipe'!I$1,'DB L1'!$C102:$P111,14,FALSE)) -> #N/A | ... U12: =IF(COUNTIF('DB L1'!$B102:$B111,'Résultat équipe'!U$1)=1,VLOOKUP(U$1,'DB L1'!$B102:$O111,14,FALSE),VLOOKUP('Résultat équipe'!U$1,'DB L1'!$C102:$P111,14,FALSE)) -> #N/A | W12: 11 | AS12: 11
A13: 12 | B13: =IF(COUNTIF('DB L1'!$B112:$B121,'Résultat équipe'!B$1)=1,VLOOKUP(B$1,'DB L1'!$B112:$O121,14,FALSE),VLOOKUP('Résultat équipe'!B$1,'DB L1'!$C112:$P121,14,FALSE)) -> #N/A | C13: =IF(COUNTIF('DB L1'!$B112:$B121,'Résultat équipe'!C$1)=1,VLOOKUP(C$1,'DB L1'!$B112:$O121,14,FALSE),VLOOKUP('Résultat équipe'!C$1,'DB L1'!$C112:$P121,14,FALSE)) -> #N/A | D13: =IF(COUNTIF('DB L1'!$B112:$B121,'Résultat équipe'!D$1)=1,VLOOKUP(D$1,'DB L1'!$B112:$O121,14,FALSE),VLOOKUP('Résultat équipe'!D$1,'DB L1'!$C112:$P121,14,FALSE)) -> #N/A | E13: =IF(COUNTIF('DB L1'!$B112:$B121,'Résultat équipe'!E$1)=1,VLOOKUP(E$1,'DB L1'!$B112:$O121,14,FALSE),VLOOKUP('Résultat équipe'!E$1,'DB L1'!$C112:$P121,14,FALSE)) -> #N/A | F13: =IF(COUNTIF('DB L1'!$B112:$B121,'Résultat équipe'!F$1)=1,VLOOKUP(F$1,'DB L1'!$B112:$O121,14,FALSE),VLOOKUP('Résultat équipe'!F$1,'DB L1'!$C112:$P121,14,FALSE)) -> #N/A | G13: =IF(COUNTIF('DB L1'!$B112:$B121,'Résultat équipe'!G$1)=1,VLOOKUP(G$1,'DB L1'!$B112:$O121,14,FALSE),VLOOKUP('Résultat équipe'!G$1,'DB L1'!$C112:$P121,14,FALSE)) -> #N/A | H13: =IF(COUNTIF('DB L1'!$B112:$B121,'Résultat équipe'!H$1)=1,VLOOKUP(H$1,'DB L1'!$B112:$O121,14,FALSE),VLOOKUP('Résultat équipe'!H$1,'DB L1'!$C112:$P121,14,FALSE)) -> #N/A | I13: =IF(COUNTIF('DB L1'!$B112:$B121,'Résultat équipe'!I$1)=1,VLOOKUP(I$1,'DB L1'!$B112:$O121,14,FALSE),VLOOKUP('Résultat équipe'!I$1,'DB L1'!$C112:$P121,14,FALSE)) -> #N/A | ... U13: =IF(COUNTIF('DB L1'!$B112:$B121,'Résultat équipe'!U$1)=1,VLOOKUP(U$1,'DB L1'!$B112:$O121,14,FALSE),VLOOKUP('Résultat équipe'!U$1,'DB L1'!$C112:$P121,14,FALSE)) -> #N/A | W13: 12 | AS13: 12
A14: 13 | B14: =IF(COUNTIF('DB L1'!$B122:$B131,'Résultat équipe'!B$1)=1,VLOOKUP(B$1,'DB L1'!$B122:$O131,14,FALSE),VLOOKUP('Résultat équipe'!B$1,'DB L1'!$C122:$P131,14,FALSE)) -> #N/A | C14: =IF(COUNTIF('DB L1'!$B122:$B131,'Résultat équipe'!C$1)=1,VLOOKUP(C$1,'DB L1'!$B122:$O131,14,FALSE),VLOOKUP('Résultat équipe'!C$1,'DB L1'!$C122:$P131,14,FALSE)) -> #N/A | D14: =IF(COUNTIF('DB L1'!$B122:$B131,'Résultat équipe'!D$1)=1,VLOOKUP(D$1,'DB L1'!$B122:$O131,14,FALSE),VLOOKUP('Résultat équipe'!D$1,'DB L1'!$C122:$P131,14,FALSE)) -> #N/A | E14: =IF(COUNTIF('DB L1'!$B122:$B131,'Résultat équipe'!E$1)=1,VLOOKUP(E$1,'DB L1'!$B122:$O131,14,FALSE),VLOOKUP('Résultat équipe'!E$1,'DB L1'!$C122:$P131,14,FALSE)) -> #N/A | F14: =IF(COUNTIF('DB L1'!$B122:$B131,'Résultat équipe'!F$1)=1,VLOOKUP(F$1,'DB L1'!$B122:$O131,14,FALSE),VLOOKUP('Résultat équipe'!F$1,'DB L1'!$C122:$P131,14,FALSE)) -> #N/A | G14: =IF(COUNTIF('DB L1'!$B122:$B131,'Résultat équipe'!G$1)=1,VLOOKUP(G$1,'DB L1'!$B122:$O131,14,FALSE),VLOOKUP('Résultat équipe'!G$1,'DB L1'!$C122:$P131,14,FALSE)) -> #N/A | H14: =IF(COUNTIF('DB L1'!$B122:$B131,'Résultat équipe'!H$1)=1,VLOOKUP(H$1,'DB L1'!$B122:$O131,14,FALSE),VLOOKUP('Résultat équipe'!H$1,'DB L1'!$C122:$P131,14,FALSE)) -> #N/A | I14: =IF(COUNTIF('DB L1'!$B122:$B131,'Résultat équipe'!I$1)=1,VLOOKUP(I$1,'DB L1'!$B122:$O131,14,FALSE),VLOOKUP('Résultat équipe'!I$1,'DB L1'!$C122:$P131,14,FALSE)) -> #N/A | ... U14: =IF(COUNTIF('DB L1'!$B122:$B131,'Résultat équipe'!U$1)=1,VLOOKUP(U$1,'DB L1'!$B122:$O131,14,FALSE),VLOOKUP('Résultat équipe'!U$1,'DB L1'!$C122:$P131,14,FALSE)) -> #N/A | W14: 13 | AS14: 13
A15: 14 | B15: =IF(COUNTIF('DB L1'!$B132:$B141,'Résultat équipe'!B$1)=1,VLOOKUP(B$1,'DB L1'!$B132:$O141,14,FALSE),VLOOKUP('Résultat équipe'!B$1,'DB L1'!$C132:$P141,14,FALSE)) -> #N/A | C15: =IF(COUNTIF('DB L1'!$B132:$B141,'Résultat équipe'!C$1)=1,VLOOKUP(C$1,'DB L1'!$B132:$O141,14,FALSE),VLOOKUP('Résultat équipe'!C$1,'DB L1'!$C132:$P141,14,FALSE)) -> #N/A | D15: =IF(COUNTIF('DB L1'!$B132:$B141,'Résultat équipe'!D$1)=1,VLOOKUP(D$1,'DB L1'!$B132:$O141,14,FALSE),VLOOKUP('Résultat équipe'!D$1,'DB L1'!$C132:$P141,14,FALSE)) -> #N/A | E15: =IF(COUNTIF('DB L1'!$B132:$B141,'Résultat équipe'!E$1)=1,VLOOKUP(E$1,'DB L1'!$B132:$O141,14,FALSE),VLOOKUP('Résultat équipe'!E$1,'DB L1'!$C132:$P141,14,FALSE)) -> #N/A | F15: =IF(COUNTIF('DB L1'!$B132:$B141,'Résultat équipe'!F$1)=1,VLOOKUP(F$1,'DB L1'!$B132:$O141,14,FALSE),VLOOKUP('Résultat équipe'!F$1,'DB L1'!$C132:$P141,14,FALSE)) -> #N/A | G15: =IF(COUNTIF('DB L1'!$B132:$B141,'Résultat équipe'!G$1)=1,VLOOKUP(G$1,'DB L1'!$B132:$O141,14,FALSE),VLOOKUP('Résultat équipe'!G$1,'DB L1'!$C132:$P141,14,FALSE)) -> #N/A | H15: =IF(COUNTIF('DB L1'!$B132:$B141,'Résultat équipe'!H$1)=1,VLOOKUP(H$1,'DB L1'!$B132:$O141,14,FALSE),VLOOKUP('Résultat équipe'!H$1,'DB L1'!$C132:$P141,14,FALSE)) -> #N/A | I15: =IF(COUNTIF('DB L1'!$B132:$B141,'Résultat équipe'!I$1)=1,VLOOKUP(I$1,'DB L1'!$B132:$O141,14,FALSE),VLOOKUP('Résultat équipe'!I$1,'DB L1'!$C132:$P141,14,FALSE)) -> #N/A | ... U15: =IF(COUNTIF('DB L1'!$B132:$B141,'Résultat équipe'!U$1)=1,VLOOKUP(U$1,'DB L1'!$B132:$O141,14,FALSE),VLOOKUP('Résultat équipe'!U$1,'DB L1'!$C132:$P141,14,FALSE)) -> #N/A | W15: 14 | AS15: 14
A16: 15 | B16: =IF(COUNTIF('DB L1'!$B142:$B151,'Résultat équipe'!B$1)=1,VLOOKUP(B$1,'DB L1'!$B142:$O151,14,FALSE),VLOOKUP('Résultat équipe'!B$1,'DB L1'!$C142:$P151,14,FALSE)) -> #N/A | C16: =IF(COUNTIF('DB L1'!$B142:$B151,'Résultat équipe'!C$1)=1,VLOOKUP(C$1,'DB L1'!$B142:$O151,14,FALSE),VLOOKUP('Résultat équipe'!C$1,'DB L1'!$C142:$P151,14,FALSE)) -> #N/A | D16: =IF(COUNTIF('DB L1'!$B142:$B151,'Résultat équipe'!D$1)=1,VLOOKUP(D$1,'DB L1'!$B142:$O151,14,FALSE),VLOOKUP('Résultat équipe'!D$1,'DB L1'!$C142:$P151,14,FALSE)) -> #N/A | E16: =IF(COUNTIF('DB L1'!$B142:$B151,'Résultat équipe'!E$1)=1,VLOOKUP(E$1,'DB L1'!$B142:$O151,14,FALSE),VLOOKUP('Résultat équipe'!E$1,'DB L1'!$C142:$P151,14,FALSE)) -> #N/A | F16: =IF(COUNTIF('DB L1'!$B142:$B151,'Résultat équipe'!F$1)=1,VLOOKUP(F$1,'DB L1'!$B142:$O151,14,FALSE),VLOOKUP('Résultat équipe'!F$1,'DB L1'!$C142:$P151,14,FALSE)) -> #N/A | G16: =IF(COUNTIF('DB L1'!$B142:$B151,'Résultat équipe'!G$1)=1,VLOOKUP(G$1,'DB L1'!$B142:$O151,14,FALSE),VLOOKUP('Résultat équipe'!G$1,'DB L1'!$C142:$P151,14,FALSE)) -> #N/A | H16: =IF(COUNTIF('DB L1'!$B142:$B151,'Résultat équipe'!H$1)=1,VLOOKUP(H$1,'DB L1'!$B142:$O151,14,FALSE),VLOOKUP('Résultat équipe'!H$1,'DB L1'!$C142:$P151,14,FALSE)) -> #N/A | I16: =IF(COUNTIF('DB L1'!$B142:$B151,'Résultat équipe'!I$1)=1,VLOOKUP(I$1,'DB L1'!$B142:$O151,14,FALSE),VLOOKUP('Résultat équipe'!I$1,'DB L1'!$C142:$P151,14,FALSE)) -> #N/A | ... U16: =IF(COUNTIF('DB L1'!$B142:$B151,'Résultat équipe'!U$1)=1,VLOOKUP(U$1,'DB L1'!$B142:$O151,14,FALSE),VLOOKUP('Résultat équipe'!U$1,'DB L1'!$C142:$P151,14,FALSE)) -> #N/A | W16: 15 | AS16: 15
A17: 16 | B17: =IF(COUNTIF('DB L1'!$B152:$B161,'Résultat équipe'!B$1)=1,VLOOKUP(B$1,'DB L1'!$B152:$O161,14,FALSE),VLOOKUP('Résultat équipe'!B$1,'DB L1'!$C152:$P161,14,FALSE)) -> #N/A | C17: =IF(COUNTIF('DB L1'!$B152:$B161,'Résultat équipe'!C$1)=1,VLOOKUP(C$1,'DB L1'!$B152:$O161,14,FALSE),VLOOKUP('Résultat équipe'!C$1,'DB L1'!$C152:$P161,14,FALSE)) -> #N/A | D17: =IF(COUNTIF('DB L1'!$B152:$B161,'Résultat équipe'!D$1)=1,VLOOKUP(D$1,'DB L1'!$B152:$O161,14,FALSE),VLOOKUP('Résultat équipe'!D$1,'DB L1'!$C152:$P161,14,FALSE)) -> #N/A | E17: =IF(COUNTIF('DB L1'!$B152:$B161,'Résultat équipe'!E$1)=1,VLOOKUP(E$1,'DB L1'!$B152:$O161,14,FALSE),VLOOKUP('Résultat équipe'!E$1,'DB L1'!$C152:$P161,14,FALSE)) -> #N/A | F17: =IF(COUNTIF('DB L1'!$B152:$B161,'Résultat équipe'!F$1)=1,VLOOKUP(F$1,'DB L1'!$B152:$O161,14,FALSE),VLOOKUP('Résultat équipe'!F$1,'DB L1'!$C152:$P161,14,FALSE)) -> #N/A | G17: =IF(COUNTIF('DB L1'!$B152:$B161,'Résultat équipe'!G$1)=1,VLOOKUP(G$1,'DB L1'!$B152:$O161,14,FALSE),VLOOKUP('Résultat équipe'!G$1,'DB L1'!$C152:$P161,14,FALSE)) -> #N/A | H17: =IF(COUNTIF('DB L1'!$B152:$B161,'Résultat équipe'!H$1)=1,VLOOKUP(H$1,'DB L1'!$B152:$O161,14,FALSE),VLOOKUP('Résultat équipe'!H$1,'DB L1'!$C152:$P161,14,FALSE)) -> #N/A | I17: =IF(COUNTIF('DB L1'!$B152:$B161,'Résultat équipe'!I$1)=1,VLOOKUP(I$1,'DB L1'!$B152:$O161,14,FALSE),VLOOKUP('Résultat équipe'!I$1,'DB L1'!$C152:$P161,14,FALSE)) -> #N/A | ... U17: =IF(COUNTIF('DB L1'!$B152:$B161,'Résultat équipe'!U$1)=1,VLOOKUP(U$1,'DB L1'!$B152:$O161,14,FALSE),VLOOKUP('Résultat équipe'!U$1,'DB L1'!$C152:$P161,14,FALSE)) -> #N/A | W17: 16 | AS17: 16
A18: 17 | B18: =IF(COUNTIF('DB L1'!$B162:$B171,'Résultat équipe'!B$1)=1,VLOOKUP(B$1,'DB L1'!$B162:$O171,14,FALSE),VLOOKUP('Résultat équipe'!B$1,'DB L1'!$C162:$P171,14,FALSE)) -> #N/A | C18: =IF(COUNTIF('DB L1'!$B162:$B171,'Résultat équipe'!C$1)=1,VLOOKUP(C$1,'DB L1'!$B162:$O171,14,FALSE),VLOOKUP('Résultat équipe'!C$1,'DB L1'!$C162:$P171,14,FALSE)) -> #N/A | D18: =IF(COUNTIF('DB L1'!$B162:$B171,'Résultat équipe'!D$1)=1,VLOOKUP(D$1,'DB L1'!$B162:$O171,14,FALSE),VLOOKUP('Résultat équipe'!D$1,'DB L1'!$C162:$P171,14,FALSE)) -> #N/A | E18: =IF(COUNTIF('DB L1'!$B162:$B171,'Résultat équipe'!E$1)=1,VLOOKUP(E$1,'DB L1'!$B162:$O171,14,FALSE),VLOOKUP('Résultat équipe'!E$1,'DB L1'!$C162:$P171,14,FALSE)) -> #N/A | F18: =IF(COUNTIF('DB L1'!$B162:$B171,'Résultat équipe'!F$1)=1,VLOOKUP(F$1,'DB L1'!$B162:$O171,14,FALSE),VLOOKUP('Résultat équipe'!F$1,'DB L1'!$C162:$P171,14,FALSE)) -> #N/A | G18: =IF(COUNTIF('DB L1'!$B162:$B171,'Résultat équipe'!G$1)=1,VLOOKUP(G$1,'DB L1'!$B162:$O171,14,FALSE),VLOOKUP('Résultat équipe'!G$1,'DB L1'!$C162:$P171,14,FALSE)) -> #N/A | H18: =IF(COUNTIF('DB L1'!$B162:$B171,'Résultat équipe'!H$1)=1,VLOOKUP(H$1,'DB L1'!$B162:$O171,14,FALSE),VLOOKUP('Résultat équipe'!H$1,'DB L1'!$C162:$P171,14,FALSE)) -> #N/A | I18: =IF(COUNTIF('DB L1'!$B162:$B171,'Résultat équipe'!I$1)=1,VLOOKUP(I$1,'DB L1'!$B162:$O171,14,FALSE),VLOOKUP('Résultat équipe'!I$1,'DB L1'!$C162:$P171,14,FALSE)) -> #N/A | ... U18: =IF(COUNTIF('DB L1'!$B162:$B171,'Résultat équipe'!U$1)=1,VLOOKUP(U$1,'DB L1'!$B162:$O171,14,FALSE),VLOOKUP('Résultat équipe'!U$1,'DB L1'!$C162:$P171,14,FALSE)) -> #N/A | W18: 17 | AS18: 17
A19: 18 | B19: =IF(COUNTIF('DB L1'!$B172:$B181,'Résultat équipe'!B$1)=1,VLOOKUP(B$1,'DB L1'!$B172:$O181,14,FALSE),VLOOKUP('Résultat équipe'!B$1,'DB L1'!$C172:$P181,14,FALSE)) -> #N/A | C19: =IF(COUNTIF('DB L1'!$B172:$B181,'Résultat équipe'!C$1)=1,VLOOKUP(C$1,'DB L1'!$B172:$O181,14,FALSE),VLOOKUP('Résultat équipe'!C$1,'DB L1'!$C172:$P181,14,FALSE)) -> #N/A | D19: =IF(COUNTIF('DB L1'!$B172:$B181,'Résultat équipe'!D$1)=1,VLOOKUP(D$1,'DB L1'!$B172:$O181,14,FALSE),VLOOKUP('Résultat équipe'!D$1,'DB L1'!$C172:$P181,14,FALSE)) -> #N/A | E19: =IF(COUNTIF('DB L1'!$B172:$B181,'Résultat équipe'!E$1)=1,VLOOKUP(E$1,'DB L1'!$B172:$O181,14,FALSE),VLOOKUP('Résultat équipe'!E$1,'DB L1'!$C172:$P181,14,FALSE)) -> #N/A | F19: =IF(COUNTIF('DB L1'!$B172:$B181,'Résultat équipe'!F$1)=1,VLOOKUP(F$1,'DB L1'!$B172:$O181,14,FALSE),VLOOKUP('Résultat équipe'!F$1,'DB L1'!$C172:$P181,14,FALSE)) -> #N/A | G19: =IF(COUNTIF('DB L1'!$B172:$B181,'Résultat équipe'!G$1)=1,VLOOKUP(G$1,'DB L1'!$B172:$O181,14,FALSE),VLOOKUP('Résultat équipe'!G$1,'DB L1'!$C172:$P181,14,FALSE)) -> #N/A | H19: =IF(COUNTIF('DB L1'!$B172:$B181,'Résultat équipe'!H$1)=1,VLOOKUP(H$1,'DB L1'!$B172:$O181,14,FALSE),VLOOKUP('Résultat équipe'!H$1,'DB L1'!$C172:$P181,14,FALSE)) -> #N/A | I19: =IF(COUNTIF('DB L1'!$B172:$B181,'Résultat équipe'!I$1)=1,VLOOKUP(I$1,'DB L1'!$B172:$O181,14,FALSE),VLOOKUP('Résultat équipe'!I$1,'DB L1'!$C172:$P181,14,FALSE)) -> #N/A | ... U19: =IF(COUNTIF('DB L1'!$B172:$B181,'Résultat équipe'!U$1)=1,VLOOKUP(U$1,'DB L1'!$B172:$O181,14,FALSE),VLOOKUP('Résultat équipe'!U$1,'DB L1'!$C172:$P181,14,FALSE)) -> #N/A | W19: 18 | AS19: 18
A20: 19 | B20: =IF(COUNTIF('DB L1'!$B182:$B191,'Résultat équipe'!B$1)=1,VLOOKUP(B$1,'DB L1'!$B182:$O191,14,FALSE),VLOOKUP('Résultat équipe'!B$1,'DB L1'!$C182:$P191,14,FALSE)) -> #N/A | C20: =IF(COUNTIF('DB L1'!$B182:$B191,'Résultat équipe'!C$1)=1,VLOOKUP(C$1,'DB L1'!$B182:$O191,14,FALSE),VLOOKUP('Résultat équipe'!C$1,'DB L1'!$C182:$P191,14,FALSE)) -> #N/A | D20: =IF(COUNTIF('DB L1'!$B182:$B191,'Résultat équipe'!D$1)=1,VLOOKUP(D$1,'DB L1'!$B182:$O191,14,FALSE),VLOOKUP('Résultat équipe'!D$1,'DB L1'!$C182:$P191,14,FALSE)) -> #N/A | E20: =IF(COUNTIF('DB L1'!$B182:$B191,'Résultat équipe'!E$1)=1,VLOOKUP(E$1,'DB L1'!$B182:$O191,14,FALSE),VLOOKUP('Résultat équipe'!E$1,'DB L1'!$C182:$P191,14,FALSE)) -> #N/A | F20: =IF(COUNTIF('DB L1'!$B182:$B191,'Résultat équipe'!F$1)=1,VLOOKUP(F$1,'DB L1'!$B182:$O191,14,FALSE),VLOOKUP('Résultat équipe'!F$1,'DB L1'!$C182:$P191,14,FALSE)) -> #N/A | G20: =IF(COUNTIF('DB L1'!$B182:$B191,'Résultat équipe'!G$1)=1,VLOOKUP(G$1,'DB L1'!$B182:$O191,14,FALSE),VLOOKUP('Résultat équipe'!G$1,'DB L1'!$C182:$P191,14,FALSE)) -> #N/A | H20: =IF(COUNTIF('DB L1'!$B182:$B191,'Résultat équipe'!H$1)=1,VLOOKUP(H$1,'DB L1'!$B182:$O191,14,FALSE),VLOOKUP('Résultat équipe'!H$1,'DB L1'!$C182:$P191,14,FALSE)) -> #N/A | I20: =IF(COUNTIF('DB L1'!$B182:$B191,'Résultat équipe'!I$1)=1,VLOOKUP(I$1,'DB L1'!$B182:$O191,14,FALSE),VLOOKUP('Résultat équipe'!I$1,'DB L1'!$C182:$P191,14,FALSE)) -> #N/A | ... U20: =IF(COUNTIF('DB L1'!$B182:$B191,'Résultat équipe'!U$1)=1,VLOOKUP(U$1,'DB L1'!$B182:$O191,14,FALSE),VLOOKUP('Résultat équipe'!U$1,'DB L1'!$C182:$P191,14,FALSE)) -> #N/A | W20: 19 | AS20: 19
A21: 20 | B21: =IF(COUNTIF('DB L1'!$B192:$B201,'Résultat équipe'!B$1)=1,VLOOKUP(B$1,'DB L1'!$B192:$O201,14,FALSE),VLOOKUP('Résultat équipe'!B$1,'DB L1'!$C192:$P201,14,FALSE)) -> #N/A | C21: =IF(COUNTIF('DB L1'!$B192:$B201,'Résultat équipe'!C$1)=1,VLOOKUP(C$1,'DB L1'!$B192:$O201,14,FALSE),VLOOKUP('Résultat équipe'!C$1,'DB L1'!$C192:$P201,14,FALSE)) -> #N/A | D21: =IF(COUNTIF('DB L1'!$B192:$B201,'Résultat équipe'!D$1)=1,VLOOKUP(D$1,'DB L1'!$B192:$O201,14,FALSE),VLOOKUP('Résultat équipe'!D$1,'DB L1'!$C192:$P201,14,FALSE)) -> #N/A | E21: =IF(COUNTIF('DB L1'!$B192:$B201,'Résultat équipe'!E$1)=1,VLOOKUP(E$1,'DB L1'!$B192:$O201,14,FALSE),VLOOKUP('Résultat équipe'!E$1,'DB L1'!$C192:$P201,14,FALSE)) -> #N/A | F21: =IF(COUNTIF('DB L1'!$B192:$B201,'Résultat équipe'!F$1)=1,VLOOKUP(F$1,'DB L1'!$B192:$O201,14,FALSE),VLOOKUP('Résultat équipe'!F$1,'DB L1'!$C192:$P201,14,FALSE)) -> #N/A | G21: =IF(COUNTIF('DB L1'!$B192:$B201,'Résultat équipe'!G$1)=1,VLOOKUP(G$1,'DB L1'!$B192:$O201,14,FALSE),VLOOKUP('Résultat équipe'!G$1,'DB L1'!$C192:$P201,14,FALSE)) -> #N/A | H21: =IF(COUNTIF('DB L1'!$B192:$B201,'Résultat équipe'!H$1)=1,VLOOKUP(H$1,'DB L1'!$B192:$O201,14,FALSE),VLOOKUP('Résultat équipe'!H$1,'DB L1'!$C192:$P201,14,FALSE)) -> #N/A | I21: =IF(COUNTIF('DB L1'!$B192:$B201,'Résultat équipe'!I$1)=1,VLOOKUP(I$1,'DB L1'!$B192:$O201,14,FALSE),VLOOKUP('Résultat équipe'!I$1,'DB L1'!$C192:$P201,14,FALSE)) -> #N/A | ... U21: =IF(COUNTIF('DB L1'!$B192:$B201,'Résultat équipe'!U$1)=1,VLOOKUP(U$1,'DB L1'!$B192:$O201,14,FALSE),VLOOKUP('Résultat équipe'!U$1,'DB L1'!$C192:$P201,14,FALSE)) -> #N/A | W21: 20 | AS21: 20
A22: 21 | B22: =IF(COUNTIF('DB L1'!$B202:$B211,'Résultat équipe'!B$1)=1,VLOOKUP(B$1,'DB L1'!$B202:$O211,14,FALSE),VLOOKUP('Résultat équipe'!B$1,'DB L1'!$C202:$P211,14,FALSE)) -> #N/A | C22: =IF(COUNTIF('DB L1'!$B202:$B211,'Résultat équipe'!C$1)=1,VLOOKUP(C$1,'DB L1'!$B202:$O211,14,FALSE),VLOOKUP('Résultat équipe'!C$1,'DB L1'!$C202:$P211,14,FALSE)) -> #N/A | D22: =IF(COUNTIF('DB L1'!$B202:$B211,'Résultat équipe'!D$1)=1,VLOOKUP(D$1,'DB L1'!$B202:$O211,14,FALSE),VLOOKUP('Résultat équipe'!D$1,'DB L1'!$C202:$P211,14,FALSE)) -> #N/A | E22: =IF(COUNTIF('DB L1'!$B202:$B211,'Résultat équipe'!E$1)=1,VLOOKUP(E$1,'DB L1'!$B202:$O211,14,FALSE),VLOOKUP('Résultat équipe'!E$1,'DB L1'!$C202:$P211,14,FALSE)) -> #N/A | F22: =IF(COUNTIF('DB L1'!$B202:$B211,'Résultat équipe'!F$1)=1,VLOOKUP(F$1,'DB L1'!$B202:$O211,14,FALSE),VLOOKUP('Résultat équipe'!F$1,'DB L1'!$C202:$P211,14,FALSE)) -> #N/A | G22: =IF(COUNTIF('DB L1'!$B202:$B211,'Résultat équipe'!G$1)=1,VLOOKUP(G$1,'DB L1'!$B202:$O211,14,FALSE),VLOOKUP('Résultat équipe'!G$1,'DB L1'!$C202:$P211,14,FALSE)) -> #N/A | H22: =IF(COUNTIF('DB L1'!$B202:$B211,'Résultat équipe'!H$1)=1,VLOOKUP(H$1,'DB L1'!$B202:$O211,14,FALSE),VLOOKUP('Résultat équipe'!H$1,'DB L1'!$C202:$P211,14,FALSE)) -> #N/A | I22: =IF(COUNTIF('DB L1'!$B202:$B211,'Résultat équipe'!I$1)=1,VLOOKUP(I$1,'DB L1'!$B202:$O211,14,FALSE),VLOOKUP('Résultat équipe'!I$1,'DB L1'!$C202:$P211,14,FALSE)) -> #N/A | ... U22: =IF(COUNTIF('DB L1'!$B202:$B211,'Résultat équipe'!U$1)=1,VLOOKUP(U$1,'DB L1'!$B202:$O211,14,FALSE),VLOOKUP('Résultat équipe'!U$1,'DB L1'!$C202:$P211,14,FALSE)) -> #N/A | W22: 21 | AS22: 21
A23: 22 | B23: =IF(COUNTIF('DB L1'!$B212:$B221,'Résultat équipe'!B$1)=1,VLOOKUP(B$1,'DB L1'!$B212:$O221,14,FALSE),VLOOKUP('Résultat équipe'!B$1,'DB L1'!$C212:$P221,14,FALSE)) -> #N/A | C23: =IF(COUNTIF('DB L1'!$B212:$B221,'Résultat équipe'!C$1)=1,VLOOKUP(C$1,'DB L1'!$B212:$O221,14,FALSE),VLOOKUP('Résultat équipe'!C$1,'DB L1'!$C212:$P221,14,FALSE)) -> #N/A | D23: =IF(COUNTIF('DB L1'!$B212:$B221,'Résultat équipe'!D$1)=1,VLOOKUP(D$1,'DB L1'!$B212:$O221,14,FALSE),VLOOKUP('Résultat équipe'!D$1,'DB L1'!$C212:$P221,14,FALSE)) -> #N/A | E23: =IF(COUNTIF('DB L1'!$B212:$B221,'Résultat équipe'!E$1)=1,VLOOKUP(E$1,'DB L1'!$B212:$O221,14,FALSE),VLOOKUP('Résultat équipe'!E$1,'DB L1'!$C212:$P221,14,FALSE)) -> #N/A | F23: =IF(COUNTIF('DB L1'!$B212:$B221,'Résultat équipe'!F$1)=1,VLOOKUP(F$1,'DB L1'!$B212:$O221,14,FALSE),VLOOKUP('Résultat équipe'!F$1,'DB L1'!$C212:$P221,14,FALSE)) -> #N/A | G23: =IF(COUNTIF('DB L1'!$B212:$B221,'Résultat équipe'!G$1)=1,VLOOKUP(G$1,'DB L1'!$B212:$O221,14,FALSE),VLOOKUP('Résultat équipe'!G$1,'DB L1'!$C212:$P221,14,FALSE)) -> #N/A | H23: =IF(COUNTIF('DB L1'!$B212:$B221,'Résultat équipe'!H$1)=1,VLOOKUP(H$1,'DB L1'!$B212:$O221,14,FALSE),VLOOKUP('Résultat équipe'!H$1,'DB L1'!$C212:$P221,14,FALSE)) -> #N/A | I23: =IF(COUNTIF('DB L1'!$B212:$B221,'Résultat équipe'!I$1)=1,VLOOKUP(I$1,'DB L1'!$B212:$O221,14,FALSE),VLOOKUP('Résultat équipe'!I$1,'DB L1'!$C212:$P221,14,FALSE)) -> #N/A | ... U23: =IF(COUNTIF('DB L1'!$B212:$B221,'Résultat équipe'!U$1)=1,VLOOKUP(U$1,'DB L1'!$B212:$O221,14,FALSE),VLOOKUP('Résultat équipe'!U$1,'DB L1'!$C212:$P221,14,FALSE)) -> #N/A | W23: 22 | AS23: 22
A24: 23 | B24: =IF(COUNTIF('DB L1'!$B222:$B231,'Résultat équipe'!B$1)=1,VLOOKUP(B$1,'DB L1'!$B222:$O231,14,FALSE),VLOOKUP('Résultat équipe'!B$1,'DB L1'!$C222:$P231,14,FALSE)) -> #N/A | C24: =IF(COUNTIF('DB L1'!$B222:$B231,'Résultat équipe'!C$1)=1,VLOOKUP(C$1,'DB L1'!$B222:$O231,14,FALSE),VLOOKUP('Résultat équipe'!C$1,'DB L1'!$C222:$P231,14,FALSE)) -> #N/A | D24: =IF(COUNTIF('DB L1'!$B222:$B231,'Résultat équipe'!D$1)=1,VLOOKUP(D$1,'DB L1'!$B222:$O231,14,FALSE),VLOOKUP('Résultat équipe'!D$1,'DB L1'!$C222:$P231,14,FALSE)) -> #N/A | E24: =IF(COUNTIF('DB L1'!$B222:$B231,'Résultat équipe'!E$1)=1,VLOOKUP(E$1,'DB L1'!$B222:$O231,14,FALSE),VLOOKUP('Résultat équipe'!E$1,'DB L1'!$C222:$P231,14,FALSE)) -> #N/A | F24: =IF(COUNTIF('DB L1'!$B222:$B231,'Résultat équipe'!F$1)=1,VLOOKUP(F$1,'DB L1'!$B222:$O231,14,FALSE),VLOOKUP('Résultat équipe'!F$1,'DB L1'!$C222:$P231,14,FALSE)) -> #N/A | G24: =IF(COUNTIF('DB L1'!$B222:$B231,'Résultat équipe'!G$1)=1,VLOOKUP(G$1,'DB L1'!$B222:$O231,14,FALSE),VLOOKUP('Résultat équipe'!G$1,'DB L1'!$C222:$P231,14,FALSE)) -> #N/A | H24: =IF(COUNTIF('DB L1'!$B222:$B231,'Résultat équipe'!H$1)=1,VLOOKUP(H$1,'DB L1'!$B222:$O231,14,FALSE),VLOOKUP('Résultat équipe'!H$1,'DB L1'!$C222:$P231,14,FALSE)) -> #N/A | I24: =IF(COUNTIF('DB L1'!$B222:$B231,'Résultat équipe'!I$1)=1,VLOOKUP(I$1,'DB L1'!$B222:$O231,14,FALSE),VLOOKUP('Résultat équipe'!I$1,'DB L1'!$C222:$P231,14,FALSE)) -> #N/A | ... U24: =IF(COUNTIF('DB L1'!$B222:$B231,'Résultat équipe'!U$1)=1,VLOOKUP(U$1,'DB L1'!$B222:$O231,14,FALSE),VLOOKUP('Résultat équipe'!U$1,'DB L1'!$C222:$P231,14,FALSE)) -> #N/A | W24: 23 | AS24: 23
A25: 24 | B25: =IF(COUNTIF('DB L1'!$B232:$B241,'Résultat équipe'!B$1)=1,VLOOKUP(B$1,'DB L1'!$B232:$O241,14,FALSE),VLOOKUP('Résultat équipe'!B$1,'DB L1'!$C232:$P241,14,FALSE)) -> #N/A | C25: =IF(COUNTIF('DB L1'!$B232:$B241,'Résultat équipe'!C$1)=1,VLOOKUP(C$1,'DB L1'!$B232:$O241,14,FALSE),VLOOKUP('Résultat équipe'!C$1,'DB L1'!$C232:$P241,14,FALSE)) -> #N/A | D25: =IF(COUNTIF('DB L1'!$B232:$B241,'Résultat équipe'!D$1)=1,VLOOKUP(D$1,'DB L1'!$B232:$O241,14,FALSE),VLOOKUP('Résultat équipe'!D$1,'DB L1'!$C232:$P241,14,FALSE)) -> #N/A | E25: =IF(COUNTIF('DB L1'!$B232:$B241,'Résultat équipe'!E$1)=1,VLOOKUP(E$1,'DB L1'!$B232:$O241,14,FALSE),VLOOKUP('Résultat équipe'!E$1,'DB L1'!$C232:$P241,14,FALSE)) -> #N/A | F25: =IF(COUNTIF('DB L1'!$B232:$B241,'Résultat équipe'!F$1)=1,VLOOKUP(F$1,'DB L1'!$B232:$O241,14,FALSE),VLOOKUP('Résultat équipe'!F$1,'DB L1'!$C232:$P241,14,FALSE)) -> #N/A | G25: =IF(COUNTIF('DB L1'!$B232:$B241,'Résultat équipe'!G$1)=1,VLOOKUP(G$1,'DB L1'!$B232:$O241,14,FALSE),VLOOKUP('Résultat équipe'!G$1,'DB L1'!$C232:$P241,14,FALSE)) -> #N/A | H25: =IF(COUNTIF('DB L1'!$B232:$B241,'Résultat équipe'!H$1)=1,VLOOKUP(H$1,'DB L1'!$B232:$O241,14,FALSE),VLOOKUP('Résultat équipe'!H$1,'DB L1'!$C232:$P241,14,FALSE)) -> #N/A | I25: =IF(COUNTIF('DB L1'!$B232:$B241,'Résultat équipe'!I$1)=1,VLOOKUP(I$1,'DB L1'!$B232:$O241,14,FALSE),VLOOKUP('Résultat équipe'!I$1,'DB L1'!$C232:$P241,14,FALSE)) -> #N/A | ... U25: =IF(COUNTIF('DB L1'!$B232:$B241,'Résultat équipe'!U$1)=1,VLOOKUP(U$1,'DB L1'!$B232:$O241,14,FALSE),VLOOKUP('Résultat équipe'!U$1,'DB L1'!$C232:$P241,14,FALSE)) -> #N/A | W25: 24 | AS25: 24
A26: 25 | B26: =IF(COUNTIF('DB L1'!$B242:$B251,'Résultat équipe'!B$1)=1,VLOOKUP(B$1,'DB L1'!$B242:$O251,14,FALSE),VLOOKUP('Résultat équipe'!B$1,'DB L1'!$C242:$P251,14,FALSE)) -> #N/A | C26: =IF(COUNTIF('DB L1'!$B242:$B251,'Résultat équipe'!C$1)=1,VLOOKUP(C$1,'DB L1'!$B242:$O251,14,FALSE),VLOOKUP('Résultat équipe'!C$1,'DB L1'!$C242:$P251,14,FALSE)) -> #N/A | D26: =IF(COUNTIF('DB L1'!$B242:$B251,'Résultat équipe'!D$1)=1,VLOOKUP(D$1,'DB L1'!$B242:$O251,14,FALSE),VLOOKUP('Résultat équipe'!D$1,'DB L1'!$C242:$P251,14,FALSE)) -> #N/A | E26: =IF(COUNTIF('DB L1'!$B242:$B251,'Résultat équipe'!E$1)=1,VLOOKUP(E$1,'DB L1'!$B242:$O251,14,FALSE),VLOOKUP('Résultat équipe'!E$1,'DB L1'!$C242:$P251,14,FALSE)) -> #N/A | F26: =IF(COUNTIF('DB L1'!$B242:$B251,'Résultat équipe'!F$1)=1,VLOOKUP(F$1,'DB L1'!$B242:$O251,14,FALSE),VLOOKUP('Résultat équipe'!F$1,'DB L1'!$C242:$P251,14,FALSE)) -> #N/A | G26: =IF(COUNTIF('DB L1'!$B242:$B251,'Résultat équipe'!G$1)=1,VLOOKUP(G$1,'DB L1'!$B242:$O251,14,FALSE),VLOOKUP('Résultat équipe'!G$1,'DB L1'!$C242:$P251,14,FALSE)) -> #N/A | H26: =IF(COUNTIF('DB L1'!$B242:$B251,'Résultat équipe'!H$1)=1,VLOOKUP(H$1,'DB L1'!$B242:$O251,14,FALSE),VLOOKUP('Résultat équipe'!H$1,'DB L1'!$C242:$P251,14,FALSE)) -> #N/A | I26: =IF(COUNTIF('DB L1'!$B242:$B251,'Résultat équipe'!I$1)=1,VLOOKUP(I$1,'DB L1'!$B242:$O251,14,FALSE),VLOOKUP('Résultat équipe'!I$1,'DB L1'!$C242:$P251,14,FALSE)) -> #N/A | ... U26: =IF(COUNTIF('DB L1'!$B242:$B251,'Résultat équipe'!U$1)=1,VLOOKUP(U$1,'DB L1'!$B242:$O251,14,FALSE),VLOOKUP('Résultat équipe'!U$1,'DB L1'!$C242:$P251,14,FALSE)) -> #N/A | W26: 25 | AS26: 25
A27: 26 | B27: =IF(COUNTIF('DB L1'!$B252:$B261,'Résultat équipe'!B$1)=1,VLOOKUP(B$1,'DB L1'!$B252:$O261,14,FALSE),VLOOKUP('Résultat équipe'!B$1,'DB L1'!$C252:$P261,14,FALSE)) -> #N/A | C27: =IF(COUNTIF('DB L1'!$B252:$B261,'Résultat équipe'!C$1)=1,VLOOKUP(C$1,'DB L1'!$B252:$O261,14,FALSE),VLOOKUP('Résultat équipe'!C$1,'DB L1'!$C252:$P261,14,FALSE)) -> #N/A | D27: =IF(COUNTIF('DB L1'!$B252:$B261,'Résultat équipe'!D$1)=1,VLOOKUP(D$1,'DB L1'!$B252:$O261,14,FALSE),VLOOKUP('Résultat équipe'!D$1,'DB L1'!$C252:$P261,14,FALSE)) -> #N/A | E27: =IF(COUNTIF('DB L1'!$B252:$B261,'Résultat équipe'!E$1)=1,VLOOKUP(E$1,'DB L1'!$B252:$O261,14,FALSE),VLOOKUP('Résultat équipe'!E$1,'DB L1'!$C252:$P261,14,FALSE)) -> #N/A | F27: =IF(COUNTIF('DB L1'!$B252:$B261,'Résultat équipe'!F$1)=1,VLOOKUP(F$1,'DB L1'!$B252:$O261,14,FALSE),VLOOKUP('Résultat équipe'!F$1,'DB L1'!$C252:$P261,14,FALSE)) -> #N/A | G27: =IF(COUNTIF('DB L1'!$B252:$B261,'Résultat équipe'!G$1)=1,VLOOKUP(G$1,'DB L1'!$B252:$O261,14,FALSE),VLOOKUP('Résultat équipe'!G$1,'DB L1'!$C252:$P261,14,FALSE)) -> #N/A | H27: =IF(COUNTIF('DB L1'!$B252:$B261,'Résultat équipe'!H$1)=1,VLOOKUP(H$1,'DB L1'!$B252:$O261,14,FALSE),VLOOKUP('Résultat équipe'!H$1,'DB L1'!$C252:$P261,14,FALSE)) -> #N/A | I27: =IF(COUNTIF('DB L1'!$B252:$B261,'Résultat équipe'!I$1)=1,VLOOKUP(I$1,'DB L1'!$B252:$O261,14,FALSE),VLOOKUP('Résultat équipe'!I$1,'DB L1'!$C252:$P261,14,FALSE)) -> #N/A | ... U27: =IF(COUNTIF('DB L1'!$B252:$B261,'Résultat équipe'!U$1)=1,VLOOKUP(U$1,'DB L1'!$B252:$O261,14,FALSE),VLOOKUP('Résultat équipe'!U$1,'DB L1'!$C252:$P261,14,FALSE)) -> #N/A | W27: 26 | AS27: 26
A28: 27 | B28: =IF(COUNTIF('DB L1'!$B262:$B271,'Résultat équipe'!B$1)=1,VLOOKUP(B$1,'DB L1'!$B262:$O271,14,FALSE),VLOOKUP('Résultat équipe'!B$1,'DB L1'!$C262:$P271,14,FALSE)) -> #N/A | C28: =IF(COUNTIF('DB L1'!$B262:$B271,'Résultat équipe'!C$1)=1,VLOOKUP(C$1,'DB L1'!$B262:$O271,14,FALSE),VLOOKUP('Résultat équipe'!C$1,'DB L1'!$C262:$P271,14,FALSE)) -> #N/A | D28: =IF(COUNTIF('DB L1'!$B262:$B271,'Résultat équipe'!D$1)=1,VLOOKUP(D$1,'DB L1'!$B262:$O271,14,FALSE),VLOOKUP('Résultat équipe'!D$1,'DB L1'!$C262:$P271,14,FALSE)) -> #N/A | E28: =IF(COUNTIF('DB L1'!$B262:$B271,'Résultat équipe'!E$1)=1,VLOOKUP(E$1,'DB L1'!$B262:$O271,14,FALSE),VLOOKUP('Résultat équipe'!E$1,'DB L1'!$C262:$P271,14,FALSE)) -> #N/A | F28: =IF(COUNTIF('DB L1'!$B262:$B271,'Résultat équipe'!F$1)=1,VLOOKUP(F$1,'DB L1'!$B262:$O271,14,FALSE),VLOOKUP('Résultat équipe'!F$1,'DB L1'!$C262:$P271,14,FALSE)) -> #N/A | G28: =IF(COUNTIF('DB L1'!$B262:$B271,'Résultat équipe'!G$1)=1,VLOOKUP(G$1,'DB L1'!$B262:$O271,14,FALSE),VLOOKUP('Résultat équipe'!G$1,'DB L1'!$C262:$P271,14,FALSE)) -> #N/A | H28: =IF(COUNTIF('DB L1'!$B262:$B271,'Résultat équipe'!H$1)=1,VLOOKUP(H$1,'DB L1'!$B262:$O271,14,FALSE),VLOOKUP('Résultat équipe'!H$1,'DB L1'!$C262:$P271,14,FALSE)) -> #N/A | I28: =IF(COUNTIF('DB L1'!$B262:$B271,'Résultat équipe'!I$1)=1,VLOOKUP(I$1,'DB L1'!$B262:$O271,14,FALSE),VLOOKUP('Résultat équipe'!I$1,'DB L1'!$C262:$P271,14,FALSE)) -> #N/A | ... U28: =IF(COUNTIF('DB L1'!$B262:$B271,'Résultat équipe'!U$1)=1,VLOOKUP(U$1,'DB L1'!$B262:$O271,14,FALSE),VLOOKUP('Résultat équipe'!U$1,'DB L1'!$C262:$P271,14,FALSE)) -> #N/A | W28: 27 | AS28: 27
A29: 28 | B29: =IF(COUNTIF('DB L1'!$B272:$B281,'Résultat équipe'!B$1)=1,VLOOKUP(B$1,'DB L1'!$B272:$O281,14,FALSE),VLOOKUP('Résultat équipe'!B$1,'DB L1'!$C272:$P281,14,FALSE)) -> #N/A | C29: =IF(COUNTIF('DB L1'!$B272:$B281,'Résultat équipe'!C$1)=1,VLOOKUP(C$1,'DB L1'!$B272:$O281,14,FALSE),VLOOKUP('Résultat équipe'!C$1,'DB L1'!$C272:$P281,14,FALSE)) -> #N/A | D29: =IF(COUNTIF('DB L1'!$B272:$B281,'Résultat équipe'!D$1)=1,VLOOKUP(D$1,'DB L1'!$B272:$O281,14,FALSE),VLOOKUP('Résultat équipe'!D$1,'DB L1'!$C272:$P281,14,FALSE)) -> #N/A | E29: =IF(COUNTIF('DB L1'!$B272:$B281,'Résultat équipe'!E$1)=1,VLOOKUP(E$1,'DB L1'!$B272:$O281,14,FALSE),VLOOKUP('Résultat équipe'!E$1,'DB L1'!$C272:$P281,14,FALSE)) -> #N/A | F29: =IF(COUNTIF('DB L1'!$B272:$B281,'Résultat équipe'!F$1)=1,VLOOKUP(F$1,'DB L1'!$B272:$O281,14,FALSE),VLOOKUP('Résultat équipe'!F$1,'DB L1'!$C272:$P281,14,FALSE)) -> #N/A | G29: =IF(COUNTIF('DB L1'!$B272:$B281,'Résultat équipe'!G$1)=1,VLOOKUP(G$1,'DB L1'!$B272:$O281,14,FALSE),VLOOKUP('Résultat équipe'!G$1,'DB L1'!$C272:$P281,14,FALSE)) -> #N/A | H29: =IF(COUNTIF('DB L1'!$B272:$B281,'Résultat équipe'!H$1)=1,VLOOKUP(H$1,'DB L1'!$B272:$O281,14,FALSE),VLOOKUP('Résultat équipe'!H$1,'DB L1'!$C272:$P281,14,FALSE)) -> #N/A | I29: =IF(COUNTIF('DB L1'!$B272:$B281,'Résultat équipe'!I$1)=1,VLOOKUP(I$1,'DB L1'!$B272:$O281,14,FALSE),VLOOKUP('Résultat équipe'!I$1,'DB L1'!$C272:$P281,14,FALSE)) -> #N/A | ... U29: =IF(COUNTIF('DB L1'!$B272:$B281,'Résultat équipe'!U$1)=1,VLOOKUP(U$1,'DB L1'!$B272:$O281,14,FALSE),VLOOKUP('Résultat équipe'!U$1,'DB L1'!$C272:$P281,14,FALSE)) -> #N/A | W29: 28 | AS29: 28
A30: 29 | B30: =IF(COUNTIF('DB L1'!$B282:$B291,'Résultat équipe'!B$1)=1,VLOOKUP(B$1,'DB L1'!$B282:$O291,14,FALSE),VLOOKUP('Résultat équipe'!B$1,'DB L1'!$C282:$P291,14,FALSE)) -> #N/A | C30: =IF(COUNTIF('DB L1'!$B282:$B291,'Résultat équipe'!C$1)=1,VLOOKUP(C$1,'DB L1'!$B282:$O291,14,FALSE),VLOOKUP('Résultat équipe'!C$1,'DB L1'!$C282:$P291,14,FALSE)) -> #N/A | D30: =IF(COUNTIF('DB L1'!$B282:$B291,'Résultat équipe'!D$1)=1,VLOOKUP(D$1,'DB L1'!$B282:$O291,14,FALSE),VLOOKUP('Résultat équipe'!D$1,'DB L1'!$C282:$P291,14,FALSE)) -> #N/A | E30: =IF(COUNTIF('DB L1'!$B282:$B291,'Résultat équipe'!E$1)=1,VLOOKUP(E$1,'DB L1'!$B282:$O291,14,FALSE),VLOOKUP('Résultat équipe'!E$1,'DB L1'!$C282:$P291,14,FALSE)) -> #N/A | F30: =IF(COUNTIF('DB L1'!$B282:$B291,'Résultat équipe'!F$1)=1,VLOOKUP(F$1,'DB L1'!$B282:$O291,14,FALSE),VLOOKUP('Résultat équipe'!F$1,'DB L1'!$C282:$P291,14,FALSE)) -> #N/A | G30: =IF(COUNTIF('DB L1'!$B282:$B291,'Résultat équipe'!G$1)=1,VLOOKUP(G$1,'DB L1'!$B282:$O291,14,FALSE),VLOOKUP('Résultat équipe'!G$1,'DB L1'!$C282:$P291,14,FALSE)) -> #N/A | H30: =IF(COUNTIF('DB L1'!$B282:$B291,'Résultat équipe'!H$1)=1,VLOOKUP(H$1,'DB L1'!$B282:$O291,14,FALSE),VLOOKUP('Résultat équipe'!H$1,'DB L1'!$C282:$P291,14,FALSE)) -> #N/A | I30: =IF(COUNTIF('DB L1'!$B282:$B291,'Résultat équipe'!I$1)=1,VLOOKUP(I$1,'DB L1'!$B282:$O291,14,FALSE),VLOOKUP('Résultat équipe'!I$1,'DB L1'!$C282:$P291,14,FALSE)) -> #N/A | ... U30: =IF(COUNTIF('DB L1'!$B282:$B291,'Résultat équipe'!U$1)=1,VLOOKUP(U$1,'DB L1'!$B282:$O291,14,FALSE),VLOOKUP('Résultat équipe'!U$1,'DB L1'!$C282:$P291,14,FALSE)) -> #N/A | W30: 29 | AS30: 29
A31: 30 | B31: =IF(COUNTIF('DB L1'!$B292:$B301,'Résultat équipe'!B$1)=1,VLOOKUP(B$1,'DB L1'!$B292:$O301,14,FALSE),VLOOKUP('Résultat équipe'!B$1,'DB L1'!$C292:$P301,14,FALSE)) -> #N/A | C31: =IF(COUNTIF('DB L1'!$B292:$B301,'Résultat équipe'!C$1)=1,VLOOKUP(C$1,'DB L1'!$B292:$O301,14,FALSE),VLOOKUP('Résultat équipe'!C$1,'DB L1'!$C292:$P301,14,FALSE)) -> #N/A | D31: =IF(COUNTIF('DB L1'!$B292:$B301,'Résultat équipe'!D$1)=1,VLOOKUP(D$1,'DB L1'!$B292:$O301,14,FALSE),VLOOKUP('Résultat équipe'!D$1,'DB L1'!$C292:$P301,14,FALSE)) -> #N/A | E31: =IF(COUNTIF('DB L1'!$B292:$B301,'Résultat équipe'!E$1)=1,VLOOKUP(E$1,'DB L1'!$B292:$O301,14,FALSE),VLOOKUP('Résultat équipe'!E$1,'DB L1'!$C292:$P301,14,FALSE)) -> #N/A | F31: =IF(COUNTIF('DB L1'!$B292:$B301,'Résultat équipe'!F$1)=1,VLOOKUP(F$1,'DB L1'!$B292:$O301,14,FALSE),VLOOKUP('Résultat équipe'!F$1,'DB L1'!$C292:$P301,14,FALSE)) -> #N/A | G31: =IF(COUNTIF('DB L1'!$B292:$B301,'Résultat équipe'!G$1)=1,VLOOKUP(G$1,'DB L1'!$B292:$O301,14,FALSE),VLOOKUP('Résultat équipe'!G$1,'DB L1'!$C292:$P301,14,FALSE)) -> #N/A | H31: =IF(COUNTIF('DB L1'!$B292:$B301,'Résultat équipe'!H$1)=1,VLOOKUP(H$1,'DB L1'!$B292:$O301,14,FALSE),VLOOKUP('Résultat équipe'!H$1,'DB L1'!$C292:$P301,14,FALSE)) -> #N/A | I31: =IF(COUNTIF('DB L1'!$B292:$B301,'Résultat équipe'!I$1)=1,VLOOKUP(I$1,'DB L1'!$B292:$O301,14,FALSE),VLOOKUP('Résultat équipe'!I$1,'DB L1'!$C292:$P301,14,FALSE)) -> #N/A | ... U31: =IF(COUNTIF('DB L1'!$B292:$B301,'Résultat équipe'!U$1)=1,VLOOKUP(U$1,'DB L1'!$B292:$O301,14,FALSE),VLOOKUP('Résultat équipe'!U$1,'DB L1'!$C292:$P301,14,FALSE)) -> #N/A | W31: 30 | AS31: 30
A32: 31 | B32: =IF(COUNTIF('DB L1'!$B302:$B311,'Résultat équipe'!B$1)=1,VLOOKUP(B$1,'DB L1'!$B302:$O311,14,FALSE),VLOOKUP('Résultat équipe'!B$1,'DB L1'!$C302:$P311,14,FALSE)) -> #N/A | C32: =IF(COUNTIF('DB L1'!$B302:$B311,'Résultat équipe'!C$1)=1,VLOOKUP(C$1,'DB L1'!$B302:$O311,14,FALSE),VLOOKUP('Résultat équipe'!C$1,'DB L1'!$C302:$P311,14,FALSE)) -> #N/A | D32: =IF(COUNTIF('DB L1'!$B302:$B311,'Résultat équipe'!D$1)=1,VLOOKUP(D$1,'DB L1'!$B302:$O311,14,FALSE),VLOOKUP('Résultat équipe'!D$1,'DB L1'!$C302:$P311,14,FALSE)) -> #N/A | E32: =IF(COUNTIF('DB L1'!$B302:$B311,'Résultat équipe'!E$1)=1,VLOOKUP(E$1,'DB L1'!$B302:$O311,14,FALSE),VLOOKUP('Résultat équipe'!E$1,'DB L1'!$C302:$P311,14,FALSE)) -> #N/A | F32: =IF(COUNTIF('DB L1'!$B302:$B311,'Résultat équipe'!F$1)=1,VLOOKUP(F$1,'DB L1'!$B302:$O311,14,FALSE),VLOOKUP('Résultat équipe'!F$1,'DB L1'!$C302:$P311,14,FALSE)) -> #N/A | G32: =IF(COUNTIF('DB L1'!$B302:$B311,'Résultat équipe'!G$1)=1,VLOOKUP(G$1,'DB L1'!$B302:$O311,14,FALSE),VLOOKUP('Résultat équipe'!G$1,'DB L1'!$C302:$P311,14,FALSE)) -> #N/A | H32: =IF(COUNTIF('DB L1'!$B302:$B311,'Résultat équipe'!H$1)=1,VLOOKUP(H$1,'DB L1'!$B302:$O311,14,FALSE),VLOOKUP('Résultat équipe'!H$1,'DB L1'!$C302:$P311,14,FALSE)) -> #N/A | I32: =IF(COUNTIF('DB L1'!$B302:$B311,'Résultat équipe'!I$1)=1,VLOOKUP(I$1,'DB L1'!$B302:$O311,14,FALSE),VLOOKUP('Résultat équipe'!I$1,'DB L1'!$C302:$P311,14,FALSE)) -> #N/A | ... U32: =IF(COUNTIF('DB L1'!$B302:$B311,'Résultat équipe'!U$1)=1,VLOOKUP(U$1,'DB L1'!$B302:$O311,14,FALSE),VLOOKUP('Résultat équipe'!U$1,'DB L1'!$C302:$P311,14,FALSE)) -> #N/A | W32: 31 | AS32: 31
A33: 32 | B33: =IF(COUNTIF('DB L1'!$B312:$B321,'Résultat équipe'!B$1)=1,VLOOKUP(B$1,'DB L1'!$B312:$O321,14,FALSE),VLOOKUP('Résultat équipe'!B$1,'DB L1'!$C312:$P321,14,FALSE)) -> #N/A | C33: =IF(COUNTIF('DB L1'!$B312:$B321,'Résultat équipe'!C$1)=1,VLOOKUP(C$1,'DB L1'!$B312:$O321,14,FALSE),VLOOKUP('Résultat équipe'!C$1,'DB L1'!$C312:$P321,14,FALSE)) -> #N/A | D33: =IF(COUNTIF('DB L1'!$B312:$B321,'Résultat équipe'!D$1)=1,VLOOKUP(D$1,'DB L1'!$B312:$O321,14,FALSE),VLOOKUP('Résultat équipe'!D$1,'DB L1'!$C312:$P321,14,FALSE)) -> #N/A | E33: =IF(COUNTIF('DB L1'!$B312:$B321,'Résultat équipe'!E$1)=1,VLOOKUP(E$1,'DB L1'!$B312:$O321,14,FALSE),VLOOKUP('Résultat équipe'!E$1,'DB L1'!$C312:$P321,14,FALSE)) -> #N/A | F33: =IF(COUNTIF('DB L1'!$B312:$B321,'Résultat équipe'!F$1)=1,VLOOKUP(F$1,'DB L1'!$B312:$O321,14,FALSE),VLOOKUP('Résultat équipe'!F$1,'DB L1'!$C312:$P321,14,FALSE)) -> #N/A | G33: =IF(COUNTIF('DB L1'!$B312:$B321,'Résultat équipe'!G$1)=1,VLOOKUP(G$1,'DB L1'!$B312:$O321,14,FALSE),VLOOKUP('Résultat équipe'!G$1,'DB L1'!$C312:$P321,14,FALSE)) -> #N/A | H33: =IF(COUNTIF('DB L1'!$B312:$B321,'Résultat équipe'!H$1)=1,VLOOKUP(H$1,'DB L1'!$B312:$O321,14,FALSE),VLOOKUP('Résultat équipe'!H$1,'DB L1'!$C312:$P321,14,FALSE)) -> #N/A | I33: =IF(COUNTIF('DB L1'!$B312:$B321,'Résultat équipe'!I$1)=1,VLOOKUP(I$1,'DB L1'!$B312:$O321,14,FALSE),VLOOKUP('Résultat équipe'!I$1,'DB L1'!$C312:$P321,14,FALSE)) -> #N/A | ... U33: =IF(COUNTIF('DB L1'!$B312:$B321,'Résultat équipe'!U$1)=1,VLOOKUP(U$1,'DB L1'!$B312:$O321,14,FALSE),VLOOKUP('Résultat équipe'!U$1,'DB L1'!$C312:$P321,14,FALSE)) -> #N/A | W33: 32 | AS33: 32
A34: 33 | B34: =IF(COUNTIF('DB L1'!$B322:$B331,'Résultat équipe'!B$1)=1,VLOOKUP(B$1,'DB L1'!$B322:$O331,14,FALSE),VLOOKUP('Résultat équipe'!B$1,'DB L1'!$C322:$P331,14,FALSE)) -> #N/A | C34: =IF(COUNTIF('DB L1'!$B322:$B331,'Résultat équipe'!C$1)=1,VLOOKUP(C$1,'DB L1'!$B322:$O331,14,FALSE),VLOOKUP('Résultat équipe'!C$1,'DB L1'!$C322:$P331,14,FALSE)) -> #N/A | D34: =IF(COUNTIF('DB L1'!$B322:$B331,'Résultat équipe'!D$1)=1,VLOOKUP(D$1,'DB L1'!$B322:$O331,14,FALSE),VLOOKUP('Résultat équipe'!D$1,'DB L1'!$C322:$P331,14,FALSE)) -> #N/A | E34: =IF(COUNTIF('DB L1'!$B322:$B331,'Résultat équipe'!E$1)=1,VLOOKUP(E$1,'DB L1'!$B322:$O331,14,FALSE),VLOOKUP('Résultat équipe'!E$1,'DB L1'!$C322:$P331,14,FALSE)) -> #N/A | F34: =IF(COUNTIF('DB L1'!$B322:$B331,'Résultat équipe'!F$1)=1,VLOOKUP(F$1,'DB L1'!$B322:$O331,14,FALSE),VLOOKUP('Résultat équipe'!F$1,'DB L1'!$C322:$P331,14,FALSE)) -> #N/A | G34: =IF(COUNTIF('DB L1'!$B322:$B331,'Résultat équipe'!G$1)=1,VLOOKUP(G$1,'DB L1'!$B322:$O331,14,FALSE),VLOOKUP('Résultat équipe'!G$1,'DB L1'!$C322:$P331,14,FALSE)) -> #N/A | H34: =IF(COUNTIF('DB L1'!$B322:$B331,'Résultat équipe'!H$1)=1,VLOOKUP(H$1,'DB L1'!$B322:$O331,14,FALSE),VLOOKUP('Résultat équipe'!H$1,'DB L1'!$C322:$P331,14,FALSE)) -> #N/A | I34: =IF(COUNTIF('DB L1'!$B322:$B331,'Résultat équipe'!I$1)=1,VLOOKUP(I$1,'DB L1'!$B322:$O331,14,FALSE),VLOOKUP('Résultat équipe'!I$1,'DB L1'!$C322:$P331,14,FALSE)) -> #N/A | ... U34: =IF(COUNTIF('DB L1'!$B322:$B331,'Résultat équipe'!U$1)=1,VLOOKUP(U$1,'DB L1'!$B322:$O331,14,FALSE),VLOOKUP('Résultat équipe'!U$1,'DB L1'!$C322:$P331,14,FALSE)) -> #N/A | W34: 33 | AS34: 33
A35: 34 | B35: =IF(COUNTIF('DB L1'!$B332:$B341,'Résultat équipe'!B$1)=1,VLOOKUP(B$1,'DB L1'!$B332:$O341,14,FALSE),VLOOKUP('Résultat équipe'!B$1,'DB L1'!$C331:$P342,14,FALSE)) -> #N/A | C35: =IF(COUNTIF('DB L1'!$B332:$B341,'Résultat équipe'!C$1)=1,VLOOKUP(C$1,'DB L1'!$B332:$O341,14,FALSE),VLOOKUP('Résultat équipe'!C$1,'DB L1'!$C331:$P342,14,FALSE)) -> #N/A | D35: =IF(COUNTIF('DB L1'!$B332:$B341,'Résultat équipe'!D$1)=1,VLOOKUP(D$1,'DB L1'!$B332:$O341,14,FALSE),VLOOKUP('Résultat équipe'!D$1,'DB L1'!$C331:$P342,14,FALSE)) -> #N/A | E35: =IF(COUNTIF('DB L1'!$B332:$B341,'Résultat équipe'!E$1)=1,VLOOKUP(E$1,'DB L1'!$B332:$O341,14,FALSE),VLOOKUP('Résultat équipe'!E$1,'DB L1'!$C331:$P342,14,FALSE)) -> #N/A | F35: =IF(COUNTIF('DB L1'!$B332:$B341,'Résultat équipe'!F$1)=1,VLOOKUP(F$1,'DB L1'!$B332:$O341,14,FALSE),VLOOKUP('Résultat équipe'!F$1,'DB L1'!$C331:$P342,14,FALSE)) -> #N/A | G35: =IF(COUNTIF('DB L1'!$B332:$B341,'Résultat équipe'!G$1)=1,VLOOKUP(G$1,'DB L1'!$B332:$O341,14,FALSE),VLOOKUP('Résultat équipe'!G$1,'DB L1'!$C331:$P342,14,FALSE)) -> #N/A | H35: =IF(COUNTIF('DB L1'!$B332:$B341,'Résultat équipe'!H$1)=1,VLOOKUP(H$1,'DB L1'!$B332:$O341,14,FALSE),VLOOKUP('Résultat équipe'!H$1,'DB L1'!$C331:$P342,14,FALSE)) -> #N/A | I35: =IF(COUNTIF('DB L1'!$B332:$B341,'Résultat équipe'!I$1)=1,VLOOKUP(I$1,'DB L1'!$B332:$O341,14,FALSE),VLOOKUP('Résultat équipe'!I$1,'DB L1'!$C331:$P342,14,FALSE)) -> #N/A | ... U35: =IF(COUNTIF('DB L1'!$B332:$B341,'Résultat équipe'!U$1)=1,VLOOKUP(U$1,'DB L1'!$B332:$O341,14,FALSE),VLOOKUP('Résultat équipe'!U$1,'DB L1'!$C331:$P342,14,FALSE)) -> #N/A | W35: 34 | AS35: 34
A36: 35 | B36: =IF(COUNTIF('DB L1'!$B342:$B351,'Résultat équipe'!B$1)=1,VLOOKUP(B$1,'DB L1'!$B342:$O351,14,FALSE),VLOOKUP('Résultat équipe'!B$1,'DB L1'!$C342:$P351,14,FALSE)) -> #N/A | C36: =IF(COUNTIF('DB L1'!$B342:$B351,'Résultat équipe'!C$1)=1,VLOOKUP(C$1,'DB L1'!$B342:$O351,14,FALSE),VLOOKUP('Résultat équipe'!C$1,'DB L1'!$C342:$P351,14,FALSE)) -> #N/A | D36: =IF(COUNTIF('DB L1'!$B342:$B351,'Résultat équipe'!D$1)=1,VLOOKUP(D$1,'DB L1'!$B342:$O351,14,FALSE),VLOOKUP('Résultat équipe'!D$1,'DB L1'!$C342:$P351,14,FALSE)) -> #N/A | E36: =IF(COUNTIF('DB L1'!$B342:$B351,'Résultat équipe'!E$1)=1,VLOOKUP(E$1,'DB L1'!$B342:$O351,14,FALSE),VLOOKUP('Résultat équipe'!E$1,'DB L1'!$C342:$P351,14,FALSE)) -> #N/A | F36: =IF(COUNTIF('DB L1'!$B342:$B351,'Résultat équipe'!F$1)=1,VLOOKUP(F$1,'DB L1'!$B342:$O351,14,FALSE),VLOOKUP('Résultat équipe'!F$1,'DB L1'!$C342:$P351,14,FALSE)) -> #N/A | G36: =IF(COUNTIF('DB L1'!$B342:$B351,'Résultat équipe'!G$1)=1,VLOOKUP(G$1,'DB L1'!$B342:$O351,14,FALSE),VLOOKUP('Résultat équipe'!G$1,'DB L1'!$C342:$P351,14,FALSE)) -> #N/A | H36: =IF(COUNTIF('DB L1'!$B342:$B351,'Résultat équipe'!H$1)=1,VLOOKUP(H$1,'DB L1'!$B342:$O351,14,FALSE),VLOOKUP('Résultat équipe'!H$1,'DB L1'!$C342:$P351,14,FALSE)) -> #N/A | I36: =IF(COUNTIF('DB L1'!$B342:$B351,'Résultat équipe'!I$1)=1,VLOOKUP(I$1,'DB L1'!$B342:$O351,14,FALSE),VLOOKUP('Résultat équipe'!I$1,'DB L1'!$C342:$P351,14,FALSE)) -> #N/A | ... U36: =IF(COUNTIF('DB L1'!$B342:$B351,'Résultat équipe'!U$1)=1,VLOOKUP(U$1,'DB L1'!$B342:$O351,14,FALSE),VLOOKUP('Résultat équipe'!U$1,'DB L1'!$C342:$P351,14,FALSE)) -> #N/A | W36: 35 | AS36: 35
A37: 36 | B37: =IF(COUNTIF('DB L1'!$B352:$B361,'Résultat équipe'!B$1)=1,VLOOKUP(B$1,'DB L1'!$B352:$O361,14,FALSE),VLOOKUP('Résultat équipe'!B$1,'DB L1'!$C352:$P361,14,FALSE)) -> #N/A | C37: =IF(COUNTIF('DB L1'!$B352:$B361,'Résultat équipe'!C$1)=1,VLOOKUP(C$1,'DB L1'!$B352:$O361,14,FALSE),VLOOKUP('Résultat équipe'!C$1,'DB L1'!$C352:$P361,14,FALSE)) -> #N/A | D37: =IF(COUNTIF('DB L1'!$B352:$B361,'Résultat équipe'!D$1)=1,VLOOKUP(D$1,'DB L1'!$B352:$O361,14,FALSE),VLOOKUP('Résultat équipe'!D$1,'DB L1'!$C352:$P361,14,FALSE)) -> #N/A | E37: =IF(COUNTIF('DB L1'!$B352:$B361,'Résultat équipe'!E$1)=1,VLOOKUP(E$1,'DB L1'!$B352:$O361,14,FALSE),VLOOKUP('Résultat équipe'!E$1,'DB L1'!$C352:$P361,14,FALSE)) -> #N/A | F37: =IF(COUNTIF('DB L1'!$B352:$B361,'Résultat équipe'!F$1)=1,VLOOKUP(F$1,'DB L1'!$B352:$O361,14,FALSE),VLOOKUP('Résultat équipe'!F$1,'DB L1'!$C352:$P361,14,FALSE)) -> #N/A | G37: =IF(COUNTIF('DB L1'!$B352:$B361,'Résultat équipe'!G$1)=1,VLOOKUP(G$1,'DB L1'!$B352:$O361,14,FALSE),VLOOKUP('Résultat équipe'!G$1,'DB L1'!$C352:$P361,14,FALSE)) -> #N/A | H37: =IF(COUNTIF('DB L1'!$B352:$B361,'Résultat équipe'!H$1)=1,VLOOKUP(H$1,'DB L1'!$B352:$O361,14,FALSE),VLOOKUP('Résultat équipe'!H$1,'DB L1'!$C352:$P361,14,FALSE)) -> #N/A | I37: =IF(COUNTIF('DB L1'!$B352:$B361,'Résultat équipe'!I$1)=1,VLOOKUP(I$1,'DB L1'!$B352:$O361,14,FALSE),VLOOKUP('Résultat équipe'!I$1,'DB L1'!$C352:$P361,14,FALSE)) -> #N/A | ... U37: =IF(COUNTIF('DB L1'!$B352:$B361,'Résultat équipe'!U$1)=1,VLOOKUP(U$1,'DB L1'!$B352:$O361,14,FALSE),VLOOKUP('Résultat équipe'!U$1,'DB L1'!$C352:$P361,14,FALSE)) -> #N/A | W37: 36 | AS37: 36
A38: 37 | B38: =IF(COUNTIF('DB L1'!$B362:$B371,'Résultat équipe'!B$1)=1,VLOOKUP(B$1,'DB L1'!$B362:$O371,14,FALSE),VLOOKUP('Résultat équipe'!B$1,'DB L1'!$C362:$P371,14,FALSE)) -> #N/A | C38: =IF(COUNTIF('DB L1'!$B362:$B371,'Résultat équipe'!C$1)=1,VLOOKUP(C$1,'DB L1'!$B362:$O371,14,FALSE),VLOOKUP('Résultat équipe'!C$1,'DB L1'!$C362:$P371,14,FALSE)) -> #N/A | D38: =IF(COUNTIF('DB L1'!$B362:$B371,'Résultat équipe'!D$1)=1,VLOOKUP(D$1,'DB L1'!$B362:$O371,14,FALSE),VLOOKUP('Résultat équipe'!D$1,'DB L1'!$C362:$P371,14,FALSE)) -> #N/A | E38: =IF(COUNTIF('DB L1'!$B362:$B371,'Résultat équipe'!E$1)=1,VLOOKUP(E$1,'DB L1'!$B362:$O371,14,FALSE),VLOOKUP('Résultat équipe'!E$1,'DB L1'!$C362:$P371,14,FALSE)) -> #N/A | F38: =IF(COUNTIF('DB L1'!$B362:$B371,'Résultat équipe'!F$1)=1,VLOOKUP(F$1,'DB L1'!$B362:$O371,14,FALSE),VLOOKUP('Résultat équipe'!F$1,'DB L1'!$C362:$P371,14,FALSE)) -> #N/A | G38: =IF(COUNTIF('DB L1'!$B362:$B371,'Résultat équipe'!G$1)=1,VLOOKUP(G$1,'DB L1'!$B362:$O371,14,FALSE),VLOOKUP('Résultat équipe'!G$1,'DB L1'!$C362:$P371,14,FALSE)) -> #N/A | H38: =IF(COUNTIF('DB L1'!$B362:$B371,'Résultat équipe'!H$1)=1,VLOOKUP(H$1,'DB L1'!$B362:$O371,14,FALSE),VLOOKUP('Résultat équipe'!H$1,'DB L1'!$C362:$P371,14,FALSE)) -> #N/A | I38: =IF(COUNTIF('DB L1'!$B362:$B371,'Résultat équipe'!I$1)=1,VLOOKUP(I$1,'DB L1'!$B362:$O371,14,FALSE),VLOOKUP('Résultat équipe'!I$1,'DB L1'!$C362:$P371,14,FALSE)) -> #N/A | ... U38: =IF(COUNTIF('DB L1'!$B362:$B371,'Résultat équipe'!U$1)=1,VLOOKUP(U$1,'DB L1'!$B362:$O371,14,FALSE),VLOOKUP('Résultat équipe'!U$1,'DB L1'!$C362:$P371,14,FALSE)) -> #N/A | W38: 37 | AS38: 37
A39: 38 | B39: =IF(COUNTIF('DB L1'!$B372:$B381,'Résultat équipe'!B$1)=1,VLOOKUP(B$1,'DB L1'!$B372:$O381,14,FALSE),VLOOKUP('Résultat équipe'!B$1,'DB L1'!$C372:$P381,14,FALSE)) -> #N/A | C39: =IF(COUNTIF('DB L1'!$B372:$B381,'Résultat équipe'!C$1)=1,VLOOKUP(C$1,'DB L1'!$B372:$O381,14,FALSE),VLOOKUP('Résultat équipe'!C$1,'DB L1'!$C372:$P381,14,FALSE)) -> #N/A | D39: =IF(COUNTIF('DB L1'!$B372:$B381,'Résultat équipe'!D$1)=1,VLOOKUP(D$1,'DB L1'!$B372:$O381,14,FALSE),VLOOKUP('Résultat équipe'!D$1,'DB L1'!$C372:$P381,14,FALSE)) -> #N/A | E39: =IF(COUNTIF('DB L1'!$B372:$B381,'Résultat équipe'!E$1)=1,VLOOKUP(E$1,'DB L1'!$B372:$O381,14,FALSE),VLOOKUP('Résultat équipe'!E$1,'DB L1'!$C372:$P381,14,FALSE)) -> #N/A | F39: =IF(COUNTIF('DB L1'!$B372:$B381,'Résultat équipe'!F$1)=1,VLOOKUP(F$1,'DB L1'!$B372:$O381,14,FALSE),VLOOKUP('Résultat équipe'!F$1,'DB L1'!$C372:$P381,14,FALSE)) -> #N/A | G39: =IF(COUNTIF('DB L1'!$B372:$B381,'Résultat équipe'!G$1)=1,VLOOKUP(G$1,'DB L1'!$B372:$O381,14,FALSE),VLOOKUP('Résultat équipe'!G$1,'DB L1'!$C372:$P381,14,FALSE)) -> #N/A | H39: =IF(COUNTIF('DB L1'!$B372:$B381,'Résultat équipe'!H$1)=1,VLOOKUP(H$1,'DB L1'!$B372:$O381,14,FALSE),VLOOKUP('Résultat équipe'!H$1,'DB L1'!$C372:$P381,14,FALSE)) -> #N/A | I39: =IF(COUNTIF('DB L1'!$B372:$B381,'Résultat équipe'!I$1)=1,VLOOKUP(I$1,'DB L1'!$B372:$O381,14,FALSE),VLOOKUP('Résultat équipe'!I$1,'DB L1'!$C372:$P381,14,FALSE)) -> #N/A | ... U39: =IF(COUNTIF('DB L1'!$B372:$B381,'Résultat équipe'!U$1)=1,VLOOKUP(U$1,'DB L1'!$B372:$O381,14,FALSE),VLOOKUP('Résultat équipe'!U$1,'DB L1'!$C372:$P381,14,FALSE)) -> #N/A | W39: 38 | AS39: 38

Sheet mi temps avec le plus de but
A1: journée | B1: Amiens | C1: Angers | D1: bordeaux | E1: Caen | F1: Dijon | G1: Guingamp | H1: Lille | I1: Lyon | J1: Marseille | K1: Monaco | L1: Montpellier | M1: Nantes | N1: Nice | O1: Nimes | P1: PSG | Q1: Reims | R1: Rennes | S1: Saint Etienne | T1: Strasbourg | U1: Toulouse | W1: serie en cours | X1: Amiens | Y1: Angers | Z1: bordeaux | AA1: Caen | AB1: Dijon | AC1: Guingamp | AD1: Lille | AE1: Lyon | AF1: Marseille | AG1: Monaco | AH1: Montpellier | AI1: Nantes | AJ1: Nice | AK1: Nimes | AL1: PSG | AM1: Reims | AN1: Rennes | AO1: Saint Etienne | AP1: Strasbourg | AQ1: Toulouse | AS1: serie en cours | AT1: Amiens | AU1: Angers | AV1: bordeaux | AW1: Caen | AX1: Dijon | AY1: Guingamp | AZ1: Lille | BA1: Lyon | BB1: Marseille | BC1: Monaco | BD1: Montpellier | BE1: Nantes | BF1: Nice | BG1: Nimes | BH1: PSG | BI1: Reims | BJ1: Rennes | BK1: Saint Etienne | BL1: Strasbourg | BM1: Toulouse | BP1: serie en cours | BQ1: Amiens | BR1: Angers | BS1: bordeaux | BT1: Caen | BU1: Dijon | BV1: Guingamp | BW1: Lille | BX1: Lyon | BY1: Marseille | BZ1: Monaco | CA1: Montpellier | CB1: Nantes | CC1: Nice | CD1: Nimes | CE1: PSG | CF1: Reims | CG1: Rennes | CH1: Saint Etienne | CI1: Strasbourg | CJ1: Toulouse
A2: 1 | B2: =IF(COUNTIF('DB L1'!$B2:$B11,'Résultat équipe'!B$1)=1,VLOOKUP(B$1,'DB L1'!$B2:$U11,19,FALSE),VLOOKUP('Résultat équipe'!B$1,'DB L1'!$C2:$U11,19,FALSE)) -> aucune | C2: =IF(COUNTIF('DB L1'!$B2:$B11,'Résultat équipe'!C$1)=1,VLOOKUP(C$1,'DB L1'!$B2:$U11,19,FALSE),VLOOKUP('Résultat équipe'!C$1,'DB L1'!$C2:$U11,19,FALSE)) -> deuxieme mi temps | D2: =IF(COUNTIF('DB L1'!$B2:$B11,'Résultat équipe'!D$1)=1,VLOOKUP(D$1,'DB L1'!$B2:$U11,19,FALSE),VLOOKUP('Résultat équipe'!D$1,'DB L1'!$C2:$U11,19,FALSE)) -> aucune | E2: =IF(COUNTIF('DB L1'!$B2:$B11,'Résultat équipe'!E$1)=1,VLOOKUP(E$1,'DB L1'!$B2:$U11,19,FALSE),VLOOKUP('Résultat équipe'!E$1,'DB L1'!$C2:$U11,19,FALSE)) -> aucune | F2: =IF(COUNTIF('DB L1'!$B2:$B11,'Résultat équipe'!F$1)=1,VLOOKUP(F$1,'DB L1'!$B2:$U11,19,FALSE),VLOOKUP('Résultat équipe'!F$1,'DB L1'!$C2:$U11,19,FALSE)) -> deuxieme mi temps | G2: =IF(COUNTIF('DB L1'!$B2:$B11,'Résultat équipe'!G$1)=1,VLOOKUP(G$1,'DB L1'!$B2:$U11,19,FALSE),VLOOKUP('Résultat équipe'!G$1,'DB L1'!$C2:$U11,19,FALSE)) -> deuxieme mi temps | H2: =IF(COUNTIF('DB L1'!$B2:$B11,'Résultat équipe'!H$1)=1,VLOOKUP(H$1,'DB L1'!$B2:$U11,19,FALSE),VLOOKUP('Résultat équipe'!H$1,'DB L1'!$C2:$U11,19,FALSE)) -> deuxieme mi temps | I2: =IF(COUNTIF('DB L1'!$B2:$B11,'Résultat équipe'!I$1)=1,VLOOKUP(I$1,'DB L1'!$B2:$U11,19,FALSE),VLOOKUP('Résultat équipe'!I$1,'DB L1'!$C2:$U11,19,FALSE)) -> aucune | ... U2: =IF(COUNTIF('DB L1'!$B2:$B11,'Résultat équipe'!U$1)=1,VLOOKUP(U$1,'DB L1'!$B2:$U11,19,FALSE),VLOOKUP('Résultat équipe'!U$1,'DB L1'!$C2:$U11,19,FALSE)) -> aucune | W2: 1 | X2: =IF(B2<>"deuxieme mi temps",1,0) -> 1 | Y2: =IF(C2<>"deuxieme mi temps",1,0) -> 0 | Z2: =IF(D2<>"deuxieme mi temps",1,0) -> 1 | AA2: =IF(E2<>"deuxieme mi temps",1,0) -> 1 | AB2: =IF(F2<>"deuxieme mi temps",1,0) -> 0 | AC2: =IF(G2<>"deuxieme mi temps",1,0) -> 0 | AD2: =IF(H2<>"deuxieme mi temps",1,0) -> 0 | AE2: =IF(I2<>"deuxieme mi temps",1,0) -> 1 | ... AQ2: =IF(U2<>"deuxieme mi temps",1,0) -> 1 | AS2: 1 | AT2: =CONCATENATE(X2," * moins de but en 2eme mi temps") -> 1 * moins de but en 2eme mi temps | AU2: =CONCATENATE(Y2," * moins de but en 2eme mi temps") -> 0 * moins de but en 2eme mi temps | AV2: =CONCATENATE(Z2," * moins de but en 2eme mi temps") -> 1 * moins de but en 2eme mi temps | AW2: =CONCATENATE(AA2," * moins de but en 2eme mi temps") -> 1 * moins de but en 2eme mi temps | AX2: =CONCATENATE(AB2," * moins de but en 2eme mi temps") -> 0 * moins de but en 2eme mi temps | AY2: =CONCATENATE(AC2," * moins de but en 2eme mi temps") -> 0 * moins de but en 2eme mi temps | AZ2: =CONCATENATE(AD2," * moins de but en 2eme mi temps") -> 0 * moins de but en 2eme mi temps | BA2: =CONCATENATE(AE2," * moins de but en 2eme mi temps") -> 1 * moins de but en 2eme mi temps | ... BM2: =CONCATENATE(AQ2," * moins de but en 2eme mi temps") -> 1 * moins de but en 2eme mi temps | BP2: plus grande serie | BQ2: =LARGE(X:X,1) -> 3 | BR2: =LARGE(Y:Y,1) -> 4 | BS2: =LARGE(Z:Z,1) -> 4 | BT2: =LARGE(AA:AA,1) -> 5 | BU2: =LARGE(AB:AB,1) -> 6 | BV2: =LARGE(AC:AC,1) -> 4 | BW2: =LARGE(AD:AD,1) -> 3 | BX2: =LARGE(AE:AE,1) -> 5 | BY2: =LARGE(AF:AF,1) -> 5 | BZ2: =LARGE(AG:AG,1) -> 3 | CA2: =LARGE(AH:AH,1) -> 5 | CB2: =LARGE(AI:AI,1) -> 2 | CC2: =LARGE(AJ:AJ,1) -> 5 | CD2: =LARGE(AK:AK,1) -> 6 | CE2: =LARGE(AL:AL,1) -> 1 | CF2: =LARGE(AM:AM,1) -> 6 | CG2: =LARGE(AN:AN,1) -> 2 | CH2: =LARGE(AO:AO,1) -> 3 | CI2: =LARGE(AP:AP,1) -> 2 | CJ2: =LARGE(AQ:AQ,1) -> 2
A3: 2 | B3: =IF(COUNTIF('DB L1'!$B12:$B21,'Résultat équipe'!B1)=1,VLOOKUP(B1,'DB L1'!$B12:$U21,19,FALSE),VLOOKUP('Résultat équipe'!B1,'DB L1'!$C12:$U21,19,FALSE)) -> deuxieme mi temps | C3: =IF(COUNTIF('DB L1'!$B12:$B21,'Résultat équipe'!C1)=1,VLOOKUP(C1,'DB L1'!$B12:$U21,19,FALSE),VLOOKUP('Résultat équipe'!C1,'DB L1'!$C12:$U21,19,FALSE)) -> aucune | D3: =IF(COUNTIF('DB L1'!$B12:$B21,'Résultat équipe'!D1)=1,VLOOKUP(D1,'DB L1'!$B12:$U21,19,FALSE),VLOOKUP('Résultat équipe'!D1,'DB L1'!$C12:$U21,19,FALSE)) -> deuxieme mi temps | E3: =IF(COUNTIF('DB L1'!$B12:$B21,'Résultat équipe'!E1)=1,VLOOKUP(E1,'DB L1'!$B12:$U21,19,FALSE),VLOOKUP('Résultat équipe'!E1,'DB L1'!$C12:$U21,19,FALSE)) -> deuxieme mi temps | F3: =IF(COUNTIF('DB L1'!$B12:$B21,'Résultat équipe'!F1)=1,VLOOKUP(F1,'DB L1'!$B12:$U21,19,FALSE),VLOOKUP('Résultat équipe'!F1,'DB L1'!$C12:$U21,19,FALSE)) -> aucune | G3: =IF(COUNTIF('DB L1'!$B12:$B21,'Résultat équipe'!G1)=1,VLOOKUP(G1,'DB L1'!$B12:$U21,19,FALSE),VLOOKUP('Résultat équipe'!G1,'DB L1'!$C12:$U21,19,FALSE)) -> premiere mi temps | H3: =IF(COUNTIF('DB L1'!$B12:$B21,'Résultat équipe'!H1)=1,VLOOKUP(H1,'DB L1'!$B12:$U21,19,FALSE),VLOOKUP('Résultat équipe'!H1,'DB L1'!$C12:$U21,19,FALSE)) -> aucune | I3: =IF(COUNTIF('DB L1'!$B12:$B21,'Résultat équipe'!I1)=1,VLOOKUP(I1,'DB L1'!$B12:$U21,19,FALSE),VLOOKUP('Résultat équipe'!I1,'DB L1'!$C12:$U21,19,FALSE)) -> aucune | ... U3: =IF(COUNTIF('DB L1'!$B12:$B21,'Résultat équipe'!U1)=1,VLOOKUP(U1,'DB L1'!$B12:$U21,19,FALSE),VLOOKUP('Résultat équipe'!U1,'DB L1'!$C12:$U21,19,FALSE)) -> aucune | W3: 2 | X3: =IF(B3<>"deuxieme mi temps",X2+1,0) -> 0 | Y3: =IF(C3<>"deuxieme mi temps",Y2+1,0) -> 1 | Z3: =IF(D3<>"deuxieme mi temps",Z2+1,0) -> 0 | AA3: =IF(E3<>"deuxieme mi temps",AA2+1,0) -> 0 | AB3: =IF(F3<>"deuxieme mi temps",AB2+1,0) -> 1 | AC3: =IF(G3<>"deuxieme mi temps",AC2+1,0) -> 1 | AD3: =IF(H3<>"deuxieme mi temps",AD2+1,0) -> 1 | AE3: =IF(I3<>"deuxieme mi temps",AE2+1,0) -> 2 | ... AQ3: =IF(U3<>"deuxieme mi temps",AQ2+1,0) -> 2 | AS3: 2 | AT3: =CONCATENATE(X3," * moins de but en 2eme mi temps") -> 0 * moins de but en 2eme mi temps | AU3: =CONCATENATE(Y3," * moins de but en 2eme mi temps") -> 1 * moins de but en 2eme mi temps | AV3: =CONCATENATE(Z3," * moins de but en 2eme mi temps") -> 0 * moins de but en 2eme mi temps | AW3: =CONCATENATE(AA3," * moins de but en 2eme mi temps") -> 0 * moins de but en 2eme mi temps | AX3: =CONCATENATE(AB3," * moins de but en 2eme mi temps") -> 1 * moins de but en 2eme mi temps | AY3: =CONCATENATE(AC3," * moins de but en 2eme mi temps") -> 1 * moins de but en 2eme mi temps | AZ3: =CONCATENATE(AD3," * moins de but en 2eme mi temps") -> 1 * moins de but en 2eme mi temps | BA3: =CONCATENATE(AE3," * moins de but en 2eme mi temps") -> 2 * moins de but en 2eme mi temps | ... BM3: =CONCATENATE(AQ3," * moins de but en 2eme mi temps") -> 2 * moins de but en 2eme mi temps
A4: 3 | B4: =IF(COUNTIF('DB L1'!$B22:$B31,'Résultat équipe'!B$1)=1,VLOOKUP(B$1,'DB L1'!$B22:$U31,19,FALSE),VLOOKUP('Résultat équipe'!B$1,'DB L1'!$C22:$U31,19,FALSE)) -> deuxieme mi temps | C4: =IF(COUNTIF('DB L1'!$B22:$B31,'Résultat équipe'!C$1)=1,VLOOKUP(C$1,'DB L1'!$B22:$U31,19,FALSE),VLOOKUP('Résultat équipe'!C$1,'DB L1'!$C22:$U31,19,FALSE)) -> premiere mi temps | D4: =IF(COUNTIF('DB L1'!$B22:$B31,'Résultat équipe'!D$1)=1,VLOOKUP(D$1,'DB L1'!$B22:$U31,19,FALSE),VLOOKUP('Résultat équipe'!D$1,'DB L1'!$C22:$U31,19,FALSE)) -> deuxieme mi temps | E4: =IF(COUNTIF('DB L1'!$B22:$B31,'Résultat équipe'!E$1)=1,VLOOKUP(E$1,'DB L1'!$B22:$U31,19,FALSE),VLOOKUP('Résultat équipe'!E$1,'DB L1'!$C22:$U31,19,FALSE)) -> premiere mi temps | F4: =IF(COUNTIF('DB L1'!$B22:$B31,'Résultat équipe'!F$1)=1,VLOOKUP(F$1,'DB L1'!$B22:$U31,19,FALSE),VLOOKUP('Résultat équipe'!F$1,'DB L1'!$C22:$U31,19,FALSE)) -> deuxieme mi temps | G4: =IF(COUNTIF('DB L1'!$B22:$B31,'Résultat équipe'!G$1)=1,VLOOKUP(G$1,'DB L1'!$B22:$U31,19,FALSE),VLOOKUP('Résultat équipe'!G$1,'DB L1'!$C22:$U31,19,FALSE)) -> aucune | H4: =IF(COUNTIF('DB L1'!$B22:$B31,'Résultat équipe'!H$1)=1,VLOOKUP(H$1,'DB L1'!$B22:$U31,19,FALSE),VLOOKUP('Résultat équipe'!H$1,'DB L1'!$C22:$U31,19,FALSE)) -> premiere mi temps | I4: =IF(COUNTIF('DB L1'!$B22:$B31,'Résultat équipe'!I$1)=1,VLOOKUP(I$1,'DB L1'!$B22:$U31,19,FALSE),VLOOKUP('Résultat équipe'!I$1,'DB L1'!$C22:$U31,19,FALSE)) -> aucune | ... U4: =IF(COUNTIF('DB L1'!$B22:$B31,'Résultat équipe'!U$1)=1,VLOOKUP(U$1,'DB L1'!$B22:$U31,19,FALSE),VLOOKUP('Résultat équipe'!U$1,'DB L1'!$C22:$U31,19,FALSE)) -> deuxieme mi temps | W4: 3 | X4: =IF(B4<>"deuxieme mi temps",X3+1,0) -> 0 | Y4: =IF(C4<>"deuxieme mi temps",Y3+1,0) -> 2 | Z4: =IF(D4<>"deuxieme mi temps",Z3+1,0) -> 0 | AA4: =IF(E4<>"deuxieme mi temps",AA3+1,0) -> 1 | AB4: =IF(F4<>"deuxieme mi temps",AB3+1,0) -> 0 | AC4: =IF(G4<>"deuxieme mi temps",AC3+1,0) -> 2 | AD4: =IF(H4<>"deuxieme mi temps",AD3+1,0) -> 2 | AE4: =IF(I4<>"deuxieme mi temps",AE3+1,0) -> 3 | ... AQ4: =IF(U4<>"deuxieme mi temps",AQ3+1,0) -> 0 | AS4: 3 | AT4: =CONCATENATE(X4," * moins de but en 2eme mi temps") -> 0 * moins de but en 2eme mi temps | AU4: =CONCATENATE(Y4," * moins de but en 2eme mi temps") -> 2 * moins de but en 2eme mi temps | AV4: =CONCATENATE(Z4," * moins de but en 2eme mi temps") -> 0 * moins de but en 2eme mi temps | AW4: =CONCATENATE(AA4," * moins de but en 2eme mi temps") -> 1 * moins de but en 2eme mi temps | AX4: =CONCATENATE(AB4," * moins de but en 2eme mi temps") -> 0 * moins de but en 2eme mi temps | AY4: =CONCATENATE(AC4," * moins de but en 2eme mi temps") -> 2 * moins de but en 2eme mi temps | AZ4: =CONCATENATE(AD4," * moins de but en 2eme mi temps") -> 2 * moins de but en 2eme mi temps | BA4: =CONCATENATE(AE4," * moins de but en 2eme mi temps") -> 3 * moins de but en 2eme mi temps | ... BM4: =CONCATENATE(AQ4," * moins de but en 2eme mi temps") -> 0 * moins de but en 2eme mi temps
A5: 4 | B5: =IF(COUNTIF('DB L1'!$B32:$B41,'Résultat équipe'!B$1)=1,VLOOKUP(B$1,'DB L1'!$B32:$U41,19,FALSE),VLOOKUP('Résultat équipe'!B$1,'DB L1'!$C32:$U41,19,FALSE)) -> aucune | C5: =IF(COUNTIF('DB L1'!$B32:$B41,'Résultat équipe'!C$1)=1,VLOOKUP(C$1,'DB L1'!$B32:$U41,19,FALSE),VLOOKUP('Résultat équipe'!C$1,'DB L1'!$C32:$U41,19,FALSE)) -> deuxieme mi temps | D5: =IF(COUNTIF('DB L1'!$B32:$B41,'Résultat équipe'!D$1)=1,VLOOKUP(D$1,'DB L1'!$B32:$U41,19,FALSE),VLOOKUP('Résultat équipe'!D$1,'DB L1'!$C32:$U41,19,FALSE)) -> aucune | E5: =IF(COUNTIF('DB L1'!$B32:$B41,'Résultat équipe'!E$1)=1,VLOOKUP(E$1,'DB L1'!$B32:$U41,19,FALSE),VLOOKUP('Résultat équipe'!E$1,'DB L1'!$C32:$U41,19,FALSE)) -> aucune | F5: =IF(COUNTIF('DB L1'!$B32:$B41,'Résultat équipe'!F$1)=1,VLOOKUP(F$1,'DB L1'!$B32:$U41,19,FALSE),VLOOKUP('Résultat équipe'!F$1,'DB L1'!$C32:$U41,19,FALSE)) -> aucune | G5: =IF(COUNTIF('DB L1'!$B32:$B41,'Résultat équipe'!G$1)=1,VLOOKUP(G$1,'DB L1'!$B32:$U41,19,FALSE),VLOOKUP('Résultat équipe'!G$1,'DB L1'!$C32:$U41,19,FALSE)) -> premiere mi temps | H5: =IF(COUNTIF('DB L1'!$B32:$B41,'Résultat équipe'!H$1)=1,VLOOKUP(H$1,'DB L1'!$B32:$U41,19,FALSE),VLOOKUP('Résultat équipe'!H$1,'DB L1'!$C32:$U41,19,FALSE)) -> aucune | I5: =IF(COUNTIF('DB L1'!$B32:$B41,'Résultat équipe'!I$1)=1,VLOOKUP(I$1,'DB L1'!$B32:$U41,19,FALSE),VLOOKUP('Résultat équipe'!I$1,'DB L1'!$C32:$U41,19,FALSE)) -> aucune | ... U5: =IF(COUNTIF('DB L1'!$B32:$B41,'Résultat équipe'!U$1)=1,VLOOKUP(U$1,'DB L1'!$B32:$U41,19,FALSE),VLOOKUP('Résultat équipe'!U$1,'DB L1'!$C32:$U41,19,FALSE)) -> premiere mi temps | W5: 4 | X5: =IF(B5<>"deuxieme mi temps",X4+1,0) -> 1 | Y5: =IF(C5<>"deuxieme mi temps",Y4+1,0) -> 0 | Z5: =IF(D5<>"deuxieme mi temps",Z4+1,0) -> 1 | AA5: =IF(E5<>"deuxieme mi temps",AA4+1,0) -> 2 | AB5: =IF(F5<>"deuxieme mi temps",AB4+1,0) -> 1 | AC5: =IF(G5<>"deuxieme mi temps",AC4+1,0) -> 3 | AD5: =IF(H5<>"deuxieme mi temps",AD4+1,0) -> 3 | AE5: =IF(I5<>"deuxieme mi temps",AE4+1,0) -> 4 | ... AQ5: =IF(U5<>"deuxieme mi temps",AQ4+1,0) -> 1 | AS5: 4 | AT5: =CONCATENATE(X5," * moins de but en 2eme mi temps") -> 1 * moins de but en 2eme mi temps | AU5: =CONCATENATE(Y5," * moins de but en 2eme mi temps") -> 0 * moins de but en 2eme mi temps | AV5: =CONCATENATE(Z5," * moins de but en 2eme mi temps") -> 1 * moins de but en 2eme mi temps | AW5: =CONCATENATE(AA5," * moins de but en 2eme mi temps") -> 2 * moins de but en 2eme mi temps | AX5: =CONCATENATE(AB5," * moins de but en 2eme mi temps") -> 1 * moins de but en 2eme mi temps | AY5: =CONCATENATE(AC5," * moins de but en 2eme mi temps") -> 3 * moins de but en 2eme mi temps | AZ5: =CONCATENATE(AD5," * moins de but en 2eme mi temps") -> 3 * moins de but en 2eme mi temps | BA5: =CONCATENATE(AE5," * moins de but en 2eme mi temps") -> 4 * moins de but en 2eme mi temps | ... BM5: =CONCATENATE(AQ5," * moins de but en 2eme mi temps") -> 1 * moins de but en 2eme mi temps
A6: 5 | B6: =IF(COUNTIF('DB L1'!$B42:$B51,'Résultat équipe'!B$1)=1,VLOOKUP(B$1,'DB L1'!$B42:$U51,19,FALSE),VLOOKUP('Résultat équipe'!B$1,'DB L1'!$C42:$U51,19,FALSE)) -> deuxieme mi temps | C6: =IF(COUNTIF('DB L1'!$B42:$B51,'Résultat équipe'!C$1)=1,VLOOKUP(C$1,'DB L1'!$B42:$U51,19,FALSE),VLOOKUP('Résultat équipe'!C$1,'DB L1'!$C42:$U51,19,FALSE)) -> premiere mi temps | D6: =IF(COUNTIF('DB L1'!$B42:$B51,'Résultat équipe'!D$1)=1,VLOOKUP(D$1,'DB L1'!$B42:$U51,19,FALSE),VLOOKUP('Résultat équipe'!D$1,'DB L1'!$C42:$U51,19,FALSE)) -> deuxieme mi temps | E6: =IF(COUNTIF('DB L1'!$B42:$B51,'Résultat équipe'!E$1)=1,VLOOKUP(E$1,'DB L1'!$B42:$U51,19,FALSE),VLOOKUP('Résultat équipe'!E$1,'DB L1'!$C42:$U51,19,FALSE)) -> deuxieme mi temps | F6: =IF(COUNTIF('DB L1'!$B42:$B51,'Résultat équipe'!F$1)=1,VLOOKUP(F$1,'DB L1'!$B42:$U51,19,FALSE),VLOOKUP('Résultat équipe'!F$1,'DB L1'!$C42:$U51,19,FALSE)) -> premiere mi temps | G6: =IF(COUNTIF('DB L1'!$B42:$B51,'Résultat équipe'!G$1)=1,VLOOKUP(G$1,'DB L1'!$B42:$U51,19,FALSE),VLOOKUP('Résultat équipe'!G$1,'DB L1'!$C42:$U51,19,FALSE)) -> aucune | H6: =IF(COUNTIF('DB L1'!$B42:$B51,'Résultat équipe'!H$1)=1,VLOOKUP(H$1,'DB L1'!$B42:$U51,19,FALSE),VLOOKUP('Résultat équipe'!H$1,'DB L1'!$C42:$U51,19,FALSE)) -> deuxieme mi temps | I6: =IF(COUNTIF('DB L1'!$B42:$B51,'Résultat équipe'!I$1)=1,VLOOKUP(I$1,'DB L1'!$B42:$U51,19,FALSE),VLOOKUP('Résultat équipe'!I$1,'DB L1'!$C42:$U51,19,FALSE)) -> aucune | ... U6: =IF(COUNTIF('DB L1'!$B42:$B51,'Résultat équipe'!U$1)=1,VLOOKUP(U$1,'DB L1'!$B42:$U51,19,FALSE),VLOOKUP('Résultat équipe'!U$1,'DB L1'!$C42:$U51,19,FALSE)) -> deuxieme mi temps | W6: 5 | X6: =IF(B6<>"deuxieme mi temps",X5+1,0) -> 0 | Y6: =IF(C6<>"deuxieme mi temps",Y5+1,0) -> 1 | Z6: =IF(D6<>"deuxieme mi temps",Z5+1,0) -> 0 | AA6: =IF(E6<>"deuxieme mi temps",AA5+1,0) -> 0 | AB6: =IF(F6<>"deuxieme mi temps",AB5+1,0) -> 2 | AC6: =IF(G6<>"deuxieme mi temps",AC5+1,0) -> 4 | AD6: =IF(H6<>"deuxieme mi temps",AD5+1,0) -> 0 | AE6: =IF(I6<>"deuxieme mi temps",AE5+1,0) -> 5 | ... AQ6: =IF(U6<>"deuxieme mi temps",AQ5+1,0) -> 0 | AS6: 5 | AT6: =CONCATENATE(X6," * moins de but en 2eme mi temps") -> 0 * moins de but en 2eme mi temps | AU6: =CONCATENATE(Y6," * moins de but en 2eme mi temps") -> 1 * moins de but en 2eme mi temps | AV6: =CONCATENATE(Z6," * moins de but en 2eme mi temps") -> 0 * moins de but en 2eme mi temps | AW6: =CONCATENATE(AA6," * moins de but en 2eme mi temps") -> 0 * moins de but en 2eme mi temps | AX6: =CONCATENATE(AB6," * moins de but en 2eme mi temps") -> 2 * moins de but en 2eme mi temps | AY6: =CONCATENATE(AC6," * moins de but en 2eme mi temps") -> 4 * moins de but en 2eme mi temps | AZ6: =CONCATENATE(AD6," * moins de but en 2eme mi temps") -> 0 * moins de but en 2eme mi temps | BA6: =CONCATENATE(AE6," * moins de but en 2eme mi temps") -> 5 * moins de but en 2eme mi temps | ... BM6: =CONCATENATE(AQ6," * moins de but en 2eme mi temps") -> 0 * moins de but en 2eme mi temps
A7: 6 | B7: =IF(COUNTIF('DB L1'!$B52:$B61,'Résultat équipe'!B$1)=1,VLOOKUP(B$1,'DB L1'!$B52:$U61,19,FALSE),VLOOKUP('Résultat équipe'!B$1,'DB L1'!$C52:$U61,19,FALSE)) -> premiere mi temps | C7: =IF(COUNTIF('DB L1'!$B52:$B61,'Résultat équipe'!C$1)=1,VLOOKUP(C$1,'DB L1'!$B52:$U61,19,FALSE),VLOOKUP('Résultat équipe'!C$1,'DB L1'!$C52:$U61,19,FALSE)) -> aucune | D7: =IF(COUNTIF('DB L1'!$B52:$B61,'Résultat équipe'!D$1)=1,VLOOKUP(D$1,'DB L1'!$B52:$U61,19,FALSE),VLOOKUP('Résultat équipe'!D$1,'DB L1'!$C52:$U61,19,FALSE)) -> deuxieme mi temps | E7: =IF(COUNTIF('DB L1'!$B52:$B61,'Résultat équipe'!E$1)=1,VLOOKUP(E$1,'DB L1'!$B52:$U61,19,FALSE),VLOOKUP('Résultat équipe'!E$1,'DB L1'!$C52:$U61,19,FALSE)) -> premiere mi temps | F7: =IF(COUNTIF('DB L1'!$B52:$B61,'Résultat équipe'!F$1)=1,VLOOKUP(F$1,'DB L1'!$B52:$U61,19,FALSE),VLOOKUP('Résultat équipe'!F$1,'DB L1'!$C52:$U61,19,FALSE)) -> aucune | G7: =IF(COUNTIF('DB L1'!$B52:$B61,'Résultat équipe'!G$1)=1,VLOOKUP(G$1,'DB L1'!$B52:$U61,19,FALSE),VLOOKUP('Résultat équipe'!G$1,'DB L1'!$C52:$U61,19,FALSE)) -> deuxieme mi temps | H7: =IF(COUNTIF('DB L1'!$B52:$B61,'Résultat équipe'!H$1)=1,VLOOKUP(H$1,'DB L1'!$B52:$U61,19,FALSE),VLOOKUP('Résultat équipe'!H$1,'DB L1'!$C52:$U61,19,FALSE)) -> aucune | I7: =IF(COUNTIF('DB L1'!$B52:$B61,'Résultat équipe'!I$1)=1,VLOOKUP(I$1,'DB L1'!$B52:$U61,19,FALSE),VLOOKUP('Résultat équipe'!I$1,'DB L1'!$C52:$U61,19,FALSE)) -> deuxieme mi temps | ... U7: =IF(COUNTIF('DB L1'!$B52:$B61,'Résultat équipe'!U$1)=1,VLOOKUP(U$1,'DB L1'!$B52:$U61,19,FALSE),VLOOKUP('Résultat équipe'!U$1,'DB L1'!$C52:$U61,19,FALSE)) -> aucune | W7: 6 | X7: =IF(B7<>"deuxieme mi temps",X6+1,0) -> 1 | Y7: =IF(C7<>"deuxieme mi temps",Y6+1,0) -> 2 | Z7: =IF(D7<>"deuxieme mi temps",Z6+1,0) -> 0 | AA7: =IF(E7<>"deuxieme mi temps",AA6+1,0) -> 1 | AB7: =IF(F7<>"deuxieme mi temps",AB6+1,0) -> 3 | AC7: =IF(G7<>"deuxieme mi temps",AC6+1,0) -> 0 | AD7: =IF(H7<>"deuxieme mi temps",AD6+1,0) -> 1 | AE7: =IF(I7<>"deuxieme mi temps",AE6+1,0) -> 0 | ... AQ7: =IF(U7<>"deuxieme mi temps",AQ6+1,0) -> 1 | AS7: 6 | AT7: =CONCATENATE(X7," * moins de but en 2eme mi temps") -> 1 * moins de but en 2eme mi temps | AU7: =CONCATENATE(Y7," * moins de but en 2eme mi temps") -> 2 * moins de but en 2eme mi temps | AV7: =CONCATENATE(Z7," * moins de but en 2eme mi temps") -> 0 * moins de but en 2eme mi temps | AW7: =CONCATENATE(AA7," * moins de but en 2eme mi temps") -> 1 * moins de but en 2eme mi temps | AX7: =CONCATENATE(AB7," * moins de but en 2eme mi temps") -> 3 * moins de but en 2eme mi temps | AY7: =CONCATENATE(AC7," * moins de but en 2eme mi temps") -> 0 * moins de but en 2eme mi temps | AZ7: =CONCATENATE(AD7," * moins de but en 2eme mi temps") -> 1 * moins de but en 2eme mi temps | BA7: =CONCATENATE(AE7," * moins de but en 2eme mi temps") -> 0 * moins de but en 2eme mi temps | ... BM7: =CONCATENATE(AQ7," * moins de but en 2eme mi temps") -> 1 * moins de but en 2eme mi temps
A8: 7 | B8: =IF(COUNTIF('DB L1'!$B62:$B71,'Résultat équipe'!B$1)=1,VLOOKUP(B$1,'DB L1'!$B62:$U71,19,FALSE),VLOOKUP('Résultat équipe'!B$1,'DB L1'!$C62:$U71,19,FALSE)) -> deuxieme mi temps | C8: =IF(COUNTIF('DB L1'!$B62:$B71,'Résultat équipe'!C$1)=1,VLOOKUP(C$1,'DB L1'!$B62:$U71,19,FALSE),VLOOKUP('Résultat équipe'!C$1,'DB L1'!$C62:$U71,19,FALSE)) -> premiere mi temps | D8: =IF(COUNTIF('DB L1'!$B62:$B71,'Résultat équipe'!D$1)=1,VLOOKUP(D$1,'DB L1'!$B62:$U71,19,FALSE),VLOOKUP('Résultat équipe'!D$1,'DB L1'!$C62:$U71,19,FALSE)) -> premiere mi temps | E8: =IF(COUNTIF('DB L1'!$B62:$B71,'Résultat équipe'!E$1)=1,VLOOKUP(E$1,'DB L1'!$B62:$U71,19,FALSE),VLOOKUP('Résultat équipe'!E$1,'DB L1'!$C62:$U71,19,FALSE)) -> aucune | F8: =IF(COUNTIF('DB L1'!$B62:$B71,'Résultat équipe'!F$1)=1,VLOOKUP(F$1,'DB L1'!$B62:$U71,19,FALSE),VLOOKUP('Résultat équipe'!F$1,'DB L1'!$C62:$U71,19,FALSE)) -> aucune | G8: =IF(COUNTIF('DB L1'!$B62:$B71,'Résultat équipe'!G$1)=1,VLOOKUP(G$1,'DB L1'!$B62:$U71,19,FALSE),VLOOKUP('Résultat équipe'!G$1,'DB L1'!$C62:$U71,19,FALSE)) -> aucune | H8: =IF(COUNTIF('DB L1'!$B62:$B71,'Résultat équipe'!H$1)=1,VLOOKUP(H$1,'DB L1'!$B62:$U71,19,FALSE),VLOOKUP('Résultat équipe'!H$1,'DB L1'!$C62:$U71,19,FALSE)) -> aucune | I8: =IF(COUNTIF('DB L1'!$B62:$B71,'Résultat équipe'!I$1)=1,VLOOKUP(I$1,'DB L1'!$B62:$U71,19,FALSE),VLOOKUP('Résultat équipe'!I$1,'DB L1'!$C62:$U71,19,FALSE)) -> premiere mi temps | ... U8: =IF(COUNTIF('DB L1'!$B62:$B71,'Résultat équipe'!U$1)=1,VLOOKUP(U$1,'DB L1'!$B62:$U71,19,FALSE),VLOOKUP('Résultat équipe'!U$1,'DB L1'!$C62:$U71,19,FALSE)) -> deuxieme mi temps | W8: 7 | X8: =IF(B8<>"deuxieme mi temps",X7+1,0) -> 0 | Y8: =IF(C8<>"deuxieme mi temps",Y7+1,0) -> 3 | Z8: =IF(D8<>"deuxieme mi temps",Z7+1,0) -> 1 | AA8: =IF(E8<>"deuxieme mi temps",AA7+1,0) -> 2 | AB8: =IF(F8<>"deuxieme mi temps",AB7+1,0) -> 4 | AC8: =IF(G8<>"deuxieme mi temps",AC7+1,0) -> 1 | AD8: =IF(H8<>"deuxieme mi temps",AD7+1,0) -> 2 | AE8: =IF(I8<>"deuxieme mi temps",AE7+1,0) -> 1 | ... AQ8: =IF(U8<>"deuxieme mi temps",AQ7+1,0) -> 0 | AS8: 7 | AT8: =CONCATENATE(X8," * moins de but en 2eme mi temps") -> 0 * moins de but en 2eme mi temps | AU8: =CONCATENATE(Y8," * moins de but en 2eme mi temps") -> 3 * moins de but en 2eme mi temps | AV8: =CONCATENATE(Z8," * moins de but en 2eme mi temps") -> 1 * moins de but en 2eme mi temps | AW8: =CONCATENATE(AA8," * moins de but en 2eme mi temps") -> 2 * moins de but en 2eme mi temps | AX8: =CONCATENATE(AB8," * moins de but en 2eme mi temps") -> 4 * moins de but en 2eme mi temps | AY8: =CONCATENATE(AC8," * moins de but en 2eme mi temps") -> 1 * moins de but en 2eme mi temps | AZ8: =CONCATENATE(AD8," * moins de but en 2eme mi temps") -> 2 * moins de but en 2eme mi temps | BA8: =CONCATENATE(AE8," * moins de but en 2eme mi temps") -> 1 * moins de but en 2eme mi temps | ... BM8: =CONCATENATE(AQ8," * moins de but en 2eme mi temps") -> 0 * moins de but en 2eme mi temps
A9: 8 | B9: =IF(COUNTIF('DB L1'!$B72:$B81,'Résultat équipe'!B$1)=1,VLOOKUP(B$1,'DB L1'!$B72:$U81,19,FALSE),VLOOKUP('Résultat équipe'!B$1,'DB L1'!$C72:$U81,19,FALSE)) -> aucune | C9: =IF(COUNTIF('DB L1'!$B72:$B81,'Résultat équipe'!C$1)=1,VLOOKUP(C$1,'DB L1'!$B72:$U81,19,FALSE),VLOOKUP('Résultat équipe'!C$1,'DB L1'!$C72:$U81,19,FALSE)) -> aucune | D9: =IF(COUNTIF('DB L1'!$B72:$B81,'Résultat équipe'!D$1)=1,VLOOKUP(D$1,'DB L1'!$B72:$U81,19,FALSE),VLOOKUP('Résultat équipe'!D$1,'DB L1'!$C72:$U81,19,FALSE)) -> aucune | E9: =IF(COUNTIF('DB L1'!$B72:$B81,'Résultat équipe'!E$1)=1,VLOOKUP(E$1,'DB L1'!$B72:$U81,19,FALSE),VLOOKUP('Résultat équipe'!E$1,'DB L1'!$C72:$U81,19,FALSE)) -> premiere mi temps | F9: =IF(COUNTIF('DB L1'!$B72:$B81,'Résultat équipe'!F$1)=1,VLOOKUP(F$1,'DB L1'!$B72:$U81,19,FALSE),VLOOKUP('Résultat équipe'!F$1,'DB L1'!$C72:$U81,19,FALSE)) -> aucune | G9: =IF(COUNTIF('DB L1'!$B72:$B81,'Résultat équipe'!G$1)=1,VLOOKUP(G$1,'DB L1'!$B72:$U81,19,FALSE),VLOOKUP('Résultat équipe'!G$1,'DB L1'!$C72:$U81,19,FALSE)) -> premiere mi temps | H9: =IF(COUNTIF('DB L1'!$B72:$B81,'Résultat équipe'!H$1)=1,VLOOKUP(H$1,'DB L1'!$B72:$U81,19,FALSE),VLOOKUP('Résultat équipe'!H$1,'DB L1'!$C72:$U81,19,FALSE)) -> deuxieme mi temps | I9: =IF(COUNTIF('DB L1'!$B72:$B81,'Résultat équipe'!I$1)=1,VLOOKUP(I$1,'DB L1'!$B72:$U81,19,FALSE),VLOOKUP('Résultat équipe'!I$1,'DB L1'!$C72:$U81,19,FALSE)) -> premiere mi temps | ... U9: =IF(COUNTIF('DB L1'!$B72:$B81,'Résultat équipe'!U$1)=1,VLOOKUP(U$1,'DB L1'!$B72:$U81,19,FALSE),VLOOKUP('Résultat équipe'!U$1,'DB L1'!$C72:$U81,19,FALSE)) -> deuxieme mi temps | W9: 8 | X9: =IF(B9<>"deuxieme mi temps",X8+1,0) -> 1 | Y9: =IF(C9<>"deuxieme mi temps",Y8+1,0) -> 4 | Z9: =IF(D9<>"deuxieme mi temps",Z8+1,0) -> 2 | AA9: =IF(E9<>"deuxieme mi temps",AA8+1,0) -> 3 | AB9: =IF(F9<>"deuxieme mi temps",AB8+1,0) -> 5 | AC9: =IF(G9<>"deuxieme mi temps",AC8+1,0) -> 2 | AD9: =IF(H9<>"deuxieme mi temps",AD8+1,0) -> 0 | AE9: =IF(I9<>"deuxieme mi temps",AE8+1,0) -> 2 | ... AQ9: =IF(U9<>"deuxieme mi temps",AQ8+1,0) -> 0 | AS9: 8 | AT9: =CONCATENATE(X9," * moins de but en 2eme mi temps") -> 1 * moins de but en 2eme mi temps | AU9: =CONCATENATE(Y9," * moins de but en 2eme mi temps") -> 4 * moins de but en 2eme mi temps | AV9: =CONCATENATE(Z9," * moins de but en 2eme mi temps") -> 2 * moins de but en 2eme mi temps | AW9: =CONCATENATE(AA9," * moins de but en 2eme mi temps") -> 3 * moins de but en 2eme mi temps | AX9: =CONCATENATE(AB9," * moins de but en 2eme mi temps") -> 5 * moins de but en 2eme mi temps | AY9: =CONCATENATE(AC9," * moins de but en 2eme mi temps") -> 2 * moins de but en 2eme mi temps | AZ9: =CONCATENATE(AD9," * moins de but en 2eme mi temps") -> 0 * moins de but en 2eme mi temps | BA9: =CONCATENATE(AE9," * moins de but en 2eme mi temps") -> 2 * moins de but en 2eme mi temps | ... BM9: =CONCATENATE(AQ9," * moins de but en 2eme mi temps") -> 0 * moins de but en 2eme mi temps
A10: 9 | B10: =IF(COUNTIF('DB L1'!$B82:$B91,'Résultat équipe'!B$1)=1,VLOOKUP(B$1,'DB L1'!$B82:$U91,19,FALSE),VLOOKUP('Résultat équipe'!B$1,'DB L1'!$C82:$U91,19,FALSE)) -> premiere mi temps | C10: =IF(COUNTIF('DB L1'!$B82:$B91,'Résultat équipe'!C$1)=1,VLOOKUP(C$1,'DB L1'!$B82:$U91,19,FALSE),VLOOKUP('Résultat équipe'!C$1,'DB L1'!$C82:$U91,19,FALSE)) -> deuxieme mi temps | D10: =IF(COUNTIF('DB L1'!$B82:$B91,'Résultat équipe'!D$1)=1,VLOOKUP(D$1,'DB L1'!$B82:$U91,19,FALSE),VLOOKUP('Résultat équipe'!D$1,'DB L1'!$C82:$U91,19,FALSE)) -> premiere mi temps | E10: =IF(COUNTIF('DB L1'!$B82:$B91,'Résultat équipe'!E$1)=1,VLOOKUP(E$1,'DB L1'!$B82:$U91,19,FALSE),VLOOKUP('Résultat équipe'!E$1,'DB L1'!$C82:$U91,19,FALSE)) -> aucune | F10: =IF(COUNTIF('DB L1'!$B82:$B91,'Résultat équipe'!F$1)=1,VLOOKUP(F$1,'DB L1'!$B82:$U91,19,FALSE),VLOOKUP('Résultat équipe'!F$1,'DB L1'!$C82:$U91,19,FALSE)) -> aucune | G10: =IF(COUNTIF('DB L1'!$B82:$B91,'Résultat équipe'!G$1)=1,VLOOKUP(G$1,'DB L1'!$B82:$U91,19,FALSE),VLOOKUP('Résultat équipe'!G$1,'DB L1'!$C82:$U91,19,FALSE)) -> deuxieme mi temps | H10: =IF(COUNTIF('DB L1'!$B82:$B91,'Résultat équipe'!H$1)=1,VLOOKUP(H$1,'DB L1'!$B82:$U91,19,FALSE),VLOOKUP('Résultat équipe'!H$1,'DB L1'!$C82:$U91,19,FALSE)) -> deuxieme mi temps | I10: =IF(COUNTIF('DB L1'!$B82:$B91,'Résultat équipe'!I$1)=1,VLOOKUP(I$1,'DB L1'!$B82:$U91,19,FALSE),VLOOKUP('Résultat équipe'!I$1,'DB L1'!$C82:$U91,19,FALSE)) -> aucune | ... U10: =IF(COUNTIF('DB L1'!$B82:$B91,'Résultat équipe'!U$1)=1,VLOOKUP(U$1,'DB L1'!$B82:$U91,19,FALSE),VLOOKUP('Résultat équipe'!U$1,'DB L1'!$C82:$U91,19,FALSE)) -> deuxieme mi temps | W10: 9 | X10: =IF(B10<>"deuxieme mi temps",X9+1,0) -> 2 | Y10: =IF(C10<>"deuxieme mi temps",Y9+1,0) -> 0 | Z10: =IF(D10<>"deuxieme mi temps",Z9+1,0) -> 3 | AA10: =IF(E10<>"deuxieme mi temps",AA9+1,0) -> 4 | AB10: =IF(F10<>"deuxieme mi temps",AB9+1,0) -> 6 | AC10: =IF(G10<>"deuxieme mi temps",AC9+1,0) -> 0 | AD10: =IF(H10<>"deuxieme mi temps",AD9+1,0) -> 0 | AE10: =IF(I10<>"deuxieme mi temps",AE9+1,0) -> 3 | ... AQ10: =IF(U10<>"deuxieme mi temps",AQ9+1,0) -> 0 | AS10: 9 | AT10: =CONCATENATE(X10," * moins de but en 2eme mi temps") -> 2 * moins de but en 2eme mi temps | AU10: =CONCATENATE(Y10," * moins de but en 2eme mi temps") -> 0 * moins de but en 2eme mi temps | AV10: =CONCATENATE(Z10," * moins de but en 2eme mi temps") -> 3 * moins de but en 2eme mi temps | AW10: =CONCATENATE(AA10," * moins de but en 2eme mi temps") -> 4 * moins de but en 2eme mi temps | AX10: =CONCATENATE(AB10," * moins de but en 2eme mi temps") -> 6 * moins de but en 2eme mi temps | AY10: =CONCATENATE(AC10," * moins de but en 2eme mi temps") -> 0 * moins de but en 2eme mi temps | AZ10: =CONCATENATE(AD10," * moins de but en 2eme mi temps") -> 0 * moins de but en 2eme mi temps | BA10: =CONCATENATE(AE10," * moins de but en 2eme mi temps") -> 3 * moins de but en 2eme mi temps | ... BM10: =CONCATENATE(AQ10," * moins de but en 2eme mi temps") -> 0 * moins de but en 2eme mi temps
A11: 10 | B11: =IF(COUNTIF('DB L1'!$B92:$B101,'Résultat équipe'!B$1)=1,VLOOKUP(B$1,'DB L1'!$B92:$U101,19,FALSE),VLOOKUP('Résultat équipe'!B$1,'DB L1'!$C92:$U101,19,FALSE)) -> aucune | C11: =IF(COUNTIF('DB L1'!$B92:$B101,'Résultat équipe'!C$1)=1,VLOOKUP(C$1,'DB L1'!$B92:$U101,19,FALSE),VLOOKUP('Résultat équipe'!C$1,'DB L1'!$C92:$U101,19,FALSE)) -> premiere mi temps | D11: =IF(COUNTIF('DB L1'!$B92:$B101,'Résultat équipe'!D$1)=1,VLOOKUP(D$1,'DB L1'!$B92:$U101,19,FALSE),VLOOKUP('Résultat équipe'!D$1,'DB L1'!$C92:$U101,19,FALSE)) -> aucune | E11: =IF(COUNTIF('DB L1'!$B92:$B101,'Résultat équipe'!E$1)=1,VLOOKUP(E$1,'DB L1'!$B92:$U101,19,FALSE),VLOOKUP('Résultat équipe'!E$1,'DB L1'!$C92:$U101,19,FALSE)) -> aucune | F11: =IF(COUNTIF('DB L1'!$B92:$B101,'Résultat équipe'!F$1)=1,VLOOKUP(F$1,'DB L1'!$B92:$U101,19,FALSE),VLOOKUP('Résultat équipe'!F$1,'DB L1'!$C92:$U101,19,FALSE)) -> deuxieme mi temps | G11: =IF(COUNTIF('DB L1'!$B92:$B101,'Résultat équipe'!G$1)=1,VLOOKUP(G$1,'DB L1'!$B92:$U101,19,FALSE),VLOOKUP('Résultat équipe'!G$1,'DB L1'!$C92:$U101,19,FALSE)) -> aucune | H11: =IF(COUNTIF('DB L1'!$B92:$B101,'Résultat équipe'!H$1)=1,VLOOKUP(H$1,'DB L1'!$B92:$U101,19,FALSE),VLOOKUP('Résultat équipe'!H$1,'DB L1'!$C92:$U101,19,FALSE)) -> premiere mi temps | I11: =IF(COUNTIF('DB L1'!$B92:$B101,'Résultat équipe'!I$1)=1,VLOOKUP(I$1,'DB L1'!$B92:$U101,19,FALSE),VLOOKUP('Résultat équipe'!I$1,'DB L1'!$C92:$U101,19,FALSE)) -> aucune | ... U11: =IF(COUNTIF('DB L1'!$B92:$B101,'Résultat équipe'!U$1)=1,VLOOKUP(U$1,'DB L1'!$B92:$U101,19,FALSE),VLOOKUP('Résultat équipe'!U$1,'DB L1'!$C92:$U101,19,FALSE)) -> aucune | W11: 10 | X11: =IF(B11<>"deuxieme mi temps",X10+1,0) -> 3 | Y11: =IF(C11<>"deuxieme mi temps",Y10+1,0) -> 1 | Z11: =IF(D11<>"deuxieme mi temps",Z10+1,0) -> 4 | AA11: =IF(E11<>"deuxieme mi temps",AA10+1,0) -> 5 | AB11: =IF(F11<>"deuxieme mi temps",AB10+1,0) -> 0 | AC11: =IF(G11<>"deuxieme mi temps",AC10+1,0) -> 1 | AD11: =IF(H11<>"deuxieme mi temps",AD10+1,0) -> 1 | AE11: =IF(I11<>"deuxieme mi temps",AE10+1,0) -> 4 | ... AQ11: =IF(U11<>"deuxieme mi temps",AQ10+1,0) -> 1 | AS11: 10 | AT11: =CONCATENATE(X11," * moins de but en 2eme mi temps") -> 3 * moins de but en 2eme mi temps | AU11: =CONCATENATE(Y11," * moins de but en 2eme mi temps") -> 1 * moins de but en 2eme mi temps | AV11: =CONCATENATE(Z11," * moins de but en 2eme mi temps") -> 4 * moins de but en 2eme mi temps | AW11: =CONCATENATE(AA11," * moins de but en 2eme mi temps") -> 5 * moins de but en 2eme mi temps | AX11: =CONCATENATE(AB11," * moins de but en 2eme mi temps") -> 0 * moins de but en 2eme mi temps | AY11: =CONCATENATE(AC11," * moins de but en 2eme mi temps") -> 1 * moins de but en 2eme mi temps | AZ11: =CONCATENATE(AD11," * moins de but en 2eme mi temps") -> 1 * moins de but en 2eme mi temps | BA11: =CONCATENATE(AE11," * moins de but en 2eme mi temps") -> 4 * moins de but en 2eme mi temps | ... BM11: =CONCATENATE(AQ11," * moins de but en 2eme mi temps") -> 1 * moins de but en 2eme mi temps
A12: 11 | B12: =IF(COUNTIF('DB L1'!$B102:$B111,'Résultat équipe'!B$1)=1,VLOOKUP(B$1,'DB L1'!$B102:$U111,19,FALSE),VLOOKUP('Résultat équipe'!B$1,'DB L1'!$C102:$U111,19,FALSE)) -> #N/A | C12: =IF(COUNTIF('DB L1'!$B102:$B111,'Résultat équipe'!C$1)=1,VLOOKUP(C$1,'DB L1'!$B102:$U111,19,FALSE),VLOOKUP('Résultat équipe'!C$1,'DB L1'!$C102:$U111,19,FALSE)) -> #N/A | D12: =IF(COUNTIF('DB L1'!$B102:$B111,'Résultat équipe'!D$1)=1,VLOOKUP(D$1,'DB L1'!$B102:$U111,19,FALSE),VLOOKUP('Résultat équipe'!D$1,'DB L1'!$C102:$U111,19,FALSE)) -> #N/A | E12: =IF(COUNTIF('DB L1'!$B102:$B111,'Résultat équipe'!E$1)=1,VLOOKUP(E$1,'DB L1'!$B102:$U111,19,FALSE),VLOOKUP('Résultat équipe'!E$1,'DB L1'!$C102:$U111,19,FALSE)) -> #N/A | F12: =IF(COUNTIF('DB L1'!$B102:$B111,'Résultat équipe'!F$1)=1,VLOOKUP(F$1,'DB L1'!$B102:$U111,19,FALSE),VLOOKUP('Résultat équipe'!F$1,'DB L1'!$C102:$U111,19,FALSE)) -> #N/A | G12: =IF(COUNTIF('DB L1'!$B102:$B111,'Résultat équipe'!G$1)=1,VLOOKUP(G$1,'DB L1'!$B102:$U111,19,FALSE),VLOOKUP('Résultat équipe'!G$1,'DB L1'!$C102:$U111,19,FALSE)) -> #N/A | H12: =IF(COUNTIF('DB L1'!$B102:$B111,'Résultat équipe'!H$1)=1,VLOOKUP(H$1,'DB L1'!$B102:$U111,19,FALSE),VLOOKUP('Résultat équipe'!H$1,'DB L1'!$C102:$U111,19,FALSE)) -> #N/A | I12: =IF(COUNTIF('DB L1'!$B102:$B111,'Résultat équipe'!I$1)=1,VLOOKUP(I$1,'DB L1'!$B102:$U111,19,FALSE),VLOOKUP('Résultat équipe'!I$1,'DB L1'!$C102:$U111,19,FALSE)) -> #N/A | ... U12: =IF(COUNTIF('DB L1'!$B102:$B111,'Résultat équipe'!U$1)=1,VLOOKUP(U$1,'DB L1'!$B102:$U111,19,FALSE),VLOOKUP('Résultat équipe'!U$1,'DB L1'!$C102:$U111,19,FALSE)) -> #N/A | W12: 11 | AS12: 11
A13: 12 | B13: =IF(COUNTIF('DB L1'!$B112:$B121,'Résultat équipe'!B$1)=1,VLOOKUP(B$1,'DB L1'!$B112:$U121,19,FALSE),VLOOKUP('Résultat équipe'!B$1,'DB L1'!$C112:$U121,19,FALSE)) -> #N/A | C13: =IF(COUNTIF('DB L1'!$B112:$B121,'Résultat équipe'!C$1)=1,VLOOKUP(C$1,'DB L1'!$B112:$U121,19,FALSE),VLOOKUP('Résultat équipe'!C$1,'DB L1'!$C112:$U121,19,FALSE)) -> #N/A | D13: =IF(COUNTIF('DB L1'!$B112:$B121,'Résultat équipe'!D$1)=1,VLOOKUP(D$1,'DB L1'!$B112:$U121,19,FALSE),VLOOKUP('Résultat équipe'!D$1,'DB L1'!$C112:$U121,19,FALSE)) -> #N/A | E13: =IF(COUNTIF('DB L1'!$B112:$B121,'Résultat équipe'!E$1)=1,VLOOKUP(E$1,'DB L1'!$B112:$U121,19,FALSE),VLOOKUP('Résultat équipe'!E$1,'DB L1'!$C112:$U121,19,FALSE)) -> #N/A | F13: =IF(COUNTIF('DB L1'!$B112:$B121,'Résultat équipe'!F$1)=1,VLOOKUP(F$1,'DB L1'!$B112:$U121,19,FALSE),VLOOKUP('Résultat équipe'!F$1,'DB L1'!$C112:$U121,19,FALSE)) -> #N/A | G13: =IF(COUNTIF('DB L1'!$B112:$B121,'Résultat équipe'!G$1)=1,VLOOKUP(G$1,'DB L1'!$B112:$U121,19,FALSE),VLOOKUP('Résultat équipe'!G$1,'DB L1'!$C112:$U121,19,FALSE)) -> #N/A | H13: =IF(COUNTIF('DB L1'!$B112:$B121,'Résultat équipe'!H$1)=1,VLOOKUP(H$1,'DB L1'!$B112:$U121,19,FALSE),VLOOKUP('Résultat équipe'!H$1,'DB L1'!$C112:$U121,19,FALSE)) -> #N/A | I13: =IF(COUNTIF('DB L1'!$B112:$B121,'Résultat équipe'!I$1)=1,VLOOKUP(I$1,'DB L1'!$B112:$U121,19,FALSE),VLOOKUP('Résultat équipe'!I$1,'DB L1'!$C112:$U121,19,FALSE)) -> #N/A | ... U13: =IF(COUNTIF('DB L1'!$B112:$B121,'Résultat équipe'!U$1)=1,VLOOKUP(U$1,'DB L1'!$B112:$U121,19,FALSE),VLOOKUP('Résultat équipe'!U$1,'DB L1'!$C112:$U121,19,FALSE)) -> #N/A | W13: 12 | AS13: 12
A14: 13 | B14: =IF(COUNTIF('DB L1'!$B122:$B131,'Résultat équipe'!B$1)=1,VLOOKUP(B$1,'DB L1'!$B122:$U131,19,FALSE),VLOOKUP('Résultat équipe'!B$1,'DB L1'!$C122:$U131,19,FALSE)) -> #N/A | C14: =IF(COUNTIF('DB L1'!$B122:$B131,'Résultat équipe'!C$1)=1,VLOOKUP(C$1,'DB L1'!$B122:$U131,19,FALSE),VLOOKUP('Résultat équipe'!C$1,'DB L1'!$C122:$U131,19,FALSE)) -> #N/A | D14: =IF(COUNTIF('DB L1'!$B122:$B131,'Résultat équipe'!D$1)=1,VLOOKUP(D$1,'DB L1'!$B122:$U131,19,FALSE),VLOOKUP('Résultat équipe'!D$1,'DB L1'!$C122:$U131,19,FALSE)) -> #N/A | E14: =IF(COUNTIF('DB L1'!$B122:$B131,'Résultat équipe'!E$1)=1,VLOOKUP(E$1,'DB L1'!$B122:$U131,19,FALSE),VLOOKUP('Résultat équipe'!E$1,'DB L1'!$C122:$U131,19,FALSE)) -> #N/A | F14: =IF(COUNTIF('DB L1'!$B122:$B131,'Résultat équipe'!F$1)=1,VLOOKUP(F$1,'DB L1'!$B122:$U131,19,FALSE),VLOOKUP('Résultat équipe'!F$1,'DB L1'!$C122:$U131,19,FALSE)) -> #N/A | G14: =IF(COUNTIF('DB L1'!$B122:$B131,'Résultat équipe'!G$1)=1,VLOOKUP(G$1,'DB L1'!$B122:$U131,19,FALSE),VLOOKUP('Résultat équipe'!G$1,'DB L1'!$C122:$U131,19,FALSE)) -> #N/A | H14: =IF(COUNTIF('DB L1'!$B122:$B131,'Résultat équipe'!H$1)=1,VLOOKUP(H$1,'DB L1'!$B122:$U131,19,FALSE),VLOOKUP('Résultat équipe'!H$1,'DB L1'!$C122:$U131,19,FALSE)) -> #N/A | I14: =IF(COUNTIF('DB L1'!$B122:$B131,'Résultat équipe'!I$1)=1,VLOOKUP(I$1,'DB L1'!$B122:$U131,19,FALSE),VLOOKUP('Résultat équipe'!I$1,'DB L1'!$C122:$U131,19,FALSE)) -> #N/A | ... U14: =IF(COUNTIF('DB L1'!$B122:$B131,'Résultat équipe'!U$1)=1,VLOOKUP(U$1,'DB L1'!$B122:$U131,19,FALSE),VLOOKUP('Résultat équipe'!U$1,'DB L1'!$C122:$U131,19,FALSE)) -> #N/A | W14: 13 | AS14: 13
A15: 14 | B15: =IF(COUNTIF('DB L1'!$B132:$B141,'Résultat équipe'!B$1)=1,VLOOKUP(B$1,'DB L1'!$B132:$U141,19,FALSE),VLOOKUP('Résultat équipe'!B$1,'DB L1'!$C132:$U141,19,FALSE)) -> #N/A | C15: =IF(COUNTIF('DB L1'!$B132:$B141,'Résultat équipe'!C$1)=1,VLOOKUP(C$1,'DB L1'!$B132:$U141,19,FALSE),VLOOKUP('Résultat équipe'!C$1,'DB L1'!$C132:$U141,19,FALSE)) -> #N/A | D15: =IF(COUNTIF('DB L1'!$B132:$B141,'Résultat équipe'!D$1)=1,VLOOKUP(D$1,'DB L1'!$B132:$U141,19,FALSE),VLOOKUP('Résultat équipe'!D$1,'DB L1'!$C132:$U141,19,FALSE)) -> #N/A | E15: =IF(COUNTIF('DB L1'!$B132:$B141,'Résultat équipe'!E$1)=1,VLOOKUP(E$1,'DB L1'!$B132:$U141,19,FALSE),VLOOKUP('Résultat équipe'!E$1,'DB L1'!$C132:$U141,19,FALSE)) -> #N/A | F15: =IF(COUNTIF('DB L1'!$B132:$B141,'Résultat équipe'!F$1)=1,VLOOKUP(F$1,'DB L1'!$B132:$U141,19,FALSE),VLOOKUP('Résultat équipe'!F$1,'DB L1'!$C132:$U141,19,FALSE)) -> #N/A | G15: =IF(COUNTIF('DB L1'!$B132:$B141,'Résultat équipe'!G$1)=1,VLOOKUP(G$1,'DB L1'!$B132:$U141,19,FALSE),VLOOKUP('Résultat équipe'!G$1,'DB L1'!$C132:$U141,19,FALSE)) -> #N/A | H15: =IF(COUNTIF('DB L1'!$B132:$B141,'Résultat équipe'!H$1)=1,VLOOKUP(H$1,'DB L1'!$B132:$U141,19,FALSE),VLOOKUP('Résultat équipe'!H$1,'DB L1'!$C132:$U141,19,FALSE)) -> #N/A | I15: =IF(COUNTIF('DB L1'!$B132:$B141,'Résultat équipe'!I$1)=1,VLOOKUP(I$1,'DB L1'!$B132:$U141,19,FALSE),VLOOKUP('Résultat équipe'!I$1,'DB L1'!$C132:$U141,19,FALSE)) -> #N/A | ... U15: =IF(COUNTIF('DB L1'!$B132:$B141,'Résultat équipe'!U$1)=1,VLOOKUP(U$1,'DB L1'!$B132:$U141,19,FALSE),VLOOKUP('Résultat équipe'!U$1,'DB L1'!$C132:$U141,19,FALSE)) -> #N/A | W15: 14 | AS15: 14
A16: 15 | B16: =IF(COUNTIF('DB L1'!$B142:$B151,'Résultat équipe'!B$1)=1,VLOOKUP(B$1,'DB L1'!$B142:$U151,19,FALSE),VLOOKUP('Résultat équipe'!B$1,'DB L1'!$C142:$U151,19,FALSE)) -> #N/A | C16: =IF(COUNTIF('DB L1'!$B142:$B151,'Résultat équipe'!C$1)=1,VLOOKUP(C$1,'DB L1'!$B142:$U151,19,FALSE),VLOOKUP('Résultat équipe'!C$1,'DB L1'!$C142:$U151,19,FALSE)) -> #N/A | D16: =IF(COUNTIF('DB L1'!$B142:$B151,'Résultat équipe'!D$1)=1,VLOOKUP(D$1,'DB L1'!$B142:$U151,19,FALSE),VLOOKUP('Résultat équipe'!D$1,'DB L1'!$C142:$U151,19,FALSE)) -> #N/A | E16: =IF(COUNTIF('DB L1'!$B142:$B151,'Résultat équipe'!E$1)=1,VLOOKUP(E$1,'DB L1'!$B142:$U151,19,FALSE),VLOOKUP('Résultat équipe'!E$1,'DB L1'!$C142:$U151,19,FALSE)) -> #N/A | F16: =IF(COUNTIF('DB L1'!$B142:$B151,'Résultat équipe'!F$1)=1,VLOOKUP(F$1,'DB L1'!$B142:$U151,19,FALSE),VLOOKUP('Résultat équipe'!F$1,'DB L1'!$C142:$U151,19,FALSE)) -> #N/A | G16: =IF(COUNTIF('DB L1'!$B142:$B151,'Résultat équipe'!G$1)=1,VLOOKUP(G$1,'DB L1'!$B142:$U151,19,FALSE),VLOOKUP('Résultat équipe'!G$1,'DB L1'!$C142:$U151,19,FALSE)) -> #N/A | H16: =IF(COUNTIF('DB L1'!$B142:$B151,'Résultat équipe'!H$1)=1,VLOOKUP(H$1,'DB L1'!$B142:$U151,19,FALSE),VLOOKUP('Résultat équipe'!H$1,'DB L1'!$C142:$U151,19,FALSE)) -> #N/A | I16: =IF(COUNTIF('DB L1'!$B142:$B151,'Résultat équipe'!I$1)=1,VLOOKUP(I$1,'DB L1'!$B142:$U151,19,FALSE),VLOOKUP('Résultat équipe'!I$1,'DB L1'!$C142:$U151,19,FALSE)) -> #N/A | ... U16: =IF(COUNTIF('DB L1'!$B142:$B151,'Résultat équipe'!U$1)=1,VLOOKUP(U$1,'DB L1'!$B142:$U151,19,FALSE),VLOOKUP('Résultat équipe'!U$1,'DB L1'!$C142:$U151,19,FALSE)) -> #N/A | W16: 15 | AS16: 15
A17: 16 | B17: =IF(COUNTIF('DB L1'!$B152:$B161,'Résultat équipe'!B$1)=1,VLOOKUP(B$1,'DB L1'!$B152:$U161,19,FALSE),VLOOKUP('Résultat équipe'!B$1,'DB L1'!$C152:$U161,19,FALSE)) -> #N/A | C17: =IF(COUNTIF('DB L1'!$B152:$B161,'Résultat équipe'!C$1)=1,VLOOKUP(C$1,'DB L1'!$B152:$U161,19,FALSE),VLOOKUP('Résultat équipe'!C$1,'DB L1'!$C152:$U161,19,FALSE)) -> #N/A | D17: =IF(COUNTIF('DB L1'!$B152:$B161,'Résultat équipe'!D$1)=1,VLOOKUP(D$1,'DB L1'!$B152:$U161,19,FALSE),VLOOKUP('Résultat équipe'!D$1,'DB L1'!$C152:$U161,19,FALSE)) -> #N/A | E17: =IF(COUNTIF('DB L1'!$B152:$B161,'Résultat équipe'!E$1)=1,VLOOKUP(E$1,'DB L1'!$B152:$U161,19,FALSE),VLOOKUP('Résultat équipe'!E$1,'DB L1'!$C152:$U161,19,FALSE)) -> #N/A | F17: =IF(COUNTIF('DB L1'!$B152:$B161,'Résultat équipe'!F$1)=1,VLOOKUP(F$1,'DB L1'!$B152:$U161,19,FALSE),VLOOKUP('Résultat équipe'!F$1,'DB L1'!$C152:$U161,19,FALSE)) -> #N/A | G17: =IF(COUNTIF('DB L1'!$B152:$B161,'Résultat équipe'!G$1)=1,VLOOKUP(G$1,'DB L1'!$B152:$U161,19,FALSE),VLOOKUP('Résultat équipe'!G$1,'DB L1'!$C152:$U161,19,FALSE)) -> #N/A | H17: =IF(COUNTIF('DB L1'!$B152:$B161,'Résultat équipe'!H$1)=1,VLOOKUP(H$1,'DB L1'!$B152:$U161,19,FALSE),VLOOKUP('Résultat équipe'!H$1,'DB L1'!$C152:$U161,19,FALSE)) -> #N/A | I17: =IF(COUNTIF('DB L1'!$B152:$B161,'Résultat équipe'!I$1)=1,VLOOKUP(I$1,'DB L1'!$B152:$U161,19,FALSE),VLOOKUP('Résultat équipe'!I$1,'DB L1'!$C152:$U161,19,FALSE)) -> #N/A | ... U17: =IF(COUNTIF('DB L1'!$B152:$B161,'Résultat équipe'!U$1)=1,VLOOKUP(U$1,'DB L1'!$B152:$U161,19,FALSE),VLOOKUP('Résultat équipe'!U$1,'DB L1'!$C152:$U161,19,FALSE)) -> #N/A | W17: 16 | AS17: 16
A18: 17 | B18: =IF(COUNTIF('DB L1'!$B162:$B171,'Résultat équipe'!B$1)=1,VLOOKUP(B$1,'DB L1'!$B162:$U171,19,FALSE),VLOOKUP('Résultat équipe'!B$1,'DB L1'!$C162:$U171,19,FALSE)) -> #N/A | C18: =IF(COUNTIF('DB L1'!$B162:$B171,'Résultat équipe'!C$1)=1,VLOOKUP(C$1,'DB L1'!$B162:$U171,19,FALSE),VLOOKUP('Résultat équipe'!C$1,'DB L1'!$C162:$U171,19,FALSE)) -> #N/A | D18: =IF(COUNTIF('DB L1'!$B162:$B171,'Résultat équipe'!D$1)=1,VLOOKUP(D$1,'DB L1'!$B162:$U171,19,FALSE),VLOOKUP('Résultat équipe'!D$1,'DB L1'!$C162:$U171,19,FALSE)) -> #N/A | E18: =IF(COUNTIF('DB L1'!$B162:$B171,'Résultat équipe'!E$1)=1,VLOOKUP(E$1,'DB L1'!$B162:$U171,19,FALSE),VLOOKUP('Résultat équipe'!E$1,'DB L1'!$C162:$U171,19,FALSE)) -> #N/A | F18: =IF(COUNTIF('DB L1'!$B162:$B171,'Résultat équipe'!F$1)=1,VLOOKUP(F$1,'DB L1'!$B162:$U171,19,FALSE),VLOOKUP('Résultat équipe'!F$1,'DB L1'!$C162:$U171,19,FALSE)) -> #N/A | G18: =IF(COUNTIF('DB L1'!$B162:$B171,'Résultat équipe'!G$1)=1,VLOOKUP(G$1,'DB L1'!$B162:$U171,19,FALSE),VLOOKUP('Résultat équipe'!G$1,'DB L1'!$C162:$U171,19,FALSE)) -> #N/A | H18: =IF(COUNTIF('DB L1'!$B162:$B171,'Résultat équipe'!H$1)=1,VLOOKUP(H$1,'DB L1'!$B162:$U171,19,FALSE),VLOOKUP('Résultat équipe'!H$1,'DB L1'!$C162:$U171,19,FALSE)) -> #N/A | I18: =IF(COUNTIF('DB L1'!$B162:$B171,'Résultat équipe'!I$1)=1,VLOOKUP(I$1,'DB L1'!$B162:$U171,19,FALSE),VLOOKUP('Résultat équipe'!I$1,'DB L1'!$C162:$U171,19,FALSE)) -> #N/A | ... U18: =IF(COUNTIF('DB L1'!$B162:$B171,'Résultat équipe'!U$1)=1,VLOOKUP(U$1,'DB L1'!$B162:$U171,19,FALSE),VLOOKUP('Résultat équipe'!U$1,'DB L1'!$C162:$U171,19,FALSE)) -> #N/A | W18: 17 | AS18: 17
A19: 18 | B19: =IF(COUNTIF('DB L1'!$B172:$B181,'Résultat équipe'!B$1)=1,VLOOKUP(B$1,'DB L1'!$B172:$U181,19,FALSE),VLOOKUP('Résultat équipe'!B$1,'DB L1'!$C172:$U181,19,FALSE)) -> #N/A | C19: =IF(COUNTIF('DB L1'!$B172:$B181,'Résultat équipe'!C$1)=1,VLOOKUP(C$1,'DB L1'!$B172:$U181,19,FALSE),VLOOKUP('Résultat équipe'!C$1,'DB L1'!$C172:$U181,19,FALSE)) -> #N/A | D19: =IF(COUNTIF('DB L1'!$B172:$B181,'Résultat équipe'!D$1)=1,VLOOKUP(D$1,'DB L1'!$B172:$U181,19,FALSE),VLOOKUP('Résultat équipe'!D$1,'DB L1'!$C172:$U181,19,FALSE)) -> #N/A | E19: =IF(COUNTIF('DB L1'!$B172:$B181,'Résultat équipe'!E$1)=1,VLOOKUP(E$1,'DB L1'!$B172:$U181,19,FALSE),VLOOKUP('Résultat équipe'!E$1,'DB L1'!$C172:$U181,19,FALSE)) -> #N/A | F19: =IF(COUNTIF('DB L1'!$B172:$B181,'Résultat équipe'!F$1)=1,VLOOKUP(F$1,'DB L1'!$B172:$U181,19,FALSE),VLOOKUP('Résultat équipe'!F$1,'DB L1'!$C172:$U181,19,FALSE)) -> #N/A | G19: =IF(COUNTIF('DB L1'!$B172:$B181,'Résultat équipe'!G$1)=1,VLOOKUP(G$1,'DB L1'!$B172:$U181,19,FALSE),VLOOKUP('Résultat équipe'!G$1,'DB L1'!$C172:$U181,19,FALSE)) -> #N/A | H19: =IF(COUNTIF('DB L1'!$B172:$B181,'Résultat équipe'!H$1)=1,VLOOKUP(H$1,'DB L1'!$B172:$U181,19,FALSE),VLOOKUP('Résultat équipe'!H$1,'DB L1'!$C172:$U181,19,FALSE)) -> #N/A | I19: =IF(COUNTIF('DB L1'!$B172:$B181,'Résultat équipe'!I$1)=1,VLOOKUP(I$1,'DB L1'!$B172:$U181,19,FALSE),VLOOKUP('Résultat équipe'!I$1,'DB L1'!$C172:$U181,19,FALSE)) -> #N/A | ... U19: =IF(COUNTIF('DB L1'!$B172:$B181,'Résultat équipe'!U$1)=1,VLOOKUP(U$1,'DB L1'!$B172:$U181,19,FALSE),VLOOKUP('Résultat équipe'!U$1,'DB L1'!$C172:$U181,19,FALSE)) -> #N/A | W19: 18 | AS19: 18
A20: 19 | B20: =IF(COUNTIF('DB L1'!$B182:$B191,'Résultat équipe'!B$1)=1,VLOOKUP(B$1,'DB L1'!$B182:$U191,19,FALSE),VLOOKUP('Résultat équipe'!B$1,'DB L1'!$C182:$U191,19,FALSE)) -> #N/A | C20: =IF(COUNTIF('DB L1'!$B182:$B191,'Résultat équipe'!C$1)=1,VLOOKUP(C$1,'DB L1'!$B182:$U191,19,FALSE),VLOOKUP('Résultat équipe'!C$1,'DB L1'!$C182:$U191,19,FALSE)) -> #N/A | D20: =IF(COUNTIF('DB L1'!$B182:$B191,'Résultat équipe'!D$1)=1,VLOOKUP(D$1,'DB L1'!$B182:$U191,19,FALSE),VLOOKUP('Résultat équipe'!D$1,'DB L1'!$C182:$U191,19,FALSE)) -> #N/A | E20: =IF(COUNTIF('DB L1'!$B182:$B191,'Résultat équipe'!E$1)=1,VLOOKUP(E$1,'DB L1'!$B182:$U191,19,FALSE),VLOOKUP('Résultat équipe'!E$1,'DB L1'!$C182:$U191,19,FALSE)) -> #N/A | F20: =IF(COUNTIF('DB L1'!$B182:$B191,'Résultat équipe'!F$1)=1,VLOOKUP(F$1,'DB L1'!$B182:$U191,19,FALSE),VLOOKUP('Résultat équipe'!F$1,'DB L1'!$C182:$U191,19,FALSE)) -> #N/A | G20: =IF(COUNTIF('DB L1'!$B182:$B191,'Résultat équipe'!G$1)=1,VLOOKUP(G$1,'DB L1'!$B182:$U191,19,FALSE),VLOOKUP('Résultat équipe'!G$1,'DB L1'!$C182:$U191,19,FALSE)) -> #N/A | H20: =IF(COUNTIF('DB L1'!$B182:$B191,'Résultat équipe'!H$1)=1,VLOOKUP(H$1,'DB L1'!$B182:$U191,19,FALSE),VLOOKUP('Résultat équipe'!H$1,'DB L1'!$C182:$U191,19,FALSE)) -> #N/A | I20: =IF(COUNTIF('DB L1'!$B182:$B191,'Résultat équipe'!I$1)=1,VLOOKUP(I$1,'DB L1'!$B182:$U191,19,FALSE),VLOOKUP('Résultat équipe'!I$1,'DB L1'!$C182:$U191,19,FALSE)) -> #N/A | ... U20: =IF(COUNTIF('DB L1'!$B182:$B191,'Résultat équipe'!U$1)=1,VLOOKUP(U$1,'DB L1'!$B182:$U191,19,FALSE),VLOOKUP('Résultat équipe'!U$1,'DB L1'!$C182:$U191,19,FALSE)) -> #N/A | W20: 19 | AS20: 19
A21: 20 | B21: =IF(COUNTIF('DB L1'!$B192:$B201,'Résultat équipe'!B$1)=1,VLOOKUP(B$1,'DB L1'!$B192:$U201,19,FALSE),VLOOKUP('Résultat équipe'!B$1,'DB L1'!$C192:$U201,19,FALSE)) -> #N/A | C21: =IF(COUNTIF('DB L1'!$B192:$B201,'Résultat équipe'!C$1)=1,VLOOKUP(C$1,'DB L1'!$B192:$U201,19,FALSE),VLOOKUP('Résultat équipe'!C$1,'DB L1'!$C192:$U201,19,FALSE)) -> #N/A | D21: =IF(COUNTIF('DB L1'!$B192:$B201,'Résultat équipe'!D$1)=1,VLOOKUP(D$1,'DB L1'!$B192:$U201,19,FALSE),VLOOKUP('Résultat équipe'!D$1,'DB L1'!$C192:$U201,19,FALSE)) -> #N/A | E21: =IF(COUNTIF('DB L1'!$B192:$B201,'Résultat équipe'!E$1)=1,VLOOKUP(E$1,'DB L1'!$B192:$U201,19,FALSE),VLOOKUP('Résultat équipe'!E$1,'DB L1'!$C192:$U201,19,FALSE)) -> #N/A | F21: =IF(COUNTIF('DB L1'!$B192:$B201,'Résultat équipe'!F$1)=1,VLOOKUP(F$1,'DB L1'!$B192:$U201,19,FALSE),VLOOKUP('Résultat équipe'!F$1,'DB L1'!$C192:$U201,19,FALSE)) -> #N/A | G21: =IF(COUNTIF('DB L1'!$B192:$B201,'Résultat équipe'!G$1)=1,VLOOKUP(G$1,'DB L1'!$B192:$U201,19,FALSE),VLOOKUP('Résultat équipe'!G$1,'DB L1'!$C192:$U201,19,FALSE)) -> #N/A | H21: =IF(COUNTIF('DB L1'!$B192:$B201,'Résultat équipe'!H$1)=1,VLOOKUP(H$1,'DB L1'!$B192:$U201,19,FALSE),VLOOKUP('Résultat équipe'!H$1,'DB L1'!$C192:$U201,19,FALSE)) -> #N/A | I21: =IF(COUNTIF('DB L1'!$B192:$B201,'Résultat équipe'!I$1)=1,VLOOKUP(I$1,'DB L1'!$B192:$U201,19,FALSE),VLOOKUP('Résultat équipe'!I$1,'DB L1'!$C192:$U201,19,FALSE)) -> #N/A | ... U21: =IF(COUNTIF('DB L1'!$B192:$B201,'Résultat équipe'!U$1)=1,VLOOKUP(U$1,'DB L1'!$B192:$U201,19,FALSE),VLOOKUP('Résultat équipe'!U$1,'DB L1'!$C192:$U201,19,FALSE)) -> #N/A | W21: 20 | AS21: 20
A22: 21 | B22: =IF(COUNTIF('DB L1'!$B202:$B211,'Résultat équipe'!B$1)=1,VLOOKUP(B$1,'DB L1'!$B202:$U211,19,FALSE),VLOOKUP('Résultat équipe'!B$1,'DB L1'!$C202:$U211,19,FALSE)) -> #N/A | C22: =IF(COUNTIF('DB L1'!$B202:$B211,'Résultat équipe'!C$1)=1,VLOOKUP(C$1,'DB L1'!$B202:$U211,19,FALSE),VLOOKUP('Résultat équipe'!C$1,'DB L1'!$C202:$U211,19,FALSE)) -> #N/A | D22: =IF(COUNTIF('DB L1'!$B202:$B211,'Résultat équipe'!D$1)=1,VLOOKUP(D$1,'DB L1'!$B202:$U211,19,FALSE),VLOOKUP('Résultat équipe'!D$1,'DB L1'!$C202:$U211,19,FALSE)) -> #N/A | E22: =IF(COUNTIF('DB L1'!$B202:$B211,'Résultat équipe'!E$1)=1,VLOOKUP(E$1,'DB L1'!$B202:$U211,19,FALSE),VLOOKUP('Résultat équipe'!E$1,'DB L1'!$C202:$U211,19,FALSE)) -> #N/A | F22: =IF(COUNTIF('DB L1'!$B202:$B211,'Résultat équipe'!F$1)=1,VLOOKUP(F$1,'DB L1'!$B202:$U211,19,FALSE),VLOOKUP('Résultat équipe'!F$1,'DB L1'!$C202:$U211,19,FALSE)) -> #N/A | G22: =IF(COUNTIF('DB L1'!$B202:$B211,'Résultat équipe'!G$1)=1,VLOOKUP(G$1,'DB L1'!$B202:$U211,19,FALSE),VLOOKUP('Résultat équipe'!G$1,'DB L1'!$C202:$U211,19,FALSE)) -> #N/A | H22: =IF(COUNTIF('DB L1'!$B202:$B211,'Résultat équipe'!H$1)=1,VLOOKUP(H$1,'DB L1'!$B202:$U211,19,FALSE),VLOOKUP('Résultat équipe'!H$1,'DB L1'!$C202:$U211,19,FALSE)) -> #N/A | I22: =IF(COUNTIF('DB L1'!$B202:$B211,'Résultat équipe'!I$1)=1,VLOOKUP(I$1,'DB L1'!$B202:$U211,19,FALSE),VLOOKUP('Résultat équipe'!I$1,'DB L1'!$C202:$U211,19,FALSE)) -> #N/A | ... U22: =IF(COUNTIF('DB L1'!$B202:$B211,'Résultat équipe'!U$1)=1,VLOOKUP(U$1,'DB L1'!$B202:$U211,19,FALSE),VLOOKUP('Résultat équipe'!U$1,'DB L1'!$C202:$U211,19,FALSE)) -> #N/A | W22: 21 | AS22: 21
A23: 22 | B23: =IF(COUNTIF('DB L1'!$B212:$B221,'Résultat équipe'!B$1)=1,VLOOKUP(B$1,'DB L1'!$B212:$U221,19,FALSE),VLOOKUP('Résultat équipe'!B$1,'DB L1'!$C212:$U221,19,FALSE)) -> #N/A | C23: =IF(COUNTIF('DB L1'!$B212:$B221,'Résultat équipe'!C$1)=1,VLOOKUP(C$1,'DB L1'!$B212:$U221,19,FALSE),VLOOKUP('Résultat équipe'!C$1,'DB L1'!$C212:$U221,19,FALSE)) -> #N/A | D23: =IF(COUNTIF('DB L1'!$B212:$B221,'Résultat équipe'!D$1)=1,VLOOKUP(D$1,'DB L1'!$B212:$U221,19,FALSE),VLOOKUP('Résultat équipe'!D$1,'DB L1'!$C212:$U221,19,FALSE)) -> #N/A | E23: =IF(COUNTIF('DB L1'!$B212:$B221,'Résultat équipe'!E$1)=1,VLOOKUP(E$1,'DB L1'!$B212:$U221,19,FALSE),VLOOKUP('Résultat équipe'!E$1,'DB L1'!$C212:$U221,19,FALSE)) -> #N/A | F23: =IF(COUNTIF('DB L1'!$B212:$B221,'Résultat équipe'!F$1)=1,VLOOKUP(F$1,'DB L1'!$B212:$U221,19,FALSE),VLOOKUP('Résultat équipe'!F$1,'DB L1'!$C212:$U221,19,FALSE)) -> #N/A | G23: =IF(COUNTIF('DB L1'!$B212:$B221,'Résultat équipe'!G$1)=1,VLOOKUP(G$1,'DB L1'!$B212:$U221,19,FALSE),VLOOKUP('Résultat équipe'!G$1,'DB L1'!$C212:$U221,19,FALSE)) -> #N/A | H23: =IF(COUNTIF('DB L1'!$B212:$B221,'Résultat équipe'!H$1)=1,VLOOKUP(H$1,'DB L1'!$B212:$U221,19,FALSE),VLOOKUP('Résultat équipe'!H$1,'DB L1'!$C212:$U221,19,FALSE)) -> #N/A | I23: =IF(COUNTIF('DB L1'!$B212:$B221,'Résultat équipe'!I$1)=1,VLOOKUP(I$1,'DB L1'!$B212:$U221,19,FALSE),VLOOKUP('Résultat équipe'!I$1,'DB L1'!$C212:$U221,19,FALSE)) -> #N/A | ... U23: =IF(COUNTIF('DB L1'!$B212:$B221,'Résultat équipe'!U$1)=1,VLOOKUP(U$1,'DB L1'!$B212:$U221,19,FALSE),VLOOKUP('Résultat équipe'!U$1,'DB L1'!$C212:$U221,19,FALSE)) -> #N/A | W23: 22 | AS23: 22
A24: 23 | B24: =IF(COUNTIF('DB L1'!$B222:$B231,'Résultat équipe'!B$1)=1,VLOOKUP(B$1,'DB L1'!$B222:$U231,19,FALSE),VLOOKUP('Résultat équipe'!B$1,'DB L1'!$C222:$U231,19,FALSE)) -> #N/A | C24: =IF(COUNTIF('DB L1'!$B222:$B231,'Résultat équipe'!C$1)=1,VLOOKUP(C$1,'DB L1'!$B222:$U231,19,FALSE),VLOOKUP('Résultat équipe'!C$1,'DB L1'!$C222:$U231,19,FALSE)) -> #N/A | D24: =IF(COUNTIF('DB L1'!$B222:$B231,'Résultat équipe'!D$1)=1,VLOOKUP(D$1,'DB L1'!$B222:$U231,19,FALSE),VLOOKUP('Résultat équipe'!D$1,'DB L1'!$C222:$U231,19,FALSE)) -> #N/A | E24: =IF(COUNTIF('DB L1'!$B222:$B231,'Résultat équipe'!E$1)=1,VLOOKUP(E$1,'DB L1'!$B222:$U231,19,FALSE),VLOOKUP('Résultat équipe'!E$1,'DB L1'!$C222:$U231,19,FALSE)) -> #N/A | F24: =IF(COUNTIF('DB L1'!$B222:$B231,'Résultat équipe'!F$1)=1,VLOOKUP(F$1,'DB L1'!$B222:$U231,19,FALSE),VLOOKUP('Résultat équipe'!F$1,'DB L1'!$C222:$U231,19,FALSE)) -> #N/A | G24: =IF(COUNTIF('DB L1'!$B222:$B231,'Résultat équipe'!G$1)=1,VLOOKUP(G$1,'DB L1'!$B222:$U231,19,FALSE),VLOOKUP('Résultat équipe'!G$1,'DB L1'!$C222:$U231,19,FALSE)) -> #N/A | H24: =IF(COUNTIF('DB L1'!$B222:$B231,'Résultat équipe'!H$1)=1,VLOOKUP(H$1,'DB L1'!$B222:$U231,19,FALSE),VLOOKUP('Résultat équipe'!H$1,'DB L1'!$C222:$U231,19,FALSE)) -> #N/A | I24: =IF(COUNTIF('DB L1'!$B222:$B231,'Résultat équipe'!I$1)=1,VLOOKUP(I$1,'DB L1'!$B222:$U231,19,FALSE),VLOOKUP('Résultat équipe'!I$1,'DB L1'!$C222:$U231,19,FALSE)) -> #N/A | ... U24: =IF(COUNTIF('DB L1'!$B222:$B231,'Résultat équipe'!U$1)=1,VLOOKUP(U$1,'DB L1'!$B222:$U231,19,FALSE),VLOOKUP('Résultat équipe'!U$1,'DB L1'!$C222:$U231,19,FALSE)) -> #N/A | W24: 23 | AS24: 23
A25: 24 | B25: =IF(COUNTIF('DB L1'!$B232:$B241,'Résultat équipe'!B$1)=1,VLOOKUP(B$1,'DB L1'!$B232:$U241,19,FALSE),VLOOKUP('Résultat équipe'!B$1,'DB L1'!$C232:$U241,19,FALSE)) -> #N/A | C25: =IF(COUNTIF('DB L1'!$B232:$B241,'Résultat équipe'!C$1)=1,VLOOKUP(C$1,'DB L1'!$B232:$U241,19,FALSE),VLOOKUP('Résultat équipe'!C$1,'DB L1'!$C232:$U241,19,FALSE)) -> #N/A | D25: =IF(COUNTIF('DB L1'!$B232:$B241,'Résultat équipe'!D$1)=1,VLOOKUP(D$1,'DB L1'!$B232:$U241,19,FALSE),VLOOKUP('Résultat équipe'!D$1,'DB L1'!$C232:$U241,19,FALSE)) -> #N/A | E25: =IF(COUNTIF('DB L1'!$B232:$B241,'Résultat équipe'!E$1)=1,VLOOKUP(E$1,'DB L1'!$B232:$U241,19,FALSE),VLOOKUP('Résultat équipe'!E$1,'DB L1'!$C232:$U241,19,FALSE)) -> #N/A | F25: =IF(COUNTIF('DB L1'!$B232:$B241,'Résultat équipe'!F$1)=1,VLOOKUP(F$1,'DB L1'!$B232:$U241,19,FALSE),VLOOKUP('Résultat équipe'!F$1,'DB L1'!$C232:$U241,19,FALSE)) -> #N/A | G25: =IF(COUNTIF('DB L1'!$B232:$B241,'Résultat équipe'!G$1)=1,VLOOKUP(G$1,'DB L1'!$B232:$U241,19,FALSE),VLOOKUP('Résultat équipe'!G$1,'DB L1'!$C232:$U241,19,FALSE)) -> #N/A | H25: =IF(COUNTIF('DB L1'!$B232:$B241,'Résultat équipe'!H$1)=1,VLOOKUP(H$1,'DB L1'!$B232:$U241,19,FALSE),VLOOKUP('Résultat équipe'!H$1,'DB L1'!$C232:$U241,19,FALSE)) -> #N/A | I25: =IF(COUNTIF('DB L1'!$B232:$B241,'Résultat équipe'!I$1)=1,VLOOKUP(I$1,'DB L1'!$B232:$U241,19,FALSE),VLOOKUP('Résultat équipe'!I$1,'DB L1'!$C232:$U241,19,FALSE)) -> #N/A | ... U25: =IF(COUNTIF('DB L1'!$B232:$B241,'Résultat équipe'!U$1)=1,VLOOKUP(U$1,'DB L1'!$B232:$U241,19,FALSE),VLOOKUP('Résultat équipe'!U$1,'DB L1'!$C232:$U241,19,FALSE)) -> #N/A | W25: 24 | AS25: 24
A26: 25 | B26: =IF(COUNTIF('DB L1'!$B242:$B251,'Résultat équipe'!B$1)=1,VLOOKUP(B$1,'DB L1'!$B242:$U251,19,FALSE),VLOOKUP('Résultat équipe'!B$1,'DB L1'!$C242:$U251,19,FALSE)) -> #N/A | C26: =IF(COUNTIF('DB L1'!$B242:$B251,'Résultat équipe'!C$1)=1,VLOOKUP(C$1,'DB L1'!$B242:$U251,19,FALSE),VLOOKUP('Résultat équipe'!C$1,'DB L1'!$C242:$U251,19,FALSE)) -> #N/A | D26: =IF(COUNTIF('DB L1'!$B242:$B251,'Résultat équipe'!D$1)=1,VLOOKUP(D$1,'DB L1'!$B242:$U251,19,FALSE),VLOOKUP('Résultat équipe'!D$1,'DB L1'!$C242:$U251,19,FALSE)) -> #N/A | E26: =IF(COUNTIF('DB L1'!$B242:$B251,'Résultat équipe'!E$1)=1,VLOOKUP(E$1,'DB L1'!$B242:$U251,19,FALSE),VLOOKUP('Résultat équipe'!E$1,'DB L1'!$C242:$U251,19,FALSE)) -> #N/A | F26: =IF(COUNTIF('DB L1'!$B242:$B251,'Résultat équipe'!F$1)=1,VLOOKUP(F$1,'DB L1'!$B242:$U251,19,FALSE),VLOOKUP('Résultat équipe'!F$1,'DB L1'!$C242:$U251,19,FALSE)) -> #N/A | G26: =IF(COUNTIF('DB L1'!$B242:$B251,'Résultat équipe'!G$1)=1,VLOOKUP(G$1,'DB L1'!$B242:$U251,19,FALSE),VLOOKUP('Résultat équipe'!G$1,'DB L1'!$C242:$U251,19,FALSE)) -> #N/A | H26: =IF(COUNTIF('DB L1'!$B242:$B251,'Résultat équipe'!H$1)=1,VLOOKUP(H$1,'DB L1'!$B242:$U251,19,FALSE),VLOOKUP('Résultat équipe'!H$1,'DB L1'!$C242:$U251,19,FALSE)) -> #N/A | I26: =IF(COUNTIF('DB L1'!$B242:$B251,'Résultat équipe'!I$1)=1,VLOOKUP(I$1,'DB L1'!$B242:$U251,19,FALSE),VLOOKUP('Résultat équipe'!I$1,'DB L1'!$C242:$U251,19,FALSE)) -> #N/A | ... U26: =IF(COUNTIF('DB L1'!$B242:$B251,'Résultat équipe'!U$1)=1,VLOOKUP(U$1,'DB L1'!$B242:$U251,19,FALSE),VLOOKUP('Résultat équipe'!U$1,'DB L1'!$C242:$U251,19,FALSE)) -> #N/A | W26: 25 | AS26: 25
A27: 26 | B27: =IF(COUNTIF('DB L1'!$B252:$B261,'Résultat équipe'!B$1)=1,VLOOKUP(B$1,'DB L1'!$B252:$U261,19,FALSE),VLOOKUP('Résultat équipe'!B$1,'DB L1'!$C252:$U261,19,FALSE)) -> #N/A | C27: =IF(COUNTIF('DB L1'!$B252:$B261,'Résultat équipe'!C$1)=1,VLOOKUP(C$1,'DB L1'!$B252:$U261,19,FALSE),VLOOKUP('Résultat équipe'!C$1,'DB L1'!$C252:$U261,19,FALSE)) -> #N/A | D27: =IF(COUNTIF('DB L1'!$B252:$B261,'Résultat équipe'!D$1)=1,VLOOKUP(D$1,'DB L1'!$B252:$U261,19,FALSE),VLOOKUP('Résultat équipe'!D$1,'DB L1'!$C252:$U261,19,FALSE)) -> #N/A | E27: =IF(COUNTIF('DB L1'!$B252:$B261,'Résultat équipe'!E$1)=1,VLOOKUP(E$1,'DB L1'!$B252:$U261,19,FALSE),VLOOKUP('Résultat équipe'!E$1,'DB L1'!$C252:$U261,19,FALSE)) -> #N/A | F27: =IF(COUNTIF('DB L1'!$B252:$B261,'Résultat équipe'!F$1)=1,VLOOKUP(F$1,'DB L1'!$B252:$U261,19,FALSE),VLOOKUP('Résultat équipe'!F$1,'DB L1'!$C252:$U261,19,FALSE)) -> #N/A | G27: =IF(COUNTIF('DB L1'!$B252:$B261,'Résultat équipe'!G$1)=1,VLOOKUP(G$1,'DB L1'!$B252:$U261,19,FALSE),VLOOKUP('Résultat équipe'!G$1,'DB L1'!$C252:$U261,19,FALSE)) -> #N/A | H27: =IF(COUNTIF('DB L1'!$B252:$B261,'Résultat équipe'!H$1)=1,VLOOKUP(H$1,'DB L1'!$B252:$U261,19,FALSE),VLOOKUP('Résultat équipe'!H$1,'DB L1'!$C252:$U261,19,FALSE)) -> #N/A | I27: =IF(COUNTIF('DB L1'!$B252:$B261,'Résultat équipe'!I$1)=1,VLOOKUP(I$1,'DB L1'!$B252:$U261,19,FALSE),VLOOKUP('Résultat équipe'!I$1,'DB L1'!$C252:$U261,19,FALSE)) -> #N/A | ... U27: =IF(COUNTIF('DB L1'!$B252:$B261,'Résultat équipe'!U$1)=1,VLOOKUP(U$1,'DB L1'!$B252:$U261,19,FALSE),VLOOKUP('Résultat équipe'!U$1,'DB L1'!$C252:$U261,19,FALSE)) -> #N/A | W27: 26 | AS27: 26
A28: 27 | B28: =IF(COUNTIF('DB L1'!$B262:$B271,'Résultat équipe'!B$1)=1,VLOOKUP(B$1,'DB L1'!$B262:$U271,19,FALSE),VLOOKUP('Résultat équipe'!B$1,'DB L1'!$C262:$U271,19,FALSE)) -> #N/A | C28: =IF(COUNTIF('DB L1'!$B262:$B271,'Résultat équipe'!C$1)=1,VLOOKUP(C$1,'DB L1'!$B262:$U271,19,FALSE),VLOOKUP('Résultat équipe'!C$1,'DB L1'!$C262:$U271,19,FALSE)) -> #N/A | D28: =IF(COUNTIF('DB L1'!$B262:$B271,'Résultat équipe'!D$1)=1,VLOOKUP(D$1,'DB L1'!$B262:$U271,19,FALSE),VLOOKUP('Résultat équipe'!D$1,'DB L1'!$C262:$U271,19,FALSE)) -> #N/A | E28: =IF(COUNTIF('DB L1'!$B262:$B271,'Résultat équipe'!E$1)=1,VLOOKUP(E$1,'DB L1'!$B262:$U271,19,FALSE),VLOOKUP('Résultat équipe'!E$1,'DB L1'!$C262:$U271,19,FALSE)) -> #N/A | F28: =IF(COUNTIF('DB L1'!$B262:$B271,'Résultat équipe'!F$1)=1,VLOOKUP(F$1,'DB L1'!$B262:$U271,19,FALSE),VLOOKUP('Résultat équipe'!F$1,'DB L1'!$C262:$U271,19,FALSE)) -> #N/A | G28: =IF(COUNTIF('DB L1'!$B262:$B271,'Résultat équipe'!G$1)=1,VLOOKUP(G$1,'DB L1'!$B262:$U271,19,FALSE),VLOOKUP('Résultat équipe'!G$1,'DB L1'!$C262:$U271,19,FALSE)) -> #N/A | H28: =IF(COUNTIF('DB L1'!$B262:$B271,'Résultat équipe'!H$1)=1,VLOOKUP(H$1,'DB L1'!$B262:$U271,19,FALSE),VLOOKUP('Résultat équipe'!H$1,'DB L1'!$C262:$U271,19,FALSE)) -> #N/A | I28: =IF(COUNTIF('DB L1'!$B262:$B271,'Résultat équipe'!I$1)=1,VLOOKUP(I$1,'DB L1'!$B262:$U271,19,FALSE),VLOOKUP('Résultat équipe'!I$1,'DB L1'!$C262:$U271,19,FALSE)) -> #N/A | ... U28: =IF(COUNTIF('DB L1'!$B262:$B271,'Résultat équipe'!U$1)=1,VLOOKUP(U$1,'DB L1'!$B262:$U271,19,FALSE),VLOOKUP('Résultat équipe'!U$1,'DB L1'!$C262:$U271,19,FALSE)) -> #N/A | W28: 27 | AS28: 27
A29: 28 | B29: =IF(COUNTIF('DB L1'!$B272:$B281,'Résultat équipe'!B$1)=1,VLOOKUP(B$1,'DB L1'!$B272:$U281,19,FALSE),VLOOKUP('Résultat équipe'!B$1,'DB L1'!$C272:$U281,19,FALSE)) -> #N/A | C29: =IF(COUNTIF('DB L1'!$B272:$B281,'Résultat équipe'!C$1)=1,VLOOKUP(C$1,'DB L1'!$B272:$U281,19,FALSE),VLOOKUP('Résultat équipe'!C$1,'DB L1'!$C272:$U281,19,FALSE)) -> #N/A | D29: =IF(COUNTIF('DB L1'!$B272:$B281,'Résultat équipe'!D$1)=1,VLOOKUP(D$1,'DB L1'!$B272:$U281,19,FALSE),VLOOKUP('Résultat équipe'!D$1,'DB L1'!$C272:$U281,19,FALSE)) -> #N/A | E29: =IF(COUNTIF('DB L1'!$B272:$B281,'Résultat équipe'!E$1)=1,VLOOKUP(E$1,'DB L1'!$B272:$U281,19,FALSE),VLOOKUP('Résultat équipe'!E$1,'DB L1'!$C272:$U281,19,FALSE)) -> #N/A | F29: =IF(COUNTIF('DB L1'!$B272:$B281,'Résultat équipe'!F$1)=1,VLOOKUP(F$1,'DB L1'!$B272:$U281,19,FALSE),VLOOKUP('Résultat équipe'!F$1,'DB L1'!$C272:$U281,19,FALSE)) -> #N/A | G29: =IF(COUNTIF('DB L1'!$B272:$B281,'Résultat équipe'!G$1)=1,VLOOKUP(G$1,'DB L1'!$B272:$U281,19,FALSE),VLOOKUP('Résultat équipe'!G$1,'DB L1'!$C272:$U281,19,FALSE)) -> #N/A | H29: =IF(COUNTIF('DB L1'!$B272:$B281,'Résultat équipe'!H$1)=1,VLOOKUP(H$1,'DB L1'!$B272:$U281,19,FALSE),VLOOKUP('Résultat équipe'!H$1,'DB L1'!$C272:$U281,19,FALSE)) -> #N/A | I29: =IF(COUNTIF('DB L1'!$B272:$B281,'Résultat équipe'!I$1)=1,VLOOKUP(I$1,'DB L1'!$B272:$U281,19,FALSE),VLOOKUP('Résultat équipe'!I$1,'DB L1'!$C272:$U281,19,FALSE)) -> #N/A | ... U29: =IF(COUNTIF('DB L1'!$B272:$B281,'Résultat équipe'!U$1)=1,VLOOKUP(U$1,'DB L1'!$B272:$U281,19,FALSE),VLOOKUP('Résultat équipe'!U$1,'DB L1'!$C272:$U281,19,FALSE)) -> #N/A | W29: 28 | AS29: 28
A30: 29 | B30: =IF(COUNTIF('DB L1'!$B282:$B291,'Résultat équipe'!B$1)=1,VLOOKUP(B$1,'DB L1'!$B282:$U291,19,FALSE),VLOOKUP('Résultat équipe'!B$1,'DB L1'!$C282:$U291,19,FALSE)) -> #N/A | C30: =IF(COUNTIF('DB L1'!$B282:$B291,'Résultat équipe'!C$1)=1,VLOOKUP(C$1,'DB L1'!$B282:$U291,19,FALSE),VLOOKUP('Résultat équipe'!C$1,'DB L1'!$C282:$U291,19,FALSE)) -> #N/A | D30: =IF(COUNTIF('DB L1'!$B282:$B291,'Résultat équipe'!D$1)=1,VLOOKUP(D$1,'DB L1'!$B282:$U291,19,FALSE),VLOOKUP('Résultat équipe'!D$1,'DB L1'!$C282:$U291,19,FALSE)) -> #N/A | E30: =IF(COUNTIF('DB L1'!$B282:$B291,'Résultat équipe'!E$1)=1,VLOOKUP(E$1,'DB L1'!$B282:$U291,19,FALSE),VLOOKUP('Résultat équipe'!E$1,'DB L1'!$C282:$U291,19,FALSE)) -> #N/A | F30: =IF(COUNTIF('DB L1'!$B282:$B291,'Résultat équipe'!F$1)=1,VLOOKUP(F$1,'DB L1'!$B282:$U291,19,FALSE),VLOOKUP('Résultat équipe'!F$1,'DB L1'!$C282:$U291,19,FALSE)) -> #N/A | G30: =IF(COUNTIF('DB L1'!$B282:$B291,'Résultat équipe'!G$1)=1,VLOOKUP(G$1,'DB L1'!$B282:$U291,19,FALSE),VLOOKUP('Résultat équipe'!G$1,'DB L1'!$C282:$U291,19,FALSE)) -> #N/A | H30: =IF(COUNTIF('DB L1'!$B282:$B291,'Résultat équipe'!H$1)=1,VLOOKUP(H$1,'DB L1'!$B282:$U291,19,FALSE),VLOOKUP('Résultat équipe'!H$1,'DB L1'!$C282:$U291,19,FALSE)) -> #N/A | I30: =IF(COUNTIF('DB L1'!$B282:$B291,'Résultat équipe'!I$1)=1,VLOOKUP(I$1,'DB L1'!$B282:$U291,19,FALSE),VLOOKUP('Résultat équipe'!I$1,'DB L1'!$C282:$U291,19,FALSE)) -> #N/A | ... U30: =IF(COUNTIF('DB L1'!$B282:$B291,'Résultat équipe'!U$1)=1,VLOOKUP(U$1,'DB L1'!$B282:$U291,19,FALSE),VLOOKUP('Résultat équipe'!U$1,'DB L1'!$C282:$U291,19,FALSE)) -> #N/A | W30: 29 | AS30: 29
