Workbook

Sheet DB L1
A1: Championnat | B1: equipe | C1: adversaire | D1: Journée | E1: Score equipe domicile | F1: Score equipe exterieur | G1: score match | H1: buteur domicile | I1: buteur exterieur | J1: score equipe domicile mi temps | K1: score equipe exterieur mi temps | L1: score match mi temps | M1: Cleansheet equipe domicile | N1: Cleansheet equipe exterieur | O1: Résultat domicile | P1: Résultat exterieur | Q1: Nombre de but match | R1: Nombre de but mi temps match | S1: Mi temps avec le plus de but | T1: Mi temps avec le plus de but equipe domicile | U1: Mi temps avec le plus de but equipe exteieur | V1: Victoire par 1 but d'écart | W1: Victoire par 2 buts d'écart | X1: Victoire par 3 buts d'écart | Y1: Victoire par plus de 3 buts | Z1: Defaite par 1 but d'écart | AA1: defaite par 2 buts d'écart | AB1: defaite par 3 buts d'écart | AC1: defaite par plus de 3 buts | AD1: Deux équipes marquent | AE1: Deux équipes marquent à la mi temps
A2: Ligue 1 | B2: PSG | C2: Caen | D2: 1 | E2: 3 | F2: 0 | G2: =CONCATENATE(E2,"-",F2) -> 3-0 | H2: Neymar ; Rabiot . Weah | I2: - | J2: 2 | K2: 0 | L2: =CONCATENATE(J2,"-",K2) -> 2-0 | M2: =IF(F2=0,"oui","non") -> oui | N2: =IF(E2=0,"oui","non") -> non | O2: =IF(E2>F2,"victoire",IF(E2=F2,"nul","defaite")) -> victoire | P2: =IF(F2>E2,"victoire",IF(E2=F2,"nul","defaite")) -> defaite | Q2: =E2+F2 -> 3 | R2: =J2+K2 -> 2 | S2: =IF((Q2-R2)>R2,"deuxieme mi temps",IF((Q2-R2)=R2,"aucune","premiere mi temps")) -> premiere mi temps | T2: =IF((E2-J2)>J2,"deuxieme mi temps",IF((E2-J2)=J2,"aucune","premiere mi temps")) -> premiere mi temps | U2: =IF((F2-K2)>K2,"deuxieme mi temps",IF((F2-K2)=K2,"aucune","premiere mi temps")) -> aucune | V2: =IF((E2-F2)=1,"oui","non") -> non | W2: =IF((E2-F2)=2,"oui","non") -> non | X2: =IF((E2-F2)=3,"oui","non") -> oui | Y2: =IF((E2-F2)>3,"oui","non") -> non | Z2: =IF((E2-F2)=-1,"oui","non") -> non | AA2: =IF((E2-F2)=-2,"oui","non") -> non | AB2: =IF((E2-F2)=-3,"oui","non") -> non | AC2: =IF((F2-E2)>3,"oui","non") -> non | AD2: =IF((E2>0)*AND(F2>0),"oui","non") -> non | AE2: =IF((J2>0)*AND(K2>0),"oui","non") -> non
A3: Ligue 1 | B3: Bordeaux | C3: Strasbourg | D3: 1 | E3: 0 | F3: 2 | G3: =CONCATENATE(E3,"-",F3) -> 0-2 | H3: - | I3: Sissoko; Da Costa | J3: 0 | K3: 0 | L3: =CONCATENATE(J3,"-",K3) -> 0-0 | M3: =IF(F3=0,"oui","non") -> non | N3: =IF(E3=0,"oui","non") -> oui | O3: =IF(E3>F3,"victoire",IF(E3=F3,"nul","defaite")) -> defaite | P3: =IF(F3>E3,"victoire",IF(E3=F3,"nul","defaite")) -> victoire | Q3: =E3+F3 -> 2 | R3: =J3+K3 -> 0 | S3: =IF((Q3-R3)>R3,"deuxieme mi temps",IF((Q3-R3)=R3,"aucune","premiere")) -> deuxieme mi temps | T3: =IF((E3-J3)>J3,"deuxieme mi temps",IF((E3-J3)=J3,"aucune","premiere mi temps")) -> aucune | U3: =IF((F3-K3)>K3,"deuxieme mi temps",IF((F3-K3)=K3,"aucune","premiere mi temps")) -> deuxieme mi temps | V3: =IF((E3-F3)=1,"oui","non") -> non | W3: =IF((E3-F3)=2,"oui","non") -> non | X3: =IF((E3-F3)=3,"oui","non") -> non | Y3: =IF((E3-F3)>3,"oui","non") -> non | Z3: =IF((E3-F3)=-1,"oui","non") -> non | AA3: =IF((E3-F3)=-2,"oui","non") -> oui | AB3: =IF((E3-F3)=-3,"oui","non") -> non | AC3: =IF((F3-E3)>3,"oui","non") -> non | AD3: =IF((E3>0)*AND(F3>0),"oui","non") -> non | AE3: =IF((J3>0)*AND(K3>0),"oui","non") -> non
A4: Ligue 1 | B4: Lyon | C4: Amiens | D4: 1 | E4: 2 | F4: 0 | G4: =CONCATENATE(E4,"-",F4) -> 2-0 | H4: Traore; Depay | I4: - | J4: 1 | K4: 0 | L4: =CONCATENATE(J4,"-",K4) -> 1-0 | M4: =IF(F4=0,"oui","non") -> oui | N4: =IF(E4=0,"oui","non") -> non | O4: =IF(E4>F4,"victoire",IF(E4=F4,"nul","defaite")) -> victoire | P4: =IF(F4>E4,"victoire",IF(E4=F4,"nul","defaite")) -> defaite | Q4: =E4+F4 -> 2 | R4: =J4+K4 -> 1 | S4: =IF((Q4-R4)>R4,"deuxieme mi temps",IF((Q4-R4)=R4,"aucune","premiere")) -> aucune | T4: =IF((E4-J4)>J4,"deuxieme mi temps",IF((E4-J4)=J4,"aucune","premiere mi temps")) -> aucune | U4: =IF((F4-K4)>K4,"deuxieme mi temps",IF((F4-K4)=K4,"aucune","premiere mi temps")) -> aucune | V4: =IF((E4-F4)=1,"oui","non") -> non | W4: =IF((E4-F4)=2,"oui","non") -> oui | X4: =IF((E4-F4)=3,"oui","non") -> non | Y4: =IF((E4-F4)>3,"oui","non") -> non | Z4: =IF((E4-F4)=-1,"oui","non") -> non | AA4: =IF((E4-F4)=-2,"oui","non") -> non | AB4: =IF((E4-F4)=-3,"oui","non") -> non | AC4: =IF((F4-E4)>3,"oui","non") -> non | AD4: =IF((E4>0)*AND(F4>0),"oui","non") -> non | AE4: =IF((J4>0)*AND(K4>0),"oui","non") -> non
A5: Ligue 1 | B5: Angers | C5: Nimes | D5: 1 | E5: 3 | F5: 4 | G5: =CONCATENATE(E5,"-",F5) -> 3-4 | H5: Capelle; Fulgini ; Traore | I5: Thioub; Depres; Ripart | J5: 1 | K5: 1 | L5: =CONCATENATE(J5,"-",K5) -> 1-1 | M5: =IF(F5=0,"oui","non") -> non | N5: =IF(E5=0,"oui","non") -> non | O5: =IF(E5>F5,"victoire",IF(E5=F5,"nul","defaite")) -> defaite | P5: =IF(F5>E5,"victoire",IF(E5=F5,"nul","defaite")) -> victoire | Q5: =E5+F5 -> 7 | R5: =J5+K5 -> 2 | S5: =IF((Q5-R5)>R5,"deuxieme mi temps",IF((Q5-R5)=R5,"aucune","premiere")) -> deuxieme mi temps | T5: =IF((E5-J5)>J5,"deuxieme mi temps",IF((E5-J5)=J5,"aucune","premiere mi temps")) -> deuxieme mi temps | U5: =IF((F5-K5)>K5,"deuxieme mi temps",IF((F5-K5)=K5,"aucune","premiere mi temps")) -> deuxieme mi temps | V5: =IF((E5-F5)=1,"oui","non") -> non | W5: =IF((E5-F5)=2,"oui","non") -> non | X5: =IF((E5-F5)=3,"oui","non") -> non | Y5: =IF((E5-F5)>3,"oui","non") -> non | Z5: =IF((E5-F5)=-1,"oui","non") -> oui | AA5: =IF((E5-F5)=-2,"oui","non") -> non | AB5: =IF((E5-F5)=-3,"oui","non") -> non | AC5: =IF((F5-E5)>3,"oui","non") -> non | AD5: =IF((E5>0)*AND(F5>0),"oui","non") -> oui | AE5: =IF((J5>0)*AND(K5>0),"oui","non") -> oui
A6: Ligue 1 | B6: Lille | C6: Rennes | D6: 1 | E6: 3 | F6: 1 | G6: =CONCATENATE(E6,"-",F6) -> 3-1 | H6: Mothiba; Pepe ; Bamba | I6: Grenier | J6: 1 | K6: 1 | L6: =CONCATENATE(J6,"-",K6) -> 1-1 | M6: =IF(F6=0,"oui","non") -> non | N6: =IF(E6=0,"oui","non") -> non | O6: =IF(E6>F6,"victoire",IF(E6=F6,"nul","defaite")) -> victoire | P6: =IF(F6>E6,"victoire",IF(E6=F6,"nul","defaite")) -> defaite | Q6: =E6+F6 -> 4 | R6: =J6+K6 -> 2 | S6: =IF((Q6-R6)>R6,"deuxieme mi temps",IF((Q6-R6)=R6,"aucune","premiere")) -> aucune | T6: =IF((E6-J6)>J6,"deuxieme mi temps",IF((E6-J6)=J6,"aucune","premiere mi temps")) -> deuxieme mi temps | U6: =IF((F6-K6)>K6,"deuxieme mi temps",IF((F6-K6)=K6,"aucune","premiere mi temps")) -> premiere mi temps | V6: =IF((E6-F6)=1,"oui","non") -> non | W6: =IF((E6-F6)=2,"oui","non") -> oui | X6: =IF((E6-F6)=3,"oui","non") -> non | Y6: =IF((E6-F6)>3,"oui","non") -> non | Z6: =IF((E6-F6)=-1,"oui","non") -> non | AA6: =IF((E6-F6)=-2,"oui","non") -> non | AB6: =IF((E6-F6)=-3,"oui","non") -> non | AC6: =IF((F6-E6)>3,"oui","non") -> non | AD6: =IF((E6>0)*AND(F6>0),"oui","non") -> oui | AE6: =IF((J6>0)*AND(K6>0),"oui","non") -> oui
A7: Ligue 1 | B7: Montpellier | C7: Dijon | D7: 1 | E7: 1 | F7: 2 | G7: =CONCATENATE(E7,"-",F7) -> 1-2 | H7: Mendes | I7: Tavares ; Coulibaly | J7: 1 | K7: 0 | L7: =CONCATENATE(J7,"-",K7) -> 1-0 | M7: =IF(F7=0,"oui","non") -> non | N7: =IF(E7=0,"oui","non") -> non | O7: =IF(E7>F7,"victoire",IF(E7=F7,"nul","defaite")) -> defaite | P7: =IF(F7>E7,"victoire",IF(E7=F7,"nul","defaite")) -> victoire | Q7: =E7+F7 -> 3 | R7: =J7+K7 -> 1 | S7: =IF((Q7-R7)>R7,"deuxieme mi temps",IF((Q7-R7)=R7,"aucune","premiere")) -> deuxieme mi temps | T7: =IF((E7-J7)>J7,"deuxieme mi temps",IF((E7-J7)=J7,"aucune","premiere mi temps")) -> premiere mi temps | U7: =IF((F7-K7)>K7,"deuxieme mi temps",IF((F7-K7)=K7,"aucune","premiere mi temps")) -> deuxieme mi temps | V7: =IF((E7-F7)=1,"oui","non") -> non | W7: =IF((E7-F7)=2,"oui","non") -> non | X7: =IF((E7-F7)=3,"oui","non") -> non | Y7: =IF((E7-F7)>3,"oui","non") -> non | Z7: =IF((E7-F7)=-1,"oui","non") -> oui | AA7: =IF((E7-F7)=-2,"oui","non") -> non | AB7: =IF((E7-F7)=-3,"oui","non") -> non | AC7: =IF((F7-E7)>3,"oui","non") -> non | AD7: =IF((E7>0)*AND(F7>0),"oui","non") -> oui | AE7: =IF((J7>0)*AND(K7>0),"oui","non") -> non
A8: Ligue 1 | B8: Nice | C8: Reims | D8: 1 | E8: 0 | F8: 1 | G8: =CONCATENATE(E8,"-",F8) -> 0-1 | H8: - | I8: Doumbia | J8: 0 | K8: 1 | L8: =CONCATENATE(J8,"-",K8) -> 0-1 | M8: =IF(F8=0,"oui","non") -> non | N8: =IF(E8=0,"oui","non") -> oui | O8: =IF(E8>F8,"victoire",IF(E8=F8,"nul","defaite")) -> defaite | P8: =IF(F8>E8,"victoire",IF(E8=F8,"nul","defaite")) -> victoire | Q8: =E8+F8 -> 1 | R8: =J8+K8 -> 1 | S8: =IF((Q8-R8)>R8,"deuxieme mi temps",IF((Q8-R8)=R8,"aucune","premiere")) -> premiere | T8: =IF((E8-J8)>J8,"deuxieme mi temps",IF((E8-J8)=J8,"aucune","premiere mi temps")) -> aucune | U8: =IF((F8-K8)>K8,"deuxieme mi temps",IF((F8-K8)=K8,"aucune","premiere mi temps")) -> premiere mi temps | V8: =IF((E8-F8)=1,"oui","non") -> non | W8: =IF((E8-F8)=2,"oui","non") -> non | X8: =IF((E8-F8)=3,"oui","non") -> non | Y8: =IF((E8-F8)>3,"oui","non") -> non | Z8: =IF((E8-F8)=-1,"oui","non") -> oui | AA8: =IF((E8-F8)=-2,"oui","non") -> non | AB8: =IF((E8-F8)=-3,"oui","non") -> non | AC8: =IF((F8-E8)>3,"oui","non") -> non | AD8: =IF((E8>0)*AND(F8>0),"oui","non") -> non | AE8: =IF((J8>0)*AND(K8>0),"oui","non") -> non
A9: Ligue 1 | B9: Saint Etienne | C9: Guingamp | D9: 1 | E9: 2 | F9: 1 | G9: =CONCATENATE(E9,"-",F9) -> 2-1 | H9: Khazri; Diony | I9: Thuram | J9: 1 | K9: 0 | L9: =CONCATENATE(J9,"-",K9) -> 1-0 | M9: =IF(F9=0,"oui","non") -> non | N9: =IF(E9=0,"oui","non") -> non | O9: =IF(E9>F9,"victoire",IF(E9=F9,"nul","defaite")) -> victoire | P9: =IF(F9>E9,"victoire",IF(E9=F9,"nul","defaite")) -> defaite | Q9: =E9+F9 -> 3 | R9: =J9+K9 -> 1 | S9: =IF((Q9-R9)>R9,"deuxieme mi temps",IF((Q9-R9)=R9,"aucune","premiere")) -> deuxieme mi temps | T9: =IF((E9-J9)>J9,"deuxieme mi temps",IF((E9-J9)=J9,"aucune","premiere mi temps")) -> aucune | U9: =IF((F9-K9)>K9,"deuxieme mi temps",IF((F9-K9)=K9,"aucune","premiere mi temps")) -> deuxieme mi temps | V9: =IF((E9-F9)=1,"oui","non") -> oui | W9: =IF((E9-F9)=2,"oui","non") -> non | X9: =IF((E9-F9)=3,"oui","non") -> non | Y9: =IF((E9-F9)>3,"oui","non") -> non | Z9: =IF((E9-F9)=-1,"oui","non") -> non | AA9: =IF((E9-F9)=-2,"oui","non") -> non | AB9: =IF((E9-F9)=-3,"oui","non") -> non | AC9: =IF((F9-E9)>3,"oui","non") -> non | AD9: =IF((E9>0)*AND(F9>0),"oui","non") -> oui | AE9: =IF((J9>0)*AND(K9>0),"oui","non") -> non
A10: Ligue 1 | B10: Nantes | C10: Monaco | D10: 1 | E10: 1 | F10: 3 | G10: =CONCATENATE(E10,"-",F10) -> 1-3 | H10: Sala | I10: Rony Lopes; Jovetic ; Falcao | J10: 0 | K10: 0 | L10: =CONCATENATE(J10,"-",K10) -> 0-0 | M10: =IF(F10=0,"oui","non") -> non | N10: =IF(E10=0,"oui","non") -> non | O10: =IF(E10>F10,"victoire",IF(E10=F10,"nul","defaite")) -> defaite | P10: =IF(F10>E10,"victoire",IF(E10=F10,"nul","defaite")) -> victoire | Q10: =E10+F10 -> 4 | R10: =J10+K10 -> 0 | S10: =IF((Q10-R10)>R10,"deuxieme mi temps",IF((Q10-R10)=R10,"aucune","premiere")) -> deuxieme mi temps | T10: =IF((E10-J10)>J10,"deuxieme mi temps",IF((E10-J10)=J10,"aucune","premiere mi temps")) -> deuxieme mi temps | U10: =IF((F10-K10)>K10,"deuxieme mi temps",IF((F10-K10)=K10,"aucune","premiere mi temps")) -> deuxieme mi temps | V10: =IF((E10-F10)=1,"oui","non") -> non | W10: =IF((E10-F10)=2,"oui","non") -> non | X10: =IF((E10-F10)=3,"oui","non") -> non | Y10: =IF((E10-F10)>3,"oui","non") -> non | Z10: =IF((E10-F10)=-1,"oui","non") -> non | AA10: =IF((E10-F10)=-2,"oui","non") -> oui | AB10: =IF((E10-F10)=-3,"oui","non") -> non | AC10: =IF((F10-E10)>3,"oui","non") -> non | AD10: =IF((E10>0)*AND(F10>0),"oui","non") -> oui | AE10: =IF((J10>0)*AND(K10>0),"oui","non") -> non
A11: Ligue 1 | B11: Marseille | C11: Toulouse | D11: 1 | E11: 4 | F11: 0 | G11: =CONCATENATE(E11,"-",F11) -> 4-0 | H11: Payet ; Germain; Thauvin | I11: - | J11: 1 | K11: 0 | L11: =CONCATENATE(J11,"-",K11) -> 1-0 | M11: =IF(F11=0,"oui","non") -> oui | N11: =IF(E11=0,"oui","non") -> non | O11: =IF(E11>F11,"victoire",IF(E11=F11,"nul","defaite")) -> victoire | P11: =IF(F11>E11,"victoire",IF(E11=F11,"nul","defaite")) -> defaite | Q11: =E11+F11 -> 4 | R11: =J11+K11 -> 1 | S11: =IF((Q11-R11)>R11,"deuxieme mi temps",IF((Q11-R11)=R11,"aucune","premiere")) -> deuxieme mi temps | T11: =IF((E11-J11)>J11,"deuxieme mi temps",IF((E11-J11)=J11,"aucune","premiere mi temps")) -> deuxieme mi temps | U11: =IF((F11-K11)>K11,"deuxieme mi temps",IF((F11-K11)=K11,"aucune","premiere mi temps")) -> aucune | V11: =IF((E11-F11)=1,"oui","non") -> non | W11: =IF((E11-F11)=2,"oui","non") -> non | X11: =IF((E11-F11)=3,"oui","non") -> non | Y11: =IF((E11-F11)>3,"oui","non") -> oui | Z11: =IF((E11-F11)=-1,"oui","non") -> non | AA11: =IF((E11-F11)=-2,"oui","non") -> non | AB11: =IF((E11-F11)=-3,"oui","non") -> non | AC11: =IF((F11-E11)>3,"oui","non") -> non | AD11: =IF((E11>0)*AND(F11>0),"oui","non") -> non | AE11: =IF((J11>0)*AND(K11>0),"oui","non") -> non
A12: Ligue 1 | B12: nimes | C12: marseille | D12: 2 | E12: 3 | F12: 1 | G12: =CONCATENATE(E12,"-",F12) -> 3-1 | H12: Bouanga ; Thioub ; Ripart | I12: Thauvin | J12: 1 | K12: 0 | L12: =CONCATENATE(J12,"-",K12) -> 1-0 | M12: =IF(F12=0,"oui","non") -> non | N12: =IF(E12=0,"oui","non") -> non | O12: =IF(E12>F12,"victoire",IF(E12=F12,"nul","defaite")) -> victoire | P12: =IF(F12>E12,"victoire",IF(E12=F12,"nul","defaite")) -> defaite | Q12: =E12+F12 -> 4 | R12: =J12+K12 -> 1 | S12: =IF((Q12-R12)>R12,"deuxieme mi temps",IF((Q12-R12)=R12,"aucune","premiere")) -> deuxieme mi temps | T12: =IF((E12-J12)>J12,"deuxieme mi temps",IF((E12-J12)=J12,"aucune","premiere mi temps")) -> deuxieme mi temps | U12: =IF((F12-K12)>K12,"deuxieme mi temps",IF((F12-K12)=K12,"aucune","premiere mi temps")) -> deuxieme mi temps | V12: =IF((E12-F12)=1,"oui","non") -> non | W12: =IF((E12-F12)=2,"oui","non") -> oui | X12: =IF((E12-F12)=3,"oui","non") -> non | Y12: =IF((E12-F12)>3,"oui","non") -> non | Z12: =IF((E12-F12)=-1,"oui","non") -> non | AA12: =IF((E12-F12)=-2,"oui","non") -> non | AB12: =IF((E12-F12)=-3,"oui","non") -> non | AC12: =IF((F12-E12)>3,"oui","non") -> non | AD12: =IF((E12>0)*AND(F12>0),"oui","non") -> oui | AE12: =IF((J12>0)*AND(K12>0),"oui","non") -> non
A13: Ligue 1 | B13: toulouse | C13: bordeaux | D13: 2 | E13: 2 | F13: 1 | G13: =CONCATENATE(E13,"-",F13) -> 2-1 | H13: Leya; Dossevi | I13: Kamano | J13: 1 | K13: 0 | L13: =CONCATENATE(J13,"-",K13) -> 1-0 | M13: =IF(F13=0,"oui","non") -> non | N13: =IF(E13=0,"oui","non") -> non | O13: =IF(E13>F13,"victoire",IF(E13=F13,"nul","defaite")) -> victoire | P13: =IF(F13>E13,"victoire",IF(E13=F13,"nul","defaite")) -> defaite | Q13: =E13+F13 -> 3 | R13: =J13+K13 -> 1 | S13: =IF((Q13-R13)>R13,"deuxieme mi temps",IF((Q13-R13)=R13,"aucune","premiere")) -> deuxieme mi temps | T13: =IF((E13-J13)>J13,"deuxieme mi temps",IF((E13-J13)=J13,"aucune","premiere mi temps")) -> aucune | U13: =IF((F13-K13)>K13,"deuxieme mi temps",IF((F13-K13)=K13,"aucune","premiere mi temps")) -> deuxieme mi temps | V13: =IF((E13-F13)=1,"oui","non") -> oui | W13: =IF((E13-F13)=2,"oui","non") -> non | X13: =IF((E13-F13)=3,"oui","non") -> non | Y13: =IF((E13-F13)>3,"oui","non") -> non | Z13: =IF((E13-F13)=-1,"oui","non") -> non | AA13: =IF((E13-F13)=-2,"oui","non") -> non | AB13: =IF((E13-F13)=-3,"oui","non") -> non | AC13: =IF((F13-E13)>3,"oui","non") -> non | AD13: =IF((E13>0)*AND(F13>0),"oui","non") -> oui | AE13: =IF((J13>0)*AND(K13>0),"oui","non") -> non
A14: Ligue 1 | B14: strasbourg | C14: saint etienne | D14: 2 | E14: 1 | F14: 1 | G14: =CONCATENATE(E14,"-",F14) -> 1-1 | H14: Goncalves | I14: Gueye | J14: 0 | K14: 0 | L14: =CONCATENATE(J14,"-",K14) -> 0-0 | M14: =IF(F14=0,"oui","non") -> non | N14: =IF(E14=0,"oui","non") -> non | O14: =IF(E14>F14,"victoire",IF(E14=F14,"nul","defaite")) -> nul | P14: =IF(F14>E14,"victoire",IF(E14=F14,"nul","defaite")) -> nul | Q14: =E14+F14 -> 2 | R14: =J14+K14 -> 0 | S14: =IF((Q14-R14)>R14,"deuxieme mi temps",IF((Q14-R14)=R14,"aucune","premiere")) -> deuxieme mi temps | T14: =IF((E14-J14)>J14,"deuxieme mi temps",IF((E14-J14)=J14,"aucune","premiere mi temps")) -> deuxieme mi temps | U14: =IF((F14-K14)>K14,"deuxieme mi temps",IF((F14-K14)=K14,"aucune","premiere mi temps")) -> deuxieme mi temps | V14: =IF((E14-F14)=1,"oui","non") -> non | W14: =IF((E14-F14)=2,"oui","non") -> non | X14: =IF((E14-F14)=3,"oui","non") -> non | Y14: =IF((E14-F14)>3,"oui","non") -> non | Z14: =IF((E14-F14)=-1,"oui","non") -> non | AA14: =IF((E14-F14)=-2,"oui","non") -> non | AB14: =IF((E14-F14)=-3,"oui","non") -> non | AC14: =IF((F14-E14)>3,"oui","non") -> non | AD14: =IF((E14>0)*AND(F14>0),"oui","non") -> oui | AE14: =IF((J14>0)*AND(K14>0),"oui","non") -> non
... A16: Ligue 1 | B16: caen | C16: nice | D16: 2 | E16: 1 | F16: 1 | G16: =CONCATENATE(E16,"-",F16) -> 1-1 | H16: Bammou | I16: Ganago | J16: 0 | K16: 0 | L16: =CONCATENATE(J16,"-",K16) -> 0-0 | M16: =IF(F16=0,"oui","non") -> non | N16: =IF(E16=0,"oui","non") -> non | O16: =IF(E16>F16,"victoire",IF(E16=F16,"nul","defaite")) -> nul | P16: =IF(F16>E16,"victoire",IF(E16=F16,"nul","defaite")) -> nul | Q16: =E16+F16 -> 2 | R16: =J16+K16 -> 0 | S16: =IF((Q16-R16)>R16,"deuxieme mi temps",IF((Q16-R16)=R16,"aucune","premiere")) -> deuxieme mi temps | T16: =IF((E16-J16)>J16,"deuxieme mi temps",IF((E16-J16)=J16,"aucune","premiere mi temps")) -> deuxieme mi temps | U16: =IF((F16-K16)>K16,"deuxieme mi temps",IF((F16-K16)=K16,"aucune","premiere mi temps")) -> deuxieme mi temps | V16: =IF((E16-F16)=1,"oui","non") -> non | W16: =IF((E16-F16)=2,"oui","non") -> non | X16: =IF((E16-F16)=3,"oui","non") -> non | Y16: =IF((E16-F16)>3,"oui","non") -> non | Z16: =IF((E16-F16)=-1,"oui","non") -> non | AA16: =IF((E16-F16)=-2,"oui","non") -> non | AB16: =IF((E16-F16)=-3,"oui","non") -> non | AC16: =IF((F16-E16)>3,"oui","non") -> non | AD16: =IF((E16>0)*AND(F16>0),"oui","non") -> oui | AE16: =IF((J16>0)*AND(K16>0),"oui","non") -> non
A17: Ligue 1 | B17: dijon | C17: nantes | D17: 2 | E17: 2 | F17: 0 | G17: =CONCATENATE(E17,"-",F17) -> 2-0 | H17: Tavares | J17: 1 | K17: 0 | L17: =CONCATENATE(J17,"-",K17) -> 1-0 | M17: =IF(F17=0,"oui","non") -> oui | N17: =IF(E17=0,"oui","non") -> non | O17: =IF(E17>F17,"victoire",IF(E17=F17,"nul","defaite")) -> victoire | P17: =IF(F17>E17,"victoire",IF(E17=F17,"nul","defaite")) -> defaite | Q17: =E17+F17 -> 2 | R17: =J17+K17 -> 1 | S17: =IF((Q17-R17)>R17,"deuxieme mi temps",IF((Q17-R17)=R17,"aucune","premiere")) -> aucune | T17: =IF((E17-J17)>J17,"deuxieme mi temps",IF((E17-J17)=J17,"aucune","premiere mi temps")) -> aucune | U17: =IF((F17-K17)>K17,"deuxieme mi temps",IF((F17-K17)=K17,"aucune","premiere mi temps")) -> aucune | V17: =IF((E17-F17)=1,"oui","non") -> non | W17: =IF((E17-F17)=2,"oui","non") -> oui | X17: =IF((E17-F17)=3,"oui","non") -> non | Y17: =IF((E17-F17)>3,"oui","non") -> non | Z17: =IF((E17-F17)=-1,"oui","non") -> non | AA17: =IF((E17-F17)=-2,"oui","non") -> non | AB17: =IF((E17-F17)=-3,"oui","non") -> non | AC17: =IF((F17-E17)>3,"oui","non") -> non | AD17: =IF((E17>0)*AND(F17>0),"oui","non") -> non | AE17: =IF((J17>0)*AND(K17>0),"oui","non") -> non
A18: Ligue 1 | B18: Monaco | C18: lille | D18: 2 | E18: 0 | F18: 0 | G18: =CONCATENATE(E18,"-",F18) -> 0-0 | H18: - | I18: - | J18: 0 | K18: 0 | L18: =CONCATENATE(J18,"-",K18) -> 0-0 | M18: =IF(F18=0,"oui","non") -> oui | N18: =IF(E18=0,"oui","non") -> oui | O18: =IF(E18>F18,"victoire",IF(E18=F18,"nul","defaite")) -> nul | P18: =IF(F18>E18,"victoire",IF(E18=F18,"nul","defaite")) -> nul | Q18: =E18+F18 -> 0 | R18: =J18+K18 -> 0 | S18: =IF((Q18-R18)>R18,"deuxieme mi temps",IF((Q18-R18)=R18,"aucune","premiere")) -> aucune | T18: =IF((E18-J18)>J18,"deuxieme mi temps",IF((E18-J18)=J18,"aucune","premiere mi temps")) -> aucune | U18: =IF((F18-K18)>K18,"deuxieme mi temps",IF((F18-K18)=K18,"aucune","premiere mi temps")) -> aucune | V18: =IF((E18-F18)=1,"oui","non") -> non | W18: =IF((E18-F18)=2,"oui","non") -> non | X18: =IF((E18-F18)=3,"oui","non") -> non | Y18: =IF((E18-F18)>3,"oui","non") -> non | Z18: =IF((E18-F18)=-1,"oui","non") -> non | AA18: =IF((E18-F18)=-2,"oui","non") -> non | AB18: =IF((E18-F18)=-3,"oui","non") -> non | AC18: =IF((F18-E18)>3,"oui","non") -> non | AD18: =IF((E18>0)*AND(F18>0),"oui","non") -> non | AE18: =IF((J18>0)*AND(K18>0),"oui","non") -> non
A19: Ligue 1 | B19: rennes | C19: angers | D19: 2 | E19: 1 | F19: 0 | G19: =CONCATENATE(E19,"-",F19) -> 1-0 | H19: Sarr | I19: - | J19: 0 | K19: 0 | L19: =CONCATENATE(J19,"-",K19) -> 0-0 | M19: =IF(F19=0,"oui","non") -> oui | N19: =IF(E19=0,"oui","non") -> non | O19: =IF(E19>F19,"victoire",IF(E19=F19,"nul","defaite")) -> victoire | P19: =IF(F19>E19,"victoire",IF(E19=F19,"nul","defaite")) -> defaite | Q19: =E19+F19 -> 1 | R19: =J19+K19 -> 0 | S19: =IF((Q19-R19)>R19,"deuxieme mi temps",IF((Q19-R19)=R19,"aucune","premiere")) -> deuxieme mi temps | T19: =IF((E19-J19)>J19,"deuxieme mi temps",IF((E19-J19)=J19,"aucune","premiere mi temps")) -> deuxieme mi temps | U19: =IF((F19-K19)>K19,"deuxieme mi temps",IF((F19-K19)=K19,"aucune","premiere mi temps")) -> aucune | V19: =IF((E19-F19)=1,"oui","non") -> oui | W19: =IF((E19-F19)=2,"oui","non") -> non | X19: =IF((E19-F19)=3,"oui","non") -> non | Y19: =IF((E19-F19)>3,"oui","non") -> non | Z19: =IF((E19-F19)=-1,"oui","non") -> non | AA19: =IF((E19-F19)=-2,"oui","non") -> non | AB19: =IF((E19-F19)=-3,"oui","non") -> non | AC19: =IF((F19-E19)>3,"oui","non") -> non | AD19: =IF((E19>0)*AND(F19>0),"oui","non") -> non | AE19: =IF((J19>0)*AND(K19>0),"oui","non") -> non
A20: Ligue 1 | B20: guingamp | C20: PSG | D20: 2 | E20: 1 | F20: 3 | G20: =CONCATENATE(E20,"-",F20) -> 1-3 | H20: Roux | I20: Neymar ; Mbappe | J20: 1 | K20: 0 | L20: =CONCATENATE(J20,"-",K20) -> 1-0 | M20: =IF(F20=0,"oui","non") -> non | N20: =IF(E20=0,"oui","non") -> non | O20: =IF(E20>F20,"victoire",IF(E20=F20,"nul","defaite")) -> defaite | P20: =IF(F20>E20,"victoire",IF(E20=F20,"nul","defaite")) -> victoire | Q20: =E20+F20 -> 4 | R20: =J20+K20 -> 1 | S20: =IF((Q20-R20)>R20,"deuxieme mi temps",IF((Q20-R20)=R20,"aucune","premiere")) -> deuxieme mi temps | T20: =IF((E20-J20)>J20,"deuxieme mi temps",IF((E20-J20)=J20,"aucune","premiere mi temps")) -> premiere mi temps | U20: =IF((F20-K20)>K20,"deuxieme mi temps",IF((F20-K20)=K20,"aucune","premiere mi temps")) -> deuxieme mi temps | V20: =IF((E20-F20)=1,"oui","non") -> non | W20: =IF((E20-F20)=2,"oui","non") -> non | X20: =IF((E20-F20)=3,"oui","non") -> non | Y20: =IF((E20-F20)>3,"oui","non") -> non | Z20: =IF((E20-F20)=-1,"oui","non") -> non | AA20: =IF((E20-F20)=-2,"oui","non") -> oui | AB20: =IF((E20-F20)=-3,"oui","non") -> non | AC20: =IF((F20-E20)>3,"oui","non") -> non | AD20: =IF((E20>0)*AND(F20>0),"oui","non") -> oui | AE20: =IF((J20>0)*AND(K20>0),"oui","non") -> non
A21: Ligue 1 | B21: Reims | C21: Lyon | D21: 2 | E21: 1 | F21: 0 | G21: =CONCATENATE(E21,"-",F21) -> 1-0 | H21: Chavaria | I21: - | J21: 1 | K21: 0 | L21: =CONCATENATE(J21,"-",K21) -> 1-0 | M21: =IF(F21=0,"oui","non") -> oui | N21: =IF(E21=0,"oui","non") -> non | O21: =IF(E21>F21,"victoire",IF(E21=F21,"nul","defaite")) -> victoire | P21: =IF(F21>E21,"victoire",IF(E21=F21,"nul","defaite")) -> defaite | Q21: =E21+F21 -> 1 | R21: =J21+K21 -> 1 | S21: =IF((Q21-R21)>R21,"deuxieme mi temps",IF((Q21-R21)=R21,"aucune","premiere")) -> premiere | T21: =IF((E21-J21)>J21,"deuxieme mi temps",IF((E21-J21)=J21,"aucune","premiere mi temps")) -> premiere mi temps | U21: =IF((F21-K21)>K21,"deuxieme mi temps",IF((F21-K21)=K21,"aucune","premiere mi temps")) -> aucune | V21: =IF((E21-F21)=1,"oui","non") -> oui | W21: =IF((E21-F21)=2,"oui","non") -> non | X21: =IF((E21-F21)=3,"oui","non") -> non | Y21: =IF((E21-F21)>3,"oui","non") -> non | Z21: =IF((E21-F21)=-1,"oui","non") -> non | AA21: =IF((E21-F21)=-2,"oui","non") -> non | AB21: =IF((E21-F21)=-3,"oui","non") -> non | AC21: =IF((F21-E21)>3,"oui","non") -> non | AD21: =IF((E21>0)*AND(F21>0),"oui","non") -> non | AE21: =IF((J21>0)*AND(K21>0),"oui","non") -> non
A22: Ligue 1 | B22: Marseille | C22: Rennes | D22: 3 | E22: 2 | F22: 2 | G22: =CONCATENATE(E22,"-",F22) -> 2-2 | J22: 0 | K22: 2 | L22: =CONCATENATE(J22,"-",K22) -> 0-2 | M22: =IF(F22=0,"oui","non") -> non | N22: =IF(E22=0,"oui","non") -> non | O22: =IF(E22>F22,"victoire",IF(E22=F22,"nul","defaite")) -> nul | P22: =IF(F22>E22,"victoire",IF(E22=F22,"nul","defaite")) -> nul | Q22: =E22+F22 -> 4 | R22: =J22+K22 -> 2 | S22: =IF((Q22-R22)>R22,"deuxieme mi temps",IF((Q22-R22)=R22,"aucune","premiere")) -> aucune | T22: =IF((E22-J22)>J22,"deuxieme mi temps",IF((E22-J22)=J22,"aucune","premiere mi temps")) -> deuxieme mi temps | U22: =IF((F22-K22)>K22,"deuxieme mi temps",IF((F22-K22)=K22,"aucune","premiere mi temps")) -> premiere mi temps | V22: =IF((E22-F22)=1,"oui","non") -> non | W22: =IF((E22-F22)=2,"oui","non") -> non | X22: =IF((E22-F22)=3,"oui","non") -> non | Y22: =IF((E22-F22)>3,"oui","non") -> non | Z22: =IF((E22-F22)=-1,"oui","non") -> non | AA22: =IF((E22-F22)=-2,"oui","non") -> non | AB22: =IF((E22-F22)=-3,"oui","non") -> non | AC22: =IF((F22-E22)>3,"oui","non") -> non | AD22: =IF((E22>0)*AND(F22>0),"oui","non") -> oui | AE22: =IF((J22>0)*AND(K22>0),"oui","non") -> non
A23: Ligue 1 | B23: Bordeaux | C23: Monaco | D23: 3 | E23: 2 | F23: 1 | G23: =CONCATENATE(E23,"-",F23) -> 2-1 | J23: 0 | K23: 0 | L23: =CONCATENATE(J23,"-",K23) -> 0-0 | M23: =IF(F23=0,"oui","non") -> non | N23: =IF(E23=0,"oui","non") -> non | O23: =IF(E23>F23,"victoire",IF(E23=F23,"nul","defaite")) -> victoire | P23: =IF(F23>E23,"victoire",IF(E23=F23,"nul","defaite")) -> defaite | Q23: =E23+F23 -> 3 | R23: =J23+K23 -> 0 | S23: =IF((Q23-R23)>R23,"deuxieme mi temps",IF((Q23-R23)=R23,"aucune","premiere")) -> deuxieme mi temps | T23: =IF((E23-J23)>J23,"deuxieme mi temps",IF((E23-J23)=J23,"aucune","premiere mi temps")) -> deuxieme mi temps | U23: =IF((F23-K23)>K23,"deuxieme mi temps",IF((F23-K23)=K23,"aucune","premiere mi temps")) -> deuxieme mi temps | V23: =IF((E23-F23)=1,"oui","non") -> oui | W23: =IF((E23-F23)=2,"oui","non") -> non | X23: =IF((E23-F23)=3,"oui","non") -> non | Y23: =IF((E23-F23)>3,"oui","non") -> non | Z23: =IF((E23-F23)=-1,"oui","non") -> non | AA23: =IF((E23-F23)=-2,"oui","non") -> non | AB23: =IF((E23-F23)=-3,"oui","non") -> non | AC23: =IF((F23-E23)>3,"oui","non") -> non | AD23: =IF((E23>0)*AND(F23>0),"oui","non") -> oui | AE23: =IF((J23>0)*AND(K23>0),"oui","non") -> non
A24: Ligue 1 | B24: lille | C24: Guingamp | D24: 3 | E24: 3 | F24: 0 | G24: =CONCATENATE(E24,"-",F24) -> 3-0 | J24: 2 | K24: 0 | L24: =CONCATENATE(J24,"-",K24) -> 2-0 | M24: =IF(F24=0,"oui","non") -> oui | N24: =IF(E24=0,"oui","non") -> non | O24: =IF(E24>F24,"victoire",IF(E24=F24,"nul","defaite")) -> victoire | P24: =IF(F24>E24,"victoire",IF(E24=F24,"nul","defaite")) -> defaite | Q24: =E24+F24 -> 3 | R24: =J24+K24 -> 2 | S24: =IF((Q24-R24)>R24,"deuxieme mi temps",IF((Q24-R24)=R24,"aucune","premiere")) -> premiere | T24: =IF((E24-J24)>J24,"deuxieme mi temps",IF((E24-J24)=J24,"aucune","premiere mi temps")) -> premiere mi temps | U24: =IF((F24-K24)>K24,"deuxieme mi temps",IF((F24-K24)=K24,"aucune","premiere mi temps")) -> aucune | V24: =IF((E24-F24)=1,"oui","non") -> non | W24: =IF((E24-F24)=2,"oui","non") -> non | X24: =IF((E24-F24)=3,"oui","non") -> oui | Y24: =IF((E24-F24)>3,"oui","non") -> non | Z24: =IF((E24-F24)=-1,"oui","non") -> non | AA24: =IF((E24-F24)=-2,"oui","non") -> non | AB24: =IF((E24-F24)=-3,"oui","non") -> non | AC24: =IF((F24-E24)>3,"oui","non") -> non | AD24: =IF((E24>0)*AND(F24>0),"oui","non") -> non | AE24: =IF((J24>0)*AND(K24>0),"oui","non") -> non
A25: Ligue 1 | B25: amiens | C25: Reims | D25: 3 | E25: 4 | F25: 1 | G25: =CONCATENATE(E25,"-",F25) -> 4-1 | J25: 1 | K25: 0 | L25: =CONCATENATE(J25,"-",K25) -> 1-0 | M25: =IF(F25=0,"oui","non") -> non | N25: =IF(E25=0,"oui","non") -> non | O25: =IF(E25>F25,"victoire",IF(E25=F25,"nul","defaite")) -> victoire | P25: =IF(F25>E25,"victoire",IF(E25=F25,"nul","defaite")) -> defaite | Q25: =E25+F25 -> 5 | R25: =J25+K25 -> 1 | S25: =IF((Q25-R25)>R25,"deuxieme mi temps",IF((Q25-R25)=R25,"aucune","premiere")) -> deuxieme mi temps | T25: =IF((E25-J25)>J25,"deuxieme mi temps",IF((E25-J25)=J25,"aucune","premiere mi temps")) -> deuxieme mi temps | U25: =IF((F25-K25)>K25,"deuxieme mi temps",IF((F25-K25)=K25,"aucune","premiere mi temps")) -> deuxieme mi temps | V25: =IF((E25-F25)=1,"oui","non") -> non | W25: =IF((E25-F25)=2,"oui","non") -> non | X25: =IF((E25-F25)=3,"oui","non") -> oui | Y25: =IF((E25-F25)>3,"oui","non") -> non | Z25: =IF((E25-F25)=-1,"oui","non") -> non | AA25: =IF((E25-F25)=-2,"oui","non") -> non | AB25: =IF((E25-F25)=-3,"oui","non") -> non | AC25: =IF((F25-E25)>3,"oui","non") -> non | AD25: =IF((E25>0)*AND(F25>0),"oui","non") -> oui | AE25: =IF((J25>0)*AND(K25>0),"oui","non") -> non
A26: Ligue 1 | B26: Montpellier | C26: saint etienne | D26: 3 | E26: 0 | F26: 0 | G26: =CONCATENATE(E26,"-",F26) -> 0-0 | J26: 0 | K26: 0 | L26: =CONCATENATE(J26,"-",K26) -> 0-0 | M26: =IF(F26=0,"oui","non") -> oui | N26: =IF(E26=0,"oui","non") -> oui | O26: =IF(E26>F26,"victoire",IF(E26=F26,"nul","defaite")) -> nul | P26: =IF(F26>E26,"victoire",IF(E26=F26,"nul","defaite")) -> nul | Q26: =E26+F26 -> 0 | R26: =J26+K26 -> 0 | S26: =IF((Q26-R26)>R26,"deuxieme mi temps",IF((Q26-R26)=R26,"aucune","premiere")) -> aucune | T26: =IF((E26-J26)>J26,"deuxieme mi temps",IF((E26-J26)=J26,"aucune","premiere mi temps")) -> aucune | U26: =IF((F26-K26)>K26,"deuxieme mi temps",IF((F26-K26)=K26,"aucune","premiere mi temps")) -> aucune | V26: =IF((E26-F26)=1,"oui","non") -> non | W26: =IF((E26-F26)=2,"oui","non") -> non | X26: =IF((E26-F26)=3,"oui","non") -> non | Y26: =IF((E26-F26)>3,"oui","non") -> non | Z26: =IF((E26-F26)=-1,"oui","non") -> non | AA26: =IF((E26-F26)=-2,"oui","non") -> non | AB26: =IF((E26-F26)=-3,"oui","non") -> non | AC26: =IF((F26-E26)>3,"oui","non") -> non | AD26: =IF((E26>0)*AND(F26>0),"oui","non") -> non | AE26: =IF((J26>0)*AND(K26>0),"oui","non") -> non
A27: Ligue 1 | B27: Nantes | C27: Caen | D27: 3 | E27: 1 | F27: 1 | G27: =CONCATENATE(E27,"-",F27) -> 1-1 | J27: 0 | K27: 1 | L27: =CONCATENATE(J27,"-",K27) -> 0-1 | M27: =IF(F27=0,"oui","non") -> non | N27: =IF(E27=0,"oui","non") -> non | O27: =IF(E27>F27,"victoire",IF(E27=F27,"nul","defaite")) -> nul | P27: =IF(F27>E27,"victoire",IF(E27=F27,"nul","defaite")) -> nul | Q27: =E27+F27 -> 2 | R27: =J27+K27 -> 1 | S27: =IF((Q27-R27)>R27,"deuxieme mi temps",IF((Q27-R27)=R27,"aucune","premiere")) -> aucune | T27: =IF((E27-J27)>J27,"deuxieme mi temps",IF((E27-J27)=J27,"aucune","premiere mi temps")) -> deuxieme mi temps | U27: =IF((F27-K27)>K27,"deuxieme mi temps",IF((F27-K27)=K27,"aucune","premiere mi temps")) -> premiere mi temps | V27: =IF((E27-F27)=1,"oui","non") -> non | W27: =IF((E27-F27)=2,"oui","non") -> non | X27: =IF((E27-F27)=3,"oui","non") -> non | Y27: =IF((E27-F27)>3,"oui","non") -> non | Z27: =IF((E27-F27)=-1,"oui","non") -> non | AA27: =IF((E27-F27)=-2,"oui","non") -> non | AB27: =IF((E27-F27)=-3,"oui","non") -> non | AC27: =IF((F27-E27)>3,"oui","non") -> non | AD27: =IF((E27>0)*AND(F27>0),"oui","non") -> oui | AE27: =IF((J27>0)*AND(K27>0),"oui","non") -> non
A28: Ligue 1 | B28: Nice | C28: Dijon | D28: 3 | E28: 0 | F28: 4 | G28: =CONCATENATE(E28,"-",F28) -> 0-4 | J28: 0 | K28: 0 | L28: =CONCATENATE(J28,"-",K28) -> 0-0 | M28: =IF(F28=0,"oui","non") -> non | N28: =IF(E28=0,"oui","non") -> oui | O28: =IF(E28>F28,"victoire",IF(E28=F28,"nul","defaite")) -> defaite | P28: =IF(F28>E28,"victoire",IF(E28=F28,"nul","defaite")) -> victoire | Q28: =E28+F28 -> 4 | R28: =J28+K28 -> 0 | S28: =IF((Q28-R28)>R28,"deuxieme mi temps",IF((Q28-R28)=R28,"aucune","premiere")) -> deuxieme mi temps | T28: =IF((E28-J28)>J28,"deuxieme mi temps",IF((E28-J28)=J28,"aucune","premiere mi temps")) -> aucune | U28: =IF((F28-K28)>K28,"deuxieme mi temps",IF((F28-K28)=K28,"aucune","premiere mi temps")) -> deuxieme mi temps | V28: =IF((E28-F28)=1,"oui","non") -> non | W28: =IF((E28-F28)=2,"oui","non") -> non | X28: =IF((E28-F28)=3,"oui","non") -> non | Y28: =IF((E28-F28)>3,"oui","non") -> non | Z28: =IF((E28-F28)=-1,"oui","non") -> non | AA28: =IF((E28-F28)=-2,"oui","non") -> non | AB28: =IF((E28-F28)=-3,"oui","non") -> non | AC28: =IF((F28-E28)>3,"oui","non") -> oui | AD28: =IF((E28>0)*AND(F28>0),"oui","non") -> non | AE28: =IF((J28>0)*AND(K28>0),"oui","non") -> non
A29: Ligue 1 | B29: toulouse | C29: Nimes | D29: 3 | E29: 1 | F29: 0 | G29: =CONCATENATE(E29,"-",F29) -> 1-0 | J29: 0 | K29: 0 | L29: =CONCATENATE(J29,"-",K29) -> 0-0 | M29: =IF(F29=0,"oui","non") -> oui | N29: =IF(E29=0,"oui","non") -> non | O29: =IF(E29>F29,"victoire",IF(E29=F29,"nul","defaite")) -> victoire | P29: =IF(F29>E29,"victoire",IF(E29=F29,"nul","defaite")) -> defaite | Q29: =E29+F29 -> 1 | R29: =J29+K29 -> 0 | S29: =IF((Q29-R29)>R29,"deuxieme mi temps",IF((Q29-R29)=R29,"aucune","premiere")) -> deuxieme mi temps | T29: =IF((E29-J29)>J29,"deuxieme mi temps",IF((E29-J29)=J29,"aucune","premiere mi temps")) -> deuxieme mi temps | U29: =IF((F29-K29)>K29,"deuxieme mi temps",IF((F29-K29)=K29,"aucune","premiere mi temps")) -> aucune | V29: =IF((E29-F29)=1,"oui","non") -> oui | W29: =IF((E29-F29)=2,"oui","non") -> non | X29: =IF((E29-F29)=3,"oui","non") -> non | Y29: =IF((E29-F29)>3,"oui","non") -> non | Z29: =IF((E29-F29)=-1,"oui","non") -> non | AA29: =IF((E29-F29)=-2,"oui","non") -> non | AB29: =IF((E29-F29)=-3,"oui","non") -> non | AC29: =IF((F29-E29)>3,"oui","non") -> non | AD29: =IF((E29>0)*AND(F29>0),"oui","non") -> non | AE29: =IF((J29>0)*AND(K29>0),"oui","non") -> non
A30: Ligue 1 | B30: PSG | C30: angers | D30: 3 | E30: 3 | F30: 1 | G30: =CONCATENATE(E30,"-",F30) -> 3-1 | J30: 1 | K30: 1 | L30: =CONCATENATE(J30,"-",K30) -> 1-1 | M30: =IF(F30=0,"oui","non") -> non | N30: =IF(E30=0,"oui","non") -> non | O30: =IF(E30>F30,"victoire",IF(E30=F30,"nul","defaite")) -> victoire | P30: =IF(F30>E30,"victoire",IF(E30=F30,"nul","defaite")) -> defaite | Q30: =E30+F30 -> 4 | R30: =J30+K30 -> 2 | S30: =IF((Q30-R30)>R30,"deuxieme mi temps",IF((Q30-R30)=R30,"aucune","premiere")) -> aucune | T30: =IF((E30-J30)>J30,"deuxieme mi temps",IF((E30-J30)=J30,"aucune","premiere mi temps")) -> deuxieme mi temps | U30: =IF((F30-K30)>K30,"deuxieme mi temps",IF((F30-K30)=K30,"aucune","premiere mi temps")) -> premiere mi temps | V30: =IF((E30-F30)=1,"oui","non") -> non | W30: =IF((E30-F30)=2,"oui","non") -> oui | X30: =IF((E30-F30)=3,"oui","non") -> non | Y30: =IF((E30-F30)>3,"oui","non") -> non | Z30: =IF((E30-F30)=-1,"oui","non") -> non | AA30: =IF((E30-F30)=-2,"oui","non") -> non | AB30: =IF((E30-F30)=-3,"oui","non") -> non | AC30: =IF((F30-E30)>3,"oui","non") -> non | AD30: =IF((E30>0)*AND(F30>0),"oui","non") -> oui | AE30: =IF((J30>0)*AND(K30>0),"oui","non") -> oui
A31: Ligue 1 | B31: Lyon | C31: Strasbourg | D31: 3 | E31: 2 | F31: 0 | G31: =CONCATENATE(E31,"-",F31) -> 2-0 | J31: 1 | K31: 0 | L31: =CONCATENATE(J31,"-",K31) -> 1-0 | M31: =IF(F31=0,"oui","non") -> oui | N31: =IF(E31=0,"oui","non") -> non | O31: =IF(E31>F31,"victoire",IF(E31=F31,"nul","defaite")) -> victoire | P31: =IF(F31>E31,"victoire",IF(E31=F31,"nul","defaite")) -> defaite | Q31: =E31+F31 -> 2 | R31: =J31+K31 -> 1 | S31: =IF((Q31-R31)>R31,"deuxieme mi temps",IF((Q31-R31)=R31,"aucune","premiere")) -> aucune | T31: =IF((E31-J31)>J31,"deuxieme mi temps",IF((E31-J31)=J31,"aucune","premiere mi temps")) -> aucune | U31: =IF((F31-K31)>K31,"deuxieme mi temps",IF((F31-K31)=K31,"aucune","premiere mi temps")) -> aucune | V31: =IF((E31-F31)=1,"oui","non") -> non | W31: =IF((E31-F31)=2,"oui","non") -> oui | X31: =IF((E31-F31)=3,"oui","non") -> non | Y31: =IF((E31-F31)>3,"oui","non") -> non | Z31: =IF((E31-F31)=-1,"oui","non") -> non | AA31: =IF((E31-F31)=-2,"oui","non") -> non | AB31: =IF((E31-F31)=-3,"oui","non") -> non | AC31: =IF((F31-E31)>3,"oui","non") -> non | AD31: =IF((E31>0)*AND(F31>0),"oui","non") -> non | AE31: =IF((J31>0)*AND(K31>0),"oui","non") -> non
A32: Ligue 1 | B32: Monaco | C32: marseille | D32: 4 | E32: 2 | F32: 3 | G32: =CONCATENATE(E32,"-",F32) -> 2-3 | J32: 0 | K32: 1 | L32: =CONCATENATE(J32,"-",K32) -> 0-1 | M32: =IF(F32=0,"oui","non") -> non | N32: =IF(E32=0,"oui","non") -> non | O32: =IF(E32>F32,"victoire",IF(E32=F32,"nul","defaite")) -> defaite | P32: =IF(F32>E32,"victoire",IF(E32=F32,"nul","defaite")) -> victoire | Q32: =E32+F32 -> 5 | R32: =J32+K32 -> 1 | S32: =IF((Q32-R32)>R32,"deuxieme mi temps",IF((Q32-R32)=R32,"aucune","premiere")) -> deuxieme mi temps | T32: =IF((E32-J32)>J32,"deuxieme mi temps",IF((E32-J32)=J32,"aucune","premiere mi temps")) -> deuxieme mi temps | U32: =IF((F32-K32)>K32,"deuxieme mi temps",IF((F32-K32)=K32,"aucune","premiere mi temps")) -> deuxieme mi temps | V32: =IF((E32-F32)=1,"oui","non") -> non | W32: =IF((E32-F32)=2,"oui","non") -> non | X32: =IF((E32-F32)=3,"oui","non") -> non | Y32: =IF((E32-F32)>3,"oui","non") -> non | Z32: =IF((E32-F32)=-1,"oui","non") -> oui | AA32: =IF((E32-F32)=-2,"oui","non") -> non | AB32: =IF((E32-F32)=-3,"oui","non") -> non | AC32: =IF((F32-E32)>3,"oui","non") -> non | AD32: =IF((E32>0)*AND(F32>0),"oui","non") -> oui | AE32: =IF((J32>0)*AND(K32>0),"oui","non") -> non
A33: Ligue 1 | B33: Rennes | C33: bordeaux | D33: 4 | E33: 2 | F33: 0 | G33: =CONCATENATE(E33,"-",F33) -> 2-0 | J33: 2 | K33: 0 | L33: =CONCATENATE(J33,"-",K33) -> 2-0 | M33: =IF(F33=0,"oui","non") -> oui | N33: =IF(E33=0,"oui","non") -> non | O33: =IF(E33>F33,"victoire",IF(E33=F33,"nul","defaite")) -> victoire | P33: =IF(F33>E33,"victoire",IF(E33=F33,"nul","defaite")) -> defaite | Q33: =E33+F33 -> 2 | R33: =J33+K33 -> 2 | S33: =IF((Q33-R33)>R33,"deuxieme mi temps",IF((Q33-R33)=R33,"aucune","premiere")) -> premiere | T33: =IF((E33-J33)>J33,"deuxieme mi temps",IF((E33-J33)=J33,"aucune","premiere mi temps")) -> premiere mi temps | U33: =IF((F33-K33)>K33,"deuxieme mi temps",IF((F33-K33)=K33,"aucune","premiere mi temps")) -> aucune | V33: =IF((E33-F33)=1,"oui","non") -> non | W33: =IF((E33-F33)=2,"oui","non") -> oui | X33: =IF((E33-F33)=3,"oui","non") -> non | Y33: =IF((E33-F33)>3,"oui","non") -> non | Z33: =IF((E33-F33)=-1,"oui","non") -> non | AA33: =IF((E33-F33)=-2,"oui","non") -> non | AB33: =IF((E33-F33)=-3,"oui","non") -> non | AC33: =IF((F33-E33)>3,"oui","non") -> non | AD33: =IF((E33>0)*AND(F33>0),"oui","non") -> non | AE33: =IF((J33>0)*AND(K33>0),"oui","non") -> non
... A101: Ligue 1 | B101: nice | C101: marseille | D101: 10 | E101: 0 | F101: 1 | G101: =CONCATENATE(E101,"-",F101) -> 0-1 | J101: 0 | K101: 1 | L101: =CONCATENATE(J101,"-",K101) -> 0-1 | M101: =IF(F101=0,"oui","non") -> non | N101: =IF(E101=0,"oui","non") -> oui | O101: =IF(E101>F101,"victoire",IF(E101=F101,"nul","defaite")) -> defaite | P101: =IF(F101>E101,"victoire",IF(E101=F101,"nul","defaite")) -> victoire | Q101: =E101+F101 -> 1 | R101: =J101+K101 -> 1 | S101: =IF((Q101-R101)>R101,"deuxieme mi temps",IF((Q101-R101)=R101,"aucune","premiere")) -> premiere | T101: =IF((E101-J101)>J101,"deuxieme mi temps",IF((E101-J101)=J101,"aucune","premiere mi temps")) -> aucune | U101: =IF((F101-K101)>K101,"deuxieme mi temps",IF((F101-K101)=K101,"aucune","premiere mi temps")) -> premiere mi temps | V101: =IF((E101-F101)=1,"oui","non") -> non | W101: =IF((E101-F101)=2,"oui","non") -> non | X101: =IF((E101-F101)=3,"oui","non") -> non | Y101: =IF((E101-F101)>3,"oui","non") -> non | Z101: =IF((E101-F101)=-1,"oui","non") -> oui | AA101: =IF((E101-F101)=-2,"oui","non") -> non | AB101: =IF((E101-F101)=-3,"oui","non") -> non | AC101: =IF((F101-E101)>3,"oui","non") -> non | AD101: =IF((E101>0)*AND(F101>0),"oui","non") -> non | AE101: =IF((J101>0)*AND(K101>0),"oui","non") -> non
A102: Ligue 1 | G102: =CONCATENATE(E102,"-",F102) -> - | L102: =CONCATENATE(J102,"-",K102) -> - | M102: =IF(F102=0,"oui","non") -> oui | N102: =IF(E102=0,"oui","non") -> oui | O102: =IF(E102>F102,"victoire",IF(E102=F102,"nul","defaite")) -> nul | P102: =IF(F102>E102,"victoire",IF(E102=F102,"nul","defaite")) -> nul | Q102: =E102+F102 -> 0 | R102: =J102+K102 -> 0 | S102: =IF((Q102-R102)>R102,"deuxieme mi temps",IF((Q102-R102)=R102,"aucune","premiere")) -> aucune | T102: =IF((E102-J102)>J102,"deuxieme mi temps",IF((E102-J102)=J102,"aucune","premiere mi temps")) -> aucune | U102: =IF((F102-K102)>K102,"deuxieme mi temps",IF((F102-K102)=K102,"aucune","premiere mi temps")) -> aucune | V102: =IF((E102-F102)=1,"oui","non") -> non | W102: =IF((E102-F102)=2,"oui","non") -> non | X102: =IF((E102-F102)=3,"oui","non") -> non | Y102: =IF((E102-F102)>3,"oui","non") -> non | Z102: =IF((E102-F102)=-1,"oui","non") -> non | AA102: =IF((E102-F102)=-2,"oui","non") -> non | AB102: =IF((E102-F102)=-3,"oui","non") -> non | AC102: =IF((F102-E102)>3,"oui","non") -> non | AD102: =IF((E102>0)*AND(F102>0),"oui","non") -> non | AE102: =IF((J102>0)*AND(K102>0),"oui","non") -> non
A103: Ligue 1 | G103: =CONCATENATE(E103,"-",F103) -> - | L103: =CONCATENATE(J103,"-",K103) -> - | M103: =IF(F103=0,"oui","non") -> oui | N103: =IF(E103=0,"oui","non") -> oui | O103: =IF(E103>F103,"victoire",IF(E103=F103,"nul","defaite")) -> nul | P103: =IF(F103>E103,"victoire",IF(E103=F103,"nul","defaite")) -> nul | Q103: =E103+F103 -> 0 | R103: =J103+K103 -> 0 | S103: =IF((Q103-R103)>R103,"deuxieme mi temps",IF((Q103-R103)=R103,"aucune","premiere")) -> aucune | T103: =IF((E103-J103)>J103,"deuxieme mi temps",IF((E103-J103)=J103,"aucune","premiere mi temps")) -> aucune | U103: =IF((F103-K103)>K103,"deuxieme mi temps",IF((F103-K103)=K103,"aucune","premiere mi temps")) -> aucune | V103: =IF((E103-F103)=1,"oui","non") -> non | W103: =IF((E103-F103)=2,"oui","non") -> non | X103: =IF((E103-F103)=3,"oui","non") -> non | Y103: =IF((E103-F103)>3,"oui","non") -> non | Z103: =IF((E103-F103)=-1,"oui","non") -> non | AA103: =IF((E103-F103)=-2,"oui","non") -> non | AB103: =IF((E103-F103)=-3,"oui","non") -> non | AC103: =IF((F103-E103)>3,"oui","non") -> non | AD103: =IF((E103>0)*AND(F103>0),"oui","non") -> non | AE103: =IF((J103>0)*AND(K103>0),"oui","non") -> non
A104: Ligue 1 | G104: =CONCATENATE(E104,"-",F104) -> - | L104: =CONCATENATE(J104,"-",K104) -> - | M104: =IF(F104=0,"oui","non") -> oui | N104: =IF(E104=0,"oui","non") -> oui | O104: =IF(E104>F104,"victoire",IF(E104=F104,"nul","defaite")) -> nul | P104: =IF(F104>E104,"victoire",IF(E104=F104,"nul","defaite")) -> nul | Q104: =E104+F104 -> 0 | R104: =J104+K104 -> 0 | S104: =IF((Q104-R104)>R104,"deuxieme mi temps",IF((Q104-R104)=R104,"aucune","premiere")) -> aucune | T104: =IF((E104-J104)>J104,"deuxieme mi temps",IF((E104-J104)=J104,"aucune","premiere mi temps")) -> aucune | U104: =IF((F104-K104)>K104,"deuxieme mi temps",IF((F104-K104)=K104,"aucune","premiere mi temps")) -> aucune | V104: =IF((E104-F104)=1,"oui","non") -> non | W104: =IF((E104-F104)=2,"oui","non") -> non | X104: =IF((E104-F104)=3,"oui","non") -> non | Y104: =IF((E104-F104)>3,"oui","non") -> non | Z104: =IF((E104-F104)=-1,"oui","non") -> non | AA104: =IF((E104-F104)=-2,"oui","non") -> non | AB104: =IF((E104-F104)=-3,"oui","non") -> non | AC104: =IF((F104-E104)>3,"oui","non") -> non | AD104: =IF((E104>0)*AND(F104>0),"oui","non") -> non | AE104: =IF((J104>0)*AND(K104>0),"oui","non") -> non
A105: Ligue 1 | G105: =CONCATENATE(E105,"-",F105) -> - | L105: =CONCATENATE(J105,"-",K105) -> - | M105: =IF(F105=0,"oui","non") -> oui | N105: =IF(E105=0,"oui","non") -> oui | O105: =IF(E105>F105,"victoire",IF(E105=F105,"nul","defaite")) -> nul | P105: =IF(F105>E105,"victoire",IF(E105=F105,"nul","defaite")) -> nul | Q105: =E105+F105 -> 0 | R105: =J105+K105 -> 0 | S105: =IF((Q105-R105)>R105,"deuxieme mi temps",IF((Q105-R105)=R105,"aucune","premiere")) -> aucune | T105: =IF((E105-J105)>J105,"deuxieme mi temps",IF((E105-J105)=J105,"aucune","premiere mi temps")) -> aucune | U105: =IF((F105-K105)>K105,"deuxieme mi temps",IF((F105-K105)=K105,"aucune","premiere mi temps")) -> aucune | V105: =IF((E105-F105)=1,"oui","non") -> non | W105: =IF((E105-F105)=2,"oui","non") -> non | X105: =IF((E105-F105)=3,"oui","non") -> non | Y105: =IF((E105-F105)>3,"oui","non") -> non | Z105: =IF((E105-F105)=-1,"oui","non") -> non | AA105: =IF((E105-F105)=-2,"oui","non") -> non | AB105: =IF((E105-F105)=-3,"oui","non") -> non | AC105: =IF((F105-E105)>3,"oui","non") -> non | AD105: =IF((E105>0)*AND(F105>0),"oui","non") -> non | AE105: =IF((J105>0)*AND(K105>0),"oui","non") -> non
A106: Ligue 1 | G106: =CONCATENATE(E106,"-",F106) -> - | L106: =CONCATENATE(J106,"-",K106) -> - | M106: =IF(F106=0,"oui","non") -> oui | N106: =IF(E106=0,"oui","non") -> oui | O106: =IF(E106>F106,"victoire",IF(E106=F106,"nul","defaite")) -> nul | P106: =IF(F106>E106,"victoire",IF(E106=F106,"nul","defaite")) -> nul | Q106: =E106+F106 -> 0 | R106: =J106+K106 -> 0 | S106: =IF((Q106-R106)>R106,"deuxieme mi temps",IF((Q106-R106)=R106,"aucune","premiere")) -> aucune | T106: =IF((E106-J106)>J106,"deuxieme mi temps",IF((E106-J106)=J106,"aucune","premiere mi temps")) -> aucune | U106: =IF((F106-K106)>K106,"deuxieme mi temps",IF((F106-K106)=K106,"aucune","premiere mi temps")) -> aucune | V106: =IF((E106-F106)=1,"oui","non") -> non | W106: =IF((E106-F106)=2,"oui","non") -> non | X106: =IF((E106-F106)=3,"oui","non") -> non | Y106: =IF((E106-F106)>3,"oui","non") -> non | Z106: =IF((E106-F106)=-1,"oui","non") -> non | AA106: =IF((E106-F106)=-2,"oui","non") -> non | AB106: =IF((E106-F106)=-3,"oui","non") -> non | AC106: =IF((F106-E106)>3,"oui","non") -> non | AD106: =IF((E106>0)*AND(F106>0),"oui","non") -> non | AE106: =IF((J106>0)*AND(K106>0),"oui","non") -> non
A107: Ligue 1 | G107: =CONCATENATE(E107,"-",F107) -> - | L107: =CONCATENATE(J107,"-",K107) -> - | M107: =IF(F107=0,"oui","non") -> oui | N107: =IF(E107=0,"oui","non") -> oui | O107: =IF(E107>F107,"victoire",IF(E107=F107,"nul","defaite")) -> nul | P107: =IF(F107>E107,"victoire",IF(E107=F107,"nul","defaite")) -> nul | Q107: =E107+F107 -> 0 | R107: =J107+K107 -> 0 | S107: =IF((Q107-R107)>R107,"deuxieme mi temps",IF((Q107-R107)=R107,"aucune","premiere")) -> aucune | T107: =IF((E107-J107)>J107,"deuxieme mi temps",IF((E107-J107)=J107,"aucune","premiere mi temps")) -> aucune | U107: =IF((F107-K107)>K107,"deuxieme mi temps",IF((F107-K107)=K107,"aucune","premiere mi temps")) -> aucune | V107: =IF((E107-F107)=1,"oui","non") -> non | W107: =IF((E107-F107)=2,"oui","non") -> non | X107: =IF((E107-F107)=3,"oui","non") -> non | Y107: =IF((E107-F107)>3,"oui","non") -> non | Z107: =IF((E107-F107)=-1,"oui","non") -> non | AA107: =IF((E107-F107)=-2,"oui","non") -> non | AB107: =IF((E107-F107)=-3,"oui","non") -> non | AC107: =IF((F107-E107)>3,"oui","non") -> non | AD107: =IF((E107>0)*AND(F107>0),"oui","non") -> non | AE107: =IF((J107>0)*AND(K107>0),"oui","non") -> non
A108: Ligue 1 | G108: =CONCATENATE(E108,"-",F108) -> - | L108: =CONCATENATE(J108,"-",K108) -> - | M108: =IF(F108=0,"oui","non") -> oui | N108: =IF(E108=0,"oui","non") -> oui | O108: =IF(E108>F108,"victoire",IF(E108=F108,"nul","defaite")) -> nul | P108: =IF(F108>E108,"victoire",IF(E108=F108,"nul","defaite")) -> nul | Q108: =E108+F108 -> 0 | R108: =J108+K108 -> 0 | S108: =IF((Q108-R108)>R108,"deuxieme mi temps",IF((Q108-R108)=R108,"aucune","premiere")) -> aucune | T108: =IF((E108-J108)>J108,"deuxieme mi temps",IF((E108-J108)=J108,"aucune","premiere mi temps")) -> aucune | U108: =IF((F108-K108)>K108,"deuxieme mi temps",IF((F108-K108)=K108,"aucune","premiere mi temps")) -> aucune | V108: =IF((E108-F108)=1,"oui","non") -> non | W108: =IF((E108-F108)=2,"oui","non") -> non | X108: =IF((E108-F108)=3,"oui","non") -> non | Y108: =IF((E108-F108)>3,"oui","non") -> non | Z108: =IF((E108-F108)=-1,"oui","non") -> non | AA108: =IF((E108-F108)=-2,"oui","non") -> non | AB108: =IF((E108-F108)=-3,"oui","non") -> non | AC108: =IF((F108-E108)>3,"oui","non") -> non | AD108: =IF((E108>0)*AND(F108>0),"oui","non") -> non | AE108: =IF((J108>0)*AND(K108>0),"oui","non") -> non
...

Sheet Résultat équipe
A1: journée | B1: Amiens | C1: Angers | D1: bordeaux | E1: Caen | F1: Dijon | G1: Guingamp | H1: Lille | I1: Lyon | J1: Marseille | K1: Monaco | L1: Montpellier | M1: Nantes | N1: Nice | O1: Nimes | P1: PSG | Q1: Reims | R1: Rennes | S1: Saint Etienne | T1: Strasbourg | U1: Toulouse | W1: serie en cours | X1: Amiens | Y1: Angers | Z1: bordeaux | AA1: Caen | AB1: Dijon | AC1: Guingamp | AD1: Lille | AE1: Lyon | AF1: Marseille | AG1: Monaco | AH1: Montpellier | AI1: Nantes | AJ1: Nice | AK1: Nimes | AL1: PSG | AM1: Reims | AN1: Rennes | AO1: Saint Etienne | AP1: Strasbourg | AQ1: Toulouse | AS1: serie en cours | AT1: Amiens | AU1: Angers | AV1: bordeaux | AW1: Caen | AX1: Dijon | AY1: Guingamp | AZ1: Lille | BA1: Lyon | BB1: Marseille | BC1: Monaco | BD1: Montpellier | BE1: Nantes | BF1: Nice | BG1: Nimes | BH1: PSG | BI1: Reims | BJ1: Rennes | BK1: Saint Etienne | BL1: Strasbourg | BM1: Toulouse
A2: 1 | B2: =IF(COUNTIF('DB L1'!$B2:$B11,'Résultat équipe'!B$1)=1,VLOOKUP(B$1,'DB L1'!$B2:$O11,14,FALSE),VLOOKUP('Résultat équipe'!B$1,'DB L1'!$C2:$P11,14,FALSE)) -> defaite | C2: =IF(COUNTIF('DB L1'!$B2:$B11,'Résultat équipe'!C$1)=1,VLOOKUP(C$1,'DB L1'!$B2:$O11,14,FALSE),VLOOKUP('Résultat équipe'!C$1,'DB L1'!$C2:$P11,14,FALSE)) -> defaite | D2: =IF(COUNTIF('DB L1'!$B2:$B11,'Résultat équipe'!D$1)=1,VLOOKUP(D$1,'DB L1'!$B2:$O11,14,FALSE),VLOOKUP('Résultat équipe'!D$1,'DB L1'!$C2:$P11,14,FALSE)) -> defaite | E2: =IF(COUNTIF('DB L1'!$B2:$B11,'Résultat équipe'!E$1)=1,VLOOKUP(E$1,'DB L1'!$B2:$O11,14,FALSE),VLOOKUP('Résultat équipe'!E$1,'DB L1'!$C2:$P11,14,FALSE)) -> defaite | F2: =IF(COUNTIF('DB L1'!$B2:$B11,'Résultat équipe'!F$1)=1,VLOOKUP(F$1,'DB L1'!$B2:$O11,14,FALSE),VLOOKUP('Résultat équipe'!F$1,'DB L1'!$C2:$P11,14,FALSE)) -> victoire | G2: =IF(COUNTIF('DB L1'!$B2:$B11,'Résultat équipe'!G$1)=1,VLOOKUP(G$1,'DB L1'!$B2:$O11,14,FALSE),VLOOKUP('Résultat équipe'!G$1,'DB L1'!$C2:$P11,14,FALSE)) -> defaite | H2: =IF(COUNTIF('DB L1'!$B2:$B11,'Résultat équipe'!H$1)=1,VLOOKUP(H$1,'DB L1'!$B2:$O11,14,FALSE),VLOOKUP('Résultat équipe'!H$1,'DB L1'!$C2:$P11,14,FALSE)) -> victoire | I2: =IF(COUNTIF('DB L1'!$B2:$B11,'Résultat équipe'!I$1)=1,VLOOKUP(I$1,'DB L1'!$B2:$O11,14,FALSE),VLOOKUP('Résultat équipe'!I$1,'DB L1'!$C2:$P11,14,FALSE)) -> victoire | ... U2: =IF(COUNTIF('DB L1'!$B2:$B11,'Résultat équipe'!U$1)=1,VLOOKUP(U$1,'DB L1'!$B2:$O11,14,FALSE),VLOOKUP('Résultat équipe'!U$1,'DB L1'!$C2:$P11,14,FALSE)) -> defaite | W2: 1 | X2: 1 | Y2: 1 | Z2: 1 | AA2: 1 | AB2: 1 | AC2: 1 | AD2: 1 | AE2: 1 | AF2: 1 | AG2: 1 | AH2: 1 | AI2: 1 | AJ2: 1 | AK2: 1 | AL2: 1 | AM2: 1 | AN2: 1 | AO2: 1 | AP2: 1 | AQ2: 1 | AS2: 1 | AT2: =CONCATENATE(X2,B2) -> 1defaite | AU2: =CONCATENATE(Y2,C2) -> 1defaite | AV2: =CONCATENATE(Z2,D2) -> 1defaite | AW2: =CONCATENATE(AA2,E2) -> 1defaite | AX2: =CONCATENATE(AB2,F2) -> 1victoire | AY2: =CONCATENATE(AC2,G2) -> 1defaite | AZ2: =CONCATENATE(AD2,H2) -> 1victoire | BA2: =CONCATENATE(AE2,I2) -> 1victoire | ... BM2: =CONCATENATE(AQ2,U2) -> 1defaite
A3: 2 | B3: =IF(COUNTIF('DB L1'!$B12:$B21,'Résultat équipe'!B1)=1,VLOOKUP(B1,'DB L1'!$B12:$O21,14,FALSE),VLOOKUP('Résultat équipe'!B1,'DB L1'!$C12:$P21,14,FALSE)) -> defaite | C3: =IF(COUNTIF('DB L1'!$B12:$B21,'Résultat équipe'!C1)=1,VLOOKUP(C1,'DB L1'!$B12:$O21,14,FALSE),VLOOKUP('Résultat équipe'!C1,'DB L1'!$C12:$P21,14,FALSE)) -> defaite | D3: =IF(COUNTIF('DB L1'!$B12:$B21,'Résultat équipe'!D1)=1,VLOOKUP(D1,'DB L1'!$B12:$O21,14,FALSE),VLOOKUP('Résultat équipe'!D1,'DB L1'!$C12:$P21,14,FALSE)) -> defaite | E3: =IF(COUNTIF('DB L1'!$B12:$B21,'Résultat équipe'!E1)=1,VLOOKUP(E1,'DB L1'!$B12:$O21,14,FALSE),VLOOKUP('Résultat équipe'!E1,'DB L1'!$C12:$P21,14,FALSE)) -> nul | F3: =IF(COUNTIF('DB L1'!$B12:$B21,'Résultat équipe'!F1)=1,VLOOKUP(F1,'DB L1'!$B12:$O21,14,FALSE),VLOOKUP('Résultat équipe'!F1,'DB L1'!$C12:$P21,14,FALSE)) -> victoire | G3: =IF(COUNTIF('DB L1'!$B12:$B21,'Résultat équipe'!G1)=1,VLOOKUP(G1,'DB L1'!$B12:$O21,14,FALSE),VLOOKUP('Résultat équipe'!G1,'DB L1'!$C12:$P21,14,FALSE)) -> defaite | H3: =IF(COUNTIF('DB L1'!$B12:$B21,'Résultat équipe'!H1)=1,VLOOKUP(H1,'DB L1'!$B12:$O21,14,FALSE),VLOOKUP('Résultat équipe'!H1,'DB L1'!$C12:$P21,14,FALSE)) -> nul | I3: =IF(COUNTIF('DB L1'!$B12:$B21,'Résultat équipe'!I1)=1,VLOOKUP(I1,'DB L1'!$B12:$O21,14,FALSE),VLOOKUP('Résultat équipe'!I1,'DB L1'!$C12:$P21,14,FALSE)) -> defaite | ... U3: =IF(COUNTIF('DB L1'!$B12:$B21,'Résultat équipe'!U1)=1,VLOOKUP(U1,'DB L1'!$B12:$O21,14,FALSE),VLOOKUP('Résultat équipe'!U1,'DB L1'!$C12:$P21,14,FALSE)) -> victoire | W3: 2 | X3: =IF(B3=B2,X2+1,1) -> 2 | Y3: =IF(C3=C2,Y2+1,1) -> 2 | Z3: =IF(D3=D2,Z2+1,1) -> 2 | AA3: =IF(E3=E2,AA2+1,1) -> 1 | AB3: =IF(F3=F2,AB2+1,1) -> 2 | AC3: =IF(G3=G2,AC2+1,1) -> 2 | AD3: =IF(H3=H2,AD2+1,1) -> 1 | AE3: =IF(I3=I2,AE2+1,1) -> 1 | ... AQ3: =IF(U3=U2,AQ2+1,1) -> 1 | AS3: 2 | AT3: =CONCATENATE(X3,B3) -> 2defaite | AU3: =CONCATENATE(Y3,C3) -> 2defaite | AV3: =CONCATENATE(Z3,D3) -> 2defaite | AW3: =CONCATENATE(AA3,E3) -> 1nul | AX3: =CONCATENATE(AB3,F3) -> 2victoire | AY3: =CONCATENATE(AC3,G3) -> 2defaite | AZ3: =CONCATENATE(AD3,H3) -> 1nul | BA3: =CONCATENATE(AE3,I3) -> 1defaite | ... BM3: =CONCATENATE(AQ3,U3) -> 1victoire
A4: 3 | B4: =IF(COUNTIF('DB L1'!$B22:$B31,'Résultat équipe'!B$1)=1,VLOOKUP(B$1,'DB L1'!$B22:$O31,14,FALSE),VLOOKUP('Résultat équipe'!B$1,'DB L1'!$C22:$P31,14,FALSE)) -> victoire | C4: =IF(COUNTIF('DB L1'!$B22:$B31,'Résultat équipe'!C$1)=1,VLOOKUP(C$1,'DB L1'!$B22:$O31,14,FALSE),VLOOKUP('Résultat équipe'!C$1,'DB L1'!$C22:$P31,14,FALSE)) -> defaite | D4: =IF(COUNTIF('DB L1'!$B22:$B31,'Résultat équipe'!D$1)=1,VLOOKUP(D$1,'DB L1'!$B22:$O31,14,FALSE),VLOOKUP('Résultat équipe'!D$1,'DB L1'!$C22:$P31,14,FALSE)) -> victoire | E4: =IF(COUNTIF('DB L1'!$B22:$B31,'Résultat équipe'!E$1)=1,VLOOKUP(E$1,'DB L1'!$B22:$O31,14,FALSE),VLOOKUP('Résultat équipe'!E$1,'DB L1'!$C22:$P31,14,FALSE)) -> nul | F4: =IF(COUNTIF('DB L1'!$B22:$B31,'Résultat équipe'!F$1)=1,VLOOKUP(F$1,'DB L1'!$B22:$O31,14,FALSE),VLOOKUP('Résultat équipe'!F$1,'DB L1'!$C22:$P31,14,FALSE)) -> victoire | G4: =IF(COUNTIF('DB L1'!$B22:$B31,'Résultat équipe'!G$1)=1,VLOOKUP(G$1,'DB L1'!$B22:$O31,14,FALSE),VLOOKUP('Résultat équipe'!G$1,'DB L1'!$C22:$P31,14,FALSE)) -> defaite | H4: =IF(COUNTIF('DB L1'!$B22:$B31,'Résultat équipe'!H$1)=1,VLOOKUP(H$1,'DB L1'!$B22:$O31,14,FALSE),VLOOKUP('Résultat équipe'!H$1,'DB L1'!$C22:$P31,14,FALSE)) -> victoire | I4: =IF(COUNTIF('DB L1'!$B22:$B31,'Résultat équipe'!I$1)=1,VLOOKUP(I$1,'DB L1'!$B22:$O31,14,FALSE),VLOOKUP('Résultat équipe'!I$1,'DB L1'!$C22:$P31,14,FALSE)) -> victoire | ... U4: =IF(COUNTIF('DB L1'!$B22:$B31,'Résultat équipe'!U$1)=1,VLOOKUP(U$1,'DB L1'!$B22:$O31,14,FALSE),VLOOKUP('Résultat équipe'!U$1,'DB L1'!$C22:$P31,14,FALSE)) -> victoire | W4: 3 | X4: =IF(B4=B3,X3+1,1) -> 1 | Y4: =IF(C4=C3,Y3+1,1) -> 3 | Z4: =IF(D4=D3,Z3+1,1) -> 1 | AA4: =IF(E4=E3,AA3+1,1) -> 2 | AB4: =IF(F4=F3,AB3+1,1) -> 3 | AC4: =IF(G4=G3,AC3+1,1) -> 3 | AD4: =IF(H4=H3,AD3+1,1) -> 1 | AE4: =IF(I4=I3,AE3+1,1) -> 1 | ... AQ4: =IF(U4=U3,AQ3+1,1) -> 2 | AS4: 3 | AT4: =CONCATENATE(X4,B4) -> 1victoire | AU4: =CONCATENATE(Y4,C4) -> 3defaite | AV4: =CONCATENATE(Z4,D4) -> 1victoire | AW4: =CONCATENATE(AA4,E4) -> 2nul | AX4: =CONCATENATE(AB4,F4) -> 3victoire | AY4: =CONCATENATE(AC4,G4) -> 3defaite | AZ4: =CONCATENATE(AD4,H4) -> 1victoire | BA4: =CONCATENATE(AE4,I4) -> 1victoire | ... BM4: =CONCATENATE(AQ4,U4) -> 2victoire
A5: 4 | B5: =IF(COUNTIF('DB L1'!$B32:$B41,'Résultat équipe'!B$1)=1,VLOOKUP(B$1,'DB L1'!$B32:$O41,14,FALSE),VLOOKUP('Résultat équipe'!B$1,'DB L1'!$C32:$P41,14,FALSE)) -> nul | C5: =IF(COUNTIF('DB L1'!$B32:$B41,'Résultat équipe'!C$1)=1,VLOOKUP(C$1,'DB L1'!$B32:$O41,14,FALSE),VLOOKUP('Résultat équipe'!C$1,'DB L1'!$C32:$P41,14,FALSE)) -> victoire | D5: =IF(COUNTIF('DB L1'!$B32:$B41,'Résultat équipe'!D$1)=1,VLOOKUP(D$1,'DB L1'!$B32:$O41,14,FALSE),VLOOKUP('Résultat équipe'!D$1,'DB L1'!$C32:$P41,14,FALSE)) -> defaite | E5: =IF(COUNTIF('DB L1'!$B32:$B41,'Résultat équipe'!E$1)=1,VLOOKUP(E$1,'DB L1'!$B32:$O41,14,FALSE),VLOOKUP('Résultat équipe'!E$1,'DB L1'!$C32:$P41,14,FALSE)) -> victoire | F5: =IF(COUNTIF('DB L1'!$B32:$B41,'Résultat équipe'!F$1)=1,VLOOKUP(F$1,'DB L1'!$B32:$O41,14,FALSE),VLOOKUP('Résultat équipe'!F$1,'DB L1'!$C32:$P41,14,FALSE)) -> defaite | G5: =IF(COUNTIF('DB L1'!$B32:$B41,'Résultat équipe'!G$1)=1,VLOOKUP(G$1,'DB L1'!$B32:$O41,14,FALSE),VLOOKUP('Résultat équipe'!G$1,'DB L1'!$C32:$P41,14,FALSE)) -> defaite | H5: =IF(COUNTIF('DB L1'!$B32:$B41,'Résultat équipe'!H$1)=1,VLOOKUP(H$1,'DB L1'!$B32:$O41,14,FALSE),VLOOKUP('Résultat équipe'!H$1,'DB L1'!$C32:$P41,14,FALSE)) -> defaite | I5: =IF(COUNTIF('DB L1'!$B32:$B41,'Résultat équipe'!I$1)=1,VLOOKUP(I$1,'DB L1'!$B32:$O41,14,FALSE),VLOOKUP('Résultat équipe'!I$1,'DB L1'!$C32:$P41,14,FALSE)) -> defaite | ... U5: =IF(COUNTIF('DB L1'!$B32:$B41,'Résultat équipe'!U$1)=1,VLOOKUP(U$1,'DB L1'!$B32:$O41,14,FALSE),VLOOKUP('Résultat équipe'!U$1,'DB L1'!$C32:$P41,14,FALSE)) -> victoire | W5: 4 | X5: =IF(B5=B4,X4+1,1) -> 1 | Y5: =IF(C5=C4,Y4+1,1) -> 1 | Z5: =IF(D5=D4,Z4+1,1) -> 1 | AA5: =IF(E5=E4,AA4+1,1) -> 1 | AB5: =IF(F5=F4,AB4+1,1) -> 1 | AC5: =IF(G5=G4,AC4+1,1) -> 4 | AD5: =IF(H5=H4,AD4+1,1) -> 1 | AE5: =IF(I5=I4,AE4+1,1) -> 1 | ... AQ5: =IF(U5=U4,AQ4+1,1) -> 3 | AS5: 4 | AT5: =CONCATENATE(X5,B5) -> 1nul | AU5: =CONCATENATE(Y5,C5) -> 1victoire | AV5: =CONCATENATE(Z5,D5) -> 1defaite | AW5: =CONCATENATE(AA5,E5) -> 1victoire | AX5: =CONCATENATE(AB5,F5) -> 1defaite | AY5: =CONCATENATE(AC5,G5) -> 4defaite | AZ5: =CONCATENATE(AD5,H5) -> 1defaite | BA5: =CONCATENATE(AE5,I5) -> 1defaite | ... BM5: =CONCATENATE(AQ5,U5) -> 3victoire
A6: 5 | B6: =IF(COUNTIF('DB L1'!$B42:$B51,'Résultat équipe'!B$1)=1,VLOOKUP(B$1,'DB L1'!$B42:$O51,14,FALSE),VLOOKUP('Résultat équipe'!B$1,'DB L1'!$C42:$P51,14,FALSE)) -> defaite | C6: =IF(COUNTIF('DB L1'!$B42:$B51,'Résultat équipe'!C$1)=1,VLOOKUP(C$1,'DB L1'!$B42:$O51,14,FALSE),VLOOKUP('Résultat équipe'!C$1,'DB L1'!$C42:$P51,14,FALSE)) -> victoire | D6: =IF(COUNTIF('DB L1'!$B42:$B51,'Résultat équipe'!D$1)=1,VLOOKUP(D$1,'DB L1'!$B42:$O51,14,FALSE),VLOOKUP('Résultat équipe'!D$1,'DB L1'!$C42:$P51,14,FALSE)) -> nul | E6: =IF(COUNTIF('DB L1'!$B42:$B51,'Résultat équipe'!E$1)=1,VLOOKUP(E$1,'DB L1'!$B42:$O51,14,FALSE),VLOOKUP('Résultat équipe'!E$1,'DB L1'!$C42:$P51,14,FALSE)) -> nul | F6: =IF(COUNTIF('DB L1'!$B42:$B51,'Résultat équipe'!F$1)=1,VLOOKUP(F$1,'DB L1'!$B42:$O51,14,FALSE),VLOOKUP('Résultat équipe'!F$1,'DB L1'!$C42:$P51,14,FALSE)) -> defaite | G6: =IF(COUNTIF('DB L1'!$B42:$B51,'Résultat équipe'!G$1)=1,VLOOKUP(G$1,'DB L1'!$B42:$O51,14,FALSE),VLOOKUP('Résultat équipe'!G$1,'DB L1'!$C42:$P51,14,FALSE)) -> defaite | H6: =IF(COUNTIF('DB L1'!$B42:$B51,'Résultat équipe'!H$1)=1,VLOOKUP(H$1,'DB L1'!$B42:$O51,14,FALSE),VLOOKUP('Résultat équipe'!H$1,'DB L1'!$C42:$P51,14,FALSE)) -> victoire | I6: =IF(COUNTIF('DB L1'!$B42:$B51,'Résultat équipe'!I$1)=1,VLOOKUP(I$1,'DB L1'!$B42:$O51,14,FALSE),VLOOKUP('Résultat équipe'!I$1,'DB L1'!$C42:$P51,14,FALSE)) -> nul | ... U6: =IF(COUNTIF('DB L1'!$B42:$B51,'Résultat équipe'!U$1)=1,VLOOKUP(U$1,'DB L1'!$B42:$O51,14,FALSE),VLOOKUP('Résultat équipe'!U$1,'DB L1'!$C42:$P51,14,FALSE)) -> nul | W6: 5 | X6: =IF(B6=B5,X5+1,1) -> 1 | Y6: =IF(C6=C5,Y5+1,1) -> 2 | Z6: =IF(D6=D5,Z5+1,1) -> 1 | AA6: =IF(E6=E5,AA5+1,1) -> 1 | AB6: =IF(F6=F5,AB5+1,1) -> 2 | AC6: =IF(G6=G5,AC5+1,1) -> 5 | AD6: =IF(H6=H5,AD5+1,1) -> 1 | AE6: =IF(I6=I5,AE5+1,1) -> 1 | ... AQ6: =IF(U6=U5,AQ5+1,1) -> 1 | AS6: 5 | AT6: =CONCATENATE(X6,B6) -> 1defaite | AU6: =CONCATENATE(Y6,C6) -> 2victoire | AV6: =CONCATENATE(Z6,D6) -> 1nul | AW6: =CONCATENATE(AA6,E6) -> 1nul | AX6: =CONCATENATE(AB6,F6) -> 2defaite | AY6: =CONCATENATE(AC6,G6) -> 5defaite | AZ6: =CONCATENATE(AD6,H6) -> 1victoire | BA6: =CONCATENATE(AE6,I6) -> 1nul | ... BM6: =CONCATENATE(AQ6,U6) -> 1nul
