Workbook
Name barème: #REF!

Sheet Listes
A3: Educ | C3: RC
A4: Admin | C4: RB
A5: Dir | C5: RE
A6: CDS | C6: RI

Sheet Carto
C1: Unités de travail
C2: {=TRANSPOSE(Listes!A3:A6)} -> Educ | D2: Admin | E2: Dir | F2: CDS
A3: Risques | B3: RC | C3: =IF(AND(Eval!A:A=Carto!C2,Eval!B:B=Carto!B3),Eval!F:F,"") | D3: =IF(AND(Eval!A:A=Carto!D2,Eval!B:B=Carto!B3),Eval!F:F,"") -> A | E3: =IF(AND(Eval!A:A=Carto!E2,Eval!B:B=Carto!B3),Eval!F:F,"") | F3: =IF(AND(Eval!A:A=Carto!F2,Eval!B:B=Carto!B3),Eval!F:F,"")
B4: RB | C4: =IF(AND(Eval!$A:$A=Carto!$C$2,Eval!$B:$B=Carto!B4),Eval!$F:$F,"") | D4: =IF(AND(Eval!A:A=Carto!D2,Eval!B:B=Carto!B4),Eval!F:F,"") -> C | E4: =IF(AND(Eval!A:$A=Carto!E2,Eval!B:B=Carto!B4),Eval!F:F,"") | F4: =IF(AND(Eval!A:A=Carto!F2,Eval!B:B=Carto!B4),Eval!F:F,"")
B5: RE | C5: =IF(AND(Eval!$A:$A=Carto!$C$2,Eval!$B:$B=Carto!B5),Eval!$F:$F,"") | D5: =IF(AND(Eval!$A:$A=Carto!$D$2,Eval!$B:$B=Carto!B5),Eval!$F:$F,"") | E5: =IF(AND(Eval!A:A=Carto!E2,Eval!B:B=Carto!B5),Eval!F:F,"") | F5: =IF(AND(Eval!A:A=Carto!F2,Eval!B:B=Carto!B5),Eval!F:F,"")
B6: RI | C6: =IF(AND(Eval!$A:$A=Carto!C2,Eval!B:B=Carto!B6),Eval!F:F,"") | D6: =IF(AND(Eval!$A:$A=Carto!$D$2,Eval!$B:$B=Carto!B6),Eval!$F:$F,"") | E6: =IF(AND(Eval!A:A=Carto!E2,Eval!B:B=Carto!B6),Eval!F:F,"") | F6: =IF(AND(Eval!A:A=Carto!F2,Eval!B:B=Carto!B6),Eval!F:F,"") -> D

Sheet Eval
A1: essai | F1: trois
A2: UT | B2: Risques | C2: Colonne2 | D2: Colonne1 | E2: Colonne12 | F2: Criticité
A3: Admin | B3: RC | C3: 2 | D3: 1 | E3: =Tableau2[[#This Row],[Colonne2]]*Tableau2[[#This Row],[Colonne1]] -> 2 | F3: =IF(Tableau2[[#This Row],[Colonne12]]=2,"A",IF(Tableau2[[#This Row],[Colonne12]]=7,"B",IF(Tableau2[[#This Row],[Colonne12]]=12,"C",IF(Tableau2[[#This Row],[Colonne12]]=16,"D","")))) -> A
A4: Admin | B4: RB | C4: 3 | D4: 4 | E4: =Tableau2[[#This Row],[Colonne2]]*Tableau2[[#This Row],[Colonne1]] -> 12 | F4: =IF(Tableau2[[#This Row],[Colonne12]]=2,"A",IF(Tableau2[[#This Row],[Colonne12]]=7,"B",IF(Tableau2[[#This Row],[Colonne12]]=12,"C",IF(Tableau2[[#This Row],[Colonne12]]=16,"D","")))) -> C
A5: Dir | B5: RC | C5: 1 | D5: 7 | E5: =Tableau2[[#This Row],[Colonne2]]*Tableau2[[#This Row],[Colonne1]] -> 7 | F5: =IF(Tableau2[[#This Row],[Colonne12]]=2,"A",IF(Tableau2[[#This Row],[Colonne12]]=7,"B",IF(Tableau2[[#This Row],[Colonne12]]=12,"C",IF(Tableau2[[#This Row],[Colonne12]]=16,"D","")))) -> B
A6: CDS | B6: RI | C6: 4 | D6: 4 | E6: =Tableau2[[#This Row],[Colonne2]]*Tableau2[[#This Row],[Colonne1]] -> 16 | F6: =IF(Tableau2[[#This Row],[Colonne12]]=2,"A",IF(Tableau2[[#This Row],[Colonne12]]=7,"B",IF(Tableau2[[#This Row],[Colonne12]]=12,"C",IF(Tableau2[[#This Row],[Colonne12]]=16,"D","")))) -> D
