Workbook
Name DSN_Names: [1]input!#REF!
Name SQLString: [1]input!#REF!

Sheet Dashboard
A2: Code | B2: TOUS | E2: Number | F2: Volume | G2: Average | H2: Volume | I2: Number
H3: (%) | I3: (%)
D4: Active | E4: =+SUMPRODUCT(1*((Active!A2:A12270=$B$2)+($B$2="TOUS"))) -> 12269 | F4: =+SUMPRODUCT(((Active!$A$2:$A$98592=$B$2)+($B$2="TOUS"))*(Active!$L$2:$L$98592)) -> 42862413779 | G4: =+IFERROR(F4/$E$4,"-") -> 3493554
D5: PROG | E5: =+SUMPRODUCT(1*(Active!A2:A12270=$B$2)+($B$2="TOUS")*(Active!$D$2:$D$12270={521,531,561,571,541,581})) -> 7121 | F5: =+SUMPRODUCT(((Active!$A$2:$A$98592=$B$2)+($B$2="TOUS")*(Active!$D$2:$D$98592={521,531,561,571,541,581})*(Active!$L$2:$L$98592))) -> 4898877189 | G5: =+IFERROR(F5/$E$5,"-") -> 687947.93 | H5: =+IFERROR(+F5/F$4,"-") -> 0.11429308 | I5: =+IFERROR(+E5/E$4,"-") -> 0.5804059
D6: CROISS | E6: =+SUMPRODUCT(1*(Active!A2:A12270=$B$2)+($B$2="TOUS")*(Active!$D$2:$D$12270={511,501})) -> 3343 | F6: =+SUMPRODUCT(((Active!$A$2:$A$98592=$B$2)+($B$2="TOUS")*(Active!$D$2:$D$98592={511,501})*(Active!$L$2:$L$98592))) -> 12083752491 | G6: =+IFERROR(F6/$E$6,"-") -> 3614643.3 | H6: =+IFERROR(+F6/F$4,"-") -> 0.28191955 | I6: =+IFERROR(+E6/E$4,"-") -> 0.27247534
D7: EVO | E7: =+SUMPRODUCT(1*(Active!A2:A12270=$B$2)+($B$2="TOUS")*(Active!$D$2:$D$12270={601,611,621,631,651,641,661})) -> 1366 | F7: =+SUMPRODUCT(((Active!$A$2:$A$98592=$B$2)+($B$2="TOUS")*(Active!$D$2:$D$98592={601,611,621,631,651,641,661})*(Active!$L$2:$L$98592))) -> 23738429397 | G7: =+IFERROR(F7/$E$7,"-") -> 17378060 | H7: =+IFERROR(+F7/F$4,"-") -> 0.55382857 | I7: =+IFERROR(+E7/E$4,"-") -> 0.11133752
D8: AGRI | E8: =+SUMPRODUCT(1*(Active!A2:A12270=$B$2)+($B$2="TOUS")*(Active!$D$2:$D$12270={411,421,461,551,441,451,401,431})) -> 121 | F8: =+SUMPRODUCT(((Active!$A$2:$A$98592=$B$2)+($B$2="TOUS")*(Active!$D$2:$D$98592={411,421,461,551,441,451,401,431})*(Active!$L$2:$L$98592))) -> 1335245277 | G8: =+IFERROR(F8/$E$8,"-") -> 11035085 | H8: =+IFERROR(+F8/F$4,"-") -> 0.031151892 | I8: =+IFERROR(+E8/E$4,"-") -> 0.0098622545
D9: STAF | E9: =+SUMPRODUCT(1*(Active!A2:A12270=$B$2)+($B$2="TOUS")*(Active!$D$2:$D$12270={591})) -> 318 | F9: =+SUMPRODUCT(((Active!$A$2:$A$98592=$B$2)+($B$2="TOUS")*(Active!$D$2:$D$98592={591})*(Active!$L$2:$L$98592))) -> 806109425 | G9: =+IFERROR(F9/$E$9,"-") -> 2534935.3 | H9: =+IFERROR(+F9/F$4,"-") -> 0.018806907 | I9: =+IFERROR(+E9/E$4,"-") -> 0.025918983
D10: LoansMonth | E10: =+SUMPRODUCT(1*((LoansMonth!A2:A886=$B$2)+($B$2="TOUS"))) -> 885 | F10: =+SUMPRODUCT(((LoansMonth!$A$2:$A$98592=$B$2)+($B$2="TOUS"))*(LoansMonth!$L$2:$L$98592)) -> 4194800920 | G10: =+IFERROR(F10/$E$10,"-") -> 4739888
D11: PROG | E11: =+SUMPRODUCT(1*(LoansMonth!A8:A12276=$B$2)+($B$2="TOUS")*(LoansMonth!$D$2:$D$12270={521,531,561,571,541,581})) -> 584 | F11: =+SUMPRODUCT(((LoansMonth!$A$2:$A$98592=$B$2)+($B$2="TOUS")*(LoansMonth!$D$2:$D$98592={521,531,561,571,541,581})*(LoansMonth!$L$2:$L$98592))) -> 655778222 | G11: =+IFERROR(F11/$E$11,"-") -> 1122907.9 | H11: =+IFERROR(+F11/F$10,"-") -> 0.15633119 | I11: =+IFERROR(+E11/E$10,"-") -> 0.65988701
D12: CROISS | E12: =+SUMPRODUCT(1*(LoansMonth!A8:A12276=$B$2)+($B$2="TOUS")*(LoansMonth!$D$2:$D$12270={511,501})) -> 223 | F12: =+SUMPRODUCT(((LoansMonth!$A$2:$A$98592=$B$2)+($B$2="TOUS")*(LoansMonth!$D$2:$D$98592={511,501})*(LoansMonth!$L$2:$L$98592))) -> 1453393920 | G12: =+IFERROR(F12/$E$12,"-") -> 6517461.5 | H12: =+IFERROR(+F12/F$10,"-") -> 0.34647506 | I12: =+IFERROR(+E12/E$10,"-") -> 0.2519774
D13: EVO | E13: =+SUMPRODUCT(1*(LoansMonth!A8:A12276=$B$2)+($B$2="TOUS")*(LoansMonth!$D$2:$D$12270={601,611,621,631,651,641,661})) -> 60 | F13: =+SUMPRODUCT(((LoansMonth!$A$2:$A$98592=$B$2)+($B$2="TOUS")*(LoansMonth!$D$2:$D$98592={601,611,621,631,651,641,661})*(LoansMonth!$L$2:$L$98592))) -> 1814495278 | G13: =+IFERROR(F13/$E$13,"-") -> 30241588 | H13: =+IFERROR(+F13/F$10,"-") -> 0.43255814 | I13: =+IFERROR(+E13/E$10,"-") -> 0.06779661
D14: AGRI | E14: =+SUMPRODUCT(1*(LoansMonth!A8:A12276=$B$2)+($B$2="TOUS")*(LoansMonth!$D$2:$D$12270={411,421,461,551,441,451,401,431})) -> 4 | F14: =+SUMPRODUCT(((LoansMonth!$A$2:$A$98592=$B$2)+($B$2="TOUS")*(LoansMonth!$D$2:$D$98592={411,421,461,551,441,451,401,431})*(LoansMonth!$L$2:$L$98592))) -> 223253288 | G14: =+IFERROR(F14/$E$14,"-") -> 55813322 | H14: =+IFERROR(+F14/F$10,"-") -> 0.053221426 | I14: =+IFERROR(+E14/E$10,"-") -> 0.004519774
D15: STAF | E15: =+SUMPRODUCT(1*(LoansMonth!A8:A12276=$B$2)+($B$2="TOUS")*(LoansMonth!$D$2:$D$12270={591})) -> 14 | F15: =+SUMPRODUCT(((LoansMonth!$A$2:$A$98592=$B$2)+($B$2="TOUS")*(LoansMonth!$D$2:$D$98592={591})*(LoansMonth!$L$2:$L$98592))) -> 47880212 | G15: =+IFERROR(F15/$E$15,"-") -> 3420015.1 | H15: =+IFERROR(+F15/F$10,"-") -> 0.01141418 | I15: =+IFERROR(+E15/E$10,"-") -> 0.015819209

Sheet Liste 
A2: 100
A3: 101
A4: 110
A5: 111
A6: 112
A7: 120
A8: 130
A9: 140
A10: 141
A11: 150
A12: 160
A13: 161
... A22: 910
A23: TOUS

Sheet LoansMonth
A1: branch_no | B1: branch | C1: acct_type | D1: class_code | E1: acct_no | F1: RIM number | G1: acct_no | H1: RIM class | I1: Product name | J1: status | K1: currency | L1: amt_financed | M1: disbursed | N1: amt_financed | O1: disbursed
A2: 100 | D2: 591 | L2: 14890212
A3: 160 | D3: 511 | L3: 10323113
A4: 111 | D4: 521 | L4: 2061643
A5: 112 | D5: 511 | L5: 8246573
A6: 130 | D6: 521 | L6: 547642
A7: 111 | D7: 511 | L7: 4638697
A8: 112 | D8: 601 | L8: 17609281
A9: 130 | D9: 511 | L9: 10320983
A10: 130 | D10: 511 | L10: 9839461
A11: 111 | D11: 511 | L11: 8246573
A12: 120 | D12: 521 | L12: 1585050
A13: 150 | D13: 511 | L13: 6193868
... A886: 410 | D886: 521 | L886: 515411

Sheet Active
A1: branch_no | B1: branch | C1: acct_type | D1: class_code | E1: acct_no | F1: RIM number | G1: acct_no | H1: RIM class | I1: Product name | J1: status | K1: currency | L1: cur_bal
A2: 710 | D2: 461 | L2: 0
A3: 410 | D3: 411 | L3: 0
A4: 410 | D4: 411 | L4: 0
A5: 620 | D5: 411 | L5: 0
A6: 150 | D6: 511 | L6: 0
A7: 120 | D7: 511 | L7: 0
A8: 130 | D8: 511 | L8: 0
A9: 141 | D9: 511 | L9: 0
A10: 161 | D10: 511 | L10: 0
A11: 112 | D11: 511 | L11: 0
A12: 111 | D12: 511 | L12: 0
A13: 130 | D13: 511 | L13: 0
... A12270: 160 | D12270: 611 | L12270: 302455638
