Workbook

Sheet Voeux
D2: Hda | E2: Hgg | F2: Hlp | G2: Llc | H2: Mat | I2: Num | J2: Pch | K2: Ses | L2: Svt
A3: Nom élève 1 | B3: Prénom élève 1 | C3: 43133 | D3: 1 | E3: 2 | F3: 3 | G3: 4
A4: Nom élève 2 | B4: Prénom élève 2 | C4: 43133 | G4: 1 | H4: 2 | I4: 3 | J4: 4
A5: Nom élève 3 | B5: Prénom élève 3 | C5: 43102 | F5: 1 | G5: 2 | K5: 3 | L5: 4
A6: Nom élève 4 | B6: Prénom élève 4 | C6: 43161 | I6: 4 | J6: 3 | K6: 1 | L6: 2
A7: Nom élève 5 | B7: Prénom élève 5 | C7: 43345 | I7: 4 | J7: 3 | K7: 2 | L7: 1
A8: Nom élève 6 | B8: Prénom élève 6 | C8: 43133 | G8: 4 | H8: 3 | I8: 2 | J8: 1
A9: Nom élève 7 | B9: Prénom élève 7 | C9: 43283 | F9: 1 | G9: 2 | H9: 3 | I9: 4
A10: Nom élève 8 | B10: Prénom élève 8 | C10: 43102 | D10: 2 | E10: 1 | F10: 3 | G10: 4
A11: Nom élève 9 | B11: Prénom élève 9 | C11: 43283 | E11: 4 | F11: 3 | G11: 2 | H11: 1
A12: Nom élève 10 | B12: Prénom élève 10 | C12: 43133 | F12: 4 | G12: 3 | H12: 2 | I12: 1
A13: Nom élève 11 | B13: Prénom élève 11 | C13: 43161 | G13: 4 | H13: 3 | I13: 2 | J13: 1
A14: Nom élève 12 | B14: Prénom élève 12 | C14: 43133 | H14: 4 | I14: 3 | J14: 2 | K14: 1
A15: Nom élève 13 | B15: Prénom élève 13 | C15: 43314 | I15: 4 | J15: 3 | K15: 2 | L15: 1
A16: Nom élève 14 | B16: Prénom élève 14 | C16: 43283
A17: Nom élève 15 | B17: Prénom élève 15 | C17: 43283 | D17: 4 | E17: 3 | F17: 2 | G17: 1
A18: Nom élève 16 | B18: Prénom élève 16 | C18: 43102 | H18: 1 | I18: 2 | J18: 3 | K18: 4
A19: Nom élève 17 | B19: Prénom élève 17 | C19: 43161 | I19: 1 | J19: 2 | K19: 3 | L19: 4
A20: Nom élève 18 | B20: Prénom élève 18 | C20: 43314 | H20: 4 | I20: 3 | J20: 2 | K20: 1
A21: Nom élève 19 | B21: Prénom élève 19 | C21: 43102 | D21: 1 | E21: 2 | F21: 3 | G21: 4
A22: Nom élève 20 | B22: Prénom élève 20 | C22: 43192 | G22: 1 | H22: 2 | I22: 3 | J22: 4
A23: Nom élève 21 | B23: Prénom élève 21 | C23: 43283 | F23: 1 | G23: 2 | K23: 3 | L23: 4
A24: Nom élève 22 | B24: Prénom élève 22 | C24: 43314 | I24: 4 | J24: 3 | K24: 1 | L24: 2
A25: Nom élève 23 | B25: Prénom élève 23 | C25: 43161 | I25: 4 | J25: 3 | K25: 2 | L25: 1
A26: Nom élève 24 | B26: Prénom élève 24 | C26: 43253 | G26: 4 | H26: 3 | I26: 2 | J26: 1
A27: Nom élève 25 | B27: Prénom élève 25 | C27: 43222 | F27: 1 | G27: 2 | H27: 3 | I27: 4
A28: Nom élève 26 | B28: Prénom élève 26 | C28: 43102
A29: Nom élève 27 | B29: Prénom élève 27 | C29: 43283 | E29: 4 | F29: 3 | G29: 2 | H29: 1
A30: Nom élève 28 | B30: Prénom élève 28 | C30: 43192 | F30: 4 | G30: 3 | H30: 2 | I30: 1
A31: Nom élève 29 | B31: Prénom élève 29 | C31: 43345 | G31: 4 | H31: 3 | I31: 2 | J31: 1
A32: Nom élève 30 | B32: Prénom élève 30 | C32: 43283 | H32: 4 | I32: 3 | J32: 2 | K32: 1
A33: Nom élève 31 | B33: Prénom élève 31 | C33: 43161 | I33: 4 | J33: 3 | K33: 2 | L33: 1
A34: Nom élève 32 | B34: Prénom élève 32 | C34: 43133
A35: Nom élève 33 | B35: Prénom élève 33 | C35: 43133 | D35: 4 | E35: 3 | F35: 2 | G35: 1
A36: Nom élève 34 | B36: Prénom élève 34 | C36: 43283 | H36: 1 | I36: 2 | J36: 3 | K36: 4
A37: Nom élève 35 | B37: Prénom élève 35 | C37: 43314 | I37: 1 | J37: 2 | K37: 3 | L37: 4
A38: Nom élève 36 | B38: Prénom élève 36 | C38: 43253 | H38: 4 | I38: 3 | J38: 2 | K38: 1
A39: Nom élève 37 | B39: Prénom élève 37 | C39: 43192 | D39: 1 | E39: 2 | F39: 3 | G39: 4
A40: Nom élève 38 | B40: Prénom élève 38 | C40: 43253 | G40: 1 | H40: 2 | I40: 3 | J40: 4
A41: Nom élève 39 | B41: Prénom élève 39 | C41: 43133 | F41: 1 | G41: 2 | K41: 3 | L41: 4
A42: Nom élève 40 | B42: Prénom élève 40 | C42: 43314 | I42: 4 | J42: 3 | K42: 1 | L42: 2
A43: Nom élève 41 | B43: Prénom élève 41 | C43: 43102 | I43: 4 | J43: 3 | K43: 2 | L43: 1
A44: Nom élève 42 | B44: Prénom élève 42 | C44: 43161 | G44: 4 | H44: 3 | I44: 2 | J44: 1
A45: Nom élève 43 | B45: Prénom élève 43 | C45: 43253 | F45: 1 | G45: 2 | H45: 3 | I45: 4
A46: Nom élève 44 | B46: Prénom élève 44 | C46: 43253
A47: Nom élève 45 | B47: Prénom élève 45 | C47: 43253 | E47: 4 | F47: 3 | G47: 2 | H47: 1
A48: Nom élève 46 | B48: Prénom élève 46 | C48: 43222 | F48: 4 | G48: 3 | H48: 2 | I48: 1
A49: Nom élève 47 | B49: Prénom élève 47 | C49: 43253 | G49: 4 | H49: 3 | I49: 2 | J49: 1
A50: Nom élève 48 | B50: Prénom élève 48 | C50: 43102 | H50: 4 | I50: 3 | J50: 2 | K50: 1
A51: Nom élève 49 | B51: Prénom élève 49 | C51: 43161 | I51: 4 | J51: 3 | K51: 2 | L51: 1
A52: Nom élève 50 | B52: Prénom élève 50 | C52: 43102
A53: Nom élève 51 | B53: Prénom élève 51 | C53: 43222 | D53: 4 | E53: 3 | F53: 2 | G53: 1
A54: Nom élève 52 | B54: Prénom élève 52 | C54: 43314 | H54: 1 | I54: 2 | J54: 3 | K54: 4
A55: Nom élève 53 | B55: Prénom élève 53 | C55: 43283 | I55: 1 | J55: 2 | K55: 3 | L55: 4
A56: Nom élève 54 | B56: Prénom élève 54 | C56: 43192 | H56: 4 | I56: 3 | J56: 2 | K56: 1
A57: Nom élève 55 | B57: Prénom élève 55 | C57: 43222 | D57: 1 | E57: 2 | F57: 3 | G57: 4
A58: Nom élève 56 | B58: Prénom élève 56 | C58: 43222 | G58: 1 | H58: 2 | I58: 3 | J58: 4
A59: Nom élève 57 | B59: Prénom élève 57 | C59: 43161 | F59: 1 | G59: 2 | K59: 3 | L59: 4
A60: Nom élève 58 | B60: Prénom élève 58 | C60: 43161 | I60: 4 | J60: 3 | K60: 1 | L60: 2
A61: Nom élève 59 | B61: Prénom élève 59 | C61: 43222 | I61: 4 | J61: 3 | K61: 2 | L61: 1
A62: Nom élève 60 | B62: Prénom élève 60 | C62: 43222 | G62: 4 | H62: 3 | I62: 2 | J62: 1
A63: Nom élève 61 | B63: Prénom élève 61 | C63: 43283 | F63: 1 | G63: 2 | H63: 3 | I63: 4
A64: Nom élève 62 | B64: Prénom élève 62 | C64: 43253
A65: Nom élève 63 | B65: Prénom élève 63 | C65: 43102 | E65: 4 | F65: 3 | G65: 2 | H65: 1
A66: Nom élève 64 | B66: Prénom élève 64 | C66: 43192 | F66: 4 | G66: 3 | H66: 2 | I66: 1
A67: Nom élève 65 | B67: Prénom élève 65 | C67: 43283 | G67: 4 | H67: 3 | I67: 2 | J67: 1
A68: Nom élève 66 | B68: Prénom élève 66 | C68: 43283 | H68: 4 | I68: 3 | J68: 2 | K68: 1
A69: Nom élève 67 | B69: Prénom élève 67 | C69: 43133 | I69: 4 | J69: 3 | K69: 2 | L69: 1
A70: Nom élève 68 | B70: Prénom élève 68 | C70: 43133
A71: Nom élève 69 | B71: Prénom élève 69 | C71: 43102 | D71: 4 | E71: 3 | F71: 2 | G71: 1
A72: Nom élève 70 | B72: Prénom élève 70 | C72: 43345 | H72: 1 | I72: 2 | J72: 3 | K72: 4
A73: Nom élève 71 | B73: Prénom élève 71 | C73: 43192 | I73: 1 | J73: 2 | K73: 3 | L73: 4
A74: Nom élève 72 | B74: Prénom élève 72 | C74: 43314 | H74: 4 | I74: 3 | J74: 2 | K74: 1
A75: Nom élève 73 | B75: Prénom élève 73 | C75: 43222 | D75: 1 | E75: 2 | F75: 3 | G75: 4
A76: Nom élève 74 | B76: Prénom élève 74 | C76: 43345 | G76: 1 | H76: 2 | I76: 3 | J76: 4
A77: Nom élève 75 | B77: Prénom élève 75 | C77: 43161 | F77: 1 | G77: 2 | K77: 3 | L77: 4
A78: Nom élève 76 | B78: Prénom élève 76 | C78: 43161 | I78: 4 | J78: 3 | K78: 1 | L78: 2
A79: Nom élève 77 | B79: Prénom élève 77 | C79: 43283 | I79: 4 | J79: 3 | K79: 2 | L79: 1
A80: Nom élève 78 | B80: Prénom élève 78 | C80: 43345 | G80: 4 | H80: 3 | I80: 2 | J80: 1
A81: Nom élève 79 | B81: Prénom élève 79 | C81: 43161 | F81: 1 | G81: 2 | H81: 3 | I81: 4
A82: Nom élève 80 | B82: Prénom élève 80 | C82: 43253
A83: Nom élève 81 | B83: Prénom élève 81 | C83: 43133 | E83: 4 | F83: 3 | G83: 2 | H83: 1
A84: Nom élève 82 | B84: Prénom élève 82 | C84: 43133 | F84: 4 | G84: 3 | H84: 2 | I84: 1
A85: Nom élève 83 | B85: Prénom élève 83 | C85: 43161 | G85: 4 | H85: 3 | I85: 2 | J85: 1
A86: Nom élève 84 | B86: Prénom élève 84 | C86: 43192 | H86: 4 | I86: 3 | J86: 2 | K86: 1
A87: Nom élève 85 | B87: Prénom élève 85 | C87: 43283 | I87: 4 | J87: 3 | K87: 2 | L87: 1
A88: Nom élève 86 | B88: Prénom élève 86 | C88: 43222
A89: Nom élève 87 | B89: Prénom élève 87 | C89: 43222 | D89: 4 | E89: 3 | F89: 2 | G89: 1
A90: Nom élève 88 | B90: Prénom élève 88 | C90: 43102 | H90: 1 | I90: 2 | J90: 3 | K90: 4
A91: Nom élève 89 | B91: Prénom élève 89 | C91: 43222 | I91: 1 | J91: 2 | K91: 3 | L91: 4
A92: Nom élève 90 | B92: Prénom élève 90 | C92: 43102 | H92: 4 | I92: 3 | J92: 2 | K92: 1
A93: Nom élève 91 | B93: Prénom élève 91 | C93: 43161 | D93: 1 | E93: 2 | F93: 3 | G93: 4
A94: Nom élève 92 | B94: Prénom élève 92 | C94: 43102 | G94: 1 | H94: 2 | I94: 3 | J94: 4
A95: Nom élève 93 | B95: Prénom élève 93 | C95: 43133 | F95: 1 | G95: 2 | K95: 3 | L95: 4
A96: Nom élève 94 | B96: Prénom élève 94 | C96: 43161 | I96: 4 | J96: 3 | K96: 1 | L96: 2
A97: Nom élève 95 | B97: Prénom élève 95 | C97: 43314 | I97: 4 | J97: 3 | K97: 2 | L97: 1
A98: Nom élève 96 | B98: Prénom élève 96 | C98: 43222 | G98: 4 | H98: 3 | I98: 2 | J98: 1
A99: Nom élève 97 | B99: Prénom élève 97 | C99: 43253 | F99: 1 | G99: 2 | H99: 3 | I99: 4
A100: Nom élève 98 | B100: Prénom élève 98 | C100: 43253
A101: Nom élève 99 | B101: Prénom élève 99 | C101: 43345 | E101: 4 | F101: 3 | G101: 2 | H101: 1
...

Sheet Doublettes
A2: Nom | B2: Prénom | C2: Classe | D2: Spé 1 et 2 | E2: Voeu1 | F2: Voeu2 | G2: Voeu3 | H2: Voeu3 oblig | I2: Voeu4 | J2: Vœu retenu | K2: Reste vœu 3 | L2: Reste vœu 4 | N2: Spé 1;2;3 | Q2: nb vœux 1 et 2 | R2: nb groupes | S2: Différence | T2: nb vœux 3 | U2: nb vœux 4 | V2: vœux 1,2,3 | W2: nb groupes | X2: Différence | Y2: Vœux 3 retenus | Z2: vœux finaux | AA2: reste voeux3 | AB2: reste voeux4 | AC2: nb groupes | AD2: nb groupes forcés | AE2: Différence
A3: Nom élève 1Prénom élève 1 | B3: Prénom élève 1 | C3: 43133 | D3: =CONCATENATE(IF(OR(Voeux!D3=1,Voeux!D3=2),Voeux!D$2,""),IF(OR(Voeux!E3=1,Voeux!E3=2),Voeux!E$2,""),IF(OR(Voeux!F3=1,Voeux!F3=2),Voeux!F$2,""),IF(OR(Voeux!G3=1,Voeux!G3=2),Voeux!G$2,""),IF(OR(Voeux!H3=1,Voeux!H3=2),Voeux!H$2,""),IF(OR(Voeux!I3=1,Voeux!I3=2),Voeux!I$2,""),IF(OR(Voeux!J3=1,Voeux!J3=2),Voeux!J$2,""),IF(OR(Voeux!K3=1,Voeux!K3=2),Voeux!K$2,""),IF(OR(Voeux!L3=1,Voeux!L3=2),Voeux!L$2,"")) -> HdaHgg | E3: =LEFT(D3,3) -> Hda | F3: =RIGHT(D3,3) -> Hgg | G3: =IF(Voeux!D3=3,Voeux!$D$2,IF(Voeux!E3=3,Voeux!$E$2,IF(Voeux!F3=3,Voeux!$F$2,IF(Voeux!G3=3,Voeux!$G$2,IF(Voeux!H3=3,Voeux!$H$2,IF(Voeux!I3=3,Voeux!$I$2,IF(Voeux!J3=3,Voeux!$J$2,IF(Voeux!K3=3,Voeux!$K$2,IF(Voeux!L3=3,Voeux!$L$2,""))))))))) -> Hlp | I3: =IF(Voeux!E3=4,Voeux!$E$2,IF(Voeux!F3=4,Voeux!$F$2,IF(Voeux!G3=4,Voeux!$G$2,IF(Voeux!H3=4,Voeux!$H$2,IF(Voeux!I3=4,Voeux!$I$2,IF(Voeux!J3=4,Voeux!$J$2,IF(Voeux!K3=4,Voeux!$K$2,IF(Voeux!L3=4,Voeux!$L$2,IF(Voeux!D3=4,Voeux!$D$2,""))))))))) -> Llc | K3: =IF(J3<>"","",G3) -> Hlp | L3: =IF(J3<>"","",I3) -> Llc | N3: =CONCATENATE(D3,G3) -> HdaHggHlp | P3: Hda | Q3: =COUNTIF(E:E,P3)+COUNTIF(F:F,P3) -> 17 | R3: =ROUNDUP(Q3/35,0) -> 1 | S3: =35*R3-Q3 -> 18 | T3: =COUNTIF(G:G,P3) -> 1 | U3: =COUNTIF(I:I,P3) -> 17 | V3: =Q3+COUNTIF(G:G,P3) -> 18 | W3: =ROUNDUP(V3/35,0) -> 1 | X3: =35*W3-V3 -> 17 | Y3: =COUNTIF(J:J,P3) -> 0 | Z3: =Q3+Y3 -> 17 | AA3: =COUNTIF(K:K,P3) -> 1 | AB3: =COUNTIF(L:L,P3) -> 17 | AC3: =ROUNDUP(Z3/35,0) -> 1 | AD3: 1 | AE3: =35*AC3-Z3 -> 18
A4: Nom élève 1Prénom élève 2 | B4: Prénom élève 2 | C4: 43133 | D4: =CONCATENATE(IF(OR(Voeux!D4=1,Voeux!D4=2),Voeux!D$2,""),IF(OR(Voeux!E4=1,Voeux!E4=2),Voeux!E$2,""),IF(OR(Voeux!F4=1,Voeux!F4=2),Voeux!F$2,""),IF(OR(Voeux!G4=1,Voeux!G4=2),Voeux!G$2,""),IF(OR(Voeux!H4=1,Voeux!H4=2),Voeux!H$2,""),IF(OR(Voeux!I4=1,Voeux!I4=2),Voeux!I$2,""),IF(OR(Voeux!J4=1,Voeux!J4=2),Voeux!J$2,""),IF(OR(Voeux!K4=1,Voeux!K4=2),Voeux!K$2,""),IF(OR(Voeux!L4=1,Voeux!L4=2),Voeux!L$2,"")) -> LlcMat | E4: =LEFT(D4,3) -> Llc | F4: =RIGHT(D4,3) -> Mat | G4: =IF(Voeux!D4=3,Voeux!$D$2,IF(Voeux!E4=3,Voeux!$E$2,IF(Voeux!F4=3,Voeux!$F$2,IF(Voeux!G4=3,Voeux!$G$2,IF(Voeux!H4=3,Voeux!$H$2,IF(Voeux!I4=3,Voeux!$I$2,IF(Voeux!J4=3,Voeux!$J$2,IF(Voeux!K4=3,Voeux!$K$2,IF(Voeux!L4=3,Voeux!$L$2,""))))))))) -> Num | I4: =IF(Voeux!E4=4,Voeux!$E$2,IF(Voeux!F4=4,Voeux!$F$2,IF(Voeux!G4=4,Voeux!$G$2,IF(Voeux!H4=4,Voeux!$H$2,IF(Voeux!I4=4,Voeux!$I$2,IF(Voeux!J4=4,Voeux!$J$2,IF(Voeux!K4=4,Voeux!$K$2,IF(Voeux!L4=4,Voeux!$L$2,IF(Voeux!D4=4,Voeux!$D$2,""))))))))) -> Pch | K4: =IF(J4<>"","",G4) -> Num | L4: =IF(J4<>"","",I4) -> Pch | N4: =CONCATENATE(D4,G4) -> LlcMatNum | P4: Hgg | Q4: =COUNTIF(E:E,P4)+COUNTIF(F:F,P4) -> 18 | R4: =ROUNDUP(Q4/35,0) -> 1 | S4: =35*R4-Q4 -> 17 | T4: =COUNTIF(G:G,P4) -> 17 | U4: =COUNTIF(I:I,P4) -> 17 | V4: =Q4+COUNTIF(G:G,P4) -> 35 | W4: =ROUNDUP(V4/35,0) -> 1 | X4: =35*W4-V4 -> 0 | Y4: =COUNTIF(J:J,P4) -> 0 | Z4: =Q4+Y4 -> 18 | AA4: =COUNTIF(K:K,P4) -> 17 | AB4: =COUNTIF(L:L,P4) -> 17 | AC4: =ROUNDUP(Z4/35,0) -> 1 | AD4: 1 | AE4: =35*AC4-Z4 -> 17
A5: Nom élève 1Prénom élève 3 | B5: Prénom élève 3 | C5: 43102 | D5: =CONCATENATE(IF(OR(Voeux!D5=1,Voeux!D5=2),Voeux!D$2,""),IF(OR(Voeux!E5=1,Voeux!E5=2),Voeux!E$2,""),IF(OR(Voeux!F5=1,Voeux!F5=2),Voeux!F$2,""),IF(OR(Voeux!G5=1,Voeux!G5=2),Voeux!G$2,""),IF(OR(Voeux!H5=1,Voeux!H5=2),Voeux!H$2,""),IF(OR(Voeux!I5=1,Voeux!I5=2),Voeux!I$2,""),IF(OR(Voeux!J5=1,Voeux!J5=2),Voeux!J$2,""),IF(OR(Voeux!K5=1,Voeux!K5=2),Voeux!K$2,""),IF(OR(Voeux!L5=1,Voeux!L5=2),Voeux!L$2,"")) -> HlpLlc | E5: =LEFT(D5,3) -> Hlp | F5: =RIGHT(D5,3) -> Llc | G5: =IF(Voeux!D5=3,Voeux!$D$2,IF(Voeux!E5=3,Voeux!$E$2,IF(Voeux!F5=3,Voeux!$F$2,IF(Voeux!G5=3,Voeux!$G$2,IF(Voeux!H5=3,Voeux!$H$2,IF(Voeux!I5=3,Voeux!$I$2,IF(Voeux!J5=3,Voeux!$J$2,IF(Voeux!K5=3,Voeux!$K$2,IF(Voeux!L5=3,Voeux!$L$2,""))))))))) -> Ses | I5: =IF(Voeux!E5=4,Voeux!$E$2,IF(Voeux!F5=4,Voeux!$F$2,IF(Voeux!G5=4,Voeux!$G$2,IF(Voeux!H5=4,Voeux!$H$2,IF(Voeux!I5=4,Voeux!$I$2,IF(Voeux!J5=4,Voeux!$J$2,IF(Voeux!K5=4,Voeux!$K$2,IF(Voeux!L5=4,Voeux!$L$2,IF(Voeux!D5=4,Voeux!$D$2,""))))))))) -> Svt | K5: =IF(J5<>"","",G5) -> Ses | L5: =IF(J5<>"","",I5) -> Svt | N5: =CONCATENATE(D5,G5) -> HlpLlcSes | P5: Hlp | Q5: =COUNTIF(E:E,P5)+COUNTIF(F:F,P5) -> 52 | R5: =ROUNDUP(Q5/35,0) -> 2 | S5: =35*R5-Q5 -> 18 | T5: =COUNTIF(G:G,P5) -> 34 | U5: =COUNTIF(I:I,P5) -> 17 | V5: =Q5+COUNTIF(G:G,P5) -> 86 | W5: =ROUNDUP(V5/35,0) -> 3 | X5: =35*W5-V5 -> 19 | Y5: =COUNTIF(J:J,P5) -> 0 | Z5: =Q5+Y5 -> 52 | AA5: =COUNTIF(K:K,P5) -> 34 | AB5: =COUNTIF(L:L,P5) -> 17 | AC5: =ROUNDUP(Z5/35,0) -> 2 | AD5: 3 | AE5: =35*AC5-Z5 -> 18
A6: Nom élève 1Prénom élève 4 | B6: Prénom élève 4 | C6: 43161 | D6: =CONCATENATE(IF(OR(Voeux!D6=1,Voeux!D6=2),Voeux!D$2,""),IF(OR(Voeux!E6=1,Voeux!E6=2),Voeux!E$2,""),IF(OR(Voeux!F6=1,Voeux!F6=2),Voeux!F$2,""),IF(OR(Voeux!G6=1,Voeux!G6=2),Voeux!G$2,""),IF(OR(Voeux!H6=1,Voeux!H6=2),Voeux!H$2,""),IF(OR(Voeux!I6=1,Voeux!I6=2),Voeux!I$2,""),IF(OR(Voeux!J6=1,Voeux!J6=2),Voeux!J$2,""),IF(OR(Voeux!K6=1,Voeux!K6=2),Voeux!K$2,""),IF(OR(Voeux!L6=1,Voeux!L6=2),Voeux!L$2,"")) -> SesSvt | E6: =LEFT(D6,3) -> Ses | F6: =RIGHT(D6,3) -> Svt | G6: =IF(Voeux!D6=3,Voeux!$D$2,IF(Voeux!E6=3,Voeux!$E$2,IF(Voeux!F6=3,Voeux!$F$2,IF(Voeux!G6=3,Voeux!$G$2,IF(Voeux!H6=3,Voeux!$H$2,IF(Voeux!I6=3,Voeux!$I$2,IF(Voeux!J6=3,Voeux!$J$2,IF(Voeux!K6=3,Voeux!$K$2,IF(Voeux!L6=3,Voeux!$L$2,""))))))))) -> Pch | I6: =IF(Voeux!E6=4,Voeux!$E$2,IF(Voeux!F6=4,Voeux!$F$2,IF(Voeux!G6=4,Voeux!$G$2,IF(Voeux!H6=4,Voeux!$H$2,IF(Voeux!I6=4,Voeux!$I$2,IF(Voeux!J6=4,Voeux!$J$2,IF(Voeux!K6=4,Voeux!$K$2,IF(Voeux!L6=4,Voeux!$L$2,IF(Voeux!D6=4,Voeux!$D$2,""))))))))) -> Num | K6: =IF(J6<>"","",G6) -> Pch | L6: =IF(J6<>"","",I6) -> Num | N6: =CONCATENATE(D6,G6) -> SesSvtPch | P6: Llc | Q6: =COUNTIF(E:E,P6)+COUNTIF(F:F,P6) -> 85 | R6: =ROUNDUP(Q6/35,0) -> 3 | S6: =35*R6-Q6 -> 20 | T6: =COUNTIF(G:G,P6) -> 17 | U6: =COUNTIF(I:I,P6) -> 52 | V6: =Q6+COUNTIF(G:G,P6) -> 102 | W6: =ROUNDUP(V6/35,0) -> 3 | X6: =35*W6-V6 -> 3 | Y6: =COUNTIF(J:J,P6) -> 0 | Z6: =Q6+Y6 -> 85 | AA6: =COUNTIF(K:K,P6) -> 17 | AB6: =COUNTIF(L:L,P6) -> 52 | AC6: 4 | AD6: 5 | AE6: =35*AC6-Z6 -> 55
A7: Nom élève 1Prénom élève 5 | B7: Prénom élève 5 | C7: 43345 | D7: =CONCATENATE(IF(OR(Voeux!D7=1,Voeux!D7=2),Voeux!D$2,""),IF(OR(Voeux!E7=1,Voeux!E7=2),Voeux!E$2,""),IF(OR(Voeux!F7=1,Voeux!F7=2),Voeux!F$2,""),IF(OR(Voeux!G7=1,Voeux!G7=2),Voeux!G$2,""),IF(OR(Voeux!H7=1,Voeux!H7=2),Voeux!H$2,""),IF(OR(Voeux!I7=1,Voeux!I7=2),Voeux!I$2,""),IF(OR(Voeux!J7=1,Voeux!J7=2),Voeux!J$2,""),IF(OR(Voeux!K7=1,Voeux!K7=2),Voeux!K$2,""),IF(OR(Voeux!L7=1,Voeux!L7=2),Voeux!L$2,"")) -> SesSvt | E7: =LEFT(D7,3) -> Ses | F7: =RIGHT(D7,3) -> Svt | G7: =IF(Voeux!D7=3,Voeux!$D$2,IF(Voeux!E7=3,Voeux!$E$2,IF(Voeux!F7=3,Voeux!$F$2,IF(Voeux!G7=3,Voeux!$G$2,IF(Voeux!H7=3,Voeux!$H$2,IF(Voeux!I7=3,Voeux!$I$2,IF(Voeux!J7=3,Voeux!$J$2,IF(Voeux!K7=3,Voeux!$K$2,IF(Voeux!L7=3,Voeux!$L$2,""))))))))) -> Pch | I7: =IF(Voeux!E7=4,Voeux!$E$2,IF(Voeux!F7=4,Voeux!$F$2,IF(Voeux!G7=4,Voeux!$G$2,IF(Voeux!H7=4,Voeux!$H$2,IF(Voeux!I7=4,Voeux!$I$2,IF(Voeux!J7=4,Voeux!$J$2,IF(Voeux!K7=4,Voeux!$K$2,IF(Voeux!L7=4,Voeux!$L$2,IF(Voeux!D7=4,Voeux!$D$2,""))))))))) -> Num | K7: =IF(J7<>"","",G7) -> Pch | L7: =IF(J7<>"","",I7) -> Num | N7: =CONCATENATE(D7,G7) -> SesSvtPch | P7: Mat | Q7: =COUNTIF(E:E,P7)+COUNTIF(F:F,P7) -> 68 | R7: =ROUNDUP(Q7/35,0) -> 2 | S7: =35*R7-Q7 -> 2 | T7: =COUNTIF(G:G,P7) -> 51 | U7: =COUNTIF(I:I,P7) -> 35 | V7: =Q7+COUNTIF(G:G,P7) -> 119 | W7: =ROUNDUP(V7/35,0) -> 4 | X7: =35*W7-V7 -> 21 | Y7: =COUNTIF(J:J,P7) -> 0 | Z7: =Q7+Y7 -> 68 | AA7: =COUNTIF(K:K,P7) -> 51 | AB7: =COUNTIF(L:L,P7) -> 35 | AC7: =ROUNDUP(Z7/35,0) -> 2 | AD7: 3 | AE7: =35*AC7-Z7 -> 2
A8: Nom élève 1Prénom élève 6 | B8: Prénom élève 6 | C8: 43133 | D8: =CONCATENATE(IF(OR(Voeux!D8=1,Voeux!D8=2),Voeux!D$2,""),IF(OR(Voeux!E8=1,Voeux!E8=2),Voeux!E$2,""),IF(OR(Voeux!F8=1,Voeux!F8=2),Voeux!F$2,""),IF(OR(Voeux!G8=1,Voeux!G8=2),Voeux!G$2,""),IF(OR(Voeux!H8=1,Voeux!H8=2),Voeux!H$2,""),IF(OR(Voeux!I8=1,Voeux!I8=2),Voeux!I$2,""),IF(OR(Voeux!J8=1,Voeux!J8=2),Voeux!J$2,""),IF(OR(Voeux!K8=1,Voeux!K8=2),Voeux!K$2,""),IF(OR(Voeux!L8=1,Voeux!L8=2),Voeux!L$2,"")) -> NumPch | E8: =LEFT(D8,3) -> Num | F8: =RIGHT(D8,3) -> Pch | G8: =IF(Voeux!D8=3,Voeux!$D$2,IF(Voeux!E8=3,Voeux!$E$2,IF(Voeux!F8=3,Voeux!$F$2,IF(Voeux!G8=3,Voeux!$G$2,IF(Voeux!H8=3,Voeux!$H$2,IF(Voeux!I8=3,Voeux!$I$2,IF(Voeux!J8=3,Voeux!$J$2,IF(Voeux!K8=3,Voeux!$K$2,IF(Voeux!L8=3,Voeux!$L$2,""))))))))) -> Mat | I8: =IF(Voeux!E8=4,Voeux!$E$2,IF(Voeux!F8=4,Voeux!$F$2,IF(Voeux!G8=4,Voeux!$G$2,IF(Voeux!H8=4,Voeux!$H$2,IF(Voeux!I8=4,Voeux!$I$2,IF(Voeux!J8=4,Voeux!$J$2,IF(Voeux!K8=4,Voeux!$K$2,IF(Voeux!L8=4,Voeux!$L$2,IF(Voeux!D8=4,Voeux!$D$2,""))))))))) -> Llc | K8: =IF(J8<>"","",G8) -> Mat | L8: =IF(J8<>"","",I8) -> Llc | N8: =CONCATENATE(D8,G8) -> NumPchMat | P8: Num | Q8: =COUNTIF(E:E,P8)+COUNTIF(F:F,P8) -> 86 | R8: =ROUNDUP(Q8/35,0) -> 3 | S8: =35*R8-Q8 -> 19 | T8: =COUNTIF(G:G,P8) -> 52 | U8: =COUNTIF(I:I,P8) -> 68 | V8: =Q8+COUNTIF(G:G,P8) -> 138 | W8: =ROUNDUP(V8/35,0) -> 4 | X8: =35*W8-V8 -> 2 | Y8: =COUNTIF(J:J,P8) -> 0 | Z8: =Q8+Y8 -> 86 | AA8: =COUNTIF(K:K,P8) -> 52 | AB8: =COUNTIF(L:L,P8) -> 68 | AC8: =ROUNDUP(Z8/35,0) -> 3 | AD8: 4 | AE8: =35*AC8-Z8 -> 19
A9: Nom élève 1Prénom élève 7 | B9: Prénom élève 7 | C9: 43283 | D9: =CONCATENATE(IF(OR(Voeux!D9=1,Voeux!D9=2),Voeux!D$2,""),IF(OR(Voeux!E9=1,Voeux!E9=2),Voeux!E$2,""),IF(OR(Voeux!F9=1,Voeux!F9=2),Voeux!F$2,""),IF(OR(Voeux!G9=1,Voeux!G9=2),Voeux!G$2,""),IF(OR(Voeux!H9=1,Voeux!H9=2),Voeux!H$2,""),IF(OR(Voeux!I9=1,Voeux!I9=2),Voeux!I$2,""),IF(OR(Voeux!J9=1,Voeux!J9=2),Voeux!J$2,""),IF(OR(Voeux!K9=1,Voeux!K9=2),Voeux!K$2,""),IF(OR(Voeux!L9=1,Voeux!L9=2),Voeux!L$2,"")) -> HlpLlc | E9: =LEFT(D9,3) -> Hlp | F9: =RIGHT(D9,3) -> Llc | G9: =IF(Voeux!D9=3,Voeux!$D$2,IF(Voeux!E9=3,Voeux!$E$2,IF(Voeux!F9=3,Voeux!$F$2,IF(Voeux!G9=3,Voeux!$G$2,IF(Voeux!H9=3,Voeux!$H$2,IF(Voeux!I9=3,Voeux!$I$2,IF(Voeux!J9=3,Voeux!$J$2,IF(Voeux!K9=3,Voeux!$K$2,IF(Voeux!L9=3,Voeux!$L$2,""))))))))) -> Mat | H9: x | I9: =IF(Voeux!E9=4,Voeux!$E$2,IF(Voeux!F9=4,Voeux!$F$2,IF(Voeux!G9=4,Voeux!$G$2,IF(Voeux!H9=4,Voeux!$H$2,IF(Voeux!I9=4,Voeux!$I$2,IF(Voeux!J9=4,Voeux!$J$2,IF(Voeux!K9=4,Voeux!$K$2,IF(Voeux!L9=4,Voeux!$L$2,IF(Voeux!D9=4,Voeux!$D$2,""))))))))) -> Num | K9: =IF(J9<>"","",G9) -> Mat | L9: =IF(J9<>"","",I9) -> Num | N9: =CONCATENATE(D9,G9) -> HlpLlcMat | P9: Pch | Q9: =COUNTIF(E:E,P9)+COUNTIF(F:F,P9) -> 87 | R9: =ROUNDUP(Q9/35,0) -> 3 | S9: =35*R9-Q9 -> 18 | T9: =COUNTIF(G:G,P9) -> 68 | U9: =COUNTIF(I:I,P9) -> 17 | V9: =Q9+COUNTIF(G:G,P9) -> 155 | W9: =ROUNDUP(V9/35,0) -> 5 | X9: =35*W9-V9 -> 20 | Y9: =COUNTIF(J:J,P9) -> 0 | Z9: =Q9+Y9 -> 87 | AA9: =COUNTIF(K:K,P9) -> 68 | AB9: =COUNTIF(L:L,P9) -> 17 | AC9: =ROUNDUP(Z9/35,0) -> 3 | AD9: 3 | AE9: =35*AC9-Z9 -> 18
A10: Nom élève 1Prénom élève 8 | B10: Prénom élève 8 | C10: 43102 | D10: =CONCATENATE(IF(OR(Voeux!D10=1,Voeux!D10=2),Voeux!D$2,""),IF(OR(Voeux!E10=1,Voeux!E10=2),Voeux!E$2,""),IF(OR(Voeux!F10=1,Voeux!F10=2),Voeux!F$2,""),IF(OR(Voeux!G10=1,Voeux!G10=2),Voeux!G$2,""),IF(OR(Voeux!H10=1,Voeux!H10=2),Voeux!H$2,""),IF(OR(Voeux!I10=1,Voeux!I10=2),Voeux!I$2,""),IF(OR(Voeux!J10=1,Voeux!J10=2),Voeux!J$2,""),IF(OR(Voeux!K10=1,Voeux!K10=2),Voeux!K$2,""),IF(OR(Voeux!L10=1,Voeux!L10=2),Voeux!L$2,"")) -> HdaHgg | E10: =LEFT(D10,3) -> Hda | F10: =RIGHT(D10,3) -> Hgg | G10: =IF(Voeux!D10=3,Voeux!$D$2,IF(Voeux!E10=3,Voeux!$E$2,IF(Voeux!F10=3,Voeux!$F$2,IF(Voeux!G10=3,Voeux!$G$2,IF(Voeux!H10=3,Voeux!$H$2,IF(Voeux!I10=3,Voeux!$I$2,IF(Voeux!J10=3,Voeux!$J$2,IF(Voeux!K10=3,Voeux!$K$2,IF(Voeux!L10=3,Voeux!$L$2,""))))))))) -> Hlp | I10: =IF(Voeux!E10=4,Voeux!$E$2,IF(Voeux!F10=4,Voeux!$F$2,IF(Voeux!G10=4,Voeux!$G$2,IF(Voeux!H10=4,Voeux!$H$2,IF(Voeux!I10=4,Voeux!$I$2,IF(Voeux!J10=4,Voeux!$J$2,IF(Voeux!K10=4,Voeux!$K$2,IF(Voeux!L10=4,Voeux!$L$2,IF(Voeux!D10=4,Voeux!$D$2,""))))))))) -> Llc | K10: =IF(J10<>"","",G10) -> Hlp | L10: =IF(J10<>"","",I10) -> Llc | N10: =CONCATENATE(D10,G10) -> HdaHggHlp | P10: Ses | Q10: =COUNTIF(E:E,P10)+COUNTIF(F:F,P10) -> 86 | R10: =ROUNDUP(Q10/35,0) -> 3 | S10: =35*R10-Q10 -> 19 | T10: =COUNTIF(G:G,P10) -> 35 | U10: =COUNTIF(I:I,P10) -> 17 | V10: =Q10+COUNTIF(G:G,P10) -> 121 | W10: =ROUNDUP(V10/35,0) -> 4 | X10: =35*W10-V10 -> 19 | Y10: =COUNTIF(J:J,P10) -> 0 | Z10: =Q10+Y10 -> 86 | AA10: =COUNTIF(K:K,P10) -> 35 | AB10: =COUNTIF(L:L,P10) -> 17 | AC10: =ROUNDUP(Z10/35,0) -> 3 | AD10: 3 | AE10: =35*AC10-Z10 -> 19
A11: Nom élève 1Prénom élève 9 | B11: Prénom élève 9 | C11: 43283 | D11: =CONCATENATE(IF(OR(Voeux!D11=1,Voeux!D11=2),Voeux!D$2,""),IF(OR(Voeux!E11=1,Voeux!E11=2),Voeux!E$2,""),IF(OR(Voeux!F11=1,Voeux!F11=2),Voeux!F$2,""),IF(OR(Voeux!G11=1,Voeux!G11=2),Voeux!G$2,""),IF(OR(Voeux!H11=1,Voeux!H11=2),Voeux!H$2,""),IF(OR(Voeux!I11=1,Voeux!I11=2),Voeux!I$2,""),IF(OR(Voeux!J11=1,Voeux!J11=2),Voeux!J$2,""),IF(OR(Voeux!K11=1,Voeux!K11=2),Voeux!K$2,""),IF(OR(Voeux!L11=1,Voeux!L11=2),Voeux!L$2,"")) -> LlcMat | E11: =LEFT(D11,3) -> Llc | F11: =RIGHT(D11,3) -> Mat | G11: =IF(Voeux!D11=3,Voeux!$D$2,IF(Voeux!E11=3,Voeux!$E$2,IF(Voeux!F11=3,Voeux!$F$2,IF(Voeux!G11=3,Voeux!$G$2,IF(Voeux!H11=3,Voeux!$H$2,IF(Voeux!I11=3,Voeux!$I$2,IF(Voeux!J11=3,Voeux!$J$2,IF(Voeux!K11=3,Voeux!$K$2,IF(Voeux!L11=3,Voeux!$L$2,""))))))))) -> Hlp | I11: =IF(Voeux!E11=4,Voeux!$E$2,IF(Voeux!F11=4,Voeux!$F$2,IF(Voeux!G11=4,Voeux!$G$2,IF(Voeux!H11=4,Voeux!$H$2,IF(Voeux!I11=4,Voeux!$I$2,IF(Voeux!J11=4,Voeux!$J$2,IF(Voeux!K11=4,Voeux!$K$2,IF(Voeux!L11=4,Voeux!$L$2,IF(Voeux!D11=4,Voeux!$D$2,""))))))))) -> Hgg | K11: =IF(J11<>"","",G11) -> Hlp | L11: =IF(J11<>"","",I11) -> Hgg | N11: =CONCATENATE(D11,G11) -> LlcMatHlp | P11: Svt | Q11: =COUNTIF(E:E,P11)+COUNTIF(F:F,P11) -> 51 | R11: =ROUNDUP(Q11/35,0) -> 2 | S11: =35*R11-Q11 -> 19 | T11: =COUNTIF(G:G,P11) -> 0 | U11: =COUNTIF(I:I,P11) -> 35 | V11: =Q11+COUNTIF(G:G,P11) -> 51 | W11: =ROUNDUP(V11/35,0) -> 2 | X11: =35*W11-V11 -> 19 | Y11: =COUNTIF(J:J,P11) -> 0 | Z11: =Q11+Y11 -> 51 | AA11: =COUNTIF(K:K,P11) -> 0 | AB11: =COUNTIF(L:L,P11) -> 35 | AC11: =ROUNDUP(Z11/35,0) -> 2 | AD11: 1 | AE11: =35*AC11-Z11 -> 19
A12: Nom élève 1Prénom élève 10 | B12: Prénom élève 10 | C12: 43133 | D12: =CONCATENATE(IF(OR(Voeux!D12=1,Voeux!D12=2),Voeux!D$2,""),IF(OR(Voeux!E12=1,Voeux!E12=2),Voeux!E$2,""),IF(OR(Voeux!F12=1,Voeux!F12=2),Voeux!F$2,""),IF(OR(Voeux!G12=1,Voeux!G12=2),Voeux!G$2,""),IF(OR(Voeux!H12=1,Voeux!H12=2),Voeux!H$2,""),IF(OR(Voeux!I12=1,Voeux!I12=2),Voeux!I$2,""),IF(OR(Voeux!J12=1,Voeux!J12=2),Voeux!J$2,""),IF(OR(Voeux!K12=1,Voeux!K12=2),Voeux!K$2,""),IF(OR(Voeux!L12=1,Voeux!L12=2),Voeux!L$2,"")) -> MatNum | E12: =LEFT(D12,3) -> Mat | F12: =RIGHT(D12,3) -> Num | G12: =IF(Voeux!D12=3,Voeux!$D$2,IF(Voeux!E12=3,Voeux!$E$2,IF(Voeux!F12=3,Voeux!$F$2,IF(Voeux!G12=3,Voeux!$G$2,IF(Voeux!H12=3,Voeux!$H$2,IF(Voeux!I12=3,Voeux!$I$2,IF(Voeux!J12=3,Voeux!$J$2,IF(Voeux!K12=3,Voeux!$K$2,IF(Voeux!L12=3,Voeux!$L$2,""))))))))) -> Llc | I12: =IF(Voeux!E12=4,Voeux!$E$2,IF(Voeux!F12=4,Voeux!$F$2,IF(Voeux!G12=4,Voeux!$G$2,IF(Voeux!H12=4,Voeux!$H$2,IF(Voeux!I12=4,Voeux!$I$2,IF(Voeux!J12=4,Voeux!$J$2,IF(Voeux!K12=4,Voeux!$K$2,IF(Voeux!L12=4,Voeux!$L$2,IF(Voeux!D12=4,Voeux!$D$2,""))))))))) -> Hlp | K12: =IF(J12<>"","",G12) -> Llc | L12: =IF(J12<>"","",I12) -> Hlp | N12: =CONCATENATE(D12,G12) -> MatNumLlc | R12: =SUM(R3:R11) -> 20 | W12: =SUM(W3:W11) -> 27 | Y12: =SUM(Y3:Y11) -> 0 | AC12: =SUM(AC3:AC11) -> 21 | AD12: =SUM(AD3:AD11) -> 24
A13: Nom élève 1Prénom élève 11 | B13: Prénom élève 11 | C13: 43161 | D13: =CONCATENATE(IF(OR(Voeux!D13=1,Voeux!D13=2),Voeux!D$2,""),IF(OR(Voeux!E13=1,Voeux!E13=2),Voeux!E$2,""),IF(OR(Voeux!F13=1,Voeux!F13=2),Voeux!F$2,""),IF(OR(Voeux!G13=1,Voeux!G13=2),Voeux!G$2,""),IF(OR(Voeux!H13=1,Voeux!H13=2),Voeux!H$2,""),IF(OR(Voeux!I13=1,Voeux!I13=2),Voeux!I$2,""),IF(OR(Voeux!J13=1,Voeux!J13=2),Voeux!J$2,""),IF(OR(Voeux!K13=1,Voeux!K13=2),Voeux!K$2,""),IF(OR(Voeux!L13=1,Voeux!L13=2),Voeux!L$2,"")) -> NumPch | E13: =LEFT(D13,3) -> Num | F13: =RIGHT(D13,3) -> Pch | G13: =IF(Voeux!D13=3,Voeux!$D$2,IF(Voeux!E13=3,Voeux!$E$2,IF(Voeux!F13=3,Voeux!$F$2,IF(Voeux!G13=3,Voeux!$G$2,IF(Voeux!H13=3,Voeux!$H$2,IF(Voeux!I13=3,Voeux!$I$2,IF(Voeux!J13=3,Voeux!$J$2,IF(Voeux!K13=3,Voeux!$K$2,IF(Voeux!L13=3,Voeux!$L$2,""))))))))) -> Mat | H13: x | I13: =IF(Voeux!E13=4,Voeux!$E$2,IF(Voeux!F13=4,Voeux!$F$2,IF(Voeux!G13=4,Voeux!$G$2,IF(Voeux!H13=4,Voeux!$H$2,IF(Voeux!I13=4,Voeux!$I$2,IF(Voeux!J13=4,Voeux!$J$2,IF(Voeux!K13=4,Voeux!$K$2,IF(Voeux!L13=4,Voeux!$L$2,IF(Voeux!D13=4,Voeux!$D$2,""))))))))) -> Llc | K13: =IF(J13<>"","",G13) -> Mat | L13: =IF(J13<>"","",I13) -> Llc | N13: =CONCATENATE(D13,G13) -> NumPchMat
A14: Nom élève 1Prénom élève 12 | B14: Prénom élève 12 | C14: 43133 | D14: =CONCATENATE(IF(OR(Voeux!D14=1,Voeux!D14=2),Voeux!D$2,""),IF(OR(Voeux!E14=1,Voeux!E14=2),Voeux!E$2,""),IF(OR(Voeux!F14=1,Voeux!F14=2),Voeux!F$2,""),IF(OR(Voeux!G14=1,Voeux!G14=2),Voeux!G$2,""),IF(OR(Voeux!H14=1,Voeux!H14=2),Voeux!H$2,""),IF(OR(Voeux!I14=1,Voeux!I14=2),Voeux!I$2,""),IF(OR(Voeux!J14=1,Voeux!J14=2),Voeux!J$2,""),IF(OR(Voeux!K14=1,Voeux!K14=2),Voeux!K$2,""),IF(OR(Voeux!L14=1,Voeux!L14=2),Voeux!L$2,"")) -> PchSes | E14: =LEFT(D14,3) -> Pch | F14: =RIGHT(D14,3) -> Ses | G14: =IF(Voeux!D14=3,Voeux!$D$2,IF(Voeux!E14=3,Voeux!$E$2,IF(Voeux!F14=3,Voeux!$F$2,IF(Voeux!G14=3,Voeux!$G$2,IF(Voeux!H14=3,Voeux!$H$2,IF(Voeux!I14=3,Voeux!$I$2,IF(Voeux!J14=3,Voeux!$J$2,IF(Voeux!K14=3,Voeux!$K$2,IF(Voeux!L14=3,Voeux!$L$2,""))))))))) -> Num | I14: =IF(Voeux!E14=4,Voeux!$E$2,IF(Voeux!F14=4,Voeux!$F$2,IF(Voeux!G14=4,Voeux!$G$2,IF(Voeux!H14=4,Voeux!$H$2,IF(Voeux!I14=4,Voeux!$I$2,IF(Voeux!J14=4,Voeux!$J$2,IF(Voeux!K14=4,Voeux!$K$2,IF(Voeux!L14=4,Voeux!$L$2,IF(Voeux!D14=4,Voeux!$D$2,""))))))))) -> Mat | K14: =IF(J14<>"","",G14) -> Num | L14: =IF(J14<>"","",I14) -> Mat | N14: =CONCATENATE(D14,G14) -> PchSesNum
A15: Nom élève 1Prénom élève 13 | B15: Prénom élève 13 | C15: 43314 | D15: =CONCATENATE(IF(OR(Voeux!D15=1,Voeux!D15=2),Voeux!D$2,""),IF(OR(Voeux!E15=1,Voeux!E15=2),Voeux!E$2,""),IF(OR(Voeux!F15=1,Voeux!F15=2),Voeux!F$2,""),IF(OR(Voeux!G15=1,Voeux!G15=2),Voeux!G$2,""),IF(OR(Voeux!H15=1,Voeux!H15=2),Voeux!H$2,""),IF(OR(Voeux!I15=1,Voeux!I15=2),Voeux!I$2,""),IF(OR(Voeux!J15=1,Voeux!J15=2),Voeux!J$2,""),IF(OR(Voeux!K15=1,Voeux!K15=2),Voeux!K$2,""),IF(OR(Voeux!L15=1,Voeux!L15=2),Voeux!L$2,"")) -> SesSvt | E15: =LEFT(D15,3) -> Ses | F15: =RIGHT(D15,3) -> Svt | G15: =IF(Voeux!D15=3,Voeux!$D$2,IF(Voeux!E15=3,Voeux!$E$2,IF(Voeux!F15=3,Voeux!$F$2,IF(Voeux!G15=3,Voeux!$G$2,IF(Voeux!H15=3,Voeux!$H$2,IF(Voeux!I15=3,Voeux!$I$2,IF(Voeux!J15=3,Voeux!$J$2,IF(Voeux!K15=3,Voeux!$K$2,IF(Voeux!L15=3,Voeux!$L$2,""))))))))) -> Pch | I15: =IF(Voeux!E15=4,Voeux!$E$2,IF(Voeux!F15=4,Voeux!$F$2,IF(Voeux!G15=4,Voeux!$G$2,IF(Voeux!H15=4,Voeux!$H$2,IF(Voeux!I15=4,Voeux!$I$2,IF(Voeux!J15=4,Voeux!$J$2,IF(Voeux!K15=4,Voeux!$K$2,IF(Voeux!L15=4,Voeux!$L$2,IF(Voeux!D15=4,Voeux!$D$2,""))))))))) -> Num | K15: =IF(J15<>"","",G15) -> Pch | L15: =IF(J15<>"","",I15) -> Num | N15: =CONCATENATE(D15,G15) -> SesSvtPch
A16: Nom élève 1Prénom élève 14 | B16: Prénom élève 14 | C16: 43283 | D16: =CONCATENATE(IF(OR(Voeux!D16=1,Voeux!D16=2),Voeux!D$2,""),IF(OR(Voeux!E16=1,Voeux!E16=2),Voeux!E$2,""),IF(OR(Voeux!F16=1,Voeux!F16=2),Voeux!F$2,""),IF(OR(Voeux!G16=1,Voeux!G16=2),Voeux!G$2,""),IF(OR(Voeux!H16=1,Voeux!H16=2),Voeux!H$2,""),IF(OR(Voeux!I16=1,Voeux!I16=2),Voeux!I$2,""),IF(OR(Voeux!J16=1,Voeux!J16=2),Voeux!J$2,""),IF(OR(Voeux!K16=1,Voeux!K16=2),Voeux!K$2,""),IF(OR(Voeux!L16=1,Voeux!L16=2),Voeux!L$2,"")) | E16: =LEFT(D16,3) | F16: =RIGHT(D16,3) | G16: =IF(Voeux!D16=3,Voeux!$D$2,IF(Voeux!E16=3,Voeux!$E$2,IF(Voeux!F16=3,Voeux!$F$2,IF(Voeux!G16=3,Voeux!$G$2,IF(Voeux!H16=3,Voeux!$H$2,IF(Voeux!I16=3,Voeux!$I$2,IF(Voeux!J16=3,Voeux!$J$2,IF(Voeux!K16=3,Voeux!$K$2,IF(Voeux!L16=3,Voeux!$L$2,""))))))))) | I16: =IF(Voeux!E16=4,Voeux!$E$2,IF(Voeux!F16=4,Voeux!$F$2,IF(Voeux!G16=4,Voeux!$G$2,IF(Voeux!H16=4,Voeux!$H$2,IF(Voeux!I16=4,Voeux!$I$2,IF(Voeux!J16=4,Voeux!$J$2,IF(Voeux!K16=4,Voeux!$K$2,IF(Voeux!L16=4,Voeux!$L$2,IF(Voeux!D16=4,Voeux!$D$2,""))))))))) | K16: =IF(J16<>"","",G16) | L16: =IF(J16<>"","",I16) | N16: =CONCATENATE(D16,G16)
A17: Nom élève 1Prénom élève 15 | B17: Prénom élève 15 | C17: 43283 | D17: =CONCATENATE(IF(OR(Voeux!D17=1,Voeux!D17=2),Voeux!D$2,""),IF(OR(Voeux!E17=1,Voeux!E17=2),Voeux!E$2,""),IF(OR(Voeux!F17=1,Voeux!F17=2),Voeux!F$2,""),IF(OR(Voeux!G17=1,Voeux!G17=2),Voeux!G$2,""),IF(OR(Voeux!H17=1,Voeux!H17=2),Voeux!H$2,""),IF(OR(Voeux!I17=1,Voeux!I17=2),Voeux!I$2,""),IF(OR(Voeux!J17=1,Voeux!J17=2),Voeux!J$2,""),IF(OR(Voeux!K17=1,Voeux!K17=2),Voeux!K$2,""),IF(OR(Voeux!L17=1,Voeux!L17=2),Voeux!L$2,"")) -> HlpLlc | E17: =LEFT(D17,3) -> Hlp | F17: =RIGHT(D17,3) -> Llc | G17: =IF(Voeux!D17=3,Voeux!$D$2,IF(Voeux!E17=3,Voeux!$E$2,IF(Voeux!F17=3,Voeux!$F$2,IF(Voeux!G17=3,Voeux!$G$2,IF(Voeux!H17=3,Voeux!$H$2,IF(Voeux!I17=3,Voeux!$I$2,IF(Voeux!J17=3,Voeux!$J$2,IF(Voeux!K17=3,Voeux!$K$2,IF(Voeux!L17=3,Voeux!$L$2,""))))))))) -> Hgg | I17: =IF(Voeux!E17=4,Voeux!$E$2,IF(Voeux!F17=4,Voeux!$F$2,IF(Voeux!G17=4,Voeux!$G$2,IF(Voeux!H17=4,Voeux!$H$2,IF(Voeux!I17=4,Voeux!$I$2,IF(Voeux!J17=4,Voeux!$J$2,IF(Voeux!K17=4,Voeux!$K$2,IF(Voeux!L17=4,Voeux!$L$2,IF(Voeux!D17=4,Voeux!$D$2,""))))))))) -> Hda | K17: =IF(J17<>"","",G17) -> Hgg | L17: =IF(J17<>"","",I17) -> Hda | N17: =CONCATENATE(D17,G17) -> HlpLlcHgg
A18: Nom élève 1Prénom élève 16 | B18: Prénom élève 16 | C18: 43102 | D18: =CONCATENATE(IF(OR(Voeux!D18=1,Voeux!D18=2),Voeux!D$2,""),IF(OR(Voeux!E18=1,Voeux!E18=2),Voeux!E$2,""),IF(OR(Voeux!F18=1,Voeux!F18=2),Voeux!F$2,""),IF(OR(Voeux!G18=1,Voeux!G18=2),Voeux!G$2,""),IF(OR(Voeux!H18=1,Voeux!H18=2),Voeux!H$2,""),IF(OR(Voeux!I18=1,Voeux!I18=2),Voeux!I$2,""),IF(OR(Voeux!J18=1,Voeux!J18=2),Voeux!J$2,""),IF(OR(Voeux!K18=1,Voeux!K18=2),Voeux!K$2,""),IF(OR(Voeux!L18=1,Voeux!L18=2),Voeux!L$2,"")) -> MatNum | E18: =LEFT(D18,3) -> Mat | F18: =RIGHT(D18,3) -> Num | G18: =IF(Voeux!D18=3,Voeux!$D$2,IF(Voeux!E18=3,Voeux!$E$2,IF(Voeux!F18=3,Voeux!$F$2,IF(Voeux!G18=3,Voeux!$G$2,IF(Voeux!H18=3,Voeux!$H$2,IF(Voeux!I18=3,Voeux!$I$2,IF(Voeux!J18=3,Voeux!$J$2,IF(Voeux!K18=3,Voeux!$K$2,IF(Voeux!L18=3,Voeux!$L$2,""))))))))) -> Pch | I18: =IF(Voeux!E18=4,Voeux!$E$2,IF(Voeux!F18=4,Voeux!$F$2,IF(Voeux!G18=4,Voeux!$G$2,IF(Voeux!H18=4,Voeux!$H$2,IF(Voeux!I18=4,Voeux!$I$2,IF(Voeux!J18=4,Voeux!$J$2,IF(Voeux!K18=4,Voeux!$K$2,IF(Voeux!L18=4,Voeux!$L$2,IF(Voeux!D18=4,Voeux!$D$2,""))))))))) -> Ses | K18: =IF(J18<>"","",G18) -> Pch | L18: =IF(J18<>"","",I18) -> Ses | N18: =CONCATENATE(D18,G18) -> MatNumPch
A19: Nom élève 1Prénom élève 17 | B19: Prénom élève 17 | C19: 43161 | D19: =CONCATENATE(IF(OR(Voeux!D19=1,Voeux!D19=2),Voeux!D$2,""),IF(OR(Voeux!E19=1,Voeux!E19=2),Voeux!E$2,""),IF(OR(Voeux!F19=1,Voeux!F19=2),Voeux!F$2,""),IF(OR(Voeux!G19=1,Voeux!G19=2),Voeux!G$2,""),IF(OR(Voeux!H19=1,Voeux!H19=2),Voeux!H$2,""),IF(OR(Voeux!I19=1,Voeux!I19=2),Voeux!I$2,""),IF(OR(Voeux!J19=1,Voeux!J19=2),Voeux!J$2,""),IF(OR(Voeux!K19=1,Voeux!K19=2),Voeux!K$2,""),IF(OR(Voeux!L19=1,Voeux!L19=2),Voeux!L$2,"")) -> NumPch | E19: =LEFT(D19,3) -> Num | F19: =RIGHT(D19,3) -> Pch | G19: =IF(Voeux!D19=3,Voeux!$D$2,IF(Voeux!E19=3,Voeux!$E$2,IF(Voeux!F19=3,Voeux!$F$2,IF(Voeux!G19=3,Voeux!$G$2,IF(Voeux!H19=3,Voeux!$H$2,IF(Voeux!I19=3,Voeux!$I$2,IF(Voeux!J19=3,Voeux!$J$2,IF(Voeux!K19=3,Voeux!$K$2,IF(Voeux!L19=3,Voeux!$L$2,""))))))))) -> Ses | I19: =IF(Voeux!E19=4,Voeux!$E$2,IF(Voeux!F19=4,Voeux!$F$2,IF(Voeux!G19=4,Voeux!$G$2,IF(Voeux!H19=4,Voeux!$H$2,IF(Voeux!I19=4,Voeux!$I$2,IF(Voeux!J19=4,Voeux!$J$2,IF(Voeux!K19=4,Voeux!$K$2,IF(Voeux!L19=4,Voeux!$L$2,IF(Voeux!D19=4,Voeux!$D$2,""))))))))) -> Svt | K19: =IF(J19<>"","",G19) -> Ses | L19: =IF(J19<>"","",I19) -> Svt | N19: =CONCATENATE(D19,G19) -> NumPchSes
A20: Nom élève 1Prénom élève 18 | B20: Prénom élève 18 | C20: 43314 | D20: =CONCATENATE(IF(OR(Voeux!D20=1,Voeux!D20=2),Voeux!D$2,""),IF(OR(Voeux!E20=1,Voeux!E20=2),Voeux!E$2,""),IF(OR(Voeux!F20=1,Voeux!F20=2),Voeux!F$2,""),IF(OR(Voeux!G20=1,Voeux!G20=2),Voeux!G$2,""),IF(OR(Voeux!H20=1,Voeux!H20=2),Voeux!H$2,""),IF(OR(Voeux!I20=1,Voeux!I20=2),Voeux!I$2,""),IF(OR(Voeux!J20=1,Voeux!J20=2),Voeux!J$2,""),IF(OR(Voeux!K20=1,Voeux!K20=2),Voeux!K$2,""),IF(OR(Voeux!L20=1,Voeux!L20=2),Voeux!L$2,"")) -> PchSes | E20: =LEFT(D20,3) -> Pch | F20: =RIGHT(D20,3) -> Ses | G20: =IF(Voeux!D20=3,Voeux!$D$2,IF(Voeux!E20=3,Voeux!$E$2,IF(Voeux!F20=3,Voeux!$F$2,IF(Voeux!G20=3,Voeux!$G$2,IF(Voeux!H20=3,Voeux!$H$2,IF(Voeux!I20=3,Voeux!$I$2,IF(Voeux!J20=3,Voeux!$J$2,IF(Voeux!K20=3,Voeux!$K$2,IF(Voeux!L20=3,Voeux!$L$2,""))))))))) -> Num | I20: =IF(Voeux!E20=4,Voeux!$E$2,IF(Voeux!F20=4,Voeux!$F$2,IF(Voeux!G20=4,Voeux!$G$2,IF(Voeux!H20=4,Voeux!$H$2,IF(Voeux!I20=4,Voeux!$I$2,IF(Voeux!J20=4,Voeux!$J$2,IF(Voeux!K20=4,Voeux!$K$2,IF(Voeux!L20=4,Voeux!$L$2,IF(Voeux!D20=4,Voeux!$D$2,""))))))))) -> Mat | K20: =IF(J20<>"","",G20) -> Num | L20: =IF(J20<>"","",I20) -> Mat | N20: =CONCATENATE(D20,G20) -> PchSesNum
A21: Nom élève 1Prénom élève 19 | B21: Prénom élève 19 | C21: 43102 | D21: =CONCATENATE(IF(OR(Voeux!D21=1,Voeux!D21=2),Voeux!D$2,""),IF(OR(Voeux!E21=1,Voeux!E21=2),Voeux!E$2,""),IF(OR(Voeux!F21=1,Voeux!F21=2),Voeux!F$2,""),IF(OR(Voeux!G21=1,Voeux!G21=2),Voeux!G$2,""),IF(OR(Voeux!H21=1,Voeux!H21=2),Voeux!H$2,""),IF(OR(Voeux!I21=1,Voeux!I21=2),Voeux!I$2,""),IF(OR(Voeux!J21=1,Voeux!J21=2),Voeux!J$2,""),IF(OR(Voeux!K21=1,Voeux!K21=2),Voeux!K$2,""),IF(OR(Voeux!L21=1,Voeux!L21=2),Voeux!L$2,"")) -> HdaHgg | E21: =LEFT(D21,3) -> Hda | F21: =RIGHT(D21,3) -> Hgg | G21: =IF(Voeux!D21=3,Voeux!$D$2,IF(Voeux!E21=3,Voeux!$E$2,IF(Voeux!F21=3,Voeux!$F$2,IF(Voeux!G21=3,Voeux!$G$2,IF(Voeux!H21=3,Voeux!$H$2,IF(Voeux!I21=3,Voeux!$I$2,IF(Voeux!J21=3,Voeux!$J$2,IF(Voeux!K21=3,Voeux!$K$2,IF(Voeux!L21=3,Voeux!$L$2,""))))))))) -> Hlp | I21: =IF(Voeux!E21=4,Voeux!$E$2,IF(Voeux!F21=4,Voeux!$F$2,IF(Voeux!G21=4,Voeux!$G$2,IF(Voeux!H21=4,Voeux!$H$2,IF(Voeux!I21=4,Voeux!$I$2,IF(Voeux!J21=4,Voeux!$J$2,IF(Voeux!K21=4,Voeux!$K$2,IF(Voeux!L21=4,Voeux!$L$2,IF(Voeux!D21=4,Voeux!$D$2,""))))))))) -> Llc | K21: =IF(J21<>"","",G21) -> Hlp | L21: =IF(J21<>"","",I21) -> Llc | N21: =CONCATENATE(D21,G21) -> HdaHggHlp
A22: Nom élève 1Prénom élève 20 | B22: Prénom élève 20 | C22: 43192 | D22: =CONCATENATE(IF(OR(Voeux!D22=1,Voeux!D22=2),Voeux!D$2,""),IF(OR(Voeux!E22=1,Voeux!E22=2),Voeux!E$2,""),IF(OR(Voeux!F22=1,Voeux!F22=2),Voeux!F$2,""),IF(OR(Voeux!G22=1,Voeux!G22=2),Voeux!G$2,""),IF(OR(Voeux!H22=1,Voeux!H22=2),Voeux!H$2,""),IF(OR(Voeux!I22=1,Voeux!I22=2),Voeux!I$2,""),IF(OR(Voeux!J22=1,Voeux!J22=2),Voeux!J$2,""),IF(OR(Voeux!K22=1,Voeux!K22=2),Voeux!K$2,""),IF(OR(Voeux!L22=1,Voeux!L22=2),Voeux!L$2,"")) -> LlcMat | E22: =LEFT(D22,3) -> Llc | F22: =RIGHT(D22,3) -> Mat | G22: =IF(Voeux!D22=3,Voeux!$D$2,IF(Voeux!E22=3,Voeux!$E$2,IF(Voeux!F22=3,Voeux!$F$2,IF(Voeux!G22=3,Voeux!$G$2,IF(Voeux!H22=3,Voeux!$H$2,IF(Voeux!I22=3,Voeux!$I$2,IF(Voeux!J22=3,Voeux!$J$2,IF(Voeux!K22=3,Voeux!$K$2,IF(Voeux!L22=3,Voeux!$L$2,""))))))))) -> Num | I22: =IF(Voeux!E22=4,Voeux!$E$2,IF(Voeux!F22=4,Voeux!$F$2,IF(Voeux!G22=4,Voeux!$G$2,IF(Voeux!H22=4,Voeux!$H$2,IF(Voeux!I22=4,Voeux!$I$2,IF(Voeux!J22=4,Voeux!$J$2,IF(Voeux!K22=4,Voeux!$K$2,IF(Voeux!L22=4,Voeux!$L$2,IF(Voeux!D22=4,Voeux!$D$2,""))))))))) -> Pch | K22: =IF(J22<>"","",G22) -> Num | L22: =IF(J22<>"","",I22) -> Pch | N22: =CONCATENATE(D22,G22) -> LlcMatNum
A23: Nom élève 1Prénom élève 21 | B23: Prénom élève 21 | C23: 43283 | D23: =CONCATENATE(IF(OR(Voeux!D23=1,Voeux!D23=2),Voeux!D$2,""),IF(OR(Voeux!E23=1,Voeux!E23=2),Voeux!E$2,""),IF(OR(Voeux!F23=1,Voeux!F23=2),Voeux!F$2,""),IF(OR(Voeux!G23=1,Voeux!G23=2),Voeux!G$2,""),IF(OR(Voeux!H23=1,Voeux!H23=2),Voeux!H$2,""),IF(OR(Voeux!I23=1,Voeux!I23=2),Voeux!I$2,""),IF(OR(Voeux!J23=1,Voeux!J23=2),Voeux!J$2,""),IF(OR(Voeux!K23=1,Voeux!K23=2),Voeux!K$2,""),IF(OR(Voeux!L23=1,Voeux!L23=2),Voeux!L$2,"")) -> HlpLlc | E23: =LEFT(D23,3) -> Hlp | F23: =RIGHT(D23,3) -> Llc | G23: =IF(Voeux!D23=3,Voeux!$D$2,IF(Voeux!E23=3,Voeux!$E$2,IF(Voeux!F23=3,Voeux!$F$2,IF(Voeux!G23=3,Voeux!$G$2,IF(Voeux!H23=3,Voeux!$H$2,IF(Voeux!I23=3,Voeux!$I$2,IF(Voeux!J23=3,Voeux!$J$2,IF(Voeux!K23=3,Voeux!$K$2,IF(Voeux!L23=3,Voeux!$L$2,""))))))))) -> Ses | I23: =IF(Voeux!E23=4,Voeux!$E$2,IF(Voeux!F23=4,Voeux!$F$2,IF(Voeux!G23=4,Voeux!$G$2,IF(Voeux!H23=4,Voeux!$H$2,IF(Voeux!I23=4,Voeux!$I$2,IF(Voeux!J23=4,Voeux!$J$2,IF(Voeux!K23=4,Voeux!$K$2,IF(Voeux!L23=4,Voeux!$L$2,IF(Voeux!D23=4,Voeux!$D$2,""))))))))) -> Svt | K23: =IF(J23<>"","",G23) -> Ses | L23: =IF(J23<>"","",I23) -> Svt | N23: =CONCATENATE(D23,G23) -> HlpLlcSes
A24: Nom élève 1Prénom élève 22 | B24: Prénom élève 22 | C24: 43314 | D24: =CONCATENATE(IF(OR(Voeux!D24=1,Voeux!D24=2),Voeux!D$2,""),IF(OR(Voeux!E24=1,Voeux!E24=2),Voeux!E$2,""),IF(OR(Voeux!F24=1,Voeux!F24=2),Voeux!F$2,""),IF(OR(Voeux!G24=1,Voeux!G24=2),Voeux!G$2,""),IF(OR(Voeux!H24=1,Voeux!H24=2),Voeux!H$2,""),IF(OR(Voeux!I24=1,Voeux!I24=2),Voeux!I$2,""),IF(OR(Voeux!J24=1,Voeux!J24=2),Voeux!J$2,""),IF(OR(Voeux!K24=1,Voeux!K24=2),Voeux!K$2,""),IF(OR(Voeux!L24=1,Voeux!L24=2),Voeux!L$2,"")) -> SesSvt | E24: =LEFT(D24,3) -> Ses | F24: =RIGHT(D24,3) -> Svt | G24: =IF(Voeux!D24=3,Voeux!$D$2,IF(Voeux!E24=3,Voeux!$E$2,IF(Voeux!F24=3,Voeux!$F$2,IF(Voeux!G24=3,Voeux!$G$2,IF(Voeux!H24=3,Voeux!$H$2,IF(Voeux!I24=3,Voeux!$I$2,IF(Voeux!J24=3,Voeux!$J$2,IF(Voeux!K24=3,Voeux!$K$2,IF(Voeux!L24=3,Voeux!$L$2,""))))))))) -> Pch | I24: =IF(Voeux!E24=4,Voeux!$E$2,IF(Voeux!F24=4,Voeux!$F$2,IF(Voeux!G24=4,Voeux!$G$2,IF(Voeux!H24=4,Voeux!$H$2,IF(Voeux!I24=4,Voeux!$I$2,IF(Voeux!J24=4,Voeux!$J$2,IF(Voeux!K24=4,Voeux!$K$2,IF(Voeux!L24=4,Voeux!$L$2,IF(Voeux!D24=4,Voeux!$D$2,""))))))))) -> Num | K24: =IF(J24<>"","",G24) -> Pch | L24: =IF(J24<>"","",I24) -> Num | N24: =CONCATENATE(D24,G24) -> SesSvtPch
A25: Nom élève 1Prénom élève 23 | B25: Prénom élève 23 | C25: 43161 | D25: =CONCATENATE(IF(OR(Voeux!D25=1,Voeux!D25=2),Voeux!D$2,""),IF(OR(Voeux!E25=1,Voeux!E25=2),Voeux!E$2,""),IF(OR(Voeux!F25=1,Voeux!F25=2),Voeux!F$2,""),IF(OR(Voeux!G25=1,Voeux!G25=2),Voeux!G$2,""),IF(OR(Voeux!H25=1,Voeux!H25=2),Voeux!H$2,""),IF(OR(Voeux!I25=1,Voeux!I25=2),Voeux!I$2,""),IF(OR(Voeux!J25=1,Voeux!J25=2),Voeux!J$2,""),IF(OR(Voeux!K25=1,Voeux!K25=2),Voeux!K$2,""),IF(OR(Voeux!L25=1,Voeux!L25=2),Voeux!L$2,"")) -> SesSvt | E25: =LEFT(D25,3) -> Ses | F25: =RIGHT(D25,3) -> Svt | G25: =IF(Voeux!D25=3,Voeux!$D$2,IF(Voeux!E25=3,Voeux!$E$2,IF(Voeux!F25=3,Voeux!$F$2,IF(Voeux!G25=3,Voeux!$G$2,IF(Voeux!H25=3,Voeux!$H$2,IF(Voeux!I25=3,Voeux!$I$2,IF(Voeux!J25=3,Voeux!$J$2,IF(Voeux!K25=3,Voeux!$K$2,IF(Voeux!L25=3,Voeux!$L$2,""))))))))) -> Pch | I25: =IF(Voeux!E25=4,Voeux!$E$2,IF(Voeux!F25=4,Voeux!$F$2,IF(Voeux!G25=4,Voeux!$G$2,IF(Voeux!H25=4,Voeux!$H$2,IF(Voeux!I25=4,Voeux!$I$2,IF(Voeux!J25=4,Voeux!$J$2,IF(Voeux!K25=4,Voeux!$K$2,IF(Voeux!L25=4,Voeux!$L$2,IF(Voeux!D25=4,Voeux!$D$2,""))))))))) -> Num | K25: =IF(J25<>"","",G25) -> Pch | L25: =IF(J25<>"","",I25) -> Num | N25: =CONCATENATE(D25,G25) -> SesSvtPch
A26: Nom élève 1Prénom élève 24 | B26: Prénom élève 24 | C26: 43253 | D26: =CONCATENATE(IF(OR(Voeux!D26=1,Voeux!D26=2),Voeux!D$2,""),IF(OR(Voeux!E26=1,Voeux!E26=2),Voeux!E$2,""),IF(OR(Voeux!F26=1,Voeux!F26=2),Voeux!F$2,""),IF(OR(Voeux!G26=1,Voeux!G26=2),Voeux!G$2,""),IF(OR(Voeux!H26=1,Voeux!H26=2),Voeux!H$2,""),IF(OR(Voeux!I26=1,Voeux!I26=2),Voeux!I$2,""),IF(OR(Voeux!J26=1,Voeux!J26=2),Voeux!J$2,""),IF(OR(Voeux!K26=1,Voeux!K26=2),Voeux!K$2,""),IF(OR(Voeux!L26=1,Voeux!L26=2),Voeux!L$2,"")) -> NumPch | E26: =LEFT(D26,3) -> Num | F26: =RIGHT(D26,3) -> Pch | G26: =IF(Voeux!D26=3,Voeux!$D$2,IF(Voeux!E26=3,Voeux!$E$2,IF(Voeux!F26=3,Voeux!$F$2,IF(Voeux!G26=3,Voeux!$G$2,IF(Voeux!H26=3,Voeux!$H$2,IF(Voeux!I26=3,Voeux!$I$2,IF(Voeux!J26=3,Voeux!$J$2,IF(Voeux!K26=3,Voeux!$K$2,IF(Voeux!L26=3,Voeux!$L$2,""))))))))) -> Mat | H26: x | I26: =IF(Voeux!E26=4,Voeux!$E$2,IF(Voeux!F26=4,Voeux!$F$2,IF(Voeux!G26=4,Voeux!$G$2,IF(Voeux!H26=4,Voeux!$H$2,IF(Voeux!I26=4,Voeux!$I$2,IF(Voeux!J26=4,Voeux!$J$2,IF(Voeux!K26=4,Voeux!$K$2,IF(Voeux!L26=4,Voeux!$L$2,IF(Voeux!D26=4,Voeux!$D$2,""))))))))) -> Llc | K26: =IF(J26<>"","",G26) -> Mat | L26: =IF(J26<>"","",I26) -> Llc | N26: =CONCATENATE(D26,G26) -> NumPchMat
A27: Nom élève 1Prénom élève 25 | B27: Prénom élève 25 | C27: 43222 | D27: =CONCATENATE(IF(OR(Voeux!D27=1,Voeux!D27=2),Voeux!D$2,""),IF(OR(Voeux!E27=1,Voeux!E27=2),Voeux!E$2,""),IF(OR(Voeux!F27=1,Voeux!F27=2),Voeux!F$2,""),IF(OR(Voeux!G27=1,Voeux!G27=2),Voeux!G$2,""),IF(OR(Voeux!H27=1,Voeux!H27=2),Voeux!H$2,""),IF(OR(Voeux!I27=1,Voeux!I27=2),Voeux!I$2,""),IF(OR(Voeux!J27=1,Voeux!J27=2),Voeux!J$2,""),IF(OR(Voeux!K27=1,Voeux!K27=2),Voeux!K$2,""),IF(OR(Voeux!L27=1,Voeux!L27=2),Voeux!L$2,"")) -> HlpLlc | E27: =LEFT(D27,3) -> Hlp | F27: =RIGHT(D27,3) -> Llc | G27: =IF(Voeux!D27=3,Voeux!$D$2,IF(Voeux!E27=3,Voeux!$E$2,IF(Voeux!F27=3,Voeux!$F$2,IF(Voeux!G27=3,Voeux!$G$2,IF(Voeux!H27=3,Voeux!$H$2,IF(Voeux!I27=3,Voeux!$I$2,IF(Voeux!J27=3,Voeux!$J$2,IF(Voeux!K27=3,Voeux!$K$2,IF(Voeux!L27=3,Voeux!$L$2,""))))))))) -> Mat | H27: x | I27: =IF(Voeux!E27=4,Voeux!$E$2,IF(Voeux!F27=4,Voeux!$F$2,IF(Voeux!G27=4,Voeux!$G$2,IF(Voeux!H27=4,Voeux!$H$2,IF(Voeux!I27=4,Voeux!$I$2,IF(Voeux!J27=4,Voeux!$J$2,IF(Voeux!K27=4,Voeux!$K$2,IF(Voeux!L27=4,Voeux!$L$2,IF(Voeux!D27=4,Voeux!$D$2,""))))))))) -> Num | K27: =IF(J27<>"","",G27) -> Mat | L27: =IF(J27<>"","",I27) -> Num | N27: =CONCATENATE(D27,G27) -> HlpLlcMat
A28: Nom élève 1Prénom élève 26 | B28: Prénom élève 26 | C28: 43102 | D28: =CONCATENATE(IF(OR(Voeux!D28=1,Voeux!D28=2),Voeux!D$2,""),IF(OR(Voeux!E28=1,Voeux!E28=2),Voeux!E$2,""),IF(OR(Voeux!F28=1,Voeux!F28=2),Voeux!F$2,""),IF(OR(Voeux!G28=1,Voeux!G28=2),Voeux!G$2,""),IF(OR(Voeux!H28=1,Voeux!H28=2),Voeux!H$2,""),IF(OR(Voeux!I28=1,Voeux!I28=2),Voeux!I$2,""),IF(OR(Voeux!J28=1,Voeux!J28=2),Voeux!J$2,""),IF(OR(Voeux!K28=1,Voeux!K28=2),Voeux!K$2,""),IF(OR(Voeux!L28=1,Voeux!L28=2),Voeux!L$2,"")) | E28: =LEFT(D28,3) | F28: =RIGHT(D28,3) | G28: =IF(Voeux!D28=3,Voeux!$D$2,IF(Voeux!E28=3,Voeux!$E$2,IF(Voeux!F28=3,Voeux!$F$2,IF(Voeux!G28=3,Voeux!$G$2,IF(Voeux!H28=3,Voeux!$H$2,IF(Voeux!I28=3,Voeux!$I$2,IF(Voeux!J28=3,Voeux!$J$2,IF(Voeux!K28=3,Voeux!$K$2,IF(Voeux!L28=3,Voeux!$L$2,""))))))))) | I28: =IF(Voeux!E28=4,Voeux!$E$2,IF(Voeux!F28=4,Voeux!$F$2,IF(Voeux!G28=4,Voeux!$G$2,IF(Voeux!H28=4,Voeux!$H$2,IF(Voeux!I28=4,Voeux!$I$2,IF(Voeux!J28=4,Voeux!$J$2,IF(Voeux!K28=4,Voeux!$K$2,IF(Voeux!L28=4,Voeux!$L$2,IF(Voeux!D28=4,Voeux!$D$2,""))))))))) | K28: =IF(J28<>"","",G28) | L28: =IF(J28<>"","",I28) | N28: =CONCATENATE(D28,G28)
A29: Nom élève 1Prénom élève 27 | B29: Prénom élève 27 | C29: 43283 | D29: =CONCATENATE(IF(OR(Voeux!D29=1,Voeux!D29=2),Voeux!D$2,""),IF(OR(Voeux!E29=1,Voeux!E29=2),Voeux!E$2,""),IF(OR(Voeux!F29=1,Voeux!F29=2),Voeux!F$2,""),IF(OR(Voeux!G29=1,Voeux!G29=2),Voeux!G$2,""),IF(OR(Voeux!H29=1,Voeux!H29=2),Voeux!H$2,""),IF(OR(Voeux!I29=1,Voeux!I29=2),Voeux!I$2,""),IF(OR(Voeux!J29=1,Voeux!J29=2),Voeux!J$2,""),IF(OR(Voeux!K29=1,Voeux!K29=2),Voeux!K$2,""),IF(OR(Voeux!L29=1,Voeux!L29=2),Voeux!L$2,"")) -> LlcMat | E29: =LEFT(D29,3) -> Llc | F29: =RIGHT(D29,3) -> Mat | G29: =IF(Voeux!D29=3,Voeux!$D$2,IF(Voeux!E29=3,Voeux!$E$2,IF(Voeux!F29=3,Voeux!$F$2,IF(Voeux!G29=3,Voeux!$G$2,IF(Voeux!H29=3,Voeux!$H$2,IF(Voeux!I29=3,Voeux!$I$2,IF(Voeux!J29=3,Voeux!$J$2,IF(Voeux!K29=3,Voeux!$K$2,IF(Voeux!L29=3,Voeux!$L$2,""))))))))) -> Hlp | I29: =IF(Voeux!E29=4,Voeux!$E$2,IF(Voeux!F29=4,Voeux!$F$2,IF(Voeux!G29=4,Voeux!$G$2,IF(Voeux!H29=4,Voeux!$H$2,IF(Voeux!I29=4,Voeux!$I$2,IF(Voeux!J29=4,Voeux!$J$2,IF(Voeux!K29=4,Voeux!$K$2,IF(Voeux!L29=4,Voeux!$L$2,IF(Voeux!D29=4,Voeux!$D$2,""))))))))) -> Hgg | K29: =IF(J29<>"","",G29) -> Hlp | L29: =IF(J29<>"","",I29) -> Hgg | N29: =CONCATENATE(D29,G29) -> LlcMatHlp
A30: Nom élève 1Prénom élève 28 | B30: Prénom élève 28 | C30: 43192 | D30: =CONCATENATE(IF(OR(Voeux!D30=1,Voeux!D30=2),Voeux!D$2,""),IF(OR(Voeux!E30=1,Voeux!E30=2),Voeux!E$2,""),IF(OR(Voeux!F30=1,Voeux!F30=2),Voeux!F$2,""),IF(OR(Voeux!G30=1,Voeux!G30=2),Voeux!G$2,""),IF(OR(Voeux!H30=1,Voeux!H30=2),Voeux!H$2,""),IF(OR(Voeux!I30=1,Voeux!I30=2),Voeux!I$2,""),IF(OR(Voeux!J30=1,Voeux!J30=2),Voeux!J$2,""),IF(OR(Voeux!K30=1,Voeux!K30=2),Voeux!K$2,""),IF(OR(Voeux!L30=1,Voeux!L30=2),Voeux!L$2,"")) -> MatNum | E30: =LEFT(D30,3) -> Mat | F30: =RIGHT(D30,3) -> Num | G30: =IF(Voeux!D30=3,Voeux!$D$2,IF(Voeux!E30=3,Voeux!$E$2,IF(Voeux!F30=3,Voeux!$F$2,IF(Voeux!G30=3,Voeux!$G$2,IF(Voeux!H30=3,Voeux!$H$2,IF(Voeux!I30=3,Voeux!$I$2,IF(Voeux!J30=3,Voeux!$J$2,IF(Voeux!K30=3,Voeux!$K$2,IF(Voeux!L30=3,Voeux!$L$2,""))))))))) -> Llc | I30: =IF(Voeux!E30=4,Voeux!$E$2,IF(Voeux!F30=4,Voeux!$F$2,IF(Voeux!G30=4,Voeux!$G$2,IF(Voeux!H30=4,Voeux!$H$2,IF(Voeux!I30=4,Voeux!$I$2,IF(Voeux!J30=4,Voeux!$J$2,IF(Voeux!K30=4,Voeux!$K$2,IF(Voeux!L30=4,Voeux!$L$2,IF(Voeux!D30=4,Voeux!$D$2,""))))))))) -> Hlp | K30: =IF(J30<>"","",G30) -> Llc | L30: =IF(J30<>"","",I30) -> Hlp | N30: =CONCATENATE(D30,G30) -> MatNumLlc
A31: Nom élève 1Prénom élève 29 | B31: Prénom élève 29 | C31: 43345 | D31: =CONCATENATE(IF(OR(Voeux!D31=1,Voeux!D31=2),Voeux!D$2,""),IF(OR(Voeux!E31=1,Voeux!E31=2),Voeux!E$2,""),IF(OR(Voeux!F31=1,Voeux!F31=2),Voeux!F$2,""),IF(OR(Voeux!G31=1,Voeux!G31=2),Voeux!G$2,""),IF(OR(Voeux!H31=1,Voeux!H31=2),Voeux!H$2,""),IF(OR(Voeux!I31=1,Voeux!I31=2),Voeux!I$2,""),IF(OR(Voeux!J31=1,Voeux!J31=2),Voeux!J$2,""),IF(OR(Voeux!K31=1,Voeux!K31=2),Voeux!K$2,""),IF(OR(Voeux!L31=1,Voeux!L31=2),Voeux!L$2,"")) -> NumPch | E31: =LEFT(D31,3) -> Num | F31: =RIGHT(D31,3) -> Pch | G31: =IF(Voeux!D31=3,Voeux!$D$2,IF(Voeux!E31=3,Voeux!$E$2,IF(Voeux!F31=3,Voeux!$F$2,IF(Voeux!G31=3,Voeux!$G$2,IF(Voeux!H31=3,Voeux!$H$2,IF(Voeux!I31=3,Voeux!$I$2,IF(Voeux!J31=3,Voeux!$J$2,IF(Voeux!K31=3,Voeux!$K$2,IF(Voeux!L31=3,Voeux!$L$2,""))))))))) -> Mat | I31: =IF(Voeux!E31=4,Voeux!$E$2,IF(Voeux!F31=4,Voeux!$F$2,IF(Voeux!G31=4,Voeux!$G$2,IF(Voeux!H31=4,Voeux!$H$2,IF(Voeux!I31=4,Voeux!$I$2,IF(Voeux!J31=4,Voeux!$J$2,IF(Voeux!K31=4,Voeux!$K$2,IF(Voeux!L31=4,Voeux!$L$2,IF(Voeux!D31=4,Voeux!$D$2,""))))))))) -> Llc | K31: =IF(J31<>"","",G31) -> Mat | L31: =IF(J31<>"","",I31) -> Llc | N31: =CONCATENATE(D31,G31) -> NumPchMat
A32: Nom élève 1Prénom élève 30 | B32: Prénom élève 30 | C32: 43283 | D32: =CONCATENATE(IF(OR(Voeux!D32=1,Voeux!D32=2),Voeux!D$2,""),IF(OR(Voeux!E32=1,Voeux!E32=2),Voeux!E$2,""),IF(OR(Voeux!F32=1,Voeux!F32=2),Voeux!F$2,""),IF(OR(Voeux!G32=1,Voeux!G32=2),Voeux!G$2,""),IF(OR(Voeux!H32=1,Voeux!H32=2),Voeux!H$2,""),IF(OR(Voeux!I32=1,Voeux!I32=2),Voeux!I$2,""),IF(OR(Voeux!J32=1,Voeux!J32=2),Voeux!J$2,""),IF(OR(Voeux!K32=1,Voeux!K32=2),Voeux!K$2,""),IF(OR(Voeux!L32=1,Voeux!L32=2),Voeux!L$2,"")) -> PchSes | E32: =LEFT(D32,3) -> Pch | F32: =RIGHT(D32,3) -> Ses | G32: =IF(Voeux!D32=3,Voeux!$D$2,IF(Voeux!E32=3,Voeux!$E$2,IF(Voeux!F32=3,Voeux!$F$2,IF(Voeux!G32=3,Voeux!$G$2,IF(Voeux!H32=3,Voeux!$H$2,IF(Voeux!I32=3,Voeux!$I$2,IF(Voeux!J32=3,Voeux!$J$2,IF(Voeux!K32=3,Voeux!$K$2,IF(Voeux!L32=3,Voeux!$L$2,""))))))))) -> Num | I32: =IF(Voeux!E32=4,Voeux!$E$2,IF(Voeux!F32=4,Voeux!$F$2,IF(Voeux!G32=4,Voeux!$G$2,IF(Voeux!H32=4,Voeux!$H$2,IF(Voeux!I32=4,Voeux!$I$2,IF(Voeux!J32=4,Voeux!$J$2,IF(Voeux!K32=4,Voeux!$K$2,IF(Voeux!L32=4,Voeux!$L$2,IF(Voeux!D32=4,Voeux!$D$2,""))))))))) -> Mat | K32: =IF(J32<>"","",G32) -> Num | L32: =IF(J32<>"","",I32) -> Mat | N32: =CONCATENATE(D32,G32) -> PchSesNum
A33: Nom élève 1Prénom élève 31 | B33: Prénom élève 31 | C33: 43161 | D33: =CONCATENATE(IF(OR(Voeux!D33=1,Voeux!D33=2),Voeux!D$2,""),IF(OR(Voeux!E33=1,Voeux!E33=2),Voeux!E$2,""),IF(OR(Voeux!F33=1,Voeux!F33=2),Voeux!F$2,""),IF(OR(Voeux!G33=1,Voeux!G33=2),Voeux!G$2,""),IF(OR(Voeux!H33=1,Voeux!H33=2),Voeux!H$2,""),IF(OR(Voeux!I33=1,Voeux!I33=2),Voeux!I$2,""),IF(OR(Voeux!J33=1,Voeux!J33=2),Voeux!J$2,""),IF(OR(Voeux!K33=1,Voeux!K33=2),Voeux!K$2,""),IF(OR(Voeux!L33=1,Voeux!L33=2),Voeux!L$2,"")) -> SesSvt | E33: =LEFT(D33,3) -> Ses | F33: =RIGHT(D33,3) -> Svt | G33: =IF(Voeux!D33=3,Voeux!$D$2,IF(Voeux!E33=3,Voeux!$E$2,IF(Voeux!F33=3,Voeux!$F$2,IF(Voeux!G33=3,Voeux!$G$2,IF(Voeux!H33=3,Voeux!$H$2,IF(Voeux!I33=3,Voeux!$I$2,IF(Voeux!J33=3,Voeux!$J$2,IF(Voeux!K33=3,Voeux!$K$2,IF(Voeux!L33=3,Voeux!$L$2,""))))))))) -> Pch | I33: =IF(Voeux!E33=4,Voeux!$E$2,IF(Voeux!F33=4,Voeux!$F$2,IF(Voeux!G33=4,Voeux!$G$2,IF(Voeux!H33=4,Voeux!$H$2,IF(Voeux!I33=4,Voeux!$I$2,IF(Voeux!J33=4,Voeux!$J$2,IF(Voeux!K33=4,Voeux!$K$2,IF(Voeux!L33=4,Voeux!$L$2,IF(Voeux!D33=4,Voeux!$D$2,""))))))))) -> Num | K33: =IF(J33<>"","",G33) -> Pch | L33: =IF(J33<>"","",I33) -> Num | N33: =CONCATENATE(D33,G33) -> SesSvtPch
A34: Nom élève 1Prénom élève 32 | B34: Prénom élève 32 | C34: 43133 | D34: =CONCATENATE(IF(OR(Voeux!D34=1,Voeux!D34=2),Voeux!D$2,""),IF(OR(Voeux!E34=1,Voeux!E34=2),Voeux!E$2,""),IF(OR(Voeux!F34=1,Voeux!F34=2),Voeux!F$2,""),IF(OR(Voeux!G34=1,Voeux!G34=2),Voeux!G$2,""),IF(OR(Voeux!H34=1,Voeux!H34=2),Voeux!H$2,""),IF(OR(Voeux!I34=1,Voeux!I34=2),Voeux!I$2,""),IF(OR(Voeux!J34=1,Voeux!J34=2),Voeux!J$2,""),IF(OR(Voeux!K34=1,Voeux!K34=2),Voeux!K$2,""),IF(OR(Voeux!L34=1,Voeux!L34=2),Voeux!L$2,"")) | E34: =LEFT(D34,3) | F34: =RIGHT(D34,3) | G34: =IF(Voeux!D34=3,Voeux!$D$2,IF(Voeux!E34=3,Voeux!$E$2,IF(Voeux!F34=3,Voeux!$F$2,IF(Voeux!G34=3,Voeux!$G$2,IF(Voeux!H34=3,Voeux!$H$2,IF(Voeux!I34=3,Voeux!$I$2,IF(Voeux!J34=3,Voeux!$J$2,IF(Voeux!K34=3,Voeux!$K$2,IF(Voeux!L34=3,Voeux!$L$2,""))))))))) | I34: =IF(Voeux!E34=4,Voeux!$E$2,IF(Voeux!F34=4,Voeux!$F$2,IF(Voeux!G34=4,Voeux!$G$2,IF(Voeux!H34=4,Voeux!$H$2,IF(Voeux!I34=4,Voeux!$I$2,IF(Voeux!J34=4,Voeux!$J$2,IF(Voeux!K34=4,Voeux!$K$2,IF(Voeux!L34=4,Voeux!$L$2,IF(Voeux!D34=4,Voeux!$D$2,""))))))))) | K34: =IF(J34<>"","",G34) | L34: =IF(J34<>"","",I34) | N34: =CONCATENATE(D34,G34)
A35: Nom élève 1Prénom élève 33 | B35: Prénom élève 33 | C35: 43283 | D35: =CONCATENATE(IF(OR(Voeux!D35=1,Voeux!D35=2),Voeux!D$2,""),IF(OR(Voeux!E35=1,Voeux!E35=2),Voeux!E$2,""),IF(OR(Voeux!F35=1,Voeux!F35=2),Voeux!F$2,""),IF(OR(Voeux!G35=1,Voeux!G35=2),Voeux!G$2,""),IF(OR(Voeux!H35=1,Voeux!H35=2),Voeux!H$2,""),IF(OR(Voeux!I35=1,Voeux!I35=2),Voeux!I$2,""),IF(OR(Voeux!J35=1,Voeux!J35=2),Voeux!J$2,""),IF(OR(Voeux!K35=1,Voeux!K35=2),Voeux!K$2,""),IF(OR(Voeux!L35=1,Voeux!L35=2),Voeux!L$2,"")) -> HlpLlc | E35: =LEFT(D35,3) -> Hlp | F35: =RIGHT(D35,3) -> Llc | G35: =IF(Voeux!D35=3,Voeux!$D$2,IF(Voeux!E35=3,Voeux!$E$2,IF(Voeux!F35=3,Voeux!$F$2,IF(Voeux!G35=3,Voeux!$G$2,IF(Voeux!H35=3,Voeux!$H$2,IF(Voeux!I35=3,Voeux!$I$2,IF(Voeux!J35=3,Voeux!$J$2,IF(Voeux!K35=3,Voeux!$K$2,IF(Voeux!L35=3,Voeux!$L$2,""))))))))) -> Hgg | I35: =IF(Voeux!E35=4,Voeux!$E$2,IF(Voeux!F35=4,Voeux!$F$2,IF(Voeux!G35=4,Voeux!$G$2,IF(Voeux!H35=4,Voeux!$H$2,IF(Voeux!I35=4,Voeux!$I$2,IF(Voeux!J35=4,Voeux!$J$2,IF(Voeux!K35=4,Voeux!$K$2,IF(Voeux!L35=4,Voeux!$L$2,IF(Voeux!D35=4,Voeux!$D$2,""))))))))) -> Hda | K35: =IF(J35<>"","",G35) -> Hgg | L35: =IF(J35<>"","",I35) -> Hda | N35: =CONCATENATE(D35,G35) -> HlpLlcHgg
A36: Nom élève 1Prénom élève 34 | B36: Prénom élève 34 | C36: 43133 | D36: =CONCATENATE(IF(OR(Voeux!D36=1,Voeux!D36=2),Voeux!D$2,""),IF(OR(Voeux!E36=1,Voeux!E36=2),Voeux!E$2,""),IF(OR(Voeux!F36=1,Voeux!F36=2),Voeux!F$2,""),IF(OR(Voeux!G36=1,Voeux!G36=2),Voeux!G$2,""),IF(OR(Voeux!H36=1,Voeux!H36=2),Voeux!H$2,""),IF(OR(Voeux!I36=1,Voeux!I36=2),Voeux!I$2,""),IF(OR(Voeux!J36=1,Voeux!J36=2),Voeux!J$2,""),IF(OR(Voeux!K36=1,Voeux!K36=2),Voeux!K$2,""),IF(OR(Voeux!L36=1,Voeux!L36=2),Voeux!L$2,"")) -> MatNum | E36: =LEFT(D36,3) -> Mat | F36: =RIGHT(D36,3) -> Num | G36: =IF(Voeux!D36=3,Voeux!$D$2,IF(Voeux!E36=3,Voeux!$E$2,IF(Voeux!F36=3,Voeux!$F$2,IF(Voeux!G36=3,Voeux!$G$2,IF(Voeux!H36=3,Voeux!$H$2,IF(Voeux!I36=3,Voeux!$I$2,IF(Voeux!J36=3,Voeux!$J$2,IF(Voeux!K36=3,Voeux!$K$2,IF(Voeux!L36=3,Voeux!$L$2,""))))))))) -> Pch | I36: =IF(Voeux!E36=4,Voeux!$E$2,IF(Voeux!F36=4,Voeux!$F$2,IF(Voeux!G36=4,Voeux!$G$2,IF(Voeux!H36=4,Voeux!$H$2,IF(Voeux!I36=4,Voeux!$I$2,IF(Voeux!J36=4,Voeux!$J$2,IF(Voeux!K36=4,Voeux!$K$2,IF(Voeux!L36=4,Voeux!$L$2,IF(Voeux!D36=4,Voeux!$D$2,""))))))))) -> Ses | K36: =IF(J36<>"","",G36) -> Pch | L36: =IF(J36<>"","",I36) -> Ses | N36: =CONCATENATE(D36,G36) -> MatNumPch
A37: Nom élève 1Prénom élève 35 | B37: Prénom élève 35 | C37: 43314 | D37: =CONCATENATE(IF(OR(Voeux!D37=1,Voeux!D37=2),Voeux!D$2,""),IF(OR(Voeux!E37=1,Voeux!E37=2),Voeux!E$2,""),IF(OR(Voeux!F37=1,Voeux!F37=2),Voeux!F$2,""),IF(OR(Voeux!G37=1,Voeux!G37=2),Voeux!G$2,""),IF(OR(Voeux!H37=1,Voeux!H37=2),Voeux!H$2,""),IF(OR(Voeux!I37=1,Voeux!I37=2),Voeux!I$2,""),IF(OR(Voeux!J37=1,Voeux!J37=2),Voeux!J$2,""),IF(OR(Voeux!K37=1,Voeux!K37=2),Voeux!K$2,""),IF(OR(Voeux!L37=1,Voeux!L37=2),Voeux!L$2,"")) -> NumPch | E37: =LEFT(D37,3) -> Num | F37: =RIGHT(D37,3) -> Pch | G37: =IF(Voeux!D37=3,Voeux!$D$2,IF(Voeux!E37=3,Voeux!$E$2,IF(Voeux!F37=3,Voeux!$F$2,IF(Voeux!G37=3,Voeux!$G$2,IF(Voeux!H37=3,Voeux!$H$2,IF(Voeux!I37=3,Voeux!$I$2,IF(Voeux!J37=3,Voeux!$J$2,IF(Voeux!K37=3,Voeux!$K$2,IF(Voeux!L37=3,Voeux!$L$2,""))))))))) -> Ses | I37: =IF(Voeux!E37=4,Voeux!$E$2,IF(Voeux!F37=4,Voeux!$F$2,IF(Voeux!G37=4,Voeux!$G$2,IF(Voeux!H37=4,Voeux!$H$2,IF(Voeux!I37=4,Voeux!$I$2,IF(Voeux!J37=4,Voeux!$J$2,IF(Voeux!K37=4,Voeux!$K$2,IF(Voeux!L37=4,Voeux!$L$2,IF(Voeux!D37=4,Voeux!$D$2,""))))))))) -> Svt | K37: =IF(J37<>"","",G37) -> Ses | L37: =IF(J37<>"","",I37) -> Svt | N37: =CONCATENATE(D37,G37) -> NumPchSes
A38: Nom élève 1Prénom élève 36 | B38: Prénom élève 36 | C38: 43253 | D38: =CONCATENATE(IF(OR(Voeux!D38=1,Voeux!D38=2),Voeux!D$2,""),IF(OR(Voeux!E38=1,Voeux!E38=2),Voeux!E$2,""),IF(OR(Voeux!F38=1,Voeux!F38=2),Voeux!F$2,""),IF(OR(Voeux!G38=1,Voeux!G38=2),Voeux!G$2,""),IF(OR(Voeux!H38=1,Voeux!H38=2),Voeux!H$2,""),IF(OR(Voeux!I38=1,Voeux!I38=2),Voeux!I$2,""),IF(OR(Voeux!J38=1,Voeux!J38=2),Voeux!J$2,""),IF(OR(Voeux!K38=1,Voeux!K38=2),Voeux!K$2,""),IF(OR(Voeux!L38=1,Voeux!L38=2),Voeux!L$2,"")) -> PchSes | E38: =LEFT(D38,3) -> Pch | F38: =RIGHT(D38,3) -> Ses | G38: =IF(Voeux!D38=3,Voeux!$D$2,IF(Voeux!E38=3,Voeux!$E$2,IF(Voeux!F38=3,Voeux!$F$2,IF(Voeux!G38=3,Voeux!$G$2,IF(Voeux!H38=3,Voeux!$H$2,IF(Voeux!I38=3,Voeux!$I$2,IF(Voeux!J38=3,Voeux!$J$2,IF(Voeux!K38=3,Voeux!$K$2,IF(Voeux!L38=3,Voeux!$L$2,""))))))))) -> Num | I38: =IF(Voeux!E38=4,Voeux!$E$2,IF(Voeux!F38=4,Voeux!$F$2,IF(Voeux!G38=4,Voeux!$G$2,IF(Voeux!H38=4,Voeux!$H$2,IF(Voeux!I38=4,Voeux!$I$2,IF(Voeux!J38=4,Voeux!$J$2,IF(Voeux!K38=4,Voeux!$K$2,IF(Voeux!L38=4,Voeux!$L$2,IF(Voeux!D38=4,Voeux!$D$2,""))))))))) -> Mat | K38: =IF(J38<>"","",G38) -> Num | L38: =IF(J38<>"","",I38) -> Mat | N38: =CONCATENATE(D38,G38) -> PchSesNum
A39: Nom élève 1Prénom élève 37 | B39: Prénom élève 37 | C39: 43192 | D39: =CONCATENATE(IF(OR(Voeux!D39=1,Voeux!D39=2),Voeux!D$2,""),IF(OR(Voeux!E39=1,Voeux!E39=2),Voeux!E$2,""),IF(OR(Voeux!F39=1,Voeux!F39=2),Voeux!F$2,""),IF(OR(Voeux!G39=1,Voeux!G39=2),Voeux!G$2,""),IF(OR(Voeux!H39=1,Voeux!H39=2),Voeux!H$2,""),IF(OR(Voeux!I39=1,Voeux!I39=2),Voeux!I$2,""),IF(OR(Voeux!J39=1,Voeux!J39=2),Voeux!J$2,""),IF(OR(Voeux!K39=1,Voeux!K39=2),Voeux!K$2,""),IF(OR(Voeux!L39=1,Voeux!L39=2),Voeux!L$2,"")) -> HdaHgg | E39: =LEFT(D39,3) -> Hda | F39: =RIGHT(D39,3) -> Hgg | G39: =IF(Voeux!D39=3,Voeux!$D$2,IF(Voeux!E39=3,Voeux!$E$2,IF(Voeux!F39=3,Voeux!$F$2,IF(Voeux!G39=3,Voeux!$G$2,IF(Voeux!H39=3,Voeux!$H$2,IF(Voeux!I39=3,Voeux!$I$2,IF(Voeux!J39=3,Voeux!$J$2,IF(Voeux!K39=3,Voeux!$K$2,IF(Voeux!L39=3,Voeux!$L$2,""))))))))) -> Hlp | I39: =IF(Voeux!E39=4,Voeux!$E$2,IF(Voeux!F39=4,Voeux!$F$2,IF(Voeux!G39=4,Voeux!$G$2,IF(Voeux!H39=4,Voeux!$H$2,IF(Voeux!I39=4,Voeux!$I$2,IF(Voeux!J39=4,Voeux!$J$2,IF(Voeux!K39=4,Voeux!$K$2,IF(Voeux!L39=4,Voeux!$L$2,IF(Voeux!D39=4,Voeux!$D$2,""))))))))) -> Llc | K39: =IF(J39<>"","",G39) -> Hlp | L39: =IF(J39<>"","",I39) -> Llc | N39: =CONCATENATE(D39,G39) -> HdaHggHlp
... A310: Nom élève 1Prénom élève 308 | B310: Prénom élève 308 | C310: 43314 | D310: =CONCATENATE(IF(OR(Voeux!D310=1,Voeux!D310=2),Voeux!D$2,""),IF(OR(Voeux!E310=1,Voeux!E310=2),Voeux!E$2,""),IF(OR(Voeux!F310=1,Voeux!F310=2),Voeux!F$2,""),IF(OR(Voeux!G310=1,Voeux!G310=2),Voeux!G$2,""),IF(OR(Voeux!H310=1,Voeux!H310=2),Voeux!H$2,""),IF(OR(Voeux!I310=1,Voeux!I310=2),Voeux!I$2,""),IF(OR(Voeux!J310=1,Voeux!J310=2),Voeux!J$2,""),IF(OR(Voeux!K310=1,Voeux!K310=2),Voeux!K$2,""),IF(OR(Voeux!L310=1,Voeux!L310=2),Voeux!L$2,"")) -> PchSes | E310: =LEFT(D310,3) -> Pch | F310: =RIGHT(D310,3) -> Ses | G310: =IF(Voeux!D310=3,Voeux!$D$2,IF(Voeux!E310=3,Voeux!$E$2,IF(Voeux!F310=3,Voeux!$F$2,IF(Voeux!G310=3,Voeux!$G$2,IF(Voeux!H310=3,Voeux!$H$2,IF(Voeux!I310=3,Voeux!$I$2,IF(Voeux!J310=3,Voeux!$J$2,IF(Voeux!K310=3,Voeux!$K$2,IF(Voeux!L310=3,Voeux!$L$2,""))))))))) -> Num | I310: =IF(Voeux!E310=4,Voeux!$E$2,IF(Voeux!F310=4,Voeux!$F$2,IF(Voeux!G310=4,Voeux!$G$2,IF(Voeux!H310=4,Voeux!$H$2,IF(Voeux!I310=4,Voeux!$I$2,IF(Voeux!J310=4,Voeux!$J$2,IF(Voeux!K310=4,Voeux!$K$2,IF(Voeux!L310=4,Voeux!$L$2,IF(Voeux!D310=4,Voeux!$D$2,""))))))))) -> Mat | K310: =IF(J310<>"","",G310) -> Num | L310: =IF(J310<>"","",I310) -> Mat | N310: =CONCATENATE(D310,G310) -> PchSesNum
