Workbook
Name SAPBEXq0001: Feuil1!$A$1:$A$4
Name SAPBEXq0001fCF8MV0LBGG8M2M2HRP8OVOZ7F: Feuil1!#REF!
Name SAPBEXq0001fHCSSP0213___F10: Feuil1!#REF!
Name SAPBEXq0001fHCSSP0213___F11: Feuil1!#REF!
Name SAPBEXq0001fHCSSP0213___F12: Feuil1!#REF!
Name SAPBEXq0001fHCSSP0213___F13: Feuil1!#REF!
Name SAPBEXq0001fHCSSP0213___F148: Feuil1!#REF!
Name SAPBEXq0001fHCSSP0213___F150: Feuil1!#REF!
Name SAPBEXq0001fHCSSP0213___F16: Feuil1!#REF!
Name SAPBEXq0001fHCSSP0213___F163: Feuil1!#REF!
Name SAPBEXq0001fHCSSP0213___F170: Feuil1!#REF!
Name SAPBEXq0001fHCSSP0213___F19: Feuil1!#REF!
Name SAPBEXq0001fHCSSP0213___F2: Feuil1!#REF!
Name SAPBEXq0001fHCSSP0213___F21: Feuil1!#REF!
Name SAPBEXq0001fHCSSP0213___F28: Feuil1!#REF!
Name SAPBEXq0001fHCSSP0213___F3: Feuil1!#REF!
Name SAPBEXq0001fHCSSP0213___F39: Feuil1!#REF!
Name SAPBEXq0001fHCSSP0213___F4: Feuil1!#REF!
Name SAPBEXq0001fHCSSP0213___F5: Feuil1!#REF!
Name SAPBEXq0001fHCSSP0213___F64: Feuil1!#REF!
Name SAPBEXq0001fHCSSP0213___F65: Feuil1!#REF!
Name SAPBEXq0001fHCSSP0213___F9: Feuil1!#REF!
Name SAPBEXq0001tFILTER_HCSSP0213___F10: Feuil1!#REF!
Name SAPBEXq0001tFILTER_HCSSP0213___F11: Feuil1!#REF!
Name SAPBEXq0001tFILTER_HCSSP0213___F16: Feuil1!#REF!
Name SAPBEXq0001tFILTER_HCSSP0213___F2: Feuil1!#REF!
Name SAPBEXq0001tFILTER_HCSSP0213___F5: Feuil1!#REF!
Name SAPBEXq0001tREPTXTLG: Feuil1!#REF!

Sheet SAPBEXqueries
A1: 9
A2: 1 | AE2: 21 | CM2: 2 | DG2: 7 | EA2: 2 | EU2: 0 | FY2: 9 | HW2: 30
A3: 24 | AE3: 54 | CM3: 9 | DG3: 11 | EA3: 13 | EU3: 11 | FY3: 20 | HW3: 2
B4: 2 | C4: CNRJGCFOXZ7ANASQMC2S8ZJUJ | D4: TRUE | E4: TRUE | F4: SAPBEXq0001 | G4: 2 | H4: 14 | I4: FALSE | L4: TRUE | M4: FALSE | O4: TRUE | P4: FALSE | Q4: 2 | S4: 5 | T4: TRUE | U4: FALSE | Y4: FALSE | Z4: TRUE | AE4: 4 | AF4: HCSSP0213___F3 | AG4: Civil./Milit. Domain | AH4: X | AK4: 0001 | AR4: U | AS4: 2 | AT4: 00 | AX4: 00000000 | AY4: K | AZ4: HCSSP0213___F3 | BA4: A | BD4: H | BJ4: 00000000 | BK4: 0000 | BM4: 0 | BR4: 1 | BS4: 1 | BT4: 1 | BU4: 0 | BV4: 0 | CA4: 0 | CB4: B8M3WDDG0TF776F9IJ28183ZV | CM4: 4 | CN4: CF8MV0LBGG8M2M2HRP8OVOZ7F | CO4: CHDD0CJWTTZA7S91ZCY7Q0MD7 | CP4: PC | CQ4: 0001 | CS4: S | CU4: C | CV4: X | DG4: 4 | DH4: HCSSP0213___F10 | DI4: HPNBEGRU | DJ4: Authorization Group | DK4: 0000 | DL4: X | DN4: 0 | DO4: 0 | EA4: 4 | EB4: CHDD0CJWTTZA7S91ZCY7Q0MD7 | EC4: 0000000000000000000000000 | EI4: 00 | EJ4: X | EK4: 9 | EL4: 0 | FY4: 4 | FZ4: HIO_CDA | GA4: 1 | GB4: I | GC4: I | GD4: BT | GE4: 20180901 | GF4: 01/09/2018 | GG4: 20180930 | GH4: 30/09/2018 | GJ4: 0 | GL4: 0 | GN4: 0 | GP4: 20 | GS4: HCSSP0213___F5 | HW4: 4 | HX4: 0000000100 | HY4: X
AE5: 4 | AF5: HCSSP0213___F16 | AG5: Deletion flag | AH5: X | AK5: 0002 | AR5: U | AS5: 2 | AT5: 00 | AX5: 00000000 | AY5: S | AZ5: HCSSP0213___F16 | BA5: A | BD5: H | BJ5: 00000000 | BK5: 0000 | BM5: 0 | BR5: 1 | BS5: 1 | BT5: 1 | BU5: 0 | BV5: 0 | CA5: 0 | CB5: BAQU1PC1E75VCCLTQ6RQVJR5N | CM5: 4 | CN5: CF8MV0LBGG8M2M2HRP8OVOZ7F | CO5: CJI35OII77PYCYFM70NQKC9IZ | CP5: SL | CQ5: 0002 | CS5: S | CU5: C | CV5: X | DG5: 4 | DH5: HCSSP0213___F9 | DI5: HPNLEADER | DJ5: Leader | DK5: 0000 | DL5: X | DN5: 0 | DO5: 0 | EA5: 4 | EB5: CJI35OII77PYCYFM70NQKC9IZ | EC5: 0000000000000000000000000 | EI5: 00 | EJ5: X | EK5: 7 | EL5: 0 | FY5: 4 | FZ5: ASO_ZDOM | GA5: 1 | GB5: S | GJ5: 0 | GL5: 0 | GN5: 0 | GP5: 20 | GS5: HCSSP0213___F3 | HW5: 4 | HX5: 0000000108
AE6: 4 | AF6: HCSSP0213___F5 | AG6: Creation Date | AH6: X | AK6: 0003 | AR6: U | AS6: 2 | AT6: 00 | AX6: 00000000 | AY6: K | AZ6: HCSSP0213___F5 | BA6: A | BD6: H | BJ6: 00000000 | BK6: 0000 | BM6: 0 | BR6: 1 | BS6: 1 | BT6: 1 | BU6: 0 | BV6: 0 | CA6: 0 | CB6: BCVK71AMRKWJHISDXUH9PVEBF | DG6: 4 | DH6: HCSSP0213___F9 | DI6: HPNRESPFR | DJ6: Resp FR | DK6: 0000 | DL6: X | DN6: 0 | DO6: 0 | FY6: 4 | FZ6: ASO_AIBO | GA6: 1 | GB6: S | GC6: I | GD6: EQ | GE6: F6198 | GF6: F6198 | GI6: AIRBUS FRANCE | GJ6: 60 | GL6: 0 | GN6: 0 | GP6: 20 | GS6: HCSSP0213___F10 | HW6: 4 | HX6: 0000000101
AE7: 4 | AF7: HCSSP0213___F2 | AG7: Material Type | AH7: X | AK7: 0004 | AM7: PNR PRODUCT SUPPORT | AR7: U | AS7: 2 | AT7: 00 | AX7: 00000000 | AY7: F | AZ7: HCSSP0213___F2 | BA7: A | BD7: H | BJ7: 00000000 | BK7: 0000 | BM7: 0 | BO7: 1 | BR7: 1 | BS7: 1 | BT7: 1 | BU7: 0 | BV7: 0 | CA7: 0 | CB7: BF0ACD984YN7MOYY5I6SK71H7 | DG7: 4 | DH7: HCSSP0213___F9 | DI7: HPNRESPGE | DJ7: Resp GE | DK7: 0000 | DL7: X | DN7: 0 | DO7: 0 | FY7: 4 | FZ7: ASO_COMP | GA7: 1 | GB7: S | GJ7: 0 | GL7: 0 | GN7: 0 | GP7: 20 | GS7: HCSSP0213___F170 | HW7: 4 | HX7: 0000000104 | HY7: 1
AE8: 4 | AF8: HCSSP0213___F11 | AG8: Material Group | AH8: X | AK8: 0005 | AR8: U | AS8: 2 | AT8: 00 | AX8: 00000000 | AY8: T | AZ8: HCSSP0213___F11 | BA8: A | BD8: H | BJ8: 00000000 | BK8: 0000 | BM8: 0 | BR8: 1 | BS8: 1 | BT8: 1 | BU8: 0 | BV8: 0 | CA8: 0 | CB8: BH50HP7TICDVRV5ID5WBEIOMZ | DG8: 4 | DH8: HCSSP0213___F9 | DI8: HPNRESPSP | DJ8: Resp SP | DK8: 0000 | DL8: X | DN8: 0 | DO8: 0 | FY8: 4 | FZ8: HSOSPC | GA8: 1 | GB8: S | GJ8: 0 | GL8: 0 | GN8: 0 | GP8: 20 | GS8: HCSSP0213___F12 | HW8: 4 | HX8: 0000000103
AE9: 4 | AF9: HCSSP0213___F39 | AG9: PNPS/PNDO w Mfr | AH9: X | AK9: 0006 | AR9: U | AS9: 2 | AT9: 00 | AX9: 00000000 | AY9: K | AZ9: HCSSP0213___F39 | BA9: A | BD9: H | BJ9: 00000000 | BK9: 0000 | BM9: 0 | BR9: 1 | BS9: 1 | BT9: 1 | BU9: 0 | BV9: 0 | CA9: 0 | CB9: BJ9QN16EVQ4JX1C2KTLU8UBSR | DG9: 4 | DH9: HCSSP0213___F9 | DI9: HPNRESPUK | DJ9: Resp UK | DK9: 0000 | DL9: X | DN9: 0 | DO9: 0 | FY9: 4 | FZ9: HSO_CRBY | GA9: 1 | GB9: S | GJ9: 0 | GL9: 0 | GN9: 0 | GP9: 20 | GS9: HCSSP0213___F4 | HW9: 4 | HX9: 0000000102 | HY9: 1
AE10: 4 | AF10: HCSSP0213___F10 | AG10: AIBO | AH10: X | AK10: 0007 | AR10: U | AS10: 2 | AT10: 00 | AX10: 00000000 | AY10: S | AZ10: HCSSP0213___F10 | BA10: A | BD10: H | BJ10: 00000000 | BK10: 0000 | BM10: 0 | BR10: 1 | BS10: 1 | BT10: 1 | BU10: 0 | BV10: 0 | CA10: 0 | CB10: BLEGSD5093V827IMSHBD35YYJ | DG10: 4 | DH10: HCSSP0213___F9 | DI10: HPNSUPTYP | DJ10: Supplier Type | DK10: 0000 | DL10: X | DN10: 0 | DO10: 0 | FY10: 4 | FZ10: HSOMATG | GA10: 1 | GB10: S | GC10: I | GD10: EQ | GE10: 10 | GF10: 10 | GI10: AI Proprietary Parts | GJ10: 20 | GL10: 0 | GN10: 0 | GP10: 20 | GS10: HCSSP0213___F11 | HW10: 4 | HX10: 0000009000 | HY10: X
AE11: 4 | AF11: HCSSP0213___F9 | AG11: CS Vendor | AH11: X | AK11: 0008 | AR11: U | AS11: 2 | AT11: 00 | AX11: 00000000 | AY11: K | AZ11: HCSSP0213___F9 | BA11: A | BD11: H | BJ11: 00000000 | BK11: 0000 | BM11: 0 | BR11: 1 | BS11: 1 | BT11: 1 | BU11: 0 | BV11: 0 | CA11: 0 | CB11: BNJ6XP3LMHLW7DP7050VXHM4B | FY11: 4 | FZ11: HSO_E_PN | GA11: 1 | GB11: S | GJ11: 0 | GL11: 0 | GN11: 0 | GP11: 20 | GS11: HCSSP0213___F148 | HW11: 4 | HX11: 0000000107 | HY11: B6HDR1EUNFOJ208PAVCP6WGU3
AE12: 4 | AF12: HCSSP0213___F150 | AG12: Ext. Manuf. Code | AH12: X | AK12: 0009 | AR12: U | AS12: 2 | AT12: 00 | AX12: 00000000 | AY12: K | AZ12: HCSSP0213___F150 | BA12: A | BD12: H | BJ12: 00000000 | BK12: 0000 | BM12: 0 | BR12: 1 | BS12: 1 | BT12: 1 | BU12: 0 | BV12: 0 | CA12: 0 | CB12: BPNX3126ZVCKCJVR7SQERT9A3 | FY12: 4 | FZ12: HSOEXMC | GA12: 1 | GB12: S | GJ12: 0 | GL12: 0 | GN12: 0 | GP12: 20 | GS12: HCSSP0213___F150 | HW12: 4 | HX12: 0000010001 | HY12: CNRJGCFOXZ7ANASQMC2S8ZJUJ
AE13: 4 | AF13: CF8MV0LBGG8M2M2HRP8OVOZ7F | AG13: Key Figures | AI13: X | AJ13: X | AK13: 0001 | AR13: U | AT13: 00 | AY13: K | AZ13: CF8MV0LBGG8M2M2HRP8OVOZ7F | BA13: A | BJ13: 00000000 | BK13: 0000 | BL13: X | BM13: 0 | BR13: 0 | BS13: 0 | BT13: 0 | BU13: 0 | BV13: 0 | CB13: CF8MV0LBGG8M2M2HRP8OVOZ7F | HW13: 4 | HX13: 0000010003 | HY13: HCSSP0213
AE14: 4 | AF14: HCSSP0213___F148 | AG14: Part Number / MFR | AH14: X | AJ14: Y | AK14: 0001 | AR14: U | AS14: 2 | AT14: 00 | AX14: 00000000 | AY14: K | AZ14: HCSSP0213___F148 | BA14: A | BD14: H | BJ14: 00000000 | BK14: 0000 | BM14: 0 | BR14: 1 | BS14: 1 | BT14: 1 | BU14: 1 | BV14: 1 | CA14: 0 | CB14: BRSN8D0SD938HQ2BFGFXM4WFV | HW14: 4 | HX14: 0000000010 | HY14: X
AE15: 4 | AF15: HCSSP0213___F13 | AG15: Additional Desc Text | AH15: X | AJ15: Y | AK15: 0002 | AR15: U | AS15: 2 | AT15: 00 | AX15: 00000000 | AY15: K | AZ15: HCSSP0213___F13 | BA15: A | BD15: H | BJ15: 00000000 | BK15: 0000 | BM15: 0 | BR15: 1 | BS15: 1 | BT15: 1 | BU15: 2 | BV15: 2 | CA15: 0 | CB15: BTXDDOZDQMTWMW8VN45GGGJLN | HW15: 4 | HX15: 0000000109 | HY15: 0
AE16: 4 | AF16: HCSSP0213___F19 | AG16: Keyword | AH16: X | AJ16: Y | AK16: 0003 | AR16: U | AS16: 2 | AT16: 00 | AX16: 00000000 | AY16: K | AZ16: HCSSP0213___F19 | BA16: A | BD16: H | BJ16: 00000000 | BK16: 0000 | BM16: 0 | BR16: 1 | BS16: 1 | BT16: 1 | BU16: 3 | BV16: 3 | CA16: 0 | CB16: BW23J0XZ40KKS2FFURUZAS6RF | HW16: 4 | HX16: 0000000113
AE17: 4 | AF17: HCSSP0213___F21 | AG17: LC | AH17: X | AJ17: Y | AK17: 0004 | AR17: U | AS17: 2 | AT17: 00 | AX17: 00000000 | AY17: K | AZ17: HCSSP0213___F21 | BA17: A | BD17: H | BJ17: 00000000 | BK17: 0000 | BM17: 0 | BR17: 1 | BS17: 1 | BT17: 1 | BU17: 4 | BV17: 4 | CA17: 0 | CB17: BY6TOCWKHEB8X8M02FKI53TX7 | HW17: 4 | HX17: 0000000020
AE18: 4 | AF18: HCSSP0213___F12 | AG18: SPC | AH18: X | AJ18: Y | AK18: 0005 | AR18: U | AS18: 2 | AT18: 00 | AX18: 00000000 | AY18: K | AZ18: HCSSP0213___F12 | BA18: A | BD18: H | BJ18: 00000000 | BK18: 0000 | BM18: 0 | BR18: 1 | BS18: 1 | BT18: 1 | BU18: 5 | BV18: 5 | CA18: 0 | CB18: C0BJTOV5US1X2ESKA3A0ZFH2Z | HW18: 4 | HX18: 0000000030
AE19: 4 | AF19: HCSSP0213___F163 | AG19: CBM | AH19: X | AJ19: Y | AK19: 0006 | AR19: U | AS19: 2 | AT19: 00 | AX19: 00000000 | AY19: K | AZ19: HCSSP0213___F163 | BA19: A | BD19: H | BJ19: 00000000 | BK19: 0000 | BM19: 0 | BR19: 1 | BS19: 1 | BT19: 1 | BU19: 6 | BV19: 6 | CA19: 0 | CB19: C2G9Z0TR85SL7KZ4HQZJTR48R | HW19: 4 | HX19: 0000000040
AE20: 4 | AF20: HCSSP0213___F65 | AG20: RPC | AH20: X | AJ20: Y | AK20: 0007 | AR20: U | AS20: 2 | AT20: 00 | AX20: 00000000 | AY20: K | AZ20: HCSSP0213___F65 | BA20: A | BD20: H | BJ20: 00000000 | BK20: 0000 | BM20: 0 | BR20: 1 | BS20: 1 | BT20: 1 | BU20: 8 | BV20: 8 | CA20: 0 | CB20: C4L04CSCLJJ9CR5OPEP2O2REJ | HW20: 4 | HX20: 0000000041
AE21: 4 | AF21: HCSSP0213___F64 | AG21: PCC | AH21: X | AJ21: Y | AK21: 0008 | AR21: U | AS21: 2 | AT21: 00 | AX21: 00000000 | AY21: K | AZ21: HCSSP0213___F64 | BA21: A | BD21: H | BJ21: 00000000 | BK21: 0000 | BM21: 0 | BR21: 1 | BS21: 1 | BT21: 1 | BU21: 10 | BV21: 10 | CA21: 0 | CB21: C6PQ9OQXYX9XHXC8X2ELIEEKB | HW21: 4 | HX21: 0000000042 | HY21: 00
AE22: 4 | AF22: HCSSP0213___F4 | AG22: Created by | AH22: X | AJ22: Y | AK22: 0009 | AR22: U | AS22: 2 | AT22: 00 | AX22: 00000000 | AY22: K | AZ22: HCSSP0213___F4 | BA22: A | BD22: H | BJ22: 00000000 | BK22: 0000 | BM22: 0 | BR22: 1 | BS22: 1 | BT22: 1 | BU22: 11 | BV22: 11 | CA22: 0 | CB22: C8UGF0PJCB0LN3IT4Q44CQ1Q3 | HW22: 4 | HX22: 0000000043 | HY22: 00
AE23: 4 | AF23: HCSSP0213___F28 | AG23: Redactor | AH23: X | AJ23: Y | AK23: 0010 | AR23: U | AS23: 2 | AT23: 00 | AX23: 00000000 | AY23: K | AZ23: HCSSP0213___F28 | BA23: A | BD23: H | BJ23: 00000000 | BK23: 0000 | BM23: 0 | BR23: 1 | BS23: 1 | BT23: 1 | BU23: 12 | BV23: 12 | CA23: 0 | CB23: CAZ6KCO4POR9S9PDCDTN71OVV | HW23: 4 | HX23: 0000009001 | HY23: PNPS Created (SEDT2)
AE24: 4 | AF24: HCSSP0213___F170 | AG24: Company | AH24: X | AJ24: Y | AK24: 0011 | AR24: U | AS24: 1 | AT24: 00 | AX24: 00000000 | AY24: K | AZ24: HCSSP0213___F170 | BA24: A | BD24: H | BJ24: 00000000 | BK24: 0000 | BM24: 0 | BR24: 1 | BS24: 1 | BT24: 1 | BU24: 13 | BV24: 13 | CA24: 0 | CB24: CD3WPOMQ32HXXFVXK1J61DC1N | HW24: 4 | HX24: 0000000021
HW25: 4 | HX25: 0000000022
HW26: 4 | HX26: 0000000023
HW27: 4 | HX27: 0000010002 | HY27: B6HDR1EUNFOJ208PAVCP6WGU3
HW28: 4 | HX28: 0000000105
HW29: 4 | HX29: 0000000106
HW30: 4 | HX30: 0000000112 | HY30: 0
HW31: 4 | HX31: 0000000200 | HY31: X
HW32: 4 | HX32: 0000004000 | HY32: X
HW33: 4 | HX33: 0000000114 | HY33: 1

Sheet SAPBEXfilters
CW2: 0 | EZ2: 1 | GX2: 1
CW3: 8 | EZ3: 7 | GX3: 31
EZ4: 4 | FA4: 361E15E07G51WZ4GKQHEVOHVB | FC4: X | FD4: 3 | FE4: 0 | FF4: HCSSP0213___F2 | GX4: 4 | GY4: 361E15E07G51WZ4GKQHEVOHVB | HB4: 0001 | HC4: 0001 | HD4: 0 | HE4: 0000 | HF4: I | HG4: EQ | HH4: PNPS | HJ4: PNPS | HL4: 1 | HN4: 0 | HP4: PNR PRODUCT SUPPORT | HU4: 0 | HX4: 0 | HZ4: 0 | IC4: 00

Sheet Feuil1
A1: Additional Desc Text
A2: UPPER ELECTRICAL HARNESS-2M CTD | B2: =VLOOKUP(A2,Feuil2!B$2:B9999,1,TRUE) -> FILTER | C2: =IF(COUNTIF(A2,B2),"","not_correct") -> not_correct
A3: PLACARD SET | B3: =VLOOKUP(A3,Feuil2!B$2:B9999,1,TRUE) -> FILTER | C3: =IF(COUNTIF(A3,B3),"","not_correct") -> not_correct
A4: PLACARD SET | B4: =VLOOKUP(A4,Feuil2!B$2:B9999,1,TRUE) -> FILTER | C4: =IF(COUNTIF(A4,B4),"","not_correct") -> not_correct
A5: PLACARD | B5: =VLOOKUP(A5,Feuil2!B$2:B9999,1,TRUE) -> FILTER | C5: =IF(COUNTIF(A5,B5),"","not_correct") -> not_correct
A6: PLACARD SET | B6: =VLOOKUP(A6,Feuil2!B$2:B9999,1,TRUE) -> FILTER | C6: =IF(COUNTIF(A6,B6),"","not_correct") -> not_correct
A7: PLACARD SET | B7: =VLOOKUP(A7,Feuil2!B$2:B9999,1,TRUE) -> FILTER | C7: =IF(COUNTIF(A7,B7),"","not_correct") -> not_correct
A8: PLACARD | B8: =VLOOKUP(A8,Feuil2!B$2:B9999,1,TRUE) -> FILTER | C8: =IF(COUNTIF(A8,B8),"","not_correct") -> not_correct
A9: DUCT ASSY | B9: =VLOOKUP(A9,Feuil2!B$2:B9999,1,TRUE) -> BRACKET ASSY | C9: =IF(COUNTIF(A9,B9),"","not_correct") -> not_correct
A10: DUCT ASSY | B10: =VLOOKUP(A10,Feuil2!B$2:B9999,1,TRUE) -> BRACKET ASSY | C10: =IF(COUNTIF(A10,B10),"","not_correct") -> not_correct
A11: RESTRICTOR | B11: =VLOOKUP(A11,Feuil2!B$2:B9999,1,TRUE) -> FILTER | C11: =IF(COUNTIF(A11,B11),"","not_correct") -> not_correct
A12: PIPE | B12: =VLOOKUP(A12,Feuil2!B$2:B9999,1,TRUE) -> FILTER | C12: =IF(COUNTIF(A12,B12),"","not_correct") -> not_correct
A13: PIPE | B13: =VLOOKUP(A13,Feuil2!B$2:B9999,1,TRUE) -> FILTER | C13: =IF(COUNTIF(A13,B13),"","not_correct") -> not_correct
A14: BRACKET | B14: =VLOOKUP(A14,Feuil2!B$2:B9999,1,TRUE) -> #N/A | C14: =IF(COUNTIF(A14,B14),"","not_correct") -> not_correct
A15: BRACKET ASSY | B15: =VLOOKUP(A15,Feuil2!B$2:B9999,1,TRUE) -> BRACKET ASSY | C15: =IF(COUNTIF(A15,B15),"","not_correct")
A16: FITTING ASSY | B16: =VLOOKUP(A16,Feuil2!B$2:B9999,1,TRUE) -> FILTER | C16: =IF(COUNTIF(A16,B16),"","not_correct") -> not_correct
A17: PLATE | B17: =VLOOKUP(A17,Feuil2!B$2:B9999,1,TRUE) -> FILTER | C17: =IF(COUNTIF(A17,B17),"","not_correct") -> not_correct
A18: 2007 | B18: =VLOOKUP(A18,Feuil2!B$2:B9999,1,TRUE) -> #N/A | C18: =IF(COUNTIF(A18,B18),"","not_correct") -> not_correct

Sheet Feuil2
B1: Keyword
B2: TRANSPOND
B3: PLACARD SET
B4: PLACARD
B5: PLACARD
B6: DUCT ASSY
B7: REFRIGERATION
B8: PIPE
B9: BRACKET
B10: BRACKET ASSY
B11: FILTER
