Workbook
Name BASEIMEI: [2]Feuil2!$A$2:$B$2918
Name BASELIGNUM: [2]Feuil3!$A$2:$B$2557

Sheet Correspondance
A1: AFF_DATE_DEBUT | B1: AFF_DATE_FIN | C1: AFF_LOGIN_DETENTEUR | D1: DATASORTIE | E1: TEL_ID | F1: LIG_ID | G1: TEL_IMEI | H1: LIG_NUMERO
A2: 2016-11-18 12:13:36.893 | B2: NULL | C2: MARTINUCCI | D2: =IFERROR(INDEX([1]UTILISATEUR!$B$2:$B$37935,MATCH([1]AFFECTATION!C2,[1]UTILISATEUR!$C$2:$C$37935,0)),"Pas trouvé") -> 2008-04-09 00:00:00.000 | E2: 633 | F2: 634 | G2: =VLOOKUP(E2,BASEIMEI,2,FALSE) -> 867422025547447 | H2: =VLOOKUP(F2,BASELIGNUM,2,FALSE) -> 611434765 | I2: =IFERROR(VLOOKUP(VLOOKUP(Correspondance!E2,RMTE!$A$2:$B$1001,2,0),MODELE!$A$2:$C$16,3,0),"Pas de correspondance") -> Clef 3G
A3: 2016-11-18 12:13:49.567 | B3: NULL | C3: FREMONT | D3: =IFERROR(INDEX([1]UTILISATEUR!$B$2:$B$37935,MATCH([1]AFFECTATION!C3,[1]UTILISATEUR!$C$2:$C$37935,0)),"Pas trouvé") -> NULL | E3: 614 | F3: 615 | G3: =VLOOKUP(E3,BASEIMEI,2,FALSE) -> NOIMEI000000022 | H3: =VLOOKUP(F3,BASELIGNUM,2,FALSE) -> 626914003
A4: 2016-11-18 12:13:49.580 | B4: NULL | C4: FREMONT | D4: =IFERROR(INDEX([1]UTILISATEUR!$B$2:$B$37935,MATCH([1]AFFECTATION!C4,[1]UTILISATEUR!$C$2:$C$37935,0)),"Pas trouvé") -> NULL | E4: 773 | F4: 774 | G4: =VLOOKUP(E4,BASEIMEI,2,FALSE) -> 355159062507434 | H4: =VLOOKUP(F4,BASELIGNUM,2,FALSE) -> 646407600
A5: 2016-11-18 12:13:49.597 | B5: NULL | C5: VALETTE | D5: =IFERROR(INDEX([1]UTILISATEUR!$B$2:$B$37935,MATCH([1]AFFECTATION!C5,[1]UTILISATEUR!$C$2:$C$37935,0)),"Pas trouvé") -> NULL | E5: 1787 | F5: 998 | G5: =VLOOKUP(E5,BASEIMEI,2,FALSE) -> 358979078793927 | H5: =VLOOKUP(F5,BASELIGNUM,2,FALSE) -> 613021350
A6: 2016-11-18 12:13:49.597 | B6: NULL | C6: JONGET | D6: =IFERROR(INDEX([1]UTILISATEUR!$B$2:$B$37935,MATCH([1]AFFECTATION!C6,[1]UTILISATEUR!$C$2:$C$37935,0)),"Pas trouvé") -> NULL | E6: 777 | F6: 778 | G6: =VLOOKUP(E6,BASEIMEI,2,FALSE) -> 355159062514521 | H6: =VLOOKUP(F6,BASELIGNUM,2,FALSE) -> 620658348
A7: 2016-11-18 12:13:49.613 | B7: NULL | C7: CORMIER | D7: =IFERROR(INDEX([1]UTILISATEUR!$B$2:$B$37935,MATCH([1]AFFECTATION!C7,[1]UTILISATEUR!$C$2:$C$37935,0)),"Pas trouvé") -> 2017-02-03 00:00:00.000 | E7: 1029 | F7: 1984 | G7: =VLOOKUP(E7,BASEIMEI,2,FALSE) -> 359170052010111 | H7: =VLOOKUP(F7,BASELIGNUM,2,FALSE) -> 603809472 | I7: =IFERROR(VLOOKUP(VLOOKUP(Correspondance!E7,RMTE!$A$2:$B$1001,2,0),MODELE!$A$2:$C$16,3,0),"Pas de correspondance") -> Smartphone J3 2016
A8: 2016-11-18 12:13:49.613 | B8: NULL | C8: MINGUY | D8: =IFERROR(INDEX([1]UTILISATEUR!$B$2:$B$37935,MATCH([1]AFFECTATION!C8,[1]UTILISATEUR!$C$2:$C$37935,0)),"Pas trouvé") -> 2019-03-15 23:59:59.000 | E8: 1806 | F8: 1017 | G8: =VLOOKUP(E8,BASEIMEI,2,FALSE) -> 353406049707401 | H8: =VLOOKUP(F8,BASELIGNUM,2,FALSE) -> 617726538 | I8: =IFERROR(VLOOKUP(VLOOKUP(Correspondance!E8,RMTE!$A$2:$B$1001,2,0),MODELE!$A$2:$C$16,3,0),"Pas de correspondance") -> Pas de correspondance
A9: 2016-11-18 12:13:49.630 | B9: NULL | C9: DELUBAC | D9: =IFERROR(INDEX([1]UTILISATEUR!$B$2:$B$37935,MATCH([1]AFFECTATION!C9,[1]UTILISATEUR!$C$2:$C$37935,0)),"Pas trouvé") -> 2017-07-25 00:00:00.000 | E9: 1190 | F9: 1822 | G9: =VLOOKUP(E9,BASEIMEI,2,FALSE) -> 358543051036256 | H9: =VLOOKUP(F9,BASELIGNUM,2,FALSE) -> 616736823 | I9: =IFERROR(VLOOKUP(VLOOKUP(Correspondance!E9,RMTE!$A$2:$B$1001,2,0),MODELE!$A$2:$C$16,3,0),"Pas de correspondance") -> Smartphone J3 2016
A10: 2016-11-18 12:13:49.630 | B10: 2019-02-28 16:16:10.680 | C10: HOUDART | D10: =IFERROR(INDEX([1]UTILISATEUR!$B$2:$B$37935,MATCH([1]AFFECTATION!C10,[1]UTILISATEUR!$C$2:$C$37935,0)),"Pas trouvé") -> NULL | E10: 831 | F10: 832 | G10: =VLOOKUP(E10,BASEIMEI,2,FALSE) -> 12426006166436 | H10: =VLOOKUP(F10,BASELIGNUM,2,FALSE) -> 620650396
A11: 2016-11-18 12:13:49.643 | B11: NULL | C11: OUDIN | D11: =IFERROR(INDEX([1]UTILISATEUR!$B$2:$B$37935,MATCH([1]AFFECTATION!C11,[1]UTILISATEUR!$C$2:$C$37935,0)),"Pas trouvé") -> NULL | E11: 1796 | F11: 1007 | G11: =VLOOKUP(E11,BASEIMEI,2,FALSE) -> 358979078794065 | H11: =VLOOKUP(F11,BASELIGNUM,2,FALSE) -> 620693564
A12: 2016-11-18 12:13:49.643 | B12: NULL | C12: KHAMPHOUSONE | D12: =IFERROR(INDEX([1]UTILISATEUR!$B$2:$B$37935,MATCH([1]AFFECTATION!C12,[1]UTILISATEUR!$C$2:$C$37935,0)),"Pas trouvé") -> 2017-01-18 00:00:00.000 | E12: 871 | F12: 872 | G12: =VLOOKUP(E12,BASEIMEI,2,FALSE) -> 13630000755255 | H12: =VLOOKUP(F12,BASELIGNUM,2,FALSE) -> 610203608 | I12: =IFERROR(VLOOKUP(VLOOKUP(Correspondance!E12,RMTE!$A$2:$B$1001,2,0),MODELE!$A$2:$C$16,3,0),"Pas de correspondance") -> Smartphone J3 2016 | J12: DEMANDES MULTIPLES
A13: 2016-11-18 12:13:49.660 | B13: NULL | C13: LEFEVRE | D13: =IFERROR(INDEX([1]UTILISATEUR!$B$2:$B$37935,MATCH([1]AFFECTATION!C13,[1]UTILISATEUR!$C$2:$C$37935,0)),"Pas trouvé") -> NULL | E13: 1983 | F13: 1194 | G13: =VLOOKUP(E13,BASEIMEI,2,FALSE) -> 354642050232579 | H13: =VLOOKUP(F13,BASELIGNUM,2,FALSE) -> 623785829
A14: 2016-11-18 12:13:49.660 | B14: NULL | C14: BERTIN_C | D14: =IFERROR(INDEX([1]UTILISATEUR!$B$2:$B$37935,MATCH([1]AFFECTATION!C14,[1]UTILISATEUR!$C$2:$C$37935,0)),"Pas trouvé") -> NULL | E14: 1783 | F14: 994 | G14: =VLOOKUP(E14,BASEIMEI,2,FALSE) -> 353035063627284 | H14: =VLOOKUP(F14,BASELIGNUM,2,FALSE) -> 618063829
A15: 2016-11-18 12:13:49.677 | B15: NULL | C15: LANGAGNE | D15: =IFERROR(INDEX([1]UTILISATEUR!$B$2:$B$37935,MATCH([1]AFFECTATION!C15,[1]UTILISATEUR!$C$2:$C$37935,0)),"Pas trouvé") -> NULL | E15: 793 | F15: 794 | G15: =VLOOKUP(E15,BASEIMEI,2,FALSE) -> 355159062516328 | H15: =VLOOKUP(F15,BASELIGNUM,2,FALSE) -> 624482272
A16: 2016-11-18 12:13:49.677 | B16: NULL | C16: LEVEQUE | D16: =IFERROR(INDEX([1]UTILISATEUR!$B$2:$B$37935,MATCH([1]AFFECTATION!C16,[1]UTILISATEUR!$C$2:$C$37935,0)),"Pas trouvé") -> NULL | E16: 1879 | F16: 1090 | G16: =VLOOKUP(E16,BASEIMEI,2,FALSE) -> NOIMEI000000046 | H16: =VLOOKUP(F16,BASELIGNUM,2,FALSE) -> 620570803
A17: 2016-11-18 12:13:49.690 | B17: NULL | C17: LEVEQUE | D17: =IFERROR(INDEX([1]UTILISATEUR!$B$2:$B$37935,MATCH([1]AFFECTATION!C17,[1]UTILISATEUR!$C$2:$C$37935,0)),"Pas trouvé") -> NULL | E17: 1382 | F17: 1637 | G17: =VLOOKUP(E17,BASEIMEI,2,FALSE) -> 357259052221240 | H17: =VLOOKUP(F17,BASELIGNUM,2,FALSE) -> 623662210
A18: 2016-11-18 12:13:49.690 | B18: 2019-02-13 16:46:11.783 | C18: DIMANCHE | D18: =IFERROR(INDEX([1]UTILISATEUR!$B$2:$B$37935,MATCH([1]AFFECTATION!C18,[1]UTILISATEUR!$C$2:$C$37935,0)),"Pas trouvé") -> NULL | E18: 2063 | F18: 900 | G18: =VLOOKUP(E18,BASEIMEI,2,FALSE) -> 357334070534518 | H18: =VLOOKUP(F18,BASELIGNUM,2,FALSE) -> 609628973
A19: 2016-11-18 12:13:49.690 | B19: NULL | C19: LECONTE | D19: =IFERROR(INDEX([1]UTILISATEUR!$B$2:$B$37935,MATCH([1]AFFECTATION!C19,[1]UTILISATEUR!$C$2:$C$37935,0)),"Pas trouvé") -> NULL | E19: 2028 | F19: 980 | G19: =VLOOKUP(E19,BASEIMEI,2,FALSE) -> 352855055686464 | H19: =VLOOKUP(F19,BASELIGNUM,2,FALSE) -> 611510422
A20: 2016-11-18 12:13:49.690 | B20: NULL | C20: GOSNET | D20: =IFERROR(INDEX([1]UTILISATEUR!$B$2:$B$37935,MATCH([1]AFFECTATION!C20,[1]UTILISATEUR!$C$2:$C$37935,0)),"Pas trouvé") -> NULL | E20: 1200 | F20: 1832 | G20: =VLOOKUP(E20,BASEIMEI,2,FALSE) -> 357887041191411 | H20: =VLOOKUP(F20,BASELIGNUM,2,FALSE) -> 609945392
A21: 2016-11-18 12:13:49.707 | B21: NULL | C21: GONCALVES_C | D21: =IFERROR(INDEX([1]UTILISATEUR!$B$2:$B$37935,MATCH([1]AFFECTATION!C21,[1]UTILISATEUR!$C$2:$C$37935,0)),"Pas trouvé") -> 2017-10-31 00:00:00.000 | E21: 1484 | F21: 1366 | G21: =VLOOKUP(E21,BASEIMEI,2,FALSE) -> 355386040569315 | H21: =VLOOKUP(F21,BASELIGNUM,2,FALSE) -> 609239211 | I21: =IFERROR(VLOOKUP(VLOOKUP(Correspondance!E21,RMTE!$A$2:$B$1001,2,0),MODELE!$A$2:$C$16,3,0),"Pas de correspondance") -> Classique - X1 | J21: LOGIN MODF
A22: 2016-11-18 12:13:49.707 | B22: 2018-03-20 08:02:19.387 | C22: PONSARDIN | D22: =IFERROR(INDEX([1]UTILISATEUR!$B$2:$B$37935,MATCH([1]AFFECTATION!C22,[1]UTILISATEUR!$C$2:$C$37935,0)),"Pas trouvé") -> NULL | E22: 1740 | F22: 1286 | G22: =VLOOKUP(E22,BASEIMEI,2,FALSE) -> 352442070814957 | H22: =VLOOKUP(F22,BASELIGNUM,2,FALSE) -> 610540306
A23: 2016-11-18 12:13:49.707 | B23: NULL | C23: BOISSIN | D23: =IFERROR(INDEX([1]UTILISATEUR!$B$2:$B$37935,MATCH([1]AFFECTATION!C23,[1]UTILISATEUR!$C$2:$C$37935,0)),"Pas trouvé") -> NULL | E23: 1815 | F23: 1026 | G23: =VLOOKUP(E23,BASEIMEI,2,FALSE) -> 359144076655409 | H23: =VLOOKUP(F23,BASELIGNUM,2,FALSE) -> 618973087
A24: 2016-11-18 12:13:49.707 | B24: NULL | C24: ROULLAND | D24: =IFERROR(INDEX([1]UTILISATEUR!$B$2:$B$37935,MATCH([1]AFFECTATION!C24,[1]UTILISATEUR!$C$2:$C$37935,0)),"Pas trouvé") -> NULL | E24: 767 | F24: 768 | G24: =VLOOKUP(E24,BASEIMEI,2,FALSE) -> 355159062503532 | H24: =VLOOKUP(F24,BASELIGNUM,2,FALSE) -> 611174070
A25: 2016-11-18 12:13:49.720 | B25: NULL | C25: GAUDRY | D25: =IFERROR(INDEX([1]UTILISATEUR!$B$2:$B$37935,MATCH([1]AFFECTATION!C25,[1]UTILISATEUR!$C$2:$C$37935,0)),"Pas trouvé") -> NULL | E25: 1587 | F25: 1469 | G25: =VLOOKUP(E25,BASEIMEI,2,FALSE) -> 356241046212619 | H25: =VLOOKUP(F25,BASELIGNUM,2,FALSE) -> 603518271
A26: 2016-11-18 12:13:49.720 | B26: 2017-08-21 14:51:59.750 | C26: MAGERAND | D26: =IFERROR(INDEX([1]UTILISATEUR!$B$2:$B$37935,MATCH([1]AFFECTATION!C26,[1]UTILISATEUR!$C$2:$C$37935,0)),"Pas trouvé") -> 2018-08-31 23:59:59.000 | E26: 1363 | F26: 1618 | G26: =VLOOKUP(E26,BASEIMEI,2,FALSE) -> 357163066408936 | H26: =VLOOKUP(F26,BASELIGNUM,2,FALSE) -> 622707232
A27: 2016-11-18 12:13:49.720 | B27: 2017-03-10 08:46:32.880 | C27: TISSOT | D27: =IFERROR(INDEX([1]UTILISATEUR!$B$2:$B$37935,MATCH([1]AFFECTATION!C27,[1]UTILISATEUR!$C$2:$C$37935,0)),"Pas trouvé") -> NULL | E27: 1638 | F27: 1520 | G27: =VLOOKUP(E27,BASEIMEI,2,FALSE) -> 355088040044212 | H27: =VLOOKUP(F27,BASELIGNUM,2,FALSE) -> 611942534
A28: 2016-11-18 12:13:49.720 | B28: 2017-09-29 16:16:54.217 | C28: BONNEAU | D28: =IFERROR(INDEX([1]UTILISATEUR!$B$2:$B$37935,MATCH([1]AFFECTATION!C28,[1]UTILISATEUR!$C$2:$C$37935,0)),"Pas trouvé") -> NULL | E28: 858 | F28: 859 | G28: =VLOOKUP(E28,BASEIMEI,2,FALSE) -> 13172002415471 | H28: =VLOOKUP(F28,BASELIGNUM,2,FALSE) -> 621095836
A29: 2016-11-18 12:13:49.737 | B29: NULL | C29: MORAND_K | D29: =IFERROR(INDEX([1]UTILISATEUR!$B$2:$B$37935,MATCH([1]AFFECTATION!C29,[1]UTILISATEUR!$C$2:$C$37935,0)),"Pas trouvé") -> NULL | E29: 1835 | F29: 1046 | G29: =VLOOKUP(E29,BASEIMEI,2,FALSE) -> 353652069538602 | H29: =VLOOKUP(F29,BASELIGNUM,2,FALSE) -> 619675915
A30: 2016-11-18 12:13:49.737 | B30: 2019-02-07 10:09:49.120 | C30: PELISSIER_A | D30: =IFERROR(INDEX([1]UTILISATEUR!$B$2:$B$37935,MATCH([1]AFFECTATION!C30,[1]UTILISATEUR!$C$2:$C$37935,0)),"Pas trouvé") -> NULL | E30: 1150 | F30: 1782 | G30: =VLOOKUP(E30,BASEIMEI,2,FALSE) -> 358281049704947 | H30: =VLOOKUP(F30,BASELIGNUM,2,FALSE) -> 634287261
A31: 2016-11-18 12:13:49.737 | B31: NULL | C31: LESTRELIN | D31: =IFERROR(INDEX([1]UTILISATEUR!$B$2:$B$37935,MATCH([1]AFFECTATION!C31,[1]UTILISATEUR!$C$2:$C$37935,0)),"Pas trouvé") -> NULL | E31: 1371 | F31: 1626 | G31: =VLOOKUP(E31,BASEIMEI,2,FALSE) -> 357163067679493 | H31: =VLOOKUP(F31,BASELIGNUM,2,FALSE) -> 618046829
A32: 2016-11-18 12:13:49.737 | B32: NULL | C32: BAYSSAT | D32: =IFERROR(INDEX([1]UTILISATEUR!$B$2:$B$37935,MATCH([1]AFFECTATION!C32,[1]UTILISATEUR!$C$2:$C$37935,0)),"Pas trouvé") -> NULL | E32: 854 | F32: 855 | G32: =VLOOKUP(E32,BASEIMEI,2,FALSE) -> 13063003102806 | H32: =VLOOKUP(F32,BASELIGNUM,2,FALSE) -> 618063846
A33: 2016-11-18 12:13:49.753 | B33: NULL | C33: CAPORUSSO | D33: =IFERROR(INDEX([1]UTILISATEUR!$B$2:$B$37935,MATCH([1]AFFECTATION!C33,[1]UTILISATEUR!$C$2:$C$37935,0)),"Pas trouvé") -> NULL | E33: 857 | F33: 858 | G33: =VLOOKUP(E33,BASEIMEI,2,FALSE) -> 13171009934799 | H33: =VLOOKUP(F33,BASELIGNUM,2,FALSE) -> 614581852
... A37: 2016-11-18 12:13:49.770 | B37: NULL | C37: TAMIC | D37: =IFERROR(INDEX([1]UTILISATEUR!$B$2:$B$37935,MATCH([1]AFFECTATION!C37,[1]UTILISATEUR!$C$2:$C$37935,0)),"Pas trouvé") -> NULL | E37: 1317 | F37: 1572 | G37: =VLOOKUP(E37,BASEIMEI,2,FALSE) -> 356946041073549 | H37: =VLOOKUP(F37,BASELIGNUM,2,FALSE) -> 613324103
A38: 2016-11-18 12:13:49.770 | B38: NULL | C38: GINET | D38: =IFERROR(INDEX([1]UTILISATEUR!$B$2:$B$37935,MATCH([1]AFFECTATION!C38,[1]UTILISATEUR!$C$2:$C$37935,0)),"Pas trouvé") -> 2017-10-13 00:00:00.000 | E38: 759 | F38: 760 | G38: =VLOOKUP(E38,BASEIMEI,2,FALSE) -> 355126070993310 | H38: =VLOOKUP(F38,BASELIGNUM,2,FALSE) -> 617869227 | I38: =IFERROR(VLOOKUP(VLOOKUP(Correspondance!E38,RMTE!$A$2:$B$1001,2,0),MODELE!$A$2:$C$16,3,0),"Pas de correspondance") -> Smartphone J3 2016
A39: 2016-11-18 12:13:49.770 | B39: NULL | C39: MILARD | D39: =IFERROR(INDEX([1]UTILISATEUR!$B$2:$B$37935,MATCH([1]AFFECTATION!C39,[1]UTILISATEUR!$C$2:$C$37935,0)),"Pas trouvé") -> NULL | E39: 2044 | F39: 881 | G39: =VLOOKUP(E39,BASEIMEI,2,FALSE) -> 355794079666565 | H39: =VLOOKUP(F39,BASELIGNUM,2,FALSE) -> 634269435
A40: 2016-11-18 12:13:49.770 | B40: 2018-09-13 08:34:39.810 | C40: MARECHAL_D | D40: =IFERROR(INDEX([1]UTILISATEUR!$B$2:$B$37935,MATCH([1]AFFECTATION!C40,[1]UTILISATEUR!$C$2:$C$37935,0)),"Pas trouvé") -> NULL | E40: 791 | F40: 792 | G40: =VLOOKUP(E40,BASEIMEI,2,FALSE) -> 355159062516203 | H40: =VLOOKUP(F40,BASELIGNUM,2,FALSE) -> 626974768
A41: 2016-11-18 12:13:49.783 | B41: NULL | C41: POL | D41: =IFERROR(INDEX([1]UTILISATEUR!$B$2:$B$37935,MATCH([1]AFFECTATION!C41,[1]UTILISATEUR!$C$2:$C$37935,0)),"Pas trouvé") -> NULL | E41: 1837 | F41: 1048 | G41: =VLOOKUP(E41,BASEIMEI,2,FALSE) -> 353652069546290 | H41: =VLOOKUP(F41,BASELIGNUM,2,FALSE) -> 622671220
A42: 2016-11-18 12:13:49.783 | B42: NULL | C42: ROSEY | D42: =IFERROR(INDEX([1]UTILISATEUR!$B$2:$B$37935,MATCH([1]AFFECTATION!C42,[1]UTILISATEUR!$C$2:$C$37935,0)),"Pas trouvé") -> NULL | E42: 1147 | F42: 1779 | G42: =VLOOKUP(E42,BASEIMEI,2,FALSE) -> 358264040634800 | H42: =VLOOKUP(F42,BASELIGNUM,2,FALSE) -> 619366193
A43: 2016-11-18 12:13:49.783 | B43: 2017-11-14 16:58:15.403 | C43: PELISSIER | D43: =IFERROR(INDEX([1]UTILISATEUR!$B$2:$B$37935,MATCH([1]AFFECTATION!C43,[1]UTILISATEUR!$C$2:$C$37935,0)),"Pas trouvé") -> NULL | E43: 787 | F43: 788 | G43: =VLOOKUP(E43,BASEIMEI,2,FALSE) -> 355159062515130 | H43: =VLOOKUP(F43,BASELIGNUM,2,FALSE) -> 618063849
...

Sheet RMTE
A1: TEL_ID | B1: RMTE_ID
A2: 605 | B2: 2
A3: 606 | B3: 2
A4: 607 | B4: 2
A5: 608 | B5: 2
A6: 609 | B6: 2
A7: 610 | B7: 2
A8: 611 | B8: 2
A9: 612 | B9: 2
A10: 613 | B10: 2
A11: 614 | B11: 4
A12: 615 | B12: 4
A13: 616 | B13: 4
... A2257: 2861 | B2257: 1

Sheet MODELE
A1: RMTE_ID | B1: RMTE_MARQUE | C1: RMTE_MODELE
A2: 1 | B2: ALTICE | C2: Classique - X1
A3: 2 | B3: SAMSUNG | C3: Smartphone J3 2016
A4: 3 | B4: Indéfini | C4: Générique tablette
A5: 4 | B5: Indéfini | C5: Clef 3G
A6: 5 | B6: Samsung | C6: Galaxy S4
A7: 6 | B7: Samsung | C7: Galaxy S6
A8: 7 | B8: Samsung | C8: Galaxy A3
A9: 8 | B9: Apple | C9: Iphone 4
A10: 9 | B10: Apple | C10: Iphone 4S
A11: 10 | B11: Apple | C11: Iphone 5
A12: 11 | B12: Apple | C12: Iphone 5S
A13: 12 | B13: Apple | C13: Iphone 5C
... A16: 16 | B16: SAMSUNG | C16: Galaxy A8
