Workbook
Name BASEIMEI: [2]Feuil2!$A$2:$B$2918
Name BASELIGNUM: [2]Feuil3!$A$2:$B$2557

Sheet Correspondance
A1: AFF_DATE_DEBUT | B1: AFF_DATE_FIN | C1: AFF_LOGIN_DETENTEUR | D1: DATASORTIE | E1: TEL_ID | F1: LIG_ID | G1: TEL_IMEI | H1: LIG_NUMERO
A2: 2016-11-18 12:13:36.893 | B2: NULL | C2: MARTINUCCI | D2: =IFERROR(INDEX([1]UTILISATEUR!$B$2:$B$37935,MATCH([1]AFFECTATION!C2,[1]UTILISATEUR!$C$2:$C$37935,0)),"Pas trouvé") -> 2008-04-09 00:00:00.000 | E2: 633 | F2: 634 | G2: =VLOOKUP(E2,BASEIMEI,2,FALSE) -> 867422025547447 | H2: =VLOOKUP(F2,BASELIGNUM,2,FALSE) -> 611434765 | I2: =IFERROR(VLOOKUP(VLOOKUP(Correspondance!E2,RMTE!$A$2:$B$1001,2,0),MODELE!$A$2:$C$16,3,0),"Pas de correspondance") -> Clef 3G
A3: 2016-11-18 12:13:49.567 | B3: NULL | C3: FREMONT | D3: =IFERROR(INDEX([1]UTILISATEUR!$B$2:$B$37935,MATCH([1]AFFECTATION!C3,[1]UTILISATEUR!$C$2:$C$37935,0)),"Pas trouvé") -> NULL | E3: 614 | F3: 615 | G3: =VLOOKUP(E3,BASEIMEI,2,FALSE) -> NOIMEI000000022 | H3: =VLOOKUP(F3,BASELIGNUM,2,FALSE) -> 626914003
A4: 2016-11-18 12:13:49.580 | B4: NULL | C4: FREMONT | D4: =IFERROR(INDEX([1]UTILISATEUR!$B$2:$B$37935,MATCH([1]AFFECTATION!C4,[1]UTILISATEUR!$C$2:$C$37935,0)),"Pas trouvé") -> NULL | E4: 773 | F4: 774 | G4: =VLOOKUP(E4,BASEIMEI,2,FALSE) -> 355159062507434 | H4: =VLOOKUP(F4,BASELIGNUM,2,FALSE) -> 646407600
A5: 2016-11-18 12:13:49.597 | B5: NULL | C5: VALETTE | D5: =IFERROR(INDEX([1]UTILISATEUR!$B$2:$B$37935,MATCH([1]AFFECTATION!C5,[1]UTILISATEUR!$C$2:$C$37935,0)),"Pas trouvé") -> NULL | E5: 1787 | F5: 998 | G5: =VLOOKUP(E5,BASEIMEI,2,FALSE) -> 358979078793927 | H5: =VLOOKUP(F5,BASELIGNUM,2,FALSE) -> 613021350
A6: 2016-11-18 12:13:49.597 | B6: NULL | C6: JONGET | D6: =IFERROR(INDEX([1]UTILISATEUR!$B$2:$B$37935,MATCH([1]AFFECTATION!C6,[1]UTILISATEUR!$C$2:$C$37935,0)),"Pas trouvé") -> NULL | E6: 777 | F6: 778 | G6: =VLOOKUP(E6,BASEIMEI,2,FALSE) -> 355159062514521 | H6: =VLOOKUP(F6,BASELIGNUM,2,FALSE) -> 620658348
A7: 2016-11-18 12:13:49.613 | B7: NULL | C7: CORMIER | D7: =IFERROR(INDEX([1]UTILISATEUR!$B$2:$B$37935,MATCH([1]AFFECTATION!C7,[1]UTILISATEUR!$C$2:$C$37935,0)),"Pas trouvé") -> 2017-02-03 00:00:00.000 | E7: 1029 | F7: 1984 | G7: =VLOOKUP(E7,BASEIMEI,2,FALSE) -> 359170052010111 | H7: =VLOOKUP(F7,BASELIGNUM,2,FALSE) -> 603809472 | I7: =IFERROR(VLOOKUP(VLOOKUP(Correspondance!E7,RMTE!$A$2:$B$1001,2,0),MODELE!$A$2:$C$16,3,0),"Pas de correspondance") -> Smartphone J3 2016
A8: 2016-11-18 12:13:49.613 | B8: NULL | C8: MINGUY | D8: =IFERROR(INDEX([1]UTILISATEUR!$B$2:$B$37935,MATCH([1]AFFECTATION!C8,[1]UTILISATEUR!$C$2:$C$37935,0)),"Pas trouvé") -> 2019-03-15 23:59:59.000 | E8: 1806 | F8: 1017 | G8: =VLOOKUP(E8,BASEIMEI,2,FALSE) -> 353406049707401 | H8: =VLOOKUP(F8,BASELIGNUM,2,FALSE) -> 617726538 | I8: =IFERROR(VLOOKUP(VLOOKUP(Correspondance!E8,RMTE!$A$2:$B$1001,2,0),MODELE!$A$2:$C$16,3,0),"Pas de correspondance") -> Pas de correspondance
A9: 2016-11-18 12:13:49.630 | B9: NULL | C9: DELUBAC | D9: =IFERROR(INDEX([1]UTILISATEUR!$B$2:$B$37935,MATCH([1]AFFECTATION!C9,[1]UTILISATEUR!$C$2:$C$37935,0)),"Pas trouvé") -> 2017-07-25 00:00:00.000 | E9: 1190 | F9: 1822 | G9: =VLOOKUP(E9,BASEIMEI,2,FALSE) -> 358543051036256 | H9: =VLOOKUP(F9,BASELIGNUM,2,FALSE) -> 616736823 | I9: =IFERROR(VLOOKUP(VLOOKUP(Correspondance!E9,RMTE!$A$2:$B$1001,2,0),MODELE!$A$2:$C$16,3,0),"Pas de correspondance") -> Smartphone J3 2016
A10: 2016-11-18 12:13:49.630 | B10: 2019-02-28 16:16:10.680 | C10: HOUDART | D10: =IFERROR(INDEX([1]UTILISATEUR!$B$2:$B$37935,MATCH([1]AFFECTATION!C10,[1]UTILISATEUR!$C$2:$C$37935,0)),"Pas trouvé") -> NULL | E10: 831 | F10: 832 | G10: =VLOOKUP(E10,BASEIMEI,2,FALSE) -> 12426006166436 | H10: =VLOOKUP(F10,BASELIGNUM,2,FALSE) -> 620650396
A11: 2016-11-18 12:13:49.643 | B11: NULL | C11: OUDIN | D11: =IFERROR(INDEX([1]UTILISATEUR!$B$2:$B$37935,MATCH([1]AFFECTATION!C11,[1]UTILISATEUR!$C$2:$C$37935,0)),"Pas trouvé") -> NULL | E11: 1796 | F11: 1007 | G11: =VLOOKUP(E11,BASEIMEI,2,FALSE) -> 358979078794065 | H11: =VLOOKUP(F11,BASELIGNUM,2,FALSE) -> 620693564
A12: 2016-11-18 12:13:49.643 | B12: NULL | C12: KHAMPHOUSONE | D12: =IFERROR(INDEX([1]UTILISATEUR!$B$2:$B$37935,MATCH([1]AFFECTATION!C12,[1]UTILISATEUR!$C$2:$C$37935,0)),"Pas trouvé") -> 2017-01-18 00:00:00.000 | E12: 871 | F12: 872 | G12: =VLOOKUP(E12,BASEIMEI,2,FALSE) -> 13630000755255 | H12: =VLOOKUP(F12,BASELIGNUM,2,FALSE) -> 610203608 | I12: =IFERROR(VLOOKUP(VLOOKUP(Correspondance!E12,RMTE!$A$2:$B$1001,2,0),MODELE!$A$2:$C$16,3,0),"Pas de correspondance") -> Smartphone J3 2016 | J12: DEMANDES MULTIPLES
A13: 2016-11-18 12:13:49.660 | B13: NULL | C13: LEFEVRE | D13: =IFERROR(INDEX([1]UTILISATEUR!$B$2:$B$37935,MATCH([1]AFFECTATION!C13,[1]UTILISATEUR!$C$2:$C$37935,0)),"Pas trouvé") -> NULL | E13: 1983 | F13: 1194 | G13: =VLOOKUP(E13,BASEIMEI,2,FALSE) -> 354642050232579 | H13: =VLOOKUP(F13,BASELIGNUM,2,FALSE) -> 623785829
A14: 2016-11-18 12:13:49.660 | B14: NULL | C14: BERTIN_C | D14: =IFERROR(INDEX([1]UTILISATEUR!$B$2:$B$37935,MATCH([1]AFFECTATION!C14,[1]UTILISATEUR!$C$2:$C$37935,0)),"Pas trouvé") -> NULL | E14: 1783 | F14: 994 | G14: =VLOOKUP(E14,BASEIMEI,2,FALSE) -> 353035063627284 | H14: =VLOOKUP(F14,BASELIGNUM,2,FALSE) -> 618063829
A15: 2016-11-18 12:13:49.677 | B15: NULL | C15: LANGAGNE | D15: =IFERROR(INDEX([1]UTILISATEUR!$B$2:$B$37935,MATCH([1]AFFECTATION!C15,[1]UTILISATEUR!$C$2:$C$37935,0)),"Pas trouvé") -> NULL | E15: 793 | F15: 794 | G15: =VLOOKUP(E15,BASEIMEI,2,FALSE) -> 355159062516328 | H15: =VLOOKUP(F15,BASELIGNUM,2,FALSE) -> 624482272
A16: 2016-11-18 12:13:49.677 | B16: NULL | C16: LEVEQUE | D16: =IFERROR(INDEX([1]UTILISATEUR!$B$2:$B$37935,MATCH([1]AFFECTATION!C16,[1]UTILISATEUR!$C$2:$C$37935,0)),"Pas trouvé") -> NULL | E16: 1879 | F16: 1090 | G16: =VLOOKUP(E16,BASEIMEI,2,FALSE) -> NOIMEI000000046 | H16: =VLOOKUP(F16,BASELIGNUM,2,FALSE) -> 620570803
A17: 2016-11-18 12:13:49.690 | B17: NULL | C17: LEVEQUE | D17: =IFERROR(INDEX([1]UTILISATEUR!$B$2:$B$37935,MATCH([1]AFFECTATION!C17,[1]UTILISATEUR!$C$2:$C$37935,0)),"Pas trouvé") -> NULL | E17: 1382 | F17: 1637 | G17: =VLOOKUP(E17,BASEIMEI,2,FALSE) -> 357259052221240 | H17: =VLOOKUP(F17,BASELIGNUM,2,FALSE) -> 623662210
A18: 2016-11-18 12:13:49.690 | B18: 2019-02-13 16:46:11.783 | C18: DIMANCHE | D18: =IFERROR(INDEX([1]UTILISATEUR!$B$2:$B$37935,MATCH([1]AFFECTATION!C18,[1]UTILISATEUR!$C$2:$C$37935,0)),"Pas trouvé") -> NULL | E18: 2063 | F18: 900 | G18: =VLOOKUP(E18,BASEIMEI,2,FALSE) -> 357334070534518 | H18: =VLOOKUP(F18,BASELIGNUM,2,FALSE) -> 609628973
A19: 2016-11-18 12:13:49.690 | B19: NULL | C19: LECONTE | D19: =IFERROR(INDEX([1]UTILISATEUR!$B$2:$B$37935,MATCH([1]AFFECTATION!C19,[1]UTILISATEUR!$C$2:$C$37935,0)),"Pas trouvé") -> NULL | E19: 2028 | F19: 980 | G19: =VLOOKUP(E19,BASEIMEI,2,FALSE) -> 352855055686464 | H19: =VLOOKUP(F19,BASELIGNUM,2,FALSE) -> 611510422
A20: 2016-11-18 12:13:49.690 | B20: NULL | C20: GOSNET | D20: =IFERROR(INDEX([1]UTILISATEUR!$B$2:$B$37935,MATCH([1]AFFECTATION!C20,[1]UTILISATEUR!$C$2:$C$37935,0)),"Pas trouvé") -> NULL | E20: 1200 | F20: 1832 | G20: =VLOOKUP(E20,BASEIMEI,2,FALSE) -> 357887041191411 | H20: =VLOOKUP(F20,BASELIGNUM,2,FALSE) -> 609945392
A21: 2016-11-18 12:13:49.707 | B21: NULL | C21: GONCALVES_C | D21: =IFERROR(INDEX([1]UTILISATEUR!$B$2:$B$37935,MATCH([1]AFFECTATION!C21,[1]UTILISATEUR!$C$2:$C$37935,0)),"Pas trouvé") -> 2017-10-31 00:00:00.000 | E21: 1484 | F21: 1366 | G21: =VLOOKUP(E21,BASEIMEI,2,FALSE) -> 355386040569315 | H21: =VLOOKUP(F21,BASELIGNUM,2,FALSE) -> 609239211 | I21: =IFERROR(VLOOKUP(VLOOKUP(Correspondance!E21,RMTE!$A$2:$B$1001,2,0),MODELE!$A$2:$C$16,3,0),"Pas de correspondance") -> Classique - X1 | J21: LOGIN MODF
A22: 2016-11-18 12:13:49.707 | B22: 2018-03-20 08:02:19.387 | C22: PONSARDIN | D22: =IFERROR(INDEX([1]UTILISATEUR!$B$2:$B$37935,MATCH([1]AFFECTATION!C22,[1]UTILISATEUR!$C$2:$C$37935,0)),"Pas trouvé") -> NULL | E22: 1740 | F22: 1286 | G22: =VLOOKUP(E22,BASEIMEI,2,FALSE) -> 352442070814957 | H22: =VLOOKUP(F22,BASELIGNUM,2,FALSE) -> 610540306
A23: 2016-11-18 12:13:49.707 | B23: NULL | C23: BOISSIN | D23: =IFERROR(INDEX([1]UTILISATEUR!$B$2:$B$37935,MATCH([1]AFFECTATION!C23,[1]UTILISATEUR!$C$2:$C$37935,0)),"Pas trouvé") -> NULL | E23: 1815 | F23: 1026 | G23: =VLOOKUP(E23,BASEIMEI,2,FALSE) -> 359144076655409 | H23: =VLOOKUP(F23,BASELIGNUM,2,FALSE) -> 618973087
A24: 2016-11-18 12:13:49.707 | B24: NULL | C24: ROULLAND | D24: =IFERROR(INDEX([1]UTILISATEUR!$B$2:$B$37935,MATCH([1]AFFECTATION!C24,[1]UTILISATEUR!$C$2:$C$37935,0)),"Pas trouvé") -> NULL | E24: 767 | F24: 768 | G24: =VLOOKUP(E24,BASEIMEI,2,FALSE) -> 355159062503532 | H24: =VLOOKUP(F24,BASELIGNUM,2,FALSE) -> 611174070
A25: 2016-11-18 12:13:49.720 | B25: NULL | C25: GAUDRY | D25: =IFERROR(INDEX([1]UTILISATEUR!$B$2:$B$37935,MATCH([1]AFFECTATION!C25,[1]UTILISATEUR!$C$2:$C$37935,0)),"Pas trouvé") -> NULL | E25: 1587 | F25: 1469 | G25: =VLOOKUP(E25,BASEIMEI,2,FALSE) -> 356241046212619 | H25: =VLOOKUP(F25,BASELIGNUM,2,FALSE) -> 603518271
A26: 2016-11-18 12:13:49.720 | B26: 2017-08-21 14:51:59.750 | C26: MAGERAND | D26: =IFERROR(INDEX([1]UTILISATEUR!$B$2:$B$37935,MATCH([1]AFFECTATION!C26,[1]UTILISATEUR!$C$2:$C$37935,0)),"Pas trouvé") -> 2018-08-31 23:59:59.000 | E26: 1363 | F26: 1618 | G26: =VLOOKUP(E26,BASEIMEI,2,FALSE) -> 357163066408936 | H26: =VLOOKUP(F26,BASELIGNUM,2,FALSE) -> 622707232
A27: 2016-11-18 12:13:49.720 | B27: 2017-03-10 08:46:32.880 | C27: TISSOT | D27: =IFERROR(INDEX([1]UTILISATEUR!$B$2:$B$37935,MATCH([1]AFFECTATION!C27,[1]UTILISATEUR!$C$2:$C$37935,0)),"Pas trouvé") -> NULL | E27: 1638 | F27: 1520 | G27: =VLOOKUP(E27,BASEIMEI,2,FALSE) -> 355088040044212 | H27: =VLOOKUP(F27,BASELIGNUM,2,FALSE) -> 611942534
A28: 2016-11-18 12:13:49.720 | B28: 2017-09-29 16:16:54.217 | C28: BONNEAU | D28: =IFERROR(INDEX([1]UTILISATEUR!$B$2:$B$37935,MATCH([1]AFFECTATION!C28,[1]UTILISATEUR!$C$2:$C$37935,0)),"Pas trouvé") -> NULL | E28: 858 | F28: 859 | G28: =VLOOKUP(E28,BASEIMEI,2,FALSE) -> 13172002415471 | H28: =VLOOKUP(F28,BASELIGNUM,2,FALSE) -> 621095836
A29: 2016-11-18 12:13:49.737 | B29: NULL | C29: MORAND_K | D29: =IFERROR(INDEX([1]UTILISATEUR!$B$2:$B$37935,MATCH([1]AFFECTATION!C29,[1]UTILISATEUR!$C$2:$C$37935,0)),"Pas trouvé") -> NULL | E29: 1835 | F29: 1046 | G29: =VLOOKUP(E29,BASEIMEI,2,FALSE) -> 353652069538602 | H29: =VLOOKUP(F29,BASELIGNUM,2,FALSE) -> 619675915
A30: 2016-11-18 12:13:49.737 | B30: 2019-02-07 10:09:49.120 | C30: PELISSIER_A | D30: =IFERROR(INDEX([1]UTILISATEUR!$B$2:$B$37935,MATCH([1]AFFECTATION!C30,[1]UTILISATEUR!$C$2:$C$37935,0)),"Pas trouvé") -> NULL | E30: 1150 | F30: 1782 | G30: =VLOOKUP(E30,BASEIMEI,2,FALSE) -> 358281049704947 | H30: =VLOOKUP(F30,BASELIGNUM,2,FALSE) -> 634287261
A31: 2016-11-18 12:13:49.737 | B31: NULL | C31: LESTRELIN | D31: =IFERROR(INDEX([1]UTILISATEUR!$B$2:$B$37935,MATCH([1]AFFECTATION!C31,[1]UTILISATEUR!$C$2:$C$37935,0)),"Pas trouvé") -> NULL | E31: 1371 | F31: 1626 | G31: =VLOOKUP(E31,BASEIMEI,2,FALSE) -> 357163067679493 | H31: =VLOOKUP(F31,BASELIGNUM,2,FALSE) -> 618046829
A32: 2016-11-18 12:13:49.737 | B32: NULL | C32: BAYSSAT | D32: =IFERROR(INDEX([1]UTILISATEUR!$B$2:$B$37935,MATCH([1]AFFECTATION!C32,[1]UTILISATEUR!$C$2:$C$37935,0)),"Pas trouvé") -> NULL | E32: 854 | F32: 855 | G32: =VLOOKUP(E32,BASEIMEI,2,FALSE) -> 13063003102806 | H32: =VLOOKUP(F32,BASELIGNUM,2,FALSE) -> 618063846
A33: 2016-11-18 12:13:49.753 | B33: NULL | C33: CAPORUSSO | D33: =IFERROR(INDEX([1]UTILISATEUR!$B$2:$B$37935,MATCH([1]AFFECTATION!C33,[1]UTILISATEUR!$C$2:$C$37935,0)),"Pas trouvé") -> NULL | E33: 857 | F33: 858 | G33: =VLOOKUP(E33,BASEIMEI,2,FALSE) -> 13171009934799 | H33: =VLOOKUP(F33,BASELIGNUM,2,FALSE) -> 614581852
... A37: 2016-11-18 12:13:49.770 | B37: NULL | C37: TAMIC | D37: =IFERROR(INDEX([1]UTILISATEUR!$B$2:$B$37935,MATCH([1]AFFECTATION!C37,[1]UTILISATEUR!$C$2:$C$37935,0)),"Pas trouvé") -> NULL | E37: 1317 | F37: 1572 | G37: =VLOOKUP(E37,BASEIMEI,2,FALSE) -> 356946041073549 | H37: =VLOOKUP(F37,BASELIGNUM,2,FALSE) -> 613324103
A38: 2016-11-18 12:13:49.770 | B38: NULL | C38: GINET | D38: =IFERROR(INDEX([1]UTILISATEUR!$B$2:$B$37935,MATCH([1]AFFECTATION!C38,[1]UTILISATEUR!$C$2:$C$37935,0)),"Pas trouvé") -> 2017-10-13 00:00:00.000 | E38: 759 | F38: 760 | G38: =VLOOKUP(E38,BASEIMEI,2,FALSE) -> 355126070993310 | H38: =VLOOKUP(F38,BASELIGNUM,2,FALSE) -> 617869227 | I38: =IFERROR(VLOOKUP(VLOOKUP(Correspondance!E38,RMTE!$A$2:$B$1001,2,0),MODELE!$A$2:$C$16,3,0),"Pas de correspondance") -> Smartphone J3 2016
A39: 2016-11-18 12:13:49.770 | B39: NULL | C39: MILARD | D39: =IFERROR(INDEX([1]UTILISATEUR!$B$2:$B$37935,MATCH([1]AFFECTATION!C39,[1]UTILISATEUR!$C$2:$C$37935,0)),"Pas trouvé") -> NULL | E39: 2044 | F39: 881 | G39: =VLOOKUP(E39,BASEIMEI,2,FALSE) -> 355794079666565 | H39: =VLOOKUP(F39,BASELIGNUM,2,FALSE) -> 634269435
A40: 2016-11-18 12:13:49.770 | B40: 2018-09-13 08:34:39.810 | C40: MARECHAL_D | D40: =IFERROR(INDEX([1]UTILISATEUR!$B$2:$B$37935,MATCH([1]AFFECTATION!C40,[1]UTILISATEUR!$C$2:$C$37935,0)),"Pas trouvé") -> NULL | E40: 791 | F40: 792 | G40: =VLOOKUP(E40,BASEIMEI,2,FALSE) -> 355159062516203 | H40: =VLOOKUP(F40,BASELIGNUM,2,FALSE) -> 626974768
A41: 2016-11-18 12:13:49.783 | B41: NULL | C41: POL | D41: =IFERROR(INDEX([1]UTILISATEUR!$B$2:$B$37935,MATCH([1]AFFECTATION!C41,[1]UTILISATEUR!$C$2:$C$37935,0)),"Pas trouvé") -> NULL | E41: 1837 | F41: 1048 | G41: =VLOOKUP(E41,BASEIMEI,2,FALSE) -> 353652069546290 | H41: =VLOOKUP(F41,BASELIGNUM,2,FALSE) -> 622671220
A42: 2016-11-18 12:13:49.783 | B42: NULL | C42: ROSEY | D42: =IFERROR(INDEX([1]UTILISATEUR!$B$2:$B$37935,MATCH([1]AFFECTATION!C42,[1]UTILISATEUR!$C$2:$C$37935,0)),"Pas trouvé") -> NULL | E42: 1147 | F42: 1779 | G42: =VLOOKUP(E42,BASEIMEI,2,FALSE) -> 358264040634800 | H42: =VLOOKUP(F42,BASELIGNUM,2,FALSE) -> 619366193
A43: 2016-11-18 12:13:49.783 | B43: 2017-11-14 16:58:15.403 | C43: PELISSIER | D43: =IFERROR(INDEX([1]UTILISATEUR!$B$2:$B$37935,MATCH([1]AFFECTATION!C43,[1]UTILISATEUR!$C$2:$C$37935,0)),"Pas trouvé") -> NULL | E43: 787 | F43: 788 | G43: =VLOOKUP(E43,BASEIMEI,2,FALSE) -> 355159062515130 | H43: =VLOOKUP(F43,BASELIGNUM,2,FALSE) -> 618063849
A44: 2016-11-18 12:14:13.410 | B44: 2019-02-07 09:24:51.313 | C44: CLAUDE | D44: =IFERROR(INDEX([1]UTILISATEUR!$B$2:$B$37935,MATCH([1]AFFECTATION!C44,[1]UTILISATEUR!$C$2:$C$37935,0)),"Pas trouvé") -> NULL | E44: 1196 | F44: 1828 | G44: =VLOOKUP(E44,BASEIMEI,2,FALSE) -> 357887041189662 | H44: =VLOOKUP(F44,BASELIGNUM,2,FALSE) -> 620282253
A45: 2016-11-18 12:14:13.427 | B45: NULL | C45: GHRENASSIA | D45: =IFERROR(INDEX([1]UTILISATEUR!$B$2:$B$37935,MATCH([1]AFFECTATION!C45,[1]UTILISATEUR!$C$2:$C$37935,0)),"Pas trouvé") -> NULL | E45: 608 | F45: 609 | G45: =VLOOKUP(E45,BASEIMEI,2,FALSE) -> 359209072717675 | H45: =VLOOKUP(F45,BASELIGNUM,2,FALSE) -> 603000002
A46: 2016-11-18 12:14:13.427 | B46: NULL | C46: GHRENASSIA | D46: =IFERROR(INDEX([1]UTILISATEUR!$B$2:$B$37935,MATCH([1]AFFECTATION!C46,[1]UTILISATEUR!$C$2:$C$37935,0)),"Pas trouvé") -> NULL | E46: 615 | F46: 616 | G46: =VLOOKUP(E46,BASEIMEI,2,FALSE) -> NOIMEI000000024 | H46: =VLOOKUP(F46,BASELIGNUM,2,FALSE) -> 646113849
A47: 2016-11-18 12:14:13.443 | B47: NULL | C47: GHRENASSIA | D47: =IFERROR(INDEX([1]UTILISATEUR!$B$2:$B$37935,MATCH([1]AFFECTATION!C47,[1]UTILISATEUR!$C$2:$C$37935,0)),"Pas trouvé") -> NULL | E47: 618 | F47: 619 | G47: =VLOOKUP(E47,BASEIMEI,2,FALSE) -> NOIMEI000000056 | H47: =VLOOKUP(F47,BASELIGNUM,2,FALSE) -> 627642369
A48: 2016-11-18 12:14:13.443 | B48: NULL | C48: GHRENASSIA | D48: =IFERROR(INDEX([1]UTILISATEUR!$B$2:$B$37935,MATCH([1]AFFECTATION!C48,[1]UTILISATEUR!$C$2:$C$37935,0)),"Pas trouvé") -> NULL | E48: 630 | F48: 631 | G48: =VLOOKUP(E48,BASEIMEI,2,FALSE) -> NOIMEI000000168 | H48: =VLOOKUP(F48,BASELIGNUM,2,FALSE) -> 616940672
A49: 2016-11-18 12:14:13.460 | B49: NULL | C49: NOVEL | D49: =IFERROR(INDEX([1]UTILISATEUR!$B$2:$B$37935,MATCH([1]AFFECTATION!C49,[1]UTILISATEUR!$C$2:$C$37935,0)),"Pas trouvé") -> 2020-01-17 00:00:00.000 | E49: 957 | F49: 2105 | G49: =VLOOKUP(E49,BASEIMEI,2,FALSE) -> 355159062515171 | H49: =VLOOKUP(F49,BASELIGNUM,2,FALSE) -> 627111322 | I49: =IFERROR(VLOOKUP(VLOOKUP(Correspondance!E49,RMTE!$A$2:$B$1001,2,0),MODELE!$A$2:$C$16,3,0),"Pas de correspondance") -> Smartphone J3 2016
A50: 2016-11-18 12:14:13.473 | B50: 2017-07-13 09:33:57.040 | C50: LADUREAU | D50: =IFERROR(INDEX([1]UTILISATEUR!$B$2:$B$37935,MATCH([1]AFFECTATION!C50,[1]UTILISATEUR!$C$2:$C$37935,0)),"Pas trouvé") -> NULL | E50: 825 | F50: 826 | G50: =VLOOKUP(E50,BASEIMEI,2,FALSE) -> 355159063866409 | H50: =VLOOKUP(F50,BASELIGNUM,2,FALSE) -> 624450782
A51: 2016-11-18 12:14:13.473 | B51: NULL | C51: KHELIFI | D51: =IFERROR(INDEX([1]UTILISATEUR!$B$2:$B$37935,MATCH([1]AFFECTATION!C51,[1]UTILISATEUR!$C$2:$C$37935,0)),"Pas trouvé") -> NULL | E51: 2070 | F51: 907 | G51: =VLOOKUP(E51,BASEIMEI,2,FALSE) -> 357334070535747 | H51: =VLOOKUP(F51,BASELIGNUM,2,FALSE) -> 620658187
A52: 2016-11-18 12:14:13.490 | B52: NULL | C52: BONNEVILLE | D52: =IFERROR(INDEX([1]UTILISATEUR!$B$2:$B$37935,MATCH([1]AFFECTATION!C52,[1]UTILISATEUR!$C$2:$C$37935,0)),"Pas trouvé") -> NULL | E52: 732 | F52: 733 | G52: =VLOOKUP(E52,BASEIMEI,2,FALSE) -> 352075060329618 | H52: =VLOOKUP(F52,BASELIGNUM,2,FALSE) -> 614158596
A53: 2016-11-18 12:14:13.507 | B53: NULL | C53: BARRIOL | D53: =IFERROR(INDEX([1]UTILISATEUR!$B$2:$B$37935,MATCH([1]AFFECTATION!C53,[1]UTILISATEUR!$C$2:$C$37935,0)),"Pas trouvé") -> NULL | E53: 1797 | F53: 1008 | G53: =VLOOKUP(E53,BASEIMEI,2,FALSE) -> 353265070889110 | H53: =VLOOKUP(F53,BASELIGNUM,2,FALSE) -> 626767905
A54: 2016-11-18 12:14:13.520 | B54: 2018-11-21 11:02:17.650 | C54: BALLAH | D54: =IFERROR(INDEX([1]UTILISATEUR!$B$2:$B$37935,MATCH([1]AFFECTATION!C54,[1]UTILISATEUR!$C$2:$C$37935,0)),"Pas trouvé") -> NULL | E54: 720 | F54: 721 | G54: =VLOOKUP(E54,BASEIMEI,2,FALSE) -> 351824081715730 | H54: =VLOOKUP(F54,BASELIGNUM,2,FALSE) -> 612851467
A55: 2016-11-18 12:14:13.520 | B55: NULL | C55: BANSE | D55: =IFERROR(INDEX([1]UTILISATEUR!$B$2:$B$37935,MATCH([1]AFFECTATION!C55,[1]UTILISATEUR!$C$2:$C$37935,0)),"Pas trouvé") -> 2015-09-04 00:00:00.000 | E55: 1907 | F55: 1118 | G55: =VLOOKUP(E55,BASEIMEI,2,FALSE) -> NOIMEI000000086 | H55: =VLOOKUP(F55,BASELIGNUM,2,FALSE) -> 614151467 | I55: =IFERROR(VLOOKUP(VLOOKUP(Correspondance!E55,RMTE!$A$2:$B$1001,2,0),MODELE!$A$2:$C$16,3,0),"Pas de correspondance") -> Pas de correspondance
A56: 2016-11-18 12:14:13.537 | B56: NULL | C56: GHRENASSIA_L | D56: =IFERROR(INDEX([1]UTILISATEUR!$B$2:$B$37935,MATCH([1]AFFECTATION!C56,[1]UTILISATEUR!$C$2:$C$37935,0)),"Pas trouvé") -> NULL | E56: 616 | F56: 617 | G56: =VLOOKUP(E56,BASEIMEI,2,FALSE) -> NOIMEI000000031 | H56: =VLOOKUP(F56,BASELIGNUM,2,FALSE) -> 627473774
A57: 2016-11-18 12:14:13.537 | B57: NULL | C57: GHRENASSIA_L | D57: =IFERROR(INDEX([1]UTILISATEUR!$B$2:$B$37935,MATCH([1]AFFECTATION!C57,[1]UTILISATEUR!$C$2:$C$37935,0)),"Pas trouvé") -> NULL | E57: 2111 | F57: 948 | G57: =VLOOKUP(E57,BASEIMEI,2,FALSE) -> 352053063053923 | H57: =VLOOKUP(F57,BASELIGNUM,2,FALSE) -> 625252225
A58: 2016-11-18 12:14:13.553 | B58: NULL | C58: GHRENASSIA_L | D58: =IFERROR(INDEX([1]UTILISATEUR!$B$2:$B$37935,MATCH([1]AFFECTATION!C58,[1]UTILISATEUR!$C$2:$C$37935,0)),"Pas trouvé") -> NULL | E58: 1512 | F58: 1394 | G58: =VLOOKUP(E58,BASEIMEI,2,FALSE) -> 355693075992100 | H58: =VLOOKUP(F58,BASELIGNUM,2,FALSE) -> 617549425
A59: 2016-11-18 12:14:13.553 | B59: 2017-11-14 16:53:18.513 | C59: HUET | D59: =IFERROR(INDEX([1]UTILISATEUR!$B$2:$B$37935,MATCH([1]AFFECTATION!C59,[1]UTILISATEUR!$C$2:$C$37935,0)),"Pas trouvé") -> NULL | E59: 2112 | F59: 949 | G59: =VLOOKUP(E59,BASEIMEI,2,FALSE) -> 352055062323306 | H59: =VLOOKUP(F59,BASELIGNUM,2,FALSE) -> 615046252
A60: 2016-11-18 12:14:13.567 | B60: NULL | C60: PREUDHOMME | D60: =IFERROR(INDEX([1]UTILISATEUR!$B$2:$B$37935,MATCH([1]AFFECTATION!C60,[1]UTILISATEUR!$C$2:$C$37935,0)),"Pas trouvé") -> NULL | E60: 2018 | F60: 970 | G60: =VLOOKUP(E60,BASEIMEI,2,FALSE) -> 358979077947508 | H60: =VLOOKUP(F60,BASELIGNUM,2,FALSE) -> 619233099
A61: 2016-11-18 12:14:13.567 | B61: 2017-02-27 10:13:09.727 | C61: DARTEVELLE | D61: =IFERROR(INDEX([1]UTILISATEUR!$B$2:$B$37935,MATCH([1]AFFECTATION!C61,[1]UTILISATEUR!$C$2:$C$37935,0)),"Pas trouvé") -> NULL | E61: 1937 | F61: 1148 | G61: =VLOOKUP(E61,BASEIMEI,2,FALSE) -> 353726061989144 | H61: =VLOOKUP(F61,BASELIGNUM,2,FALSE) -> 620282254
A62: 2016-11-18 12:14:13.567 | B62: 2019-02-07 09:19:15.197 | C62: CHODEY | D62: =IFERROR(INDEX([1]UTILISATEUR!$B$2:$B$37935,MATCH([1]AFFECTATION!C62,[1]UTILISATEUR!$C$2:$C$37935,0)),"Pas trouvé") -> NULL | E62: 1460 | F62: 1342 | G62: =VLOOKUP(E62,BASEIMEI,2,FALSE) -> 353715070298688 | H62: =VLOOKUP(F62,BASELIGNUM,2,FALSE) -> 614564934
A63: 2016-11-18 12:14:13.600 | B63: NULL | C63: NAGERA | D63: =IFERROR(INDEX([1]UTILISATEUR!$B$2:$B$37935,MATCH([1]AFFECTATION!C63,[1]UTILISATEUR!$C$2:$C$37935,0)),"Pas trouvé") -> 2017-02-27 00:00:00.000 | E63: 840 | F63: 841 | G63: =VLOOKUP(E63,BASEIMEI,2,FALSE) -> 12749003385646 | H63: =VLOOKUP(F63,BASELIGNUM,2,FALSE) -> 626767906 | I63: =IFERROR(VLOOKUP(VLOOKUP(Correspondance!E63,RMTE!$A$2:$B$1001,2,0),MODELE!$A$2:$C$16,3,0),"Pas de correspondance") -> Smartphone J3 2016
A64: 2016-11-18 12:14:13.600 | B64: NULL | C64: COLLET_N | D64: =IFERROR(INDEX([1]UTILISATEUR!$B$2:$B$37935,MATCH([1]AFFECTATION!C64,[1]UTILISATEUR!$C$2:$C$37935,0)),"Pas trouvé") -> NULL | E64: 1620 | F64: 1502 | G64: =VLOOKUP(E64,BASEIMEI,2,FALSE) -> 354162080805187 | H64: =VLOOKUP(F64,BASELIGNUM,2,FALSE) -> 610014770
A65: 2016-11-18 12:14:13.600 | B65: NULL | C65: BUTTEL | D65: =IFERROR(INDEX([1]UTILISATEUR!$B$2:$B$37935,MATCH([1]AFFECTATION!C65,[1]UTILISATEUR!$C$2:$C$37935,0)),"Pas trouvé") -> NULL | E65: 2030 | F65: 982 | G65: =VLOOKUP(E65,BASEIMEI,2,FALSE) -> 358979078789941 | H65: =VLOOKUP(F65,BASELIGNUM,2,FALSE) -> 612106069
A66: 2016-11-18 12:14:13.613 | B66: NULL | C66: BICARD | D66: =IFERROR(INDEX([1]UTILISATEUR!$B$2:$B$37935,MATCH([1]AFFECTATION!C66,[1]UTILISATEUR!$C$2:$C$37935,0)),"Pas trouvé") -> NULL | E66: 1832 | F66: 1043 | G66: =VLOOKUP(E66,BASEIMEI,2,FALSE) -> 353652069536622 | H66: =VLOOKUP(F66,BASELIGNUM,2,FALSE) -> 619257476
A67: 2016-11-18 12:14:13.613 | B67: NULL | C67: SEBBAH | D67: =IFERROR(INDEX([1]UTILISATEUR!$B$2:$B$37935,MATCH([1]AFFECTATION!C67,[1]UTILISATEUR!$C$2:$C$37935,0)),"Pas trouvé") -> NULL | E67: 674 | F67: 675 | G67: =VLOOKUP(E67,BASEIMEI,2,FALSE) -> DOUBLEIMEI0005 | H67: =VLOOKUP(F67,BASELIGNUM,2,FALSE) -> 613470592
A68: 2016-11-18 12:14:13.630 | B68: NULL | C68: BONANOMI | D68: =IFERROR(INDEX([1]UTILISATEUR!$B$2:$B$37935,MATCH([1]AFFECTATION!C68,[1]UTILISATEUR!$C$2:$C$37935,0)),"Pas trouvé") -> NULL | E68: 841 | F68: 842 | G68: =VLOOKUP(E68,BASEIMEI,2,FALSE) -> 12751008955563 | H68: =VLOOKUP(F68,BASELIGNUM,2,FALSE) -> 614401365
A69: 2016-11-18 12:14:13.630 | B69: NULL | C69: BONANOMI | D69: =IFERROR(INDEX([1]UTILISATEUR!$B$2:$B$37935,MATCH([1]AFFECTATION!C69,[1]UTILISATEUR!$C$2:$C$37935,0)),"Pas trouvé") -> NULL | E69: 1944 | F69: 1155 | G69: =VLOOKUP(E69,BASEIMEI,2,FALSE) -> NOIMEI000000130 | H69: =VLOOKUP(F69,BASELIGNUM,2,FALSE) -> 618055478
A70: 2016-11-18 12:14:13.660 | B70: NULL | C70: BONANOMI | D70: =IFERROR(INDEX([1]UTILISATEUR!$B$2:$B$37935,MATCH([1]AFFECTATION!C70,[1]UTILISATEUR!$C$2:$C$37935,0)),"Pas trouvé") -> NULL | E70: 1976 | F70: 1187 | G70: =VLOOKUP(E70,BASEIMEI,2,FALSE) -> NOIMEI000000161 | H70: =VLOOKUP(F70,BASELIGNUM,2,FALSE) -> 629515048
A71: 2016-11-18 12:14:13.660 | B71: NULL | C71: BONANOMI | D71: =IFERROR(INDEX([1]UTILISATEUR!$B$2:$B$37935,MATCH([1]AFFECTATION!C71,[1]UTILISATEUR!$C$2:$C$37935,0)),"Pas trouvé") -> NULL | E71: 1980 | F71: 1191 | G71: =VLOOKUP(E71,BASEIMEI,2,FALSE) -> NOIMEI000000162 | H71: =VLOOKUP(F71,BASELIGNUM,2,FALSE) -> 629515016
A72: 2016-11-18 12:14:13.660 | B72: NULL | C72: BONANOMI | D72: =IFERROR(INDEX([1]UTILISATEUR!$B$2:$B$37935,MATCH([1]AFFECTATION!C72,[1]UTILISATEUR!$C$2:$C$37935,0)),"Pas trouvé") -> NULL | E72: 1982 | F72: 1193 | G72: =VLOOKUP(E72,BASEIMEI,2,FALSE) -> NOIMEI000000164 | H72: =VLOOKUP(F72,BASELIGNUM,2,FALSE) -> 629515025
A73: 2016-11-18 12:14:13.677 | B73: NULL | C73: BONANOMI | D73: =IFERROR(INDEX([1]UTILISATEUR!$B$2:$B$37935,MATCH([1]AFFECTATION!C73,[1]UTILISATEUR!$C$2:$C$37935,0)),"Pas trouvé") -> NULL | E73: 1240 | F73: 1721 | G73: =VLOOKUP(E73,BASEIMEI,2,FALSE) -> 356875079866633 | H73: =VLOOKUP(F73,BASELIGNUM,2,FALSE) -> 672935332
A74: 2016-11-18 12:14:13.677 | B74: NULL | C74: BONANOMI | D74: =IFERROR(INDEX([1]UTILISATEUR!$B$2:$B$37935,MATCH([1]AFFECTATION!C74,[1]UTILISATEUR!$C$2:$C$37935,0)),"Pas trouvé") -> NULL | E74: 987 | F74: 1942 | G74: =VLOOKUP(E74,BASEIMEI,2,FALSE) -> 358892077098752 | H74: =VLOOKUP(F74,BASELIGNUM,2,FALSE) -> 629515047
A75: 2016-11-18 12:14:13.677 | B75: NULL | C75: BONANOMI | D75: =IFERROR(INDEX([1]UTILISATEUR!$B$2:$B$37935,MATCH([1]AFFECTATION!C75,[1]UTILISATEUR!$C$2:$C$37935,0)),"Pas trouvé") -> NULL | E75: 990 | F75: 1945 | G75: =VLOOKUP(E75,BASEIMEI,2,FALSE) -> 358892077099222 | H75: =VLOOKUP(F75,BASELIGNUM,2,FALSE) -> 629514852
... A80: 2016-11-18 12:14:13.723 | B80: NULL | C80: PELLETREAU | D80: =IFERROR(INDEX([1]UTILISATEUR!$B$2:$B$37935,MATCH([1]AFFECTATION!C80,[1]UTILISATEUR!$C$2:$C$37935,0)),"Pas trouvé") -> NULL | E80: 1030 | F80: 1985 | G80: =VLOOKUP(E80,BASEIMEI,2,FALSE) -> 359170052026521 | H80: =VLOOKUP(F80,BASELIGNUM,2,FALSE) -> 610902120
A81: 2016-11-18 12:14:13.723 | B81: NULL | C81: BRISION | D81: =IFERROR(INDEX([1]UTILISATEUR!$B$2:$B$37935,MATCH([1]AFFECTATION!C81,[1]UTILISATEUR!$C$2:$C$37935,0)),"Pas trouvé") -> 2018-11-30 23:59:59.000 | E81: 1758 | F81: 1304 | G81: =VLOOKUP(E81,BASEIMEI,2,FALSE) -> 353650016348331 | H81: =VLOOKUP(F81,BASELIGNUM,2,FALSE) -> 620661705 | I81: =IFERROR(VLOOKUP(VLOOKUP(Correspondance!E81,RMTE!$A$2:$B$1001,2,0),MODELE!$A$2:$C$16,3,0),"Pas de correspondance") -> Pas de correspondance
A82: 2016-11-18 12:14:13.740 | B82: NULL | C82: CONRAD | D82: =IFERROR(INDEX([1]UTILISATEUR!$B$2:$B$37935,MATCH([1]AFFECTATION!C82,[1]UTILISATEUR!$C$2:$C$37935,0)),"Pas trouvé") -> NULL | E82: 700 | F82: 701 | G82: =VLOOKUP(E82,BASEIMEI,2,FALSE) -> 351824080454604 | H82: =VLOOKUP(F82,BASELIGNUM,2,FALSE) -> 612851485
A83: 2016-11-18 12:14:13.740 | B83: 2018-09-13 08:28:51.347 | C83: MONTERRAT | D83: =IFERROR(INDEX([1]UTILISATEUR!$B$2:$B$37935,MATCH([1]AFFECTATION!C83,[1]UTILISATEUR!$C$2:$C$37935,0)),"Pas trouvé") -> NULL | E83: 2105 | F83: 942 | G83: =VLOOKUP(E83,BASEIMEI,2,FALSE) -> 358979074615579 | H83: =VLOOKUP(F83,BASELIGNUM,2,FALSE) -> 620658333
A84: 2016-11-18 12:14:13.757 | B84: NULL | C84: PENOT | D84: =IFERROR(INDEX([1]UTILISATEUR!$B$2:$B$37935,MATCH([1]AFFECTATION!C84,[1]UTILISATEUR!$C$2:$C$37935,0)),"Pas trouvé") -> NULL | E84: 800 | F84: 801 | G84: =VLOOKUP(E84,BASEIMEI,2,FALSE) -> 355159063146612 | H84: =VLOOKUP(F84,BASELIGNUM,2,FALSE) -> 618685398
A85: 2016-11-18 12:14:13.757 | B85: NULL | C85: GUETTA | D85: =IFERROR(INDEX([1]UTILISATEUR!$B$2:$B$37935,MATCH([1]AFFECTATION!C85,[1]UTILISATEUR!$C$2:$C$37935,0)),"Pas trouvé") -> 2013-07-03 00:00:00.000 | E85: 959 | F85: 2107 | G85: =VLOOKUP(E85,BASEIMEI,2,FALSE) -> 355794070556294 | H85: =VLOOKUP(F85,BASELIGNUM,2,FALSE) -> 617642443 | I85: =IFERROR(VLOOKUP(VLOOKUP(Correspondance!E85,RMTE!$A$2:$B$1001,2,0),MODELE!$A$2:$C$16,3,0),"Pas de correspondance") -> Smartphone J3 2016
A86: 2016-11-18 12:14:13.770 | B86: NULL | C86: GAIRE | D86: =IFERROR(INDEX([1]UTILISATEUR!$B$2:$B$37935,MATCH([1]AFFECTATION!C86,[1]UTILISATEUR!$C$2:$C$37935,0)),"Pas trouvé") -> NULL | E86: 790 | F86: 791 | G86: =VLOOKUP(E86,BASEIMEI,2,FALSE) -> 355159062516104 | H86: =VLOOKUP(F86,BASELIGNUM,2,FALSE) -> 626767902
A87: 2016-11-18 12:14:13.770 | B87: 2018-03-20 08:14:09.197 | C87: SIMON_T | D87: =IFERROR(INDEX([1]UTILISATEUR!$B$2:$B$37935,MATCH([1]AFFECTATION!C87,[1]UTILISATEUR!$C$2:$C$37935,0)),"Pas trouvé") -> NULL | E87: 2089 | F87: 926 | G87: =VLOOKUP(E87,BASEIMEI,2,FALSE) -> 358607065924607 | H87: =VLOOKUP(F87,BASELIGNUM,2,FALSE) -> 612851473
A88: 2016-11-18 12:14:13.787 | B88: NULL | C88: GRANGER | D88: =IFERROR(INDEX([1]UTILISATEUR!$B$2:$B$37935,MATCH([1]AFFECTATION!C88,[1]UTILISATEUR!$C$2:$C$37935,0)),"Pas trouvé") -> NULL | E88: 1275 | F88: 1756 | G88: =VLOOKUP(E88,BASEIMEI,2,FALSE) -> 358257045664269 | H88: =VLOOKUP(F88,BASELIGNUM,2,FALSE) -> 624223927
A89: 2016-11-18 12:14:13.787 | B89: 2017-01-18 12:16:44.020 | C89: BOURAUD | D89: =IFERROR(INDEX([1]UTILISATEUR!$B$2:$B$37935,MATCH([1]AFFECTATION!C89,[1]UTILISATEUR!$C$2:$C$37935,0)),"Pas trouvé") -> 2017-09-29 00:00:00.000 | E89: 1828 | F89: 1039 | G89: =VLOOKUP(E89,BASEIMEI,2,FALSE) -> 353652069514645 | H89: =VLOOKUP(F89,BASELIGNUM,2,FALSE) -> 614401868
A90: 2016-11-18 12:14:13.803 | B90: NULL | C90: OLIVE | D90: =IFERROR(INDEX([1]UTILISATEUR!$B$2:$B$37935,MATCH([1]AFFECTATION!C90,[1]UTILISATEUR!$C$2:$C$37935,0)),"Pas trouvé") -> NULL | E90: 1825 | F90: 1036 | G90: =VLOOKUP(E90,BASEIMEI,2,FALSE) -> 353652069501592 | H90: =VLOOKUP(F90,BASELIGNUM,2,FALSE) -> 622697530
A91: 2016-11-18 12:14:13.803 | B91: NULL | C91: TROEL | D91: =IFERROR(INDEX([1]UTILISATEUR!$B$2:$B$37935,MATCH([1]AFFECTATION!C91,[1]UTILISATEUR!$C$2:$C$37935,0)),"Pas trouvé") -> 2017-09-30 00:00:00.000 | E91: 1057 | F91: 2012 | G91: =VLOOKUP(E91,BASEIMEI,2,FALSE) -> 359600055383180 | H91: =VLOOKUP(F91,BASELIGNUM,2,FALSE) -> 624687100 | I91: =IFERROR(VLOOKUP(VLOOKUP(Correspondance!E91,RMTE!$A$2:$B$1001,2,0),MODELE!$A$2:$C$16,3,0),"Pas de correspondance") -> Classique - X1
A92: 2016-11-18 12:14:13.817 | B92: 2017-09-29 16:10:47.370 | C92: JACQUET | D92: =IFERROR(INDEX([1]UTILISATEUR!$B$2:$B$37935,MATCH([1]AFFECTATION!C92,[1]UTILISATEUR!$C$2:$C$37935,0)),"Pas trouvé") -> NULL | E92: 1737 | F92: 1283 | G92: =VLOOKUP(E92,BASEIMEI,2,FALSE) -> 352295016665820 | H92: =VLOOKUP(F92,BASELIGNUM,2,FALSE) -> 610327943
A93: 2016-11-18 12:14:13.817 | B93: 2018-12-07 14:12:33.357 | C93: TUETEY | D93: =IFERROR(INDEX([1]UTILISATEUR!$B$2:$B$37935,MATCH([1]AFFECTATION!C93,[1]UTILISATEUR!$C$2:$C$37935,0)),"Pas trouvé") -> NULL | E93: 820 | F93: 821 | G93: =VLOOKUP(E93,BASEIMEI,2,FALSE) -> 355159063380666 | H93: =VLOOKUP(F93,BASELIGNUM,2,FALSE) -> 619233057
A94: 2016-11-18 12:14:13.817 | B94: NULL | C94: GOUY | D94: =IFERROR(INDEX([1]UTILISATEUR!$B$2:$B$37935,MATCH([1]AFFECTATION!C94,[1]UTILISATEUR!$C$2:$C$37935,0)),"Pas trouvé") -> NULL | E94: 2071 | F94: 908 | G94: =VLOOKUP(E94,BASEIMEI,2,FALSE) -> 357334070535754 | H94: =VLOOKUP(F94,BASELIGNUM,2,FALSE) -> 777967264
A95: 2016-11-18 12:14:13.833 | B95: NULL | C95: THEBAUT | D95: =IFERROR(INDEX([1]UTILISATEUR!$B$2:$B$37935,MATCH([1]AFFECTATION!C95,[1]UTILISATEUR!$C$2:$C$37935,0)),"Pas trouvé") -> NULL | E95: 2031 | F95: 983 | G95: =VLOOKUP(E95,BASEIMEI,2,FALSE) -> 358979078792770 | H95: =VLOOKUP(F95,BASELIGNUM,2,FALSE) -> 622570226
A96: 2016-11-18 12:14:13.833 | B96: NULL | C96: VOISIN | D96: =IFERROR(INDEX([1]UTILISATEUR!$B$2:$B$37935,MATCH([1]AFFECTATION!C96,[1]UTILISATEUR!$C$2:$C$37935,0)),"Pas trouvé") -> 2017-06-30 00:00:00.000 | E96: 1364 | F96: 1619 | G96: =VLOOKUP(E96,BASEIMEI,2,FALSE) -> 357163067667571 | H96: =VLOOKUP(F96,BASELIGNUM,2,FALSE) -> 624843024 | I96: =IFERROR(VLOOKUP(VLOOKUP(Correspondance!E96,RMTE!$A$2:$B$1001,2,0),MODELE!$A$2:$C$16,3,0),"Pas de correspondance") -> Smartphone J3 2016
A97: 2016-11-18 12:14:13.850 | B97: NULL | C97: SZYMANSKI_M | D97: =IFERROR(INDEX([1]UTILISATEUR!$B$2:$B$37935,MATCH([1]AFFECTATION!C97,[1]UTILISATEUR!$C$2:$C$37935,0)),"Pas trouvé") -> NULL | E97: 2099 | F97: 936 | G97: =VLOOKUP(E97,BASEIMEI,2,FALSE) -> 358979074613525 | H97: =VLOOKUP(F97,BASELIGNUM,2,FALSE) -> 617723298
A98: 2016-11-18 12:14:13.850 | B98: NULL | C98: MENDES_MA | D98: =IFERROR(INDEX([1]UTILISATEUR!$B$2:$B$37935,MATCH([1]AFFECTATION!C98,[1]UTILISATEUR!$C$2:$C$37935,0)),"Pas trouvé") -> NULL | E98: 1266 | F98: 1747 | G98: =VLOOKUP(E98,BASEIMEI,2,FALSE) -> 358257045662107 | H98: =VLOOKUP(F98,BASELIGNUM,2,FALSE) -> 621503378
A99: 2016-11-18 12:14:13.880 | B99: NULL | C99: PERETZ | D99: =IFERROR(INDEX([1]UTILISATEUR!$B$2:$B$37935,MATCH([1]AFFECTATION!C99,[1]UTILISATEUR!$C$2:$C$37935,0)),"Pas trouvé") -> NULL | E99: 718 | F99: 719 | G99: =VLOOKUP(E99,BASEIMEI,2,FALSE) -> 351824081713834 | H99: =VLOOKUP(F99,BASELIGNUM,2,FALSE) -> 609628965
A100: 2016-11-18 12:14:13.880 | B100: NULL | C100: GABARRET | D100: =IFERROR(INDEX([1]UTILISATEUR!$B$2:$B$37935,MATCH([1]AFFECTATION!C100,[1]UTILISATEUR!$C$2:$C$37935,0)),"Pas trouvé") -> 2019-01-28 23:59:59.000 | E100: 1836 | F100: 1047 | G100: =VLOOKUP(E100,BASEIMEI,2,FALSE) -> 353652069545789 | H100: =VLOOKUP(F100,BASELIGNUM,2,FALSE) -> 623094534 | I100: =IFERROR(VLOOKUP(VLOOKUP(Correspondance!E100,RMTE!$A$2:$B$1001,2,0),MODELE!$A$2:$C$16,3,0),"Pas de correspondance") -> Pas de correspondance
A101: 2016-11-18 12:14:13.880 | B101: NULL | C101: VASSELIN | D101: =IFERROR(INDEX([1]UTILISATEUR!$B$2:$B$37935,MATCH([1]AFFECTATION!C101,[1]UTILISATEUR!$C$2:$C$37935,0)),"Pas trouvé") -> 2018-06-02 23:59:59.000 | E101: 1755 | F101: 1301 | G101: =VLOOKUP(E101,BASEIMEI,2,FALSE) -> 353650015111896 | H101: =VLOOKUP(F101,BASELIGNUM,2,FALSE) -> 614974926 | I101: =IFERROR(VLOOKUP(VLOOKUP(Correspondance!E101,RMTE!$A$2:$B$1001,2,0),MODELE!$A$2:$C$16,3,0),"Pas de correspondance") -> Pas de correspondance
A102: 2016-11-18 12:14:13.897 | B102: NULL | C102: LATRONCHE | D102: =IFERROR(INDEX([1]UTILISATEUR!$B$2:$B$37935,MATCH([1]AFFECTATION!C102,[1]UTILISATEUR!$C$2:$C$37935,0)),"Pas trouvé") -> 2016-11-17 00:00:00.000 | E102: 1421 | F102: 1676 | G102: =VLOOKUP(E102,BASEIMEI,2,FALSE) -> 357392049968449 | H102: =VLOOKUP(F102,BASELIGNUM,2,FALSE) -> 619257477 | I102: =IFERROR(VLOOKUP(VLOOKUP(Correspondance!E102,RMTE!$A$2:$B$1001,2,0),MODELE!$A$2:$C$16,3,0),"Pas de correspondance") -> Classique - X1
A103: 2016-11-18 12:14:13.897 | B103: 2019-02-28 16:12:39.833 | C103: LEJEUNE | D103: =IFERROR(INDEX([1]UTILISATEUR!$B$2:$B$37935,MATCH([1]AFFECTATION!C103,[1]UTILISATEUR!$C$2:$C$37935,0)),"Pas trouvé") -> NULL | E103: 1377 | F103: 1632 | G103: =VLOOKUP(E103,BASEIMEI,2,FALSE) -> 357259052217248 | H103: =VLOOKUP(F103,BASELIGNUM,2,FALSE) -> 620844889
A104: 2016-11-18 12:14:13.910 | B104: NULL | C104: BIERKAMP | D104: =IFERROR(INDEX([1]UTILISATEUR!$B$2:$B$37935,MATCH([1]AFFECTATION!C104,[1]UTILISATEUR!$C$2:$C$37935,0)),"Pas trouvé") -> NULL | E104: 1583 | F104: 1465 | G104: =VLOOKUP(E104,BASEIMEI,2,FALSE) -> 353722075710220 | H104: =VLOOKUP(F104,BASELIGNUM,2,FALSE) -> 620051737
A105: 2016-11-18 12:14:29.520 | B105: NULL | C105: BOUCHEND_HOMME | D105: =IFERROR(INDEX([1]UTILISATEUR!$B$2:$B$37935,MATCH([1]AFFECTATION!C105,[1]UTILISATEUR!$C$2:$C$37935,0)),"Pas trouvé") -> 2017-07-04 00:00:00.000 | E105: 1634 | F105: 1516 | G105: =VLOOKUP(E105,BASEIMEI,2,FALSE) -> 354856044617469 | H105: =VLOOKUP(F105,BASELIGNUM,2,FALSE) -> 614401313 | I105: =IFERROR(VLOOKUP(VLOOKUP(Correspondance!E105,RMTE!$A$2:$B$1001,2,0),MODELE!$A$2:$C$16,3,0),"Pas de correspondance") -> Pas de correspondance
A106: 2016-11-18 12:14:29.553 | B106: NULL | C106: DOUZINEL | D106: =IFERROR(INDEX([1]UTILISATEUR!$B$2:$B$37935,MATCH([1]AFFECTATION!C106,[1]UTILISATEUR!$C$2:$C$37935,0)),"Pas trouvé") -> NULL | E106: 1246 | F106: 1727 | G106: =VLOOKUP(E106,BASEIMEI,2,FALSE) -> 356915033730705 | H106: =VLOOKUP(F106,BASELIGNUM,2,FALSE) -> 624582399
A107: 2016-11-18 12:14:29.570 | B107: 2018-12-20 11:13:03.463 | C107: BIHET | D107: =IFERROR(INDEX([1]UTILISATEUR!$B$2:$B$37935,MATCH([1]AFFECTATION!C107,[1]UTILISATEUR!$C$2:$C$37935,0)),"Pas trouvé") -> NULL | E107: 1437 | F107: 1692 | G107: =VLOOKUP(E107,BASEIMEI,2,FALSE) -> 356875079792268 | H107: =VLOOKUP(F107,BASELIGNUM,2,FALSE) -> 619402755
...

Sheet RMTE
A1: TEL_ID | B1: RMTE_ID
A2: 605 | B2: 2
A3: 606 | B3: 2
A4: 607 | B4: 2
A5: 608 | B5: 2
A6: 609 | B6: 2
A7: 610 | B7: 2
A8: 611 | B8: 2
A9: 612 | B9: 2
A10: 613 | B10: 2
A11: 614 | B11: 4
A12: 615 | B12: 4
A13: 616 | B13: 4
... A2257: 2861 | B2257: 1

Sheet MODELE
A1: RMTE_ID | B1: RMTE_MARQUE | C1: RMTE_MODELE
A2: 1 | B2: ALTICE | C2: Classique - X1
A3: 2 | B3: SAMSUNG | C3: Smartphone J3 2016
A4: 3 | B4: Indéfini | C4: Générique tablette
A5: 4 | B5: Indéfini | C5: Clef 3G
A6: 5 | B6: Samsung | C6: Galaxy S4
A7: 6 | B7: Samsung | C7: Galaxy S6
A8: 7 | B8: Samsung | C8: Galaxy A3
A9: 8 | B9: Apple | C9: Iphone 4
A10: 9 | B10: Apple | C10: Iphone 4S
A11: 10 | B11: Apple | C11: Iphone 5
A12: 11 | B12: Apple | C12: Iphone 5S
A13: 12 | B13: Apple | C13: Iphone 5C
... A16: 16 | B16: SAMSUNG | C16: Galaxy A8
