Workbook

Sheet BON DE COMMANDE
A1: REMPLIR AVEC REF. ET QUANTITEE LES COLONNES BLEUES PUIS F2 PUIS F9 POUR COPIER CELLULES SANS FORMULES
A5: REFERENCE | B5: DESIGNATION | C5: QUANTITE | D5: P.U.H.T. | E5: P.T.H.T. | F5: REF.
A6: =IF(ISBLANK(F6),"",VLOOKUP(F6,DONNEES!$A$1:$C$408,1,FALSE)) | B6: =IF(ISBLANK(F6),"",VLOOKUP(A6,DONNEES!$A$1:$C$408,2,FALSE)) | D6: =IF(ISBLANK(F6),"",VLOOKUP(A6,DONNEES!$A$1:$C$408,3,FALSE)) | E6: =IF(ISBLANK(F6),"",C6*D6)
A7: =IF(ISBLANK(F7),"",VLOOKUP(F7,DONNEES!$A$1:$C$408,1,FALSE)) | B7: =IF(ISBLANK(F7),"",VLOOKUP(A7,DONNEES!$A$1:$C$408,2,FALSE)) | D7: =IF(ISBLANK(F7),"",VLOOKUP(A7,DONNEES!$A$1:$C$408,3,FALSE)) | E7: =IF(ISBLANK(F7),"",C7*D7)
A8: =IF(ISBLANK(F8),"",VLOOKUP(F8,DONNEES!$A$1:$C$408,1,FALSE)) | B8: =IF(ISBLANK(F8),"",VLOOKUP(A8,DONNEES!$A$1:$C$408,2,FALSE)) | D8: =IF(ISBLANK(F8),"",VLOOKUP(A8,DONNEES!$A$1:$C$408,3,FALSE)) | E8: =IF(ISBLANK(F8),"",C8*D8)
A9: =IF(ISBLANK(F9),"",VLOOKUP(F9,DONNEES!$A$1:$C$408,1,FALSE)) | B9: =IF(ISBLANK(F9),"",VLOOKUP(A9,DONNEES!$A$1:$C$408,2,FALSE)) | D9: =IF(ISBLANK(F9),"",VLOOKUP(A9,DONNEES!$A$1:$C$408,3,FALSE)) | E9: =IF(ISBLANK(F9),"",C9*D9)
A10: =IF(ISBLANK(F10),"",VLOOKUP(F10,DONNEES!$A$1:$C$408,1,FALSE)) | B10: =IF(ISBLANK(F10),"",VLOOKUP(A10,DONNEES!$A$1:$C$408,2,FALSE)) | D10: =IF(ISBLANK(F10),"",VLOOKUP(A10,DONNEES!$A$1:$C$408,3,FALSE)) | E10: =IF(ISBLANK(F10),"",C10*D10)
A11: =IF(ISBLANK(F11),"",VLOOKUP(F11,DONNEES!$A$1:$C$408,1,FALSE)) | B11: =IF(ISBLANK(F11),"",VLOOKUP(A11,DONNEES!$A$1:$C$408,2,FALSE)) | D11: =IF(ISBLANK(F11),"",VLOOKUP(A11,DONNEES!$A$1:$C$408,3,FALSE)) | E11: =IF(ISBLANK(F11),"",C11*D11)
A12: =IF(ISBLANK(F12),"",VLOOKUP(F12,DONNEES!$A$1:$C$408,1,FALSE)) | B12: =IF(ISBLANK(F12),"",VLOOKUP(A12,DONNEES!$A$1:$C$408,2,FALSE)) | D12: =IF(ISBLANK(F12),"",VLOOKUP(A12,DONNEES!$A$1:$C$408,3,FALSE)) | E12: =IF(ISBLANK(F12),"",C12*D12)
A13: =IF(ISBLANK(F13),"",VLOOKUP(F13,DONNEES!$A$1:$C$408,1,FALSE)) | B13: =IF(ISBLANK(F13),"",VLOOKUP(A13,DONNEES!$A$1:$C$408,2,FALSE)) | D13: =IF(ISBLANK(F13),"",VLOOKUP(A13,DONNEES!$A$1:$C$408,3,FALSE)) | E13: =IF(ISBLANK(F13),"",C13*D13)
A14: =IF(ISBLANK(F14),"",VLOOKUP(F14,DONNEES!$A$1:$C$408,1,FALSE)) | B14: =IF(ISBLANK(F14),"",VLOOKUP(A14,DONNEES!$A$1:$C$408,2,FALSE)) | D14: =IF(ISBLANK(F14),"",VLOOKUP(A14,DONNEES!$A$1:$C$408,3,FALSE)) | E14: =IF(ISBLANK(F14),"",C14*D14)
A15: =IF(ISBLANK(F15),"",VLOOKUP(F15,DONNEES!$A$1:$C$408,1,FALSE)) | B15: =IF(ISBLANK(F15),"",VLOOKUP(A15,DONNEES!$A$1:$C$408,2,FALSE)) | D15: =IF(ISBLANK(F15),"",VLOOKUP(A15,DONNEES!$A$1:$C$408,3,FALSE)) | E15: =IF(ISBLANK(F15),"",C15*D15)
A16: =IF(ISBLANK(F16),"",VLOOKUP(F16,DONNEES!$A$1:$C$408,1,FALSE)) | B16: =IF(ISBLANK(F16),"",VLOOKUP(A16,DONNEES!$A$1:$C$408,2,FALSE)) | D16: =IF(ISBLANK(F16),"",VLOOKUP(A16,DONNEES!$A$1:$C$408,3,FALSE)) | E16: =IF(ISBLANK(F16),"",C16*D16)
A17: =IF(ISBLANK(F17),"",VLOOKUP(F17,DONNEES!$A$1:$C$408,1,FALSE)) | B17: =IF(ISBLANK(F17),"",VLOOKUP(A17,DONNEES!$A$1:$C$408,2,FALSE)) | D17: =IF(ISBLANK(F17),"",VLOOKUP(A17,DONNEES!$A$1:$C$408,3,FALSE)) | E17: =IF(ISBLANK(F17),"",C17*D17)
... A40: =IF(ISBLANK(F40),"",VLOOKUP(F40,DONNEES!$A$1:$C$408,1,FALSE)) | B40: =IF(ISBLANK(F40),"",VLOOKUP(A40,DONNEES!$A$1:$C$408,2,FALSE)) | D40: =IF(ISBLANK(F40),"",VLOOKUP(A40,DONNEES!$A$1:$C$408,3,FALSE)) | E40: =IF(ISBLANK(F40),"",C40*D40)

Sheet DONNEES
A1: 4000PM10 | B1: TIG ACIER DIAM 1,0 | C1: 8.8
A2: 4000PM12 | B2: TIG ACIER DIAM 1,2 | C2: 5.93
A3: 4000PM16 | B3: TIG ACIER DIAM 1,6 | C3: 4.8
A4: 4000PM20 | B4: TIG ACIER DIAM 2,0 | C4: 4.35
A5: 4000PM24 | B5: TIG ACIER DIAM 2,4 | C5: 4.13
A6: 4000PM32 | B6: TIG ACIER DIAM 3,2 | C6: 3.9
A7: 4008PM08 | B7: TIG INOX 316L DIAM 0,8 | C7: 13.71
A8: 4008PM10 | B8: TIG INOX 316L DIAM 1,0 | C8: 12.63
A9: 4008PM12 | B9: TIG INOX 316L DIAM 1,2 | C9: 11.51
A10: 4008PM16 | B10: TIG INOX 316L DIAM 1,6 | C10: 10.86
A11: 4008PM20 | B11: TIG INOX 316L DIAM 2,0 | C11: 10.68
A12: 4008PM24 | B12: TIG INOX 316L DIAM 2,4 | C12: 10.5
... A37: 22-053-003A | B37: EE ARCAIR DIAM 8,0 | C37: 32.5
A38: 4307050 | B38: BUSE GAZ PMT35 +BAGUE ISOLANTE | C38: 13.21
A39: 4300260C | B39: BUSE GAZ CONIQUE MMT42W | C39: 8.57
A40: 4307020 | B40: MANCHON ISOLANT PMT 35/-42W BUSE | C40: 6.12
A41: 4295740 | B41: DIFFUSEUR M8 PMT27,32,30W | C41: 4.16
A42: W006183 | B42: DIFFUSEUR M8 PMT 42W | C42: 4.16
A43: W006146 | B43: DIFFUSEUR DE GAZ PMT 42W | C43: 2.19
A44: W004390 | B44: DIFFUSEUR DE GAZ PMT 35 | C44: 1.74
A45: 9580122 | B45: TUBE CONTACT 0,8 M8 | C45: 1.2
A46: 9580123 | B46: TUBE CONTACT 1,0 M8 | C46: 1.2
A47: 9580123ZR | B47: TUBE CONTACT 1,0CUZR M8 | C47: 2.06
A48: 9580124 | B48: TUBE CONTACT 1,2 M8 | C48: 1.2
A49: 9580124A | B49: TUBE CONTACT 1,2A M8 | C49: 1.2
A50: 9580124ZR | B50: TUBE CONTACT 1,2CUZR M8 | C50: 2.06
A51: 9580125 | B51: TUBE CONTACT 1,4 M8 | C51: 1.2
A52: 9580125ZR | B52: TUBE CONTACT 1,4 CUZR M8 | C52: 2.06
A53: 9580126 | B53: TUBE CONTACT 1,6 M8 | C53: 1.2
A54: W006518 | B54: TUBE CONTACT 1,2/D10 M8 LIFE+ | C54: 3.8
A55: W006826 | B55: TUBE CONTACT 1,0/D10 M8 / LIFE+ | C55: 3.8
A56: W007921 | B56: TUBE CONTACT 1,6/D10 M8 / LIFE+ | C56: 3.8
A57: 4188572 | B57: GAINE 0,6-0,8 4,5M BLANC | C57: 13.83
A58: 4188582 | B58: GAINE 0,9-1,2 4,5M ROUGE | C58: 16.76
A59: 4188592 | B59: GAINE (1,2)1,4-1,6 4,5M JA | C59: 16.76
A60: W005938 | B60: DL TEFLON GAINE ORANGE 1,0-1,4/4,5M | C60: 46.51
A61: W005939 | B61: 1,2-1,6AL/SS/4,5M Ø2,5DL-CHILI | C61: 46.51
A62: 6254204MMT | B62: Torche MMT 42W 4,5m | C62: 299
A63: 6253514MMT | B63: Torche MMT 35 4,5m | C63: 267
A64: 145.0051 | B64: Buse droite | C64: 6.11
A65: 145.0085 | B65: Buse conique | C65: 5.77
A66: 145.0132 | B66: Buse très conique | C66: 6.11
A67: 140.0114 | B67: TC M8 diam 0,8 | C67: 1.34
A68: 140.0313 | B68: TC M8 diam 1,0 | C68: 1.34
A69: 140.0442 | B69: TC M8 diam 1,2 | C69: 1.34
A70: 140.0587 | B70: TC M8 diam 1,6 | C70: 1.34
A71: 141.0015 | B71: TC M8 ALU diam 1,2 | C71: 1.36
... A133: 10N28 | B133: PORTE-PINCE D3,2 WT17/18/26 | C133: 2.03125
A134: 406488 | B134: PORTE-PINCE D4,0 WT17/18/26 | C134: 2.03125
A135: 17CB20 | B135: PORTE-PINCE STUBBY D1,0 - 3,2 WT17/18/26 | C135: 1.9375
A136: 45V41 | B136: DIFFUSEUR D0,5 WT9/20 | C136: 4.53125
A137: 45V42 | B137: DIFFUSEUR D1,0 WT9/20 | C137: 4.53125
A138: 45V43 | B138: DIFFUSEUR D1,6 WT9/20 | C138: 4.53125
A139: 45V43M | B139: DIFFUSEUR D2,0 WT9/20 | C139: 4.53125
A140: 45V44 | B140: DIFFUSEUR D2,4 WT9/20 | C140: 4.53125
A141: 45V45 | B141: DIFFUSEUR D3,2 WT9/20 | C141: 4.53125
A142: 45V29 | B142: DIFFUSEUR D0,5 WT17/18/26 | C142: 6.25
A143: 45V24 | B143: DIFFUSEUR D1,0 WT17/18/26 | C143: 6.25
A144: 45V25 | B144: DIFFUSEUR D1,6 WT17/18/26 | C144: 6.25
A145: 45V25M | B145: DIFFUSEUR D2,0 WT17/18/26 | C145: 6.25
A146: 45V26 | B146: DIFFUSEUR D2,4 WT17/18/26 | C146: 6.25
... A159: 45V64 | B159: DIFFUSEUR GD D2,4 WT17/18/26 | C159: 10.15625
A160: 995795 | B160: DIFFUSEUR GD D3,2 WT17/18/26 | C160: 10.15625
A161: 45V63 | B161: DIFFUSEUR GD D4,0 WT17/18/26 | C161: 10.15625
A162: 13N08 | B162: BUSE N°4 D6,3 WT9/20 | C162: 0.53125
A163: 13N09 | B163: BUSE N°5 D8,0 WT9/20 | C163: 0.53125
A164: 13N10 | B164: BUSE N°6 D9,5 WT9/20 | C164: 0.53125
A165: 13N11 | B165: BUSE N°7 D11,0 WT9/20 | C165: 0.53125
A166: 13N12 | B166: BUSE N°8 D12,5 WT9/20 | C166: 0.53125
A167: 13N13 | B167: BUSE N°10 D16,0 WT9/20 | C167: 0.53125
A168: 10N50 | B168: BUSE N°4 D6,3 WT17/18/26 | C168: 0.84375
A169: 10N49 | B169: BUSE N°5 D8,0 WT17/18/26 | C169: 0.84375
A170: 10N48 | B170: BUSE N°6 D9,5 WT17/18/26 | C170: 0.84375
A171: 10N47 | B171: BUSE N°7 D11,0 WT17/18/26 | C171: 0.84375
A172: 10N46 | B172: BUSE N°8 D12,5 WT17/18/26 | C172: 0.84375
... A185: 54N19 | B185: BUSE DIFF. COURTE D17,5 wt17/18/26 | C185: 1.40625
A186: 598882 | B186: BAGUE POUR BUSE WT9/20 | C186: 0.65625
A187: 54N6320 | B187: BAGUE POUR DIFFUSEUR GD WT9/20 | C187: 4.84375
A188: 18CG | B188: BAGUE POUR BUSE WT17/18/26 | C188: 0.875
A189: 54N63 | B189: BAGUE POUR DIFFUSEUR GD WT17/18/26 | C189: 2.8125
A190: 54N01 | B190: BAGUE POUR DIFFUSEUR WT17/18/26 | C190: 1.875
A191: 18CG20 | B191: BAGUE POUR DIFFUSEUR STUBBY WT17/18/26 | C191: 2.5
A192: 701FRC14 | B192: BOITE S2 | C192: 21.2
A193: 701FRC15 | B193: BOITE S3 | C193: 24.23
A194: 627016008 | B194: TORCHE TTC 160 8M | C194: 248
A195: 627022008 | B195: TORCHE TTC 220 8M | C195: 260
A196: 627025508 | B196: TORCHE TTC 250 W 8M | C196: 315.5
A197: 627085508 | B197: TORCHE TTK 350 W 8M | C197: 288.96
A198: 627013008 | B198: TORCHE TTC 130 8M | C198: 255.59
A199: 627013108 | B199: TORCHE TTC 130F 8M | C199: 232.82
A200: 627020508 | B200: TORCHE TTC 200W 8M | C200: 304.88
A201: 627080508 | B201: TORCHE TTK 300W 8M | C201: 255.59
A202: 4270580 | B202: TETE DE TORCHE TTC 160/220 | C202: 35.79
A203: 4285650 | B203: TETE DE TORCHE TTC 130 | C203: 79.39
A204: 9878040 | B204: TETE DE TORCHE TTC 130F | C204: 38.21
A205: 501805 | B205: Masque de soudage speedglas 9100V | C205: 275.87
... A223: 837012 | B223: filtre P pour systéme ADFLO | C223: 51.7275
A224: 10-2755L | B224: Gant STEERSOtuff® aluminisé main croûte et fleur bovin, manchette croûte bovin COMFOflex® | C224: 25.2
A225: 10-2755XL | B225: Gant STEERSOtuff® aluminisé main croûte et fleur bovin, manchette croûte bovin COMFOflex® | C225: 25.2
A226: 10-2087L | B226: Gant soudeur ¨Bucktan Wide Body¨croûte bovin bleu avec doublage COMFOflex® | C226: 10.4625
...
