Workbook

Sheet BON DE COMMANDE
A1: REMPLIR AVEC REF. ET QUANTITEE LES COLONNES BLEUES PUIS F2 PUIS F9 POUR COPIER CELLULES SANS FORMULES
A5: REFERENCE | B5: DESIGNATION | C5: QUANTITE | D5: P.U.H.T. | E5: P.T.H.T. | F5: REF.
A6: =IF(ISBLANK(F6),"",VLOOKUP(F6,DONNEES!$A$1:$C$408,1,FALSE)) | B6: =IF(ISBLANK(F6),"",VLOOKUP(A6,DONNEES!$A$1:$C$408,2,FALSE)) | D6: =IF(ISBLANK(F6),"",VLOOKUP(A6,DONNEES!$A$1:$C$408,3,FALSE)) | E6: =IF(ISBLANK(F6),"",C6*D6)
A7: =IF(ISBLANK(F7),"",VLOOKUP(F7,DONNEES!$A$1:$C$408,1,FALSE)) | B7: =IF(ISBLANK(F7),"",VLOOKUP(A7,DONNEES!$A$1:$C$408,2,FALSE)) | D7: =IF(ISBLANK(F7),"",VLOOKUP(A7,DONNEES!$A$1:$C$408,3,FALSE)) | E7: =IF(ISBLANK(F7),"",C7*D7)
A8: =IF(ISBLANK(F8),"",VLOOKUP(F8,DONNEES!$A$1:$C$408,1,FALSE)) | B8: =IF(ISBLANK(F8),"",VLOOKUP(A8,DONNEES!$A$1:$C$408,2,FALSE)) | D8: =IF(ISBLANK(F8),"",VLOOKUP(A8,DONNEES!$A$1:$C$408,3,FALSE)) | E8: =IF(ISBLANK(F8),"",C8*D8)
A9: =IF(ISBLANK(F9),"",VLOOKUP(F9,DONNEES!$A$1:$C$408,1,FALSE)) | B9: =IF(ISBLANK(F9),"",VLOOKUP(A9,DONNEES!$A$1:$C$408,2,FALSE)) | D9: =IF(ISBLANK(F9),"",VLOOKUP(A9,DONNEES!$A$1:$C$408,3,FALSE)) | E9: =IF(ISBLANK(F9),"",C9*D9)
A10: =IF(ISBLANK(F10),"",VLOOKUP(F10,DONNEES!$A$1:$C$408,1,FALSE)) | B10: =IF(ISBLANK(F10),"",VLOOKUP(A10,DONNEES!$A$1:$C$408,2,FALSE)) | D10: =IF(ISBLANK(F10),"",VLOOKUP(A10,DONNEES!$A$1:$C$408,3,FALSE)) | E10: =IF(ISBLANK(F10),"",C10*D10)
A11: =IF(ISBLANK(F11),"",VLOOKUP(F11,DONNEES!$A$1:$C$408,1,FALSE)) | B11: =IF(ISBLANK(F11),"",VLOOKUP(A11,DONNEES!$A$1:$C$408,2,FALSE)) | D11: =IF(ISBLANK(F11),"",VLOOKUP(A11,DONNEES!$A$1:$C$408,3,FALSE)) | E11: =IF(ISBLANK(F11),"",C11*D11)
A12: =IF(ISBLANK(F12),"",VLOOKUP(F12,DONNEES!$A$1:$C$408,1,FALSE)) | B12: =IF(ISBLANK(F12),"",VLOOKUP(A12,DONNEES!$A$1:$C$408,2,FALSE)) | D12: =IF(ISBLANK(F12),"",VLOOKUP(A12,DONNEES!$A$1:$C$408,3,FALSE)) | E12: =IF(ISBLANK(F12),"",C12*D12)
A13: =IF(ISBLANK(F13),"",VLOOKUP(F13,DONNEES!$A$1:$C$408,1,FALSE)) | B13: =IF(ISBLANK(F13),"",VLOOKUP(A13,DONNEES!$A$1:$C$408,2,FALSE)) | D13: =IF(ISBLANK(F13),"",VLOOKUP(A13,DONNEES!$A$1:$C$408,3,FALSE)) | E13: =IF(ISBLANK(F13),"",C13*D13)
A14: =IF(ISBLANK(F14),"",VLOOKUP(F14,DONNEES!$A$1:$C$408,1,FALSE)) | B14: =IF(ISBLANK(F14),"",VLOOKUP(A14,DONNEES!$A$1:$C$408,2,FALSE)) | D14: =IF(ISBLANK(F14),"",VLOOKUP(A14,DONNEES!$A$1:$C$408,3,FALSE)) | E14: =IF(ISBLANK(F14),"",C14*D14)
A15: =IF(ISBLANK(F15),"",VLOOKUP(F15,DONNEES!$A$1:$C$408,1,FALSE)) | B15: =IF(ISBLANK(F15),"",VLOOKUP(A15,DONNEES!$A$1:$C$408,2,FALSE)) | D15: =IF(ISBLANK(F15),"",VLOOKUP(A15,DONNEES!$A$1:$C$408,3,FALSE)) | E15: =IF(ISBLANK(F15),"",C15*D15)
A16: =IF(ISBLANK(F16),"",VLOOKUP(F16,DONNEES!$A$1:$C$408,1,FALSE)) | B16: =IF(ISBLANK(F16),"",VLOOKUP(A16,DONNEES!$A$1:$C$408,2,FALSE)) | D16: =IF(ISBLANK(F16),"",VLOOKUP(A16,DONNEES!$A$1:$C$408,3,FALSE)) | E16: =IF(ISBLANK(F16),"",C16*D16)
A17: =IF(ISBLANK(F17),"",VLOOKUP(F17,DONNEES!$A$1:$C$408,1,FALSE)) | B17: =IF(ISBLANK(F17),"",VLOOKUP(A17,DONNEES!$A$1:$C$408,2,FALSE)) | D17: =IF(ISBLANK(F17),"",VLOOKUP(A17,DONNEES!$A$1:$C$408,3,FALSE)) | E17: =IF(ISBLANK(F17),"",C17*D17)
... A40: =IF(ISBLANK(F40),"",VLOOKUP(F40,DONNEES!$A$1:$C$408,1,FALSE)) | B40: =IF(ISBLANK(F40),"",VLOOKUP(A40,DONNEES!$A$1:$C$408,2,FALSE)) | D40: =IF(ISBLANK(F40),"",VLOOKUP(A40,DONNEES!$A$1:$C$408,3,FALSE)) | E40: =IF(ISBLANK(F40),"",C40*D40)

Sheet DONNEES
A1: 4000PM10 | B1: TIG ACIER DIAM 1,0 | C1: 8.8
A2: 4000PM12 | B2: TIG ACIER DIAM 1,2 | C2: 5.93
A3: 4000PM16 | B3: TIG ACIER DIAM 1,6 | C3: 4.8
A4: 4000PM20 | B4: TIG ACIER DIAM 2,0 | C4: 4.35
A5: 4000PM24 | B5: TIG ACIER DIAM 2,4 | C5: 4.13
A6: 4000PM32 | B6: TIG ACIER DIAM 3,2 | C6: 3.9
A7: 4008PM08 | B7: TIG INOX 316L DIAM 0,8 | C7: 13.71
A8: 4008PM10 | B8: TIG INOX 316L DIAM 1,0 | C8: 12.63
A9: 4008PM12 | B9: TIG INOX 316L DIAM 1,2 | C9: 11.51
A10: 4008PM16 | B10: TIG INOX 316L DIAM 1,6 | C10: 10.86
A11: 4008PM20 | B11: TIG INOX 316L DIAM 2,0 | C11: 10.68
A12: 4008PM24 | B12: TIG INOX 316L DIAM 2,4 | C12: 10.5
... A37: 22-053-003A | B37: EE ARCAIR DIAM 8,0 | C37: 32.5
A38: 4307050 | B38: BUSE GAZ PMT35 +BAGUE ISOLANTE | C38: 13.21
A39: 4300260C | B39: BUSE GAZ CONIQUE MMT42W | C39: 8.57
A40: 4307020 | B40: MANCHON ISOLANT PMT 35/-42W BUSE | C40: 6.12
A41: 4295740 | B41: DIFFUSEUR M8 PMT27,32,30W | C41: 4.16
A42: W006183 | B42: DIFFUSEUR M8 PMT 42W | C42: 4.16
A43: W006146 | B43: DIFFUSEUR DE GAZ PMT 42W | C43: 2.19
A44: W004390 | B44: DIFFUSEUR DE GAZ PMT 35 | C44: 1.74
A45: 9580122 | B45: TUBE CONTACT 0,8 M8 | C45: 1.2
A46: 9580123 | B46: TUBE CONTACT 1,0 M8 | C46: 1.2
A47: 9580123ZR | B47: TUBE CONTACT 1,0CUZR M8 | C47: 2.06
A48: 9580124 | B48: TUBE CONTACT 1,2 M8 | C48: 1.2
A49: 9580124A | B49: TUBE CONTACT 1,2A M8 | C49: 1.2
A50: 9580124ZR | B50: TUBE CONTACT 1,2CUZR M8 | C50: 2.06
A51: 9580125 | B51: TUBE CONTACT 1,4 M8 | C51: 1.2
A52: 9580125ZR | B52: TUBE CONTACT 1,4 CUZR M8 | C52: 2.06
A53: 9580126 | B53: TUBE CONTACT 1,6 M8 | C53: 1.2
A54: W006518 | B54: TUBE CONTACT 1,2/D10 M8 LIFE+ | C54: 3.8
A55: W006826 | B55: TUBE CONTACT 1,0/D10 M8 / LIFE+ | C55: 3.8
A56: W007921 | B56: TUBE CONTACT 1,6/D10 M8 / LIFE+ | C56: 3.8
A57: 4188572 | B57: GAINE 0,6-0,8 4,5M BLANC | C57: 13.83
A58: 4188582 | B58: GAINE 0,9-1,2 4,5M ROUGE | C58: 16.76
A59: 4188592 | B59: GAINE (1,2)1,4-1,6 4,5M JA | C59: 16.76
A60: W005938 | B60: DL TEFLON GAINE ORANGE 1,0-1,4/4,5M | C60: 46.51
A61: W005939 | B61: 1,2-1,6AL/SS/4,5M Ø2,5DL-CHILI | C61: 46.51
A62: 6254204MMT | B62: Torche MMT 42W 4,5m | C62: 299
A63: 6253514MMT | B63: Torche MMT 35 4,5m | C63: 267
A64: 145.0051 | B64: Buse droite | C64: 6.11
...
