Workbook

Sheet 1
A1: HOTEL :
A2: 43374
C3: FOLS | D3: LA BOUCHERIE, FLAM'S | E3: REMISE EN BANQUE | G3: ECART | H3: JUSTIFICATIONS DES ECARTS
A5: ESPECES | B5: CAS - Espèces et autres espèces | E5: Remise espèces | G5: =+F5-D5+C5 -> 0
B6: DEVISES ESPECES | E6: Remise devises espèces en euros | G6: =F6+D6-C6 -> 0
A7: CHEQUES | B7: CHE - Chèque banque | E7: Remise A
B8: CHE - Chèque client | E8: Remise B
B9: Chèques DD | E9: Remise C
B10: Autres chèques | E10: remise D
B11: TOTAL CHEQUES | C11: =SUM(C7:C10) -> 0 | D11: =SUM(D7:D10) -> 0 | E11: TOTAL CHEQUES | F11: =SUM(F7:F10) -> 0 | G11: =F11+D11-C11 -> 0
A12: VIREMENTS | B12: CVI - Virement | E12: Virements reçu
B13: DD | E13: Virements reçu
B14: DD | E14: Virements reçu
B15: DD | E15: Virements reçu
B16: Autres virements | E16: Virements reçu
B17: TOTAL VIREMENTS | C17: =SUM(C12:C16) -> 0 | D17: =SUM(D12:D16) -> 0 | E17: TOTAL VIREMENTS | F17: =SUM(F12:F16) -> 0 | G17: =F17+D17-C17 -> 0
A18: COUPONS | B18: TRE - Tickets Rest. | E18: Remise Tickets Resto | G18: =F18+D18-C18 -> 0
B19: TRECARD - Cartes tickets rest. | E19: TRECARD - Cartes tickets rest. | G19: =F19+D19-C19 -> 0
B20: CCV - Chèques vacances | E20: Remise Chq Vacances | G20: =F20+D20-C20 -> 0
B21: CCC - Chq compliment | E21: Remise chq compliment A | G21: =F21+D21-C21 -> 0
B22: CCA - Chèque cadeau ACCOR | E22: Remise chq compliment B | G22: =F22+D22-C22 -> 0
B23: ACA - LeClub-A rewards | E23: Remise Le Club A | G23: =F23+D23-C23 -> 0
B24: ACI - LeClub-A rewards € WE | E24: Remise Le Club A | G24: =F24+D24-C24 -> 0
A25: CARTES BLEUES | B25: CB - Carte bancaire | E25: Télécollecte CB physique
B26: CB SC - Carte bancaire sans contact | E26: Télécollecte CB physique
B27: CB VAD - Carte Manuelle | E27: Télécollecte CB physique
B28: CB - Restaurant | E28: Télécollecte CB physique
B29: CB SC - Restaurant sans contact | E29: CB SC - Restaurant sans contact
B30: TOTAL CB PHYSIQUES | C30: =SUM(C25:C29) -> 0 | D30: =SUM(D25:D28) -> 0 | E30: TOTAL CB PHYSIQUES | F30: =SUM(F25:F29) -> 0 | G30: =F30+D30-C30 -> 0
B32: OVI - Visa ogone | E32: Télécollecte CB ogone
B33: OEU - Ogone eurocard | E33: Télécollecte CB ogone
B34: OPEM - Ogone préauto euro/master | E34: Télécollecte CB ogone
B35: OPVI - Ogone préauto visa | E35: Télécollecte CB ogone
B36: autres cartes ogone | E36: Télécollecte CB ogone
B37: TOTAL CB OGONE | C37: =SUM(C32:C36) -> 0 | D37: =SUM(D32:D36) -> 0 | E37: TOTAL CB OGONE | F37: =SUM(F32:F36) -> 0 | G37: =F37+D37-C37 -> 0
B39: RCB - Régul CB
B41: TOTAL CB PHYSIQUES + CB OGONE | C41: =C30+C37+C39 -> 0 | D41: =D30+D37+D39 -> 0 | E41: TOTAL CB PHYSIQUES + CB OGONE | F41: =F30+F37 -> 0 | G41: =F41+D41-C41 -> 0
A42: DCC | B42: CB DCC | E42: Télécollecte DCC
B43: autres cartes DCC | E43: Télécollecte DCC
B44: TOTAL CB DCC | C44: =SUM(C42:C43) -> 0 | D44: =SUM(D42:D43) -> 0 | E44: TOTAL CB DCC | F44: =SUM(F42:F43) -> 0 | G44: =F44+D44-C44 -> 0
A45: AMEX | B45: AM - American express | E45: Télécollecte Amex physique
B46: AM - American express Restaurant | E46: Télécollecte Amex physique
B47: TOTAL AMEX PHYSIQUES | C47: =SUM(C45:C46) -> 0 | D47: =SUM(D45:D46) -> 0 | E47: TOTAL AMEX PHYSIQUES | F47: =SUM(F45:F46) -> 0 | G47: =F47+D47-C47 -> 0
B49: OAM - Amex Ogone | E49: Télécollecte Amex ogone
B50: OPAM - Ogone préauto amex | E50: Télécollecte ogone
B51: autres Amex | E51: Télécollecte ogone
B52: TOTAL AMEX OGONE | C52: =SUM(C49:C51) -> 0 | D52: =SUM(D49:D51) -> 0 | E52: TOTAL AMEX OGONE | F52: =SUM(F49:F51) -> 0 | G52: =F52+D52-C52 -> 0
B54: RAM - Régul Amex
B56: TOTAL AMEX PHYSIQUES+AMEX OGONE | C56: =C47+C52+C54 -> 0 | D56: =D47+D52+D54 -> 0 | E56: TOTAL AMEX PHYSIQUES+AMEX OGONE | F56: =F47+F52 -> 0 | G56: =F56+D56-C56 -> 0
A57: ELAVON | B57: CDE - Carte Diners club | E57: Télécollecte Diners
B58: Autres cartes diners | E58: Télécollecte Diners
B59: TOTAL DINERS | C59: =SUM(C57:C58) -> 0 | D59: =SUM(D57:D58) -> 0 | E59: TOTAL DINERS | F59: =SUM(F57:F58) -> 0 | G59: =F59+D59-C59 -> 0
A60: JCB | B60: JCB - JCB | E60: Télécollecte JCB
B61: OJC - JCB | E61: Télécollecte JCB
B62: CUP - China union pay | E62: Télécollecte CUP
B63: TOTAL JCB | C63: =SUM(C60:C62) -> 0 | D63: =SUM(D60:D62) -> 0 | E63: TOTAL JCB | F63: =SUM(F60:F62) -> 0 | G63: =F63+D63-C63 -> 0
A64: Total général | C64: PMS | D64: =C5+D5+C6+D6+C11+D11+C17+D17+C18+D18+C19+D19+C20+D20+C21+D21+C22+D22+C23+D23+C24+D24+C41+D41+C44+D44+C56+D56+C59+D59+C63+D63 -> 0 | F64: Remises bque | G64: =F5+F6+F11+F17+F18+F19+F20+F21+F22+F23+F24+F41+F44+F56+F59+F63 -> 0
A65: AUTRES COMMENTAIRES : | H65: Débiteurs divers
H66: Offerts
H67: TOTAL | I67: =+I65+I66+G64 -> 0

Sheet 2
A1: ='1'!A1:I1 -> HOTEL :
A2: ='1'!A2:G2+1 -> 43375
C3: FOLS | D3: LA BOUCHERIE, FLAM'S | E3: REMISE EN BANQUE | G3: ECART | H3: JUSTIFICATIONS DES ECARTS
A5: ESPECES | B5: CAS - Espèces et autres espèces | E5: Remise espèces | G5: =+F5-D5+C5 -> 0
B6: DEVISES ESPECES | E6: Remise devises espèces en euros | G6: =F6+D6-C6 -> 0
A7: CHEQUES | B7: CHE - Chèque banque | E7: Remise A
B8: CHE - Chèque client | E8: Remise B
B9: Chèques DD | E9: Remise C
B10: Autres chèques | E10: remise D
B11: TOTAL CHEQUES | C11: =SUM(C7:C10) -> 0 | D11: =SUM(D7:D10) -> 0 | E11: TOTAL CHEQUES | F11: =SUM(F7:F10) -> 0 | G11: =F11+D11-C11 -> 0
A12: VIREMENTS | B12: CVI - Virement | E12: Virements reçu
B13: DD | E13: Virements reçu
B14: DD | E14: Virements reçu
B15: DD | E15: Virements reçu
B16: Autres virements | E16: Virements reçu
B17: TOTAL VIREMENTS | C17: =SUM(C12:C16) -> 0 | D17: =SUM(D12:D16) -> 0 | E17: TOTAL VIREMENTS | F17: =SUM(F12:F16) -> 0 | G17: =F17+D17-C17 -> 0
A18: COUPONS | B18: TRE - Tickets Rest. | E18: Remise Tickets Resto | G18: =F18+D18-C18 -> 0
B19: TRECARD - Cartes tickets rest. | E19: TRECARD - Cartes tickets rest. | G19: =F19+D19-C19 -> 0
B20: CCV - Chèques vacances | E20: Remise Chq Vacances | G20: =F20+D20-C20 -> 0
B21: CCC - Chq compliment | E21: Remise chq compliment A | G21: =F21+D21-C21 -> 0
B22: CCA - Chèque cadeau ACCOR | E22: Remise chq compliment B | G22: =F22+D22-C22 -> 0
B23: ACA - LeClub-A rewards | E23: Remise Le Club A | G23: =F23+D23-C23 -> 0
B24: ACI - LeClub-A rewards € WE | E24: Remise Le Club A | G24: =F24+D24-C24 -> 0
A25: CARTES BLEUES | B25: CB - Carte bancaire | E25: Télécollecte CB physique
B26: CB SC - Carte bancaire sans contact | E26: Télécollecte CB physique
B27: CB VAD - Carte Manuelle | E27: Télécollecte CB physique
B28: CB - Restaurant | E28: Télécollecte CB physique
B29: CB SC - Restaurant sans contact | E29: CB SC - Restaurant sans contact
B30: TOTAL CB PHYSIQUES | C30: =SUM(C25:C29) -> 0 | D30: =SUM(D25:D28) -> 0 | E30: TOTAL CB PHYSIQUES | F30: =SUM(F25:F29) -> 0 | G30: =F30+D30-C30 -> 0
B32: OVI - Visa ogone | E32: Télécollecte CB ogone
B33: OEU - Ogone eurocard | E33: Télécollecte CB ogone
B34: OPEM - Ogone préauto euro/master | E34: Télécollecte CB ogone
B35: OPVI - Ogone préauto visa | E35: Télécollecte CB ogone
B36: autres cartes ogone | E36: Télécollecte CB ogone
B37: TOTAL CB OGONE | C37: =SUM(C32:C36) -> 0 | D37: =SUM(D32:D36) -> 0 | E37: TOTAL CB OGONE | F37: =SUM(F32:F36) -> 0 | G37: =F37+D37-C37 -> 0
B39: RCB - Régul CB
B41: TOTAL CB PHYSIQUES + CB OGONE | C41: =C30+C37+C39 -> 0 | D41: =D30+D37+D39 -> 0 | E41: TOTAL CB PHYSIQUES + CB OGONE | F41: =F30+F37 -> 0 | G41: =F41+D41-C41 -> 0
A42: DCC | B42: CB DCC | E42: Télécollecte DCC
B43: autres cartes DCC | E43: Télécollecte DCC
B44: TOTAL CB DCC | C44: =SUM(C42:C43) -> 0 | D44: =SUM(D42:D43) -> 0 | E44: TOTAL CB DCC | F44: =SUM(F42:F43) -> 0 | G44: =F44+D44-C44 -> 0
A45: AMEX | B45: AM - American express | E45: Télécollecte Amex physique
B46: AM - American express Restaurant | E46: Télécollecte Amex physique
B47: TOTAL AMEX PHYSIQUES | C47: =SUM(C45:C46) -> 0 | D47: =SUM(D45:D46) -> 0 | E47: TOTAL AMEX PHYSIQUES | F47: =SUM(F45:F46) -> 0 | G47: =F47+D47-C47 -> 0
B49: OAM - Amex Ogone | E49: Télécollecte Amex ogone
B50: OPAM - Ogone préauto amex | E50: Télécollecte ogone
B51: autres Amex | E51: Télécollecte ogone
B52: TOTAL AMEX OGONE | C52: =SUM(C49:C51) -> 0 | D52: =SUM(D49:D51) -> 0 | E52: TOTAL AMEX OGONE | F52: =SUM(F49:F51) -> 0 | G52: =F52+D52-C52 -> 0
B54: RAM - Régul Amex
B56: TOTAL AMEX PHYSIQUES+AMEX OGONE | C56: =C47+C52+C54 -> 0 | D56: =D47+D52+D54 -> 0 | E56: TOTAL AMEX PHYSIQUES+AMEX OGONE | F56: =F47+F52 -> 0 | G56: =F56+D56-C56 -> 0
A57: ELAVON | B57: CDE - Carte Diners club | E57: Télécollecte Diners
B58: Autres cartes diners | E58: Télécollecte Diners
B59: TOTAL DINERS | C59: =SUM(C57:C58) -> 0 | D59: =SUM(D57:D58) -> 0 | E59: TOTAL DINERS | F59: =SUM(F57:F58) -> 0 | G59: =F59+D59-C59 -> 0
A60: JCB | B60: JCB - JCB | E60: Télécollecte JCB
B61: OJC - JCB | E61: Télécollecte JCB
B62: CUP - China union pay | E62: Télécollecte CUP
B63: TOTAL JCB | C63: =SUM(C60:C62) -> 0 | D63: =SUM(D60:D62) -> 0 | E63: TOTAL JCB | F63: =SUM(F60:F62) -> 0 | G63: =F63+D63-C63 -> 0
A64: Total général | C64: PMS | D64: =C5+D5+C6+D6+C11+D11+C17+D17+C18+D18+C19+D19+C20+D20+C21+D21+C22+D22+C23+D23+C24+D24+C41+D41+C44+D44+C56+D56+C59+D59+C63+D63 -> 0 | F64: Remises bque | G64: =F5+F6+F11+F17+F18+F19+F20+F21+F22+F23+F24+F41+F44+F56+F59+F63 -> 0
A65: AUTRES COMMENTAIRES : | H65: Débiteurs divers
H66: Offerts
H67: TOTAL | I67: =+I65+I66+G64 -> 0

Sheet 3
A1: ='1'!A1:I1 -> HOTEL :
A2: ='1'!A2:G2+2 -> 43376
C3: FOLS | D3: LA BOUCHERIE, FLAM'S | E3: REMISE EN BANQUE | G3: ECART | H3: JUSTIFICATIONS DES ECARTS
A5: ESPECES | B5: CAS - Espèces et autres espèces | E5: Remise espèces | G5: =+F5-D5+C5 -> 0
B6: DEVISES ESPECES | E6: Remise devises espèces en euros | G6: =F6+D6-C6 -> 0
A7: CHEQUES | B7: CHE - Chèque banque | E7: Remise A
B8: CHE - Chèque client | E8: Remise B
B9: Chèques DD | E9: Remise C
B10: Autres chèques | E10: remise D
B11: TOTAL CHEQUES | C11: =SUM(C7:C10) -> 0 | D11: =SUM(D7:D10) -> 0 | E11: TOTAL CHEQUES | F11: =SUM(F7:F10) -> 0 | G11: =F11+D11-C11 -> 0
A12: VIREMENTS | B12: CVI - Virement | E12: Virements reçu
B13: DD | E13: Virements reçu
B14: DD | E14: Virements reçu
B15: DD | E15: Virements reçu
B16: Autres virements | E16: Virements reçu
B17: TOTAL VIREMENTS | C17: =SUM(C12:C16) -> 0 | D17: =SUM(D12:D16) -> 0 | E17: TOTAL VIREMENTS | F17: =SUM(F12:F16) -> 0 | G17: =F17+D17-C17 -> 0
A18: COUPONS | B18: TRE - Tickets Rest. | E18: Remise Tickets Resto | G18: =F18+D18-C18 -> 0
B19: TRECARD - Cartes tickets rest. | E19: TRECARD - Cartes tickets rest. | G19: =F19+D19-C19 -> 0
B20: CCV - Chèques vacances | E20: Remise Chq Vacances | G20: =F20+D20-C20 -> 0
B21: CCC - Chq compliment | E21: Remise chq compliment A | G21: =F21+D21-C21 -> 0
B22: CCA - Chèque cadeau ACCOR | E22: Remise chq compliment B | G22: =F22+D22-C22 -> 0
B23: ACA - LeClub-A rewards | E23: Remise Le Club A | G23: =F23+D23-C23 -> 0
B24: ACI - LeClub-A rewards € WE | E24: Remise Le Club A | G24: =F24+D24-C24 -> 0
A25: CARTES BLEUES | B25: CB - Carte bancaire | E25: Télécollecte CB physique
B26: CB SC - Carte bancaire sans contact | E26: Télécollecte CB physique
B27: CB VAD - Carte Manuelle | E27: Télécollecte CB physique
B28: CB - Restaurant | E28: Télécollecte CB physique
B29: CB SC - Restaurant sans contact | E29: CB SC - Restaurant sans contact
B30: TOTAL CB PHYSIQUES | C30: =SUM(C25:C29) -> 0 | D30: =SUM(D25:D28) -> 0 | E30: TOTAL CB PHYSIQUES | F30: =SUM(F25:F29) -> 0 | G30: =F30+D30-C30 -> 0
B32: OVI - Visa ogone | E32: Télécollecte CB ogone
B33: OEU - Ogone eurocard | E33: Télécollecte CB ogone
B34: OPEM - Ogone préauto euro/master | E34: Télécollecte CB ogone
B35: OPVI - Ogone préauto visa | E35: Télécollecte CB ogone
B36: autres cartes ogone | E36: Télécollecte CB ogone
B37: TOTAL CB OGONE | C37: =SUM(C32:C36) -> 0 | D37: =SUM(D32:D36) -> 0 | E37: TOTAL CB OGONE | F37: =SUM(F32:F36) -> 0 | G37: =F37+D37-C37 -> 0
B39: RCB - Régul CB
B41: TOTAL CB PHYSIQUES + CB OGONE | C41: =C30+C37+C39 -> 0 | D41: =D30+D37+D39 -> 0 | E41: TOTAL CB PHYSIQUES + CB OGONE | F41: =F30+F37 -> 0 | G41: =F41+D41-C41 -> 0
A42: DCC | B42: CB DCC | E42: Télécollecte DCC
B43: autres cartes DCC | E43: Télécollecte DCC
B44: TOTAL CB DCC | C44: =SUM(C42:C43) -> 0 | D44: =SUM(D42:D43) -> 0 | E44: TOTAL CB DCC | F44: =SUM(F42:F43) -> 0 | G44: =F44+D44-C44 -> 0
A45: AMEX | B45: AM - American express | E45: Télécollecte Amex physique
B46: AM - American express Restaurant | E46: Télécollecte Amex physique
B47: TOTAL AMEX PHYSIQUES | C47: =SUM(C45:C46) -> 0 | D47: =SUM(D45:D46) -> 0 | E47: TOTAL AMEX PHYSIQUES | F47: =SUM(F45:F46) -> 0 | G47: =F47+D47-C47 -> 0
B49: OAM - Amex Ogone | E49: Télécollecte Amex ogone
B50: OPAM - Ogone préauto amex | E50: Télécollecte ogone
B51: autres Amex | E51: Télécollecte ogone
B52: TOTAL AMEX OGONE | C52: =SUM(C49:C51) -> 0 | D52: =SUM(D49:D51) -> 0 | E52: TOTAL AMEX OGONE | F52: =SUM(F49:F51) -> 0 | G52: =F52+D52-C52 -> 0
B54: RAM - Régul Amex
B56: TOTAL AMEX PHYSIQUES+AMEX OGONE | C56: =C47+C52+C54 -> 0 | D56: =D47+D52+D54 -> 0 | E56: TOTAL AMEX PHYSIQUES+AMEX OGONE | F56: =F47+F52 -> 0 | G56: =F56+D56-C56 -> 0
A57: ELAVON | B57: CDE - Carte Diners club | E57: Télécollecte Diners
B58: Autres cartes diners | E58: Télécollecte Diners
B59: TOTAL DINERS | C59: =SUM(C57:C58) -> 0 | D59: =SUM(D57:D58) -> 0 | E59: TOTAL DINERS | F59: =SUM(F57:F58) -> 0 | G59: =F59+D59-C59 -> 0
A60: JCB | B60: JCB - JCB | E60: Télécollecte JCB
B61: OJC - JCB | E61: Télécollecte JCB
B62: CUP - China union pay | E62: Télécollecte CUP
B63: TOTAL JCB | C63: =SUM(C60:C62) -> 0 | D63: =SUM(D60:D62) -> 0 | E63: TOTAL JCB | F63: =SUM(F60:F62) -> 0 | G63: =F63+D63-C63 -> 0
A64: Total général | C64: PMS | D64: =C5+D5+C6+D6+C11+D11+C17+D17+C18+D18+C19+D19+C20+D20+C21+D21+C22+D22+C23+D23+C24+D24+C41+D41+C44+D44+C56+D56+C59+D59+C63+D63 -> 0 | F64: Remises bque | G64: =F5+F6+F11+F17+F18+F19+F20+F21+F22+F23+F24+F41+F44+F56+F59+F63 -> 0
A65: AUTRES COMMENTAIRES : | H65: Débiteurs divers
H66: Offerts
H67: TOTAL | I67: =+I65+I66+G64 -> 0

Sheet 4
A1: ='1'!A1:I1 -> HOTEL :
A2: ='1'!A2:G2+3 -> 43377
C3: FOLS | D3: LA BOUCHERIE, FLAM'S | E3: REMISE EN BANQUE | G3: ECART | H3: JUSTIFICATIONS DES ECARTS
A5: ESPECES | B5: CAS - Espèces et autres espèces | E5: Remise espèces | G5: =+F5-D5+C5 -> 0
B6: DEVISES ESPECES | E6: Remise devises espèces en euros | G6: =F6+D6-C6 -> 0
A7: CHEQUES | B7: CHE - Chèque banque | E7: Remise A
B8: CHE - Chèque client | E8: Remise B
B9: Chèques DD | E9: Remise C
B10: Autres chèques | E10: remise D
B11: TOTAL CHEQUES | C11: =SUM(C7:C10) -> 0 | D11: =SUM(D7:D10) -> 0 | E11: TOTAL CHEQUES | F11: =SUM(F7:F10) -> 0 | G11: =F11+D11-C11 -> 0
A12: VIREMENTS | B12: CVI - Virement | E12: Virements reçu
B13: DD | E13: Virements reçu
B14: DD | E14: Virements reçu
B15: DD | E15: Virements reçu
B16: Autres virements | E16: Virements reçu
B17: TOTAL VIREMENTS | C17: =SUM(C12:C16) -> 0 | D17: =SUM(D12:D16) -> 0 | E17: TOTAL VIREMENTS | F17: =SUM(F12:F16) -> 0 | G17: =F17+D17-C17 -> 0
A18: COUPONS | B18: TRE - Tickets Rest. | E18: Remise Tickets Resto | G18: =F18+D18-C18 -> 0
B19: TRECARD - Cartes tickets rest. | E19: TRECARD - Cartes tickets rest. | G19: =F19+D19-C19 -> 0
B20: CCV - Chèques vacances | E20: Remise Chq Vacances | G20: =F20+D20-C20 -> 0
B21: CCC - Chq compliment | E21: Remise chq compliment A | G21: =F21+D21-C21 -> 0
B22: CCA - Chèque cadeau ACCOR | E22: Remise chq compliment B | G22: =F22+D22-C22 -> 0
B23: ACA - LeClub-A rewards | E23: Remise Le Club A | G23: =F23+D23-C23 -> 0
B24: ACI - LeClub-A rewards € WE | E24: Remise Le Club A | G24: =F24+D24-C24 -> 0
A25: CARTES BLEUES | B25: CB - Carte bancaire | E25: Télécollecte CB physique
B26: CB SC - Carte bancaire sans contact | E26: Télécollecte CB physique
B27: CB VAD - Carte Manuelle | E27: Télécollecte CB physique
B28: CB - Restaurant | E28: Télécollecte CB physique
B29: CB SC - Restaurant sans contact | E29: CB SC - Restaurant sans contact
B30: TOTAL CB PHYSIQUES | C30: =SUM(C25:C29) -> 0 | D30: =SUM(D25:D28) -> 0 | E30: TOTAL CB PHYSIQUES | F30: =SUM(F25:F29) -> 0 | G30: =F30+D30-C30 -> 0
B32: OVI - Visa ogone | E32: Télécollecte CB ogone
B33: OEU - Ogone eurocard | E33: Télécollecte CB ogone
B34: OPEM - Ogone préauto euro/master | E34: Télécollecte CB ogone
B35: OPVI - Ogone préauto visa | E35: Télécollecte CB ogone
B36: autres cartes ogone | E36: Télécollecte CB ogone
B37: TOTAL CB OGONE | C37: =SUM(C32:C36) -> 0 | D37: =SUM(D32:D36) -> 0 | E37: TOTAL CB OGONE | F37: =SUM(F32:F36) -> 0 | G37: =F37+D37-C37 -> 0
B39: RCB - Régul CB
B41: TOTAL CB PHYSIQUES + CB OGONE | C41: =C30+C37+C39 -> 0 | D41: =D30+D37+D39 -> 0 | E41: TOTAL CB PHYSIQUES + CB OGONE | F41: =F30+F37 -> 0 | G41: =F41+D41-C41 -> 0
A42: DCC | B42: CB DCC | E42: Télécollecte DCC
B43: autres cartes DCC | E43: Télécollecte DCC
B44: TOTAL CB DCC | C44: =SUM(C42:C43) -> 0 | D44: =SUM(D42:D43) -> 0 | E44: TOTAL CB DCC | F44: =SUM(F42:F43) -> 0 | G44: =F44+D44-C44 -> 0
A45: AMEX | B45: AM - American express | E45: Télécollecte Amex physique
B46: AM - American express Restaurant | E46: Télécollecte Amex physique
B47: TOTAL AMEX PHYSIQUES | C47: =SUM(C45:C46) -> 0 | D47: =SUM(D45:D46) -> 0 | E47: TOTAL AMEX PHYSIQUES | F47: =SUM(F45:F46) -> 0 | G47: =F47+D47-C47 -> 0
B49: OAM - Amex Ogone | E49: Télécollecte Amex ogone
B50: OPAM - Ogone préauto amex | E50: Télécollecte ogone
B51: autres Amex | E51: Télécollecte ogone
B52: TOTAL AMEX OGONE | C52: =SUM(C49:C51) -> 0 | D52: =SUM(D49:D51) -> 0 | E52: TOTAL AMEX OGONE | F52: =SUM(F49:F51) -> 0 | G52: =F52+D52-C52 -> 0
B54: RAM - Régul Amex
B56: TOTAL AMEX PHYSIQUES+AMEX OGONE | C56: =C47+C52+C54 -> 0 | D56: =D47+D52+D54 -> 0 | E56: TOTAL AMEX PHYSIQUES+AMEX OGONE | F56: =F47+F52 -> 0 | G56: =F56+D56-C56 -> 0
A57: ELAVON | B57: CDE - Carte Diners club | E57: Télécollecte Diners
B58: Autres cartes diners | E58: Télécollecte Diners
B59: TOTAL DINERS | C59: =SUM(C57:C58) -> 0 | D59: =SUM(D57:D58) -> 0 | E59: TOTAL DINERS | F59: =SUM(F57:F58) -> 0 | G59: =F59+D59-C59 -> 0
A60: JCB | B60: JCB - JCB | E60: Télécollecte JCB
B61: OJC - JCB | E61: Télécollecte JCB
B62: CUP - China union pay | E62: Télécollecte CUP
B63: TOTAL JCB | C63: =SUM(C60:C62) -> 0 | D63: =SUM(D60:D62) -> 0 | E63: TOTAL JCB | F63: =SUM(F60:F62) -> 0 | G63: =F63+D63-C63 -> 0
A64: Total général | C64: PMS | D64: =C5+D5+C6+D6+C11+D11+C17+D17+C18+D18+C19+D19+C20+D20+C21+D21+C22+D22+C23+D23+C24+D24+C41+D41+C44+D44+C56+D56+C59+D59+C63+D63 -> 0 | F64: Remises bque | G64: =F5+F6+F11+F17+F18+F19+F20+F21+F22+F23+F24+F41+F44+F56+F59+F63 -> 0
A65: AUTRES COMMENTAIRES : | H65: Débiteurs divers
H66: Offerts
H67: TOTAL | I67: =+I65+I66+G64 -> 0

Sheet 5
A1: ='1'!A1:I1 -> HOTEL :
A2: ='1'!A2:G2+4 -> 43378
C3: FOLS | D3: LA BOUCHERIE, FLAM'S | E3: REMISE EN BANQUE | G3: ECART | H3: JUSTIFICATIONS DES ECARTS
A5: ESPECES | B5: CAS - Espèces et autres espèces | E5: Remise espèces | G5: =+F5-D5+C5 -> 0
B6: DEVISES ESPECES | E6: Remise devises espèces en euros | G6: =F6+D6-C6 -> 0
A7: CHEQUES | B7: CHE - Chèque banque | E7: Remise A
B8: CHE - Chèque client | E8: Remise B
B9: Chèques DD | E9: Remise C
B10: Autres chèques | E10: remise D
B11: TOTAL CHEQUES | C11: =SUM(C7:C10) -> 0 | D11: =SUM(D7:D10) -> 0 | E11: TOTAL CHEQUES | F11: =SUM(F7:F10) -> 0 | G11: =F11+D11-C11 -> 0
A12: VIREMENTS | B12: CVI - Virement | E12: Virements reçu
B13: DD | E13: Virements reçu
B14: DD | E14: Virements reçu
B15: DD | E15: Virements reçu
B16: Autres virements | E16: Virements reçu
B17: TOTAL VIREMENTS | C17: =SUM(C12:C16) -> 0 | D17: =SUM(D12:D16) -> 0 | E17: TOTAL VIREMENTS | F17: =SUM(F12:F16) -> 0 | G17: =F17+D17-C17 -> 0
A18: COUPONS | B18: TRE - Tickets Rest. | E18: Remise Tickets Resto | G18: =F18+D18-C18 -> 0
B19: TRECARD - Cartes tickets rest. | E19: TRECARD - Cartes tickets rest. | G19: =F19+D19-C19 -> 0
B20: CCV - Chèques vacances | E20: Remise Chq Vacances | G20: =F20+D20-C20 -> 0
B21: CCC - Chq compliment | E21: Remise chq compliment A | G21: =F21+D21-C21 -> 0
B22: CCA - Chèque cadeau ACCOR | E22: Remise chq compliment B | G22: =F22+D22-C22 -> 0
B23: ACA - LeClub-A rewards | E23: Remise Le Club A | G23: =F23+D23-C23 -> 0
B24: ACI - LeClub-A rewards € WE | E24: Remise Le Club A | G24: =F24+D24-C24 -> 0
A25: CARTES BLEUES | B25: CB - Carte bancaire | E25: Télécollecte CB physique
B26: CB SC - Carte bancaire sans contact | E26: Télécollecte CB physique
B27: CB VAD - Carte Manuelle | E27: Télécollecte CB physique
B28: CB - Restaurant | E28: Télécollecte CB physique
B29: CB SC - Restaurant sans contact | E29: CB SC - Restaurant sans contact
B30: TOTAL CB PHYSIQUES | C30: =SUM(C25:C29) -> 0 | D30: =SUM(D25:D28) -> 0 | E30: TOTAL CB PHYSIQUES | F30: =SUM(F25:F29) -> 0 | G30: =F30+D30-C30 -> 0
B32: OVI - Visa ogone | E32: Télécollecte CB ogone
B33: OEU - Ogone eurocard | E33: Télécollecte CB ogone
B34: OPEM - Ogone préauto euro/master | E34: Télécollecte CB ogone
B35: OPVI - Ogone préauto visa | E35: Télécollecte CB ogone
B36: autres cartes ogone | E36: Télécollecte CB ogone
B37: TOTAL CB OGONE | C37: =SUM(C32:C36) -> 0 | D37: =SUM(D32:D36) -> 0 | E37: TOTAL CB OGONE | F37: =SUM(F32:F36) -> 0 | G37: =F37+D37-C37 -> 0
B39: RCB - Régul CB
B41: TOTAL CB PHYSIQUES + CB OGONE | C41: =C30+C37+C39 -> 0 | D41: =D30+D37+D39 -> 0 | E41: TOTAL CB PHYSIQUES + CB OGONE | F41: =F30+F37 -> 0 | G41: =F41+D41-C41 -> 0
A42: DCC | B42: CB DCC | E42: Télécollecte DCC
B43: autres cartes DCC | E43: Télécollecte DCC
B44: TOTAL CB DCC | C44: =SUM(C42:C43) -> 0 | D44: =SUM(D42:D43) -> 0 | E44: TOTAL CB DCC | F44: =SUM(F42:F43) -> 0 | G44: =F44+D44-C44 -> 0
A45: AMEX | B45: AM - American express | E45: Télécollecte Amex physique
B46: AM - American express Restaurant | E46: Télécollecte Amex physique
B47: TOTAL AMEX PHYSIQUES | C47: =SUM(C45:C46) -> 0 | D47: =SUM(D45:D46) -> 0 | E47: TOTAL AMEX PHYSIQUES | F47: =SUM(F45:F46) -> 0 | G47: =F47+D47-C47 -> 0
B49: OAM - Amex Ogone | E49: Télécollecte Amex ogone
B50: OPAM - Ogone préauto amex | E50: Télécollecte ogone
B51: autres Amex | E51: Télécollecte ogone
B52: TOTAL AMEX OGONE | C52: =SUM(C49:C51) -> 0 | D52: =SUM(D49:D51) -> 0 | E52: TOTAL AMEX OGONE | F52: =SUM(F49:F51) -> 0 | G52: =F52+D52-C52 -> 0
B54: RAM - Régul Amex
B56: TOTAL AMEX PHYSIQUES+AMEX OGONE | C56: =C47+C52+C54 -> 0 | D56: =D47+D52+D54 -> 0 | E56: TOTAL AMEX PHYSIQUES+AMEX OGONE | F56: =F47+F52 -> 0 | G56: =F56+D56-C56 -> 0
A57: ELAVON | B57: CDE - Carte Diners club | E57: Télécollecte Diners
B58: Autres cartes diners | E58: Télécollecte Diners
B59: TOTAL DINERS | C59: =SUM(C57:C58) -> 0 | D59: =SUM(D57:D58) -> 0 | E59: TOTAL DINERS | F59: =SUM(F57:F58) -> 0 | G59: =F59+D59-C59 -> 0
A60: JCB | B60: JCB - JCB | E60: Télécollecte JCB
B61: OJC - JCB | E61: Télécollecte JCB
B62: CUP - China union pay | E62: Télécollecte CUP
B63: TOTAL JCB | C63: =SUM(C60:C62) -> 0 | D63: =SUM(D60:D62) -> 0 | E63: TOTAL JCB | F63: =SUM(F60:F62) -> 0 | G63: =F63+D63-C63 -> 0
A64: Total général | C64: PMS | D64: =C5+D5+C6+D6+C11+D11+C17+D17+C18+D18+C19+D19+C20+D20+C21+D21+C22+D22+C23+D23+C24+D24+C41+D41+C44+D44+C56+D56+C59+D59+C63+D63 -> 0 | F64: Remises bque | G64: =F5+F6+F11+F17+F18+F19+F20+F21+F22+F23+F24+F41+F44+F56+F59+F63 -> 0
A65: AUTRES COMMENTAIRES : | H65: Débiteurs divers
H66: Offerts
H67: TOTAL | I67: =+I65+I66+G64 -> 0

Sheet 6
A1: ='1'!A1:I1 -> HOTEL :
A2: ='1'!A2:G2+5 -> 43379
C3: FOLS | D3: LA BOUCHERIE, FLAM'S | E3: REMISE EN BANQUE | G3: ECART | H3: JUSTIFICATIONS DES ECARTS
A5: ESPECES | B5: CAS - Espèces et autres espèces | E5: Remise espèces | G5: =+F5-D5+C5 -> 0
B6: DEVISES ESPECES | E6: Remise devises espèces en euros | G6: =F6+D6-C6 -> 0
A7: CHEQUES | B7: CHE - Chèque banque | E7: Remise A
B8: CHE - Chèque client | E8: Remise B
B9: Chèques DD | E9: Remise C
B10: Autres chèques | E10: remise D
B11: TOTAL CHEQUES | C11: =SUM(C7:C10) -> 0 | D11: =SUM(D7:D10) -> 0 | E11: TOTAL CHEQUES | F11: =SUM(F7:F10) -> 0 | G11: =F11+D11-C11 -> 0
A12: VIREMENTS | B12: CVI - Virement | E12: Virements reçu
B13: DD | E13: Virements reçu
B14: DD | E14: Virements reçu
B15: DD | E15: Virements reçu
B16: Autres virements | E16: Virements reçu
B17: TOTAL VIREMENTS | C17: =SUM(C12:C16) -> 0 | D17: =SUM(D12:D16) -> 0 | E17: TOTAL VIREMENTS | F17: =SUM(F12:F16) -> 0 | G17: =F17+D17-C17 -> 0
A18: COUPONS | B18: TRE - Tickets Rest. | E18: Remise Tickets Resto | G18: =F18+D18-C18 -> 0
B19: TRECARD - Cartes tickets rest. | E19: TRECARD - Cartes tickets rest. | G19: =F19+D19-C19 -> 0
B20: CCV - Chèques vacances | E20: Remise Chq Vacances | G20: =F20+D20-C20 -> 0
B21: CCC - Chq compliment | E21: Remise chq compliment A | G21: =F21+D21-C21 -> 0
B22: CCA - Chèque cadeau ACCOR | E22: Remise chq compliment B | G22: =F22+D22-C22 -> 0
B23: ACA - LeClub-A rewards | E23: Remise Le Club A | G23: =F23+D23-C23 -> 0
B24: ACI - LeClub-A rewards € WE | E24: Remise Le Club A | G24: =F24+D24-C24 -> 0
A25: CARTES BLEUES | B25: CB - Carte bancaire | E25: Télécollecte CB physique
B26: CB SC - Carte bancaire sans contact | E26: Télécollecte CB physique
B27: CB VAD - Carte Manuelle | E27: Télécollecte CB physique
B28: CB - Restaurant | E28: Télécollecte CB physique
B29: CB SC - Restaurant sans contact | E29: CB SC - Restaurant sans contact
B30: TOTAL CB PHYSIQUES | C30: =SUM(C25:C29) -> 0 | D30: =SUM(D25:D28) -> 0 | E30: TOTAL CB PHYSIQUES | F30: =SUM(F25:F29) -> 0 | G30: =F30+D30-C30 -> 0
B32: OVI - Visa ogone | E32: Télécollecte CB ogone
B33: OEU - Ogone eurocard | E33: Télécollecte CB ogone
B34: OPEM - Ogone préauto euro/master | E34: Télécollecte CB ogone
B35: OPVI - Ogone préauto visa | E35: Télécollecte CB ogone
B36: autres cartes ogone | E36: Télécollecte CB ogone
B37: TOTAL CB OGONE | C37: =SUM(C32:C36) -> 0 | D37: =SUM(D32:D36) -> 0 | E37: TOTAL CB OGONE | F37: =SUM(F32:F36) -> 0 | G37: =F37+D37-C37 -> 0
B39: RCB - Régul CB
B41: TOTAL CB PHYSIQUES + CB OGONE | C41: =C30+C37+C39 -> 0 | D41: =D30+D37+D39 -> 0 | E41: TOTAL CB PHYSIQUES + CB OGONE | F41: =F30+F37 -> 0 | G41: =F41+D41-C41 -> 0
A42: DCC | B42: CB DCC | E42: Télécollecte DCC
B43: autres cartes DCC | E43: Télécollecte DCC
B44: TOTAL CB DCC | C44: =SUM(C42:C43) -> 0 | D44: =SUM(D42:D43) -> 0 | E44: TOTAL CB DCC | F44: =SUM(F42:F43) -> 0 | G44: =F44+D44-C44 -> 0
A45: AMEX | B45: AM - American express | E45: Télécollecte Amex physique
B46: AM - American express Restaurant | E46: Télécollecte Amex physique
B47: TOTAL AMEX PHYSIQUES | C47: =SUM(C45:C46) -> 0 | D47: =SUM(D45:D46) -> 0 | E47: TOTAL AMEX PHYSIQUES | F47: =SUM(F45:F46) -> 0 | G47: =F47+D47-C47 -> 0
B49: OAM - Amex Ogone | E49: Télécollecte Amex ogone
B50: OPAM - Ogone préauto amex | E50: Télécollecte ogone
B51: autres Amex | E51: Télécollecte ogone
B52: TOTAL AMEX OGONE | C52: =SUM(C49:C51) -> 0 | D52: =SUM(D49:D51) -> 0 | E52: TOTAL AMEX OGONE | F52: =SUM(F49:F51) -> 0 | G52: =F52+D52-C52 -> 0
B54: RAM - Régul Amex
B56: TOTAL AMEX PHYSIQUES+AMEX OGONE | C56: =C47+C52+C54 -> 0 | D56: =D47+D52+D54 -> 0 | E56: TOTAL AMEX PHYSIQUES+AMEX OGONE | F56: =F47+F52 -> 0 | G56: =F56+D56-C56 -> 0
A57: ELAVON | B57: CDE - Carte Diners club | E57: Télécollecte Diners
B58: Autres cartes diners | E58: Télécollecte Diners
B59: TOTAL DINERS | C59: =SUM(C57:C58) -> 0 | D59: =SUM(D57:D58) -> 0 | E59: TOTAL DINERS | F59: =SUM(F57:F58) -> 0 | G59: =F59+D59-C59 -> 0
A60: JCB | B60: JCB - JCB | E60: Télécollecte JCB
B61: OJC - JCB | E61: Télécollecte JCB
B62: CUP - China union pay | E62: Télécollecte CUP
B63: TOTAL JCB | C63: =SUM(C60:C62) -> 0 | D63: =SUM(D60:D62) -> 0 | E63: TOTAL JCB | F63: =SUM(F60:F62) -> 0 | G63: =F63+D63-C63 -> 0
A64: Total général | C64: PMS | D64: =C5+D5+C6+D6+C11+D11+C17+D17+C18+D18+C19+D19+C20+D20+C21+D21+C22+D22+C23+D23+C24+D24+C41+D41+C44+D44+C56+D56+C59+D59+C63+D63 -> 0 | F64: Remises bque | G64: =F5+F6+F11+F17+F18+F19+F20+F21+F22+F23+F24+F41+F44+F56+F59+F63 -> 0
A65: AUTRES COMMENTAIRES : | H65: Débiteurs divers
H66: Offerts
H67: TOTAL | I67: =+I65+I66+G64 -> 0

Sheet 7
A1: ='1'!A1:I1 -> HOTEL :
A2: ='1'!A2:G2+6 -> 43380
C3: FOLS | D3: LA BOUCHERIE, FLAM'S | E3: REMISE EN BANQUE | G3: ECART | H3: JUSTIFICATIONS DES ECARTS
A5: ESPECES | B5: CAS - Espèces et autres espèces | E5: Remise espèces | G5: =+F5-D5+C5 -> 0
B6: DEVISES ESPECES | E6: Remise devises espèces en euros | G6: =F6+D6-C6 -> 0
A7: CHEQUES | B7: CHE - Chèque banque | E7: Remise A
B8: CHE - Chèque client | E8: Remise B
B9: Chèques DD | E9: Remise C
B10: Autres chèques | E10: remise D
B11: TOTAL CHEQUES | C11: =SUM(C7:C10) -> 0 | D11: =SUM(D7:D10) -> 0 | E11: TOTAL CHEQUES | F11: =SUM(F7:F10) -> 0 | G11: =F11+D11-C11 -> 0
A12: VIREMENTS | B12: CVI - Virement | E12: Virements reçu
B13: DD | E13: Virements reçu
B14: DD | E14: Virements reçu
B15: DD | E15: Virements reçu
B16: Autres virements | E16: Virements reçu
B17: TOTAL VIREMENTS | C17: =SUM(C12:C16) -> 0 | D17: =SUM(D12:D16) -> 0 | E17: TOTAL VIREMENTS | F17: =SUM(F12:F16) -> 0 | G17: =F17+D17-C17 -> 0
A18: COUPONS | B18: TRE - Tickets Rest. | E18: Remise Tickets Resto | G18: =F18+D18-C18 -> 0
B19: TRECARD - Cartes tickets rest. | E19: TRECARD - Cartes tickets rest. | G19: =F19+D19-C19 -> 0
B20: CCV - Chèques vacances | E20: Remise Chq Vacances | G20: =F20+D20-C20 -> 0
B21: CCC - Chq compliment | E21: Remise chq compliment A | G21: =F21+D21-C21 -> 0
B22: CCA - Chèque cadeau ACCOR | E22: Remise chq compliment B | G22: =F22+D22-C22 -> 0
B23: ACA - LeClub-A rewards | E23: Remise Le Club A | G23: =F23+D23-C23 -> 0
B24: ACI - LeClub-A rewards € WE | E24: Remise Le Club A | G24: =F24+D24-C24 -> 0
A25: CARTES BLEUES | B25: CB - Carte bancaire | E25: Télécollecte CB physique
B26: CB SC - Carte bancaire sans contact | E26: Télécollecte CB physique
B27: CB VAD - Carte Manuelle | E27: Télécollecte CB physique
B28: CB - Restaurant | E28: Télécollecte CB physique
B29: CB SC - Restaurant sans contact | E29: CB SC - Restaurant sans contact
B30: TOTAL CB PHYSIQUES | C30: =SUM(C25:C29) -> 0 | D30: =SUM(D25:D28) -> 0 | E30: TOTAL CB PHYSIQUES | F30: =SUM(F25:F29) -> 0 | G30: =F30+D30-C30 -> 0
B32: OVI - Visa ogone | E32: Télécollecte CB ogone
B33: OEU - Ogone eurocard | E33: Télécollecte CB ogone
B34: OPEM - Ogone préauto euro/master | E34: Télécollecte CB ogone
B35: OPVI - Ogone préauto visa | E35: Télécollecte CB ogone
B36: autres cartes ogone | E36: Télécollecte CB ogone
B37: TOTAL CB OGONE | C37: =SUM(C32:C36) -> 0 | D37: =SUM(D32:D36) -> 0 | E37: TOTAL CB OGONE | F37: =SUM(F32:F36) -> 0 | G37: =F37+D37-C37 -> 0
B39: RCB - Régul CB
B41: TOTAL CB PHYSIQUES + CB OGONE | C41: =C30+C37+C39 -> 0 | D41: =D30+D37+D39 -> 0 | E41: TOTAL CB PHYSIQUES + CB OGONE | F41: =F30+F37 -> 0 | G41: =F41+D41-C41 -> 0
A42: DCC | B42: CB DCC | E42: Télécollecte DCC
B43: autres cartes DCC | E43: Télécollecte DCC
B44: TOTAL CB DCC | C44: =SUM(C42:C43) -> 0 | D44: =SUM(D42:D43) -> 0 | E44: TOTAL CB DCC | F44: =SUM(F42:F43) -> 0 | G44: =F44+D44-C44 -> 0
A45: AMEX | B45: AM - American express | E45: Télécollecte Amex physique
B46: AM - American express Restaurant | E46: Télécollecte Amex physique
B47: TOTAL AMEX PHYSIQUES | C47: =SUM(C45:C46) -> 0 | D47: =SUM(D45:D46) -> 0 | E47: TOTAL AMEX PHYSIQUES | F47: =SUM(F45:F46) -> 0 | G47: =F47+D47-C47 -> 0
B49: OAM - Amex Ogone | E49: Télécollecte Amex ogone
B50: OPAM - Ogone préauto amex | E50: Télécollecte ogone
B51: autres Amex | E51: Télécollecte ogone
B52: TOTAL AMEX OGONE | C52: =SUM(C49:C51) -> 0 | D52: =SUM(D49:D51) -> 0 | E52: TOTAL AMEX OGONE | F52: =SUM(F49:F51) -> 0 | G52: =F52+D52-C52 -> 0
B54: RAM - Régul Amex
B56: TOTAL AMEX PHYSIQUES+AMEX OGONE | C56: =C47+C52+C54 -> 0 | D56: =D47+D52+D54 -> 0 | E56: TOTAL AMEX PHYSIQUES+AMEX OGONE | F56: =F47+F52 -> 0 | G56: =F56+D56-C56 -> 0
A57: ELAVON | B57: CDE - Carte Diners club | E57: Télécollecte Diners
B58: Autres cartes diners | E58: Télécollecte Diners
B59: TOTAL DINERS | C59: =SUM(C57:C58) -> 0 | D59: =SUM(D57:D58) -> 0 | E59: TOTAL DINERS | F59: =SUM(F57:F58) -> 0 | G59: =F59+D59-C59 -> 0
A60: JCB | B60: JCB - JCB | E60: Télécollecte JCB
B61: OJC - JCB | E61: Télécollecte JCB
B62: CUP - China union pay | E62: Télécollecte CUP
B63: TOTAL JCB | C63: =SUM(C60:C62) -> 0 | D63: =SUM(D60:D62) -> 0 | E63: TOTAL JCB | F63: =SUM(F60:F62) -> 0 | G63: =F63+D63-C63 -> 0
A64: Total général | C64: PMS | D64: =C5+D5+C6+D6+C11+D11+C17+D17+C18+D18+C19+D19+C20+D20+C21+D21+C22+D22+C23+D23+C24+D24+C41+D41+C44+D44+C56+D56+C59+D59+C63+D63 -> 0 | F64: Remises bque | G64: =F5+F6+F11+F17+F18+F19+F20+F21+F22+F23+F24+F41+F44+F56+F59+F63 -> 0
A65: AUTRES COMMENTAIRES : | H65: Débiteurs divers
H66: Offerts
H67: TOTAL | I67: =+I65+I66+G64 -> 0

Sheet 8
A1: ='1'!A1:I1 -> HOTEL :
A2: ='1'!A2:G2+7 -> 43381
C3: FOLS | D3: LA BOUCHERIE, FLAM'S | E3: REMISE EN BANQUE | G3: ECART | H3: JUSTIFICATIONS DES ECARTS
A5: ESPECES | B5: CAS - Espèces et autres espèces | E5: Remise espèces | G5: =+F5-D5+C5 -> 0
B6: DEVISES ESPECES | E6: Remise devises espèces en euros | G6: =F6+D6-C6 -> 0
A7: CHEQUES | B7: CHE - Chèque banque | E7: Remise A
B8: CHE - Chèque client | E8: Remise B
B9: Chèques DD | E9: Remise C
B10: Autres chèques | E10: remise D
B11: TOTAL CHEQUES | C11: =SUM(C7:C10) -> 0 | D11: =SUM(D7:D10) -> 0 | E11: TOTAL CHEQUES | F11: =SUM(F7:F10) -> 0 | G11: =F11+D11-C11 -> 0
A12: VIREMENTS | B12: CVI - Virement | E12: Virements reçu
B13: DD | E13: Virements reçu
B14: DD | E14: Virements reçu
B15: DD | E15: Virements reçu
B16: Autres virements | E16: Virements reçu
B17: TOTAL VIREMENTS | C17: =SUM(C12:C16) -> 0 | D17: =SUM(D12:D16) -> 0 | E17: TOTAL VIREMENTS | F17: =SUM(F12:F16) -> 0 | G17: =F17+D17-C17 -> 0
A18: COUPONS | B18: TRE - Tickets Rest. | E18: Remise Tickets Resto | G18: =F18+D18-C18 -> 0
B19: TRECARD - Cartes tickets rest. | E19: TRECARD - Cartes tickets rest. | G19: =F19+D19-C19 -> 0
B20: CCV - Chèques vacances | E20: Remise Chq Vacances | G20: =F20+D20-C20 -> 0
B21: CCC - Chq compliment | E21: Remise chq compliment A | G21: =F21+D21-C21 -> 0
B22: CCA - Chèque cadeau ACCOR | E22: Remise chq compliment B | G22: =F22+D22-C22 -> 0
B23: ACA - LeClub-A rewards | E23: Remise Le Club A | G23: =F23+D23-C23 -> 0
B24: ACI - LeClub-A rewards € WE | E24: Remise Le Club A | G24: =F24+D24-C24 -> 0
A25: CARTES BLEUES | B25: CB - Carte bancaire | E25: Télécollecte CB physique
B26: CB SC - Carte bancaire sans contact | E26: Télécollecte CB physique
B27: CB VAD - Carte Manuelle | E27: Télécollecte CB physique
B28: CB - Restaurant | E28: Télécollecte CB physique
B29: CB SC - Restaurant sans contact | E29: CB SC - Restaurant sans contact
B30: TOTAL CB PHYSIQUES | C30: =SUM(C25:C29) -> 0 | D30: =SUM(D25:D28) -> 0 | E30: TOTAL CB PHYSIQUES | F30: =SUM(F25:F29) -> 0 | G30: =F30+D30-C30 -> 0
B32: OVI - Visa ogone | E32: Télécollecte CB ogone
B33: OEU - Ogone eurocard | E33: Télécollecte CB ogone
B34: OPEM - Ogone préauto euro/master | E34: Télécollecte CB ogone
B35: OPVI - Ogone préauto visa | E35: Télécollecte CB ogone
B36: autres cartes ogone | E36: Télécollecte CB ogone
B37: TOTAL CB OGONE | C37: =SUM(C32:C36) -> 0 | D37: =SUM(D32:D36) -> 0 | E37: TOTAL CB OGONE | F37: =SUM(F32:F36) -> 0 | G37: =F37+D37-C37 -> 0
B39: RCB - Régul CB
B41: TOTAL CB PHYSIQUES + CB OGONE | C41: =C30+C37+C39 -> 0 | D41: =D30+D37+D39 -> 0 | E41: TOTAL CB PHYSIQUES + CB OGONE | F41: =F30+F37 -> 0 | G41: =F41+D41-C41 -> 0
A42: DCC | B42: CB DCC | E42: Télécollecte DCC
B43: autres cartes DCC | E43: Télécollecte DCC
B44: TOTAL CB DCC | C44: =SUM(C42:C43) -> 0 | D44: =SUM(D42:D43) -> 0 | E44: TOTAL CB DCC | F44: =SUM(F42:F43) -> 0 | G44: =F44+D44-C44 -> 0
A45: AMEX | B45: AM - American express | E45: Télécollecte Amex physique
B46: AM - American express Restaurant | E46: Télécollecte Amex physique
B47: TOTAL AMEX PHYSIQUES | C47: =SUM(C45:C46) -> 0 | D47: =SUM(D45:D46) -> 0 | E47: TOTAL AMEX PHYSIQUES | F47: =SUM(F45:F46) -> 0 | G47: =F47+D47-C47 -> 0
B49: OAM - Amex Ogone | E49: Télécollecte Amex ogone
B50: OPAM - Ogone préauto amex | E50: Télécollecte ogone
B51: autres Amex | E51: Télécollecte ogone
B52: TOTAL AMEX OGONE | C52: =SUM(C49:C51) -> 0 | D52: =SUM(D49:D51) -> 0 | E52: TOTAL AMEX OGONE | F52: =SUM(F49:F51) -> 0 | G52: =F52+D52-C52 -> 0
B54: RAM - Régul Amex
B56: TOTAL AMEX PHYSIQUES+AMEX OGONE | C56: =C47+C52+C54 -> 0 | D56: =D47+D52+D54 -> 0 | E56: TOTAL AMEX PHYSIQUES+AMEX OGONE | F56: =F47+F52 -> 0 | G56: =F56+D56-C56 -> 0
A57: ELAVON | B57: CDE - Carte Diners club | E57: Télécollecte Diners
B58: Autres cartes diners | E58: Télécollecte Diners
B59: TOTAL DINERS | C59: =SUM(C57:C58) -> 0 | D59: =SUM(D57:D58) -> 0 | E59: TOTAL DINERS | F59: =SUM(F57:F58) -> 0 | G59: =F59+D59-C59 -> 0
A60: JCB | B60: JCB - JCB | E60: Télécollecte JCB
B61: OJC - JCB | E61: Télécollecte JCB
B62: CUP - China union pay | E62: Télécollecte CUP
B63: TOTAL JCB | C63: =SUM(C60:C62) -> 0 | D63: =SUM(D60:D62) -> 0 | E63: TOTAL JCB | F63: =SUM(F60:F62) -> 0 | G63: =F63+D63-C63 -> 0
A64: Total général | C64: PMS | D64: =C5+D5+C6+D6+C11+D11+C17+D17+C18+D18+C19+D19+C20+D20+C21+D21+C22+D22+C23+D23+C24+D24+C41+D41+C44+D44+C56+D56+C59+D59+C63+D63 -> 0 | F64: Remises bque | G64: =F5+F6+F11+F17+F18+F19+F20+F21+F22+F23+F24+F41+F44+F56+F59+F63 -> 0
A65: AUTRES COMMENTAIRES : | H65: Débiteurs divers
H66: Offerts
H67: TOTAL | I67: =+I65+I66+G64 -> 0

Sheet 9
A1: ='1'!A1:I1 -> HOTEL :
A2: ='1'!A2:G2+8 -> 43382
C3: FOLS | D3: LA BOUCHERIE, FLAM'S | E3: REMISE EN BANQUE | G3: ECART | H3: JUSTIFICATIONS DES ECARTS
A5: ESPECES | B5: CAS - Espèces et autres espèces | E5: Remise espèces | G5: =+F5-D5+C5 -> 0
B6: DEVISES ESPECES | E6: Remise devises espèces en euros | G6: =F6+D6-C6 -> 0
A7: CHEQUES | B7: CHE - Chèque banque | E7: Remise A
B8: CHE - Chèque client | E8: Remise B
B9: Chèques DD | E9: Remise C
B10: Autres chèques | E10: remise D
B11: TOTAL CHEQUES | C11: =SUM(C7:C10) -> 0 | D11: =SUM(D7:D10) -> 0 | E11: TOTAL CHEQUES | F11: =SUM(F7:F10) -> 0 | G11: =F11+D11-C11 -> 0
A12: VIREMENTS | B12: CVI - Virement | E12: Virements reçu
B13: DD | E13: Virements reçu
B14: DD | E14: Virements reçu
B15: DD | E15: Virements reçu
B16: Autres virements | E16: Virements reçu
B17: TOTAL VIREMENTS | C17: =SUM(C12:C16) -> 0 | D17: =SUM(D12:D16) -> 0 | E17: TOTAL VIREMENTS | F17: =SUM(F12:F16) -> 0 | G17: =F17+D17-C17 -> 0
A18: COUPONS | B18: TRE - Tickets Rest. | E18: Remise Tickets Resto | G18: =F18+D18-C18 -> 0
B19: TRECARD - Cartes tickets rest. | E19: TRECARD - Cartes tickets rest. | G19: =F19+D19-C19 -> 0
B20: CCV - Chèques vacances | E20: Remise Chq Vacances | G20: =F20+D20-C20 -> 0
B21: CCC - Chq compliment | E21: Remise chq compliment A | G21: =F21+D21-C21 -> 0
B22: CCA - Chèque cadeau ACCOR | E22: Remise chq compliment B | G22: =F22+D22-C22 -> 0
B23: ACA - LeClub-A rewards | E23: Remise Le Club A | G23: =F23+D23-C23 -> 0
B24: ACI - LeClub-A rewards € WE | E24: Remise Le Club A | G24: =F24+D24-C24 -> 0
A25: CARTES BLEUES | B25: CB - Carte bancaire | E25: Télécollecte CB physique
B26: CB SC - Carte bancaire sans contact | E26: Télécollecte CB physique
B27: CB VAD - Carte Manuelle | E27: Télécollecte CB physique
B28: CB - Restaurant | E28: Télécollecte CB physique
B29: CB SC - Restaurant sans contact | E29: CB SC - Restaurant sans contact
B30: TOTAL CB PHYSIQUES | C30: =SUM(C25:C29) -> 0 | D30: =SUM(D25:D28) -> 0 | E30: TOTAL CB PHYSIQUES | F30: =SUM(F25:F29) -> 0 | G30: =F30+D30-C30 -> 0
B32: OVI - Visa ogone | E32: Télécollecte CB ogone
B33: OEU - Ogone eurocard | E33: Télécollecte CB ogone
B34: OPEM - Ogone préauto euro/master | E34: Télécollecte CB ogone
B35: OPVI - Ogone préauto visa | E35: Télécollecte CB ogone
B36: autres cartes ogone | E36: Télécollecte CB ogone
B37: TOTAL CB OGONE | C37: =SUM(C32:C36) -> 0 | D37: =SUM(D32:D36) -> 0 | E37: TOTAL CB OGONE | F37: =SUM(F32:F36) -> 0 | G37: =F37+D37-C37 -> 0
B39: RCB - Régul CB
B41: TOTAL CB PHYSIQUES + CB OGONE | C41: =C30+C37+C39 -> 0 | D41: =D30+D37+D39 -> 0 | E41: TOTAL CB PHYSIQUES + CB OGONE | F41: =F30+F37 -> 0 | G41: =F41+D41-C41 -> 0
A42: DCC | B42: CB DCC | E42: Télécollecte DCC
B43: autres cartes DCC | E43: Télécollecte DCC
B44: TOTAL CB DCC | C44: =SUM(C42:C43) -> 0 | D44: =SUM(D42:D43) -> 0 | E44: TOTAL CB DCC | F44: =SUM(F42:F43) -> 0 | G44: =F44+D44-C44 -> 0
A45: AMEX | B45: AM - American express | E45: Télécollecte Amex physique
B46: AM - American express Restaurant | E46: Télécollecte Amex physique
B47: TOTAL AMEX PHYSIQUES | C47: =SUM(C45:C46) -> 0 | D47: =SUM(D45:D46) -> 0 | E47: TOTAL AMEX PHYSIQUES | F47: =SUM(F45:F46) -> 0 | G47: =F47+D47-C47 -> 0
B49: OAM - Amex Ogone | E49: Télécollecte Amex ogone
B50: OPAM - Ogone préauto amex | E50: Télécollecte ogone
B51: autres Amex | E51: Télécollecte ogone
B52: TOTAL AMEX OGONE | C52: =SUM(C49:C51) -> 0 | D52: =SUM(D49:D51) -> 0 | E52: TOTAL AMEX OGONE | F52: =SUM(F49:F51) -> 0 | G52: =F52+D52-C52 -> 0
B54: RAM - Régul Amex
B56: TOTAL AMEX PHYSIQUES+AMEX OGONE | C56: =C47+C52+C54 -> 0 | D56: =D47+D52+D54 -> 0 | E56: TOTAL AMEX PHYSIQUES+AMEX OGONE | F56: =F47+F52 -> 0 | G56: =F56+D56-C56 -> 0
A57: ELAVON | B57: CDE - Carte Diners club | E57: Télécollecte Diners
B58: Autres cartes diners | E58: Télécollecte Diners
B59: TOTAL DINERS | C59: =SUM(C57:C58) -> 0 | D59: =SUM(D57:D58) -> 0 | E59: TOTAL DINERS | F59: =SUM(F57:F58) -> 0 | G59: =F59+D59-C59 -> 0
A60: JCB | B60: JCB - JCB | E60: Télécollecte JCB
B61: OJC - JCB | E61: Télécollecte JCB
B62: CUP - China union pay | E62: Télécollecte CUP
B63: TOTAL JCB | C63: =SUM(C60:C62) -> 0 | D63: =SUM(D60:D62) -> 0 | E63: TOTAL JCB | F63: =SUM(F60:F62) -> 0 | G63: =F63+D63-C63 -> 0
A64: Total général | C64: PMS | D64: =C5+D5+C6+D6+C11+D11+C17+D17+C18+D18+C19+D19+C20+D20+C21+D21+C22+D22+C23+D23+C24+D24+C41+D41+C44+D44+C56+D56+C59+D59+C63+D63 -> 0 | F64: Remises bque | G64: =F5+F6+F11+F17+F18+F19+F20+F21+F22+F23+F24+F41+F44+F56+F59+F63 -> 0
A65: AUTRES COMMENTAIRES : | H65: Débiteurs divers
H66: Offerts
H67: TOTAL | I67: =+I65+I66+G64 -> 0

Sheet 10
A1: ='1'!A1:I1 -> HOTEL :
A2: ='1'!A2:G2+9 -> 43383
C3: FOLS | D3: LA BOUCHERIE, FLAM'S | E3: REMISE EN BANQUE | G3: ECART | H3: JUSTIFICATIONS DES ECARTS
A5: ESPECES | B5: CAS - Espèces et autres espèces | E5: Remise espèces | G5: =+F5-D5+C5 -> 0
B6: DEVISES ESPECES | E6: Remise devises espèces en euros | G6: =F6+D6-C6 -> 0
A7: CHEQUES | B7: CHE - Chèque banque | E7: Remise A
B8: CHE - Chèque client | E8: Remise B
B9: Chèques DD | E9: Remise C
B10: Autres chèques | E10: remise D
B11: TOTAL CHEQUES | C11: =SUM(C7:C10) -> 0 | D11: =SUM(D7:D10) -> 0 | E11: TOTAL CHEQUES | F11: =SUM(F7:F10) -> 0 | G11: =F11+D11-C11 -> 0
A12: VIREMENTS | B12: CVI - Virement | E12: Virements reçu
B13: DD | E13: Virements reçu
B14: DD | E14: Virements reçu
B15: DD | E15: Virements reçu
B16: Autres virements | E16: Virements reçu
B17: TOTAL VIREMENTS | C17: =SUM(C12:C16) -> 0 | D17: =SUM(D12:D16) -> 0 | E17: TOTAL VIREMENTS | F17: =SUM(F12:F16) -> 0 | G17: =F17+D17-C17 -> 0
A18: COUPONS | B18: TRE - Tickets Rest. | E18: Remise Tickets Resto | G18: =F18+D18-C18 -> 0
B19: TRECARD - Cartes tickets rest. | E19: TRECARD - Cartes tickets rest. | G19: =F19+D19-C19 -> 0
B20: CCV - Chèques vacances | E20: Remise Chq Vacances | G20: =F20+D20-C20 -> 0
B21: CCC - Chq compliment | E21: Remise chq compliment A | G21: =F21+D21-C21 -> 0
B22: CCA - Chèque cadeau ACCOR | E22: Remise chq compliment B | G22: =F22+D22-C22 -> 0
B23: ACA - LeClub-A rewards | E23: Remise Le Club A | G23: =F23+D23-C23 -> 0
B24: ACI - LeClub-A rewards € WE | E24: Remise Le Club A | G24: =F24+D24-C24 -> 0
A25: CARTES BLEUES | B25: CB - Carte bancaire | E25: Télécollecte CB physique
B26: CB SC - Carte bancaire sans contact | E26: Télécollecte CB physique
B27: CB VAD - Carte Manuelle | E27: Télécollecte CB physique
B28: CB - Restaurant | E28: Télécollecte CB physique
B29: CB SC - Restaurant sans contact | E29: CB SC - Restaurant sans contact
B30: TOTAL CB PHYSIQUES | C30: =SUM(C25:C29) -> 0 | D30: =SUM(D25:D28) -> 0 | E30: TOTAL CB PHYSIQUES | F30: =SUM(F25:F29) -> 0 | G30: =F30+D30-C30 -> 0
B32: OVI - Visa ogone | E32: Télécollecte CB ogone
B33: OEU - Ogone eurocard | E33: Télécollecte CB ogone
B34: OPEM - Ogone préauto euro/master | E34: Télécollecte CB ogone
B35: OPVI - Ogone préauto visa | E35: Télécollecte CB ogone
B36: autres cartes ogone | E36: Télécollecte CB ogone
B37: TOTAL CB OGONE | C37: =SUM(C32:C36) -> 0 | D37: =SUM(D32:D36) -> 0 | E37: TOTAL CB OGONE | F37: =SUM(F32:F36) -> 0 | G37: =F37+D37-C37 -> 0
B39: RCB - Régul CB
B41: TOTAL CB PHYSIQUES + CB OGONE | C41: =C30+C37+C39 -> 0 | D41: =D30+D37+D39 -> 0 | E41: TOTAL CB PHYSIQUES + CB OGONE | F41: =F30+F37 -> 0 | G41: =F41+D41-C41 -> 0
A42: DCC | B42: CB DCC | E42: Télécollecte DCC
B43: autres cartes DCC | E43: Télécollecte DCC
B44: TOTAL CB DCC | C44: =SUM(C42:C43) -> 0 | D44: =SUM(D42:D43) -> 0 | E44: TOTAL CB DCC | F44: =SUM(F42:F43) -> 0 | G44: =F44+D44-C44 -> 0
A45: AMEX | B45: AM - American express | E45: Télécollecte Amex physique
B46: AM - American express Restaurant | E46: Télécollecte Amex physique
B47: TOTAL AMEX PHYSIQUES | C47: =SUM(C45:C46) -> 0 | D47: =SUM(D45:D46) -> 0 | E47: TOTAL AMEX PHYSIQUES | F47: =SUM(F45:F46) -> 0 | G47: =F47+D47-C47 -> 0
B49: OAM - Amex Ogone | E49: Télécollecte Amex ogone
B50: OPAM - Ogone préauto amex | E50: Télécollecte ogone
B51: autres Amex | E51: Télécollecte ogone
B52: TOTAL AMEX OGONE | C52: =SUM(C49:C51) -> 0 | D52: =SUM(D49:D51) -> 0 | E52: TOTAL AMEX OGONE | F52: =SUM(F49:F51) -> 0 | G52: =F52+D52-C52 -> 0
B54: RAM - Régul Amex
B56: TOTAL AMEX PHYSIQUES+AMEX OGONE | C56: =C47+C52+C54 -> 0 | D56: =D47+D52+D54 -> 0 | E56: TOTAL AMEX PHYSIQUES+AMEX OGONE | F56: =F47+F52 -> 0 | G56: =F56+D56-C56 -> 0
A57: ELAVON | B57: CDE - Carte Diners club | E57: Télécollecte Diners
B58: Autres cartes diners | E58: Télécollecte Diners
B59: TOTAL DINERS | C59: =SUM(C57:C58) -> 0 | D59: =SUM(D57:D58) -> 0 | E59: TOTAL DINERS | F59: =SUM(F57:F58) -> 0 | G59: =F59+D59-C59 -> 0
A60: JCB | B60: JCB - JCB | E60: Télécollecte JCB
B61: OJC - JCB | E61: Télécollecte JCB
B62: CUP - China union pay | E62: Télécollecte CUP
B63: TOTAL JCB | C63: =SUM(C60:C62) -> 0 | D63: =SUM(D60:D62) -> 0 | E63: TOTAL JCB | F63: =SUM(F60:F62) -> 0 | G63: =F63+D63-C63 -> 0
A64: Total général | C64: PMS | D64: =C5+D5+C6+D6+C11+D11+C17+D17+C18+D18+C19+D19+C20+D20+C21+D21+C22+D22+C23+D23+C24+D24+C41+D41+C44+D44+C56+D56+C59+D59+C63+D63 -> 0 | F64: Remises bque | G64: =F5+F6+F11+F17+F18+F19+F20+F21+F22+F23+F24+F41+F44+F56+F59+F63 -> 0
A65: AUTRES COMMENTAIRES : | H65: Débiteurs divers
H66: Offerts
H67: TOTAL | I67: =+I65+I66+G64 -> 0

Sheet 11
A1: ='1'!A1:I1 -> HOTEL :
A2: ='1'!A2:G2+10 -> 43384
C3: FOLS | D3: LA BOUCHERIE, FLAM'S | E3: REMISE EN BANQUE | G3: ECART | H3: JUSTIFICATIONS DES ECARTS
A5: ESPECES | B5: CAS - Espèces et autres espèces | E5: Remise espèces | G5: =+F5-D5+C5 -> 0
B6: DEVISES ESPECES | E6: Remise devises espèces en euros | G6: =F6+D6-C6 -> 0
A7: CHEQUES | B7: CHE - Chèque banque | E7: Remise A
B8: CHE - Chèque client | E8: Remise B
B9: Chèques DD | E9: Remise C
B10: Autres chèques | E10: remise D
B11: TOTAL CHEQUES | C11: =SUM(C7:C10) -> 0 | D11: =SUM(D7:D10) -> 0 | E11: TOTAL CHEQUES | F11: =SUM(F7:F10) -> 0 | G11: =F11+D11-C11 -> 0
A12: VIREMENTS | B12: CVI - Virement | E12: Virements reçu
B13: DD | E13: Virements reçu
B14: DD | E14: Virements reçu
B15: DD | E15: Virements reçu
B16: Autres virements | E16: Virements reçu
B17: TOTAL VIREMENTS | C17: =SUM(C12:C16) -> 0 | D17: =SUM(D12:D16) -> 0 | E17: TOTAL VIREMENTS | F17: =SUM(F12:F16) -> 0 | G17: =F17+D17-C17 -> 0
A18: COUPONS | B18: TRE - Tickets Rest. | E18: Remise Tickets Resto | G18: =F18+D18-C18 -> 0
B19: TRECARD - Cartes tickets rest. | E19: TRECARD - Cartes tickets rest. | G19: =F19+D19-C19 -> 0
B20: CCV - Chèques vacances | E20: Remise Chq Vacances | G20: =F20+D20-C20 -> 0
B21: CCC - Chq compliment | E21: Remise chq compliment A | G21: =F21+D21-C21 -> 0
B22: CCA - Chèque cadeau ACCOR | E22: Remise chq compliment B | G22: =F22+D22-C22 -> 0
B23: ACA - LeClub-A rewards | E23: Remise Le Club A | G23: =F23+D23-C23 -> 0
B24: ACI - LeClub-A rewards € WE | E24: Remise Le Club A | G24: =F24+D24-C24 -> 0
A25: CARTES BLEUES | B25: CB - Carte bancaire | E25: Télécollecte CB physique
B26: CB SC - Carte bancaire sans contact | E26: Télécollecte CB physique
B27: CB VAD - Carte Manuelle | E27: Télécollecte CB physique
B28: CB - Restaurant | E28: Télécollecte CB physique
B29: CB SC - Restaurant sans contact | E29: CB SC - Restaurant sans contact
B30: TOTAL CB PHYSIQUES | C30: =SUM(C25:C29) -> 0 | D30: =SUM(D25:D28) -> 0 | E30: TOTAL CB PHYSIQUES | F30: =SUM(F25:F29) -> 0 | G30: =F30+D30-C30 -> 0
B32: OVI - Visa ogone | E32: Télécollecte CB ogone
B33: OEU - Ogone eurocard | E33: Télécollecte CB ogone
B34: OPEM - Ogone préauto euro/master | E34: Télécollecte CB ogone
B35: OPVI - Ogone préauto visa | E35: Télécollecte CB ogone
B36: autres cartes ogone | E36: Télécollecte CB ogone
B37: TOTAL CB OGONE | C37: =SUM(C32:C36) -> 0 | D37: =SUM(D32:D36) -> 0 | E37: TOTAL CB OGONE | F37: =SUM(F32:F36) -> 0 | G37: =F37+D37-C37 -> 0
B39: RCB - Régul CB
B41: TOTAL CB PHYSIQUES + CB OGONE | C41: =C30+C37+C39 -> 0 | D41: =D30+D37+D39 -> 0 | E41: TOTAL CB PHYSIQUES + CB OGONE | F41: =F30+F37 -> 0 | G41: =F41+D41-C41 -> 0
A42: DCC | B42: CB DCC | E42: Télécollecte DCC
B43: autres cartes DCC | E43: Télécollecte DCC
B44: TOTAL CB DCC | C44: =SUM(C42:C43) -> 0 | D44: =SUM(D42:D43) -> 0 | E44: TOTAL CB DCC | F44: =SUM(F42:F43) -> 0 | G44: =F44+D44-C44 -> 0
A45: AMEX | B45: AM - American express | E45: Télécollecte Amex physique
B46: AM - American express Restaurant | E46: Télécollecte Amex physique
B47: TOTAL AMEX PHYSIQUES | C47: =SUM(C45:C46) -> 0 | D47: =SUM(D45:D46) -> 0 | E47: TOTAL AMEX PHYSIQUES | F47: =SUM(F45:F46) -> 0 | G47: =F47+D47-C47 -> 0
B49: OAM - Amex Ogone | E49: Télécollecte Amex ogone
B50: OPAM - Ogone préauto amex | E50: Télécollecte ogone
B51: autres Amex | E51: Télécollecte ogone
B52: TOTAL AMEX OGONE | C52: =SUM(C49:C51) -> 0 | D52: =SUM(D49:D51) -> 0 | E52: TOTAL AMEX OGONE | F52: =SUM(F49:F51) -> 0 | G52: =F52+D52-C52 -> 0
B54: RAM - Régul Amex
B56: TOTAL AMEX PHYSIQUES+AMEX OGONE | C56: =C47+C52+C54 -> 0 | D56: =D47+D52+D54 -> 0 | E56: TOTAL AMEX PHYSIQUES+AMEX OGONE | F56: =F47+F52 -> 0 | G56: =F56+D56-C56 -> 0
A57: ELAVON | B57: CDE - Carte Diners club | E57: Télécollecte Diners
B58: Autres cartes diners | E58: Télécollecte Diners
B59: TOTAL DINERS | C59: =SUM(C57:C58) -> 0 | D59: =SUM(D57:D58) -> 0 | E59: TOTAL DINERS | F59: =SUM(F57:F58) -> 0 | G59: =F59+D59-C59 -> 0
A60: JCB | B60: JCB - JCB | E60: Télécollecte JCB
B61: OJC - JCB | E61: Télécollecte JCB
B62: CUP - China union pay | E62: Télécollecte CUP
B63: TOTAL JCB | C63: =SUM(C60:C62) -> 0 | D63: =SUM(D60:D62) -> 0 | E63: TOTAL JCB | F63: =SUM(F60:F62) -> 0 | G63: =F63+D63-C63 -> 0
A64: Total général | C64: PMS | D64: =C5+D5+C6+D6+C11+D11+C17+D17+C18+D18+C19+D19+C20+D20+C21+D21+C22+D22+C23+D23+C24+D24+C41+D41+C44+D44+C56+D56+C59+D59+C63+D63 -> 0 | F64: Remises bque | G64: =F5+F6+F11+F17+F18+F19+F20+F21+F22+F23+F24+F41+F44+F56+F59+F63 -> 0
A65: AUTRES COMMENTAIRES : | H65: Débiteurs divers
H66: Offerts
H67: TOTAL | I67: =+I65+I66+G64 -> 0

Sheet 12
A1: ='1'!A1:I1 -> HOTEL :
A2: ='1'!A2:G2+11 -> 43385
C3: FOLS | D3: LA BOUCHERIE, FLAM'S | E3: REMISE EN BANQUE | G3: ECART | H3: JUSTIFICATIONS DES ECARTS
A5: ESPECES | B5: CAS - Espèces et autres espèces | E5: Remise espèces | G5: =+F5-D5+C5 -> 0
B6: DEVISES ESPECES | E6: Remise devises espèces en euros | G6: =F6+D6-C6 -> 0
A7: CHEQUES | B7: CHE - Chèque banque | E7: Remise A
B8: CHE - Chèque client | E8: Remise B
B9: Chèques DD | E9: Remise C
B10: Autres chèques | E10: remise D
B11: TOTAL CHEQUES | C11: =SUM(C7:C10) -> 0 | D11: =SUM(D7:D10) -> 0 | E11: TOTAL CHEQUES | F11: =SUM(F7:F10) -> 0 | G11: =F11+D11-C11 -> 0
A12: VIREMENTS | B12: CVI - Virement | E12: Virements reçu
B13: DD | E13: Virements reçu
B14: DD | E14: Virements reçu
B15: DD | E15: Virements reçu
B16: Autres virements | E16: Virements reçu
B17: TOTAL VIREMENTS | C17: =SUM(C12:C16) -> 0 | D17: =SUM(D12:D16) -> 0 | E17: TOTAL VIREMENTS | F17: =SUM(F12:F16) -> 0 | G17: =F17+D17-C17 -> 0
A18: COUPONS | B18: TRE - Tickets Rest. | E18: Remise Tickets Resto | G18: =F18+D18-C18 -> 0
B19: TRECARD - Cartes tickets rest. | E19: TRECARD - Cartes tickets rest. | G19: =F19+D19-C19 -> 0
B20: CCV - Chèques vacances | E20: Remise Chq Vacances | G20: =F20+D20-C20 -> 0
B21: CCC - Chq compliment | E21: Remise chq compliment A | G21: =F21+D21-C21 -> 0
B22: CCA - Chèque cadeau ACCOR | E22: Remise chq compliment B | G22: =F22+D22-C22 -> 0
B23: ACA - LeClub-A rewards | E23: Remise Le Club A | G23: =F23+D23-C23 -> 0
B24: ACI - LeClub-A rewards € WE | E24: Remise Le Club A | G24: =F24+D24-C24 -> 0
A25: CARTES BLEUES | B25: CB - Carte bancaire | E25: Télécollecte CB physique
B26: CB SC - Carte bancaire sans contact | E26: Télécollecte CB physique
B27: CB VAD - Carte Manuelle | E27: Télécollecte CB physique
B28: CB - Restaurant | E28: Télécollecte CB physique
B29: CB SC - Restaurant sans contact | E29: CB SC - Restaurant sans contact
B30: TOTAL CB PHYSIQUES | C30: =SUM(C25:C29) -> 0 | D30: =SUM(D25:D28) -> 0 | E30: TOTAL CB PHYSIQUES | F30: =SUM(F25:F29) -> 0 | G30: =F30+D30-C30 -> 0
B32: OVI - Visa ogone | E32: Télécollecte CB ogone
B33: OEU - Ogone eurocard | E33: Télécollecte CB ogone
B34: OPEM - Ogone préauto euro/master | E34: Télécollecte CB ogone
B35: OPVI - Ogone préauto visa | E35: Télécollecte CB ogone
B36: autres cartes ogone | E36: Télécollecte CB ogone
B37: TOTAL CB OGONE | C37: =SUM(C32:C36) -> 0 | D37: =SUM(D32:D36) -> 0 | E37: TOTAL CB OGONE | F37: =SUM(F32:F36) -> 0 | G37: =F37+D37-C37 -> 0
B39: RCB - Régul CB
B41: TOTAL CB PHYSIQUES + CB OGONE | C41: =C30+C37+C39 -> 0 | D41: =D30+D37+D39 -> 0 | E41: TOTAL CB PHYSIQUES + CB OGONE | F41: =F30+F37 -> 0 | G41: =F41+D41-C41 -> 0
A42: DCC | B42: CB DCC | E42: Télécollecte DCC
B43: autres cartes DCC | E43: Télécollecte DCC
B44: TOTAL CB DCC | C44: =SUM(C42:C43) -> 0 | D44: =SUM(D42:D43) -> 0 | E44: TOTAL CB DCC | F44: =SUM(F42:F43) -> 0 | G44: =F44+D44-C44 -> 0
A45: AMEX | B45: AM - American express | E45: Télécollecte Amex physique
B46: AM - American express Restaurant | E46: Télécollecte Amex physique
B47: TOTAL AMEX PHYSIQUES | C47: =SUM(C45:C46) -> 0 | D47: =SUM(D45:D46) -> 0 | E47: TOTAL AMEX PHYSIQUES | F47: =SUM(F45:F46) -> 0 | G47: =F47+D47-C47 -> 0
B49: OAM - Amex Ogone | E49: Télécollecte Amex ogone
B50: OPAM - Ogone préauto amex | E50: Télécollecte ogone
B51: autres Amex | E51: Télécollecte ogone
B52: TOTAL AMEX OGONE | C52: =SUM(C49:C51) -> 0 | D52: =SUM(D49:D51) -> 0 | E52: TOTAL AMEX OGONE | F52: =SUM(F49:F51) -> 0 | G52: =F52+D52-C52 -> 0
B54: RAM - Régul Amex
B56: TOTAL AMEX PHYSIQUES+AMEX OGONE | C56: =C47+C52+C54 -> 0 | D56: =D47+D52+D54 -> 0 | E56: TOTAL AMEX PHYSIQUES+AMEX OGONE | F56: =F47+F52 -> 0 | G56: =F56+D56-C56 -> 0
A57: ELAVON | B57: CDE - Carte Diners club | E57: Télécollecte Diners
B58: Autres cartes diners | E58: Télécollecte Diners
B59: TOTAL DINERS | C59: =SUM(C57:C58) -> 0 | D59: =SUM(D57:D58) -> 0 | E59: TOTAL DINERS | F59: =SUM(F57:F58) -> 0 | G59: =F59+D59-C59 -> 0
A60: JCB | B60: JCB - JCB | E60: Télécollecte JCB
B61: OJC - JCB | E61: Télécollecte JCB
B62: CUP - China union pay | E62: Télécollecte CUP
B63: TOTAL JCB | C63: =SUM(C60:C62) -> 0 | D63: =SUM(D60:D62) -> 0 | E63: TOTAL JCB | F63: =SUM(F60:F62) -> 0 | G63: =F63+D63-C63 -> 0
A64: Total général | C64: PMS | D64: =C5+D5+C6+D6+C11+D11+C17+D17+C18+D18+C19+D19+C20+D20+C21+D21+C22+D22+C23+D23+C24+D24+C41+D41+C44+D44+C56+D56+C59+D59+C63+D63 -> 0 | F64: Remises bque | G64: =F5+F6+F11+F17+F18+F19+F20+F21+F22+F23+F24+F41+F44+F56+F59+F63 -> 0
A65: AUTRES COMMENTAIRES : | H65: Débiteurs divers
H66: Offerts
H67: TOTAL | I67: =+I65+I66+G64 -> 0

Sheet 13
A1: ='1'!A1:I1 -> HOTEL :
A2: ='1'!A2:G2+12 -> 43386
C3: FOLS | D3: LA BOUCHERIE, FLAM'S | E3: REMISE EN BANQUE | G3: ECART | H3: JUSTIFICATIONS DES ECARTS
A5: ESPECES | B5: CAS - Espèces et autres espèces | E5: Remise espèces | G5: =+F5-D5+C5 -> 0
B6: DEVISES ESPECES | E6: Remise devises espèces en euros | G6: =F6+D6-C6 -> 0
A7: CHEQUES | B7: CHE - Chèque banque | E7: Remise A
B8: CHE - Chèque client | E8: Remise B
B9: Chèques DD | E9: Remise C
B10: Autres chèques | E10: remise D
B11: TOTAL CHEQUES | C11: =SUM(C7:C10) -> 0 | D11: =SUM(D7:D10) -> 0 | E11: TOTAL CHEQUES | F11: =SUM(F7:F10) -> 0 | G11: =F11+D11-C11 -> 0
A12: VIREMENTS | B12: CVI - Virement | E12: Virements reçu
B13: DD | E13: Virements reçu
B14: DD | E14: Virements reçu
B15: DD | E15: Virements reçu
B16: Autres virements | E16: Virements reçu
B17: TOTAL VIREMENTS | C17: =SUM(C12:C16) -> 0 | D17: =SUM(D12:D16) -> 0 | E17: TOTAL VIREMENTS | F17: =SUM(F12:F16) -> 0 | G17: =F17+D17-C17 -> 0
A18: COUPONS | B18: TRE - Tickets Rest. | E18: Remise Tickets Resto | G18: =F18+D18-C18 -> 0
B19: TRECARD - Cartes tickets rest. | E19: TRECARD - Cartes tickets rest. | G19: =F19+D19-C19 -> 0
B20: CCV - Chèques vacances | E20: Remise Chq Vacances | G20: =F20+D20-C20 -> 0
B21: CCC - Chq compliment | E21: Remise chq compliment A | G21: =F21+D21-C21 -> 0
B22: CCA - Chèque cadeau ACCOR | E22: Remise chq compliment B | G22: =F22+D22-C22 -> 0
B23: ACA - LeClub-A rewards | E23: Remise Le Club A | G23: =F23+D23-C23 -> 0
B24: ACI - LeClub-A rewards € WE | E24: Remise Le Club A | G24: =F24+D24-C24 -> 0
A25: CARTES BLEUES | B25: CB - Carte bancaire | E25: Télécollecte CB physique
B26: CB SC - Carte bancaire sans contact | E26: Télécollecte CB physique
B27: CB VAD - Carte Manuelle | E27: Télécollecte CB physique
B28: CB - Restaurant | E28: Télécollecte CB physique
B29: CB SC - Restaurant sans contact | E29: CB SC - Restaurant sans contact
B30: TOTAL CB PHYSIQUES | C30: =SUM(C25:C29) -> 0 | D30: =SUM(D25:D28) -> 0 | E30: TOTAL CB PHYSIQUES | F30: =SUM(F25:F29) -> 0 | G30: =F30+D30-C30 -> 0
B32: OVI - Visa ogone | E32: Télécollecte CB ogone
B33: OEU - Ogone eurocard | E33: Télécollecte CB ogone
B34: OPEM - Ogone préauto euro/master | E34: Télécollecte CB ogone
B35: OPVI - Ogone préauto visa | E35: Télécollecte CB ogone
B36: autres cartes ogone | E36: Télécollecte CB ogone
B37: TOTAL CB OGONE | C37: =SUM(C32:C36) -> 0 | D37: =SUM(D32:D36) -> 0 | E37: TOTAL CB OGONE | F37: =SUM(F32:F36) -> 0 | G37: =F37+D37-C37 -> 0
B39: RCB - Régul CB
B41: TOTAL CB PHYSIQUES + CB OGONE | C41: =C30+C37+C39 -> 0 | D41: =D30+D37+D39 -> 0 | E41: TOTAL CB PHYSIQUES + CB OGONE | F41: =F30+F37 -> 0 | G41: =F41+D41-C41 -> 0
A42: DCC | B42: CB DCC | E42: Télécollecte DCC
B43: autres cartes DCC | E43: Télécollecte DCC
B44: TOTAL CB DCC | C44: =SUM(C42:C43) -> 0 | D44: =SUM(D42:D43) -> 0 | E44: TOTAL CB DCC | F44: =SUM(F42:F43) -> 0 | G44: =F44+D44-C44 -> 0
A45: AMEX | B45: AM - American express | E45: Télécollecte Amex physique
B46: AM - American express Restaurant | E46: Télécollecte Amex physique
B47: TOTAL AMEX PHYSIQUES | C47: =SUM(C45:C46) -> 0 | D47: =SUM(D45:D46) -> 0 | E47: TOTAL AMEX PHYSIQUES | F47: =SUM(F45:F46) -> 0 | G47: =F47+D47-C47 -> 0
B49: OAM - Amex Ogone | E49: Télécollecte Amex ogone
B50: OPAM - Ogone préauto amex | E50: Télécollecte ogone
B51: autres Amex | E51: Télécollecte ogone
B52: TOTAL AMEX OGONE | C52: =SUM(C49:C51) -> 0 | D52: =SUM(D49:D51) -> 0 | E52: TOTAL AMEX OGONE | F52: =SUM(F49:F51) -> 0 | G52: =F52+D52-C52 -> 0
B54: RAM - Régul Amex
B56: TOTAL AMEX PHYSIQUES+AMEX OGONE | C56: =C47+C52+C54 -> 0 | D56: =D47+D52+D54 -> 0 | E56: TOTAL AMEX PHYSIQUES+AMEX OGONE | F56: =F47+F52 -> 0 | G56: =F56+D56-C56 -> 0
A57: ELAVON | B57: CDE - Carte Diners club | E57: Télécollecte Diners
B58: Autres cartes diners | E58: Télécollecte Diners
B59: TOTAL DINERS | C59: =SUM(C57:C58) -> 0 | D59: =SUM(D57:D58) -> 0 | E59: TOTAL DINERS | F59: =SUM(F57:F58) -> 0 | G59: =F59+D59-C59 -> 0
A60: JCB | B60: JCB - JCB | E60: Télécollecte JCB
B61: OJC - JCB | E61: Télécollecte JCB
B62: CUP - China union pay | E62: Télécollecte CUP
B63: TOTAL JCB | C63: =SUM(C60:C62) -> 0 | D63: =SUM(D60:D62) -> 0 | E63: TOTAL JCB | F63: =SUM(F60:F62) -> 0 | G63: =F63+D63-C63 -> 0
A64: Total général | C64: PMS | D64: =C5+D5+C6+D6+C11+D11+C17+D17+C18+D18+C19+D19+C20+D20+C21+D21+C22+D22+C23+D23+C24+D24+C41+D41+C44+D44+C56+D56+C59+D59+C63+D63 -> 0 | F64: Remises bque | G64: =F5+F6+F11+F17+F18+F19+F20+F21+F22+F23+F24+F41+F44+F56+F59+F63 -> 0
A65: AUTRES COMMENTAIRES : | H65: Débiteurs divers
H66: Offerts
H67: TOTAL | I67: =+I65+I66+G64 -> 0

Sheet 14
A1: ='1'!A1:I1 -> HOTEL :
A2: ='1'!A2:G2+13 -> 43387
C3: FOLS | D3: LA BOUCHERIE, FLAM'S | E3: REMISE EN BANQUE | G3: ECART | H3: JUSTIFICATIONS DES ECARTS
A5: ESPECES | B5: CAS - Espèces et autres espèces | E5: Remise espèces | G5: =+F5-D5+C5 -> 0
B6: DEVISES ESPECES | E6: Remise devises espèces en euros | G6: =F6+D6-C6 -> 0
A7: CHEQUES | B7: CHE - Chèque banque | E7: Remise A
B8: CHE - Chèque client | E8: Remise B
B9: Chèques DD | E9: Remise C
B10: Autres chèques | E10: remise D
B11: TOTAL CHEQUES | C11: =SUM(C7:C10) -> 0 | D11: =SUM(D7:D10) -> 0 | E11: TOTAL CHEQUES | F11: =SUM(F7:F10) -> 0 | G11: =F11+D11-C11 -> 0
A12: VIREMENTS | B12: CVI - Virement | E12: Virements reçu
B13: DD | E13: Virements reçu
B14: DD | E14: Virements reçu
B15: DD | E15: Virements reçu
B16: Autres virements | E16: Virements reçu
B17: TOTAL VIREMENTS | C17: =SUM(C12:C16) -> 0 | D17: =SUM(D12:D16) -> 0 | E17: TOTAL VIREMENTS | F17: =SUM(F12:F16) -> 0 | G17: =F17+D17-C17 -> 0
A18: COUPONS | B18: TRE - Tickets Rest. | E18: Remise Tickets Resto | G18: =F18+D18-C18 -> 0
B19: TRECARD - Cartes tickets rest. | E19: TRECARD - Cartes tickets rest. | G19: =F19+D19-C19 -> 0
B20: CCV - Chèques vacances | E20: Remise Chq Vacances | G20: =F20+D20-C20 -> 0
B21: CCC - Chq compliment | E21: Remise chq compliment A | G21: =F21+D21-C21 -> 0
B22: CCA - Chèque cadeau ACCOR | E22: Remise chq compliment B | G22: =F22+D22-C22 -> 0
B23: ACA - LeClub-A rewards | E23: Remise Le Club A | G23: =F23+D23-C23 -> 0
B24: ACI - LeClub-A rewards € WE | E24: Remise Le Club A | G24: =F24+D24-C24 -> 0
A25: CARTES BLEUES | B25: CB - Carte bancaire | E25: Télécollecte CB physique
B26: CB SC - Carte bancaire sans contact | E26: Télécollecte CB physique
B27: CB VAD - Carte Manuelle | E27: Télécollecte CB physique
B28: CB - Restaurant | E28: Télécollecte CB physique
B29: CB SC - Restaurant sans contact | E29: CB SC - Restaurant sans contact
B30: TOTAL CB PHYSIQUES | C30: =SUM(C25:C29) -> 0 | D30: =SUM(D25:D28) -> 0 | E30: TOTAL CB PHYSIQUES | F30: =SUM(F25:F29) -> 0 | G30: =F30+D30-C30 -> 0
B32: OVI - Visa ogone | E32: Télécollecte CB ogone
B33: OEU - Ogone eurocard | E33: Télécollecte CB ogone
B34: OPEM - Ogone préauto euro/master | E34: Télécollecte CB ogone
B35: OPVI - Ogone préauto visa | E35: Télécollecte CB ogone
B36: autres cartes ogone | E36: Télécollecte CB ogone
B37: TOTAL CB OGONE | C37: =SUM(C32:C36) -> 0 | D37: =SUM(D32:D36) -> 0 | E37: TOTAL CB OGONE | F37: =SUM(F32:F36) -> 0 | G37: =F37+D37-C37 -> 0
B39: RCB - Régul CB
B41: TOTAL CB PHYSIQUES + CB OGONE | C41: =C30+C37+C39 -> 0 | D41: =D30+D37+D39 -> 0 | E41: TOTAL CB PHYSIQUES + CB OGONE | F41: =F30+F37 -> 0 | G41: =F41+D41-C41 -> 0
A42: DCC | B42: CB DCC | E42: Télécollecte DCC
B43: autres cartes DCC | E43: Télécollecte DCC
B44: TOTAL CB DCC | C44: =SUM(C42:C43) -> 0 | D44: =SUM(D42:D43) -> 0 | E44: TOTAL CB DCC | F44: =SUM(F42:F43) -> 0 | G44: =F44+D44-C44 -> 0
A45: AMEX | B45: AM - American express | E45: Télécollecte Amex physique
B46: AM - American express Restaurant | E46: Télécollecte Amex physique
B47: TOTAL AMEX PHYSIQUES | C47: =SUM(C45:C46) -> 0 | D47: =SUM(D45:D46) -> 0 | E47: TOTAL AMEX PHYSIQUES | F47: =SUM(F45:F46) -> 0 | G47: =F47+D47-C47 -> 0
B49: OAM - Amex Ogone | E49: Télécollecte Amex ogone
B50: OPAM - Ogone préauto amex | E50: Télécollecte ogone
B51: autres Amex | E51: Télécollecte ogone
B52: TOTAL AMEX OGONE | C52: =SUM(C49:C51) -> 0 | D52: =SUM(D49:D51) -> 0 | E52: TOTAL AMEX OGONE | F52: =SUM(F49:F51) -> 0 | G52: =F52+D52-C52 -> 0
B54: RAM - Régul Amex
B56: TOTAL AMEX PHYSIQUES+AMEX OGONE | C56: =C47+C52+C54 -> 0 | D56: =D47+D52+D54 -> 0 | E56: TOTAL AMEX PHYSIQUES+AMEX OGONE | F56: =F47+F52 -> 0 | G56: =F56+D56-C56 -> 0
A57: ELAVON | B57: CDE - Carte Diners club | E57: Télécollecte Diners
B58: Autres cartes diners | E58: Télécollecte Diners
B59: TOTAL DINERS | C59: =SUM(C57:C58) -> 0 | D59: =SUM(D57:D58) -> 0 | E59: TOTAL DINERS | F59: =SUM(F57:F58) -> 0 | G59: =F59+D59-C59 -> 0
A60: JCB | B60: JCB - JCB | E60: Télécollecte JCB
B61: OJC - JCB | E61: Télécollecte JCB
B62: CUP - China union pay | E62: Télécollecte CUP
B63: TOTAL JCB | C63: =SUM(C60:C62) -> 0 | D63: =SUM(D60:D62) -> 0 | E63: TOTAL JCB | F63: =SUM(F60:F62) -> 0 | G63: =F63+D63-C63 -> 0
A64: Total général | C64: PMS | D64: =C5+D5+C6+D6+C11+D11+C17+D17+C18+D18+C19+D19+C20+D20+C21+D21+C22+D22+C23+D23+C24+D24+C41+D41+C44+D44+C56+D56+C59+D59+C63+D63 -> 0 | F64: Remises bque | G64: =F5+F6+F11+F17+F18+F19+F20+F21+F22+F23+F24+F41+F44+F56+F59+F63 -> 0
A65: AUTRES COMMENTAIRES : | H65: Débiteurs divers
H66: Offerts
H67: TOTAL | I67: =+I65+I66+G64 -> 0

Sheet 15
A1: ='1'!A1:I1 -> HOTEL :
A2: ='1'!A2:G2+14 -> 43388
C3: FOLS | D3: LA BOUCHERIE, FLAM'S | E3: REMISE EN BANQUE | G3: ECART | H3: JUSTIFICATIONS DES ECARTS
A5: ESPECES | B5: CAS - Espèces et autres espèces | E5: Remise espèces | G5: =+F5-D5+C5 -> 0
B6: DEVISES ESPECES | E6: Remise devises espèces en euros | G6: =F6+D6-C6 -> 0
A7: CHEQUES | B7: CHE - Chèque banque | E7: Remise A
B8: CHE - Chèque client | E8: Remise B
B9: Chèques DD | E9: Remise C
B10: Autres chèques | E10: remise D
B11: TOTAL CHEQUES | C11: =SUM(C7:C10) -> 0 | D11: =SUM(D7:D10) -> 0 | E11: TOTAL CHEQUES | F11: =SUM(F7:F10) -> 0 | G11: =F11+D11-C11 -> 0
A12: VIREMENTS | B12: CVI - Virement | E12: Virements reçu
B13: DD | E13: Virements reçu
B14: DD | E14: Virements reçu
B15: DD | E15: Virements reçu
B16: Autres virements | E16: Virements reçu
B17: TOTAL VIREMENTS | C17: =SUM(C12:C16) -> 0 | D17: =SUM(D12:D16) -> 0 | E17: TOTAL VIREMENTS | F17: =SUM(F12:F16) -> 0 | G17: =F17+D17-C17 -> 0
A18: COUPONS | B18: TRE - Tickets Rest. | E18: Remise Tickets Resto | G18: =F18+D18-C18 -> 0
B19: TRECARD - Cartes tickets rest. | E19: TRECARD - Cartes tickets rest. | G19: =F19+D19-C19 -> 0
B20: CCV - Chèques vacances | E20: Remise Chq Vacances | G20: =F20+D20-C20 -> 0
B21: CCC - Chq compliment | E21: Remise chq compliment A | G21: =F21+D21-C21 -> 0
B22: CCA - Chèque cadeau ACCOR | E22: Remise chq compliment B | G22: =F22+D22-C22 -> 0
B23: ACA - LeClub-A rewards | E23: Remise Le Club A | G23: =F23+D23-C23 -> 0
B24: ACI - LeClub-A rewards € WE | E24: Remise Le Club A | G24: =F24+D24-C24 -> 0
A25: CARTES BLEUES | B25: CB - Carte bancaire | E25: Télécollecte CB physique
B26: CB SC - Carte bancaire sans contact | E26: Télécollecte CB physique
B27: CB VAD - Carte Manuelle | E27: Télécollecte CB physique
B28: CB - Restaurant | E28: Télécollecte CB physique
B29: CB SC - Restaurant sans contact | E29: CB SC - Restaurant sans contact
B30: TOTAL CB PHYSIQUES | C30: =SUM(C25:C29) -> 0 | D30: =SUM(D25:D28) -> 0 | E30: TOTAL CB PHYSIQUES | F30: =SUM(F25:F29) -> 0 | G30: =F30+D30-C30 -> 0
B32: OVI - Visa ogone | E32: Télécollecte CB ogone
B33: OEU - Ogone eurocard | E33: Télécollecte CB ogone
B34: OPEM - Ogone préauto euro/master | E34: Télécollecte CB ogone
B35: OPVI - Ogone préauto visa | E35: Télécollecte CB ogone
B36: autres cartes ogone | E36: Télécollecte CB ogone
B37: TOTAL CB OGONE | C37: =SUM(C32:C36) -> 0 | D37: =SUM(D32:D36) -> 0 | E37: TOTAL CB OGONE | F37: =SUM(F32:F36) -> 0 | G37: =F37+D37-C37 -> 0
B39: RCB - Régul CB
B41: TOTAL CB PHYSIQUES + CB OGONE | C41: =C30+C37+C39 -> 0 | D41: =D30+D37+D39 -> 0 | E41: TOTAL CB PHYSIQUES + CB OGONE | F41: =F30+F37 -> 0 | G41: =F41+D41-C41 -> 0
A42: DCC | B42: CB DCC | E42: Télécollecte DCC
B43: autres cartes DCC | E43: Télécollecte DCC
B44: TOTAL CB DCC | C44: =SUM(C42:C43) -> 0 | D44: =SUM(D42:D43) -> 0 | E44: TOTAL CB DCC | F44: =SUM(F42:F43) -> 0 | G44: =F44+D44-C44 -> 0
A45: AMEX | B45: AM - American express | E45: Télécollecte Amex physique
B46: AM - American express Restaurant | E46: Télécollecte Amex physique
B47: TOTAL AMEX PHYSIQUES | C47: =SUM(C45:C46) -> 0 | D47: =SUM(D45:D46) -> 0 | E47: TOTAL AMEX PHYSIQUES | F47: =SUM(F45:F46) -> 0 | G47: =F47+D47-C47 -> 0
B49: OAM - Amex Ogone | E49: Télécollecte Amex ogone
B50: OPAM - Ogone préauto amex | E50: Télécollecte ogone
B51: autres Amex | E51: Télécollecte ogone
B52: TOTAL AMEX OGONE | C52: =SUM(C49:C51) -> 0 | D52: =SUM(D49:D51) -> 0 | E52: TOTAL AMEX OGONE | F52: =SUM(F49:F51) -> 0 | G52: =F52+D52-C52 -> 0
B54: RAM - Régul Amex
B56: TOTAL AMEX PHYSIQUES+AMEX OGONE | C56: =C47+C52+C54 -> 0 | D56: =D47+D52+D54 -> 0 | E56: TOTAL AMEX PHYSIQUES+AMEX OGONE | F56: =F47+F52 -> 0 | G56: =F56+D56-C56 -> 0
A57: ELAVON | B57: CDE - Carte Diners club | E57: Télécollecte Diners
B58: Autres cartes diners | E58: Télécollecte Diners
B59: TOTAL DINERS | C59: =SUM(C57:C58) -> 0 | D59: =SUM(D57:D58) -> 0 | E59: TOTAL DINERS | F59: =SUM(F57:F58) -> 0 | G59: =F59+D59-C59 -> 0
A60: JCB | B60: JCB - JCB | E60: Télécollecte JCB
B61: OJC - JCB | E61: Télécollecte JCB
B62: CUP - China union pay | E62: Télécollecte CUP
B63: TOTAL JCB | C63: =SUM(C60:C62) -> 0 | D63: =SUM(D60:D62) -> 0 | E63: TOTAL JCB | F63: =SUM(F60:F62) -> 0 | G63: =F63+D63-C63 -> 0
A64: Total général | C64: PMS | D64: =C5+D5+C6+D6+C11+D11+C17+D17+C18+D18+C19+D19+C20+D20+C21+D21+C22+D22+C23+D23+C24+D24+C41+D41+C44+D44+C56+D56+C59+D59+C63+D63 -> 0 | F64: Remises bque | G64: =F5+F6+F11+F17+F18+F19+F20+F21+F22+F23+F24+F41+F44+F56+F59+F63 -> 0
A65: AUTRES COMMENTAIRES : | H65: Débiteurs divers
H66: Offerts
H67: TOTAL | I67: =+I65+I66+G64 -> 0

Sheet 16
A1: ='1'!A1:I1 -> HOTEL :
A2: ='1'!A2:G2+15 -> 43389
C3: FOLS | D3: LA BOUCHERIE, FLAM'S | E3: REMISE EN BANQUE | G3: ECART | H3: JUSTIFICATIONS DES ECARTS
A5: ESPECES | B5: CAS - Espèces et autres espèces | E5: Remise espèces | G5: =+F5-D5+C5 -> 0
B6: DEVISES ESPECES | E6: Remise devises espèces en euros | G6: =F6+D6-C6 -> 0
A7: CHEQUES | B7: CHE - Chèque banque | E7: Remise A
B8: CHE - Chèque client | E8: Remise B
B9: Chèques DD | E9: Remise C
B10: Autres chèques | E10: remise D
B11: TOTAL CHEQUES | C11: =SUM(C7:C10) -> 0 | D11: =SUM(D7:D10) -> 0 | E11: TOTAL CHEQUES | F11: =SUM(F7:F10) -> 0 | G11: =F11+D11-C11 -> 0
A12: VIREMENTS | B12: CVI - Virement | E12: Virements reçu
B13: DD | E13: Virements reçu
B14: DD | E14: Virements reçu
B15: DD | E15: Virements reçu
B16: Autres virements | E16: Virements reçu
B17: TOTAL VIREMENTS | C17: =SUM(C12:C16) -> 0 | D17: =SUM(D12:D16) -> 0 | E17: TOTAL VIREMENTS | F17: =SUM(F12:F16) -> 0 | G17: =F17+D17-C17 -> 0
A18: COUPONS | B18: TRE - Tickets Rest. | E18: Remise Tickets Resto | G18: =F18+D18-C18 -> 0
B19: TRECARD - Cartes tickets rest. | E19: TRECARD - Cartes tickets rest. | G19: =F19+D19-C19 -> 0
B20: CCV - Chèques vacances | E20: Remise Chq Vacances | G20: =F20+D20-C20 -> 0
B21: CCC - Chq compliment | E21: Remise chq compliment A | G21: =F21+D21-C21 -> 0
B22: CCA - Chèque cadeau ACCOR | E22: Remise chq compliment B | G22: =F22+D22-C22 -> 0
B23: ACA - LeClub-A rewards | E23: Remise Le Club A | G23: =F23+D23-C23 -> 0
B24: ACI - LeClub-A rewards € WE | E24: Remise Le Club A | G24: =F24+D24-C24 -> 0
A25: CARTES BLEUES | B25: CB - Carte bancaire | E25: Télécollecte CB physique
B26: CB SC - Carte bancaire sans contact | E26: Télécollecte CB physique
B27: CB VAD - Carte Manuelle | E27: Télécollecte CB physique
B28: CB - Restaurant | E28: Télécollecte CB physique
B29: CB SC - Restaurant sans contact | E29: CB SC - Restaurant sans contact
B30: TOTAL CB PHYSIQUES | C30: =SUM(C25:C29) -> 0 | D30: =SUM(D25:D28) -> 0 | E30: TOTAL CB PHYSIQUES | F30: =SUM(F25:F29) -> 0 | G30: =F30+D30-C30 -> 0
B32: OVI - Visa ogone | E32: Télécollecte CB ogone
B33: OEU - Ogone eurocard | E33: Télécollecte CB ogone
B34: OPEM - Ogone préauto euro/master | E34: Télécollecte CB ogone
B35: OPVI - Ogone préauto visa | E35: Télécollecte CB ogone
B36: autres cartes ogone | E36: Télécollecte CB ogone
B37: TOTAL CB OGONE | C37: =SUM(C32:C36) -> 0 | D37: =SUM(D32:D36) -> 0 | E37: TOTAL CB OGONE | F37: =SUM(F32:F36) -> 0 | G37: =F37+D37-C37 -> 0
B39: RCB - Régul CB
B41: TOTAL CB PHYSIQUES + CB OGONE | C41: =C30+C37+C39 -> 0 | D41: =D30+D37+D39 -> 0 | E41: TOTAL CB PHYSIQUES + CB OGONE | F41: =F30+F37 -> 0 | G41: =F41+D41-C41 -> 0
A42: DCC | B42: CB DCC | E42: Télécollecte DCC
B43: autres cartes DCC | E43: Télécollecte DCC
B44: TOTAL CB DCC | C44: =SUM(C42:C43) -> 0 | D44: =SUM(D42:D43) -> 0 | E44: TOTAL CB DCC | F44: =SUM(F42:F43) -> 0 | G44: =F44+D44-C44 -> 0
A45: AMEX | B45: AM - American express | E45: Télécollecte Amex physique
B46: AM - American express Restaurant | E46: Télécollecte Amex physique
B47: TOTAL AMEX PHYSIQUES | C47: =SUM(C45:C46) -> 0 | D47: =SUM(D45:D46) -> 0 | E47: TOTAL AMEX PHYSIQUES | F47: =SUM(F45:F46) -> 0 | G47: =F47+D47-C47 -> 0
B49: OAM - Amex Ogone | E49: Télécollecte Amex ogone
B50: OPAM - Ogone préauto amex | E50: Télécollecte ogone
B51: autres Amex | E51: Télécollecte ogone
B52: TOTAL AMEX OGONE | C52: =SUM(C49:C51) -> 0 | D52: =SUM(D49:D51) -> 0 | E52: TOTAL AMEX OGONE | F52: =SUM(F49:F51) -> 0 | G52: =F52+D52-C52 -> 0
B54: RAM - Régul Amex
B56: TOTAL AMEX PHYSIQUES+AMEX OGONE | C56: =C47+C52+C54 -> 0 | D56: =D47+D52+D54 -> 0 | E56: TOTAL AMEX PHYSIQUES+AMEX OGONE | F56: =F47+F52 -> 0 | G56: =F56+D56-C56 -> 0
A57: ELAVON | B57: CDE - Carte Diners club | E57: Télécollecte Diners
B58: Autres cartes diners | E58: Télécollecte Diners
B59: TOTAL DINERS | C59: =SUM(C57:C58) -> 0 | D59: =SUM(D57:D58) -> 0 | E59: TOTAL DINERS | F59: =SUM(F57:F58) -> 0 | G59: =F59+D59-C59 -> 0
A60: JCB | B60: JCB - JCB | E60: Télécollecte JCB
B61: OJC - JCB | E61: Télécollecte JCB
B62: CUP - China union pay | E62: Télécollecte CUP
B63: TOTAL JCB | C63: =SUM(C60:C62) -> 0 | D63: =SUM(D60:D62) -> 0 | E63: TOTAL JCB | F63: =SUM(F60:F62) -> 0 | G63: =F63+D63-C63 -> 0
A64: Total général | C64: PMS | D64: =C5+D5+C6+D6+C11+D11+C17+D17+C18+D18+C19+D19+C20+D20+C21+D21+C22+D22+C23+D23+C24+D24+C41+D41+C44+D44+C56+D56+C59+D59+C63+D63 -> 0 | F64: Remises bque | G64: =F5+F6+F11+F17+F18+F19+F20+F21+F22+F23+F24+F41+F44+F56+F59+F63 -> 0
A65: AUTRES COMMENTAIRES : | H65: Débiteurs divers
H66: Offerts
H67: TOTAL | I67: =+I65+I66+G64 -> 0

Sheet 17
A1: ='1'!A1:I1 -> HOTEL :
A2: ='1'!A2:G2+16 -> 43390
C3: FOLS | D3: LA BOUCHERIE, FLAM'S | E3: REMISE EN BANQUE | G3: ECART | H3: JUSTIFICATIONS DES ECARTS
A5: ESPECES | B5: CAS - Espèces et autres espèces | E5: Remise espèces | G5: =+F5-D5+C5 -> 0
B6: DEVISES ESPECES | E6: Remise devises espèces en euros | G6: =F6+D6-C6 -> 0
A7: CHEQUES | B7: CHE - Chèque banque | E7: Remise A
B8: CHE - Chèque client | E8: Remise B
B9: Chèques DD | E9: Remise C
B10: Autres chèques | E10: remise D
B11: TOTAL CHEQUES | C11: =SUM(C7:C10) -> 0 | D11: =SUM(D7:D10) -> 0 | E11: TOTAL CHEQUES | F11: =SUM(F7:F10) -> 0 | G11: =F11+D11-C11 -> 0
A12: VIREMENTS | B12: CVI - Virement | E12: Virements reçu
B13: DD | E13: Virements reçu
B14: DD | E14: Virements reçu
B15: DD | E15: Virements reçu
B16: Autres virements | E16: Virements reçu
B17: TOTAL VIREMENTS | C17: =SUM(C12:C16) -> 0 | D17: =SUM(D12:D16) -> 0 | E17: TOTAL VIREMENTS | F17: =SUM(F12:F16) -> 0 | G17: =F17+D17-C17 -> 0
A18: COUPONS | B18: TRE - Tickets Rest. | E18: Remise Tickets Resto | G18: =F18+D18-C18 -> 0
B19: TRECARD - Cartes tickets rest. | E19: TRECARD - Cartes tickets rest. | G19: =F19+D19-C19 -> 0
B20: CCV - Chèques vacances | E20: Remise Chq Vacances | G20: =F20+D20-C20 -> 0
B21: CCC - Chq compliment | E21: Remise chq compliment A | G21: =F21+D21-C21 -> 0
B22: CCA - Chèque cadeau ACCOR | E22: Remise chq compliment B | G22: =F22+D22-C22 -> 0
B23: ACA - LeClub-A rewards | E23: Remise Le Club A | G23: =F23+D23-C23 -> 0
B24: ACI - LeClub-A rewards € WE | E24: Remise Le Club A | G24: =F24+D24-C24 -> 0
A25: CARTES BLEUES | B25: CB - Carte bancaire | E25: Télécollecte CB physique
B26: CB SC - Carte bancaire sans contact | E26: Télécollecte CB physique
B27: CB VAD - Carte Manuelle | E27: Télécollecte CB physique
B28: CB - Restaurant | E28: Télécollecte CB physique
B29: CB SC - Restaurant sans contact | E29: CB SC - Restaurant sans contact
B30: TOTAL CB PHYSIQUES | C30: =SUM(C25:C29) -> 0 | D30: =SUM(D25:D28) -> 0 | E30: TOTAL CB PHYSIQUES | F30: =SUM(F25:F29) -> 0 | G30: =F30+D30-C30 -> 0
B32: OVI - Visa ogone | E32: Télécollecte CB ogone
B33: OEU - Ogone eurocard | E33: Télécollecte CB ogone
B34: OPEM - Ogone préauto euro/master | E34: Télécollecte CB ogone
B35: OPVI - Ogone préauto visa | E35: Télécollecte CB ogone
B36: autres cartes ogone | E36: Télécollecte CB ogone
B37: TOTAL CB OGONE | C37: =SUM(C32:C36) -> 0 | D37: =SUM(D32:D36) -> 0 | E37: TOTAL CB OGONE | F37: =SUM(F32:F36) -> 0 | G37: =F37+D37-C37 -> 0
B39: RCB - Régul CB
B41: TOTAL CB PHYSIQUES + CB OGONE | C41: =C30+C37+C39 -> 0 | D41: =D30+D37+D39 -> 0 | E41: TOTAL CB PHYSIQUES + CB OGONE | F41: =F30+F37 -> 0 | G41: =F41+D41-C41 -> 0
A42: DCC | B42: CB DCC | E42: Télécollecte DCC
B43: autres cartes DCC | E43: Télécollecte DCC
B44: TOTAL CB DCC | C44: =SUM(C42:C43) -> 0 | D44: =SUM(D42:D43) -> 0 | E44: TOTAL CB DCC | F44: =SUM(F42:F43) -> 0 | G44: =F44+D44-C44 -> 0
A45: AMEX | B45: AM - American express | E45: Télécollecte Amex physique
B46: AM - American express Restaurant | E46: Télécollecte Amex physique
B47: TOTAL AMEX PHYSIQUES | C47: =SUM(C45:C46) -> 0 | D47: =SUM(D45:D46) -> 0 | E47: TOTAL AMEX PHYSIQUES | F47: =SUM(F45:F46) -> 0 | G47: =F47+D47-C47 -> 0
B49: OAM - Amex Ogone | E49: Télécollecte Amex ogone
B50: OPAM - Ogone préauto amex | E50: Télécollecte ogone
B51: autres Amex | E51: Télécollecte ogone
B52: TOTAL AMEX OGONE | C52: =SUM(C49:C51) -> 0 | D52: =SUM(D49:D51) -> 0 | E52: TOTAL AMEX OGONE | F52: =SUM(F49:F51) -> 0 | G52: =F52+D52-C52 -> 0
B54: RAM - Régul Amex
B56: TOTAL AMEX PHYSIQUES+AMEX OGONE | C56: =C47+C52+C54 -> 0 | D56: =D47+D52+D54 -> 0 | E56: TOTAL AMEX PHYSIQUES+AMEX OGONE | F56: =F47+F52 -> 0 | G56: =F56+D56-C56 -> 0
A57: ELAVON | B57: CDE - Carte Diners club | E57: Télécollecte Diners
B58: Autres cartes diners | E58: Télécollecte Diners
B59: TOTAL DINERS | C59: =SUM(C57:C58) -> 0 | D59: =SUM(D57:D58) -> 0 | E59: TOTAL DINERS | F59: =SUM(F57:F58) -> 0 | G59: =F59+D59-C59 -> 0
A60: JCB | B60: JCB - JCB | E60: Télécollecte JCB
B61: OJC - JCB | E61: Télécollecte JCB
B62: CUP - China union pay | E62: Télécollecte CUP
B63: TOTAL JCB | C63: =SUM(C60:C62) -> 0 | D63: =SUM(D60:D62) -> 0 | E63: TOTAL JCB | F63: =SUM(F60:F62) -> 0 | G63: =F63+D63-C63 -> 0
A64: Total général | C64: PMS | D64: =C5+D5+C6+D6+C11+D11+C17+D17+C18+D18+C19+D19+C20+D20+C21+D21+C22+D22+C23+D23+C24+D24+C41+D41+C44+D44+C56+D56+C59+D59+C63+D63 -> 0 | F64: Remises bque | G64: =F5+F6+F11+F17+F18+F19+F20+F21+F22+F23+F24+F41+F44+F56+F59+F63 -> 0
A65: AUTRES COMMENTAIRES : | H65: Débiteurs divers
H66: Offerts
H67: TOTAL | I67: =+I65+I66+G64 -> 0

Sheet 18
A1: ='1'!A1:I1 -> HOTEL :
A2: ='1'!A2:G2+17 -> 43391
C3: FOLS | D3: LA BOUCHERIE, FLAM'S | E3: REMISE EN BANQUE | G3: ECART | H3: JUSTIFICATIONS DES ECARTS
A5: ESPECES | B5: CAS - Espèces et autres espèces | E5: Remise espèces | G5: =+F5-D5+C5 -> 0
B6: DEVISES ESPECES | E6: Remise devises espèces en euros | G6: =F6+D6-C6 -> 0
A7: CHEQUES | B7: CHE - Chèque banque | E7: Remise A
B8: CHE - Chèque client | E8: Remise B
B9: Chèques DD | E9: Remise C
B10: Autres chèques | E10: remise D
B11: TOTAL CHEQUES | C11: =SUM(C7:C10) -> 0 | D11: =SUM(D7:D10) -> 0 | E11: TOTAL CHEQUES | F11: =SUM(F7:F10) -> 0 | G11: =F11+D11-C11 -> 0
A12: VIREMENTS | B12: CVI - Virement | E12: Virements reçu
B13: DD | E13: Virements reçu
B14: DD | E14: Virements reçu
B15: DD | E15: Virements reçu
B16: Autres virements | E16: Virements reçu
B17: TOTAL VIREMENTS | C17: =SUM(C12:C16) -> 0 | D17: =SUM(D12:D16) -> 0 | E17: TOTAL VIREMENTS | F17: =SUM(F12:F16) -> 0 | G17: =F17+D17-C17 -> 0
A18: COUPONS | B18: TRE - Tickets Rest. | E18: Remise Tickets Resto | G18: =F18+D18-C18 -> 0
B19: TRECARD - Cartes tickets rest. | E19: TRECARD - Cartes tickets rest. | G19: =F19+D19-C19 -> 0
B20: CCV - Chèques vacances | E20: Remise Chq Vacances | G20: =F20+D20-C20 -> 0
B21: CCC - Chq compliment | E21: Remise chq compliment A | G21: =F21+D21-C21 -> 0
B22: CCA - Chèque cadeau ACCOR | E22: Remise chq compliment B | G22: =F22+D22-C22 -> 0
B23: ACA - LeClub-A rewards | E23: Remise Le Club A | G23: =F23+D23-C23 -> 0
B24: ACI - LeClub-A rewards € WE | E24: Remise Le Club A | G24: =F24+D24-C24 -> 0
A25: CARTES BLEUES | B25: CB - Carte bancaire | E25: Télécollecte CB physique
B26: CB SC - Carte bancaire sans contact | E26: Télécollecte CB physique
B27: CB VAD - Carte Manuelle | E27: Télécollecte CB physique
B28: CB - Restaurant | E28: Télécollecte CB physique
B29: CB SC - Restaurant sans contact | E29: CB SC - Restaurant sans contact
B30: TOTAL CB PHYSIQUES | C30: =SUM(C25:C29) -> 0 | D30: =SUM(D25:D28) -> 0 | E30: TOTAL CB PHYSIQUES | F30: =SUM(F25:F29) -> 0 | G30: =F30+D30-C30 -> 0
B32: OVI - Visa ogone | E32: Télécollecte CB ogone
B33: OEU - Ogone eurocard | E33: Télécollecte CB ogone
B34: OPEM - Ogone préauto euro/master | E34: Télécollecte CB ogone
B35: OPVI - Ogone préauto visa | E35: Télécollecte CB ogone
B36: autres cartes ogone | E36: Télécollecte CB ogone
B37: TOTAL CB OGONE | C37: =SUM(C32:C36) -> 0 | D37: =SUM(D32:D36) -> 0 | E37: TOTAL CB OGONE | F37: =SUM(F32:F36) -> 0 | G37: =F37+D37-C37 -> 0
B39: RCB - Régul CB
B41: TOTAL CB PHYSIQUES + CB OGONE | C41: =C30+C37+C39 -> 0 | D41: =D30+D37+D39 -> 0 | E41: TOTAL CB PHYSIQUES + CB OGONE | F41: =F30+F37 -> 0 | G41: =F41+D41-C41 -> 0
A42: DCC | B42: CB DCC | E42: Télécollecte DCC
B43: autres cartes DCC | E43: Télécollecte DCC
B44: TOTAL CB DCC | C44: =SUM(C42:C43) -> 0 | D44: =SUM(D42:D43) -> 0 | E44: TOTAL CB DCC | F44: =SUM(F42:F43) -> 0 | G44: =F44+D44-C44 -> 0
A45: AMEX | B45: AM - American express | E45: Télécollecte Amex physique
B46: AM - American express Restaurant | E46: Télécollecte Amex physique
B47: TOTAL AMEX PHYSIQUES | C47: =SUM(C45:C46) -> 0 | D47: =SUM(D45:D46) -> 0 | E47: TOTAL AMEX PHYSIQUES | F47: =SUM(F45:F46) -> 0 | G47: =F47+D47-C47 -> 0
B49: OAM - Amex Ogone | E49: Télécollecte Amex ogone
B50: OPAM - Ogone préauto amex | E50: Télécollecte ogone
B51: autres Amex | E51: Télécollecte ogone
B52: TOTAL AMEX OGONE | C52: =SUM(C49:C51) -> 0 | D52: =SUM(D49:D51) -> 0 | E52: TOTAL AMEX OGONE | F52: =SUM(F49:F51) -> 0 | G52: =F52+D52-C52 -> 0
B54: RAM - Régul Amex
B56: TOTAL AMEX PHYSIQUES+AMEX OGONE | C56: =C47+C52+C54 -> 0 | D56: =D47+D52+D54 -> 0 | E56: TOTAL AMEX PHYSIQUES+AMEX OGONE | F56: =F47+F52 -> 0 | G56: =F56+D56-C56 -> 0
A57: ELAVON | B57: CDE - Carte Diners club | E57: Télécollecte Diners
B58: Autres cartes diners | E58: Télécollecte Diners
B59: TOTAL DINERS | C59: =SUM(C57:C58) -> 0 | D59: =SUM(D57:D58) -> 0 | E59: TOTAL DINERS | F59: =SUM(F57:F58) -> 0 | G59: =F59+D59-C59 -> 0
A60: JCB | B60: JCB - JCB | E60: Télécollecte JCB
B61: OJC - JCB | E61: Télécollecte JCB
B62: CUP - China union pay | E62: Télécollecte CUP
B63: TOTAL JCB | C63: =SUM(C60:C62) -> 0 | D63: =SUM(D60:D62) -> 0 | E63: TOTAL JCB | F63: =SUM(F60:F62) -> 0 | G63: =F63+D63-C63 -> 0
A64: Total général | C64: PMS | D64: =C5+D5+C6+D6+C11+D11+C17+D17+C18+D18+C19+D19+C20+D20+C21+D21+C22+D22+C23+D23+C24+D24+C41+D41+C44+D44+C56+D56+C59+D59+C63+D63 -> 0 | F64: Remises bque | G64: =F5+F6+F11+F17+F18+F19+F20+F21+F22+F23+F24+F41+F44+F56+F59+F63 -> 0
A65: AUTRES COMMENTAIRES : | H65: Débiteurs divers
H66: Offerts
H67: TOTAL | I67: =+I65+I66+G64 -> 0

Sheet 19
A1: ='1'!A1:I1 -> HOTEL :
A2: ='1'!A2:G2+18 -> 43392
C3: FOLS | D3: LA BOUCHERIE, FLAM'S | E3: REMISE EN BANQUE | G3: ECART | H3: JUSTIFICATIONS DES ECARTS
A5: ESPECES | B5: CAS - Espèces et autres espèces | E5: Remise espèces | G5: =+F5-D5+C5 -> 0
B6: DEVISES ESPECES | E6: Remise devises espèces en euros | G6: =F6+D6-C6 -> 0
A7: CHEQUES | B7: CHE - Chèque banque | E7: Remise A
B8: CHE - Chèque client | E8: Remise B
B9: Chèques DD | E9: Remise C
B10: Autres chèques | E10: remise D
B11: TOTAL CHEQUES | C11: =SUM(C7:C10) -> 0 | D11: =SUM(D7:D10) -> 0 | E11: TOTAL CHEQUES | F11: =SUM(F7:F10) -> 0 | G11: =F11+D11-C11 -> 0
A12: VIREMENTS | B12: CVI - Virement | E12: Virements reçu
B13: DD | E13: Virements reçu
B14: DD | E14: Virements reçu
B15: DD | E15: Virements reçu
B16: Autres virements | E16: Virements reçu
B17: TOTAL VIREMENTS | C17: =SUM(C12:C16) -> 0 | D17: =SUM(D12:D16) -> 0 | E17: TOTAL VIREMENTS | F17: =SUM(F12:F16) -> 0 | G17: =F17+D17-C17 -> 0
A18: COUPONS | B18: TRE - Tickets Rest. | E18: Remise Tickets Resto | G18: =F18+D18-C18 -> 0
B19: TRECARD - Cartes tickets rest. | E19: TRECARD - Cartes tickets rest. | G19: =F19+D19-C19 -> 0
B20: CCV - Chèques vacances | E20: Remise Chq Vacances | G20: =F20+D20-C20 -> 0
B21: CCC - Chq compliment | E21: Remise chq compliment A | G21: =F21+D21-C21 -> 0
B22: CCA - Chèque cadeau ACCOR | E22: Remise chq compliment B | G22: =F22+D22-C22 -> 0
B23: ACA - LeClub-A rewards | E23: Remise Le Club A | G23: =F23+D23-C23 -> 0
B24: ACI - LeClub-A rewards € WE | E24: Remise Le Club A | G24: =F24+D24-C24 -> 0
A25: CARTES BLEUES | B25: CB - Carte bancaire | E25: Télécollecte CB physique
B26: CB SC - Carte bancaire sans contact | E26: Télécollecte CB physique
B27: CB VAD - Carte Manuelle | E27: Télécollecte CB physique
B28: CB - Restaurant | E28: Télécollecte CB physique
B29: CB SC - Restaurant sans contact | E29: CB SC - Restaurant sans contact
B30: TOTAL CB PHYSIQUES | C30: =SUM(C25:C29) -> 0 | D30: =SUM(D25:D28) -> 0 | E30: TOTAL CB PHYSIQUES | F30: =SUM(F25:F29) -> 0 | G30: =F30+D30-C30 -> 0
B32: OVI - Visa ogone | E32: Télécollecte CB ogone
B33: OEU - Ogone eurocard | E33: Télécollecte CB ogone
B34: OPEM - Ogone préauto euro/master | E34: Télécollecte CB ogone
B35: OPVI - Ogone préauto visa | E35: Télécollecte CB ogone
B36: autres cartes ogone | E36: Télécollecte CB ogone
B37: TOTAL CB OGONE | C37: =SUM(C32:C36) -> 0 | D37: =SUM(D32:D36) -> 0 | E37: TOTAL CB OGONE | F37: =SUM(F32:F36) -> 0 | G37: =F37+D37-C37 -> 0
B39: RCB - Régul CB
B41: TOTAL CB PHYSIQUES + CB OGONE | C41: =C30+C37+C39 -> 0 | D41: =D30+D37+D39 -> 0 | E41: TOTAL CB PHYSIQUES + CB OGONE | F41: =F30+F37 -> 0 | G41: =F41+D41-C41 -> 0
A42: DCC | B42: CB DCC | E42: Télécollecte DCC
B43: autres cartes DCC | E43: Télécollecte DCC
B44: TOTAL CB DCC | C44: =SUM(C42:C43) -> 0 | D44: =SUM(D42:D43) -> 0 | E44: TOTAL CB DCC | F44: =SUM(F42:F43) -> 0 | G44: =F44+D44-C44 -> 0
A45: AMEX | B45: AM - American express | E45: Télécollecte Amex physique
B46: AM - American express Restaurant | E46: Télécollecte Amex physique
B47: TOTAL AMEX PHYSIQUES | C47: =SUM(C45:C46) -> 0 | D47: =SUM(D45:D46) -> 0 | E47: TOTAL AMEX PHYSIQUES | F47: =SUM(F45:F46) -> 0 | G47: =F47+D47-C47 -> 0
B49: OAM - Amex Ogone | E49: Télécollecte Amex ogone
B50: OPAM - Ogone préauto amex | E50: Télécollecte ogone
B51: autres Amex | E51: Télécollecte ogone
B52: TOTAL AMEX OGONE | C52: =SUM(C49:C51) -> 0 | D52: =SUM(D49:D51) -> 0 | E52: TOTAL AMEX OGONE | F52: =SUM(F49:F51) -> 0 | G52: =F52+D52-C52 -> 0
B54: RAM - Régul Amex
B56: TOTAL AMEX PHYSIQUES+AMEX OGONE | C56: =C47+C52+C54 -> 0 | D56: =D47+D52+D54 -> 0 | E56: TOTAL AMEX PHYSIQUES+AMEX OGONE | F56: =F47+F52 -> 0 | G56: =F56+D56-C56 -> 0
A57: ELAVON | B57: CDE - Carte Diners club | E57: Télécollecte Diners
B58: Autres cartes diners | E58: Télécollecte Diners
B59: TOTAL DINERS | C59: =SUM(C57:C58) -> 0 | D59: =SUM(D57:D58) -> 0 | E59: TOTAL DINERS | F59: =SUM(F57:F58) -> 0 | G59: =F59+D59-C59 -> 0
A60: JCB | B60: JCB - JCB | E60: Télécollecte JCB
B61: OJC - JCB | E61: Télécollecte JCB
B62: CUP - China union pay | E62: Télécollecte CUP
B63: TOTAL JCB | C63: =SUM(C60:C62) -> 0 | D63: =SUM(D60:D62) -> 0 | E63: TOTAL JCB | F63: =SUM(F60:F62) -> 0 | G63: =F63+D63-C63 -> 0
A64: Total général | C64: PMS | D64: =C5+D5+C6+D6+C11+D11+C17+D17+C18+D18+C19+D19+C20+D20+C21+D21+C22+D22+C23+D23+C24+D24+C41+D41+C44+D44+C56+D56+C59+D59+C63+D63 -> 0 | F64: Remises bque | G64: =F5+F6+F11+F17+F18+F19+F20+F21+F22+F23+F24+F41+F44+F56+F59+F63 -> 0
A65: AUTRES COMMENTAIRES : | H65: Débiteurs divers
H66: Offerts
H67: TOTAL | I67: =+I65+I66+G64 -> 0

Sheet 20
A1: ='1'!A1:I1 -> HOTEL :
A2: ='1'!A2:G2+19 -> 43393
C3: FOLS | D3: LA BOUCHERIE, FLAM'S | E3: REMISE EN BANQUE | G3: ECART | H3: JUSTIFICATIONS DES ECARTS
A5: ESPECES | B5: CAS - Espèces et autres espèces | E5: Remise espèces | G5: =+F5-D5+C5 -> 0
B6: DEVISES ESPECES | E6: Remise devises espèces en euros | G6: =F6+D6-C6 -> 0
A7: CHEQUES | B7: CHE - Chèque banque | E7: Remise A
B8: CHE - Chèque client | E8: Remise B
B9: Chèques DD | E9: Remise C
B10: Autres chèques | E10: remise D
B11: TOTAL CHEQUES | C11: =SUM(C7:C10) -> 0 | D11: =SUM(D7:D10) -> 0 | E11: TOTAL CHEQUES | F11: =SUM(F7:F10) -> 0 | G11: =F11+D11-C11 -> 0
A12: VIREMENTS | B12: CVI - Virement | E12: Virements reçu
B13: DD | E13: Virements reçu
B14: DD | E14: Virements reçu
B15: DD | E15: Virements reçu
B16: Autres virements | E16: Virements reçu
B17: TOTAL VIREMENTS | C17: =SUM(C12:C16) -> 0 | D17: =SUM(D12:D16) -> 0 | E17: TOTAL VIREMENTS | F17: =SUM(F12:F16) -> 0 | G17: =F17+D17-C17 -> 0
A18: COUPONS | B18: TRE - Tickets Rest. | E18: Remise Tickets Resto | G18: =F18+D18-C18 -> 0
B19: TRECARD - Cartes tickets rest. | E19: TRECARD - Cartes tickets rest. | G19: =F19+D19-C19 -> 0
B20: CCV - Chèques vacances | E20: Remise Chq Vacances | G20: =F20+D20-C20 -> 0
B21: CCC - Chq compliment | E21: Remise chq compliment A | G21: =F21+D21-C21 -> 0
B22: CCA - Chèque cadeau ACCOR | E22: Remise chq compliment B | G22: =F22+D22-C22 -> 0
B23: ACA - LeClub-A rewards | E23: Remise Le Club A | G23: =F23+D23-C23 -> 0
B24: ACI - LeClub-A rewards € WE | E24: Remise Le Club A | G24: =F24+D24-C24 -> 0
A25: CARTES BLEUES | B25: CB - Carte bancaire | E25: Télécollecte CB physique
B26: CB SC - Carte bancaire sans contact | E26: Télécollecte CB physique
B27: CB VAD - Carte Manuelle | E27: Télécollecte CB physique
B28: CB - Restaurant | E28: Télécollecte CB physique
B29: CB SC - Restaurant sans contact | E29: CB SC - Restaurant sans contact
B30: TOTAL CB PHYSIQUES | C30: =SUM(C25:C29) -> 0 | D30: =SUM(D25:D28) -> 0 | E30: TOTAL CB PHYSIQUES | F30: =SUM(F25:F29) -> 0 | G30: =F30+D30-C30 -> 0
B32: OVI - Visa ogone | E32: Télécollecte CB ogone
B33: OEU - Ogone eurocard | E33: Télécollecte CB ogone
B34: OPEM - Ogone préauto euro/master | E34: Télécollecte CB ogone
B35: OPVI - Ogone préauto visa | E35: Télécollecte CB ogone
B36: autres cartes ogone | E36: Télécollecte CB ogone
B37: TOTAL CB OGONE | C37: =SUM(C32:C36) -> 0 | D37: =SUM(D32:D36) -> 0 | E37: TOTAL CB OGONE | F37: =SUM(F32:F36) -> 0 | G37: =F37+D37-C37 -> 0
B39: RCB - Régul CB
B41: TOTAL CB PHYSIQUES + CB OGONE | C41: =C30+C37+C39 -> 0 | D41: =D30+D37+D39 -> 0 | E41: TOTAL CB PHYSIQUES + CB OGONE | F41: =F30+F37 -> 0 | G41: =F41+D41-C41 -> 0
A42: DCC | B42: CB DCC | E42: Télécollecte DCC
B43: autres cartes DCC | E43: Télécollecte DCC
B44: TOTAL CB DCC | C44: =SUM(C42:C43) -> 0 | D44: =SUM(D42:D43) -> 0 | E44: TOTAL CB DCC | F44: =SUM(F42:F43) -> 0 | G44: =F44+D44-C44 -> 0
A45: AMEX | B45: AM - American express | E45: Télécollecte Amex physique
B46: AM - American express Restaurant | E46: Télécollecte Amex physique
B47: TOTAL AMEX PHYSIQUES | C47: =SUM(C45:C46) -> 0 | D47: =SUM(D45:D46) -> 0 | E47: TOTAL AMEX PHYSIQUES | F47: =SUM(F45:F46) -> 0 | G47: =F47+D47-C47 -> 0
B49: OAM - Amex Ogone | E49: Télécollecte Amex ogone
B50: OPAM - Ogone préauto amex | E50: Télécollecte ogone
B51: autres Amex | E51: Télécollecte ogone
B52: TOTAL AMEX OGONE | C52: =SUM(C49:C51) -> 0 | D52: =SUM(D49:D51) -> 0 | E52: TOTAL AMEX OGONE | F52: =SUM(F49:F51) -> 0 | G52: =F52+D52-C52 -> 0
B54: RAM - Régul Amex
B56: TOTAL AMEX PHYSIQUES+AMEX OGONE | C56: =C47+C52+C54 -> 0 | D56: =D47+D52+D54 -> 0 | E56: TOTAL AMEX PHYSIQUES+AMEX OGONE | F56: =F47+F52 -> 0 | G56: =F56+D56-C56 -> 0
A57: ELAVON | B57: CDE - Carte Diners club | E57: Télécollecte Diners
B58: Autres cartes diners | E58: Télécollecte Diners
B59: TOTAL DINERS | C59: =SUM(C57:C58) -> 0 | D59: =SUM(D57:D58) -> 0 | E59: TOTAL DINERS | F59: =SUM(F57:F58) -> 0 | G59: =F59+D59-C59 -> 0
A60: JCB | B60: JCB - JCB | E60: Télécollecte JCB
B61: OJC - JCB | E61: Télécollecte JCB
B62: CUP - China union pay | E62: Télécollecte CUP
B63: TOTAL JCB | C63: =SUM(C60:C62) -> 0 | D63: =SUM(D60:D62) -> 0 | E63: TOTAL JCB | F63: =SUM(F60:F62) -> 0 | G63: =F63+D63-C63 -> 0
A64: Total général | C64: PMS | D64: =C5+D5+C6+D6+C11+D11+C17+D17+C18+D18+C19+D19+C20+D20+C21+D21+C22+D22+C23+D23+C24+D24+C41+D41+C44+D44+C56+D56+C59+D59+C63+D63 -> 0 | F64: Remises bque | G64: =F5+F6+F11+F17+F18+F19+F20+F21+F22+F23+F24+F41+F44+F56+F59+F63 -> 0
A65: AUTRES COMMENTAIRES : | H65: Débiteurs divers
H66: Offerts
H67: TOTAL | I67: =+I65+I66+G64 -> 0

Sheet 21
A1: ='1'!A1:I1 -> HOTEL :
A2: ='1'!A2:G2+20 -> 43394
C3: FOLS | D3: LA BOUCHERIE, FLAM'S | E3: REMISE EN BANQUE | G3: ECART | H3: JUSTIFICATIONS DES ECARTS
A5: ESPECES | B5: CAS - Espèces et autres espèces | E5: Remise espèces | G5: =+F5-D5+C5 -> 0
B6: DEVISES ESPECES | E6: Remise devises espèces en euros | G6: =F6+D6-C6 -> 0
A7: CHEQUES | B7: CHE - Chèque banque | E7: Remise A
B8: CHE - Chèque client | E8: Remise B
B9: Chèques DD | E9: Remise C
B10: Autres chèques | E10: remise D
B11: TOTAL CHEQUES | C11: =SUM(C7:C10) -> 0 | D11: =SUM(D7:D10) -> 0 | E11: TOTAL CHEQUES | F11: =SUM(F7:F10) -> 0 | G11: =F11+D11-C11 -> 0
A12: VIREMENTS | B12: CVI - Virement | E12: Virements reçu
B13: DD | E13: Virements reçu
B14: DD | E14: Virements reçu
B15: DD | E15: Virements reçu
B16: Autres virements | E16: Virements reçu
B17: TOTAL VIREMENTS | C17: =SUM(C12:C16) -> 0 | D17: =SUM(D12:D16) -> 0 | E17: TOTAL VIREMENTS | F17: =SUM(F12:F16) -> 0 | G17: =F17+D17-C17 -> 0
A18: COUPONS | B18: TRE - Tickets Rest. | E18: Remise Tickets Resto | G18: =F18+D18-C18 -> 0
B19: TRECARD - Cartes tickets rest. | E19: TRECARD - Cartes tickets rest. | G19: =F19+D19-C19 -> 0
B20: CCV - Chèques vacances | E20: Remise Chq Vacances | G20: =F20+D20-C20 -> 0
B21: CCC - Chq compliment | E21: Remise chq compliment A | G21: =F21+D21-C21 -> 0
B22: CCA - Chèque cadeau ACCOR | E22: Remise chq compliment B | G22: =F22+D22-C22 -> 0
B23: ACA - LeClub-A rewards | E23: Remise Le Club A | G23: =F23+D23-C23 -> 0
B24: ACI - LeClub-A rewards € WE | E24: Remise Le Club A | G24: =F24+D24-C24 -> 0
A25: CARTES BLEUES | B25: CB - Carte bancaire | E25: Télécollecte CB physique
B26: CB SC - Carte bancaire sans contact | E26: Télécollecte CB physique
B27: CB VAD - Carte Manuelle | E27: Télécollecte CB physique
B28: CB - Restaurant | E28: Télécollecte CB physique
B29: CB SC - Restaurant sans contact | E29: CB SC - Restaurant sans contact
B30: TOTAL CB PHYSIQUES | C30: =SUM(C25:C29) -> 0 | D30: =SUM(D25:D28) -> 0 | E30: TOTAL CB PHYSIQUES | F30: =SUM(F25:F29) -> 0 | G30: =F30+D30-C30 -> 0
B32: OVI - Visa ogone | E32: Télécollecte CB ogone
B33: OEU - Ogone eurocard | E33: Télécollecte CB ogone
B34: OPEM - Ogone préauto euro/master | E34: Télécollecte CB ogone
B35: OPVI - Ogone préauto visa | E35: Télécollecte CB ogone
B36: autres cartes ogone | E36: Télécollecte CB ogone
B37: TOTAL CB OGONE | C37: =SUM(C32:C36) -> 0 | D37: =SUM(D32:D36) -> 0 | E37: TOTAL CB OGONE | F37: =SUM(F32:F36) -> 0 | G37: =F37+D37-C37 -> 0
B39: RCB - Régul CB
B41: TOTAL CB PHYSIQUES + CB OGONE | C41: =C30+C37+C39 -> 0 | D41: =D30+D37+D39 -> 0 | E41: TOTAL CB PHYSIQUES + CB OGONE | F41: =F30+F37 -> 0 | G41: =F41+D41-C41 -> 0
A42: DCC | B42: CB DCC | E42: Télécollecte DCC
B43: autres cartes DCC | E43: Télécollecte DCC
B44: TOTAL CB DCC | C44: =SUM(C42:C43) -> 0 | D44: =SUM(D42:D43) -> 0 | E44: TOTAL CB DCC | F44: =SUM(F42:F43) -> 0 | G44: =F44+D44-C44 -> 0
A45: AMEX | B45: AM - American express | E45: Télécollecte Amex physique
B46: AM - American express Restaurant | E46: Télécollecte Amex physique
B47: TOTAL AMEX PHYSIQUES | C47: =SUM(C45:C46) -> 0 | D47: =SUM(D45:D46) -> 0 | E47: TOTAL AMEX PHYSIQUES | F47: =SUM(F45:F46) -> 0 | G47: =F47+D47-C47 -> 0
B49: OAM - Amex Ogone | E49: Télécollecte Amex ogone
B50: OPAM - Ogone préauto amex | E50: Télécollecte ogone
B51: autres Amex | E51: Télécollecte ogone
B52: TOTAL AMEX OGONE | C52: =SUM(C49:C51) -> 0 | D52: =SUM(D49:D51) -> 0 | E52: TOTAL AMEX OGONE | F52: =SUM(F49:F51) -> 0 | G52: =F52+D52-C52 -> 0
B54: RAM - Régul Amex
B56: TOTAL AMEX PHYSIQUES+AMEX OGONE | C56: =C47+C52+C54 -> 0 | D56: =D47+D52+D54 -> 0 | E56: TOTAL AMEX PHYSIQUES+AMEX OGONE | F56: =F47+F52 -> 0 | G56: =F56+D56-C56 -> 0
A57: ELAVON | B57: CDE - Carte Diners club | E57: Télécollecte Diners
B58: Autres cartes diners | E58: Télécollecte Diners
B59: TOTAL DINERS | C59: =SUM(C57:C58) -> 0 | D59: =SUM(D57:D58) -> 0 | E59: TOTAL DINERS | F59: =SUM(F57:F58) -> 0 | G59: =F59+D59-C59 -> 0
A60: JCB | B60: JCB - JCB | E60: Télécollecte JCB
B61: OJC - JCB | E61: Télécollecte JCB
B62: CUP - China union pay | E62: Télécollecte CUP
B63: TOTAL JCB | C63: =SUM(C60:C62) -> 0 | D63: =SUM(D60:D62) -> 0 | E63: TOTAL JCB | F63: =SUM(F60:F62) -> 0 | G63: =F63+D63-C63 -> 0
A64: Total général | C64: PMS | D64: =C5+D5+C6+D6+C11+D11+C17+D17+C18+D18+C19+D19+C20+D20+C21+D21+C22+D22+C23+D23+C24+D24+C41+D41+C44+D44+C56+D56+C59+D59+C63+D63 -> 0 | F64: Remises bque | G64: =F5+F6+F11+F17+F18+F19+F20+F21+F22+F23+F24+F41+F44+F56+F59+F63 -> 0
A65: AUTRES COMMENTAIRES : | H65: Débiteurs divers
H66: Offerts
H67: TOTAL | I67: =+I65+I66+G64 -> 0

Sheet 22
A1: ='1'!A1:I1 -> HOTEL :
A2: ='1'!A2:G2+21 -> 43395
C3: FOLS | D3: LA BOUCHERIE, FLAM'S | E3: REMISE EN BANQUE | G3: ECART | H3: JUSTIFICATIONS DES ECARTS
A5: ESPECES | B5: CAS - Espèces et autres espèces | E5: Remise espèces | G5: =+F5-D5+C5 -> 0
B6: DEVISES ESPECES | E6: Remise devises espèces en euros | G6: =F6+D6-C6 -> 0
A7: CHEQUES | B7: CHE - Chèque banque | E7: Remise A
B8: CHE - Chèque client | E8: Remise B
B9: Chèques DD | E9: Remise C
B10: Autres chèques | E10: remise D
B11: TOTAL CHEQUES | C11: =SUM(C7:C10) -> 0 | D11: =SUM(D7:D10) -> 0 | E11: TOTAL CHEQUES | F11: =SUM(F7:F10) -> 0 | G11: =F11+D11-C11 -> 0
A12: VIREMENTS | B12: CVI - Virement | E12: Virements reçu
B13: DD | E13: Virements reçu
B14: DD | E14: Virements reçu
B15: DD | E15: Virements reçu
B16: Autres virements | E16: Virements reçu
B17: TOTAL VIREMENTS | C17: =SUM(C12:C16) -> 0 | D17: =SUM(D12:D16) -> 0 | E17: TOTAL VIREMENTS | F17: =SUM(F12:F16) -> 0 | G17: =F17+D17-C17 -> 0
A18: COUPONS | B18: TRE - Tickets Rest. | E18: Remise Tickets Resto | G18: =F18+D18-C18 -> 0
B19: TRECARD - Cartes tickets rest. | E19: TRECARD - Cartes tickets rest. | G19: =F19+D19-C19 -> 0
B20: CCV - Chèques vacances | E20: Remise Chq Vacances | G20: =F20+D20-C20 -> 0
B21: CCC - Chq compliment | E21: Remise chq compliment A | G21: =F21+D21-C21 -> 0
B22: CCA - Chèque cadeau ACCOR | E22: Remise chq compliment B | G22: =F22+D22-C22 -> 0
B23: ACA - LeClub-A rewards | E23: Remise Le Club A | G23: =F23+D23-C23 -> 0
B24: ACI - LeClub-A rewards € WE | E24: Remise Le Club A | G24: =F24+D24-C24 -> 0
A25: CARTES BLEUES | B25: CB - Carte bancaire | E25: Télécollecte CB physique
B26: CB SC - Carte bancaire sans contact | E26: Télécollecte CB physique
B27: CB VAD - Carte Manuelle | E27: Télécollecte CB physique
B28: CB - Restaurant | E28: Télécollecte CB physique
B29: CB SC - Restaurant sans contact | E29: CB SC - Restaurant sans contact
B30: TOTAL CB PHYSIQUES | C30: =SUM(C25:C29) -> 0 | D30: =SUM(D25:D28) -> 0 | E30: TOTAL CB PHYSIQUES | F30: =SUM(F25:F29) -> 0 | G30: =F30+D30-C30 -> 0
B32: OVI - Visa ogone | E32: Télécollecte CB ogone
B33: OEU - Ogone eurocard | E33: Télécollecte CB ogone
B34: OPEM - Ogone préauto euro/master | E34: Télécollecte CB ogone
B35: OPVI - Ogone préauto visa | E35: Télécollecte CB ogone
B36: autres cartes ogone | E36: Télécollecte CB ogone
B37: TOTAL CB OGONE | C37: =SUM(C32:C36) -> 0 | D37: =SUM(D32:D36) -> 0 | E37: TOTAL CB OGONE | F37: =SUM(F32:F36) -> 0 | G37: =F37+D37-C37 -> 0
B39: RCB - Régul CB
B41: TOTAL CB PHYSIQUES + CB OGONE | C41: =C30+C37+C39 -> 0 | D41: =D30+D37+D39 -> 0 | E41: TOTAL CB PHYSIQUES + CB OGONE | F41: =F30+F37 -> 0 | G41: =F41+D41-C41 -> 0
A42: DCC | B42: CB DCC | E42: Télécollecte DCC
B43: autres cartes DCC | E43: Télécollecte DCC
B44: TOTAL CB DCC | C44: =SUM(C42:C43) -> 0 | D44: =SUM(D42:D43) -> 0 | E44: TOTAL CB DCC | F44: =SUM(F42:F43) -> 0 | G44: =F44+D44-C44 -> 0
A45: AMEX | B45: AM - American express | E45: Télécollecte Amex physique
B46: AM - American express Restaurant | E46: Télécollecte Amex physique
B47: TOTAL AMEX PHYSIQUES | C47: =SUM(C45:C46) -> 0 | D47: =SUM(D45:D46) -> 0 | E47: TOTAL AMEX PHYSIQUES | F47: =SUM(F45:F46) -> 0 | G47: =F47+D47-C47 -> 0
B49: OAM - Amex Ogone | E49: Télécollecte Amex ogone
B50: OPAM - Ogone préauto amex | E50: Télécollecte ogone
B51: autres Amex | E51: Télécollecte ogone
B52: TOTAL AMEX OGONE | C52: =SUM(C49:C51) -> 0 | D52: =SUM(D49:D51) -> 0 | E52: TOTAL AMEX OGONE | F52: =SUM(F49:F51) -> 0 | G52: =F52+D52-C52 -> 0
B54: RAM - Régul Amex
B56: TOTAL AMEX PHYSIQUES+AMEX OGONE | C56: =C47+C52+C54 -> 0 | D56: =D47+D52+D54 -> 0 | E56: TOTAL AMEX PHYSIQUES+AMEX OGONE | F56: =F47+F52 -> 0 | G56: =F56+D56-C56 -> 0
A57: ELAVON | B57: CDE - Carte Diners club | E57: Télécollecte Diners
B58: Autres cartes diners | E58: Télécollecte Diners
B59: TOTAL DINERS | C59: =SUM(C57:C58) -> 0 | D59: =SUM(D57:D58) -> 0 | E59: TOTAL DINERS | F59: =SUM(F57:F58) -> 0 | G59: =F59+D59-C59 -> 0
A60: JCB | B60: JCB - JCB | E60: Télécollecte JCB
B61: OJC - JCB | E61: Télécollecte JCB
B62: CUP - China union pay | E62: Télécollecte CUP
B63: TOTAL JCB | C63: =SUM(C60:C62) -> 0 | D63: =SUM(D60:D62) -> 0 | E63: TOTAL JCB | F63: =SUM(F60:F62) -> 0 | G63: =F63+D63-C63 -> 0
A64: Total général | C64: PMS | D64: =C5+D5+C6+D6+C11+D11+C17+D17+C18+D18+C19+D19+C20+D20+C21+D21+C22+D22+C23+D23+C24+D24+C41+D41+C44+D44+C56+D56+C59+D59+C63+D63 -> 0 | F64: Remises bque | G64: =F5+F6+F11+F17+F18+F19+F20+F21+F22+F23+F24+F41+F44+F56+F59+F63 -> 0
A65: AUTRES COMMENTAIRES : | H65: Débiteurs divers
H66: Offerts
H67: TOTAL | I67: =+I65+I66+G64 -> 0

Sheet 23
A1: ='1'!A1:I1 -> HOTEL :
A2: ='1'!A2:G2+22 -> 43396
C3: FOLS | D3: LA BOUCHERIE, FLAM'S | E3: REMISE EN BANQUE | G3: ECART | H3: JUSTIFICATIONS DES ECARTS
A5: ESPECES | B5: CAS - Espèces et autres espèces | E5: Remise espèces | G5: =+F5-D5+C5 -> 0
B6: DEVISES ESPECES | E6: Remise devises espèces en euros | G6: =F6+D6-C6 -> 0
A7: CHEQUES | B7: CHE - Chèque banque | E7: Remise A
B8: CHE - Chèque client | E8: Remise B
B9: Chèques DD | E9: Remise C
B10: Autres chèques | E10: remise D
B11: TOTAL CHEQUES | C11: =SUM(C7:C10) -> 0 | D11: =SUM(D7:D10) -> 0 | E11: TOTAL CHEQUES | F11: =SUM(F7:F10) -> 0 | G11: =F11+D11-C11 -> 0
A12: VIREMENTS | B12: CVI - Virement | E12: Virements reçu
B13: DD | E13: Virements reçu
B14: DD | E14: Virements reçu
B15: DD | E15: Virements reçu
B16: Autres virements | E16: Virements reçu
B17: TOTAL VIREMENTS | C17: =SUM(C12:C16) -> 0 | D17: =SUM(D12:D16) -> 0 | E17: TOTAL VIREMENTS | F17: =SUM(F12:F16) -> 0 | G17: =F17+D17-C17 -> 0
A18: COUPONS | B18: TRE - Tickets Rest. | E18: Remise Tickets Resto | G18: =F18+D18-C18 -> 0
B19: TRECARD - Cartes tickets rest. | E19: TRECARD - Cartes tickets rest. | G19: =F19+D19-C19 -> 0
B20: CCV - Chèques vacances | E20: Remise Chq Vacances | G20: =F20+D20-C20 -> 0
B21: CCC - Chq compliment | E21: Remise chq compliment A | G21: =F21+D21-C21 -> 0
B22: CCA - Chèque cadeau ACCOR | E22: Remise chq compliment B | G22: =F22+D22-C22 -> 0
B23: ACA - LeClub-A rewards | E23: Remise Le Club A | G23: =F23+D23-C23 -> 0
B24: ACI - LeClub-A rewards € WE | E24: Remise Le Club A | G24: =F24+D24-C24 -> 0
A25: CARTES BLEUES | B25: CB - Carte bancaire | E25: Télécollecte CB physique
B26: CB SC - Carte bancaire sans contact | E26: Télécollecte CB physique
B27: CB VAD - Carte Manuelle | E27: Télécollecte CB physique
B28: CB - Restaurant | E28: Télécollecte CB physique
B29: CB SC - Restaurant sans contact | E29: CB SC - Restaurant sans contact
B30: TOTAL CB PHYSIQUES | C30: =SUM(C25:C29) -> 0 | D30: =SUM(D25:D28) -> 0 | E30: TOTAL CB PHYSIQUES | F30: =SUM(F25:F29) -> 0 | G30: =F30+D30-C30 -> 0
B32: OVI - Visa ogone | E32: Télécollecte CB ogone
B33: OEU - Ogone eurocard | E33: Télécollecte CB ogone
B34: OPEM - Ogone préauto euro/master | E34: Télécollecte CB ogone
B35: OPVI - Ogone préauto visa | E35: Télécollecte CB ogone
B36: autres cartes ogone | E36: Télécollecte CB ogone
B37: TOTAL CB OGONE | C37: =SUM(C32:C36) -> 0 | D37: =SUM(D32:D36) -> 0 | E37: TOTAL CB OGONE | F37: =SUM(F32:F36) -> 0 | G37: =F37+D37-C37 -> 0
B39: RCB - Régul CB
B41: TOTAL CB PHYSIQUES + CB OGONE | C41: =C30+C37+C39 -> 0 | D41: =D30+D37+D39 -> 0 | E41: TOTAL CB PHYSIQUES + CB OGONE | F41: =F30+F37 -> 0 | G41: =F41+D41-C41 -> 0
A42: DCC | B42: CB DCC | E42: Télécollecte DCC
B43: autres cartes DCC | E43: Télécollecte DCC
B44: TOTAL CB DCC | C44: =SUM(C42:C43) -> 0 | D44: =SUM(D42:D43) -> 0 | E44: TOTAL CB DCC | F44: =SUM(F42:F43) -> 0 | G44: =F44+D44-C44 -> 0
A45: AMEX | B45: AM - American express | E45: Télécollecte Amex physique
B46: AM - American express Restaurant | E46: Télécollecte Amex physique
B47: TOTAL AMEX PHYSIQUES | C47: =SUM(C45:C46) -> 0 | D47: =SUM(D45:D46) -> 0 | E47: TOTAL AMEX PHYSIQUES | F47: =SUM(F45:F46) -> 0 | G47: =F47+D47-C47 -> 0
B49: OAM - Amex Ogone | E49: Télécollecte Amex ogone
B50: OPAM - Ogone préauto amex | E50: Télécollecte ogone
B51: autres Amex | E51: Télécollecte ogone
B52: TOTAL AMEX OGONE | C52: =SUM(C49:C51) -> 0 | D52: =SUM(D49:D51) -> 0 | E52: TOTAL AMEX OGONE | F52: =SUM(F49:F51) -> 0 | G52: =F52+D52-C52 -> 0
B54: RAM - Régul Amex
B56: TOTAL AMEX PHYSIQUES+AMEX OGONE | C56: =C47+C52+C54 -> 0 | D56: =D47+D52+D54 -> 0 | E56: TOTAL AMEX PHYSIQUES+AMEX OGONE | F56: =F47+F52 -> 0 | G56: =F56+D56-C56 -> 0
A57: ELAVON | B57: CDE - Carte Diners club | E57: Télécollecte Diners
B58: Autres cartes diners | E58: Télécollecte Diners
B59: TOTAL DINERS | C59: =SUM(C57:C58) -> 0 | D59: =SUM(D57:D58) -> 0 | E59: TOTAL DINERS | F59: =SUM(F57:F58) -> 0 | G59: =F59+D59-C59 -> 0
A60: JCB | B60: JCB - JCB | E60: Télécollecte JCB
B61: OJC - JCB | E61: Télécollecte JCB
B62: CUP - China union pay | E62: Télécollecte CUP
B63: TOTAL JCB | C63: =SUM(C60:C62) -> 0 | D63: =SUM(D60:D62) -> 0 | E63: TOTAL JCB | F63: =SUM(F60:F62) -> 0 | G63: =F63+D63-C63 -> 0
A64: Total général | C64: PMS | D64: =C5+D5+C6+D6+C11+D11+C17+D17+C18+D18+C19+D19+C20+D20+C21+D21+C22+D22+C23+D23+C24+D24+C41+D41+C44+D44+C56+D56+C59+D59+C63+D63 -> 0 | F64: Remises bque | G64: =F5+F6+F11+F17+F18+F19+F20+F21+F22+F23+F24+F41+F44+F56+F59+F63 -> 0
A65: AUTRES COMMENTAIRES : | H65: Débiteurs divers
H66: Offerts
H67: TOTAL | I67: =+I65+I66+G64 -> 0

Sheet 24
A1: ='1'!A1:I1 -> HOTEL :
A2: ='1'!A2:G2+23 -> 43397
C3: FOLS | D3: LA BOUCHERIE, FLAM'S | E3: REMISE EN BANQUE | G3: ECART | H3: JUSTIFICATIONS DES ECARTS
A5: ESPECES | B5: CAS - Espèces et autres espèces | E5: Remise espèces | G5: =+F5-D5+C5 -> 0
B6: DEVISES ESPECES | E6: Remise devises espèces en euros | G6: =F6+D6-C6 -> 0
A7: CHEQUES | B7: CHE - Chèque banque | E7: Remise A
B8: CHE - Chèque client | E8: Remise B
B9: Chèques DD | E9: Remise C
B10: Autres chèques | E10: remise D
B11: TOTAL CHEQUES | C11: =SUM(C7:C10) -> 0 | D11: =SUM(D7:D10) -> 0 | E11: TOTAL CHEQUES | F11: =SUM(F7:F10) -> 0 | G11: =F11+D11-C11 -> 0
A12: VIREMENTS | B12: CVI - Virement | E12: Virements reçu
B13: DD | E13: Virements reçu
B14: DD | E14: Virements reçu
B15: DD | E15: Virements reçu
B16: Autres virements | E16: Virements reçu
B17: TOTAL VIREMENTS | C17: =SUM(C12:C16) -> 0 | D17: =SUM(D12:D16) -> 0 | E17: TOTAL VIREMENTS | F17: =SUM(F12:F16) -> 0 | G17: =F17+D17-C17 -> 0
A18: COUPONS | B18: TRE - Tickets Rest. | E18: Remise Tickets Resto | G18: =F18+D18-C18 -> 0
B19: TRECARD - Cartes tickets rest. | E19: TRECARD - Cartes tickets rest. | G19: =F19+D19-C19 -> 0
B20: CCV - Chèques vacances | E20: Remise Chq Vacances | G20: =F20+D20-C20 -> 0
B21: CCC - Chq compliment | E21: Remise chq compliment A | G21: =F21+D21-C21 -> 0
B22: CCA - Chèque cadeau ACCOR | E22: Remise chq compliment B | G22: =F22+D22-C22 -> 0
B23: ACA - LeClub-A rewards | E23: Remise Le Club A | G23: =F23+D23-C23 -> 0
B24: ACI - LeClub-A rewards € WE | E24: Remise Le Club A | G24: =F24+D24-C24 -> 0
A25: CARTES BLEUES | B25: CB - Carte bancaire | E25: Télécollecte CB physique
B26: CB SC - Carte bancaire sans contact | E26: Télécollecte CB physique
B27: CB VAD - Carte Manuelle | E27: Télécollecte CB physique
B28: CB - Restaurant | E28: Télécollecte CB physique
B29: CB SC - Restaurant sans contact | E29: CB SC - Restaurant sans contact
B30: TOTAL CB PHYSIQUES | C30: =SUM(C25:C29) -> 0 | D30: =SUM(D25:D28) -> 0 | E30: TOTAL CB PHYSIQUES | F30: =SUM(F25:F29) -> 0 | G30: =F30+D30-C30 -> 0
B32: OVI - Visa ogone | E32: Télécollecte CB ogone
B33: OEU - Ogone eurocard | E33: Télécollecte CB ogone
B34: OPEM - Ogone préauto euro/master | E34: Télécollecte CB ogone
B35: OPVI - Ogone préauto visa | E35: Télécollecte CB ogone
B36: autres cartes ogone | E36: Télécollecte CB ogone
B37: TOTAL CB OGONE | C37: =SUM(C32:C36) -> 0 | D37: =SUM(D32:D36) -> 0 | E37: TOTAL CB OGONE | F37: =SUM(F32:F36) -> 0 | G37: =F37+D37-C37 -> 0
B39: RCB - Régul CB
B41: TOTAL CB PHYSIQUES + CB OGONE | C41: =C30+C37+C39 -> 0 | D41: =D30+D37+D39 -> 0 | E41: TOTAL CB PHYSIQUES + CB OGONE | F41: =F30+F37 -> 0 | G41: =F41+D41-C41 -> 0
A42: DCC | B42: CB DCC | E42: Télécollecte DCC
B43: autres cartes DCC | E43: Télécollecte DCC
B44: TOTAL CB DCC | C44: =SUM(C42:C43) -> 0 | D44: =SUM(D42:D43) -> 0 | E44: TOTAL CB DCC | F44: =SUM(F42:F43) -> 0 | G44: =F44+D44-C44 -> 0
A45: AMEX | B45: AM - American express | E45: Télécollecte Amex physique
B46: AM - American express Restaurant | E46: Télécollecte Amex physique
B47: TOTAL AMEX PHYSIQUES | C47: =SUM(C45:C46) -> 0 | D47: =SUM(D45:D46) -> 0 | E47: TOTAL AMEX PHYSIQUES | F47: =SUM(F45:F46) -> 0 | G47: =F47+D47-C47 -> 0
B49: OAM - Amex Ogone | E49: Télécollecte Amex ogone
B50: OPAM - Ogone préauto amex | E50: Télécollecte ogone
B51: autres Amex | E51: Télécollecte ogone
B52: TOTAL AMEX OGONE | C52: =SUM(C49:C51) -> 0 | D52: =SUM(D49:D51) -> 0 | E52: TOTAL AMEX OGONE | F52: =SUM(F49:F51) -> 0 | G52: =F52+D52-C52 -> 0
B54: RAM - Régul Amex
B56: TOTAL AMEX PHYSIQUES+AMEX OGONE | C56: =C47+C52+C54 -> 0 | D56: =D47+D52+D54 -> 0 | E56: TOTAL AMEX PHYSIQUES+AMEX OGONE | F56: =F47+F52 -> 0 | G56: =F56+D56-C56 -> 0
A57: ELAVON | B57: CDE - Carte Diners club | E57: Télécollecte Diners
B58: Autres cartes diners | E58: Télécollecte Diners
B59: TOTAL DINERS | C59: =SUM(C57:C58) -> 0 | D59: =SUM(D57:D58) -> 0 | E59: TOTAL DINERS | F59: =SUM(F57:F58) -> 0 | G59: =F59+D59-C59 -> 0
A60: JCB | B60: JCB - JCB | E60: Télécollecte JCB
B61: OJC - JCB | E61: Télécollecte JCB
B62: CUP - China union pay | E62: Télécollecte CUP
B63: TOTAL JCB | C63: =SUM(C60:C62) -> 0 | D63: =SUM(D60:D62) -> 0 | E63: TOTAL JCB | F63: =SUM(F60:F62) -> 0 | G63: =F63+D63-C63 -> 0
A64: Total général | C64: PMS | D64: =C5+D5+C6+D6+C11+D11+C17+D17+C18+D18+C19+D19+C20+D20+C21+D21+C22+D22+C23+D23+C24+D24+C41+D41+C44+D44+C56+D56+C59+D59+C63+D63 -> 0 | F64: Remises bque | G64: =F5+F6+F11+F17+F18+F19+F20+F21+F22+F23+F24+F41+F44+F56+F59+F63 -> 0
A65: AUTRES COMMENTAIRES : | H65: Débiteurs divers
H66: Offerts
H67: TOTAL | I67: =+I65+I66+G64 -> 0

Sheet 25
A1: ='1'!A1:I1 -> HOTEL :
A2: ='1'!A2:G2+24 -> 43398
C3: FOLS | D3: LA BOUCHERIE, FLAM'S | E3: REMISE EN BANQUE | G3: ECART | H3: JUSTIFICATIONS DES ECARTS
A5: ESPECES | B5: CAS - Espèces et autres espèces | E5: Remise espèces | G5: =+F5-D5+C5 -> 0
B6: DEVISES ESPECES | E6: Remise devises espèces en euros | G6: =F6+D6-C6 -> 0
A7: CHEQUES | B7: CHE - Chèque banque | E7: Remise A
B8: CHE - Chèque client | E8: Remise B
B9: Chèques DD | E9: Remise C
B10: Autres chèques | E10: remise D
B11: TOTAL CHEQUES | C11: =SUM(C7:C10) -> 0 | D11: =SUM(D7:D10) -> 0 | E11: TOTAL CHEQUES | F11: =SUM(F7:F10) -> 0 | G11: =F11+D11-C11 -> 0
A12: VIREMENTS | B12: CVI - Virement | E12: Virements reçu
B13: DD | E13: Virements reçu
B14: DD | E14: Virements reçu
B15: DD | E15: Virements reçu
B16: Autres virements | E16: Virements reçu
B17: TOTAL VIREMENTS | C17: =SUM(C12:C16) -> 0 | D17: =SUM(D12:D16) -> 0 | E17: TOTAL VIREMENTS | F17: =SUM(F12:F16) -> 0 | G17: =F17+D17-C17 -> 0
A18: COUPONS | B18: TRE - Tickets Rest. | E18: Remise Tickets Resto | G18: =F18+D18-C18 -> 0
B19: TRECARD - Cartes tickets rest. | E19: TRECARD - Cartes tickets rest. | G19: =F19+D19-C19 -> 0
B20: CCV - Chèques vacances | E20: Remise Chq Vacances | G20: =F20+D20-C20 -> 0
B21: CCC - Chq compliment | E21: Remise chq compliment A | G21: =F21+D21-C21 -> 0
B22: CCA - Chèque cadeau ACCOR | E22: Remise chq compliment B | G22: =F22+D22-C22 -> 0
B23: ACA - LeClub-A rewards | E23: Remise Le Club A | G23: =F23+D23-C23 -> 0
B24: ACI - LeClub-A rewards € WE | E24: Remise Le Club A | G24: =F24+D24-C24 -> 0
A25: CARTES BLEUES | B25: CB - Carte bancaire | E25: Télécollecte CB physique
B26: CB SC - Carte bancaire sans contact | E26: Télécollecte CB physique
B27: CB VAD - Carte Manuelle | E27: Télécollecte CB physique
B28: CB - Restaurant | E28: Télécollecte CB physique
B29: CB SC - Restaurant sans contact | E29: CB SC - Restaurant sans contact
B30: TOTAL CB PHYSIQUES | C30: =SUM(C25:C29) -> 0 | D30: =SUM(D25:D28) -> 0 | E30: TOTAL CB PHYSIQUES | F30: =SUM(F25:F29) -> 0 | G30: =F30+D30-C30 -> 0
B32: OVI - Visa ogone | E32: Télécollecte CB ogone
B33: OEU - Ogone eurocard | E33: Télécollecte CB ogone
B34: OPEM - Ogone préauto euro/master | E34: Télécollecte CB ogone
B35: OPVI - Ogone préauto visa | E35: Télécollecte CB ogone
B36: autres cartes ogone | E36: Télécollecte CB ogone
B37: TOTAL CB OGONE | C37: =SUM(C32:C36) -> 0 | D37: =SUM(D32:D36) -> 0 | E37: TOTAL CB OGONE | F37: =SUM(F32:F36) -> 0 | G37: =F37+D37-C37 -> 0
B39: RCB - Régul CB
B41: TOTAL CB PHYSIQUES + CB OGONE | C41: =C30+C37+C39 -> 0 | D41: =D30+D37+D39 -> 0 | E41: TOTAL CB PHYSIQUES + CB OGONE | F41: =F30+F37 -> 0 | G41: =F41+D41-C41 -> 0
A42: DCC | B42: CB DCC | E42: Télécollecte DCC
B43: autres cartes DCC | E43: Télécollecte DCC
B44: TOTAL CB DCC | C44: =SUM(C42:C43) -> 0 | D44: =SUM(D42:D43) -> 0 | E44: TOTAL CB DCC | F44: =SUM(F42:F43) -> 0 | G44: =F44+D44-C44 -> 0
A45: AMEX | B45: AM - American express | E45: Télécollecte Amex physique
B46: AM - American express Restaurant | E46: Télécollecte Amex physique
B47: TOTAL AMEX PHYSIQUES | C47: =SUM(C45:C46) -> 0 | D47: =SUM(D45:D46) -> 0 | E47: TOTAL AMEX PHYSIQUES | F47: =SUM(F45:F46) -> 0 | G47: =F47+D47-C47 -> 0
B49: OAM - Amex Ogone | E49: Télécollecte Amex ogone
B50: OPAM - Ogone préauto amex | E50: Télécollecte ogone
B51: autres Amex | E51: Télécollecte ogone
B52: TOTAL AMEX OGONE | C52: =SUM(C49:C51) -> 0 | D52: =SUM(D49:D51) -> 0 | E52: TOTAL AMEX OGONE | F52: =SUM(F49:F51) -> 0 | G52: =F52+D52-C52 -> 0
B54: RAM - Régul Amex
B56: TOTAL AMEX PHYSIQUES+AMEX OGONE | C56: =C47+C52+C54 -> 0 | D56: =D47+D52+D54 -> 0 | E56: TOTAL AMEX PHYSIQUES+AMEX OGONE | F56: =F47+F52 -> 0 | G56: =F56+D56-C56 -> 0
A57: ELAVON | B57: CDE - Carte Diners club | E57: Télécollecte Diners
B58: Autres cartes diners | E58: Télécollecte Diners
B59: TOTAL DINERS | C59: =SUM(C57:C58) -> 0 | D59: =SUM(D57:D58) -> 0 | E59: TOTAL DINERS | F59: =SUM(F57:F58) -> 0 | G59: =F59+D59-C59 -> 0
A60: JCB | B60: JCB - JCB | E60: Télécollecte JCB
B61: OJC - JCB | E61: Télécollecte JCB
B62: CUP - China union pay | E62: Télécollecte CUP
B63: TOTAL JCB | C63: =SUM(C60:C62) -> 0 | D63: =SUM(D60:D62) -> 0 | E63: TOTAL JCB | F63: =SUM(F60:F62) -> 0 | G63: =F63+D63-C63 -> 0
A64: Total général | C64: PMS | D64: =C5+D5+C6+D6+C11+D11+C17+D17+C18+D18+C19+D19+C20+D20+C21+D21+C22+D22+C23+D23+C24+D24+C41+D41+C44+D44+C56+D56+C59+D59+C63+D63 -> 0 | F64: Remises bque | G64: =F5+F6+F11+F17+F18+F19+F20+F21+F22+F23+F24+F41+F44+F56+F59+F63 -> 0
A65: AUTRES COMMENTAIRES : | H65: Débiteurs divers
H66: Offerts
H67: TOTAL | I67: =+I65+I66+G64 -> 0

Sheet 26
A1: ='1'!A1:I1 -> HOTEL :
A2: ='1'!A2:G2+25 -> 43399
C3: FOLS | D3: LA BOUCHERIE, FLAM'S | E3: REMISE EN BANQUE | G3: ECART | H3: JUSTIFICATIONS DES ECARTS
A5: ESPECES | B5: CAS - Espèces et autres espèces | E5: Remise espèces | G5: =+F5-D5+C5 -> 0
B6: DEVISES ESPECES | E6: Remise devises espèces en euros | G6: =F6+D6-C6 -> 0
A7: CHEQUES | B7: CHE - Chèque banque | E7: Remise A
B8: CHE - Chèque client | E8: Remise B
B9: Chèques DD | E9: Remise C
B10: Autres chèques | E10: remise D
B11: TOTAL CHEQUES | C11: =SUM(C7:C10) -> 0 | D11: =SUM(D7:D10) -> 0 | E11: TOTAL CHEQUES | F11: =SUM(F7:F10) -> 0 | G11: =F11+D11-C11 -> 0
A12: VIREMENTS | B12: CVI - Virement | E12: Virements reçu
B13: DD | E13: Virements reçu
B14: DD | E14: Virements reçu
B15: DD | E15: Virements reçu
B16: Autres virements | E16: Virements reçu
B17: TOTAL VIREMENTS | C17: =SUM(C12:C16) -> 0 | D17: =SUM(D12:D16) -> 0 | E17: TOTAL VIREMENTS | F17: =SUM(F12:F16) -> 0 | G17: =F17+D17-C17 -> 0
A18: COUPONS | B18: TRE - Tickets Rest. | E18: Remise Tickets Resto | G18: =F18+D18-C18 -> 0
B19: TRECARD - Cartes tickets rest. | E19: TRECARD - Cartes tickets rest. | G19: =F19+D19-C19 -> 0
B20: CCV - Chèques vacances | E20: Remise Chq Vacances | G20: =F20+D20-C20 -> 0
B21: CCC - Chq compliment | E21: Remise chq compliment A | G21: =F21+D21-C21 -> 0
B22: CCA - Chèque cadeau ACCOR | E22: Remise chq compliment B | G22: =F22+D22-C22 -> 0
B23: ACA - LeClub-A rewards | E23: Remise Le Club A | G23: =F23+D23-C23 -> 0
B24: ACI - LeClub-A rewards € WE | E24: Remise Le Club A | G24: =F24+D24-C24 -> 0
A25: CARTES BLEUES | B25: CB - Carte bancaire | E25: Télécollecte CB physique
B26: CB SC - Carte bancaire sans contact | E26: Télécollecte CB physique
B27: CB VAD - Carte Manuelle | E27: Télécollecte CB physique
B28: CB - Restaurant | E28: Télécollecte CB physique
B29: CB SC - Restaurant sans contact | E29: CB SC - Restaurant sans contact
B30: TOTAL CB PHYSIQUES | C30: =SUM(C25:C29) -> 0 | D30: =SUM(D25:D28) -> 0 | E30: TOTAL CB PHYSIQUES | F30: =SUM(F25:F29) -> 0 | G30: =F30+D30-C30 -> 0
B32: OVI - Visa ogone | E32: Télécollecte CB ogone
B33: OEU - Ogone eurocard | E33: Télécollecte CB ogone
B34: OPEM - Ogone préauto euro/master | E34: Télécollecte CB ogone
B35: OPVI - Ogone préauto visa | E35: Télécollecte CB ogone
B36: autres cartes ogone | E36: Télécollecte CB ogone
B37: TOTAL CB OGONE | C37: =SUM(C32:C36) -> 0 | D37: =SUM(D32:D36) -> 0 | E37: TOTAL CB OGONE | F37: =SUM(F32:F36) -> 0 | G37: =F37+D37-C37 -> 0
B39: RCB - Régul CB
B41: TOTAL CB PHYSIQUES + CB OGONE | C41: =C30+C37+C39 -> 0 | D41: =D30+D37+D39 -> 0 | E41: TOTAL CB PHYSIQUES + CB OGONE | F41: =F30+F37 -> 0 | G41: =F41+D41-C41 -> 0
A42: DCC | B42: CB DCC | E42: Télécollecte DCC
B43: autres cartes DCC | E43: Télécollecte DCC
B44: TOTAL CB DCC | C44: =SUM(C42:C43) -> 0 | D44: =SUM(D42:D43) -> 0 | E44: TOTAL CB DCC | F44: =SUM(F42:F43) -> 0 | G44: =F44+D44-C44 -> 0
A45: AMEX | B45: AM - American express | E45: Télécollecte Amex physique
B46: AM - American express Restaurant | E46: Télécollecte Amex physique
B47: TOTAL AMEX PHYSIQUES | C47: =SUM(C45:C46) -> 0 | D47: =SUM(D45:D46) -> 0 | E47: TOTAL AMEX PHYSIQUES | F47: =SUM(F45:F46) -> 0 | G47: =F47+D47-C47 -> 0
B49: OAM - Amex Ogone | E49: Télécollecte Amex ogone
B50: OPAM - Ogone préauto amex | E50: Télécollecte ogone
B51: autres Amex | E51: Télécollecte ogone
B52: TOTAL AMEX OGONE | C52: =SUM(C49:C51) -> 0 | D52: =SUM(D49:D51) -> 0 | E52: TOTAL AMEX OGONE | F52: =SUM(F49:F51) -> 0 | G52: =F52+D52-C52 -> 0
B54: RAM - Régul Amex
B56: TOTAL AMEX PHYSIQUES+AMEX OGONE | C56: =C47+C52+C54 -> 0 | D56: =D47+D52+D54 -> 0 | E56: TOTAL AMEX PHYSIQUES+AMEX OGONE | F56: =F47+F52 -> 0 | G56: =F56+D56-C56 -> 0
A57: ELAVON | B57: CDE - Carte Diners club | E57: Télécollecte Diners
B58: Autres cartes diners | E58: Télécollecte Diners
B59: TOTAL DINERS | C59: =SUM(C57:C58) -> 0 | D59: =SUM(D57:D58) -> 0 | E59: TOTAL DINERS | F59: =SUM(F57:F58) -> 0 | G59: =F59+D59-C59 -> 0
A60: JCB | B60: JCB - JCB | E60: Télécollecte JCB
B61: OJC - JCB | E61: Télécollecte JCB
B62: CUP - China union pay | E62: Télécollecte CUP
B63: TOTAL JCB | C63: =SUM(C60:C62) -> 0 | D63: =SUM(D60:D62) -> 0 | E63: TOTAL JCB | F63: =SUM(F60:F62) -> 0 | G63: =F63+D63-C63 -> 0
A64: Total général | C64: PMS | D64: =C5+D5+C6+D6+C11+D11+C17+D17+C18+D18+C19+D19+C20+D20+C21+D21+C22+D22+C23+D23+C24+D24+C41+D41+C44+D44+C56+D56+C59+D59+C63+D63 -> 0 | F64: Remises bque | G64: =F5+F6+F11+F17+F18+F19+F20+F21+F22+F23+F24+F41+F44+F56+F59+F63 -> 0
A65: AUTRES COMMENTAIRES : | H65: Débiteurs divers
H66: Offerts
H67: TOTAL | I67: =+I65+I66+G64 -> 0

Sheet 27
A1: ='1'!A1:I1 -> HOTEL :
A2: ='1'!A2:G2+26 -> 43400
C3: FOLS | D3: LA BOUCHERIE, FLAM'S | E3: REMISE EN BANQUE | G3: ECART | H3: JUSTIFICATIONS DES ECARTS
A5: ESPECES | B5: CAS - Espèces et autres espèces | E5: Remise espèces | G5: =+F5-D5+C5 -> 0
B6: DEVISES ESPECES | E6: Remise devises espèces en euros | G6: =F6+D6-C6 -> 0
A7: CHEQUES | B7: CHE - Chèque banque | E7: Remise A
B8: CHE - Chèque client | E8: Remise B
B9: Chèques DD | E9: Remise C
B10: Autres chèques | E10: remise D
B11: TOTAL CHEQUES | C11: =SUM(C7:C10) -> 0 | D11: =SUM(D7:D10) -> 0 | E11: TOTAL CHEQUES | F11: =SUM(F7:F10) -> 0 | G11: =F11+D11-C11 -> 0
A12: VIREMENTS | B12: CVI - Virement | E12: Virements reçu
B13: DD | E13: Virements reçu
B14: DD | E14: Virements reçu
B15: DD | E15: Virements reçu
B16: Autres virements | E16: Virements reçu
B17: TOTAL VIREMENTS | C17: =SUM(C12:C16) -> 0 | D17: =SUM(D12:D16) -> 0 | E17: TOTAL VIREMENTS | F17: =SUM(F12:F16) -> 0 | G17: =F17+D17-C17 -> 0
A18: COUPONS | B18: TRE - Tickets Rest. | E18: Remise Tickets Resto | G18: =F18+D18-C18 -> 0
B19: TRECARD - Cartes tickets rest. | E19: TRECARD - Cartes tickets rest. | G19: =F19+D19-C19 -> 0
B20: CCV - Chèques vacances | E20: Remise Chq Vacances | G20: =F20+D20-C20 -> 0
B21: CCC - Chq compliment | E21: Remise chq compliment A | G21: =F21+D21-C21 -> 0
B22: CCA - Chèque cadeau ACCOR | E22: Remise chq compliment B | G22: =F22+D22-C22 -> 0
B23: ACA - LeClub-A rewards | E23: Remise Le Club A | G23: =F23+D23-C23 -> 0
B24: ACI - LeClub-A rewards € WE | E24: Remise Le Club A | G24: =F24+D24-C24 -> 0
A25: CARTES BLEUES | B25: CB - Carte bancaire | E25: Télécollecte CB physique
B26: CB SC - Carte bancaire sans contact | E26: Télécollecte CB physique
B27: CB VAD - Carte Manuelle | E27: Télécollecte CB physique
B28: CB - Restaurant | E28: Télécollecte CB physique
B29: CB SC - Restaurant sans contact | E29: CB SC - Restaurant sans contact
B30: TOTAL CB PHYSIQUES | C30: =SUM(C25:C29) -> 0 | D30: =SUM(D25:D28) -> 0 | E30: TOTAL CB PHYSIQUES | F30: =SUM(F25:F29) -> 0 | G30: =F30+D30-C30 -> 0
B32: OVI - Visa ogone | E32: Télécollecte CB ogone
B33: OEU - Ogone eurocard | E33: Télécollecte CB ogone
B34: OPEM - Ogone préauto euro/master | E34: Télécollecte CB ogone
B35: OPVI - Ogone préauto visa | E35: Télécollecte CB ogone
B36: autres cartes ogone | E36: Télécollecte CB ogone
B37: TOTAL CB OGONE | C37: =SUM(C32:C36) -> 0 | D37: =SUM(D32:D36) -> 0 | E37: TOTAL CB OGONE | F37: =SUM(F32:F36) -> 0 | G37: =F37+D37-C37 -> 0
B39: RCB - Régul CB
B41: TOTAL CB PHYSIQUES + CB OGONE | C41: =C30+C37+C39 -> 0 | D41: =D30+D37+D39 -> 0 | E41: TOTAL CB PHYSIQUES + CB OGONE | F41: =F30+F37 -> 0 | G41: =F41+D41-C41 -> 0
A42: DCC | B42: CB DCC | E42: Télécollecte DCC
B43: autres cartes DCC | E43: Télécollecte DCC
B44: TOTAL CB DCC | C44: =SUM(C42:C43) -> 0 | D44: =SUM(D42:D43) -> 0 | E44: TOTAL CB DCC | F44: =SUM(F42:F43) -> 0 | G44: =F44+D44-C44 -> 0
A45: AMEX | B45: AM - American express | E45: Télécollecte Amex physique
B46: AM - American express Restaurant | E46: Télécollecte Amex physique
B47: TOTAL AMEX PHYSIQUES | C47: =SUM(C45:C46) -> 0 | D47: =SUM(D45:D46) -> 0 | E47: TOTAL AMEX PHYSIQUES | F47: =SUM(F45:F46) -> 0 | G47: =F47+D47-C47 -> 0
B49: OAM - Amex Ogone | E49: Télécollecte Amex ogone
B50: OPAM - Ogone préauto amex | E50: Télécollecte ogone
B51: autres Amex | E51: Télécollecte ogone
B52: TOTAL AMEX OGONE | C52: =SUM(C49:C51) -> 0 | D52: =SUM(D49:D51) -> 0 | E52: TOTAL AMEX OGONE | F52: =SUM(F49:F51) -> 0 | G52: =F52+D52-C52 -> 0
B54: RAM - Régul Amex
B56: TOTAL AMEX PHYSIQUES+AMEX OGONE | C56: =C47+C52+C54 -> 0 | D56: =D47+D52+D54 -> 0 | E56: TOTAL AMEX PHYSIQUES+AMEX OGONE | F56: =F47+F52 -> 0 | G56: =F56+D56-C56 -> 0
A57: ELAVON | B57: CDE - Carte Diners club | E57: Télécollecte Diners
B58: Autres cartes diners | E58: Télécollecte Diners
B59: TOTAL DINERS | C59: =SUM(C57:C58) -> 0 | D59: =SUM(D57:D58) -> 0 | E59: TOTAL DINERS | F59: =SUM(F57:F58) -> 0 | G59: =F59+D59-C59 -> 0
A60: JCB | B60: JCB - JCB | E60: Télécollecte JCB
B61: OJC - JCB | E61: Télécollecte JCB
B62: CUP - China union pay | E62: Télécollecte CUP
B63: TOTAL JCB | C63: =SUM(C60:C62) -> 0 | D63: =SUM(D60:D62) -> 0 | E63: TOTAL JCB | F63: =SUM(F60:F62) -> 0 | G63: =F63+D63-C63 -> 0
A64: Total général | C64: PMS | D64: =C5+D5+C6+D6+C11+D11+C17+D17+C18+D18+C19+D19+C20+D20+C21+D21+C22+D22+C23+D23+C24+D24+C41+D41+C44+D44+C56+D56+C59+D59+C63+D63 -> 0 | F64: Remises bque | G64: =F5+F6+F11+F17+F18+F19+F20+F21+F22+F23+F24+F41+F44+F56+F59+F63 -> 0
A65: AUTRES COMMENTAIRES : | H65: Débiteurs divers
H66: Offerts
H67: TOTAL | I67: =+I65+I66+G64 -> 0

Sheet 28
A1: ='1'!A1:I1 -> HOTEL :
A2: ='1'!A2:G2+27 -> 43401
C3: FOLS | D3: LA BOUCHERIE, FLAM'S | E3: REMISE EN BANQUE | G3: ECART | H3: JUSTIFICATIONS DES ECARTS
A5: ESPECES | B5: CAS - Espèces et autres espèces | E5: Remise espèces | G5: =+F5-D5+C5 -> 0
B6: DEVISES ESPECES | E6: Remise devises espèces en euros | G6: =F6+D6-C6 -> 0
A7: CHEQUES | B7: CHE - Chèque banque | E7: Remise A
B8: CHE - Chèque client | E8: Remise B
B9: Chèques DD | E9: Remise C
B10: Autres chèques | E10: remise D
B11: TOTAL CHEQUES | C11: =SUM(C7:C10) -> 0 | D11: =SUM(D7:D10) -> 0 | E11: TOTAL CHEQUES | F11: =SUM(F7:F10) -> 0 | G11: =F11+D11-C11 -> 0
A12: VIREMENTS | B12: CVI - Virement | E12: Virements reçu
B13: DD | E13: Virements reçu
B14: DD | E14: Virements reçu
B15: DD | E15: Virements reçu
B16: Autres virements | E16: Virements reçu
B17: TOTAL VIREMENTS | C17: =SUM(C12:C16) -> 0 | D17: =SUM(D12:D16) -> 0 | E17: TOTAL VIREMENTS | F17: =SUM(F12:F16) -> 0 | G17: =F17+D17-C17 -> 0
A18: COUPONS | B18: TRE - Tickets Rest. | E18: Remise Tickets Resto | G18: =F18+D18-C18 -> 0
B19: TRECARD - Cartes tickets rest. | E19: TRECARD - Cartes tickets rest. | G19: =F19+D19-C19 -> 0
B20: CCV - Chèques vacances | E20: Remise Chq Vacances | G20: =F20+D20-C20 -> 0
B21: CCC - Chq compliment | E21: Remise chq compliment A | G21: =F21+D21-C21 -> 0
B22: CCA - Chèque cadeau ACCOR | E22: Remise chq compliment B | G22: =F22+D22-C22 -> 0
B23: ACA - LeClub-A rewards | E23: Remise Le Club A | G23: =F23+D23-C23 -> 0
B24: ACI - LeClub-A rewards € WE | E24: Remise Le Club A | G24: =F24+D24-C24 -> 0
A25: CARTES BLEUES | B25: CB - Carte bancaire | E25: Télécollecte CB physique
B26: CB SC - Carte bancaire sans contact | E26: Télécollecte CB physique
B27: CB VAD - Carte Manuelle | E27: Télécollecte CB physique
B28: CB - Restaurant | E28: Télécollecte CB physique
B29: CB SC - Restaurant sans contact | E29: CB SC - Restaurant sans contact
B30: TOTAL CB PHYSIQUES | C30: =SUM(C25:C29) -> 0 | D30: =SUM(D25:D28) -> 0 | E30: TOTAL CB PHYSIQUES | F30: =SUM(F25:F29) -> 0 | G30: =F30+D30-C30 -> 0
B32: OVI - Visa ogone | E32: Télécollecte CB ogone
B33: OEU - Ogone eurocard | E33: Télécollecte CB ogone
B34: OPEM - Ogone préauto euro/master | E34: Télécollecte CB ogone
B35: OPVI - Ogone préauto visa | E35: Télécollecte CB ogone
B36: autres cartes ogone | E36: Télécollecte CB ogone
B37: TOTAL CB OGONE | C37: =SUM(C32:C36) -> 0 | D37: =SUM(D32:D36) -> 0 | E37: TOTAL CB OGONE | F37: =SUM(F32:F36) -> 0 | G37: =F37+D37-C37 -> 0
B39: RCB - Régul CB
B41: TOTAL CB PHYSIQUES + CB OGONE | C41: =C30+C37+C39 -> 0 | D41: =D30+D37+D39 -> 0 | E41: TOTAL CB PHYSIQUES + CB OGONE | F41: =F30+F37 -> 0 | G41: =F41+D41-C41 -> 0
A42: DCC | B42: CB DCC | E42: Télécollecte DCC
B43: autres cartes DCC | E43: Télécollecte DCC
B44: TOTAL CB DCC | C44: =SUM(C42:C43) -> 0 | D44: =SUM(D42:D43) -> 0 | E44: TOTAL CB DCC | F44: =SUM(F42:F43) -> 0 | G44: =F44+D44-C44 -> 0
A45: AMEX | B45: AM - American express | E45: Télécollecte Amex physique
B46: AM - American express Restaurant | E46: Télécollecte Amex physique
B47: TOTAL AMEX PHYSIQUES | C47: =SUM(C45:C46) -> 0 | D47: =SUM(D45:D46) -> 0 | E47: TOTAL AMEX PHYSIQUES | F47: =SUM(F45:F46) -> 0 | G47: =F47+D47-C47 -> 0
B49: OAM - Amex Ogone | E49: Télécollecte Amex ogone
B50: OPAM - Ogone préauto amex | E50: Télécollecte ogone
B51: autres Amex | E51: Télécollecte ogone
B52: TOTAL AMEX OGONE | C52: =SUM(C49:C51) -> 0 | D52: =SUM(D49:D51) -> 0 | E52: TOTAL AMEX OGONE | F52: =SUM(F49:F51) -> 0 | G52: =F52+D52-C52 -> 0
B54: RAM - Régul Amex
B56: TOTAL AMEX PHYSIQUES+AMEX OGONE | C56: =C47+C52+C54 -> 0 | D56: =D47+D52+D54 -> 0 | E56: TOTAL AMEX PHYSIQUES+AMEX OGONE | F56: =F47+F52 -> 0 | G56: =F56+D56-C56 -> 0
A57: ELAVON | B57: CDE - Carte Diners club | E57: Télécollecte Diners
B58: Autres cartes diners | E58: Télécollecte Diners
B59: TOTAL DINERS | C59: =SUM(C57:C58) -> 0 | D59: =SUM(D57:D58) -> 0 | E59: TOTAL DINERS | F59: =SUM(F57:F58) -> 0 | G59: =F59+D59-C59 -> 0
A60: JCB | B60: JCB - JCB | E60: Télécollecte JCB
B61: OJC - JCB | E61: Télécollecte JCB
B62: CUP - China union pay | E62: Télécollecte CUP
B63: TOTAL JCB | C63: =SUM(C60:C62) -> 0 | D63: =SUM(D60:D62) -> 0 | E63: TOTAL JCB | F63: =SUM(F60:F62) -> 0 | G63: =F63+D63-C63 -> 0
A64: Total général | C64: PMS | D64: =C5+D5+C6+D6+C11+D11+C17+D17+C18+D18+C19+D19+C20+D20+C21+D21+C22+D22+C23+D23+C24+D24+C41+D41+C44+D44+C56+D56+C59+D59+C63+D63 -> 0 | F64: Remises bque | G64: =F5+F6+F11+F17+F18+F19+F20+F21+F22+F23+F24+F41+F44+F56+F59+F63 -> 0
A65: AUTRES COMMENTAIRES : | H65: Débiteurs divers
H66: Offerts
H67: TOTAL | I67: =+I65+I66+G64 -> 0

Sheet 29
A1: ='1'!A1:I1 -> HOTEL :
A2: ='1'!A2:G2+28 -> 43402
C3: FOLS | D3: LA BOUCHERIE, FLAM'S | E3: REMISE EN BANQUE | G3: ECART | H3: JUSTIFICATIONS DES ECARTS
A5: ESPECES | B5: CAS - Espèces et autres espèces | E5: Remise espèces | G5: =+F5-D5+C5 -> 0
B6: DEVISES ESPECES | E6: Remise devises espèces en euros | G6: =F6+D6-C6 -> 0
A7: CHEQUES | B7: CHE - Chèque banque | E7: Remise A
B8: CHE - Chèque client | E8: Remise B
B9: Chèques DD | E9: Remise C
B10: Autres chèques | E10: remise D
B11: TOTAL CHEQUES | C11: =SUM(C7:C10) -> 0 | D11: =SUM(D7:D10) -> 0 | E11: TOTAL CHEQUES | F11: =SUM(F7:F10) -> 0 | G11: =F11+D11-C11 -> 0
A12: VIREMENTS | B12: CVI - Virement | E12: Virements reçu
B13: DD | E13: Virements reçu
B14: DD | E14: Virements reçu
B15: DD | E15: Virements reçu
B16: Autres virements | E16: Virements reçu
B17: TOTAL VIREMENTS | C17: =SUM(C12:C16) -> 0 | D17: =SUM(D12:D16) -> 0 | E17: TOTAL VIREMENTS | F17: =SUM(F12:F16) -> 0 | G17: =F17+D17-C17 -> 0
A18: COUPONS | B18: TRE - Tickets Rest. | E18: Remise Tickets Resto | G18: =F18+D18-C18 -> 0
B19: TRECARD - Cartes tickets rest. | E19: TRECARD - Cartes tickets rest. | G19: =F19+D19-C19 -> 0
B20: CCV - Chèques vacances | E20: Remise Chq Vacances | G20: =F20+D20-C20 -> 0
B21: CCC - Chq compliment | E21: Remise chq compliment A | G21: =F21+D21-C21 -> 0
B22: CCA - Chèque cadeau ACCOR | E22: Remise chq compliment B | G22: =F22+D22-C22 -> 0
B23: ACA - LeClub-A rewards | E23: Remise Le Club A | G23: =F23+D23-C23 -> 0
B24: ACI - LeClub-A rewards € WE | E24: Remise Le Club A | G24: =F24+D24-C24 -> 0
A25: CARTES BLEUES | B25: CB - Carte bancaire | E25: Télécollecte CB physique
B26: CB SC - Carte bancaire sans contact | E26: Télécollecte CB physique
B27: CB VAD - Carte Manuelle | E27: Télécollecte CB physique
B28: CB - Restaurant | E28: Télécollecte CB physique
B29: CB SC - Restaurant sans contact | E29: CB SC - Restaurant sans contact
B30: TOTAL CB PHYSIQUES | C30: =SUM(C25:C29) -> 0 | D30: =SUM(D25:D28) -> 0 | E30: TOTAL CB PHYSIQUES | F30: =SUM(F25:F29) -> 0 | G30: =F30+D30-C30 -> 0
B32: OVI - Visa ogone | E32: Télécollecte CB ogone
B33: OEU - Ogone eurocard | E33: Télécollecte CB ogone
B34: OPEM - Ogone préauto euro/master | E34: Télécollecte CB ogone
B35: OPVI - Ogone préauto visa | E35: Télécollecte CB ogone
B36: autres cartes ogone | E36: Télécollecte CB ogone
B37: TOTAL CB OGONE | C37: =SUM(C32:C36) -> 0 | D37: =SUM(D32:D36) -> 0 | E37: TOTAL CB OGONE | F37: =SUM(F32:F36) -> 0 | G37: =F37+D37-C37 -> 0
B39: RCB - Régul CB
B41: TOTAL CB PHYSIQUES + CB OGONE | C41: =C30+C37+C39 -> 0 | D41: =D30+D37+D39 -> 0 | E41: TOTAL CB PHYSIQUES + CB OGONE | F41: =F30+F37 -> 0 | G41: =F41+D41-C41 -> 0
A42: DCC | B42: CB DCC | E42: Télécollecte DCC
B43: autres cartes DCC | E43: Télécollecte DCC
B44: TOTAL CB DCC | C44: =SUM(C42:C43) -> 0 | D44: =SUM(D42:D43) -> 0 | E44: TOTAL CB DCC | F44: =SUM(F42:F43) -> 0 | G44: =F44+D44-C44 -> 0
A45: AMEX | B45: AM - American express | E45: Télécollecte Amex physique
B46: AM - American express Restaurant | E46: Télécollecte Amex physique
B47: TOTAL AMEX PHYSIQUES | C47: =SUM(C45:C46) -> 0 | D47: =SUM(D45:D46) -> 0 | E47: TOTAL AMEX PHYSIQUES | F47: =SUM(F45:F46) -> 0 | G47: =F47+D47-C47 -> 0
B49: OAM - Amex Ogone | E49: Télécollecte Amex ogone
B50: OPAM - Ogone préauto amex | E50: Télécollecte ogone
B51: autres Amex | E51: Télécollecte ogone
B52: TOTAL AMEX OGONE | C52: =SUM(C49:C51) -> 0 | D52: =SUM(D49:D51) -> 0 | E52: TOTAL AMEX OGONE | F52: =SUM(F49:F51) -> 0 | G52: =F52+D52-C52 -> 0
B54: RAM - Régul Amex
B56: TOTAL AMEX PHYSIQUES+AMEX OGONE | C56: =C47+C52+C54 -> 0 | D56: =D47+D52+D54 -> 0 | E56: TOTAL AMEX PHYSIQUES+AMEX OGONE | F56: =F47+F52 -> 0 | G56: =F56+D56-C56 -> 0
A57: ELAVON | B57: CDE - Carte Diners club | E57: Télécollecte Diners
B58: Autres cartes diners | E58: Télécollecte Diners
B59: TOTAL DINERS | C59: =SUM(C57:C58) -> 0 | D59: =SUM(D57:D58) -> 0 | E59: TOTAL DINERS | F59: =SUM(F57:F58) -> 0 | G59: =F59+D59-C59 -> 0
A60: JCB | B60: JCB - JCB | E60: Télécollecte JCB
B61: OJC - JCB | E61: Télécollecte JCB
B62: CUP - China union pay | E62: Télécollecte CUP
B63: TOTAL JCB | C63: =SUM(C60:C62) -> 0 | D63: =SUM(D60:D62) -> 0 | E63: TOTAL JCB | F63: =SUM(F60:F62) -> 0 | G63: =F63+D63-C63 -> 0
A64: Total général | C64: PMS | D64: =C5+D5+C6+D6+C11+D11+C17+D17+C18+D18+C19+D19+C20+D20+C21+D21+C22+D22+C23+D23+C24+D24+C41+D41+C44+D44+C56+D56+C59+D59+C63+D63 -> 0 | F64: Remises bque | G64: =F5+F6+F11+F17+F18+F19+F20+F21+F22+F23+F24+F41+F44+F56+F59+F63 -> 0
A65: AUTRES COMMENTAIRES : | H65: Débiteurs divers
H66: Offerts
H67: TOTAL | I67: =+I65+I66+G64 -> 0

Sheet 30
A1: ='1'!A1:I1 -> HOTEL :
A2: ='1'!A2:G2+29 -> 43403
C3: FOLS | D3: LA BOUCHERIE, FLAM'S | E3: REMISE EN BANQUE | G3: ECART | H3: JUSTIFICATIONS DES ECARTS
A5: ESPECES | B5: CAS - Espèces et autres espèces | E5: Remise espèces | G5: =+F5-D5+C5 -> 0
B6: DEVISES ESPECES | E6: Remise devises espèces en euros | G6: =F6+D6-C6 -> 0
A7: CHEQUES | B7: CHE - Chèque banque | E7: Remise A
B8: CHE - Chèque client | E8: Remise B
B9: Chèques DD | E9: Remise C
B10: Autres chèques | E10: remise D
B11: TOTAL CHEQUES | C11: =SUM(C7:C10) -> 0 | D11: =SUM(D7:D10) -> 0 | E11: TOTAL CHEQUES | F11: =SUM(F7:F10) -> 0 | G11: =F11+D11-C11 -> 0
A12: VIREMENTS | B12: CVI - Virement | E12: Virements reçu
B13: DD | E13: Virements reçu
B14: DD | E14: Virements reçu
B15: DD | E15: Virements reçu
B16: Autres virements | E16: Virements reçu
B17: TOTAL VIREMENTS | C17: =SUM(C12:C16) -> 0 | D17: =SUM(D12:D16) -> 0 | E17: TOTAL VIREMENTS | F17: =SUM(F12:F16) -> 0 | G17: =F17+D17-C17 -> 0
A18: COUPONS | B18: TRE - Tickets Rest. | E18: Remise Tickets Resto | G18: =F18+D18-C18 -> 0
B19: TRECARD - Cartes tickets rest. | E19: TRECARD - Cartes tickets rest. | G19: =F19+D19-C19 -> 0
B20: CCV - Chèques vacances | E20: Remise Chq Vacances | G20: =F20+D20-C20 -> 0
B21: CCC - Chq compliment | E21: Remise chq compliment A | G21: =F21+D21-C21 -> 0
B22: CCA - Chèque cadeau ACCOR | E22: Remise chq compliment B | G22: =F22+D22-C22 -> 0
B23: ACA - LeClub-A rewards | E23: Remise Le Club A | G23: =F23+D23-C23 -> 0
B24: ACI - LeClub-A rewards € WE | E24: Remise Le Club A | G24: =F24+D24-C24 -> 0
A25: CARTES BLEUES | B25: CB - Carte bancaire | E25: Télécollecte CB physique
B26: CB SC - Carte bancaire sans contact | E26: Télécollecte CB physique
B27: CB VAD - Carte Manuelle | E27: Télécollecte CB physique
B28: CB - Restaurant | E28: Télécollecte CB physique
B29: CB SC - Restaurant sans contact | E29: CB SC - Restaurant sans contact
B30: TOTAL CB PHYSIQUES | C30: =SUM(C25:C29) -> 0 | D30: =SUM(D25:D28) -> 0 | E30: TOTAL CB PHYSIQUES | F30: =SUM(F25:F29) -> 0 | G30: =F30+D30-C30 -> 0
B32: OVI - Visa ogone | E32: Télécollecte CB ogone
B33: OEU - Ogone eurocard | E33: Télécollecte CB ogone
B34: OPEM - Ogone préauto euro/master | E34: Télécollecte CB ogone
B35: OPVI - Ogone préauto visa | E35: Télécollecte CB ogone
B36: autres cartes ogone | E36: Télécollecte CB ogone
B37: TOTAL CB OGONE | C37: =SUM(C32:C36) -> 0 | D37: =SUM(D32:D36) -> 0 | E37: TOTAL CB OGONE | F37: =SUM(F32:F36) -> 0 | G37: =F37+D37-C37 -> 0
B39: RCB - Régul CB
B41: TOTAL CB PHYSIQUES + CB OGONE | C41: =C30+C37+C39 -> 0 | D41: =D30+D37+D39 -> 0 | E41: TOTAL CB PHYSIQUES + CB OGONE | F41: =F30+F37 -> 0 | G41: =F41+D41-C41 -> 0
A42: DCC | B42: CB DCC | E42: Télécollecte DCC
B43: autres cartes DCC | E43: Télécollecte DCC
B44: TOTAL CB DCC | C44: =SUM(C42:C43) -> 0 | D44: =SUM(D42:D43) -> 0 | E44: TOTAL CB DCC | F44: =SUM(F42:F43) -> 0 | G44: =F44+D44-C44 -> 0
A45: AMEX | B45: AM - American express | E45: Télécollecte Amex physique
B46: AM - American express Restaurant | E46: Télécollecte Amex physique
B47: TOTAL AMEX PHYSIQUES | C47: =SUM(C45:C46) -> 0 | D47: =SUM(D45:D46) -> 0 | E47: TOTAL AMEX PHYSIQUES | F47: =SUM(F45:F46) -> 0 | G47: =F47+D47-C47 -> 0
B49: OAM - Amex Ogone | E49: Télécollecte Amex ogone
B50: OPAM - Ogone préauto amex | E50: Télécollecte ogone
B51: autres Amex | E51: Télécollecte ogone
B52: TOTAL AMEX OGONE | C52: =SUM(C49:C51) -> 0 | D52: =SUM(D49:D51) -> 0 | E52: TOTAL AMEX OGONE | F52: =SUM(F49:F51) -> 0 | G52: =F52+D52-C52 -> 0
B54: RAM - Régul Amex
B56: TOTAL AMEX PHYSIQUES+AMEX OGONE | C56: =C47+C52+C54 -> 0 | D56: =D47+D52+D54 -> 0 | E56: TOTAL AMEX PHYSIQUES+AMEX OGONE | F56: =F47+F52 -> 0 | G56: =F56+D56-C56 -> 0
A57: ELAVON | B57: CDE - Carte Diners club | E57: Télécollecte Diners
B58: Autres cartes diners | E58: Télécollecte Diners
B59: TOTAL DINERS | C59: =SUM(C57:C58) -> 0 | D59: =SUM(D57:D58) -> 0 | E59: TOTAL DINERS | F59: =SUM(F57:F58) -> 0 | G59: =F59+D59-C59 -> 0
A60: JCB | B60: JCB - JCB | E60: Télécollecte JCB
B61: OJC - JCB | E61: Télécollecte JCB
B62: CUP - China union pay | E62: Télécollecte CUP
B63: TOTAL JCB | C63: =SUM(C60:C62) -> 0 | D63: =SUM(D60:D62) -> 0 | E63: TOTAL JCB | F63: =SUM(F60:F62) -> 0 | G63: =F63+D63-C63 -> 0
A64: Total général | C64: PMS | D64: =C5+D5+C6+D6+C11+D11+C17+D17+C18+D18+C19+D19+C20+D20+C21+D21+C22+D22+C23+D23+C24+D24+C41+D41+C44+D44+C56+D56+C59+D59+C63+D63 -> 0 | F64: Remises bque | G64: =F5+F6+F11+F17+F18+F19+F20+F21+F22+F23+F24+F41+F44+F56+F59+F63 -> 0
A65: AUTRES COMMENTAIRES : | H65: Débiteurs divers
H66: Offerts
H67: TOTAL | I67: =+I65+I66+G64 -> 0

Sheet 31
A1: ='1'!A1:I1 -> HOTEL :
A2: ='1'!A2:G2+30 -> 43404
C3: FOLS | D3: LA BOUCHERIE, FLAM'S | E3: REMISE EN BANQUE | G3: ECART | H3: JUSTIFICATIONS DES ECARTS
A5: ESPECES | B5: CAS - Espèces et autres espèces | E5: Remise espèces | G5: =+F5-D5+C5 -> 0
B6: DEVISES ESPECES | E6: Remise devises espèces en euros | G6: =F6+D6-C6 -> 0
A7: CHEQUES | B7: CHE - Chèque banque | E7: Remise A
B8: CHE - Chèque client | E8: Remise B
B9: Chèques DD | E9: Remise C
B10: Autres chèques | E10: remise D
B11: TOTAL CHEQUES | C11: =SUM(C7:C10) -> 0 | D11: =SUM(D7:D10) -> 0 | E11: TOTAL CHEQUES | F11: =SUM(F7:F10) -> 0 | G11: =F11+D11-C11 -> 0
A12: VIREMENTS | B12: CVI - Virement | E12: Virements reçu
B13: DD | E13: Virements reçu
B14: DD | E14: Virements reçu
B15: DD | E15: Virements reçu
B16: Autres virements | E16: Virements reçu
B17: TOTAL VIREMENTS | C17: =SUM(C12:C16) -> 0 | D17: =SUM(D12:D16) -> 0 | E17: TOTAL VIREMENTS | F17: =SUM(F12:F16) -> 0 | G17: =F17+D17-C17 -> 0
A18: COUPONS | B18: TRE - Tickets Rest. | E18: Remise Tickets Resto | G18: =F18+D18-C18 -> 0
B19: TRECARD - Cartes tickets rest. | E19: TRECARD - Cartes tickets rest. | G19: =F19+D19-C19 -> 0
B20: CCV - Chèques vacances | E20: Remise Chq Vacances | G20: =F20+D20-C20 -> 0
B21: CCC - Chq compliment | E21: Remise chq compliment A | G21: =F21+D21-C21 -> 0
B22: CCA - Chèque cadeau ACCOR | E22: Remise chq compliment B | G22: =F22+D22-C22 -> 0
B23: ACA - LeClub-A rewards | E23: Remise Le Club A | G23: =F23+D23-C23 -> 0
B24: ACI - LeClub-A rewards € WE | E24: Remise Le Club A | G24: =F24+D24-C24 -> 0
A25: CARTES BLEUES | B25: CB - Carte bancaire | E25: Télécollecte CB physique
B26: CB SC - Carte bancaire sans contact | E26: Télécollecte CB physique
B27: CB VAD - Carte Manuelle | E27: Télécollecte CB physique
B28: CB - Restaurant | E28: Télécollecte CB physique
B29: CB SC - Restaurant sans contact | E29: CB SC - Restaurant sans contact
B30: TOTAL CB PHYSIQUES | C30: =SUM(C25:C29) -> 0 | D30: =SUM(D25:D28) -> 0 | E30: TOTAL CB PHYSIQUES | F30: =SUM(F25:F29) -> 0 | G30: =F30+D30-C30 -> 0
B32: OVI - Visa ogone | E32: Télécollecte CB ogone
B33: OEU - Ogone eurocard | E33: Télécollecte CB ogone
B34: OPEM - Ogone préauto euro/master | E34: Télécollecte CB ogone
B35: OPVI - Ogone préauto visa | E35: Télécollecte CB ogone
B36: autres cartes ogone | E36: Télécollecte CB ogone
B37: TOTAL CB OGONE | C37: =SUM(C32:C36) -> 0 | D37: =SUM(D32:D36) -> 0 | E37: TOTAL CB OGONE | F37: =SUM(F32:F36) -> 0 | G37: =F37+D37-C37 -> 0
B39: RCB - Régul CB
B41: TOTAL CB PHYSIQUES + CB OGONE | C41: =C30+C37+C39 -> 0 | D41: =D30+D37+D39 -> 0 | E41: TOTAL CB PHYSIQUES + CB OGONE | F41: =F30+F37 -> 0 | G41: =F41+D41-C41 -> 0
A42: DCC | B42: CB DCC | E42: Télécollecte DCC
B43: autres cartes DCC | E43: Télécollecte DCC
B44: TOTAL CB DCC | C44: =SUM(C42:C43) -> 0 | D44: =SUM(D42:D43) -> 0 | E44: TOTAL CB DCC | F44: =SUM(F42:F43) -> 0 | G44: =F44+D44-C44 -> 0
A45: AMEX | B45: AM - American express | E45: Télécollecte Amex physique
B46: AM - American express Restaurant | E46: Télécollecte Amex physique
B47: TOTAL AMEX PHYSIQUES | C47: =SUM(C45:C46) -> 0 | D47: =SUM(D45:D46) -> 0 | E47: TOTAL AMEX PHYSIQUES | F47: =SUM(F45:F46) -> 0 | G47: =F47+D47-C47 -> 0
B49: OAM - Amex Ogone | E49: Télécollecte Amex ogone
B50: OPAM - Ogone préauto amex | E50: Télécollecte ogone
B51: autres Amex | E51: Télécollecte ogone
B52: TOTAL AMEX OGONE | C52: =SUM(C49:C51) -> 0 | D52: =SUM(D49:D51) -> 0 | E52: TOTAL AMEX OGONE | F52: =SUM(F49:F51) -> 0 | G52: =F52+D52-C52 -> 0
B54: RAM - Régul Amex
B56: TOTAL AMEX PHYSIQUES+AMEX OGONE | C56: =C47+C52+C54 -> 0 | D56: =D47+D52+D54 -> 0 | E56: TOTAL AMEX PHYSIQUES+AMEX OGONE | F56: =F47+F52 -> 0 | G56: =F56+D56-C56 -> 0
A57: ELAVON | B57: CDE - Carte Diners club | E57: Télécollecte Diners
B58: Autres cartes diners | E58: Télécollecte Diners
B59: TOTAL DINERS | C59: =SUM(C57:C58) -> 0 | D59: =SUM(D57:D58) -> 0 | E59: TOTAL DINERS | F59: =SUM(F57:F58) -> 0 | G59: =F59+D59-C59 -> 0
A60: JCB | B60: JCB - JCB | E60: Télécollecte JCB
B61: OJC - JCB | E61: Télécollecte JCB
B62: CUP - China union pay | E62: Télécollecte CUP
B63: TOTAL JCB | C63: =SUM(C60:C62) -> 0 | D63: =SUM(D60:D62) -> 0 | E63: TOTAL JCB | F63: =SUM(F60:F62) -> 0 | G63: =F63+D63-C63 -> 0
A64: Total général | C64: PMS | D64: =C5+D5+C6+D6+C11+D11+C17+D17+C18+D18+C19+D19+C20+D20+C21+D21+C22+D22+C23+D23+C24+D24+C41+D41+C44+D44+C56+D56+C59+D59+C63+D63 -> 0 | F64: Remises bque | G64: =F5+F6+F11+F17+F18+F19+F20+F21+F22+F23+F24+F41+F44+F56+F59+F63 -> 0
A65: AUTRES COMMENTAIRES : | H65: Débiteurs divers
H66: Offerts
H67: TOTAL | I67: =+I65+I66+G64 -> 0

Sheet CUMUL
A1: MAJUSCUL | B1: ESPECES | F1: CHEQUES | J1: TICKETS RESTAURANT | N1: CHEQUES VACANCES | R1: CHEQUES COMPLIMENTS | V1: CHEQUES CADEAU ACCOR | Z1: TRECARD - CARTES TCKETS RESTAURANT
D2: ECART | E2: ECART | H2: ECART | I2: ECART | L2: ECART | M2: ECART | P2: ECART | Q2: ECART | T2: ECART | U2: ECART | X2: ECART | Y2: ECART | AB2: ECART | AC2: ECART
B3: PMS | C3: BANQUE | D3: PMS | E3: BANQUE | F3: PMS | G3: BANQUE | H3: PMS | I3: BANQUE | J3: PMS | K3: BANQUE | L3: PMS | M3: BANQUE | N3: PMS | O3: BANQUE | P3: PMS | Q3: BANQUE | R3: PMS | S3: BANQUE | T3: PMS | U3: BANQUE | V3: PMS | W3: BANQUE | X3: PMS | Y3: BANQUE | Z3: PMS | AA3: BANQUE | AB3: PMS | AC3: BANQUE
A4: 1 | B4: ='1'!C5 -> 0 | C4: ='1'!F5 -> 0 | D4: =B4-C4 -> 0 | E4: =C4-B4 -> 0 | F4: ='1'!C11 -> 0 | G4: ='1'!F11 -> 0 | H4: =F4-G4 -> 0 | I4: =G4-F4 -> 0 | J4: ='1'!C18 -> 0 | K4: ='1'!F18 -> 0 | L4: =J4-K4 -> 0 | M4: =K4-J4 -> 0 | N4: ='1'!C20 -> 0 | O4: ='1'!F20 -> 0 | P4: =N4-O4 -> 0 | Q4: =O4-N4 -> 0 | R4: ='1'!C21 -> 0 | S4: ='1'!F21 -> 0 | T4: =R4-S4 -> 0 | U4: =S4-R4 -> 0 | V4: ='1'!C22 -> 0 | W4: ='1'!F22 -> 0 | X4: =V4-W4 -> 0 | Y4: =W4-V4 -> 0 | Z4: ='1'!C19 -> 0 | AA4: ='1'!F19 -> 0 | AB4: =Z4-AA4 -> 0 | AC4: =AA4-Z4 -> 0
A5: =A4+1 -> 2 | B5: ='2'!C5 -> 0 | C5: ='2'!F5 -> 0 | D5: =B5-C5 -> 0 | E5: =C5-B5 -> 0 | F5: ='2'!C11 -> 0 | G5: ='2'!F11 -> 0 | H5: =F5-G5 -> 0 | I5: =G5-F5 -> 0 | J5: ='2'!C18 -> 0 | K5: ='2'!F18 -> 0 | L5: =J5-K5 -> 0 | M5: =K5-J5 -> 0 | N5: ='2'!C20 -> 0 | O5: ='2'!F20 -> 0 | P5: =N5-O5 -> 0 | Q5: =O5-N5 -> 0 | R5: ='2'!C21 -> 0 | S5: ='2'!F20 -> 0 | T5: =R5-S5 -> 0 | U5: =S5-R5 -> 0 | V5: ='2'!C22 -> 0 | W5: ='2'!F22 -> 0 | X5: =V5-W5 -> 0 | Y5: =W5-V5 -> 0 | Z5: ='2'!C19 -> 0 | AA5: ='2'!F19 -> 0 | AB5: =Z5-AA5 -> 0 | AC5: =AA5-Z5 -> 0
A6: =A5+1 -> 3 | B6: ='3'!C5 -> 0 | C6: ='3'!F5 -> 0 | D6: =B6-C6 -> 0 | E6: =C6-B6 -> 0 | F6: ='3'!C11 -> 0 | G6: ='3'!F11 -> 0 | H6: =F6-G6 -> 0 | I6: =G6-F6 -> 0 | J6: ='3'!C18 -> 0 | K6: ='3'!F18 -> 0 | L6: =J6-K6 -> 0 | M6: =K6-J6 -> 0 | N6: ='3'!C20 -> 0 | O6: ='3'!F20 -> 0 | P6: =N6-O6 -> 0 | Q6: =O6-N6 -> 0 | R6: ='3'!C21 -> 0 | S6: ='3'!F21 -> 0 | T6: =R6-S6 -> 0 | U6: =S6-R6 -> 0 | V6: ='3'!C22 -> 0 | W6: ='3'!F22 -> 0 | X6: =V6-W6 -> 0 | Y6: =W6-V6 -> 0 | Z6: ='3'!C19 -> 0 | AA6: ='3'!F19 -> 0 | AB6: =Z6-AA6 -> 0 | AC6: =AA6-Z6 -> 0
A7: =A6+1 -> 4 | B7: ='4'!C5 -> 0 | C7: ='4'!F5 -> 0 | D7: =B7-C7 -> 0 | E7: =C7-B7 -> 0 | F7: ='4'!C11 -> 0 | G7: ='4'!F11 -> 0 | H7: =F7-G7 -> 0 | I7: =G7-F7 -> 0 | J7: ='4'!C18 -> 0 | K7: ='4'!F18 -> 0 | L7: =J7-K7 -> 0 | M7: =K7-J7 -> 0 | N7: ='4'!C20 -> 0 | O7: ='4'!F20 -> 0 | P7: =N7-O7 -> 0 | Q7: =O7-N7 -> 0 | R7: ='4'!C21 -> 0 | S7: ='4'!F21 -> 0 | T7: =R7-S7 -> 0 | U7: =S7-R7 -> 0 | V7: ='4'!C22 -> 0 | W7: ='4'!F22 -> 0 | X7: =V7-W7 -> 0 | Y7: =W7-V7 -> 0 | Z7: ='4'!C19 -> 0 | AA7: ='4'!F19 -> 0 | AB7: =Z7-AA7 -> 0 | AC7: =AA7-Z7 -> 0
A8: =A7+1 -> 5 | B8: ='5'!C5 -> 0 | C8: ='5'!F5 -> 0 | D8: =B8-C8 -> 0 | E8: =C8-B8 -> 0 | F8: ='5'!C11 -> 0 | G8: ='5'!F11 -> 0 | H8: =F8-G8 -> 0 | I8: =G8-F8 -> 0 | J8: ='5'!C18 -> 0 | K8: ='5'!F18 -> 0 | L8: =J8-K8 -> 0 | M8: =K8-J8 -> 0 | N8: ='5'!C20 -> 0 | O8: ='5'!F20 -> 0 | P8: =N8-O8 -> 0 | Q8: =O8-N8 -> 0 | R8: ='5'!C21 -> 0 | S8: ='5'!F21 -> 0 | T8: =R8-S8 -> 0 | U8: =S8-R8 -> 0 | V8: ='5'!C22 -> 0 | W8: ='5'!F22 -> 0 | X8: =V8-W8 -> 0 | Y8: =W8-V8 -> 0 | Z8: ='5'!C19 -> 0 | AA8: ='5'!F19 -> 0 | AB8: =Z8-AA8 -> 0 | AC8: =AA8-Z8 -> 0
A9: =A8+1 -> 6 | B9: ='6'!C5 -> 0 | C9: ='6'!F5 -> 0 | D9: =B9-C9 -> 0 | E9: =C9-B9 -> 0 | F9: ='6'!C11 -> 0 | G9: ='6'!F11 -> 0 | H9: =F9-G9 -> 0 | I9: =G9-F9 -> 0 | J9: ='6'!C18 -> 0 | K9: ='6'!F18 -> 0 | L9: =J9-K9 -> 0 | M9: =K9-J9 -> 0 | N9: ='6'!C20 -> 0 | O9: ='6'!F20 -> 0 | P9: =N9-O9 -> 0 | Q9: =O9-N9 -> 0 | R9: ='6'!C21 -> 0 | S9: ='6'!F21 -> 0 | T9: =R9-S9 -> 0 | U9: =S9-R9 -> 0 | V9: ='6'!C22 -> 0 | W9: ='6'!F22 -> 0 | X9: =V9-W9 -> 0 | Y9: =W9-V9 -> 0 | Z9: ='6'!C19 -> 0 | AA9: ='6'!F19 -> 0 | AB9: =Z9-AA9 -> 0 | AC9: =AA9-Z9 -> 0
A10: =A9+1 -> 7 | B10: ='7'!C5 -> 0 | C10: ='7'!F5 -> 0 | D10: =B10-C10 -> 0 | E10: =C10-B10 -> 0 | F10: ='7'!C11 -> 0 | G10: ='7'!F11 -> 0 | H10: =F10-G10 -> 0 | I10: =G10-F10 -> 0 | J10: ='7'!C18 -> 0 | K10: ='7'!F18 -> 0 | L10: =J10-K10 -> 0 | M10: =K10-J10 -> 0 | N10: ='7'!C20 -> 0 | O10: ='7'!F20 -> 0 | P10: =N10-O10 -> 0 | Q10: =O10-N10 -> 0 | R10: ='7'!C21 -> 0 | S10: ='7'!F21 -> 0 | T10: =R10-S10 -> 0 | U10: =S10-R10 -> 0 | V10: ='7'!C22 -> 0 | W10: ='7'!F22 -> 0 | X10: =V10-W10 -> 0 | Y10: =W10-V10 -> 0 | Z10: ='7'!C19 -> 0 | AA10: ='7'!F19 -> 0 | AB10: =Z10-AA10 -> 0 | AC10: =AA10-Z10 -> 0
A11: =A10+1 -> 8 | B11: ='8'!C5 -> 0 | C11: ='8'!F5 -> 0 | D11: =B11-C11 -> 0 | E11: =C11-B11 -> 0 | F11: ='8'!C11 -> 0 | G11: ='8'!F11 -> 0 | H11: =F11-G11 -> 0 | I11: =G11-F11 -> 0 | J11: ='8'!C18 -> 0 | K11: ='8'!F18 -> 0 | L11: =J11-K11 -> 0 | M11: =K11-J11 -> 0 | N11: ='8'!C20 -> 0 | O11: ='8'!F20 -> 0 | P11: =N11-O11 -> 0 | Q11: =O11-N11 -> 0 | R11: ='8'!C21 -> 0 | S11: ='8'!F21 -> 0 | T11: =R11-S11 -> 0 | U11: =S11-R11 -> 0 | V11: ='8'!C22 -> 0 | W11: ='8'!F22 -> 0 | X11: =V11-W11 -> 0 | Y11: =W11-V11 -> 0 | Z11: ='8'!C19 -> 0 | AA11: ='8'!F19 -> 0 | AB11: =Z11-AA11 -> 0 | AC11: =AA11-Z11 -> 0
A12: =A11+1 -> 9 | B12: ='9'!C5 -> 0 | C12: ='9'!F5 -> 0 | D12: =B12-C12 -> 0 | E12: =C12-B12 -> 0 | F12: ='9'!C11 -> 0 | G12: ='9'!F11 -> 0 | H12: =F12-G12 -> 0 | I12: =G12-F12 -> 0 | J12: ='9'!C18 -> 0 | K12: ='9'!F18 -> 0 | L12: =J12-K12 -> 0 | M12: =K12-J12 -> 0 | N12: ='9'!C20 -> 0 | O12: ='9'!F20 -> 0 | P12: =N12-O12 -> 0 | Q12: =O12-N12 -> 0 | R12: ='9'!C21 -> 0 | S12: ='9'!F21 -> 0 | T12: =R12-S12 -> 0 | U12: =S12-R12 -> 0 | V12: ='9'!C22 -> 0 | W12: ='9'!F22 -> 0 | X12: =V12-W12 -> 0 | Y12: =W12-V12 -> 0 | Z12: ='9'!C19 -> 0 | AA12: ='9'!F19 -> 0 | AB12: =Z12-AA12 -> 0 | AC12: =AA12-Z12 -> 0
A13: =A12+1 -> 10 | B13: ='10'!C5 -> 0 | C13: ='10'!F5 -> 0 | D13: =B13-C13 -> 0 | E13: =C13-B13 -> 0 | F13: ='10'!C11 -> 0 | G13: ='10'!F11 -> 0 | H13: =F13-G13 -> 0 | I13: =G13-F13 -> 0 | J13: ='10'!C18 -> 0 | K13: ='10'!F18 -> 0 | L13: =J13-K13 -> 0 | M13: =K13-J13 -> 0 | N13: ='10'!C20 -> 0 | O13: ='10'!F20 -> 0 | P13: =N13-O13 -> 0 | Q13: =O13-N13 -> 0 | R13: ='10'!C21 -> 0 | S13: ='10'!F21 -> 0 | T13: =R13-S13 -> 0 | U13: =S13-R13 -> 0 | V13: ='10'!C22 -> 0 | W13: ='10'!F22 -> 0 | X13: =V13-W13 -> 0 | Y13: =W13-V13 -> 0 | Z13: ='10'!C19 -> 0 | AA13: ='10'!F19 -> 0 | AB13: =Z13-AA13 -> 0 | AC13: =AA13-Z13 -> 0
A14: =A13+1 -> 11 | B14: ='11'!C5 -> 0 | C14: ='11'!F5 -> 0 | D14: =B14-C14 -> 0 | E14: =C14-B14 -> 0 | F14: ='11'!C11 -> 0 | G14: ='11'!F11 -> 0 | H14: =F14-G14 -> 0 | I14: =G14-F14 -> 0 | J14: ='11'!C18 -> 0 | K14: ='11'!F18 -> 0 | L14: =J14-K14 -> 0 | M14: =K14-J14 -> 0 | N14: ='11'!C20 -> 0 | O14: ='11'!F20 -> 0 | P14: =N14-O14 -> 0 | Q14: =O14-N14 -> 0 | R14: ='11'!C21 -> 0 | S14: ='11'!F21 -> 0 | T14: =R14-S14 -> 0 | U14: =S14-R14 -> 0 | V14: ='11'!C22 -> 0 | W14: ='11'!F22 -> 0 | X14: =V14-W14 -> 0 | Y14: =W14-V14 -> 0 | Z14: ='11'!C19 -> 0 | AA14: ='11'!F19 -> 0 | AB14: =Z14-AA14 -> 0 | AC14: =AA14-Z14 -> 0
A15: =A14+1 -> 12 | B15: ='12'!C5 -> 0 | C15: ='12'!F5 -> 0 | D15: =B15-C15 -> 0 | E15: =C15-B15 -> 0 | F15: ='12'!C11 -> 0 | G15: ='12'!F11 -> 0 | H15: =F15-G15 -> 0 | I15: =G15-F15 -> 0 | J15: ='12'!C18 -> 0 | K15: ='12'!F18 -> 0 | L15: =J15-K15 -> 0 | M15: =K15-J15 -> 0 | N15: ='12'!C20 -> 0 | O15: ='12'!F20 -> 0 | P15: =N15-O15 -> 0 | Q15: =O15-N15 -> 0 | R15: ='12'!C21 -> 0 | S15: ='12'!F21 -> 0 | T15: =R15-S15 -> 0 | U15: =S15-R15 -> 0 | V15: ='12'!C22 -> 0 | W15: ='12'!F22 -> 0 | X15: =V15-W15 -> 0 | Y15: =W15-V15 -> 0 | Z15: ='12'!C19 -> 0 | AA15: ='12'!F19 -> 0 | AB15: =Z15-AA15 -> 0 | AC15: =AA15-Z15 -> 0
A16: =A15+1 -> 13 | B16: ='13'!C5 -> 0 | C16: ='13'!F5 -> 0 | D16: =B16-C16 -> 0 | E16: =C16-B16 -> 0 | F16: ='13'!C11 -> 0 | G16: ='13'!F11 -> 0 | H16: =F16-G16 -> 0 | I16: =G16-F16 -> 0 | J16: ='13'!C18 -> 0 | K16: ='13'!F18 -> 0 | L16: =J16-K16 -> 0 | M16: =K16-J16 -> 0 | N16: ='13'!C20 -> 0 | O16: ='13'!F20 -> 0 | P16: =N16-O16 -> 0 | Q16: =O16-N16 -> 0 | R16: ='13'!C21 -> 0 | S16: ='13'!F21 -> 0 | T16: =R16-S16 -> 0 | U16: =S16-R16 -> 0 | V16: ='13'!C22 -> 0 | W16: ='13'!F22 -> 0 | X16: =V16-W16 -> 0 | Y16: =W16-V16 -> 0 | Z16: ='13'!C19 -> 0 | AA16: ='13'!F19 -> 0 | AB16: =Z16-AA16 -> 0 | AC16: =AA16-Z16 -> 0
A17: =A16+1 -> 14 | B17: ='14'!C5 -> 0 | C17: ='14'!F5 -> 0 | D17: =B17-C17 -> 0 | E17: =C17-B17 -> 0 | F17: ='14'!C11 -> 0 | G17: ='14'!F11 -> 0 | H17: =F17-G17 -> 0 | I17: =G17-F17 -> 0 | J17: ='14'!C18 -> 0 | K17: ='14'!F18 -> 0 | L17: =J17-K17 -> 0 | M17: =K17-J17 -> 0 | N17: ='14'!C20 -> 0 | O17: ='14'!F20 -> 0 | P17: =N17-O17 -> 0 | Q17: =O17-N17 -> 0 | R17: ='14'!C21 -> 0 | S17: ='14'!F21 -> 0 | T17: =R17-S17 -> 0 | U17: =S17-R17 -> 0 | V17: ='14'!C22 -> 0 | W17: ='14'!F22 -> 0 | X17: =V17-W17 -> 0 | Y17: =W17-V17 -> 0 | Z17: ='14'!C19 -> 0 | AA17: ='14'!F19 -> 0 | AB17: =Z17-AA17 -> 0 | AC17: =AA17-Z17 -> 0
A18: =A17+1 -> 15 | B18: ='15'!C5 -> 0 | C18: ='15'!F5 -> 0 | D18: =B18-C18 -> 0 | E18: =C18-B18 -> 0 | F18: ='15'!C11 -> 0 | G18: ='15'!F11 -> 0 | H18: =F18-G18 -> 0 | I18: =G18-F18 -> 0 | J18: ='15'!C18 -> 0 | K18: ='15'!F18 -> 0 | L18: =J18-K18 -> 0 | M18: =K18-J18 -> 0 | N18: ='15'!C20 -> 0 | O18: ='15'!F20 -> 0 | P18: =N18-O18 -> 0 | Q18: =O18-N18 -> 0 | R18: ='15'!C21 -> 0 | S18: ='15'!F21 -> 0 | T18: =R18-S18 -> 0 | U18: =S18-R18 -> 0 | V18: ='15'!C22 -> 0 | W18: ='15'!F22 -> 0 | X18: =V18-W18 -> 0 | Y18: =W18-V18 -> 0 | Z18: ='15'!C19 -> 0 | AA18: ='15'!F19 -> 0 | AB18: =Z18-AA18 -> 0 | AC18: =AA18-Z18 -> 0
A19: =A18+1 -> 16 | B19: ='16'!C5 -> 0 | C19: ='16'!F5 -> 0 | D19: =B19-C19 -> 0 | E19: =C19-B19 -> 0 | F19: ='16'!C11 -> 0 | G19: ='16'!F11 -> 0 | H19: =F19-G19 -> 0 | I19: =G19-F19 -> 0 | J19: ='16'!C18 -> 0 | K19: ='16'!F18 -> 0 | L19: =J19-K19 -> 0 | M19: =K19-J19 -> 0 | N19: ='16'!C20 -> 0 | O19: ='16'!F20 -> 0 | P19: =N19-O19 -> 0 | Q19: =O19-N19 -> 0 | R19: ='16'!C21 -> 0 | S19: ='16'!F21 -> 0 | T19: =R19-S19 -> 0 | U19: =S19-R19 -> 0 | V19: ='16'!C22 -> 0 | W19: ='16'!F22 -> 0 | X19: =V19-W19 -> 0 | Y19: =W19-V19 -> 0 | Z19: ='16'!C19 -> 0 | AA19: ='16'!F19 -> 0 | AB19: =Z19-AA19 -> 0 | AC19: =AA19-Z19 -> 0
A20: =A19+1 -> 17 | B20: ='17'!C5 -> 0 | C20: ='17'!F5 -> 0 | D20: =B20-C20 -> 0 | E20: =C20-B20 -> 0 | F20: ='17'!C11 -> 0 | G20: ='17'!F11 -> 0 | H20: =F20-G20 -> 0 | I20: =G20-F20 -> 0 | J20: ='17'!C18 -> 0 | K20: ='17'!F18 -> 0 | L20: =J20-K20 -> 0 | M20: =K20-J20 -> 0 | N20: ='17'!C20 -> 0 | O20: ='17'!F20 -> 0 | P20: =N20-O20 -> 0 | Q20: =O20-N20 -> 0 | R20: ='17'!C21 -> 0 | S20: ='17'!F21 -> 0 | T20: =R20-S20 -> 0 | U20: =S20-R20 -> 0 | V20: ='17'!C22 -> 0 | W20: ='17'!F22 -> 0 | X20: =V20-W20 -> 0 | Y20: =W20-V20 -> 0 | Z20: ='17'!C19 -> 0 | AA20: ='17'!F19 -> 0 | AB20: =Z20-AA20 -> 0 | AC20: =AA20-Z20 -> 0
A21: =A20+1 -> 18 | B21: ='18'!C5 -> 0 | C21: ='18'!F5 -> 0 | D21: =B21-C21 -> 0 | E21: =C21-B21 -> 0 | F21: ='18'!C11 -> 0 | G21: ='18'!F11 -> 0 | H21: =F21-G21 -> 0 | I21: =G21-F21 -> 0 | J21: ='18'!C18 -> 0 | K21: ='18'!F18 -> 0 | L21: =J21-K21 -> 0 | M21: =K21-J21 -> 0 | N21: ='18'!C20 -> 0 | O21: ='18'!F20 -> 0 | P21: =N21-O21 -> 0 | Q21: =O21-N21 -> 0 | R21: ='18'!C21 -> 0 | S21: ='18'!F21 -> 0 | T21: =R21-S21 -> 0 | U21: =S21-R21 -> 0 | V21: ='18'!C22 -> 0 | W21: ='18'!F22 -> 0 | X21: =V21-W21 -> 0 | Y21: =W21-V21 -> 0 | Z21: ='18'!C19 -> 0 | AA21: ='18'!F19 -> 0 | AB21: =Z21-AA21 -> 0 | AC21: =AA21-Z21 -> 0
A22: =A21+1 -> 19 | B22: ='19'!C5 -> 0 | C22: ='19'!F5 -> 0 | D22: =B22-C22 -> 0 | E22: =C22-B22 -> 0 | F22: ='19'!C11 -> 0 | G22: ='19'!F11 -> 0 | H22: =F22-G22 -> 0 | I22: =G22-F22 -> 0 | J22: ='19'!C18 -> 0 | K22: ='19'!F18 -> 0 | L22: =J22-K22 -> 0 | M22: =K22-J22 -> 0 | N22: ='19'!C20 -> 0 | O22: ='19'!F20 -> 0 | P22: =N22-O22 -> 0 | Q22: =O22-N22 -> 0 | R22: ='19'!C21 -> 0 | S22: ='19'!F21 -> 0 | T22: =R22-S22 -> 0 | U22: =S22-R22 -> 0 | V22: ='19'!C22 -> 0 | W22: ='19'!F22 -> 0 | X22: =V22-W22 -> 0 | Y22: =W22-V22 -> 0 | Z22: ='19'!C19 -> 0 | AA22: ='19'!F19 -> 0 | AB22: =Z22-AA22 -> 0 | AC22: =AA22-Z22 -> 0
A23: =A22+1 -> 20 | B23: ='20'!C5 -> 0 | C23: ='20'!F5 -> 0 | D23: =B23-C23 -> 0 | E23: =C23-B23 -> 0 | F23: ='20'!C11 -> 0 | G23: ='20'!F11 -> 0 | H23: =F23-G23 -> 0 | I23: =G23-F23 -> 0 | J23: ='20'!C18 -> 0 | K23: ='20'!F18 -> 0 | L23: =J23-K23 -> 0 | M23: =K23-J23 -> 0 | N23: ='20'!C20 -> 0 | O23: ='20'!F20 -> 0 | P23: =N23-O23 -> 0 | Q23: =O23-N23 -> 0 | R23: ='20'!C21 -> 0 | S23: ='20'!F21 -> 0 | T23: =R23-S23 -> 0 | U23: =S23-R23 -> 0 | V23: ='20'!C22 -> 0 | W23: ='20'!F22 -> 0 | X23: =V23-W23 -> 0 | Y23: =W23-V23 -> 0 | Z23: ='20'!C19 -> 0 | AA23: ='20'!F19 -> 0 | AB23: =Z23-AA23 -> 0 | AC23: =AA23-Z23 -> 0
A24: =A23+1 -> 21 | B24: ='21'!C5 -> 0 | C24: ='21'!F5 -> 0 | D24: =B24-C24 -> 0 | E24: =C24-B24 -> 0 | F24: ='21'!C11 -> 0 | G24: ='21'!F11 -> 0 | H24: =F24-G24 -> 0 | I24: =G24-F24 -> 0 | J24: ='21'!C18 -> 0 | K24: ='21'!F18 -> 0 | L24: =J24-K24 -> 0 | M24: =K24-J24 -> 0 | N24: ='21'!C20 -> 0 | O24: ='21'!F20 -> 0 | P24: =N24-O24 -> 0 | Q24: =O24-N24 -> 0 | R24: ='21'!C21 -> 0 | S24: ='21'!F21 -> 0 | T24: =R24-S24 -> 0 | U24: =S24-R24 -> 0 | V24: ='21'!C22 -> 0 | W24: ='21'!F22 -> 0 | X24: =V24-W24 -> 0 | Y24: =W24-V24 -> 0 | Z24: ='21'!C19 -> 0 | AA24: ='21'!F19 -> 0 | AB24: =Z24-AA24 -> 0 | AC24: =AA24-Z24 -> 0
A25: =A24+1 -> 22 | B25: ='22'!C5 -> 0 | C25: ='22'!F5 -> 0 | D25: =B25-C25 -> 0 | E25: =C25-B25 -> 0 | F25: ='22'!C11 -> 0 | G25: ='22'!F11 -> 0 | H25: =F25-G25 -> 0 | I25: =G25-F25 -> 0 | J25: ='22'!C18 -> 0 | K25: ='22'!F18 -> 0 | L25: =J25-K25 -> 0 | M25: =K25-J25 -> 0 | N25: ='22'!C20 -> 0 | O25: ='22'!F20 -> 0 | P25: =N25-O25 -> 0 | Q25: =O25-N25 -> 0 | R25: ='22'!C21 -> 0 | S25: ='22'!F21 -> 0 | T25: =R25-S25 -> 0 | U25: =S25-R25 -> 0 | V25: ='22'!C22 -> 0 | W25: ='22'!F22 -> 0 | X25: =V25-W25 -> 0 | Y25: =W25-V25 -> 0 | Z25: ='22'!C19 -> 0 | AA25: ='22'!F19 -> 0 | AB25: =Z25-AA25 -> 0 | AC25: =AA25-Z25 -> 0
A26: =A25+1 -> 23 | B26: ='23'!C5 -> 0 | C26: ='23'!F5 -> 0 | D26: =B26-C26 -> 0 | E26: =C26-B26 -> 0 | F26: ='23'!C11 -> 0 | G26: ='23'!F11 -> 0 | H26: =F26-G26 -> 0 | I26: =G26-F26 -> 0 | J26: ='23'!C18 -> 0 | K26: ='23'!F18 -> 0 | L26: =J26-K26 -> 0 | M26: =K26-J26 -> 0 | N26: ='23'!C20 -> 0 | O26: ='23'!F20 -> 0 | P26: =N26-O26 -> 0 | Q26: =O26-N26 -> 0 | R26: ='23'!C21 -> 0 | S26: ='23'!F21 -> 0 | T26: =R26-S26 -> 0 | U26: =S26-R26 -> 0 | V26: ='23'!C22 -> 0 | W26: ='23'!F22 -> 0 | X26: =V26-W26 -> 0 | Y26: =W26-V26 -> 0 | Z26: ='23'!C19 -> 0 | AA26: ='23'!F19 -> 0 | AB26: =Z26-AA26 -> 0 | AC26: =AA26-Z26 -> 0
A27: =A26+1 -> 24 | B27: ='24'!C5 -> 0 | C27: ='24'!F5 -> 0 | D27: =B27-C27 -> 0 | E27: =C27-B27 -> 0 | F27: ='24'!C11 -> 0 | G27: ='24'!F11 -> 0 | H27: =F27-G27 -> 0 | I27: =G27-F27 -> 0 | J27: ='24'!C18 -> 0 | K27: ='24'!F18 -> 0 | L27: =J27-K27 -> 0 | M27: =K27-J27 -> 0 | N27: ='24'!C20 -> 0 | O27: ='24'!F20 -> 0 | P27: =N27-O27 -> 0 | Q27: =O27-N27 -> 0 | R27: ='24'!C21 -> 0 | S27: ='24'!F21 -> 0 | T27: =R27-S27 -> 0 | U27: =S27-R27 -> 0 | V27: ='24'!C22 -> 0 | W27: ='24'!F22 -> 0 | X27: =V27-W27 -> 0 | Y27: =W27-V27 -> 0 | Z27: ='24'!C19 -> 0 | AA27: ='24'!F19 -> 0 | AB27: =Z27-AA27 -> 0 | AC27: =AA27-Z27 -> 0
A28: =A27+1 -> 25 | B28: ='25'!C5 -> 0 | C28: ='25'!F5 -> 0 | D28: =B28-C28 -> 0 | E28: =C28-B28 -> 0 | F28: ='25'!C11 -> 0 | G28: ='25'!F11 -> 0 | H28: =F28-G28 -> 0 | I28: =G28-F28 -> 0 | J28: ='25'!C18 -> 0 | K28: ='25'!F18 -> 0 | L28: =J28-K28 -> 0 | M28: =K28-J28 -> 0 | N28: ='25'!C20 -> 0 | O28: ='25'!F20 -> 0 | P28: =N28-O28 -> 0 | Q28: =O28-N28 -> 0 | R28: ='25'!C21 -> 0 | S28: ='25'!F21 -> 0 | T28: =R28-S28 -> 0 | U28: =S28-R28 -> 0 | V28: ='25'!C22 -> 0 | W28: ='25'!F22 -> 0 | X28: =V28-W28 -> 0 | Y28: =W28-V28 -> 0 | Z28: ='25'!C19 -> 0 | AA28: ='25'!F19 -> 0 | AB28: =Z28-AA28 -> 0 | AC28: =AA28-Z28 -> 0
A29: =A28+1 -> 26 | B29: ='26'!C5 -> 0 | C29: ='26'!F5 -> 0 | D29: =B29-C29 -> 0 | E29: =C29-B29 -> 0 | F29: ='26'!C11 -> 0 | G29: ='26'!F11 -> 0 | H29: =F29-G29 -> 0 | I29: =G29-F29 -> 0 | J29: ='26'!C18 -> 0 | K29: ='26'!F18 -> 0 | L29: =J29-K29 -> 0 | M29: =K29-J29 -> 0 | N29: ='26'!C20 -> 0 | O29: ='26'!F20 -> 0 | P29: =N29-O29 -> 0 | Q29: =O29-N29 -> 0 | R29: ='26'!C21 -> 0 | S29: ='26'!F21 -> 0 | T29: =R29-S29 -> 0 | U29: =S29-R29 -> 0 | V29: ='26'!C22 -> 0 | W29: ='26'!F22 -> 0 | X29: =V29-W29 -> 0 | Y29: =W29-V29 -> 0 | Z29: ='26'!C19 -> 0 | AA29: ='26'!F19 -> 0 | AB29: =Z29-AA29 -> 0 | AC29: =AA29-Z29 -> 0
A30: =A29+1 -> 27 | B30: ='27'!C5 -> 0 | C30: ='27'!F5 -> 0 | D30: =B30-C30 -> 0 | E30: =C30-B30 -> 0 | F30: ='27'!C11 -> 0 | G30: ='27'!F11 -> 0 | H30: =F30-G30 -> 0 | I30: =G30-F30 -> 0 | J30: ='27'!C18 -> 0 | K30: ='27'!F18 -> 0 | L30: =J30-K30 -> 0 | M30: =K30-J30 -> 0 | N30: ='27'!C20 -> 0 | O30: ='27'!F20 -> 0 | P30: =N30-O30 -> 0 | Q30: =O30-N30 -> 0 | R30: ='27'!C21 -> 0 | S30: ='27'!F21 -> 0 | T30: =R30-S30 -> 0 | U30: =S30-R30 -> 0 | V30: ='27'!C22 -> 0 | W30: ='27'!F22 -> 0 | X30: =V30-W30 -> 0 | Y30: =W30-V30 -> 0 | Z30: ='27'!C19 -> 0 | AA30: ='27'!F19 -> 0 | AB30: =Z30-AA30 -> 0 | AC30: =AA30-Z30 -> 0
A31: =A30+1 -> 28 | B31: ='28'!C5 -> 0 | C31: ='28'!F5 -> 0 | D31: =B31-C31 -> 0 | E31: =C31-B31 -> 0 | F31: ='28'!C11 -> 0 | G31: ='28'!F11 -> 0 | H31: =F31-G31 -> 0 | I31: =G31-F31 -> 0 | J31: ='28'!C18 -> 0 | K31: ='28'!F18 -> 0 | L31: =J31-K31 -> 0 | M31: =K31-J31 -> 0 | N31: ='28'!C20 -> 0 | O31: ='28'!F20 -> 0 | P31: =N31-O31 -> 0 | Q31: =O31-N31 -> 0 | R31: ='28'!C21 -> 0 | S31: ='28'!F21 -> 0 | T31: =R31-S31 -> 0 | U31: =S31-R31 -> 0 | V31: ='28'!C22 -> 0 | W31: ='28'!F22 -> 0 | X31: =V31-W31 -> 0 | Y31: =W31-V31 -> 0 | Z31: ='28'!C19 -> 0 | AA31: ='28'!F19 -> 0 | AB31: =Z31-AA31 -> 0 | AC31: =AA31-Z31 -> 0
A32: =A31+1 -> 29 | B32: ='29'!C5 -> 0 | C32: ='29'!F5 -> 0 | D32: =B32-C32 -> 0 | E32: =C32-B32 -> 0 | F32: ='29'!C11 -> 0 | G32: ='29'!F11 -> 0 | H32: =F32-G32 -> 0 | I32: =G32-F32 -> 0 | J32: ='29'!C18 -> 0 | K32: ='29'!F18 -> 0 | L32: =J32-K32 -> 0 | M32: =K32-J32 -> 0 | N32: ='29'!C20 -> 0 | O32: ='29'!F20 -> 0 | P32: =N32-O32 -> 0 | Q32: =O32-N32 -> 0 | R32: ='29'!C21 -> 0 | S32: ='29'!F21 -> 0 | T32: =R32-S32 -> 0 | U32: =S32-R32 -> 0 | V32: ='29'!C22 -> 0 | W32: ='29'!F22 -> 0 | X32: =V32-W32 -> 0 | Y32: =W32-V32 -> 0 | Z32: ='29'!C19 -> 0 | AA32: ='29'!F19 -> 0 | AB32: =Z32-AA32 -> 0 | AC32: =AA32-Z32 -> 0
A33: =A32+1 -> 30 | B33: ='30'!C5 -> 0 | C33: ='30'!F5 -> 0 | D33: =B33-C33 -> 0 | E33: =C33-B33 -> 0 | F33: ='30'!C11 -> 0 | G33: ='30'!F11 -> 0 | H33: =F33-G33 -> 0 | I33: =G33-F33 -> 0 | J33: ='30'!C18 -> 0 | K33: ='30'!F18 -> 0 | L33: =J33-K33 -> 0 | M33: =K33-J33 -> 0 | N33: ='30'!C20 -> 0 | O33: ='30'!F20 -> 0 | P33: =N33-O33 -> 0 | Q33: =O33-N33 -> 0 | R33: ='30'!C21 -> 0 | S33: ='30'!F21 -> 0 | T33: =R33-S33 -> 0 | U33: =S33-R33 -> 0 | V33: ='30'!C22 -> 0 | W33: ='30'!F22 -> 0 | X33: =V33-W33 -> 0 | Y33: =W33-V33 -> 0 | Z33: ='30'!C19 -> 0 | AA33: ='30'!F19 -> 0 | AB33: =Z33-AA33 -> 0 | AC33: =AA33-Z33 -> 0
A34: =A33+1 -> 31 | B34: ='31'!C5 -> 0 | C34: ='31'!F5 -> 0 | D34: =B34-C34 -> 0 | E34: =C34-B34 -> 0 | F34: ='31'!C11 -> 0 | G34: ='31'!F11 -> 0 | H34: =F34-G34 -> 0 | I34: =G34-F34 -> 0 | J34: ='31'!C18 -> 0 | K34: ='31'!F18 -> 0 | L34: =J34-K34 -> 0 | M34: =K34-J34 -> 0 | N34: ='31'!C20 -> 0 | O34: ='31'!F20 -> 0 | P34: =N34-O34 -> 0 | Q34: =O34-N34 -> 0 | R34: ='31'!C21 -> 0 | S34: ='31'!F21 -> 0 | T34: =R34-S34 -> 0 | U34: =S34-R34 -> 0 | V34: ='31'!C22 -> 0 | W34: ='31'!F22 -> 0 | X34: =V34-W34 -> 0 | Y34: =W34-V34 -> 0 | Z34: ='31'!C19 -> 0 | AA34: ='31'!F19 -> 0 | AB34: =Z34-AA34 -> 0 | AC34: =AA34-Z34 -> 0
A35: TOTAL | B35: =SUM(B4:B34)-SUM(C4:C34) -> 0 | C35: =SUM(C4:C34)-SUM(B4:B34) -> 0 | D35: =SUM(D4:D34) -> 0 | E35: =SUM(E4:E34) -> 0 | F35: =SUM(F4:F34)-SUM(G4:G34) -> 0 | G35: =SUM(G4:G34)-SUM(F4:F34) -> 0 | H35: =SUM(H4:H34) -> 0 | I35: =SUM(I4:I34) -> 0 | J35: =SUM(J4:J34)-SUM(K4:K34) -> 0 | K35: =SUM(K4:K34)-SUM(J4:J34) -> 0 | L35: =SUM(L4:L34) -> 0 | M35: =SUM(M4:M34) -> 0 | N35: =SUM(N4:N34)-SUM(O4:O34) -> 0 | O35: =SUM(O4:O34)-SUM(N4:N34) -> 0 | P35: =SUM(P4:P34) -> 0 | Q35: =SUM(Q4:Q34) -> 0 | R35: =SUM(R4:R34)-SUM(S4:S34) -> 0 | S35: =SUM(S4:S34)-SUM(R4:R34) -> 0 | T35: =SUM(T4:T34) -> 0 | U35: =SUM(U4:U34) -> 0 | V35: =SUM(V4:V34)-SUM(W4:W34) -> 0 | W35: =SUM(W4:W34)-SUM(V4:V34) -> 0 | X35: =SUM(X4:X34) -> 0 | Y35: =SUM(Y4:Y34) -> 0 | Z35: =SUM(Z4:Z34)-SUM(AA4:AA34) -> 0 | AA35: =SUM(AA4:AA34)-SUM(Z4:Z34) -> 0 | AB35: =SUM(AB4:AB34) -> 0 | AC35: =SUM(AC4:AC34) -> 0
B37: LE CLUB REWARD | F37: CB + CB OGONE | J37: DCC | N37: AMEX + AMEX OGONE | R37: VIREMENT | V37: JCB/CUP
D38: ECART | E38: ECART | H38: ECART | I38: ECART | L38: ECART | M38: ECART | P38: ECART | Q38: ECART | T38: ECART | U38: ECART | X38: ECART | Y38: ECART
B39: PMS | C39: BANQUE | D39: PMS | E39: BANQUE | F39: PMS | G39: BANQUE | H39: PMS | I39: BANQUE | J39: PMS | K39: BANQUE | L39: PMS | M39: BANQUE | N39: PMS | O39: BANQUE | P39: PMS | Q39: BANQUE | R39: PMS | S39: BANQUE | T39: PMS | U39: BANQUE | V39: PMS | W39: BANQUE | X39: PMS | Y39: BANQUE
A40: 1 | B40: ='1'!C23+'1'!C24 -> 0 | C40: ='1'!F23+'1'!F24 -> 0 | D40: =B40-C40 -> 0 | E40: =C40-B40 -> 0 | F40: ='1'!C41 -> 0 | G40: ='1'!F41 -> 0 | H40: =F40-G40 -> 0 | I40: =G40-F40 -> 0 | J40: ='1'!C44 -> 0 | K40: ='1'!F44 -> 0 | L40: =J40-K40 -> 0 | M40: =K40-J40 -> 0 | N40: ='1'!C56 -> 0 | O40: ='1'!F56 -> 0 | P40: =N40-O40 -> 0 | Q40: =O40-N40 -> 0 | R40: ='1'!C17 -> 0 | S40: ='1'!F17 -> 0 | T40: =R40-S40 -> 0 | U40: =S40-R40 -> 0 | V40: ='1'!C63 -> 0 | W40: ='1'!F63 -> 0 | X40: =V40-W40 -> 0 | Y40: =W40-V40 -> 0
A41: =A40+1 -> 2 | B41: ='2'!C23+'2'!C24 -> 0 | C41: ='2'!F23+'2'!F24 -> 0 | D41: =B41-C41 -> 0 | E41: =C41-B41 -> 0 | F41: ='2'!C41 -> 0 | G41: ='2'!F41 -> 0 | H41: =F41-G41 -> 0 | I41: =G41-F41 -> 0 | J41: ='2'!C44 -> 0 | K41: ='2'!F44 -> 0 | L41: =J41-K41 -> 0 | M41: =K41-J41 -> 0 | N41: ='2'!C56 -> 0 | O41: ='2'!F56 -> 0 | P41: =N41-O41 -> 0 | Q41: =O41-N41 -> 0 | R41: ='2'!C17 -> 0 | S41: ='2'!F17 -> 0 | T41: =R41-S41 -> 0 | U41: =S41-R41 -> 0 | V41: ='2'!C63 -> 0 | W41: ='2'!F63 -> 0 | X41: =V41-W41 -> 0 | Y41: =W41-V41 -> 0
A42: =A41+1 -> 3 | B42: ='3'!C23+'3'!C24 -> 0 | C42: ='3'!F23+'3'!F24 -> 0 | D42: =B42-C42 -> 0 | E42: =C42-B42 -> 0 | F42: ='3'!C41 -> 0 | G42: ='3'!F41 -> 0 | H42: =F42-G42 -> 0 | I42: =G42-F42 -> 0 | J42: ='3'!C44 -> 0 | K42: ='3'!F44 -> 0 | L42: =J42-K42 -> 0 | M42: =K42-J42 -> 0 | N42: ='3'!C56 -> 0 | O42: ='3'!F56 -> 0 | P42: =N42-O42 -> 0 | Q42: =O42-N42 -> 0 | R42: ='3'!C17 -> 0 | S42: ='3'!F17 -> 0 | T42: =R42-S42 -> 0 | U42: =S42-R42 -> 0 | V42: ='3'!C63 -> 0 | W42: ='3'!F63 -> 0 | X42: =V42-W42 -> 0 | Y42: =W42-V42 -> 0
A43: =A42+1 -> 4 | B43: ='4'!C23+'4'!C24 -> 0 | C43: ='4'!F23+'4'!F24 -> 0 | D43: =B43-C43 -> 0 | E43: =C43-B43 -> 0 | F43: ='4'!C41 -> 0 | G43: ='4'!F41 -> 0 | H43: =F43-G43 -> 0 | I43: =G43-F43 -> 0 | J43: ='4'!C44 -> 0 | K43: ='4'!F44 -> 0 | L43: =J43-K43 -> 0 | M43: =K43-J43 -> 0 | N43: ='4'!C56 -> 0 | O43: ='4'!F56 -> 0 | P43: =N43-O43 -> 0 | Q43: =O43-N43 -> 0 | R43: ='4'!C17 -> 0 | S43: ='4'!F17 -> 0 | T43: =R43-S43 -> 0 | U43: =S43-R43 -> 0 | V43: ='4'!C63 -> 0 | W43: ='4'!F63 -> 0 | X43: =V43-W43 -> 0 | Y43: =W43-V43 -> 0
A44: =A43+1 -> 5 | B44: ='5'!C23+'5'!C24 -> 0 | C44: ='5'!F23+'5'!F24 -> 0 | D44: =B44-C44 -> 0 | E44: =C44-B44 -> 0 | F44: ='5'!C41 -> 0 | G44: ='5'!F41 -> 0 | H44: =F44-G44 -> 0 | I44: =G44-F44 -> 0 | J44: ='5'!C44 -> 0 | K44: ='5'!F44 -> 0 | L44: =J44-K44 -> 0 | M44: =K44-J44 -> 0 | N44: ='5'!C56 -> 0 | O44: ='5'!F56 -> 0 | P44: =N44-O44 -> 0 | Q44: =O44-N44 -> 0 | R44: ='5'!C17 -> 0 | S44: ='5'!F17 -> 0 | T44: =R44-S44 -> 0 | U44: =S44-R44 -> 0 | V44: ='5'!C63 -> 0 | W44: ='5'!F63 -> 0 | X44: =V44-W44 -> 0 | Y44: =W44-V44 -> 0
A45: =A44+1 -> 6 | B45: ='6'!C23+'6'!C24 -> 0 | C45: ='6'!F23+'6'!F24 -> 0 | D45: =B45-C45 -> 0 | E45: =C45-B45 -> 0 | F45: ='6'!C41 -> 0 | G45: ='6'!F41 -> 0 | H45: =F45-G45 -> 0 | I45: =G45-F45 -> 0 | J45: ='6'!C44 -> 0 | K45: ='6'!F44 -> 0 | L45: =J45-K45 -> 0 | M45: =K45-J45 -> 0 | N45: ='6'!C56 -> 0 | O45: ='6'!F56 -> 0 | P45: =N45-O45 -> 0 | Q45: =O45-N45 -> 0 | R45: ='6'!C17 -> 0 | S45: ='6'!F17 -> 0 | T45: =R45-S45 -> 0 | U45: =S45-R45 -> 0 | V45: ='6'!C63 -> 0 | W45: ='6'!F63 -> 0 | X45: =V45-W45 -> 0 | Y45: =W45-V45 -> 0
A46: =A45+1 -> 7 | B46: ='7'!C23+'7'!C24 -> 0 | C46: ='7'!F23+'7'!F24 -> 0 | D46: =B46-C46 -> 0 | E46: =C46-B46 -> 0 | F46: ='7'!C41 -> 0 | G46: ='7'!F41 -> 0 | H46: =F46-G46 -> 0 | I46: =G46-F46 -> 0 | J46: ='7'!C44 -> 0 | K46: ='7'!F44 -> 0 | L46: =J46-K46 -> 0 | M46: =K46-J46 -> 0 | N46: ='7'!C56 -> 0 | O46: ='7'!F56 -> 0 | P46: =N46-O46 -> 0 | Q46: =O46-N46 -> 0 | R46: ='7'!C17 -> 0 | S46: ='7'!F17 -> 0 | T46: =R46-S46 -> 0 | U46: =S46-R46 -> 0 | V46: ='7'!C63 -> 0 | W46: ='7'!F63 -> 0 | X46: =V46-W46 -> 0 | Y46: =W46-V46 -> 0
A47: =A46+1 -> 8 | B47: ='8'!C23+'8'!C24 -> 0 | C47: ='8'!F23+'8'!F24 -> 0 | D47: =B47-C47 -> 0 | E47: =C47-B47 -> 0 | F47: ='8'!C41 -> 0 | G47: ='8'!F41 -> 0 | H47: =F47-G47 -> 0 | I47: =G47-F47 -> 0 | J47: ='8'!C44 -> 0 | K47: ='8'!F44 -> 0 | L47: =J47-K47 -> 0 | M47: =K47-J47 -> 0 | N47: ='8'!C56 -> 0 | O47: ='8'!F56 -> 0 | P47: =N47-O47 -> 0 | Q47: =O47-N47 -> 0 | R47: ='8'!C17 -> 0 | S47: ='8'!F17 -> 0 | T47: =R47-S47 -> 0 | U47: =S47-R47 -> 0 | V47: ='8'!C63 -> 0 | W47: ='8'!F63 -> 0 | X47: =V47-W47 -> 0 | Y47: =W47-V47 -> 0
A48: =A47+1 -> 9 | B48: ='9'!C23+'9'!C24 -> 0 | C48: ='9'!F23+'9'!F24 -> 0 | D48: =B48-C48 -> 0 | E48: =C48-B48 -> 0 | F48: ='9'!C41 -> 0 | G48: ='9'!F41 -> 0 | H48: =F48-G48 -> 0 | I48: =G48-F48 -> 0 | J48: ='9'!C44 -> 0 | K48: ='9'!F44 -> 0 | L48: =J48-K48 -> 0 | M48: =K48-J48 -> 0 | N48: ='9'!C56 -> 0 | O48: ='9'!F56 -> 0 | P48: =N48-O48 -> 0 | Q48: =O48-N48 -> 0 | R48: ='9'!C17 -> 0 | S48: ='9'!F17 -> 0 | T48: =R48-S48 -> 0 | U48: =S48-R48 -> 0 | V48: ='9'!C63 -> 0 | W48: ='9'!F63 -> 0 | X48: =V48-W48 -> 0 | Y48: =W48-V48 -> 0
A49: =A48+1 -> 10 | B49: ='10'!C23+'10'!C24 -> 0 | C49: ='10'!F23+'10'!F24 -> 0 | D49: =B49-C49 -> 0 | E49: =C49-B49 -> 0 | F49: ='10'!C41 -> 0 | G49: ='10'!F41 -> 0 | H49: =F49-G49 -> 0 | I49: =G49-F49 -> 0 | J49: ='10'!C44 -> 0 | K49: ='10'!F44 -> 0 | L49: =J49-K49 -> 0 | M49: =K49-J49 -> 0 | N49: ='10'!C56 -> 0 | O49: ='10'!F56 -> 0 | P49: =N49-O49 -> 0 | Q49: =O49-N49 -> 0 | R49: ='10'!C17 -> 0 | S49: ='10'!F17 -> 0 | T49: =R49-S49 -> 0 | U49: =S49-R49 -> 0 | V49: ='10'!C63 -> 0 | W49: ='10'!F63 -> 0 | X49: =V49-W49 -> 0 | Y49: =W49-V49 -> 0
A50: =A49+1 -> 11 | B50: ='11'!C23+'11'!C24 -> 0 | C50: ='11'!F23+'11'!F24 -> 0 | D50: =B50-C50 -> 0 | E50: =C50-B50 -> 0 | F50: ='11'!C41 -> 0 | G50: ='11'!F41 -> 0 | H50: =F50-G50 -> 0 | I50: =G50-F50 -> 0 | J50: ='11'!C44 -> 0 | K50: ='11'!F44 -> 0 | L50: =J50-K50 -> 0 | M50: =K50-J50 -> 0 | N50: ='11'!C56 -> 0 | O50: ='11'!F56 -> 0 | P50: =N50-O50 -> 0 | Q50: =O50-N50 -> 0 | R50: ='11'!C17 -> 0 | S50: ='11'!F17 -> 0 | T50: =R50-S50 -> 0 | U50: =S50-R50 -> 0 | V50: ='11'!C63 -> 0 | W50: ='11'!F63 -> 0 | X50: =V50-W50 -> 0 | Y50: =W50-V50 -> 0
A51: =A50+1 -> 12 | B51: ='12'!C23+'12'!C24 -> 0 | C51: ='12'!F23+'12'!F24 -> 0 | D51: =B51-C51 -> 0 | E51: =C51-B51 -> 0 | F51: ='12'!C41 -> 0 | G51: ='12'!F41 -> 0 | H51: =F51-G51 -> 0 | I51: =G51-F51 -> 0 | J51: ='12'!C44 -> 0 | K51: ='12'!F44 -> 0 | L51: =J51-K51 -> 0 | M51: =K51-J51 -> 0 | N51: ='12'!C56 -> 0 | O51: ='12'!F56 -> 0 | P51: =N51-O51 -> 0 | Q51: =O51-N51 -> 0 | R51: ='12'!C17 -> 0 | S51: ='12'!F17 -> 0 | T51: =R51-S51 -> 0 | U51: =S51-R51 -> 0 | V51: ='12'!C63 -> 0 | W51: ='12'!F63 -> 0 | X51: =V51-W51 -> 0 | Y51: =W51-V51 -> 0
A52: =A51+1 -> 13 | B52: ='13'!C23+'13'!C24 -> 0 | C52: ='13'!F23+'13'!F24 -> 0 | D52: =B52-C52 -> 0 | E52: =C52-B52 -> 0 | F52: ='13'!C41 -> 0 | G52: ='13'!F41 -> 0 | H52: =F52-G52 -> 0 | I52: =G52-F52 -> 0 | J52: ='13'!C44 -> 0 | K52: ='13'!F44 -> 0 | L52: =J52-K52 -> 0 | M52: =K52-J52 -> 0 | N52: ='13'!C56 -> 0 | O52: ='13'!F56 -> 0 | P52: =N52-O52 -> 0 | Q52: =O52-N52 -> 0 | R52: ='13'!C17 -> 0 | S52: ='13'!F17 -> 0 | T52: =R52-S52 -> 0 | U52: =S52-R52 -> 0 | V52: ='13'!C63 -> 0 | W52: ='13'!F63 -> 0 | X52: =V52-W52 -> 0 | Y52: =W52-V52 -> 0
A53: =A52+1 -> 14 | B53: ='14'!C23+'14'!C24 -> 0 | C53: ='14'!F23+'14'!F24 -> 0 | D53: =B53-C53 -> 0 | E53: =C53-B53 -> 0 | F53: ='14'!C41 -> 0 | G53: ='14'!F41 -> 0 | H53: =F53-G53 -> 0 | I53: =G53-F53 -> 0 | J53: ='14'!C44 -> 0 | K53: ='14'!F44 -> 0 | L53: =J53-K53 -> 0 | M53: =K53-J53 -> 0 | N53: ='14'!C56 -> 0 | O53: ='14'!F56 -> 0 | P53: =N53-O53 -> 0 | Q53: =O53-N53 -> 0 | R53: ='14'!C17 -> 0 | S53: ='14'!F17 -> 0 | T53: =R53-S53 -> 0 | U53: =S53-R53 -> 0 | V53: ='14'!C63 -> 0 | W53: ='14'!F63 -> 0 | X53: =V53-W53 -> 0 | Y53: =W53-V53 -> 0
A54: =A53+1 -> 15 | B54: ='15'!C23+'15'!C24 -> 0 | C54: ='15'!F23+'15'!F24 -> 0 | D54: =B54-C54 -> 0 | E54: =C54-B54 -> 0 | F54: ='15'!C41 -> 0 | G54: ='15'!F41 -> 0 | H54: =F54-G54 -> 0 | I54: =G54-F54 -> 0 | J54: ='15'!C44 -> 0 | K54: ='15'!F44 -> 0 | L54: =J54-K54 -> 0 | M54: =K54-J54 -> 0 | N54: ='15'!C56 -> 0 | O54: ='15'!F56 -> 0 | P54: =N54-O54 -> 0 | Q54: =O54-N54 -> 0 | R54: ='15'!C17 -> 0 | S54: ='15'!F17 -> 0 | T54: =R54-S54 -> 0 | U54: =S54-R54 -> 0 | V54: ='15'!C63 -> 0 | W54: ='15'!F63 -> 0 | X54: =V54-W54 -> 0 | Y54: =W54-V54 -> 0
A55: =A54+1 -> 16 | B55: ='16'!C23+'16'!C24 -> 0 | C55: ='16'!F23+'16'!F24 -> 0 | D55: =B55-C55 -> 0 | E55: =C55-B55 -> 0 | F55: ='16'!C41 -> 0 | G55: ='16'!F41 -> 0 | H55: =F55-G55 -> 0 | I55: =G55-F55 -> 0 | J55: ='16'!C44 -> 0 | K55: ='16'!F44 -> 0 | L55: =J55-K55 -> 0 | M55: =K55-J55 -> 0 | N55: ='16'!C56 -> 0 | O55: ='16'!F56 -> 0 | P55: =N55-O55 -> 0 | Q55: =O55-N55 -> 0 | R55: ='16'!C17 -> 0 | S55: ='16'!F17 -> 0 | T55: =R55-S55 -> 0 | U55: =S55-R55 -> 0 | V55: ='16'!C63 -> 0 | W55: ='16'!F63 -> 0 | X55: =V55-W55 -> 0 | Y55: =W55-V55 -> 0
A56: =A55+1 -> 17 | B56: ='17'!C23+'17'!C24 -> 0 | C56: ='17'!F23+'17'!F24 -> 0 | D56: =B56-C56 -> 0 | E56: =C56-B56 -> 0 | F56: ='17'!C41 -> 0 | G56: ='17'!F41 -> 0 | H56: =F56-G56 -> 0 | I56: =G56-F56 -> 0 | J56: ='17'!C44 -> 0 | K56: ='17'!F44 -> 0 | L56: =J56-K56 -> 0 | M56: =K56-J56 -> 0 | N56: ='17'!C56 -> 0 | O56: ='17'!F56 -> 0 | P56: =N56-O56 -> 0 | Q56: =O56-N56 -> 0 | R56: ='17'!C17 -> 0 | S56: ='17'!F17 -> 0 | T56: =R56-S56 -> 0 | U56: =S56-R56 -> 0 | V56: ='17'!C63 -> 0 | W56: ='17'!F63 -> 0 | X56: =V56-W56 -> 0 | Y56: =W56-V56 -> 0
A57: =A56+1 -> 18 | B57: ='18'!C23+'18'!C24 -> 0 | C57: ='18'!F23+'18'!F24 -> 0 | D57: =B57-C57 -> 0 | E57: =C57-B57 -> 0 | F57: ='18'!C41 -> 0 | G57: ='18'!F41 -> 0 | H57: =F57-G57 -> 0 | I57: =G57-F57 -> 0 | J57: ='18'!C44 -> 0 | K57: ='18'!F44 -> 0 | L57: =J57-K57 -> 0 | M57: =K57-J57 -> 0 | N57: ='18'!C56 -> 0 | O57: ='18'!F56 -> 0 | P57: =N57-O57 -> 0 | Q57: =O57-N57 -> 0 | R57: ='18'!C17 -> 0 | S57: ='18'!F17 -> 0 | T57: =R57-S57 -> 0 | U57: =S57-R57 -> 0 | V57: ='18'!C63 -> 0 | W57: ='18'!F63 -> 0 | X57: =V57-W57 -> 0 | Y57: =W57-V57 -> 0
A58: =A57+1 -> 19 | B58: ='19'!C23+'19'!C24 -> 0 | C58: ='19'!F23+'19'!F24 -> 0 | D58: =B58-C58 -> 0 | E58: =C58-B58 -> 0 | F58: ='19'!C41 -> 0 | G58: ='19'!F41 -> 0 | H58: =F58-G58 -> 0 | I58: =G58-F58 -> 0 | J58: ='19'!C44 -> 0 | K58: ='19'!F44 -> 0 | L58: =J58-K58 -> 0 | M58: =K58-J58 -> 0 | N58: ='19'!C56 -> 0 | O58: ='19'!F56 -> 0 | P58: =N58-O58 -> 0 | Q58: =O58-N58 -> 0 | R58: ='19'!C17 -> 0 | S58: ='19'!F17 -> 0 | T58: =R58-S58 -> 0 | U58: =S58-R58 -> 0 | V58: ='19'!C63 -> 0 | W58: ='19'!F63 -> 0 | X58: =V58-W58 -> 0 | Y58: =W58-V58 -> 0
A59: =A58+1 -> 20 | B59: ='20'!C23+'20'!C24 -> 0 | C59: ='20'!F23+'20'!F24 -> 0 | D59: =B59-C59 -> 0 | E59: =C59-B59 -> 0 | F59: ='20'!C41 -> 0 | G59: ='20'!F41 -> 0 | H59: =F59-G59 -> 0 | I59: =G59-F59 -> 0 | J59: ='20'!C44 -> 0 | K59: ='20'!F44 -> 0 | L59: =J59-K59 -> 0 | M59: =K59-J59 -> 0 | N59: ='20'!C56 -> 0 | O59: ='20'!F56 -> 0 | P59: =N59-O59 -> 0 | Q59: =O59-N59 -> 0 | R59: ='20'!C17 -> 0 | S59: ='20'!F17 -> 0 | T59: =R59-S59 -> 0 | U59: =S59-R59 -> 0 | V59: ='20'!C63 -> 0 | W59: ='20'!F63 -> 0 | X59: =V59-W59 -> 0 | Y59: =W59-V59 -> 0
A60: =A59+1 -> 21 | B60: ='21'!C23+'21'!C24 -> 0 | C60: ='21'!F23+'21'!F24 -> 0 | D60: =B60-C60 -> 0 | E60: =C60-B60 -> 0 | F60: ='21'!C41 -> 0 | G60: ='21'!F41 -> 0 | H60: =F60-G60 -> 0 | I60: =G60-F60 -> 0 | J60: ='21'!C44 -> 0 | K60: ='21'!F44 -> 0 | L60: =J60-K60 -> 0 | M60: =K60-J60 -> 0 | N60: ='21'!C56 -> 0 | O60: ='21'!F56 -> 0 | P60: =N60-O60 -> 0 | Q60: =O60-N60 -> 0 | R60: ='21'!C17 -> 0 | S60: ='21'!F17 -> 0 | T60: =R60-S60 -> 0 | U60: =S60-R60 -> 0 | V60: ='21'!C63 -> 0 | W60: ='21'!F63 -> 0 | X60: =V60-W60 -> 0 | Y60: =W60-V60 -> 0
A61: =A60+1 -> 22 | B61: ='22'!C23+'22'!C24 -> 0 | C61: ='22'!F23+'22'!F24 -> 0 | D61: =B61-C61 -> 0 | E61: =C61-B61 -> 0 | F61: ='22'!C41 -> 0 | G61: ='22'!F41 -> 0 | H61: =F61-G61 -> 0 | I61: =G61-F61 -> 0 | J61: ='22'!C44 -> 0 | K61: ='22'!F44 -> 0 | L61: =J61-K61 -> 0 | M61: =K61-J61 -> 0 | N61: ='22'!C56 -> 0 | O61: ='22'!F56 -> 0 | P61: =N61-O61 -> 0 | Q61: =O61-N61 -> 0 | R61: ='22'!C17 -> 0 | S61: ='22'!F17 -> 0 | T61: =R61-S61 -> 0 | U61: =S61-R61 -> 0 | V61: ='22'!C63 -> 0 | W61: ='22'!F63 -> 0 | X61: =V61-W61 -> 0 | Y61: =W61-V61 -> 0
A62: =A61+1 -> 23 | B62: ='23'!C23+'23'!C24 -> 0 | C62: ='23'!F24+'23'!F24 -> 0 | D62: =B62-C62 -> 0 | E62: =C62-B62 -> 0 | F62: ='23'!C41 -> 0 | G62: ='23'!F41 -> 0 | H62: =F62-G62 -> 0 | I62: =G62-F62 -> 0 | J62: ='23'!C44 -> 0 | K62: ='23'!F44 -> 0 | L62: =J62-K62 -> 0 | M62: =K62-J62 -> 0 | N62: ='23'!C56 -> 0 | O62: ='23'!F56 -> 0 | P62: =N62-O62 -> 0 | Q62: =O62-N62 -> 0 | R62: ='23'!C17 -> 0 | S62: ='23'!F17 -> 0 | T62: =R62-S62 -> 0 | U62: =S62-R62 -> 0 | V62: ='23'!C63 -> 0 | W62: ='23'!F63 -> 0 | X62: =V62-W62 -> 0 | Y62: =W62-V62 -> 0
A63: =A62+1 -> 24 | B63: ='24'!C23+'24'!C24 -> 0 | C63: ='24'!F23+'24'!F24 -> 0 | D63: =B63-C63 -> 0 | E63: =C63-B63 -> 0 | F63: ='24'!C41 -> 0 | G63: ='24'!F41 -> 0 | H63: =F63-G63 -> 0 | I63: =G63-F63 -> 0 | J63: ='24'!C44 -> 0 | K63: ='24'!F44 -> 0 | L63: =J63-K63 -> 0 | M63: =K63-J63 -> 0 | N63: ='24'!C56 -> 0 | O63: ='24'!F56 -> 0 | P63: =N63-O63 -> 0 | Q63: =O63-N63 -> 0 | R63: ='24'!C17 -> 0 | S63: ='24'!F17 -> 0 | T63: =R63-S63 -> 0 | U63: =S63-R63 -> 0 | V63: ='24'!C63 -> 0 | W63: ='24'!F63 -> 0 | X63: =V63-W63 -> 0 | Y63: =W63-V63 -> 0
A64: =A63+1 -> 25 | B64: ='25'!C23+'25'!C24 -> 0 | C64: ='25'!F23+'25'!F24 -> 0 | D64: =B64-C64 -> 0 | E64: =C64-B64 -> 0 | F64: ='25'!C41 -> 0 | G64: ='25'!F41 -> 0 | H64: =F64-G64 -> 0 | I64: =G64-F64 -> 0 | J64: ='25'!C44 -> 0 | K64: ='25'!F44 -> 0 | L64: =J64-K64 -> 0 | M64: =K64-J64 -> 0 | N64: ='25'!C56 -> 0 | O64: ='25'!F56 -> 0 | P64: =N64-O64 -> 0 | Q64: =O64-N64 -> 0 | R64: ='25'!C17 -> 0 | S64: ='25'!F17 -> 0 | T64: =R64-S64 -> 0 | U64: =S64-R64 -> 0 | V64: ='25'!C63 -> 0 | W64: ='25'!F63 -> 0 | X64: =V64-W64 -> 0 | Y64: =W64-V64 -> 0
A65: =A64+1 -> 26 | B65: ='26'!C23+'26'!C24 -> 0 | C65: ='26'!F23+'26'!F24 -> 0 | D65: =B65-C65 -> 0 | E65: =C65-B65 -> 0 | F65: ='26'!C41 -> 0 | G65: ='26'!F41 -> 0 | H65: =F65-G65 -> 0 | I65: =G65-F65 -> 0 | J65: ='26'!C44 -> 0 | K65: ='26'!F44 -> 0 | L65: =J65-K65 -> 0 | M65: =K65-J65 -> 0 | N65: ='26'!C56 -> 0 | O65: ='26'!F56 -> 0 | P65: =N65-O65 -> 0 | Q65: =O65-N65 -> 0 | R65: ='26'!C17 -> 0 | S65: ='26'!F17 -> 0 | T65: =R65-S65 -> 0 | U65: =S65-R65 -> 0 | V65: ='26'!C63 -> 0 | W65: ='26'!F63 -> 0 | X65: =V65-W65 -> 0 | Y65: =W65-V65 -> 0
A66: =A65+1 -> 27 | B66: ='27'!C23+'27'!C24 -> 0 | C66: ='27'!F23+'27'!F24 -> 0 | D66: =B66-C66 -> 0 | E66: =C66-B66 -> 0 | F66: ='27'!C41 -> 0 | G66: ='27'!F41 -> 0 | H66: =F66-G66 -> 0 | I66: =G66-F66 -> 0 | J66: ='27'!C44 -> 0 | K66: ='27'!F44 -> 0 | L66: =J66-K66 -> 0 | M66: =K66-J66 -> 0 | N66: ='27'!C56 -> 0 | O66: ='27'!F56 -> 0 | P66: =N66-O66 -> 0 | Q66: =O66-N66 -> 0 | R66: ='27'!C17 -> 0 | S66: ='27'!F17 -> 0 | T66: =R66-S66 -> 0 | U66: =S66-R66 -> 0 | V66: ='27'!C63 -> 0 | W66: ='27'!F63 -> 0 | X66: =V66-W66 -> 0 | Y66: =W66-V66 -> 0
A67: =A66+1 -> 28 | B67: ='28'!C23+'28'!C24 -> 0 | C67: ='28'!F23+'28'!F24 -> 0 | D67: =B67-C67 -> 0 | E67: =C67-B67 -> 0 | F67: ='28'!C41 -> 0 | G67: ='28'!F41 -> 0 | H67: =F67-G67 -> 0 | I67: =G67-F67 -> 0 | J67: ='28'!C44 -> 0 | K67: ='28'!F44 -> 0 | L67: =J67-K67 -> 0 | M67: =K67-J67 -> 0 | N67: ='28'!C56 -> 0 | O67: ='28'!F56 -> 0 | P67: =N67-O67 -> 0 | Q67: =O67-N67 -> 0 | R67: ='28'!C17 -> 0 | S67: ='28'!F17 -> 0 | T67: =R67-S67 -> 0 | U67: =S67-R67 -> 0 | V67: ='28'!C63 -> 0 | W67: ='28'!F63 -> 0 | X67: =V67-W67 -> 0 | Y67: =W67-V67 -> 0
A68: =A67+1 -> 29 | B68: ='29'!C23+'29'!C24 -> 0 | C68: ='29'!F23+'29'!F24 -> 0 | D68: =B68-C68 -> 0 | E68: =C68-B68 -> 0 | F68: ='29'!C41 -> 0 | G68: ='29'!F41 -> 0 | H68: =F68-G68 -> 0 | I68: =G68-F68 -> 0 | J68: ='29'!C44 -> 0 | K68: ='29'!F44 -> 0 | L68: =J68-K68 -> 0 | M68: =K68-J68 -> 0 | N68: ='29'!C56 -> 0 | O68: ='29'!F56 -> 0 | P68: =N68-O68 -> 0 | Q68: =O68-N68 -> 0 | R68: ='29'!C17 -> 0 | S68: ='29'!F17 -> 0 | T68: =R68-S68 -> 0 | U68: =S68-R68 -> 0 | V68: ='29'!C63 -> 0 | W68: ='29'!F63 -> 0 | X68: =V68-W68 -> 0 | Y68: =W68-V68 -> 0
A69: =A68+1 -> 30 | B69: ='30'!C23+'30'!C24 -> 0 | C69: ='30'!F23+'30'!F24 -> 0 | D69: =B69-C69 -> 0 | E69: =C69-B69 -> 0 | F69: ='30'!C41 -> 0 | G69: ='30'!F41 -> 0 | H69: =F69-G69 -> 0 | I69: =G69-F69 -> 0 | J69: ='30'!C44 -> 0 | K69: ='30'!F44 -> 0 | L69: =J69-K69 -> 0 | M69: =K69-J69 -> 0 | N69: ='30'!C56 -> 0 | O69: ='30'!F56 -> 0 | P69: =N69-O69 -> 0 | Q69: =O69-N69 -> 0 | R69: ='30'!C17 -> 0 | S69: ='30'!F17 -> 0 | T69: =R69-S69 -> 0 | U69: =S69-R69 -> 0 | V69: ='30'!C63 -> 0 | W69: ='30'!F63 -> 0 | X69: =V69-W69 -> 0 | Y69: =W69-V69 -> 0
A70: =A69+1 -> 31 | B70: ='31'!C23+'31'!C24 -> 0 | C70: ='31'!F23+'31'!F24 -> 0 | D70: =B70-C70 -> 0 | E70: =C70-B70 -> 0 | F70: ='31'!C41 -> 0 | G70: ='31'!F41 -> 0 | H70: =F70-G70 -> 0 | I70: =G70-F70 -> 0 | J70: ='31'!C44 -> 0 | K70: ='31'!F44 -> 0 | L70: =J70-K70 -> 0 | M70: =K70-J70 -> 0 | N70: ='31'!C56 -> 0 | O70: ='31'!F56 -> 0 | P70: =N70-O70 -> 0 | Q70: =O70-N70 -> 0 | R70: ='31'!C17 -> 0 | S70: ='31'!F17 -> 0 | T70: =R70-S70 -> 0 | U70: =S70-R70 -> 0 | V70: ='31'!C63 -> 0 | W70: ='31'!F63 -> 0 | X70: =V70-W70 -> 0 | Y70: =W70-V70 -> 0
A71: TOTAL | B71: =SUM(B40:B70)-SUM(C40:C70) -> 0 | C71: =SUM(C40:C70)-SUM(B40:B70) -> 0 | D71: =SUM(D40:D70) -> 0 | E71: =SUM(E40:E70) -> 0 | F71: =SUM(F40:F70)-SUM(G40:G70) -> 0 | G71: =SUM(G40:G70)-SUM(F40:F70) -> 0 | H71: =SUM(H40:H70) -> 0 | I71: =SUM(I40:I70) -> 0 | J71: =SUM(J40:J70)-SUM(K40:K70) -> 0 | K71: =SUM(K40:K70)-SUM(J40:J70) -> 0 | L71: =SUM(L40:L70) -> 0 | M71: =SUM(M40:M70) -> 0 | N71: =SUM(N40:N70)-SUM(O40:O70) -> 0 | O71: =SUM(O40:O70)-SUM(N40:N70) -> 0 | P71: =SUM(P40:P70) -> 0 | Q71: =SUM(Q40:Q70) -> 0 | R71: =SUM(R40:R70)-SUM(S40:S70) -> 0 | S71: =SUM(S40:S70)-SUM(R40:R70) -> 0 | T71: =SUM(T40:T70) -> 0 | U71: =SUM(U40:U70) -> 0 | V71: =SUM(V40:V70)-SUM(W40:W70) -> 0 | W71: =SUM(W40:W70)-SUM(V40:V70) -> 0 | X71: =SUM(X40:X70) -> 0 | Y71: =SUM(Y40:Y70) -> 0

Sheet CONTROLE TPE
C1: TP 1 et TP 2 | D1: MANUELLES | E1: TOTAL | F1: TP GRILL | G1: OGONE | H1: TOTAL | I1: OBS | N1: ECART | O1: CUMUL | P1: TOTAL F. | Q1: VERIF
C2: TPE RECEPT. | H2: CB/AEX/PLBS | N2: FOLS/ORDI | P2: SITUATION | Q2: ECART
A3: 1 | B3: CB | C3: ='1'!C25+'1'!C26 -> 0 | D3: ='1'!C27 -> 0 | E3: =SUM(C3:D3) -> 0 | F3: ='1'!C28+'1'!C29 -> 0 | G3: ='1'!C37 -> 0 | H3: =SUM(E3:G3) -> 0 | I3: OEU | J3: ='1'!C33 -> 0 | K3: + | L3: OPEM | M3: ='1'!C34 -> 0 | N3: ='1'!G41+'1'!G44 -> 0 | O3: =+H3 -> 0 | Q3: =P3-O3 -> 0
B4: AEX | C4: ='1'!C45 -> 0 | E4: =SUM(C4:D4) -> 0 | F4: ='1'!C46 -> 0 | G4: ='1'!C52 -> 0 | H4: =SUM(E4:G4) -> 0 | I4: OVI | J4: ='1'!C32 -> 0 | K4: + | L4: OPVI | M4: ='1'!C35 -> 0 | N4: ='1'!G52 -> 0 | O4: =+H4 -> 0 | Q4: =P4-O4 -> 0
B5: PLBS | E5: =SUM(C5:D5) -> 0 | H5: =SUM(E5:G5) -> 0 | I5: OAM | J5: ='1'!C49 -> 0 | K5: + | L5: OPAM | M5: ='1'!C50 -> 0
A6: 2 | B6: CB | C6: ='2'!C25+'2'!C26 -> 0 | D6: ='2'!C27 -> 0 | E6: =SUM(C6:D6) -> 0 | F6: ='2'!C28+'2'!C29 -> 0 | G6: ='2'!C37 -> 0 | H6: =SUM(E6:G6) -> 0 | I6: OEU | J6: ='2'!C33 -> 0 | K6: + | L6: OPEM | M6: ='2'!C34 -> 0 | N6: ='2'!G39+'2'!G42 -> 0 | O6: =+O3+H6 -> 0 | Q6: =P6-O6 -> 0
B7: AEX | C7: ='2'!C45 -> 0 | E7: =SUM(C7:D7) -> 0 | F7: ='2'!C46 -> 0 | G7: ='2'!C52 -> 0 | H7: =SUM(E7:G7) -> 0 | I7: OVI | J7: ='2'!C32 -> 0 | K7: + | L7: OPVI | M7: ='2'!C35 -> 0 | N7: ='2'!G50 -> 0 | O7: =+O4+H7 -> 0 | Q7: =P7-O7 -> 0
B8: PLBS | E8: =SUM(C8:D8) -> 0 | H8: =SUM(E8:G8) -> 0 | I8: OAM | J8: ='2'!C49 -> 0 | K8: + | L8: OPAM | M8: ='2'!C50 -> 0
A9: 3 | B9: CB | C9: ='3'!C25+'3'!C26 -> 0 | D9: ='3'!C27 -> 0 | E9: =SUM(C9:D9) -> 0 | F9: ='3'!C28+'3'!C29 -> 0 | G9: ='3'!C37 -> 0 | H9: =SUM(E9:G9) -> 0 | I9: OEU | J9: ='3'!C33 -> 0 | K9: + | L9: OPEM | M9: ='3'!C34 -> 0 | N9: ='3'!G39+'3'!G42 -> 0 | O9: =+O6+H9 -> 0 | Q9: =P9-O9 -> 0
B10: AEX | C10: ='3'!C45 -> 0 | E10: =SUM(C10:D10) -> 0 | F10: ='3'!C46 -> 0 | G10: ='3'!C52 -> 0 | H10: =SUM(E10:G10) -> 0 | I10: OVI | J10: ='3'!C32 -> 0 | K10: + | L10: OPVI | M10: ='3'!C35 -> 0 | N10: ='3'!G50 -> 0 | O10: =+O7+H10 -> 0 | Q10: =P10-O10 -> 0
B11: PLBS | E11: =SUM(C11:D11) -> 0 | H11: =SUM(E11:G11) -> 0 | I11: OAM | J11: ='3'!C49 -> 0 | K11: + | L11: OPAM | M11: ='3'!C50 -> 0
A12: 4 | B12: CB | C12: ='4'!C25+'4'!C26 -> 0 | D12: ='4'!C27 -> 0 | E12: =SUM(C12:D12) -> 0 | F12: ='4'!C28+'4'!C29 -> 0 | G12: ='4'!C37 -> 0 | H12: =SUM(E12:G12) -> 0 | I12: OEU | J12: ='4'!C33 -> 0 | K12: + | L12: OPEM | M12: ='4'!C34 -> 0 | N12: ='4'!G39+'4'!G42 -> 0 | O12: =+O9+H12 -> 0 | Q12: =P12-O12 -> 0
B13: AEX | C13: ='4'!C45 -> 0 | E13: =SUM(C13:D13) -> 0 | F13: ='4'!C46 -> 0 | G13: ='4'!C52 -> 0 | H13: =SUM(E13:G13) -> 0 | I13: OVI | J13: ='4'!C32 -> 0 | K13: + | L13: OPVI | M13: ='4'!C35 -> 0 | N13: ='4'!G50 -> 0 | O13: =+O10+H13 -> 0 | Q13: =P13-O13 -> 0
B14: PLBS | E14: =SUM(C14:D14) -> 0 | H14: =SUM(E14:G14) -> 0 | I14: OAM | J14: ='4'!C49 -> 0 | K14: + | L14: OPAM | M14: ='4'!C50 -> 0
A15: 5 | B15: CB | C15: ='5'!C25+'5'!C26 -> 0 | D15: ='5'!C27 -> 0 | E15: =SUM(C15:D15) -> 0 | F15: ='5'!C28+'5'!C29 -> 0 | G15: ='5'!C37 -> 0 | H15: =SUM(E15:G15) -> 0 | I15: OEU | J15: ='5'!C33 -> 0 | K15: + | L15: OPEM | M15: ='5'!C34 -> 0 | N15: ='5'!G39+'5'!G42 -> 0 | O15: =+O12+H15 -> 0 | Q15: =P15-O15 -> 0
B16: AEX | C16: ='5'!C45 -> 0 | E16: =SUM(C16:D16) -> 0 | F16: ='5'!C46 -> 0 | G16: ='5'!C52 -> 0 | H16: =SUM(E16:G16) -> 0 | I16: OVI | J16: ='5'!C32 -> 0 | K16: + | L16: OPVI | M16: ='5'!C35 -> 0 | N16: ='5'!G50 -> 0 | O16: =+O13+H16 -> 0 | Q16: =P16-O16 -> 0
B17: PLBS | E17: =SUM(C17:D17) -> 0 | H17: =SUM(E17:G17) -> 0 | I17: OAM | J17: ='5'!C49 -> 0 | K17: + | L17: OPAM | M17: ='5'!C50 -> 0
A18: 6 | B18: CB | C18: ='6'!C25+'6'!C26 -> 0 | D18: ='6'!C27 -> 0 | E18: =SUM(C18:D18) -> 0 | F18: ='6'!C28+'6'!C29 -> 0 | G18: ='6'!C37 -> 0 | H18: =SUM(E18:G18) -> 0 | I18: OEU | J18: ='6'!C33 -> 0 | K18: + | L18: OPEM | M18: ='6'!C34 -> 0 | N18: ='6'!G39+'6'!G42 -> 0 | O18: =+O15+H18 -> 0 | Q18: =P18-O18 -> 0
B19: AEX | C19: ='6'!C45 -> 0 | E19: =SUM(C19:D19) -> 0 | F19: ='6'!C46 -> 0 | G19: ='6'!C52 -> 0 | H19: =SUM(E19:G19) -> 0 | I19: OVI | J19: ='6'!C32 -> 0 | K19: + | L19: OPVI | M19: ='6'!C35 -> 0 | N19: ='6'!G50 -> 0 | O19: =+O16+H19 -> 0 | Q19: =P19-O19 -> 0
B20: PLBS | E20: =SUM(C20:D20) -> 0 | H20: =SUM(E20:G20) -> 0 | I20: OAM | J20: ='6'!C49 -> 0 | K20: + | L20: OPAM | M20: ='6'!C50 -> 0
A21: 7 | B21: CB | C21: ='7'!C25+'7'!C26 -> 0 | D21: ='7'!C27 -> 0 | E21: =SUM(C21:D21) -> 0 | F21: ='7'!C28+'7'!C29 -> 0 | G21: ='7'!C37 -> 0 | H21: =SUM(E21:G21) -> 0 | I21: OEU | J21: ='7'!C33 -> 0 | K21: + | L21: OPEM | M21: ='7'!C34 -> 0 | N21: ='7'!G39+'7'!G42 -> 0 | O21: =+O18+H21 -> 0 | Q21: =P21-O21 -> 0
B22: AEX | C22: ='7'!C45 -> 0 | E22: =SUM(C22:D22) -> 0 | F22: ='7'!C46 -> 0 | G22: ='7'!C52 -> 0 | H22: =SUM(E22:G22) -> 0 | I22: OVI | J22: ='7'!C32 -> 0 | K22: + | L22: OPVI | M22: ='7'!C35 -> 0 | N22: ='7'!G50 -> 0 | O22: =+O19+H22 -> 0 | Q22: =P22-O22 -> 0
B23: PLBS | E23: =SUM(C23:D23) -> 0 | H23: =SUM(E23:G23) -> 0 | I23: OAM | J23: ='7'!C49 -> 0 | K23: + | L23: OPAM | M23: ='7'!C50 -> 0
A24: 8 | B24: CB | C24: ='8'!C25+'8'!C26 -> 0 | D24: ='8'!C27 -> 0 | E24: =SUM(C24:D24) -> 0 | F24: ='8'!C28+'8'!C29 -> 0 | G24: ='8'!C37 -> 0 | H24: =SUM(E24:G24) -> 0 | I24: OEU | J24: ='8'!C33 -> 0 | K24: + | L24: OPEM | M24: ='8'!C34 -> 0 | N24: ='8'!G39+'8'!G42 -> 0 | O24: =+O21+H24 -> 0 | Q24: =P24-O24 -> 0
B25: AEX | C25: ='8'!C45 -> 0 | E25: =SUM(C25:D25) -> 0 | F25: ='8'!C46 -> 0 | G25: ='8'!C52 -> 0 | H25: =SUM(E25:G25) -> 0 | I25: OVI | J25: ='8'!C32 -> 0 | K25: + | L25: OPVI | M25: ='8'!C35 -> 0 | N25: ='8'!G50 -> 0 | O25: =+O22+H25 -> 0 | Q25: =P25-O25 -> 0
B26: PLBS | E26: =SUM(C26:D26) -> 0 | H26: =SUM(E26:G26) -> 0 | I26: OAM | J26: ='8'!C49 -> 0 | K26: + | L26: OPAM | M26: ='8'!C50 -> 0
A27: 9 | B27: CB | C27: ='9'!C25+'9'!C26 -> 0 | D27: ='9'!C27 -> 0 | E27: =SUM(C27:D27) -> 0 | F27: ='9'!C28+'9'!C29 -> 0 | G27: ='9'!C37 -> 0 | H27: =SUM(E27:G27) -> 0 | I27: OEU | J27: ='9'!C33 -> 0 | K27: + | L27: OPEM | M27: ='9'!C34 -> 0 | N27: ='9'!G39+'9'!G42 -> 0 | O27: =+O24+H27 -> 0 | Q27: =P27-O27 -> 0
B28: AEX | C28: ='9'!C45 -> 0 | E28: =SUM(C28:D28) -> 0 | F28: ='9'!C46 -> 0 | G28: ='9'!C52 -> 0 | H28: =SUM(E28:G28) -> 0 | I28: OVI | J28: ='9'!C32 -> 0 | K28: + | L28: OPVI | M28: ='9'!C35 -> 0 | N28: ='9'!G50 -> 0 | O28: =+O25+H28 -> 0 | Q28: =P28-O28 -> 0
B29: PLBS | E29: =SUM(C29:D29) -> 0 | H29: =SUM(E29:G29) -> 0 | I29: OAM | J29: ='9'!C49 -> 0 | K29: + | L29: OPAM | M29: ='9'!C50 -> 0
A30: 10 | B30: CB | C30: ='10'!C25+'10'!C26 -> 0 | D30: ='10'!C27 -> 0 | E30: =SUM(C30:D30) -> 0 | F30: ='10'!C28+'10'!C29 -> 0 | G30: ='10'!C37 -> 0 | H30: =SUM(E30:G30) -> 0 | I30: OEU | J30: ='10'!C33 -> 0 | K30: + | L30: OPEM | M30: ='10'!C34 -> 0 | N30: ='10'!G39+'10'!G42 -> 0 | O30: =+O27+H30 -> 0 | Q30: =P30-O30 -> 0
B31: AEX | C31: ='10'!C45 -> 0 | E31: =SUM(C31:D31) -> 0 | F31: ='10'!C46 -> 0 | G31: ='10'!C52 -> 0 | H31: =SUM(E31:G31) -> 0 | I31: OVI | J31: ='10'!C32 -> 0 | K31: + | L31: OPVI | M31: ='10'!C35 -> 0 | N31: ='10'!G50 -> 0 | O31: =+O28+H31 -> 0 | Q31: =P31-O31 -> 0
B32: PLBS | E32: =SUM(C32:D32) -> 0 | H32: =SUM(E32:G32) -> 0 | I32: OAM | J32: ='10'!C49 -> 0 | K32: + | L32: OPAM | M32: ='10'!C50 -> 0
A33: 11 | B33: CB | C33: ='11'!C25+'11'!C26 -> 0 | D33: ='11'!C27 -> 0 | E33: =SUM(C33:D33) -> 0 | F33: ='11'!C28+'11'!C29 -> 0 | G33: ='11'!C37 -> 0 | H33: =SUM(E33:G33) -> 0 | I33: OEU | J33: ='11'!C33 -> 0 | K33: + | L33: OPEM | M33: ='11'!C34 -> 0 | N33: ='11'!G39+'11'!G42 -> 0 | O33: =+O30+H33 -> 0 | Q33: =P33-O33 -> 0
B34: AEX | C34: ='11'!C45 -> 0 | E34: =SUM(C34:D34) -> 0 | F34: ='11'!C46 -> 0 | G34: ='11'!C52 -> 0 | H34: =SUM(E34:G34) -> 0 | I34: OVI | J34: ='11'!C32 -> 0 | K34: + | L34: OPVI | M34: ='11'!C35 -> 0 | N34: ='11'!G50 -> 0 | O34: =+O31+H34 -> 0 | Q34: =P34-O34 -> 0
B35: PLBS | E35: =SUM(C35:D35) -> 0 | H35: =SUM(E35:G35) -> 0 | I35: OAM | J35: ='11'!C49 -> 0 | K35: + | L35: OPAM | M35: ='11'!C50 -> 0
A36: 12 | B36: CB | C36: ='12'!C25+'12'!C26 -> 0 | D36: ='12'!C27 -> 0 | E36: =SUM(C36:D36) -> 0 | F36: ='12'!C28+'12'!C29 -> 0 | G36: ='12'!C37 -> 0 | H36: =SUM(E36:G36) -> 0 | I36: OEU | J36: ='12'!C33 -> 0 | K36: + | L36: OPEM | M36: ='12'!C34 -> 0 | N36: ='12'!G39+'12'!G42 -> 0 | O36: =+O33+H36 -> 0 | Q36: =P36-O36 -> 0
B37: AEX | C37: ='12'!C45 -> 0 | E37: =SUM(C37:D37) -> 0 | F37: ='12'!C46 -> 0 | G37: ='12'!C52 -> 0 | H37: =SUM(E37:G37) -> 0 | I37: OVI | J37: ='12'!C32 -> 0 | K37: + | L37: OPVI | M37: ='12'!C35 -> 0 | N37: ='12'!G50 -> 0 | O37: =+O34+H37 -> 0 | Q37: =P37-O37 -> 0
B38: PLBS | E38: =SUM(C38:D38) -> 0 | H38: =SUM(E38:G38) -> 0 | I38: OAM | J38: ='12'!C49 -> 0 | K38: + | L38: OPAM | M38: ='12'!C50 -> 0
A39: 13 | B39: CB | C39: ='13'!C25+'13'!C26 -> 0 | D39: ='13'!C27 -> 0 | E39: =SUM(C39:D39) -> 0 | F39: ='13'!C28+'13'!C29 -> 0 | G39: ='13'!C37 -> 0 | H39: =SUM(E39:G39) -> 0 | I39: OEU | J39: ='13'!C33 -> 0 | K39: + | L39: OPEM | M39: ='13'!C34 -> 0 | N39: ='13'!G39+'13'!G42 -> 0 | O39: =+O36+H39 -> 0 | Q39: =P39-O39 -> 0
B40: AEX | C40: ='13'!C45 -> 0 | E40: =SUM(C40:D40) -> 0 | F40: ='13'!C46 -> 0 | G40: ='13'!C52 -> 0 | H40: =SUM(E40:G40) -> 0 | I40: OVI | J40: ='13'!C32 -> 0 | K40: + | L40: OPVI | M40: ='13'!C35 -> 0 | N40: ='13'!G50 -> 0 | O40: =+O37+H40 -> 0 | Q40: =P40-O40 -> 0
B41: PLBS | E41: =SUM(C41:D41) -> 0 | H41: =SUM(E41:G41) -> 0 | I41: OAM | J41: ='13'!C49 -> 0 | K41: + | L41: OPAM | M41: ='13'!C50 -> 0
A42: 14 | B42: CB | C42: ='14'!C25+'14'!C26 -> 0 | D42: ='14'!C27 -> 0 | E42: =SUM(C42:D42) -> 0 | F42: ='14'!C28+'14'!C29 -> 0 | G42: ='14'!C37 -> 0 | H42: =SUM(E42:G42) -> 0 | I42: OEU | J42: ='14'!C33 -> 0 | K42: + | L42: OPEM | M42: ='14'!C34 -> 0 | N42: ='14'!G39+'14'!G42 -> 0 | O42: =+O39+H42 -> 0 | Q42: =P42-O42 -> 0
B43: AEX | C43: ='14'!C45 -> 0 | E43: =SUM(C43:D43) -> 0 | F43: ='14'!C46 -> 0 | G43: ='14'!C52 -> 0 | H43: =SUM(E43:G43) -> 0 | I43: OVI | J43: ='14'!C32 -> 0 | K43: + | L43: OPVI | M43: ='14'!C35 -> 0 | N43: ='14'!G50 -> 0 | O43: =+O40+H43 -> 0 | Q43: =P43-O43 -> 0
B44: PLBS | E44: =SUM(C44:D44) -> 0 | H44: =SUM(E44:G44) -> 0 | I44: OAM | J44: ='14'!C49 -> 0 | K44: + | L44: OPAM | M44: ='14'!C50 -> 0
A45: 15 | B45: CB | C45: ='15'!C25+'15'!C26 -> 0 | D45: ='15'!C27 -> 0 | E45: =SUM(C45:D45) -> 0 | F45: ='15'!C28+'15'!C29 -> 0 | G45: ='15'!C37 -> 0 | H45: =SUM(E45:G45) -> 0 | I45: OEU | J45: ='15'!C33 -> 0 | K45: + | L45: OPEM | M45: ='15'!C34 -> 0 | N45: ='15'!G39+'15'!G42 -> 0 | O45: =+O42+H45 -> 0 | Q45: =P45-O45 -> 0
B46: AEX | C46: ='15'!C45 -> 0 | E46: =SUM(C46:D46) -> 0 | F46: ='15'!C46 -> 0 | G46: ='15'!C52 -> 0 | H46: =SUM(E46:G46) -> 0 | I46: OVI | J46: ='15'!C32 -> 0 | K46: + | L46: OPVI | M46: ='15'!C35 -> 0 | N46: ='15'!G50 -> 0 | O46: =+O43+H46 -> 0 | Q46: =P46-O46 -> 0
B47: PLBS | E47: =SUM(C47:D47) -> 0 | H47: =SUM(E47:G47) -> 0 | I47: OAM | J47: ='15'!C49 -> 0 | K47: + | L47: OPAM | M47: ='15'!C50 -> 0
A48: 16 | B48: CB | C48: ='16'!C25+'16'!C26 -> 0 | D48: ='16'!C27 -> 0 | E48: =SUM(C48:D48) -> 0 | F48: ='16'!C28+'16'!C29 -> 0 | G48: ='16'!C37 -> 0 | H48: =SUM(E48:G48) -> 0 | I48: OEU | J48: ='16'!C33 -> 0 | K48: + | L48: OPEM | M48: ='16'!C34 -> 0 | N48: ='16'!G39+'16'!G42 -> 0 | O48: =+O45+H48 -> 0 | Q48: =P48-O48 -> 0
B49: AEX | C49: ='16'!C45 -> 0 | E49: =SUM(C49:D49) -> 0 | F49: ='16'!C46 -> 0 | G49: ='16'!C52 -> 0 | H49: =SUM(E49:G49) -> 0 | I49: OVI | J49: ='16'!C32 -> 0 | K49: + | L49: OPVI | M49: ='16'!C35 -> 0 | N49: ='16'!G50 -> 0 | O49: =+O46+H49 -> 0 | Q49: =P49-O49 -> 0
B50: PLBS | E50: =SUM(C50:D50) -> 0 | H50: =SUM(E50:G50) -> 0 | I50: OAM | J50: ='16'!C49 -> 0 | K50: + | L50: OPAM | M50: ='16'!C50 -> 0
A51: 17 | B51: CB | C51: ='17'!C25+'17'!C26 -> 0 | D51: ='17'!C27 -> 0 | E51: =SUM(C51:D51) -> 0 | F51: ='17'!C28+'17'!C29 -> 0 | G51: ='17'!C37 -> 0 | H51: =SUM(E51:G51) -> 0 | I51: OEU | J51: ='17'!C33 -> 0 | K51: + | L51: OPEM | M51: ='17'!C34 -> 0 | N51: ='17'!G39+'17'!G42 -> 0 | O51: =+O48+H51 -> 0 | Q51: =P51-O51 -> 0
B52: AEX | C52: ='17'!C45 -> 0 | E52: =SUM(C52:D52) -> 0 | F52: ='17'!C46 -> 0 | G52: ='17'!C52 -> 0 | H52: =SUM(E52:G52) -> 0 | I52: OVI | J52: ='17'!C32 -> 0 | K52: + | L52: OPVI | M52: ='17'!C35 -> 0 | N52: ='17'!G50 -> 0 | O52: =+O49+H52 -> 0 | Q52: =P52-O52 -> 0
B53: PLBS | E53: =SUM(C53:D53) -> 0 | H53: =SUM(E53:G53) -> 0 | I53: OAM | J53: ='17'!C49 -> 0 | K53: + | L53: OPAM | M53: ='17'!C50 -> 0
A54: 18 | B54: CB | C54: ='18'!C25+'18'!C26 -> 0 | D54: ='18'!C27 -> 0 | E54: =SUM(C54:D54) -> 0 | F54: ='18'!C28+'18'!C29 -> 0 | G54: ='18'!C37 -> 0 | H54: =SUM(E54:G54) -> 0 | I54: OEU | J54: ='18'!C33 -> 0 | K54: + | L54: OPEM | M54: ='18'!C34 -> 0 | N54: ='18'!G39+'18'!G42 -> 0 | O54: =+O51+H54 -> 0 | Q54: =P54-O54 -> 0
B55: AEX | C55: ='18'!C45 -> 0 | E55: =SUM(C55:D55) -> 0 | F55: ='18'!C46 -> 0 | G55: ='18'!C52 -> 0 | H55: =SUM(E55:G55) -> 0 | I55: OVI | J55: ='18'!C32 -> 0 | K55: + | L55: OPVI | M55: ='18'!C35 -> 0 | N55: ='18'!G50 -> 0 | O55: =+O52+H55 -> 0 | Q55: =P55-O55 -> 0
B56: PLBS | E56: =SUM(C56:D56) -> 0 | H56: =SUM(E56:G56) -> 0 | I56: OAM | J56: ='18'!C49 -> 0 | K56: + | L56: OPAM | M56: ='18'!C50 -> 0
A57: 19 | B57: CB | C57: ='19'!C25+'19'!C26 -> 0 | D57: ='19'!C27 -> 0 | E57: =SUM(C57:D57) -> 0 | F57: ='19'!C28+'19'!C29 -> 0 | G57: ='19'!C37 -> 0 | H57: =SUM(E57:G57) -> 0 | I57: OEU | J57: ='19'!C33 -> 0 | K57: + | L57: OPEM | M57: ='19'!C34 -> 0 | N57: ='19'!G39+'19'!G42 -> 0 | O57: =+O54+H57 -> 0 | Q57: =P57-O57 -> 0
B58: AEX | C58: ='19'!C45 -> 0 | E58: =SUM(C58:D58) -> 0 | F58: ='19'!C46 -> 0 | G58: ='19'!C52 -> 0 | H58: =SUM(E58:G58) -> 0 | I58: OVI | J58: ='19'!C32 -> 0 | K58: + | L58: OPVI | M58: ='19'!C35 -> 0 | N58: ='19'!G50 -> 0 | O58: =+O55+H58 -> 0 | Q58: =P58-O58 -> 0
B59: PLBS | E59: =SUM(C59:D59) -> 0 | H59: =SUM(E59:G59) -> 0 | I59: OAM | J59: ='19'!C49 -> 0 | K59: + | L59: OPAM | M59: ='19'!C50 -> 0
A60: 20 | B60: CB | C60: ='20'!C25+'20'!C26 -> 0 | D60: ='20'!C27 -> 0 | E60: =SUM(C60:D60) -> 0 | F60: ='20'!C28+'20'!C29 -> 0 | G60: ='20'!C37 -> 0 | H60: =SUM(E60:G60) -> 0 | I60: OEU | J60: ='20'!C33 -> 0 | K60: + | L60: OPEM | M60: ='20'!C34 -> 0 | N60: ='20'!G39+'20'!G42 -> 0 | O60: =+O57+H60 -> 0 | Q60: =P60-O60 -> 0
B61: AEX | C61: ='20'!C45 -> 0 | E61: =SUM(C61:D61) -> 0 | F61: ='20'!C46 -> 0 | G61: ='20'!C52 -> 0 | H61: =SUM(E61:G61) -> 0 | I61: OVI | J61: ='20'!C32 -> 0 | K61: + | L61: OPVI | M61: ='20'!C35 -> 0 | N61: ='20'!G50 -> 0 | O61: =+O58+H61 -> 0 | Q61: =P61-O61 -> 0
B62: PLBS | E62: =SUM(C62:D62) -> 0 | H62: =SUM(E62:G62) -> 0 | I62: OAM | J62: ='20'!C49 -> 0 | K62: + | L62: OPAM | M62: ='20'!C50 -> 0
A63: 21 | B63: CB | C63: ='21'!C25+'21'!C26 -> 0 | D63: ='21'!C27 -> 0 | E63: =SUM(C63:D63) -> 0 | F63: ='21'!C28+'21'!C29 -> 0 | G63: ='21'!C37 -> 0 | H63: =SUM(E63:G63) -> 0 | I63: OEU | J63: ='21'!C33 -> 0 | K63: + | L63: OPEM | M63: ='21'!C34 -> 0 | N63: ='21'!G39+'21'!G42 -> 0 | O63: =+O60+H63 -> 0 | Q63: =P63-O63 -> 0
B64: AEX | C64: ='21'!C45 -> 0 | E64: =SUM(C64:D64) -> 0 | F64: ='21'!C46 -> 0 | G64: ='21'!C52 -> 0 | H64: =SUM(E64:G64) -> 0 | I64: OVI | J64: ='21'!C32 -> 0 | K64: + | L64: OPVI | M64: ='21'!C35 -> 0 | N64: ='21'!G50 -> 0 | O64: =+O61+H64 -> 0 | Q64: =P64-O64 -> 0
B65: PLBS | E65: =SUM(C65:D65) -> 0 | H65: =SUM(E65:G65) -> 0 | I65: OAM | J65: ='21'!C49 -> 0 | K65: + | L65: OPAM | M65: ='21'!C50 -> 0
A66: 22 | B66: CB | C66: ='22'!C25+'22'!C26 -> 0 | D66: ='22'!C27 -> 0 | E66: =SUM(C66:D66) -> 0 | F66: ='22'!C28+'22'!C29 -> 0 | G66: ='22'!C37 -> 0 | H66: =SUM(E66:G66) -> 0 | I66: OEU | J66: ='22'!C33 -> 0 | K66: + | L66: OPEM | M66: ='22'!C34 -> 0 | N66: ='22'!G39+'22'!G42 -> 0 | O66: =+O63+H66 -> 0 | Q66: =P66-O66 -> 0
B67: AEX | C67: ='22'!C45 -> 0 | E67: =SUM(C67:D67) -> 0 | F67: ='22'!C46 -> 0 | G67: ='22'!C52 -> 0 | H67: =SUM(E67:G67) -> 0 | I67: OVI | J67: ='22'!C32 -> 0 | K67: + | L67: OPVI | M67: ='22'!C35 -> 0 | N67: ='22'!G50 -> 0 | O67: =+O64+H67 -> 0 | Q67: =P67-O67 -> 0
B68: PLBS | E68: =SUM(C68:D68) -> 0 | H68: =SUM(E68:G68) -> 0 | I68: OAM | J68: ='22'!C49 -> 0 | K68: + | L68: OPAM | M68: ='22'!C50 -> 0
A69: 23 | B69: CB | C69: ='23'!C25+'23'!C26 -> 0 | D69: ='23'!C27 -> 0 | E69: =SUM(C69:D69) -> 0 | F69: ='23'!C28+'23'!C29 -> 0 | G69: ='23'!C37 -> 0 | H69: =SUM(E69:G69) -> 0 | I69: OEU | J69: ='23'!C33 -> 0 | K69: + | L69: OPEM | M69: ='23'!C34 -> 0 | N69: ='23'!G39+'23'!G42 -> 0 | O69: =+O66+H69 -> 0 | Q69: =P69-O69 -> 0
B70: AEX | C70: ='23'!C45 -> 0 | E70: =SUM(C70:D70) -> 0 | F70: ='23'!C46 -> 0 | G70: ='23'!C52 -> 0 | H70: =SUM(E70:G70) -> 0 | I70: OVI | J70: ='23'!C32 -> 0 | K70: + | L70: OPVI | M70: ='23'!C35 -> 0 | N70: ='23'!G50 -> 0 | O70: =+O67+H70 -> 0 | Q70: =P70-O70 -> 0
B71: PLBS | E71: =SUM(C71:D71) -> 0 | H71: =SUM(E71:G71) -> 0 | I71: OAM | J71: ='23'!C49 -> 0 | K71: + | L71: OPAM | M71: ='23'!C50 -> 0
A72: 24 | B72: CB | C72: ='24'!C25+'24'!C26 -> 0 | D72: ='24'!C27 -> 0 | E72: =SUM(C72:D72) -> 0 | F72: ='24'!C28+'24'!C29 -> 0 | G72: ='24'!C37 -> 0 | H72: =SUM(E72:G72) -> 0 | I72: OEU | J72: ='24'!C33 -> 0 | K72: + | L72: OPEM | M72: ='24'!C34 -> 0 | N72: ='24'!G39+'24'!G42 -> 0 | O72: =+O69+H72 -> 0 | Q72: =P72-O72 -> 0
B73: AEX | C73: ='24'!C45 -> 0 | E73: =SUM(C73:D73) -> 0 | F73: ='24'!C46 -> 0 | G73: ='24'!C52 -> 0 | H73: =SUM(E73:G73) -> 0 | I73: OVI | J73: ='24'!C32 -> 0 | K73: + | L73: OPVI | M73: ='24'!C35 -> 0 | N73: ='24'!G50 -> 0 | O73: =+O70+H73 -> 0 | Q73: =P73-O73 -> 0
B74: PLBS | E74: =SUM(C74:D74) -> 0 | H74: =SUM(E74:G74) -> 0 | I74: OAM | J74: ='24'!C49 -> 0 | K74: + | L74: OPAM | M74: ='24'!C50 -> 0
A75: 25 | B75: CB | C75: ='25'!C25+'25'!C26 -> 0 | D75: ='25'!C27 -> 0 | E75: =SUM(C75:D75) -> 0 | F75: ='25'!C28+'25'!C29 -> 0 | G75: ='25'!C37 -> 0 | H75: =SUM(E75:G75) -> 0 | I75: OEU | J75: ='25'!C33 -> 0 | K75: + | L75: OPEM | M75: ='25'!C34 -> 0 | N75: ='25'!G39+'25'!G42 -> 0 | O75: =+O72+H75 -> 0 | Q75: =P75-O75 -> 0
