Workbook

Sheet 1
A1: HOTEL :
A2: 43374
C3: FOLS | D3: LA BOUCHERIE, FLAM'S | E3: REMISE EN BANQUE | G3: ECART | H3: JUSTIFICATIONS DES ECARTS
A5: ESPECES | B5: CAS - Espèces et autres espèces | E5: Remise espèces | G5: =+F5-D5+C5 -> 0
B6: DEVISES ESPECES | E6: Remise devises espèces en euros | G6: =F6+D6-C6 -> 0
A7: CHEQUES | B7: CHE - Chèque banque | E7: Remise A
B8: CHE - Chèque client | E8: Remise B
B9: Chèques DD | E9: Remise C
B10: Autres chèques | E10: remise D
B11: TOTAL CHEQUES | C11: =SUM(C7:C10) -> 0 | D11: =SUM(D7:D10) -> 0 | E11: TOTAL CHEQUES | F11: =SUM(F7:F10) -> 0 | G11: =F11+D11-C11 -> 0
A12: VIREMENTS | B12: CVI - Virement | E12: Virements reçu
B13: DD | E13: Virements reçu
B14: DD | E14: Virements reçu
B15: DD | E15: Virements reçu
B16: Autres virements | E16: Virements reçu
B17: TOTAL VIREMENTS | C17: =SUM(C12:C16) -> 0 | D17: =SUM(D12:D16) -> 0 | E17: TOTAL VIREMENTS | F17: =SUM(F12:F16) -> 0 | G17: =F17+D17-C17 -> 0
A18: COUPONS | B18: TRE - Tickets Rest. | E18: Remise Tickets Resto | G18: =F18+D18-C18 -> 0
B19: TRECARD - Cartes tickets rest. | E19: TRECARD - Cartes tickets rest. | G19: =F19+D19-C19 -> 0
B20: CCV - Chèques vacances | E20: Remise Chq Vacances | G20: =F20+D20-C20 -> 0
B21: CCC - Chq compliment | E21: Remise chq compliment A | G21: =F21+D21-C21 -> 0
B22: CCA - Chèque cadeau ACCOR | E22: Remise chq compliment B | G22: =F22+D22-C22 -> 0
B23: ACA - LeClub-A rewards | E23: Remise Le Club A | G23: =F23+D23-C23 -> 0
B24: ACI - LeClub-A rewards € WE | E24: Remise Le Club A | G24: =F24+D24-C24 -> 0
A25: CARTES BLEUES | B25: CB - Carte bancaire | E25: Télécollecte CB physique
B26: CB SC - Carte bancaire sans contact | E26: Télécollecte CB physique
B27: CB VAD - Carte Manuelle | E27: Télécollecte CB physique
B28: CB - Restaurant | E28: Télécollecte CB physique
B29: CB SC - Restaurant sans contact | E29: CB SC - Restaurant sans contact
B30: TOTAL CB PHYSIQUES | C30: =SUM(C25:C29) -> 0 | D30: =SUM(D25:D28) -> 0 | E30: TOTAL CB PHYSIQUES | F30: =SUM(F25:F29) -> 0 | G30: =F30+D30-C30 -> 0
B32: OVI - Visa ogone | E32: Télécollecte CB ogone
B33: OEU - Ogone eurocard | E33: Télécollecte CB ogone
B34: OPEM - Ogone préauto euro/master | E34: Télécollecte CB ogone
B35: OPVI - Ogone préauto visa | E35: Télécollecte CB ogone
B36: autres cartes ogone | E36: Télécollecte CB ogone
B37: TOTAL CB OGONE | C37: =SUM(C32:C36) -> 0 | D37: =SUM(D32:D36) -> 0 | E37: TOTAL CB OGONE | F37: =SUM(F32:F36) -> 0 | G37: =F37+D37-C37 -> 0
B39: RCB - Régul CB
B41: TOTAL CB PHYSIQUES + CB OGONE | C41: =C30+C37+C39 -> 0 | D41: =D30+D37+D39 -> 0 | E41: TOTAL CB PHYSIQUES + CB OGONE | F41: =F30+F37 -> 0 | G41: =F41+D41-C41 -> 0
A42: DCC | B42: CB DCC | E42: Télécollecte DCC
B43: autres cartes DCC | E43: Télécollecte DCC
B44: TOTAL CB DCC | C44: =SUM(C42:C43) -> 0 | D44: =SUM(D42:D43) -> 0 | E44: TOTAL CB DCC | F44: =SUM(F42:F43) -> 0 | G44: =F44+D44-C44 -> 0
...

Sheet 2
A1: ='1'!A1:I1 -> HOTEL :
A2: ='1'!A2:G2+1 -> 43375
C3: FOLS | D3: LA BOUCHERIE, FLAM'S | E3: REMISE EN BANQUE | G3: ECART | H3: JUSTIFICATIONS DES ECARTS
A5: ESPECES | B5: CAS - Espèces et autres espèces | E5: Remise espèces | G5: =+F5-D5+C5 -> 0
B6: DEVISES ESPECES | E6: Remise devises espèces en euros | G6: =F6+D6-C6 -> 0
A7: CHEQUES | B7: CHE - Chèque banque | E7: Remise A
B8: CHE - Chèque client | E8: Remise B
B9: Chèques DD | E9: Remise C
B10: Autres chèques | E10: remise D
B11: TOTAL CHEQUES | C11: =SUM(C7:C10) -> 0 | D11: =SUM(D7:D10) -> 0 | E11: TOTAL CHEQUES | F11: =SUM(F7:F10) -> 0 | G11: =F11+D11-C11 -> 0
A12: VIREMENTS | B12: CVI - Virement | E12: Virements reçu
B13: DD | E13: Virements reçu
B14: DD | E14: Virements reçu
B15: DD | E15: Virements reçu
B16: Autres virements | E16: Virements reçu
B17: TOTAL VIREMENTS | C17: =SUM(C12:C16) -> 0 | D17: =SUM(D12:D16) -> 0 | E17: TOTAL VIREMENTS | F17: =SUM(F12:F16) -> 0 | G17: =F17+D17-C17 -> 0
A18: COUPONS | B18: TRE - Tickets Rest. | E18: Remise Tickets Resto | G18: =F18+D18-C18 -> 0
B19: TRECARD - Cartes tickets rest. | E19: TRECARD - Cartes tickets rest. | G19: =F19+D19-C19 -> 0
B20: CCV - Chèques vacances | E20: Remise Chq Vacances | G20: =F20+D20-C20 -> 0
B21: CCC - Chq compliment | E21: Remise chq compliment A | G21: =F21+D21-C21 -> 0
B22: CCA - Chèque cadeau ACCOR | E22: Remise chq compliment B | G22: =F22+D22-C22 -> 0
B23: ACA - LeClub-A rewards | E23: Remise Le Club A | G23: =F23+D23-C23 -> 0
B24: ACI - LeClub-A rewards € WE | E24: Remise Le Club A | G24: =F24+D24-C24 -> 0
A25: CARTES BLEUES | B25: CB - Carte bancaire | E25: Télécollecte CB physique
B26: CB SC - Carte bancaire sans contact | E26: Télécollecte CB physique
B27: CB VAD - Carte Manuelle | E27: Télécollecte CB physique
B28: CB - Restaurant | E28: Télécollecte CB physique
B29: CB SC - Restaurant sans contact | E29: CB SC - Restaurant sans contact
B30: TOTAL CB PHYSIQUES | C30: =SUM(C25:C29) -> 0 | D30: =SUM(D25:D28) -> 0 | E30: TOTAL CB PHYSIQUES | F30: =SUM(F25:F29) -> 0 | G30: =F30+D30-C30 -> 0
B32: OVI - Visa ogone | E32: Télécollecte CB ogone
B33: OEU - Ogone eurocard | E33: Télécollecte CB ogone
B34: OPEM - Ogone préauto euro/master | E34: Télécollecte CB ogone
B35: OPVI - Ogone préauto visa | E35: Télécollecte CB ogone
B36: autres cartes ogone | E36: Télécollecte CB ogone
B37: TOTAL CB OGONE | C37: =SUM(C32:C36) -> 0 | D37: =SUM(D32:D36) -> 0 | E37: TOTAL CB OGONE | F37: =SUM(F32:F36) -> 0 | G37: =F37+D37-C37 -> 0
B39: RCB - Régul CB
B41: TOTAL CB PHYSIQUES + CB OGONE | C41: =C30+C37+C39 -> 0 | D41: =D30+D37+D39 -> 0 | E41: TOTAL CB PHYSIQUES + CB OGONE | F41: =F30+F37 -> 0 | G41: =F41+D41-C41 -> 0
A42: DCC | B42: CB DCC | E42: Télécollecte DCC
B43: autres cartes DCC | E43: Télécollecte DCC
B44: TOTAL CB DCC | C44: =SUM(C42:C43) -> 0 | D44: =SUM(D42:D43) -> 0 | E44: TOTAL CB DCC | F44: =SUM(F42:F43) -> 0 | G44: =F44+D44-C44 -> 0
...

Sheet 3
A1: ='1'!A1:I1 -> HOTEL :
A2: ='1'!A2:G2+2 -> 43376
C3: FOLS | D3: LA BOUCHERIE, FLAM'S | E3: REMISE EN BANQUE | G3: ECART | H3: JUSTIFICATIONS DES ECARTS
A5: ESPECES | B5: CAS - Espèces et autres espèces | E5: Remise espèces | G5: =+F5-D5+C5 -> 0
B6: DEVISES ESPECES | E6: Remise devises espèces en euros | G6: =F6+D6-C6 -> 0
A7: CHEQUES | B7: CHE - Chèque banque | E7: Remise A
B8: CHE - Chèque client | E8: Remise B
B9: Chèques DD | E9: Remise C
B10: Autres chèques | E10: remise D
B11: TOTAL CHEQUES | C11: =SUM(C7:C10) -> 0 | D11: =SUM(D7:D10) -> 0 | E11: TOTAL CHEQUES | F11: =SUM(F7:F10) -> 0 | G11: =F11+D11-C11 -> 0
A12: VIREMENTS | B12: CVI - Virement | E12: Virements reçu
B13: DD | E13: Virements reçu
B14: DD | E14: Virements reçu
B15: DD | E15: Virements reçu
B16: Autres virements | E16: Virements reçu
B17: TOTAL VIREMENTS | C17: =SUM(C12:C16) -> 0 | D17: =SUM(D12:D16) -> 0 | E17: TOTAL VIREMENTS | F17: =SUM(F12:F16) -> 0 | G17: =F17+D17-C17 -> 0
A18: COUPONS | B18: TRE - Tickets Rest. | E18: Remise Tickets Resto | G18: =F18+D18-C18 -> 0
B19: TRECARD - Cartes tickets rest. | E19: TRECARD - Cartes tickets rest. | G19: =F19+D19-C19 -> 0
B20: CCV - Chèques vacances | E20: Remise Chq Vacances | G20: =F20+D20-C20 -> 0
B21: CCC - Chq compliment | E21: Remise chq compliment A | G21: =F21+D21-C21 -> 0
B22: CCA - Chèque cadeau ACCOR | E22: Remise chq compliment B | G22: =F22+D22-C22 -> 0
B23: ACA - LeClub-A rewards | E23: Remise Le Club A | G23: =F23+D23-C23 -> 0
B24: ACI - LeClub-A rewards € WE | E24: Remise Le Club A | G24: =F24+D24-C24 -> 0
A25: CARTES BLEUES | B25: CB - Carte bancaire | E25: Télécollecte CB physique
B26: CB SC - Carte bancaire sans contact | E26: Télécollecte CB physique
B27: CB VAD - Carte Manuelle | E27: Télécollecte CB physique
B28: CB - Restaurant | E28: Télécollecte CB physique
B29: CB SC - Restaurant sans contact | E29: CB SC - Restaurant sans contact
B30: TOTAL CB PHYSIQUES | C30: =SUM(C25:C29) -> 0 | D30: =SUM(D25:D28) -> 0 | E30: TOTAL CB PHYSIQUES | F30: =SUM(F25:F29) -> 0 | G30: =F30+D30-C30 -> 0
B32: OVI - Visa ogone | E32: Télécollecte CB ogone
B33: OEU - Ogone eurocard | E33: Télécollecte CB ogone
B34: OPEM - Ogone préauto euro/master | E34: Télécollecte CB ogone
B35: OPVI - Ogone préauto visa | E35: Télécollecte CB ogone
B36: autres cartes ogone | E36: Télécollecte CB ogone
B37: TOTAL CB OGONE | C37: =SUM(C32:C36) -> 0 | D37: =SUM(D32:D36) -> 0 | E37: TOTAL CB OGONE | F37: =SUM(F32:F36) -> 0 | G37: =F37+D37-C37 -> 0
B39: RCB - Régul CB
B41: TOTAL CB PHYSIQUES + CB OGONE | C41: =C30+C37+C39 -> 0 | D41: =D30+D37+D39 -> 0 | E41: TOTAL CB PHYSIQUES + CB OGONE | F41: =F30+F37 -> 0 | G41: =F41+D41-C41 -> 0
A42: DCC | B42: CB DCC | E42: Télécollecte DCC
B43: autres cartes DCC | E43: Télécollecte DCC
B44: TOTAL CB DCC | C44: =SUM(C42:C43) -> 0 | D44: =SUM(D42:D43) -> 0 | E44: TOTAL CB DCC | F44: =SUM(F42:F43) -> 0 | G44: =F44+D44-C44 -> 0
...

Sheet 4
A1: ='1'!A1:I1 -> HOTEL :
A2: ='1'!A2:G2+3 -> 43377
C3: FOLS | D3: LA BOUCHERIE, FLAM'S | E3: REMISE EN BANQUE | G3: ECART | H3: JUSTIFICATIONS DES ECARTS
A5: ESPECES | B5: CAS - Espèces et autres espèces | E5: Remise espèces | G5: =+F5-D5+C5 -> 0
B6: DEVISES ESPECES | E6: Remise devises espèces en euros | G6: =F6+D6-C6 -> 0
A7: CHEQUES | B7: CHE - Chèque banque | E7: Remise A
B8: CHE - Chèque client | E8: Remise B
B9: Chèques DD | E9: Remise C
B10: Autres chèques | E10: remise D
B11: TOTAL CHEQUES | C11: =SUM(C7:C10) -> 0 | D11: =SUM(D7:D10) -> 0 | E11: TOTAL CHEQUES | F11: =SUM(F7:F10) -> 0 | G11: =F11+D11-C11 -> 0
A12: VIREMENTS | B12: CVI - Virement | E12: Virements reçu
B13: DD | E13: Virements reçu
B14: DD | E14: Virements reçu
B15: DD | E15: Virements reçu
B16: Autres virements | E16: Virements reçu
B17: TOTAL VIREMENTS | C17: =SUM(C12:C16) -> 0 | D17: =SUM(D12:D16) -> 0 | E17: TOTAL VIREMENTS | F17: =SUM(F12:F16) -> 0 | G17: =F17+D17-C17 -> 0
A18: COUPONS | B18: TRE - Tickets Rest. | E18: Remise Tickets Resto | G18: =F18+D18-C18 -> 0
B19: TRECARD - Cartes tickets rest. | E19: TRECARD - Cartes tickets rest. | G19: =F19+D19-C19 -> 0
B20: CCV - Chèques vacances | E20: Remise Chq Vacances | G20: =F20+D20-C20 -> 0
B21: CCC - Chq compliment | E21: Remise chq compliment A | G21: =F21+D21-C21 -> 0
B22: CCA - Chèque cadeau ACCOR | E22: Remise chq compliment B | G22: =F22+D22-C22 -> 0
B23: ACA - LeClub-A rewards | E23: Remise Le Club A | G23: =F23+D23-C23 -> 0
B24: ACI - LeClub-A rewards € WE | E24: Remise Le Club A | G24: =F24+D24-C24 -> 0
A25: CARTES BLEUES | B25: CB - Carte bancaire | E25: Télécollecte CB physique
B26: CB SC - Carte bancaire sans contact | E26: Télécollecte CB physique
B27: CB VAD - Carte Manuelle | E27: Télécollecte CB physique
B28: CB - Restaurant | E28: Télécollecte CB physique
B29: CB SC - Restaurant sans contact | E29: CB SC - Restaurant sans contact
B30: TOTAL CB PHYSIQUES | C30: =SUM(C25:C29) -> 0 | D30: =SUM(D25:D28) -> 0 | E30: TOTAL CB PHYSIQUES | F30: =SUM(F25:F29) -> 0 | G30: =F30+D30-C30 -> 0
B32: OVI - Visa ogone | E32: Télécollecte CB ogone
B33: OEU - Ogone eurocard | E33: Télécollecte CB ogone
B34: OPEM - Ogone préauto euro/master | E34: Télécollecte CB ogone
B35: OPVI - Ogone préauto visa | E35: Télécollecte CB ogone
B36: autres cartes ogone | E36: Télécollecte CB ogone
B37: TOTAL CB OGONE | C37: =SUM(C32:C36) -> 0 | D37: =SUM(D32:D36) -> 0 | E37: TOTAL CB OGONE | F37: =SUM(F32:F36) -> 0 | G37: =F37+D37-C37 -> 0
B39: RCB - Régul CB
B41: TOTAL CB PHYSIQUES + CB OGONE | C41: =C30+C37+C39 -> 0 | D41: =D30+D37+D39 -> 0 | E41: TOTAL CB PHYSIQUES + CB OGONE | F41: =F30+F37 -> 0 | G41: =F41+D41-C41 -> 0
A42: DCC | B42: CB DCC | E42: Télécollecte DCC
B43: autres cartes DCC | E43: Télécollecte DCC
B44: TOTAL CB DCC | C44: =SUM(C42:C43) -> 0 | D44: =SUM(D42:D43) -> 0 | E44: TOTAL CB DCC | F44: =SUM(F42:F43) -> 0 | G44: =F44+D44-C44 -> 0
...

Sheet 5
A1: ='1'!A1:I1 -> HOTEL :
A2: ='1'!A2:G2+4 -> 43378
C3: FOLS | D3: LA BOUCHERIE, FLAM'S | E3: REMISE EN BANQUE | G3: ECART | H3: JUSTIFICATIONS DES ECARTS
A5: ESPECES | B5: CAS - Espèces et autres espèces | E5: Remise espèces | G5: =+F5-D5+C5 -> 0
B6: DEVISES ESPECES | E6: Remise devises espèces en euros | G6: =F6+D6-C6 -> 0
A7: CHEQUES | B7: CHE - Chèque banque | E7: Remise A
B8: CHE - Chèque client | E8: Remise B
B9: Chèques DD | E9: Remise C
B10: Autres chèques | E10: remise D
B11: TOTAL CHEQUES | C11: =SUM(C7:C10) -> 0 | D11: =SUM(D7:D10) -> 0 | E11: TOTAL CHEQUES | F11: =SUM(F7:F10) -> 0 | G11: =F11+D11-C11 -> 0
A12: VIREMENTS | B12: CVI - Virement | E12: Virements reçu
B13: DD | E13: Virements reçu
B14: DD | E14: Virements reçu
B15: DD | E15: Virements reçu
B16: Autres virements | E16: Virements reçu
B17: TOTAL VIREMENTS | C17: =SUM(C12:C16) -> 0 | D17: =SUM(D12:D16) -> 0 | E17: TOTAL VIREMENTS | F17: =SUM(F12:F16) -> 0 | G17: =F17+D17-C17 -> 0
A18: COUPONS | B18: TRE - Tickets Rest. | E18: Remise Tickets Resto | G18: =F18+D18-C18 -> 0
B19: TRECARD - Cartes tickets rest. | E19: TRECARD - Cartes tickets rest. | G19: =F19+D19-C19 -> 0
B20: CCV - Chèques vacances | E20: Remise Chq Vacances | G20: =F20+D20-C20 -> 0
B21: CCC - Chq compliment | E21: Remise chq compliment A | G21: =F21+D21-C21 -> 0
B22: CCA - Chèque cadeau ACCOR | E22: Remise chq compliment B | G22: =F22+D22-C22 -> 0
B23: ACA - LeClub-A rewards | E23: Remise Le Club A | G23: =F23+D23-C23 -> 0
B24: ACI - LeClub-A rewards € WE | E24: Remise Le Club A | G24: =F24+D24-C24 -> 0
A25: CARTES BLEUES | B25: CB - Carte bancaire | E25: Télécollecte CB physique
B26: CB SC - Carte bancaire sans contact | E26: Télécollecte CB physique
B27: CB VAD - Carte Manuelle | E27: Télécollecte CB physique
B28: CB - Restaurant | E28: Télécollecte CB physique
B29: CB SC - Restaurant sans contact | E29: CB SC - Restaurant sans contact
B30: TOTAL CB PHYSIQUES | C30: =SUM(C25:C29) -> 0 | D30: =SUM(D25:D28) -> 0 | E30: TOTAL CB PHYSIQUES | F30: =SUM(F25:F29) -> 0 | G30: =F30+D30-C30 -> 0
B32: OVI - Visa ogone | E32: Télécollecte CB ogone
B33: OEU - Ogone eurocard | E33: Télécollecte CB ogone
B34: OPEM - Ogone préauto euro/master | E34: Télécollecte CB ogone
B35: OPVI - Ogone préauto visa | E35: Télécollecte CB ogone
B36: autres cartes ogone | E36: Télécollecte CB ogone
B37: TOTAL CB OGONE | C37: =SUM(C32:C36) -> 0 | D37: =SUM(D32:D36) -> 0 | E37: TOTAL CB OGONE | F37: =SUM(F32:F36) -> 0 | G37: =F37+D37-C37 -> 0
B39: RCB - Régul CB
B41: TOTAL CB PHYSIQUES + CB OGONE | C41: =C30+C37+C39 -> 0 | D41: =D30+D37+D39 -> 0 | E41: TOTAL CB PHYSIQUES + CB OGONE | F41: =F30+F37 -> 0 | G41: =F41+D41-C41 -> 0
A42: DCC | B42: CB DCC | E42: Télécollecte DCC
B43: autres cartes DCC | E43: Télécollecte DCC
B44: TOTAL CB DCC | C44: =SUM(C42:C43) -> 0 | D44: =SUM(D42:D43) -> 0 | E44: TOTAL CB DCC | F44: =SUM(F42:F43) -> 0 | G44: =F44+D44-C44 -> 0
...

Sheet 6
A1: ='1'!A1:I1 -> HOTEL :
A2: ='1'!A2:G2+5 -> 43379
C3: FOLS | D3: LA BOUCHERIE, FLAM'S | E3: REMISE EN BANQUE | G3: ECART | H3: JUSTIFICATIONS DES ECARTS
A5: ESPECES | B5: CAS - Espèces et autres espèces | E5: Remise espèces | G5: =+F5-D5+C5 -> 0
B6: DEVISES ESPECES | E6: Remise devises espèces en euros | G6: =F6+D6-C6 -> 0
A7: CHEQUES | B7: CHE - Chèque banque | E7: Remise A
B8: CHE - Chèque client | E8: Remise B
B9: Chèques DD | E9: Remise C
B10: Autres chèques | E10: remise D
B11: TOTAL CHEQUES | C11: =SUM(C7:C10) -> 0 | D11: =SUM(D7:D10) -> 0 | E11: TOTAL CHEQUES | F11: =SUM(F7:F10) -> 0 | G11: =F11+D11-C11 -> 0
A12: VIREMENTS | B12: CVI - Virement | E12: Virements reçu
B13: DD | E13: Virements reçu
B14: DD | E14: Virements reçu
B15: DD | E15: Virements reçu
B16: Autres virements | E16: Virements reçu
B17: TOTAL VIREMENTS | C17: =SUM(C12:C16) -> 0 | D17: =SUM(D12:D16) -> 0 | E17: TOTAL VIREMENTS | F17: =SUM(F12:F16) -> 0 | G17: =F17+D17-C17 -> 0
A18: COUPONS | B18: TRE - Tickets Rest. | E18: Remise Tickets Resto | G18: =F18+D18-C18 -> 0
B19: TRECARD - Cartes tickets rest. | E19: TRECARD - Cartes tickets rest. | G19: =F19+D19-C19 -> 0
B20: CCV - Chèques vacances | E20: Remise Chq Vacances | G20: =F20+D20-C20 -> 0
B21: CCC - Chq compliment | E21: Remise chq compliment A | G21: =F21+D21-C21 -> 0
B22: CCA - Chèque cadeau ACCOR | E22: Remise chq compliment B | G22: =F22+D22-C22 -> 0
B23: ACA - LeClub-A rewards | E23: Remise Le Club A | G23: =F23+D23-C23 -> 0
B24: ACI - LeClub-A rewards € WE | E24: Remise Le Club A | G24: =F24+D24-C24 -> 0
A25: CARTES BLEUES | B25: CB - Carte bancaire | E25: Télécollecte CB physique
B26: CB SC - Carte bancaire sans contact | E26: Télécollecte CB physique
B27: CB VAD - Carte Manuelle | E27: Télécollecte CB physique
B28: CB - Restaurant | E28: Télécollecte CB physique
B29: CB SC - Restaurant sans contact | E29: CB SC - Restaurant sans contact
B30: TOTAL CB PHYSIQUES | C30: =SUM(C25:C29) -> 0 | D30: =SUM(D25:D28) -> 0 | E30: TOTAL CB PHYSIQUES | F30: =SUM(F25:F29) -> 0 | G30: =F30+D30-C30 -> 0
B32: OVI - Visa ogone | E32: Télécollecte CB ogone
B33: OEU - Ogone eurocard | E33: Télécollecte CB ogone
B34: OPEM - Ogone préauto euro/master | E34: Télécollecte CB ogone
B35: OPVI - Ogone préauto visa | E35: Télécollecte CB ogone
B36: autres cartes ogone | E36: Télécollecte CB ogone
B37: TOTAL CB OGONE | C37: =SUM(C32:C36) -> 0 | D37: =SUM(D32:D36) -> 0 | E37: TOTAL CB OGONE | F37: =SUM(F32:F36) -> 0 | G37: =F37+D37-C37 -> 0
B39: RCB - Régul CB
B41: TOTAL CB PHYSIQUES + CB OGONE | C41: =C30+C37+C39 -> 0 | D41: =D30+D37+D39 -> 0 | E41: TOTAL CB PHYSIQUES + CB OGONE | F41: =F30+F37 -> 0 | G41: =F41+D41-C41 -> 0
A42: DCC | B42: CB DCC | E42: Télécollecte DCC
B43: autres cartes DCC | E43: Télécollecte DCC
B44: TOTAL CB DCC | C44: =SUM(C42:C43) -> 0 | D44: =SUM(D42:D43) -> 0 | E44: TOTAL CB DCC | F44: =SUM(F42:F43) -> 0 | G44: =F44+D44-C44 -> 0
...

Sheet 7
A1: ='1'!A1:I1 -> HOTEL :
A2: ='1'!A2:G2+6 -> 43380
C3: FOLS | D3: LA BOUCHERIE, FLAM'S | E3: REMISE EN BANQUE | G3: ECART | H3: JUSTIFICATIONS DES ECARTS
A5: ESPECES | B5: CAS - Espèces et autres espèces | E5: Remise espèces | G5: =+F5-D5+C5 -> 0
B6: DEVISES ESPECES | E6: Remise devises espèces en euros | G6: =F6+D6-C6 -> 0
A7: CHEQUES | B7: CHE - Chèque banque | E7: Remise A
B8: CHE - Chèque client | E8: Remise B
B9: Chèques DD | E9: Remise C
B10: Autres chèques | E10: remise D
B11: TOTAL CHEQUES | C11: =SUM(C7:C10) -> 0 | D11: =SUM(D7:D10) -> 0 | E11: TOTAL CHEQUES | F11: =SUM(F7:F10) -> 0 | G11: =F11+D11-C11 -> 0
A12: VIREMENTS | B12: CVI - Virement | E12: Virements reçu
B13: DD | E13: Virements reçu
B14: DD | E14: Virements reçu
B15: DD | E15: Virements reçu
B16: Autres virements | E16: Virements reçu
B17: TOTAL VIREMENTS | C17: =SUM(C12:C16) -> 0 | D17: =SUM(D12:D16) -> 0 | E17: TOTAL VIREMENTS | F17: =SUM(F12:F16) -> 0 | G17: =F17+D17-C17 -> 0
A18: COUPONS | B18: TRE - Tickets Rest. | E18: Remise Tickets Resto | G18: =F18+D18-C18 -> 0
B19: TRECARD - Cartes tickets rest. | E19: TRECARD - Cartes tickets rest. | G19: =F19+D19-C19 -> 0
B20: CCV - Chèques vacances | E20: Remise Chq Vacances | G20: =F20+D20-C20 -> 0
B21: CCC - Chq compliment | E21: Remise chq compliment A | G21: =F21+D21-C21 -> 0
B22: CCA - Chèque cadeau ACCOR | E22: Remise chq compliment B | G22: =F22+D22-C22 -> 0
B23: ACA - LeClub-A rewards | E23: Remise Le Club A | G23: =F23+D23-C23 -> 0
B24: ACI - LeClub-A rewards € WE | E24: Remise Le Club A | G24: =F24+D24-C24 -> 0
A25: CARTES BLEUES | B25: CB - Carte bancaire | E25: Télécollecte CB physique
B26: CB SC - Carte bancaire sans contact | E26: Télécollecte CB physique
B27: CB VAD - Carte Manuelle | E27: Télécollecte CB physique
B28: CB - Restaurant | E28: Télécollecte CB physique
B29: CB SC - Restaurant sans contact | E29: CB SC - Restaurant sans contact
B30: TOTAL CB PHYSIQUES | C30: =SUM(C25:C29) -> 0 | D30: =SUM(D25:D28) -> 0 | E30: TOTAL CB PHYSIQUES | F30: =SUM(F25:F29) -> 0 | G30: =F30+D30-C30 -> 0
B32: OVI - Visa ogone | E32: Télécollecte CB ogone
B33: OEU - Ogone eurocard | E33: Télécollecte CB ogone
B34: OPEM - Ogone préauto euro/master | E34: Télécollecte CB ogone
B35: OPVI - Ogone préauto visa | E35: Télécollecte CB ogone
B36: autres cartes ogone | E36: Télécollecte CB ogone
B37: TOTAL CB OGONE | C37: =SUM(C32:C36) -> 0 | D37: =SUM(D32:D36) -> 0 | E37: TOTAL CB OGONE | F37: =SUM(F32:F36) -> 0 | G37: =F37+D37-C37 -> 0
B39: RCB - Régul CB
B41: TOTAL CB PHYSIQUES + CB OGONE | C41: =C30+C37+C39 -> 0 | D41: =D30+D37+D39 -> 0 | E41: TOTAL CB PHYSIQUES + CB OGONE | F41: =F30+F37 -> 0 | G41: =F41+D41-C41 -> 0
A42: DCC | B42: CB DCC | E42: Télécollecte DCC
B43: autres cartes DCC | E43: Télécollecte DCC
B44: TOTAL CB DCC | C44: =SUM(C42:C43) -> 0 | D44: =SUM(D42:D43) -> 0 | E44: TOTAL CB DCC | F44: =SUM(F42:F43) -> 0 | G44: =F44+D44-C44 -> 0
...

Sheet 8
A1: ='1'!A1:I1 -> HOTEL :
A2: ='1'!A2:G2+7 -> 43381
C3: FOLS | D3: LA BOUCHERIE, FLAM'S | E3: REMISE EN BANQUE | G3: ECART | H3: JUSTIFICATIONS DES ECARTS
A5: ESPECES | B5: CAS - Espèces et autres espèces | E5: Remise espèces | G5: =+F5-D5+C5 -> 0
B6: DEVISES ESPECES | E6: Remise devises espèces en euros | G6: =F6+D6-C6 -> 0
A7: CHEQUES | B7: CHE - Chèque banque | E7: Remise A
B8: CHE - Chèque client | E8: Remise B
B9: Chèques DD | E9: Remise C
B10: Autres chèques | E10: remise D
B11: TOTAL CHEQUES | C11: =SUM(C7:C10) -> 0 | D11: =SUM(D7:D10) -> 0 | E11: TOTAL CHEQUES | F11: =SUM(F7:F10) -> 0 | G11: =F11+D11-C11 -> 0
A12: VIREMENTS | B12: CVI - Virement | E12: Virements reçu
B13: DD | E13: Virements reçu
B14: DD | E14: Virements reçu
B15: DD | E15: Virements reçu
B16: Autres virements | E16: Virements reçu
B17: TOTAL VIREMENTS | C17: =SUM(C12:C16) -> 0 | D17: =SUM(D12:D16) -> 0 | E17: TOTAL VIREMENTS | F17: =SUM(F12:F16) -> 0 | G17: =F17+D17-C17 -> 0
A18: COUPONS | B18: TRE - Tickets Rest. | E18: Remise Tickets Resto | G18: =F18+D18-C18 -> 0
B19: TRECARD - Cartes tickets rest. | E19: TRECARD - Cartes tickets rest. | G19: =F19+D19-C19 -> 0
B20: CCV - Chèques vacances | E20: Remise Chq Vacances | G20: =F20+D20-C20 -> 0
B21: CCC - Chq compliment | E21: Remise chq compliment A | G21: =F21+D21-C21 -> 0
B22: CCA - Chèque cadeau ACCOR | E22: Remise chq compliment B | G22: =F22+D22-C22 -> 0
B23: ACA - LeClub-A rewards | E23: Remise Le Club A | G23: =F23+D23-C23 -> 0
B24: ACI - LeClub-A rewards € WE | E24: Remise Le Club A | G24: =F24+D24-C24 -> 0
A25: CARTES BLEUES | B25: CB - Carte bancaire | E25: Télécollecte CB physique
B26: CB SC - Carte bancaire sans contact | E26: Télécollecte CB physique
B27: CB VAD - Carte Manuelle | E27: Télécollecte CB physique
B28: CB - Restaurant | E28: Télécollecte CB physique
B29: CB SC - Restaurant sans contact | E29: CB SC - Restaurant sans contact
B30: TOTAL CB PHYSIQUES | C30: =SUM(C25:C29) -> 0 | D30: =SUM(D25:D28) -> 0 | E30: TOTAL CB PHYSIQUES | F30: =SUM(F25:F29) -> 0 | G30: =F30+D30-C30 -> 0
B32: OVI - Visa ogone | E32: Télécollecte CB ogone
B33: OEU - Ogone eurocard | E33: Télécollecte CB ogone
B34: OPEM - Ogone préauto euro/master | E34: Télécollecte CB ogone
B35: OPVI - Ogone préauto visa | E35: Télécollecte CB ogone
B36: autres cartes ogone | E36: Télécollecte CB ogone
B37: TOTAL CB OGONE | C37: =SUM(C32:C36) -> 0 | D37: =SUM(D32:D36) -> 0 | E37: TOTAL CB OGONE | F37: =SUM(F32:F36) -> 0 | G37: =F37+D37-C37 -> 0
B39: RCB - Régul CB
B41: TOTAL CB PHYSIQUES + CB OGONE | C41: =C30+C37+C39 -> 0 | D41: =D30+D37+D39 -> 0 | E41: TOTAL CB PHYSIQUES + CB OGONE | F41: =F30+F37 -> 0 | G41: =F41+D41-C41 -> 0
A42: DCC | B42: CB DCC | E42: Télécollecte DCC
B43: autres cartes DCC | E43: Télécollecte DCC
B44: TOTAL CB DCC | C44: =SUM(C42:C43) -> 0 | D44: =SUM(D42:D43) -> 0 | E44: TOTAL CB DCC | F44: =SUM(F42:F43) -> 0 | G44: =F44+D44-C44 -> 0
...

Sheet 9
A1: ='1'!A1:I1 -> HOTEL :
A2: ='1'!A2:G2+8 -> 43382
C3: FOLS | D3: LA BOUCHERIE, FLAM'S | E3: REMISE EN BANQUE | G3: ECART | H3: JUSTIFICATIONS DES ECARTS
A5: ESPECES | B5: CAS - Espèces et autres espèces | E5: Remise espèces | G5: =+F5-D5+C5 -> 0
B6: DEVISES ESPECES | E6: Remise devises espèces en euros | G6: =F6+D6-C6 -> 0
A7: CHEQUES | B7: CHE - Chèque banque | E7: Remise A
B8: CHE - Chèque client | E8: Remise B
B9: Chèques DD | E9: Remise C
B10: Autres chèques | E10: remise D
B11: TOTAL CHEQUES | C11: =SUM(C7:C10) -> 0 | D11: =SUM(D7:D10) -> 0 | E11: TOTAL CHEQUES | F11: =SUM(F7:F10) -> 0 | G11: =F11+D11-C11 -> 0
A12: VIREMENTS | B12: CVI - Virement | E12: Virements reçu
B13: DD | E13: Virements reçu
B14: DD | E14: Virements reçu
B15: DD | E15: Virements reçu
B16: Autres virements | E16: Virements reçu
B17: TOTAL VIREMENTS | C17: =SUM(C12:C16) -> 0 | D17: =SUM(D12:D16) -> 0 | E17: TOTAL VIREMENTS | F17: =SUM(F12:F16) -> 0 | G17: =F17+D17-C17 -> 0
A18: COUPONS | B18: TRE - Tickets Rest. | E18: Remise Tickets Resto | G18: =F18+D18-C18 -> 0
B19: TRECARD - Cartes tickets rest. | E19: TRECARD - Cartes tickets rest. | G19: =F19+D19-C19 -> 0
B20: CCV - Chèques vacances | E20: Remise Chq Vacances | G20: =F20+D20-C20 -> 0
B21: CCC - Chq compliment | E21: Remise chq compliment A | G21: =F21+D21-C21 -> 0
B22: CCA - Chèque cadeau ACCOR | E22: Remise chq compliment B | G22: =F22+D22-C22 -> 0
B23: ACA - LeClub-A rewards | E23: Remise Le Club A | G23: =F23+D23-C23 -> 0
B24: ACI - LeClub-A rewards € WE | E24: Remise Le Club A | G24: =F24+D24-C24 -> 0
A25: CARTES BLEUES | B25: CB - Carte bancaire | E25: Télécollecte CB physique
B26: CB SC - Carte bancaire sans contact | E26: Télécollecte CB physique
B27: CB VAD - Carte Manuelle | E27: Télécollecte CB physique
B28: CB - Restaurant | E28: Télécollecte CB physique
B29: CB SC - Restaurant sans contact | E29: CB SC - Restaurant sans contact
B30: TOTAL CB PHYSIQUES | C30: =SUM(C25:C29) -> 0 | D30: =SUM(D25:D28) -> 0 | E30: TOTAL CB PHYSIQUES | F30: =SUM(F25:F29) -> 0 | G30: =F30+D30-C30 -> 0
B32: OVI - Visa ogone | E32: Télécollecte CB ogone
B33: OEU - Ogone eurocard | E33: Télécollecte CB ogone
B34: OPEM - Ogone préauto euro/master | E34: Télécollecte CB ogone
B35: OPVI - Ogone préauto visa | E35: Télécollecte CB ogone
B36: autres cartes ogone | E36: Télécollecte CB ogone
B37: TOTAL CB OGONE | C37: =SUM(C32:C36) -> 0 | D37: =SUM(D32:D36) -> 0 | E37: TOTAL CB OGONE | F37: =SUM(F32:F36) -> 0 | G37: =F37+D37-C37 -> 0
B39: RCB - Régul CB
B41: TOTAL CB PHYSIQUES + CB OGONE | C41: =C30+C37+C39 -> 0 | D41: =D30+D37+D39 -> 0 | E41: TOTAL CB PHYSIQUES + CB OGONE | F41: =F30+F37 -> 0 | G41: =F41+D41-C41 -> 0
A42: DCC | B42: CB DCC | E42: Télécollecte DCC
B43: autres cartes DCC | E43: Télécollecte DCC
B44: TOTAL CB DCC | C44: =SUM(C42:C43) -> 0 | D44: =SUM(D42:D43) -> 0 | E44: TOTAL CB DCC | F44: =SUM(F42:F43) -> 0 | G44: =F44+D44-C44 -> 0
...

Sheet 10
A1: ='1'!A1:I1 -> HOTEL :
A2: ='1'!A2:G2+9 -> 43383
C3: FOLS | D3: LA BOUCHERIE, FLAM'S | E3: REMISE EN BANQUE | G3: ECART | H3: JUSTIFICATIONS DES ECARTS
A5: ESPECES | B5: CAS - Espèces et autres espèces | E5: Remise espèces | G5: =+F5-D5+C5 -> 0
B6: DEVISES ESPECES | E6: Remise devises espèces en euros | G6: =F6+D6-C6 -> 0
A7: CHEQUES | B7: CHE - Chèque banque | E7: Remise A
B8: CHE - Chèque client | E8: Remise B
B9: Chèques DD | E9: Remise C
B10: Autres chèques | E10: remise D
B11: TOTAL CHEQUES | C11: =SUM(C7:C10) -> 0 | D11: =SUM(D7:D10) -> 0 | E11: TOTAL CHEQUES | F11: =SUM(F7:F10) -> 0 | G11: =F11+D11-C11 -> 0
A12: VIREMENTS | B12: CVI - Virement | E12: Virements reçu
B13: DD | E13: Virements reçu
B14: DD | E14: Virements reçu
B15: DD | E15: Virements reçu
B16: Autres virements | E16: Virements reçu
B17: TOTAL VIREMENTS | C17: =SUM(C12:C16) -> 0 | D17: =SUM(D12:D16) -> 0 | E17: TOTAL VIREMENTS | F17: =SUM(F12:F16) -> 0 | G17: =F17+D17-C17 -> 0
A18: COUPONS | B18: TRE - Tickets Rest. | E18: Remise Tickets Resto | G18: =F18+D18-C18 -> 0
B19: TRECARD - Cartes tickets rest. | E19: TRECARD - Cartes tickets rest. | G19: =F19+D19-C19 -> 0
B20: CCV - Chèques vacances | E20: Remise Chq Vacances | G20: =F20+D20-C20 -> 0
B21: CCC - Chq compliment | E21: Remise chq compliment A | G21: =F21+D21-C21 -> 0
B22: CCA - Chèque cadeau ACCOR | E22: Remise chq compliment B | G22: =F22+D22-C22 -> 0
B23: ACA - LeClub-A rewards | E23: Remise Le Club A | G23: =F23+D23-C23 -> 0
B24: ACI - LeClub-A rewards € WE | E24: Remise Le Club A | G24: =F24+D24-C24 -> 0
A25: CARTES BLEUES | B25: CB - Carte bancaire | E25: Télécollecte CB physique
B26: CB SC - Carte bancaire sans contact | E26: Télécollecte CB physique
B27: CB VAD - Carte Manuelle | E27: Télécollecte CB physique
B28: CB - Restaurant | E28: Télécollecte CB physique
B29: CB SC - Restaurant sans contact | E29: CB SC - Restaurant sans contact
B30: TOTAL CB PHYSIQUES | C30: =SUM(C25:C29) -> 0 | D30: =SUM(D25:D28) -> 0 | E30: TOTAL CB PHYSIQUES | F30: =SUM(F25:F29) -> 0 | G30: =F30+D30-C30 -> 0
B32: OVI - Visa ogone | E32: Télécollecte CB ogone
B33: OEU - Ogone eurocard | E33: Télécollecte CB ogone
B34: OPEM - Ogone préauto euro/master | E34: Télécollecte CB ogone
B35: OPVI - Ogone préauto visa | E35: Télécollecte CB ogone
B36: autres cartes ogone | E36: Télécollecte CB ogone
B37: TOTAL CB OGONE | C37: =SUM(C32:C36) -> 0 | D37: =SUM(D32:D36) -> 0 | E37: TOTAL CB OGONE | F37: =SUM(F32:F36) -> 0 | G37: =F37+D37-C37 -> 0
B39: RCB - Régul CB
B41: TOTAL CB PHYSIQUES + CB OGONE | C41: =C30+C37+C39 -> 0 | D41: =D30+D37+D39 -> 0 | E41: TOTAL CB PHYSIQUES + CB OGONE | F41: =F30+F37 -> 0 | G41: =F41+D41-C41 -> 0
A42: DCC | B42: CB DCC | E42: Télécollecte DCC
B43: autres cartes DCC | E43: Télécollecte DCC
B44: TOTAL CB DCC | C44: =SUM(C42:C43) -> 0 | D44: =SUM(D42:D43) -> 0 | E44: TOTAL CB DCC | F44: =SUM(F42:F43) -> 0 | G44: =F44+D44-C44 -> 0
...

Sheet 11
A1: ='1'!A1:I1 -> HOTEL :
A2: ='1'!A2:G2+10 -> 43384
C3: FOLS | D3: LA BOUCHERIE, FLAM'S | E3: REMISE EN BANQUE | G3: ECART | H3: JUSTIFICATIONS DES ECARTS
A5: ESPECES | B5: CAS - Espèces et autres espèces | E5: Remise espèces | G5: =+F5-D5+C5 -> 0
B6: DEVISES ESPECES | E6: Remise devises espèces en euros | G6: =F6+D6-C6 -> 0
A7: CHEQUES | B7: CHE - Chèque banque | E7: Remise A
B8: CHE - Chèque client | E8: Remise B
B9: Chèques DD | E9: Remise C
B10: Autres chèques | E10: remise D
B11: TOTAL CHEQUES | C11: =SUM(C7:C10) -> 0 | D11: =SUM(D7:D10) -> 0 | E11: TOTAL CHEQUES | F11: =SUM(F7:F10) -> 0 | G11: =F11+D11-C11 -> 0
A12: VIREMENTS | B12: CVI - Virement | E12: Virements reçu
B13: DD | E13: Virements reçu
B14: DD | E14: Virements reçu
B15: DD | E15: Virements reçu
B16: Autres virements | E16: Virements reçu
B17: TOTAL VIREMENTS | C17: =SUM(C12:C16) -> 0 | D17: =SUM(D12:D16) -> 0 | E17: TOTAL VIREMENTS | F17: =SUM(F12:F16) -> 0 | G17: =F17+D17-C17 -> 0
A18: COUPONS | B18: TRE - Tickets Rest. | E18: Remise Tickets Resto | G18: =F18+D18-C18 -> 0
B19: TRECARD - Cartes tickets rest. | E19: TRECARD - Cartes tickets rest. | G19: =F19+D19-C19 -> 0
B20: CCV - Chèques vacances | E20: Remise Chq Vacances | G20: =F20+D20-C20 -> 0
B21: CCC - Chq compliment | E21: Remise chq compliment A | G21: =F21+D21-C21 -> 0
B22: CCA - Chèque cadeau ACCOR | E22: Remise chq compliment B | G22: =F22+D22-C22 -> 0
B23: ACA - LeClub-A rewards | E23: Remise Le Club A | G23: =F23+D23-C23 -> 0
B24: ACI - LeClub-A rewards € WE | E24: Remise Le Club A | G24: =F24+D24-C24 -> 0
A25: CARTES BLEUES | B25: CB - Carte bancaire | E25: Télécollecte CB physique
B26: CB SC - Carte bancaire sans contact | E26: Télécollecte CB physique
B27: CB VAD - Carte Manuelle | E27: Télécollecte CB physique
B28: CB - Restaurant | E28: Télécollecte CB physique
B29: CB SC - Restaurant sans contact | E29: CB SC - Restaurant sans contact
B30: TOTAL CB PHYSIQUES | C30: =SUM(C25:C29) -> 0 | D30: =SUM(D25:D28) -> 0 | E30: TOTAL CB PHYSIQUES | F30: =SUM(F25:F29) -> 0 | G30: =F30+D30-C30 -> 0
B32: OVI - Visa ogone | E32: Télécollecte CB ogone
B33: OEU - Ogone eurocard | E33: Télécollecte CB ogone
B34: OPEM - Ogone préauto euro/master | E34: Télécollecte CB ogone
B35: OPVI - Ogone préauto visa | E35: Télécollecte CB ogone
B36: autres cartes ogone | E36: Télécollecte CB ogone
B37: TOTAL CB OGONE | C37: =SUM(C32:C36) -> 0 | D37: =SUM(D32:D36) -> 0 | E37: TOTAL CB OGONE | F37: =SUM(F32:F36) -> 0 | G37: =F37+D37-C37 -> 0
B39: RCB - Régul CB
B41: TOTAL CB PHYSIQUES + CB OGONE | C41: =C30+C37+C39 -> 0 | D41: =D30+D37+D39 -> 0 | E41: TOTAL CB PHYSIQUES + CB OGONE | F41: =F30+F37 -> 0 | G41: =F41+D41-C41 -> 0
A42: DCC | B42: CB DCC | E42: Télécollecte DCC
B43: autres cartes DCC | E43: Télécollecte DCC
B44: TOTAL CB DCC | C44: =SUM(C42:C43) -> 0 | D44: =SUM(D42:D43) -> 0 | E44: TOTAL CB DCC | F44: =SUM(F42:F43) -> 0 | G44: =F44+D44-C44 -> 0
...

Sheet 12
A1: ='1'!A1:I1 -> HOTEL :
A2: ='1'!A2:G2+11 -> 43385
C3: FOLS | D3: LA BOUCHERIE, FLAM'S | E3: REMISE EN BANQUE | G3: ECART | H3: JUSTIFICATIONS DES ECARTS
A5: ESPECES | B5: CAS - Espèces et autres espèces | E5: Remise espèces | G5: =+F5-D5+C5 -> 0
B6: DEVISES ESPECES | E6: Remise devises espèces en euros | G6: =F6+D6-C6 -> 0
A7: CHEQUES | B7: CHE - Chèque banque | E7: Remise A
B8: CHE - Chèque client | E8: Remise B
B9: Chèques DD | E9: Remise C
B10: Autres chèques | E10: remise D
B11: TOTAL CHEQUES | C11: =SUM(C7:C10) -> 0 | D11: =SUM(D7:D10) -> 0 | E11: TOTAL CHEQUES | F11: =SUM(F7:F10) -> 0 | G11: =F11+D11-C11 -> 0
A12: VIREMENTS | B12: CVI - Virement | E12: Virements reçu
B13: DD | E13: Virements reçu
B14: DD | E14: Virements reçu
B15: DD | E15: Virements reçu
B16: Autres virements | E16: Virements reçu
B17: TOTAL VIREMENTS | C17: =SUM(C12:C16) -> 0 | D17: =SUM(D12:D16) -> 0 | E17: TOTAL VIREMENTS | F17: =SUM(F12:F16) -> 0 | G17: =F17+D17-C17 -> 0
A18: COUPONS | B18: TRE - Tickets Rest. | E18: Remise Tickets Resto | G18: =F18+D18-C18 -> 0
B19: TRECARD - Cartes tickets rest. | E19: TRECARD - Cartes tickets rest. | G19: =F19+D19-C19 -> 0
B20: CCV - Chèques vacances | E20: Remise Chq Vacances | G20: =F20+D20-C20 -> 0
B21: CCC - Chq compliment | E21: Remise chq compliment A | G21: =F21+D21-C21 -> 0
B22: CCA - Chèque cadeau ACCOR | E22: Remise chq compliment B | G22: =F22+D22-C22 -> 0
B23: ACA - LeClub-A rewards | E23: Remise Le Club A | G23: =F23+D23-C23 -> 0
B24: ACI - LeClub-A rewards € WE | E24: Remise Le Club A | G24: =F24+D24-C24 -> 0
A25: CARTES BLEUES | B25: CB - Carte bancaire | E25: Télécollecte CB physique
B26: CB SC - Carte bancaire sans contact | E26: Télécollecte CB physique
B27: CB VAD - Carte Manuelle | E27: Télécollecte CB physique
B28: CB - Restaurant | E28: Télécollecte CB physique
B29: CB SC - Restaurant sans contact | E29: CB SC - Restaurant sans contact
B30: TOTAL CB PHYSIQUES | C30: =SUM(C25:C29) -> 0 | D30: =SUM(D25:D28) -> 0 | E30: TOTAL CB PHYSIQUES | F30: =SUM(F25:F29) -> 0 | G30: =F30+D30-C30 -> 0
B32: OVI - Visa ogone | E32: Télécollecte CB ogone
B33: OEU - Ogone eurocard | E33: Télécollecte CB ogone
B34: OPEM - Ogone préauto euro/master | E34: Télécollecte CB ogone
B35: OPVI - Ogone préauto visa | E35: Télécollecte CB ogone
B36: autres cartes ogone | E36: Télécollecte CB ogone
B37: TOTAL CB OGONE | C37: =SUM(C32:C36) -> 0 | D37: =SUM(D32:D36) -> 0 | E37: TOTAL CB OGONE | F37: =SUM(F32:F36) -> 0 | G37: =F37+D37-C37 -> 0
B39: RCB - Régul CB
B41: TOTAL CB PHYSIQUES + CB OGONE | C41: =C30+C37+C39 -> 0 | D41: =D30+D37+D39 -> 0 | E41: TOTAL CB PHYSIQUES + CB OGONE | F41: =F30+F37 -> 0 | G41: =F41+D41-C41 -> 0
A42: DCC | B42: CB DCC | E42: Télécollecte DCC
B43: autres cartes DCC | E43: Télécollecte DCC
B44: TOTAL CB DCC | C44: =SUM(C42:C43) -> 0 | D44: =SUM(D42:D43) -> 0 | E44: TOTAL CB DCC | F44: =SUM(F42:F43) -> 0 | G44: =F44+D44-C44 -> 0
...

Sheet 13
A1: ='1'!A1:I1 -> HOTEL :
A2: ='1'!A2:G2+12 -> 43386
C3: FOLS | D3: LA BOUCHERIE, FLAM'S | E3: REMISE EN BANQUE | G3: ECART | H3: JUSTIFICATIONS DES ECARTS
A5: ESPECES | B5: CAS - Espèces et autres espèces | E5: Remise espèces | G5: =+F5-D5+C5 -> 0
B6: DEVISES ESPECES | E6: Remise devises espèces en euros | G6: =F6+D6-C6 -> 0
A7: CHEQUES | B7: CHE - Chèque banque | E7: Remise A
B8: CHE - Chèque client | E8: Remise B
B9: Chèques DD | E9: Remise C
B10: Autres chèques | E10: remise D
B11: TOTAL CHEQUES | C11: =SUM(C7:C10) -> 0 | D11: =SUM(D7:D10) -> 0 | E11: TOTAL CHEQUES | F11: =SUM(F7:F10) -> 0 | G11: =F11+D11-C11 -> 0
A12: VIREMENTS | B12: CVI - Virement | E12: Virements reçu
B13: DD | E13: Virements reçu
B14: DD | E14: Virements reçu
B15: DD | E15: Virements reçu
B16: Autres virements | E16: Virements reçu
B17: TOTAL VIREMENTS | C17: =SUM(C12:C16) -> 0 | D17: =SUM(D12:D16) -> 0 | E17: TOTAL VIREMENTS | F17: =SUM(F12:F16) -> 0 | G17: =F17+D17-C17 -> 0
A18: COUPONS | B18: TRE - Tickets Rest. | E18: Remise Tickets Resto | G18: =F18+D18-C18 -> 0
B19: TRECARD - Cartes tickets rest. | E19: TRECARD - Cartes tickets rest. | G19: =F19+D19-C19 -> 0
B20: CCV - Chèques vacances | E20: Remise Chq Vacances | G20: =F20+D20-C20 -> 0
B21: CCC - Chq compliment | E21: Remise chq compliment A | G21: =F21+D21-C21 -> 0
B22: CCA - Chèque cadeau ACCOR | E22: Remise chq compliment B | G22: =F22+D22-C22 -> 0
B23: ACA - LeClub-A rewards | E23: Remise Le Club A | G23: =F23+D23-C23 -> 0
B24: ACI - LeClub-A rewards € WE | E24: Remise Le Club A | G24: =F24+D24-C24 -> 0
A25: CARTES BLEUES | B25: CB - Carte bancaire | E25: Télécollecte CB physique
B26: CB SC - Carte bancaire sans contact | E26: Télécollecte CB physique
B27: CB VAD - Carte Manuelle | E27: Télécollecte CB physique
B28: CB - Restaurant | E28: Télécollecte CB physique
B29: CB SC - Restaurant sans contact | E29: CB SC - Restaurant sans contact
B30: TOTAL CB PHYSIQUES | C30: =SUM(C25:C29) -> 0 | D30: =SUM(D25:D28) -> 0 | E30: TOTAL CB PHYSIQUES | F30: =SUM(F25:F29) -> 0 | G30: =F30+D30-C30 -> 0
B32: OVI - Visa ogone | E32: Télécollecte CB ogone
B33: OEU - Ogone eurocard | E33: Télécollecte CB ogone
B34: OPEM - Ogone préauto euro/master | E34: Télécollecte CB ogone
B35: OPVI - Ogone préauto visa | E35: Télécollecte CB ogone
B36: autres cartes ogone | E36: Télécollecte CB ogone
B37: TOTAL CB OGONE | C37: =SUM(C32:C36) -> 0 | D37: =SUM(D32:D36) -> 0 | E37: TOTAL CB OGONE | F37: =SUM(F32:F36) -> 0 | G37: =F37+D37-C37 -> 0
B39: RCB - Régul CB
B41: TOTAL CB PHYSIQUES + CB OGONE | C41: =C30+C37+C39 -> 0 | D41: =D30+D37+D39 -> 0 | E41: TOTAL CB PHYSIQUES + CB OGONE | F41: =F30+F37 -> 0 | G41: =F41+D41-C41 -> 0
A42: DCC | B42: CB DCC | E42: Télécollecte DCC
B43: autres cartes DCC | E43: Télécollecte DCC
B44: TOTAL CB DCC | C44: =SUM(C42:C43) -> 0 | D44: =SUM(D42:D43) -> 0 | E44: TOTAL CB DCC | F44: =SUM(F42:F43) -> 0 | G44: =F44+D44-C44 -> 0
...

Sheet 14
A1: ='1'!A1:I1 -> HOTEL :
A2: ='1'!A2:G2+13 -> 43387
C3: FOLS | D3: LA BOUCHERIE, FLAM'S | E3: REMISE EN BANQUE | G3: ECART | H3: JUSTIFICATIONS DES ECARTS
A5: ESPECES | B5: CAS - Espèces et autres espèces | E5: Remise espèces | G5: =+F5-D5+C5 -> 0
B6: DEVISES ESPECES | E6: Remise devises espèces en euros | G6: =F6+D6-C6 -> 0
A7: CHEQUES | B7: CHE - Chèque banque | E7: Remise A
B8: CHE - Chèque client | E8: Remise B
B9: Chèques DD | E9: Remise C
B10: Autres chèques | E10: remise D
B11: TOTAL CHEQUES | C11: =SUM(C7:C10) -> 0 | D11: =SUM(D7:D10) -> 0 | E11: TOTAL CHEQUES | F11: =SUM(F7:F10) -> 0 | G11: =F11+D11-C11 -> 0
A12: VIREMENTS | B12: CVI - Virement | E12: Virements reçu
B13: DD | E13: Virements reçu
B14: DD | E14: Virements reçu
B15: DD | E15: Virements reçu
B16: Autres virements | E16: Virements reçu
B17: TOTAL VIREMENTS | C17: =SUM(C12:C16) -> 0 | D17: =SUM(D12:D16) -> 0 | E17: TOTAL VIREMENTS | F17: =SUM(F12:F16) -> 0 | G17: =F17+D17-C17 -> 0
A18: COUPONS | B18: TRE - Tickets Rest. | E18: Remise Tickets Resto | G18: =F18+D18-C18 -> 0
B19: TRECARD - Cartes tickets rest. | E19: TRECARD - Cartes tickets rest. | G19: =F19+D19-C19 -> 0
B20: CCV - Chèques vacances | E20: Remise Chq Vacances | G20: =F20+D20-C20 -> 0
B21: CCC - Chq compliment | E21: Remise chq compliment A | G21: =F21+D21-C21 -> 0
B22: CCA - Chèque cadeau ACCOR | E22: Remise chq compliment B | G22: =F22+D22-C22 -> 0
B23: ACA - LeClub-A rewards | E23: Remise Le Club A | G23: =F23+D23-C23 -> 0
B24: ACI - LeClub-A rewards € WE | E24: Remise Le Club A | G24: =F24+D24-C24 -> 0
A25: CARTES BLEUES | B25: CB - Carte bancaire | E25: Télécollecte CB physique
B26: CB SC - Carte bancaire sans contact | E26: Télécollecte CB physique
B27: CB VAD - Carte Manuelle | E27: Télécollecte CB physique
B28: CB - Restaurant | E28: Télécollecte CB physique
B29: CB SC - Restaurant sans contact | E29: CB SC - Restaurant sans contact
B30: TOTAL CB PHYSIQUES | C30: =SUM(C25:C29) -> 0 | D30: =SUM(D25:D28) -> 0 | E30: TOTAL CB PHYSIQUES | F30: =SUM(F25:F29) -> 0 | G30: =F30+D30-C30 -> 0
B32: OVI - Visa ogone | E32: Télécollecte CB ogone
B33: OEU - Ogone eurocard | E33: Télécollecte CB ogone
B34: OPEM - Ogone préauto euro/master | E34: Télécollecte CB ogone
B35: OPVI - Ogone préauto visa | E35: Télécollecte CB ogone
B36: autres cartes ogone | E36: Télécollecte CB ogone
B37: TOTAL CB OGONE | C37: =SUM(C32:C36) -> 0 | D37: =SUM(D32:D36) -> 0 | E37: TOTAL CB OGONE | F37: =SUM(F32:F36) -> 0 | G37: =F37+D37-C37 -> 0
B39: RCB - Régul CB
B41: TOTAL CB PHYSIQUES + CB OGONE | C41: =C30+C37+C39 -> 0 | D41: =D30+D37+D39 -> 0 | E41: TOTAL CB PHYSIQUES + CB OGONE | F41: =F30+F37 -> 0 | G41: =F41+D41-C41 -> 0
A42: DCC | B42: CB DCC | E42: Télécollecte DCC
B43: autres cartes DCC | E43: Télécollecte DCC
B44: TOTAL CB DCC | C44: =SUM(C42:C43) -> 0 | D44: =SUM(D42:D43) -> 0 | E44: TOTAL CB DCC | F44: =SUM(F42:F43) -> 0 | G44: =F44+D44-C44 -> 0
...

Sheet 15
A1: ='1'!A1:I1 -> HOTEL :
A2: ='1'!A2:G2+14 -> 43388
C3: FOLS | D3: LA BOUCHERIE, FLAM'S | E3: REMISE EN BANQUE | G3: ECART | H3: JUSTIFICATIONS DES ECARTS
A5: ESPECES | B5: CAS - Espèces et autres espèces | E5: Remise espèces | G5: =+F5-D5+C5 -> 0
B6: DEVISES ESPECES | E6: Remise devises espèces en euros | G6: =F6+D6-C6 -> 0
A7: CHEQUES | B7: CHE - Chèque banque | E7: Remise A
B8: CHE - Chèque client | E8: Remise B
B9: Chèques DD | E9: Remise C
B10: Autres chèques | E10: remise D
B11: TOTAL CHEQUES | C11: =SUM(C7:C10) -> 0 | D11: =SUM(D7:D10) -> 0 | E11: TOTAL CHEQUES | F11: =SUM(F7:F10) -> 0 | G11: =F11+D11-C11 -> 0
A12: VIREMENTS | B12: CVI - Virement | E12: Virements reçu
B13: DD | E13: Virements reçu
B14: DD | E14: Virements reçu
B15: DD | E15: Virements reçu
B16: Autres virements | E16: Virements reçu
B17: TOTAL VIREMENTS | C17: =SUM(C12:C16) -> 0 | D17: =SUM(D12:D16) -> 0 | E17: TOTAL VIREMENTS | F17: =SUM(F12:F16) -> 0 | G17: =F17+D17-C17 -> 0
A18: COUPONS | B18: TRE - Tickets Rest. | E18: Remise Tickets Resto | G18: =F18+D18-C18 -> 0
B19: TRECARD - Cartes tickets rest. | E19: TRECARD - Cartes tickets rest. | G19: =F19+D19-C19 -> 0
B20: CCV - Chèques vacances | E20: Remise Chq Vacances | G20: =F20+D20-C20 -> 0
B21: CCC - Chq compliment | E21: Remise chq compliment A | G21: =F21+D21-C21 -> 0
B22: CCA - Chèque cadeau ACCOR | E22: Remise chq compliment B | G22: =F22+D22-C22 -> 0
B23: ACA - LeClub-A rewards | E23: Remise Le Club A | G23: =F23+D23-C23 -> 0
B24: ACI - LeClub-A rewards € WE | E24: Remise Le Club A | G24: =F24+D24-C24 -> 0
A25: CARTES BLEUES | B25: CB - Carte bancaire | E25: Télécollecte CB physique
B26: CB SC - Carte bancaire sans contact | E26: Télécollecte CB physique
B27: CB VAD - Carte Manuelle | E27: Télécollecte CB physique
B28: CB - Restaurant | E28: Télécollecte CB physique
B29: CB SC - Restaurant sans contact | E29: CB SC - Restaurant sans contact
B30: TOTAL CB PHYSIQUES | C30: =SUM(C25:C29) -> 0 | D30: =SUM(D25:D28) -> 0 | E30: TOTAL CB PHYSIQUES | F30: =SUM(F25:F29) -> 0 | G30: =F30+D30-C30 -> 0
B32: OVI - Visa ogone | E32: Télécollecte CB ogone
B33: OEU - Ogone eurocard | E33: Télécollecte CB ogone
B34: OPEM - Ogone préauto euro/master | E34: Télécollecte CB ogone
B35: OPVI - Ogone préauto visa | E35: Télécollecte CB ogone
B36: autres cartes ogone | E36: Télécollecte CB ogone
B37: TOTAL CB OGONE | C37: =SUM(C32:C36) -> 0 | D37: =SUM(D32:D36) -> 0 | E37: TOTAL CB OGONE | F37: =SUM(F32:F36) -> 0 | G37: =F37+D37-C37 -> 0
B39: RCB - Régul CB
B41: TOTAL CB PHYSIQUES + CB OGONE | C41: =C30+C37+C39 -> 0 | D41: =D30+D37+D39 -> 0 | E41: TOTAL CB PHYSIQUES + CB OGONE | F41: =F30+F37 -> 0 | G41: =F41+D41-C41 -> 0
A42: DCC | B42: CB DCC | E42: Télécollecte DCC
B43: autres cartes DCC | E43: Télécollecte DCC
B44: TOTAL CB DCC | C44: =SUM(C42:C43) -> 0 | D44: =SUM(D42:D43) -> 0 | E44: TOTAL CB DCC | F44: =SUM(F42:F43) -> 0 | G44: =F44+D44-C44 -> 0
...

Sheet 16
A1: ='1'!A1:I1 -> HOTEL :
A2: ='1'!A2:G2+15 -> 43389
C3: FOLS | D3: LA BOUCHERIE, FLAM'S | E3: REMISE EN BANQUE | G3: ECART | H3: JUSTIFICATIONS DES ECARTS
A5: ESPECES | B5: CAS - Espèces et autres espèces | E5: Remise espèces | G5: =+F5-D5+C5 -> 0
B6: DEVISES ESPECES | E6: Remise devises espèces en euros | G6: =F6+D6-C6 -> 0
A7: CHEQUES | B7: CHE - Chèque banque | E7: Remise A
B8: CHE - Chèque client | E8: Remise B
B9: Chèques DD | E9: Remise C
B10: Autres chèques | E10: remise D
B11: TOTAL CHEQUES | C11: =SUM(C7:C10) -> 0 | D11: =SUM(D7:D10) -> 0 | E11: TOTAL CHEQUES | F11: =SUM(F7:F10) -> 0 | G11: =F11+D11-C11 -> 0
A12: VIREMENTS | B12: CVI - Virement | E12: Virements reçu
B13: DD | E13: Virements reçu
B14: DD | E14: Virements reçu
B15: DD | E15: Virements reçu
B16: Autres virements | E16: Virements reçu
B17: TOTAL VIREMENTS | C17: =SUM(C12:C16) -> 0 | D17: =SUM(D12:D16) -> 0 | E17: TOTAL VIREMENTS | F17: =SUM(F12:F16) -> 0 | G17: =F17+D17-C17 -> 0
A18: COUPONS | B18: TRE - Tickets Rest. | E18: Remise Tickets Resto | G18: =F18+D18-C18 -> 0
B19: TRECARD - Cartes tickets rest. | E19: TRECARD - Cartes tickets rest. | G19: =F19+D19-C19 -> 0
B20: CCV - Chèques vacances | E20: Remise Chq Vacances | G20: =F20+D20-C20 -> 0
B21: CCC - Chq compliment | E21: Remise chq compliment A | G21: =F21+D21-C21 -> 0
B22: CCA - Chèque cadeau ACCOR | E22: Remise chq compliment B | G22: =F22+D22-C22 -> 0
B23: ACA - LeClub-A rewards | E23: Remise Le Club A | G23: =F23+D23-C23 -> 0
B24: ACI - LeClub-A rewards € WE | E24: Remise Le Club A | G24: =F24+D24-C24 -> 0
A25: CARTES BLEUES | B25: CB - Carte bancaire | E25: Télécollecte CB physique
B26: CB SC - Carte bancaire sans contact | E26: Télécollecte CB physique
B27: CB VAD - Carte Manuelle | E27: Télécollecte CB physique
B28: CB - Restaurant | E28: Télécollecte CB physique
B29: CB SC - Restaurant sans contact | E29: CB SC - Restaurant sans contact
B30: TOTAL CB PHYSIQUES | C30: =SUM(C25:C29) -> 0 | D30: =SUM(D25:D28) -> 0 | E30: TOTAL CB PHYSIQUES | F30: =SUM(F25:F29) -> 0 | G30: =F30+D30-C30 -> 0
B32: OVI - Visa ogone | E32: Télécollecte CB ogone
B33: OEU - Ogone eurocard | E33: Télécollecte CB ogone
B34: OPEM - Ogone préauto euro/master | E34: Télécollecte CB ogone
B35: OPVI - Ogone préauto visa | E35: Télécollecte CB ogone
B36: autres cartes ogone | E36: Télécollecte CB ogone
B37: TOTAL CB OGONE | C37: =SUM(C32:C36) -> 0 | D37: =SUM(D32:D36) -> 0 | E37: TOTAL CB OGONE | F37: =SUM(F32:F36) -> 0 | G37: =F37+D37-C37 -> 0
B39: RCB - Régul CB
B41: TOTAL CB PHYSIQUES + CB OGONE | C41: =C30+C37+C39 -> 0 | D41: =D30+D37+D39 -> 0 | E41: TOTAL CB PHYSIQUES + CB OGONE | F41: =F30+F37 -> 0 | G41: =F41+D41-C41 -> 0
A42: DCC | B42: CB DCC | E42: Télécollecte DCC
B43: autres cartes DCC | E43: Télécollecte DCC
B44: TOTAL CB DCC | C44: =SUM(C42:C43) -> 0 | D44: =SUM(D42:D43) -> 0 | E44: TOTAL CB DCC | F44: =SUM(F42:F43) -> 0 | G44: =F44+D44-C44 -> 0
...

Sheet 17
A1: ='1'!A1:I1 -> HOTEL :
A2: ='1'!A2:G2+16 -> 43390
C3: FOLS | D3: LA BOUCHERIE, FLAM'S | E3: REMISE EN BANQUE | G3: ECART | H3: JUSTIFICATIONS DES ECARTS
A5: ESPECES | B5: CAS - Espèces et autres espèces | E5: Remise espèces | G5: =+F5-D5+C5 -> 0
B6: DEVISES ESPECES | E6: Remise devises espèces en euros | G6: =F6+D6-C6 -> 0
A7: CHEQUES | B7: CHE - Chèque banque | E7: Remise A
B8: CHE - Chèque client | E8: Remise B
B9: Chèques DD | E9: Remise C
B10: Autres chèques | E10: remise D
B11: TOTAL CHEQUES | C11: =SUM(C7:C10) -> 0 | D11: =SUM(D7:D10) -> 0 | E11: TOTAL CHEQUES | F11: =SUM(F7:F10) -> 0 | G11: =F11+D11-C11 -> 0
A12: VIREMENTS | B12: CVI - Virement | E12: Virements reçu
B13: DD | E13: Virements reçu
B14: DD | E14: Virements reçu
B15: DD | E15: Virements reçu
B16: Autres virements | E16: Virements reçu
B17: TOTAL VIREMENTS | C17: =SUM(C12:C16) -> 0 | D17: =SUM(D12:D16) -> 0 | E17: TOTAL VIREMENTS | F17: =SUM(F12:F16) -> 0 | G17: =F17+D17-C17 -> 0
A18: COUPONS | B18: TRE - Tickets Rest. | E18: Remise Tickets Resto | G18: =F18+D18-C18 -> 0
B19: TRECARD - Cartes tickets rest. | E19: TRECARD - Cartes tickets rest. | G19: =F19+D19-C19 -> 0
B20: CCV - Chèques vacances | E20: Remise Chq Vacances | G20: =F20+D20-C20 -> 0
B21: CCC - Chq compliment | E21: Remise chq compliment A | G21: =F21+D21-C21 -> 0
B22: CCA - Chèque cadeau ACCOR | E22: Remise chq compliment B | G22: =F22+D22-C22 -> 0
B23: ACA - LeClub-A rewards | E23: Remise Le Club A | G23: =F23+D23-C23 -> 0
B24: ACI - LeClub-A rewards € WE | E24: Remise Le Club A | G24: =F24+D24-C24 -> 0
A25: CARTES BLEUES | B25: CB - Carte bancaire | E25: Télécollecte CB physique
B26: CB SC - Carte bancaire sans contact | E26: Télécollecte CB physique
B27: CB VAD - Carte Manuelle | E27: Télécollecte CB physique
B28: CB - Restaurant | E28: Télécollecte CB physique
B29: CB SC - Restaurant sans contact | E29: CB SC - Restaurant sans contact
B30: TOTAL CB PHYSIQUES | C30: =SUM(C25:C29) -> 0 | D30: =SUM(D25:D28) -> 0 | E30: TOTAL CB PHYSIQUES | F30: =SUM(F25:F29) -> 0 | G30: =F30+D30-C30 -> 0
B32: OVI - Visa ogone | E32: Télécollecte CB ogone
B33: OEU - Ogone eurocard | E33: Télécollecte CB ogone
B34: OPEM - Ogone préauto euro/master | E34: Télécollecte CB ogone
B35: OPVI - Ogone préauto visa | E35: Télécollecte CB ogone
B36: autres cartes ogone | E36: Télécollecte CB ogone
B37: TOTAL CB OGONE | C37: =SUM(C32:C36) -> 0 | D37: =SUM(D32:D36) -> 0 | E37: TOTAL CB OGONE | F37: =SUM(F32:F36) -> 0 | G37: =F37+D37-C37 -> 0
B39: RCB - Régul CB
B41: TOTAL CB PHYSIQUES + CB OGONE | C41: =C30+C37+C39 -> 0 | D41: =D30+D37+D39 -> 0 | E41: TOTAL CB PHYSIQUES + CB OGONE | F41: =F30+F37 -> 0 | G41: =F41+D41-C41 -> 0
A42: DCC | B42: CB DCC | E42: Télécollecte DCC
B43: autres cartes DCC | E43: Télécollecte DCC
B44: TOTAL CB DCC | C44: =SUM(C42:C43) -> 0 | D44: =SUM(D42:D43) -> 0 | E44: TOTAL CB DCC | F44: =SUM(F42:F43) -> 0 | G44: =F44+D44-C44 -> 0
...

Sheet 18
A1: ='1'!A1:I1 -> HOTEL :
A2: ='1'!A2:G2+17 -> 43391
C3: FOLS | D3: LA BOUCHERIE, FLAM'S | E3: REMISE EN BANQUE | G3: ECART | H3: JUSTIFICATIONS DES ECARTS
A5: ESPECES | B5: CAS - Espèces et autres espèces | E5: Remise espèces | G5: =+F5-D5+C5 -> 0
B6: DEVISES ESPECES | E6: Remise devises espèces en euros | G6: =F6+D6-C6 -> 0
A7: CHEQUES | B7: CHE - Chèque banque | E7: Remise A
B8: CHE - Chèque client | E8: Remise B
B9: Chèques DD | E9: Remise C
B10: Autres chèques | E10: remise D
B11: TOTAL CHEQUES | C11: =SUM(C7:C10) -> 0 | D11: =SUM(D7:D10) -> 0 | E11: TOTAL CHEQUES | F11: =SUM(F7:F10) -> 0 | G11: =F11+D11-C11 -> 0
A12: VIREMENTS | B12: CVI - Virement | E12: Virements reçu
B13: DD | E13: Virements reçu
B14: DD | E14: Virements reçu
B15: DD | E15: Virements reçu
B16: Autres virements | E16: Virements reçu
B17: TOTAL VIREMENTS | C17: =SUM(C12:C16) -> 0 | D17: =SUM(D12:D16) -> 0 | E17: TOTAL VIREMENTS | F17: =SUM(F12:F16) -> 0 | G17: =F17+D17-C17 -> 0
A18: COUPONS | B18: TRE - Tickets Rest. | E18: Remise Tickets Resto | G18: =F18+D18-C18 -> 0
B19: TRECARD - Cartes tickets rest. | E19: TRECARD - Cartes tickets rest. | G19: =F19+D19-C19 -> 0
B20: CCV - Chèques vacances | E20: Remise Chq Vacances | G20: =F20+D20-C20 -> 0
B21: CCC - Chq compliment | E21: Remise chq compliment A | G21: =F21+D21-C21 -> 0
B22: CCA - Chèque cadeau ACCOR | E22: Remise chq compliment B | G22: =F22+D22-C22 -> 0
B23: ACA - LeClub-A rewards | E23: Remise Le Club A | G23: =F23+D23-C23 -> 0
B24: ACI - LeClub-A rewards € WE | E24: Remise Le Club A | G24: =F24+D24-C24 -> 0
A25: CARTES BLEUES | B25: CB - Carte bancaire | E25: Télécollecte CB physique
B26: CB SC - Carte bancaire sans contact | E26: Télécollecte CB physique
B27: CB VAD - Carte Manuelle | E27: Télécollecte CB physique
B28: CB - Restaurant | E28: Télécollecte CB physique
B29: CB SC - Restaurant sans contact | E29: CB SC - Restaurant sans contact
B30: TOTAL CB PHYSIQUES | C30: =SUM(C25:C29) -> 0 | D30: =SUM(D25:D28) -> 0 | E30: TOTAL CB PHYSIQUES | F30: =SUM(F25:F29) -> 0 | G30: =F30+D30-C30 -> 0
B32: OVI - Visa ogone | E32: Télécollecte CB ogone
B33: OEU - Ogone eurocard | E33: Télécollecte CB ogone
B34: OPEM - Ogone préauto euro/master | E34: Télécollecte CB ogone
B35: OPVI - Ogone préauto visa | E35: Télécollecte CB ogone
B36: autres cartes ogone | E36: Télécollecte CB ogone
B37: TOTAL CB OGONE | C37: =SUM(C32:C36) -> 0 | D37: =SUM(D32:D36) -> 0 | E37: TOTAL CB OGONE | F37: =SUM(F32:F36) -> 0 | G37: =F37+D37-C37 -> 0
B39: RCB - Régul CB
B41: TOTAL CB PHYSIQUES + CB OGONE | C41: =C30+C37+C39 -> 0 | D41: =D30+D37+D39 -> 0 | E41: TOTAL CB PHYSIQUES + CB OGONE | F41: =F30+F37 -> 0 | G41: =F41+D41-C41 -> 0
A42: DCC | B42: CB DCC | E42: Télécollecte DCC
B43: autres cartes DCC | E43: Télécollecte DCC
B44: TOTAL CB DCC | C44: =SUM(C42:C43) -> 0 | D44: =SUM(D42:D43) -> 0 | E44: TOTAL CB DCC | F44: =SUM(F42:F43) -> 0 | G44: =F44+D44-C44 -> 0
...

Sheet 19
A1: ='1'!A1:I1 -> HOTEL :
A2: ='1'!A2:G2+18 -> 43392
C3: FOLS | D3: LA BOUCHERIE, FLAM'S | E3: REMISE EN BANQUE | G3: ECART | H3: JUSTIFICATIONS DES ECARTS
A5: ESPECES | B5: CAS - Espèces et autres espèces | E5: Remise espèces | G5: =+F5-D5+C5 -> 0
B6: DEVISES ESPECES | E6: Remise devises espèces en euros | G6: =F6+D6-C6 -> 0
A7: CHEQUES | B7: CHE - Chèque banque | E7: Remise A
B8: CHE - Chèque client | E8: Remise B
B9: Chèques DD | E9: Remise C
B10: Autres chèques | E10: remise D
B11: TOTAL CHEQUES | C11: =SUM(C7:C10) -> 0 | D11: =SUM(D7:D10) -> 0 | E11: TOTAL CHEQUES | F11: =SUM(F7:F10) -> 0 | G11: =F11+D11-C11 -> 0
A12: VIREMENTS | B12: CVI - Virement | E12: Virements reçu
B13: DD | E13: Virements reçu
B14: DD | E14: Virements reçu
B15: DD | E15: Virements reçu
B16: Autres virements | E16: Virements reçu
B17: TOTAL VIREMENTS | C17: =SUM(C12:C16) -> 0 | D17: =SUM(D12:D16) -> 0 | E17: TOTAL VIREMENTS | F17: =SUM(F12:F16) -> 0 | G17: =F17+D17-C17 -> 0
A18: COUPONS | B18: TRE - Tickets Rest. | E18: Remise Tickets Resto | G18: =F18+D18-C18 -> 0
B19: TRECARD - Cartes tickets rest. | E19: TRECARD - Cartes tickets rest. | G19: =F19+D19-C19 -> 0
B20: CCV - Chèques vacances | E20: Remise Chq Vacances | G20: =F20+D20-C20 -> 0
B21: CCC - Chq compliment | E21: Remise chq compliment A | G21: =F21+D21-C21 -> 0
B22: CCA - Chèque cadeau ACCOR | E22: Remise chq compliment B | G22: =F22+D22-C22 -> 0
B23: ACA - LeClub-A rewards | E23: Remise Le Club A | G23: =F23+D23-C23 -> 0
B24: ACI - LeClub-A rewards € WE | E24: Remise Le Club A | G24: =F24+D24-C24 -> 0
A25: CARTES BLEUES | B25: CB - Carte bancaire | E25: Télécollecte CB physique
B26: CB SC - Carte bancaire sans contact | E26: Télécollecte CB physique
B27: CB VAD - Carte Manuelle | E27: Télécollecte CB physique
B28: CB - Restaurant | E28: Télécollecte CB physique
B29: CB SC - Restaurant sans contact | E29: CB SC - Restaurant sans contact
B30: TOTAL CB PHYSIQUES | C30: =SUM(C25:C29) -> 0 | D30: =SUM(D25:D28) -> 0 | E30: TOTAL CB PHYSIQUES | F30: =SUM(F25:F29) -> 0 | G30: =F30+D30-C30 -> 0
B32: OVI - Visa ogone | E32: Télécollecte CB ogone
B33: OEU - Ogone eurocard | E33: Télécollecte CB ogone
B34: OPEM - Ogone préauto euro/master | E34: Télécollecte CB ogone
B35: OPVI - Ogone préauto visa | E35: Télécollecte CB ogone
B36: autres cartes ogone | E36: Télécollecte CB ogone
B37: TOTAL CB OGONE | C37: =SUM(C32:C36) -> 0 | D37: =SUM(D32:D36) -> 0 | E37: TOTAL CB OGONE | F37: =SUM(F32:F36) -> 0 | G37: =F37+D37-C37 -> 0
B39: RCB - Régul CB
B41: TOTAL CB PHYSIQUES + CB OGONE | C41: =C30+C37+C39 -> 0 | D41: =D30+D37+D39 -> 0 | E41: TOTAL CB PHYSIQUES + CB OGONE | F41: =F30+F37 -> 0 | G41: =F41+D41-C41 -> 0
A42: DCC | B42: CB DCC | E42: Télécollecte DCC
B43: autres cartes DCC | E43: Télécollecte DCC
B44: TOTAL CB DCC | C44: =SUM(C42:C43) -> 0 | D44: =SUM(D42:D43) -> 0 | E44: TOTAL CB DCC | F44: =SUM(F42:F43) -> 0 | G44: =F44+D44-C44 -> 0
...

Sheet 20
A1: ='1'!A1:I1 -> HOTEL :
A2: ='1'!A2:G2+19 -> 43393
C3: FOLS | D3: LA BOUCHERIE, FLAM'S | E3: REMISE EN BANQUE | G3: ECART | H3: JUSTIFICATIONS DES ECARTS
A5: ESPECES | B5: CAS - Espèces et autres espèces | E5: Remise espèces | G5: =+F5-D5+C5 -> 0
B6: DEVISES ESPECES | E6: Remise devises espèces en euros | G6: =F6+D6-C6 -> 0
A7: CHEQUES | B7: CHE - Chèque banque | E7: Remise A
B8: CHE - Chèque client | E8: Remise B
B9: Chèques DD | E9: Remise C
B10: Autres chèques | E10: remise D
B11: TOTAL CHEQUES | C11: =SUM(C7:C10) -> 0 | D11: =SUM(D7:D10) -> 0 | E11: TOTAL CHEQUES | F11: =SUM(F7:F10) -> 0 | G11: =F11+D11-C11 -> 0
A12: VIREMENTS | B12: CVI - Virement | E12: Virements reçu
B13: DD | E13: Virements reçu
B14: DD | E14: Virements reçu
B15: DD | E15: Virements reçu
B16: Autres virements | E16: Virements reçu
B17: TOTAL VIREMENTS | C17: =SUM(C12:C16) -> 0 | D17: =SUM(D12:D16) -> 0 | E17: TOTAL VIREMENTS | F17: =SUM(F12:F16) -> 0 | G17: =F17+D17-C17 -> 0
A18: COUPONS | B18: TRE - Tickets Rest. | E18: Remise Tickets Resto | G18: =F18+D18-C18 -> 0
B19: TRECARD - Cartes tickets rest. | E19: TRECARD - Cartes tickets rest. | G19: =F19+D19-C19 -> 0
B20: CCV - Chèques vacances | E20: Remise Chq Vacances | G20: =F20+D20-C20 -> 0
B21: CCC - Chq compliment | E21: Remise chq compliment A | G21: =F21+D21-C21 -> 0
B22: CCA - Chèque cadeau ACCOR | E22: Remise chq compliment B | G22: =F22+D22-C22 -> 0
B23: ACA - LeClub-A rewards | E23: Remise Le Club A | G23: =F23+D23-C23 -> 0
B24: ACI - LeClub-A rewards € WE | E24: Remise Le Club A | G24: =F24+D24-C24 -> 0
A25: CARTES BLEUES | B25: CB - Carte bancaire | E25: Télécollecte CB physique
B26: CB SC - Carte bancaire sans contact | E26: Télécollecte CB physique
B27: CB VAD - Carte Manuelle | E27: Télécollecte CB physique
B28: CB - Restaurant | E28: Télécollecte CB physique
B29: CB SC - Restaurant sans contact | E29: CB SC - Restaurant sans contact
B30: TOTAL CB PHYSIQUES | C30: =SUM(C25:C29) -> 0 | D30: =SUM(D25:D28) -> 0 | E30: TOTAL CB PHYSIQUES | F30: =SUM(F25:F29) -> 0 | G30: =F30+D30-C30 -> 0
B32: OVI - Visa ogone | E32: Télécollecte CB ogone
B33: OEU - Ogone eurocard | E33: Télécollecte CB ogone
B34: OPEM - Ogone préauto euro/master | E34: Télécollecte CB ogone
B35: OPVI - Ogone préauto visa | E35: Télécollecte CB ogone
B36: autres cartes ogone | E36: Télécollecte CB ogone
B37: TOTAL CB OGONE | C37: =SUM(C32:C36) -> 0 | D37: =SUM(D32:D36) -> 0 | E37: TOTAL CB OGONE | F37: =SUM(F32:F36) -> 0 | G37: =F37+D37-C37 -> 0
B39: RCB - Régul CB
B41: TOTAL CB PHYSIQUES + CB OGONE | C41: =C30+C37+C39 -> 0 | D41: =D30+D37+D39 -> 0 | E41: TOTAL CB PHYSIQUES + CB OGONE | F41: =F30+F37 -> 0 | G41: =F41+D41-C41 -> 0
A42: DCC | B42: CB DCC | E42: Télécollecte DCC
B43: autres cartes DCC | E43: Télécollecte DCC
B44: TOTAL CB DCC | C44: =SUM(C42:C43) -> 0 | D44: =SUM(D42:D43) -> 0 | E44: TOTAL CB DCC | F44: =SUM(F42:F43) -> 0 | G44: =F44+D44-C44 -> 0
...

Sheet 21
A1: ='1'!A1:I1 -> HOTEL :
A2: ='1'!A2:G2+20 -> 43394
C3: FOLS | D3: LA BOUCHERIE, FLAM'S | E3: REMISE EN BANQUE | G3: ECART | H3: JUSTIFICATIONS DES ECARTS
A5: ESPECES | B5: CAS - Espèces et autres espèces | E5: Remise espèces | G5: =+F5-D5+C5 -> 0
B6: DEVISES ESPECES | E6: Remise devises espèces en euros | G6: =F6+D6-C6 -> 0
A7: CHEQUES | B7: CHE - Chèque banque | E7: Remise A
B8: CHE - Chèque client | E8: Remise B
B9: Chèques DD | E9: Remise C
B10: Autres chèques | E10: remise D
B11: TOTAL CHEQUES | C11: =SUM(C7:C10) -> 0 | D11: =SUM(D7:D10) -> 0 | E11: TOTAL CHEQUES | F11: =SUM(F7:F10) -> 0 | G11: =F11+D11-C11 -> 0
A12: VIREMENTS | B12: CVI - Virement | E12: Virements reçu
B13: DD | E13: Virements reçu
B14: DD | E14: Virements reçu
B15: DD | E15: Virements reçu
B16: Autres virements | E16: Virements reçu
B17: TOTAL VIREMENTS | C17: =SUM(C12:C16) -> 0 | D17: =SUM(D12:D16) -> 0 | E17: TOTAL VIREMENTS | F17: =SUM(F12:F16) -> 0 | G17: =F17+D17-C17 -> 0
A18: COUPONS | B18: TRE - Tickets Rest. | E18: Remise Tickets Resto | G18: =F18+D18-C18 -> 0
B19: TRECARD - Cartes tickets rest. | E19: TRECARD - Cartes tickets rest. | G19: =F19+D19-C19 -> 0
B20: CCV - Chèques vacances | E20: Remise Chq Vacances | G20: =F20+D20-C20 -> 0
B21: CCC - Chq compliment | E21: Remise chq compliment A | G21: =F21+D21-C21 -> 0
B22: CCA - Chèque cadeau ACCOR | E22: Remise chq compliment B | G22: =F22+D22-C22 -> 0
