Workbook

Sheet Analyse
B3: QUANTITE PRODUITE | C3: TEMPS MOYEN DE PRODUCTION (mn) | D3: TEMPS HH:MM
A4: Assist Transfer | B4: 6 | C4: 151.66667 | D4: =TIME(0,G4,0) -> 0.10555556 | F4: 151.66667 | G4: =ROUND(F4,0) -> 152
A5: Autres assis transf | B5: 3 | C5: 213.33333 | D5: =TIME(0,G5,0) -> 0.14791667 | F5: 213.33333 | G5: =ROUND(F5,0) -> 213
A6: Guidon de transfert | B6: 2 | C6: 52.5 | D6: =TIME(0,G6,0) -> 0.036805556 | F6: 52.5 | G6: =ROUND(F6,0) -> 53
A7: Verticalisateur | B7: 1 | C7: 165 | D7: =TIME(0,G7,0) -> 0.11458333 | F7: 165 | G7: =ROUND(F7,0) -> 165
A8: AT Deambulation | B8: 29 | C8: 159.82759 | D8: =TIME(0,G8,0) -> 0.11111111 | F8: 159.82759 | G8: =ROUND(F8,0) -> 160
A9: Cadre de marche | B9: 6 | C9: 77 | D9: =TIME(0,G9,0) -> 0.053472222 | F9: 77 | G9: =ROUND(F9,0) -> 77
A10: Canne anglaise | B10: 1 | C10: 65 | D10: =TIME(0,G10,0) -> 0.045138889 | F10: 65 | G10: =ROUND(F10,0) -> 65
A11: Rollator | B11: 21 | C11: 194.90476 | D11: =TIME(0,G11,0) -> 0.13541667 | F11: 194.90476 | G11: =ROUND(F11,0) -> 195
A12: Tripode | B12: 1 | C12: 15 | D12: =TIME(0,G12,0) -> 0.010416667 | F12: 15 | G12: =ROUND(F12,0) -> 15
A13: AT Hygiene | B13: 45 | C13: 172.11111 | D13: =TIME(0,G13,0) -> 0.11944444 | F13: 172.11111 | G13: =ROUND(F13,0) -> 172
A14: Autres Hygiène | B14: 15 | C14: 139.33333 | D14: =TIME(0,G14,0) -> 0.096527778 | F14: 139.33333 | G14: =ROUND(F14,0) -> 139
A15: Chaise de douche | B15: 5 | C15: 291 | D15: =TIME(0,G15,0) -> 0.20208333 | F15: 291 | G15: =ROUND(F15,0) -> 291
... A36: Total général | B36: 153 | C36: 262.54902 | D36: =TIME(0,G36,0) -> 0.18263889 | F36: 262.54902 | G36: =ROUND(F36,0) -> 263
F37: 109.0625 | G37: =ROUND(F37,0) -> 109

Sheet Donnees de prod SYSPEO
A1: FAP | B1: FAMILLE | C1: GENRE | D1: DUREEPROD
A2: 042 0000515 | B2: AT Hygiene | C2: Autres Hygiène | D2: 285
A3: 042 0000516 | B3: AT Hygiene | C3: Planche de bain | D3: 60
A4: 042 0000517 | B4: AT Hygiene | C4: Surélévateur de WC | D4: 150
A5: 042 0000518 | B5: Mobilier Assise | C5: Fauteuil releveur | D5: 310
A6: 042 0000519 | B6: Autre Autonomie | C6: Autres | D6: 150
A7: 042 0000520 | B7: Autre Autonomie | C7: Autres | D7: 10
A8: 042 0000521 | B8: AT Deambulation | C8: Cadre de marche | D8: 120
A9: 042 0000522 | B9: AT Deambulation | C9: Rollator | D9: 90
A10: 042 0000523 | B10: AT Deambulation | C10: Rollator | D10: 90
A11: 042 0000524 | B11: Mobilier Assise | C11: Mob coquille | D11: 240
A12: 042 0000525 | B12: Faut roul manu | C12: FRM confort | D12: 310
A13: 042 0000526 | B13: Autre Autonomie | C13: Autres | D13: 750
... A154: 042 0000670 | B154: AT Hygiene | C154: Surélévateur de WC | D154: 15

Sheet Graphique

Sheet Coefcicient des AT
A1: AT Hygiene | B1: Tps moyen de prod | C1: Coef correcteur | F1: Tps moyen de prod | G1: Coef correcteur
A2: Autres Hygiène | B2: =Analyse!D14 -> 0.096527778 | E2: FRE | F2: =Analyse!D24 -> 0.62916667
A3: Bassin/Urinal | B3: =Analyse!D15 -> 0.20208333 | E3: Mobilier d assise
A4: Chaise de douche | B4: =Analyse!D16 -> 0.086805556 | E4: Fauteuil releveur | F4: =Analyse!D34 -> 0.14930556
A5: Chaise garde robe | B5: =Analyse!D17 -> 0.04375 | E5: Mob Assise Elec | F5: =Analyse!D35 -> 0.17916667
A6: Planche de bain | B6: =Analyse!D18 -> 0.22083333 | E6: Mob assise mécanique | F6: =Analyse!#REF! -> #REF!
A7: Siège pivotant | B7: =Analyse!D19 -> 0.088194444 | E7: Mob coquille | F7: =Analyse!#REF! -> #REF!
A8: Surélévateur de WC | B8: =Analyse!D20 -> 0.09375 | E8: Mobilier
A9: Tabouret de douche | B9: =Analyse!#REF! -> #REF! | E9: Adaptable | F9: =Analyse!D29 -> 0.068055556
A10: AT Deambulation | E10: Autres mobilier | F10: =Analyse!D30 -> 0.041666667
A11: Autres Déambulation | B11: =Analyse!D9 -> 0.053472222 | E11: Lit électrique | F11: =Analyse!D31 -> 0.35069444
A12: Cadre de marche | B12: =Analyse!D10 -> 0.045138889 | E12: Repose pied | F12: =Analyse!D32 -> 0.14583333
A13: Canne anglaise | B13: =Analyse!D11 -> 0.13541667 | E13: Table de nuit | F13: =Analyse!#REF! -> #REF!
A14: Canne simple | B14: =Analyse!D12 -> 0.010416667 | E14: Table d'éxamen | F14: =Analyse!#REF! -> #REF!
A15: Quadripode | B15: =Analyse!#REF! -> #REF! | E15: Autres | F15: =Analyse!D22 -> 0.13125
A16: Rollator | B16: =Analyse!#REF! -> #REF! | E16: Assistance aux transferts
A17: Tripode | B17: =Analyse!#REF! -> #REF! | E17: Autres assis transf | F17: =Analyse!#REF! -> #REF!
A18: FRM | E18: Disque de transfert | F18: =Analyse!#REF! -> #REF!
A19: Fauteuil transfert | B19: =Analyse!D26 -> 0.34513889 | E19: Guidon de transfert | F19: =Analyse!#REF! -> #REF!
A20: FRM confort | B20: =Analyse!D27 -> 0.38055556 | E20: Lève personne | F20: =Analyse!D5 -> 0.14791667
A21: FRM standard | B21: =Analyse!#REF! -> #REF! | E21: Planche de transfert | F21: =Analyse!D6 -> 0.036805556
E22: Verticalisateur | F22: =Analyse!D7 -> 0.11458333
