Workbook

Sheet Janvier
A1: DATE | B1: ACTIVITES | C1: ='CRA J-H par mois'!V1 -> 0 | J1: j/h
A2: 43832 | B2: Demande d'habilitation ou de suppression de droits OSMA | H2: ="Total du mois demandes d'habilitation/suppresion" & " " & 'CRA J-H par mois'!V1 -> Total du mois demandes d'habilitation/suppresion | I2: =SUM(C2,C15,#REF!,#REF!,#REF!,#REF!,#REF!,#REF!,#REF!,#REF!,#REF!,#REF!,#REF!,#REF!,#REF!,#REF!,#REF!,#REF!,#REF!,#REF!,#REF!,#REF!) -> #REF! | J2: =I2/16 -> #REF!
B3: Gestion de nouveaux droits / Packages | H3: ="Total du mois gestion des nouveaux droits/packages" & " " & 'CRA J-H par mois'!V1 -> Total du mois gestion des nouveaux droits/packages | I3: =SUM(C3,C16,#REF!,#REF!,#REF!,#REF!,#REF!,#REF!,#REF!,#REF!,#REF!,#REF!,#REF!,#REF!,#REF!,#REF!,#REF!,#REF!,#REF!,#REF!,#REF!,#REF!) -> #REF! | J3: =I3/16 -> #REF!
B4: Réinitialisation de mot de passe (TSO,…) | H4: ="Total du mois réinitialisation de mot de passe" & " " & 'CRA J-H par mois'!V1 -> Total du mois réinitialisation de mot de passe | I4: =SUM(C4,C17,#REF!,#REF!,#REF!,#REF!,#REF!,#REF!,#REF!,#REF!,#REF!,#REF!,#REF!,#REF!,#REF!,#REF!,#REF!,#REF!,#REF!,#REF!,#REF!,#REF!) -> #REF! | J4: =I4/16 -> #REF!
B5: Assistance | H5: ="Total du mois assistance" & " " & 'CRA J-H par mois'!V1 -> Total du mois assistance
B6: Catégorie 1 | H6: Catégorie 1 | I6: =SUM(C6,C19,#REF!,#REF!,#REF!,#REF!,#REF!,#REF!,#REF!,#REF!,#REF!,#REF!,#REF!,#REF!,#REF!,#REF!,#REF!,#REF!,#REF!,#REF!,#REF!,#REF!) -> #REF! | J6: =I6/16 -> #REF!
B7: Catégorie 2 | H7: Catégorie 2 | I7: =SUM(C7,C20,#REF!,#REF!,#REF!,#REF!,#REF!,#REF!,#REF!,#REF!,#REF!,#REF!,#REF!,#REF!,#REF!,#REF!,#REF!,#REF!,#REF!,#REF!,#REF!,#REF!) -> #REF! | J7: =I7/16 -> #REF!
B8: Catégorie 3 | H8: Catégorie 3 | I8: =SUM(C8,C21,#REF!,#REF!,#REF!,#REF!,#REF!,#REF!,#REF!,#REF!,#REF!,#REF!,#REF!,#REF!,#REF!,#REF!,#REF!,#REF!,#REF!,#REF!,#REF!,#REF!) -> #REF! | J8: =I8/16 -> #REF!
B9: Autre (projet GHD…) | H9: ="Total du mois autre (à préciser)" & " " & 'CRA J-H par mois'!V1 -> Total du mois autre (à préciser)
B10: Chantier 1 | H10: Chantier 1 | I10: =SUM(C10,C23,#REF!,#REF!,#REF!,#REF!,#REF!,#REF!,#REF!,#REF!,#REF!,#REF!,#REF!,#REF!,#REF!,#REF!,#REF!,#REF!,#REF!,#REF!,#REF!,#REF!) -> #REF! | J10: =I10/16 -> #REF!
B11: Chantier 2 | H11: Chantier 2 | I11: =SUM(C11,C24,#REF!,#REF!,#REF!,#REF!,#REF!,#REF!,#REF!,#REF!,#REF!,#REF!,#REF!,#REF!,#REF!,#REF!,#REF!,#REF!,#REF!,#REF!,#REF!,#REF!) -> #REF! | J11: =I11/16 -> #REF!
B12: Absences (Congés, RTT, Maladie) | H12: ="Total du mois absences (congés, RTT, maladie)" & " " & 'CRA J-H par mois'!V1 -> Total du mois absences (congés, RTT, maladie) | I12: =SUM(C12,C25,#REF!,#REF!,#REF!,#REF!,#REF!,#REF!,#REF!,#REF!,#REF!,#REF!,#REF!,#REF!,#REF!,#REF!,#REF!,#REF!,#REF!,#REF!,#REF!,#REF!) -> #REF! | J12: =I12/16 -> #REF!
B13: Séminaire, Formation | H13: ="Total du mois séminaire/formation" & " " & 'CRA J-H par mois'!V1 -> Total du mois séminaire/formation | I13: =SUM(C13,C26,#REF!,#REF!,#REF!,#REF!,#REF!,#REF!,#REF!,#REF!,#REF!,#REF!,#REF!,#REF!,#REF!,#REF!,#REF!,#REF!,#REF!,#REF!,#REF!,#REF!) -> #REF! | J13: =I13/16 -> #REF!
B14: Temps partiel | E14: ="Total journée"&" "& 'CRA J-H par mois'!$V$1&" "&"du"&" "&TEXT(A2,"jj/mm/aaaa") -> Total journée du 02/01/2020 | F14: =SUM(C2:C4,C6,C7,C8,C10,C11,C12,C13,C14) -> 0 | H14: ="Total du mois temps partiel" & " " & 'CRA J-H par mois'!V1 -> Total du mois temps partiel | I14: =SUM(C14,C27,#REF!,#REF!,#REF!,#REF!,#REF!,#REF!,#REF!,#REF!,#REF!,#REF!,#REF!,#REF!,#REF!,#REF!,#REF!,#REF!,#REF!,#REF!,#REF!,#REF!) -> #REF! | J14: =I14/16 -> #REF!
A15: 43833 | B15: Demande d'habilitation ou de suppression de droits OSMA | H15: ="Total du mois" & " " & 'CRA J-H par mois'!V1 -> Total du mois | I15: =SUM(I2:I14) -> #REF! | J15: =J2+J3+J4+J6+J7+J8+J10+J11+J12+J13+J14 -> #REF!
B16: Gestion de nouveaux droits / Packages
B17: Réinitialisation de mot de passe (TSO,…)
B18: Assistance
B19: Catégorie 1
B20: Catégorie 2
B21: Catégorie 3
B22: Autre (projet GHD…)
B23: Chantier 1
B24: Chantier 2
B25: Absences (Congés, RTT, Maladie)
B26: Séminaire, Formation
B27: Temps partiel | E27: ="Total journée"&" "& 'CRA J-H par mois'!$V$1&" "&"du"&" "&TEXT(A15,"jj/mm/aaaa") -> Total journée du 03/01/2020 | F27: =SUM(C15:C17,C19,C20,C21,C23,C24,C25,C26,C27) -> 0
A28: 43834 | B28: Demande d'habilitation ou de suppression de droits OSMA
B29: Gestion de nouveaux droits / Packages
B30: Réinitialisation de mot de passe (TSO,…)
B31: Assistance
B32: Catégorie 1
B33: Catégorie 2
B34: Catégorie 3
B35: Autre (projet GHD…)
B36: Chantier 1
B37: Chantier 2
B38: Absences (Congés, RTT, Maladie)
B39: Séminaire, Formation
B40: Temps partiel | E40: ="Total journée"&" "& 'CRA J-H par mois'!$V$1&" "&"du"&" "&TEXT(A28,"jj/mm/aaaa") -> Total journée du 04/01/2020 | F40: =SUM(C28:C30,C32,C33,C34,C36,C37,C38,C39,C40) -> 0

Sheet Février
A1: DATE | B1: ACTIVITES | C1: ='CRA J-H par mois'!V1 -> 0 | J1: j/h
A2: 43863 | B2: Demande d'habilitation ou de suppression de droits OSMA | H2: ="Total du mois demandes d'habilitation/suppresion" & " " & 'CRA J-H par mois'!V1 -> Total du mois demandes d'habilitation/suppresion | I2: =SUM(C2,C15,#REF!,#REF!,#REF!,#REF!,#REF!,#REF!,#REF!,#REF!,#REF!,#REF!,#REF!,#REF!,#REF!,#REF!,#REF!,#REF!,#REF!,#REF!,#REF!,#REF!) -> #REF! | J2: =I2/16 -> #REF!
B3: Gestion de nouveaux droits / Packages | H3: ="Total du mois gestion des nouveaux droits/packages" & " " & 'CRA J-H par mois'!V1 -> Total du mois gestion des nouveaux droits/packages | I3: =SUM(C3,C16,#REF!,#REF!,#REF!,#REF!,#REF!,#REF!,#REF!,#REF!,#REF!,#REF!,#REF!,#REF!,#REF!,#REF!,#REF!,#REF!,#REF!,#REF!,#REF!,#REF!) -> #REF! | J3: =I3/16 -> #REF!
B4: Réinitialisation de mot de passe (TSO,…) | H4: ="Total du mois réinitialisation de mot de passe" & " " & 'CRA J-H par mois'!V1 -> Total du mois réinitialisation de mot de passe | I4: =SUM(C4,C17,#REF!,#REF!,#REF!,#REF!,#REF!,#REF!,#REF!,#REF!,#REF!,#REF!,#REF!,#REF!,#REF!,#REF!,#REF!,#REF!,#REF!,#REF!,#REF!,#REF!) -> #REF! | J4: =I4/16 -> #REF!
B5: Assistance | H5: ="Total du mois assistance" & " " & 'CRA J-H par mois'!V1 -> Total du mois assistance
B6: Catégorie 1 | H6: Catégorie 1 | I6: =SUM(C6,C19,#REF!,#REF!,#REF!,#REF!,#REF!,#REF!,#REF!,#REF!,#REF!,#REF!,#REF!,#REF!,#REF!,#REF!,#REF!,#REF!,#REF!,#REF!,#REF!,#REF!) -> #REF! | J6: =I6/16 -> #REF!
B7: Catégorie 2 | H7: Catégorie 2 | I7: =SUM(C7,C20,#REF!,#REF!,#REF!,#REF!,#REF!,#REF!,#REF!,#REF!,#REF!,#REF!,#REF!,#REF!,#REF!,#REF!,#REF!,#REF!,#REF!,#REF!,#REF!,#REF!) -> #REF! | J7: =I7/16 -> #REF!
B8: Catégorie 3 | H8: Catégorie 3 | I8: =SUM(C8,C21,#REF!,#REF!,#REF!,#REF!,#REF!,#REF!,#REF!,#REF!,#REF!,#REF!,#REF!,#REF!,#REF!,#REF!,#REF!,#REF!,#REF!,#REF!,#REF!,#REF!) -> #REF! | J8: =I8/16 -> #REF!
B9: Autre (projet GHD…) | H9: ="Total du mois autre (à préciser)" & " " & 'CRA J-H par mois'!V1 -> Total du mois autre (à préciser)
B10: Chantier 1 | H10: Chantier 1 | I10: =SUM(C10,C23,#REF!,#REF!,#REF!,#REF!,#REF!,#REF!,#REF!,#REF!,#REF!,#REF!,#REF!,#REF!,#REF!,#REF!,#REF!,#REF!,#REF!,#REF!,#REF!,#REF!) -> #REF! | J10: =I10/16 -> #REF!
B11: Chantier 2 | H11: Chantier 2 | I11: =SUM(C11,C24,#REF!,#REF!,#REF!,#REF!,#REF!,#REF!,#REF!,#REF!,#REF!,#REF!,#REF!,#REF!,#REF!,#REF!,#REF!,#REF!,#REF!,#REF!,#REF!,#REF!) -> #REF! | J11: =I11/16 -> #REF!
B12: Absences (Congés, RTT, Maladie) | H12: ="Total du mois absences (congés, RTT, maladie)" & " " & 'CRA J-H par mois'!V1 -> Total du mois absences (congés, RTT, maladie) | I12: =SUM(C12,C25,#REF!,#REF!,#REF!,#REF!,#REF!,#REF!,#REF!,#REF!,#REF!,#REF!,#REF!,#REF!,#REF!,#REF!,#REF!,#REF!,#REF!,#REF!,#REF!,#REF!) -> #REF! | J12: =I12/16 -> #REF!
B13: Séminaire, Formation | H13: ="Total du mois séminaire/formation" & " " & 'CRA J-H par mois'!V1 -> Total du mois séminaire/formation | I13: =SUM(C13,C26,#REF!,#REF!,#REF!,#REF!,#REF!,#REF!,#REF!,#REF!,#REF!,#REF!,#REF!,#REF!,#REF!,#REF!,#REF!,#REF!,#REF!,#REF!,#REF!,#REF!) -> #REF! | J13: =I13/16 -> #REF!
B14: Temps partiel | E14: ="Total journée"&" "& 'CRA J-H par mois'!$V$1&" "&"du"&" "&TEXT(A2,"jj/mm/aaaa") -> Total journée du 02/02/2020 | F14: =SUM(C2:C4,C6,C7,C8,C10,C11,C12,C13,C14) -> 0 | H14: ="Total du mois temps partiel" & " " & 'CRA J-H par mois'!V1 -> Total du mois temps partiel | I14: =SUM(C14,C27,#REF!,#REF!,#REF!,#REF!,#REF!,#REF!,#REF!,#REF!,#REF!,#REF!,#REF!,#REF!,#REF!,#REF!,#REF!,#REF!,#REF!,#REF!,#REF!,#REF!) -> #REF! | J14: =I14/16 -> #REF!
H15: ="Total du mois" & " " & 'CRA J-H par mois'!V1 -> Total du mois | I15: =SUM(I2:I14) -> #REF! | J15: =J2+J3+J4+J6+J7+J8+J10+J11+J12+J13+J14 -> #REF!

Sheet Mars
A1: DATE | B1: ACTIVITES | C1: ='CRA J-H par mois'!V1 -> 0 | J1: j/h
A2: 43892 | B2: Demande d'habilitation ou de suppression de droits OSMA | H2: ="Total du mois demandes d'habilitation/suppresion" & " " & 'CRA J-H par mois'!V1 -> Total du mois demandes d'habilitation/suppresion | I2: =SUM(C2,C15,#REF!,#REF!,#REF!,#REF!,#REF!,#REF!,#REF!,#REF!,#REF!,#REF!,#REF!,#REF!,#REF!,#REF!,#REF!,#REF!,#REF!,#REF!,#REF!,#REF!) -> #REF! | J2: =I2/16 -> #REF!
B3: Gestion de nouveaux droits / Packages | H3: ="Total du mois gestion des nouveaux droits/packages" & " " & 'CRA J-H par mois'!V1 -> Total du mois gestion des nouveaux droits/packages | I3: =SUM(C3,C16,#REF!,#REF!,#REF!,#REF!,#REF!,#REF!,#REF!,#REF!,#REF!,#REF!,#REF!,#REF!,#REF!,#REF!,#REF!,#REF!,#REF!,#REF!,#REF!,#REF!) -> #REF! | J3: =I3/16 -> #REF!
B4: Réinitialisation de mot de passe (TSO,…) | H4: ="Total du mois réinitialisation de mot de passe" & " " & 'CRA J-H par mois'!V1 -> Total du mois réinitialisation de mot de passe | I4: =SUM(C4,C17,#REF!,#REF!,#REF!,#REF!,#REF!,#REF!,#REF!,#REF!,#REF!,#REF!,#REF!,#REF!,#REF!,#REF!,#REF!,#REF!,#REF!,#REF!,#REF!,#REF!) -> #REF! | J4: =I4/16 -> #REF!
B5: Assistance | H5: ="Total du mois assistance" & " " & 'CRA J-H par mois'!V1 -> Total du mois assistance
B6: Catégorie 1 | H6: Catégorie 1 | I6: =SUM(C6,C19,#REF!,#REF!,#REF!,#REF!,#REF!,#REF!,#REF!,#REF!,#REF!,#REF!,#REF!,#REF!,#REF!,#REF!,#REF!,#REF!,#REF!,#REF!,#REF!,#REF!) -> #REF! | J6: =I6/16 -> #REF!
B7: Catégorie 2 | H7: Catégorie 2 | I7: =SUM(C7,C20,#REF!,#REF!,#REF!,#REF!,#REF!,#REF!,#REF!,#REF!,#REF!,#REF!,#REF!,#REF!,#REF!,#REF!,#REF!,#REF!,#REF!,#REF!,#REF!,#REF!) -> #REF! | J7: =I7/16 -> #REF!
B8: Catégorie 3 | H8: Catégorie 3 | I8: =SUM(C8,C21,#REF!,#REF!,#REF!,#REF!,#REF!,#REF!,#REF!,#REF!,#REF!,#REF!,#REF!,#REF!,#REF!,#REF!,#REF!,#REF!,#REF!,#REF!,#REF!,#REF!) -> #REF! | J8: =I8/16 -> #REF!
B9: Autre (projet GHD…) | H9: ="Total du mois autre (à préciser)" & " " & 'CRA J-H par mois'!V1 -> Total du mois autre (à préciser)
B10: Chantier 1 | H10: Chantier 1 | I10: =SUM(C10,C23,#REF!,#REF!,#REF!,#REF!,#REF!,#REF!,#REF!,#REF!,#REF!,#REF!,#REF!,#REF!,#REF!,#REF!,#REF!,#REF!,#REF!,#REF!,#REF!,#REF!) -> #REF! | J10: =I10/16 -> #REF!
B11: Chantier 2 | H11: Chantier 2 | I11: =SUM(C11,C24,#REF!,#REF!,#REF!,#REF!,#REF!,#REF!,#REF!,#REF!,#REF!,#REF!,#REF!,#REF!,#REF!,#REF!,#REF!,#REF!,#REF!,#REF!,#REF!,#REF!) -> #REF! | J11: =I11/16 -> #REF!
B12: Absences (Congés, RTT, Maladie) | H12: ="Total du mois absences (congés, RTT, maladie)" & " " & 'CRA J-H par mois'!V1 -> Total du mois absences (congés, RTT, maladie) | I12: =SUM(C12,C25,#REF!,#REF!,#REF!,#REF!,#REF!,#REF!,#REF!,#REF!,#REF!,#REF!,#REF!,#REF!,#REF!,#REF!,#REF!,#REF!,#REF!,#REF!,#REF!,#REF!) -> #REF! | J12: =I12/16 -> #REF!
B13: Séminaire, Formation | H13: ="Total du mois séminaire/formation" & " " & 'CRA J-H par mois'!V1 -> Total du mois séminaire/formation | I13: =SUM(C13,C26,#REF!,#REF!,#REF!,#REF!,#REF!,#REF!,#REF!,#REF!,#REF!,#REF!,#REF!,#REF!,#REF!,#REF!,#REF!,#REF!,#REF!,#REF!,#REF!,#REF!) -> #REF! | J13: =I13/16 -> #REF!
B14: Temps partiel | E14: ="Total journée"&" "& 'CRA J-H par mois'!$V$1&" "&"du"&" "&TEXT(A2,"jj/mm/aaaa") -> Total journée du 02/03/2020 | F14: =SUM(C2:C4,C6,C7,C8,C10,C11,C12,C13,C14) -> 0 | H14: ="Total du mois temps partiel" & " " & 'CRA J-H par mois'!V1 -> Total du mois temps partiel | I14: =SUM(C14,C27,#REF!,#REF!,#REF!,#REF!,#REF!,#REF!,#REF!,#REF!,#REF!,#REF!,#REF!,#REF!,#REF!,#REF!,#REF!,#REF!,#REF!,#REF!,#REF!,#REF!) -> #REF! | J14: =I14/16 -> #REF!
H15: ="Total du mois" & " " & 'CRA J-H par mois'!V1 -> Total du mois | I15: =SUM(I2:I14) -> #REF! | J15: =J2+J3+J4+J6+J7+J8+J10+J11+J12+J13+J14 -> #REF!

Sheet Avril
A1: DATE | B1: ACTIVITES | C1: ='CRA J-H par mois'!V1 -> 0 | J1: j/h
A2: 43923 | B2: Demande d'habilitation ou de suppression de droits OSMA | H2: ="Total du mois demandes d'habilitation/suppresion" & " " & 'CRA J-H par mois'!V1 -> Total du mois demandes d'habilitation/suppresion | I2: =SUM(C2,C15,#REF!,#REF!,#REF!,#REF!,#REF!,#REF!,#REF!,#REF!,#REF!,#REF!,#REF!,#REF!,#REF!,#REF!,#REF!,#REF!,#REF!,#REF!,#REF!,#REF!) -> #REF! | J2: =I2/16 -> #REF!
B3: Gestion de nouveaux droits / Packages | H3: ="Total du mois gestion des nouveaux droits/packages" & " " & 'CRA J-H par mois'!V1 -> Total du mois gestion des nouveaux droits/packages | I3: =SUM(C3,C16,#REF!,#REF!,#REF!,#REF!,#REF!,#REF!,#REF!,#REF!,#REF!,#REF!,#REF!,#REF!,#REF!,#REF!,#REF!,#REF!,#REF!,#REF!,#REF!,#REF!) -> #REF! | J3: =I3/16 -> #REF!
B4: Réinitialisation de mot de passe (TSO,…) | H4: ="Total du mois réinitialisation de mot de passe" & " " & 'CRA J-H par mois'!V1 -> Total du mois réinitialisation de mot de passe | I4: =SUM(C4,C17,#REF!,#REF!,#REF!,#REF!,#REF!,#REF!,#REF!,#REF!,#REF!,#REF!,#REF!,#REF!,#REF!,#REF!,#REF!,#REF!,#REF!,#REF!,#REF!,#REF!) -> #REF! | J4: =I4/16 -> #REF!
B5: Assistance | H5: ="Total du mois assistance" & " " & 'CRA J-H par mois'!V1 -> Total du mois assistance
B6: Catégorie 1 | H6: Catégorie 1 | I6: =SUM(C6,C19,#REF!,#REF!,#REF!,#REF!,#REF!,#REF!,#REF!,#REF!,#REF!,#REF!,#REF!,#REF!,#REF!,#REF!,#REF!,#REF!,#REF!,#REF!,#REF!,#REF!) -> #REF! | J6: =I6/16 -> #REF!
B7: Catégorie 2 | H7: Catégorie 2 | I7: =SUM(C7,C20,#REF!,#REF!,#REF!,#REF!,#REF!,#REF!,#REF!,#REF!,#REF!,#REF!,#REF!,#REF!,#REF!,#REF!,#REF!,#REF!,#REF!,#REF!,#REF!,#REF!) -> #REF! | J7: =I7/16 -> #REF!
B8: Catégorie 3 | H8: Catégorie 3 | I8: =SUM(C8,C21,#REF!,#REF!,#REF!,#REF!,#REF!,#REF!,#REF!,#REF!,#REF!,#REF!,#REF!,#REF!,#REF!,#REF!,#REF!,#REF!,#REF!,#REF!,#REF!,#REF!) -> #REF! | J8: =I8/16 -> #REF!
B9: Autre (projet GHD…) | H9: ="Total du mois autre (à préciser)" & " " & 'CRA J-H par mois'!V1 -> Total du mois autre (à préciser)
B10: Chantier 1 | H10: Chantier 1 | I10: =SUM(C10,C23,#REF!,#REF!,#REF!,#REF!,#REF!,#REF!,#REF!,#REF!,#REF!,#REF!,#REF!,#REF!,#REF!,#REF!,#REF!,#REF!,#REF!,#REF!,#REF!,#REF!) -> #REF! | J10: =I10/16 -> #REF!
B11: Chantier 2 | H11: Chantier 2 | I11: =SUM(C11,C24,#REF!,#REF!,#REF!,#REF!,#REF!,#REF!,#REF!,#REF!,#REF!,#REF!,#REF!,#REF!,#REF!,#REF!,#REF!,#REF!,#REF!,#REF!,#REF!,#REF!) -> #REF! | J11: =I11/16 -> #REF!
B12: Absences (Congés, RTT, Maladie) | H12: ="Total du mois absences (congés, RTT, maladie)" & " " & 'CRA J-H par mois'!V1 -> Total du mois absences (congés, RTT, maladie) | I12: =SUM(C12,C25,#REF!,#REF!,#REF!,#REF!,#REF!,#REF!,#REF!,#REF!,#REF!,#REF!,#REF!,#REF!,#REF!,#REF!,#REF!,#REF!,#REF!,#REF!,#REF!,#REF!) -> #REF! | J12: =I12/16 -> #REF!
B13: Séminaire, Formation | H13: ="Total du mois séminaire/formation" & " " & 'CRA J-H par mois'!V1 -> Total du mois séminaire/formation | I13: =SUM(C13,C26,#REF!,#REF!,#REF!,#REF!,#REF!,#REF!,#REF!,#REF!,#REF!,#REF!,#REF!,#REF!,#REF!,#REF!,#REF!,#REF!,#REF!,#REF!,#REF!,#REF!) -> #REF! | J13: =I13/16 -> #REF!
B14: Temps partiel | E14: ="Total journée"&" "& 'CRA J-H par mois'!$V$1&" "&"du"&" "&TEXT(A2,"jj/mm/aaaa") -> Total journée du 02/04/2020 | F14: =SUM(C2:C4,C6,C7,C8,C10,C11,C12,C13,C14) -> 0 | H14: ="Total du mois temps partiel" & " " & 'CRA J-H par mois'!V1 -> Total du mois temps partiel | I14: =SUM(C14,C27,#REF!,#REF!,#REF!,#REF!,#REF!,#REF!,#REF!,#REF!,#REF!,#REF!,#REF!,#REF!,#REF!,#REF!,#REF!,#REF!,#REF!,#REF!,#REF!,#REF!) -> #REF! | J14: =I14/16 -> #REF!
H15: ="Total du mois" & " " & 'CRA J-H par mois'!V1 -> Total du mois | I15: =SUM(I2:I14) -> #REF! | J15: =J2+J3+J4+J6+J7+J8+J10+J11+J12+J13+J14 -> #REF!

Sheet Mai
A1: DATE | B1: ACTIVITES | C1: ='CRA J-H par mois'!V1 -> 0 | J1: j/h
A2: 43953 | B2: Demande d'habilitation ou de suppression de droits OSMA | H2: ="Total du mois demandes d'habilitation/suppresion" & " " & 'CRA J-H par mois'!V1 -> Total du mois demandes d'habilitation/suppresion | I2: =SUM(C2,C15,#REF!,#REF!,#REF!,#REF!,#REF!,#REF!,#REF!,#REF!,#REF!,#REF!,#REF!,#REF!,#REF!,#REF!,#REF!,#REF!,#REF!,#REF!,#REF!,#REF!) -> #REF! | J2: =I2/16 -> #REF!
B3: Gestion de nouveaux droits / Packages | H3: ="Total du mois gestion des nouveaux droits/packages" & " " & 'CRA J-H par mois'!V1 -> Total du mois gestion des nouveaux droits/packages | I3: =SUM(C3,C16,#REF!,#REF!,#REF!,#REF!,#REF!,#REF!,#REF!,#REF!,#REF!,#REF!,#REF!,#REF!,#REF!,#REF!,#REF!,#REF!,#REF!,#REF!,#REF!,#REF!) -> #REF! | J3: =I3/16 -> #REF!
B4: Réinitialisation de mot de passe (TSO,…) | H4: ="Total du mois réinitialisation de mot de passe" & " " & 'CRA J-H par mois'!V1 -> Total du mois réinitialisation de mot de passe | I4: =SUM(C4,C17,#REF!,#REF!,#REF!,#REF!,#REF!,#REF!,#REF!,#REF!,#REF!,#REF!,#REF!,#REF!,#REF!,#REF!,#REF!,#REF!,#REF!,#REF!,#REF!,#REF!) -> #REF! | J4: =I4/16 -> #REF!
B5: Assistance | H5: ="Total du mois assistance" & " " & 'CRA J-H par mois'!V1 -> Total du mois assistance
B6: Catégorie 1 | H6: Catégorie 1 | I6: =SUM(C6,C19,#REF!,#REF!,#REF!,#REF!,#REF!,#REF!,#REF!,#REF!,#REF!,#REF!,#REF!,#REF!,#REF!,#REF!,#REF!,#REF!,#REF!,#REF!,#REF!,#REF!) -> #REF! | J6: =I6/16 -> #REF!
B7: Catégorie 2 | H7: Catégorie 2 | I7: =SUM(C7,C20,#REF!,#REF!,#REF!,#REF!,#REF!,#REF!,#REF!,#REF!,#REF!,#REF!,#REF!,#REF!,#REF!,#REF!,#REF!,#REF!,#REF!,#REF!,#REF!,#REF!) -> #REF! | J7: =I7/16 -> #REF!
B8: Catégorie 3 | H8: Catégorie 3 | I8: =SUM(C8,C21,#REF!,#REF!,#REF!,#REF!,#REF!,#REF!,#REF!,#REF!,#REF!,#REF!,#REF!,#REF!,#REF!,#REF!,#REF!,#REF!,#REF!,#REF!,#REF!,#REF!) -> #REF! | J8: =I8/16 -> #REF!
B9: Autre (projet GHD…) | H9: ="Total du mois autre (à préciser)" & " " & 'CRA J-H par mois'!V1 -> Total du mois autre (à préciser)
B10: Chantier 1 | H10: Chantier 1 | I10: =SUM(C10,C23,#REF!,#REF!,#REF!,#REF!,#REF!,#REF!,#REF!,#REF!,#REF!,#REF!,#REF!,#REF!,#REF!,#REF!,#REF!,#REF!,#REF!,#REF!,#REF!,#REF!) -> #REF! | J10: =I10/16 -> #REF!
B11: Chantier 2 | H11: Chantier 2 | I11: =SUM(C11,C24,#REF!,#REF!,#REF!,#REF!,#REF!,#REF!,#REF!,#REF!,#REF!,#REF!,#REF!,#REF!,#REF!,#REF!,#REF!,#REF!,#REF!,#REF!,#REF!,#REF!) -> #REF! | J11: =I11/16 -> #REF!
B12: Absences (Congés, RTT, Maladie) | H12: ="Total du mois absences (congés, RTT, maladie)" & " " & 'CRA J-H par mois'!V1 -> Total du mois absences (congés, RTT, maladie) | I12: =SUM(C12,C25,#REF!,#REF!,#REF!,#REF!,#REF!,#REF!,#REF!,#REF!,#REF!,#REF!,#REF!,#REF!,#REF!,#REF!,#REF!,#REF!,#REF!,#REF!,#REF!,#REF!) -> #REF! | J12: =I12/16 -> #REF!
B13: Séminaire, Formation | H13: ="Total du mois séminaire/formation" & " " & 'CRA J-H par mois'!V1 -> Total du mois séminaire/formation | I13: =SUM(C13,C26,#REF!,#REF!,#REF!,#REF!,#REF!,#REF!,#REF!,#REF!,#REF!,#REF!,#REF!,#REF!,#REF!,#REF!,#REF!,#REF!,#REF!,#REF!,#REF!,#REF!) -> #REF! | J13: =I13/16 -> #REF!
B14: Temps partiel | E14: ="Total journée"&" "& 'CRA J-H par mois'!$V$1&" "&"du"&" "&TEXT(A2,"jj/mm/aaaa") -> Total journée du 02/05/2020 | F14: =SUM(C2:C4,C6,C7,C8,C10,C11,C12,C13,C14) -> 0 | H14: ="Total du mois temps partiel" & " " & 'CRA J-H par mois'!V1 -> Total du mois temps partiel | I14: =SUM(C14,C27,#REF!,#REF!,#REF!,#REF!,#REF!,#REF!,#REF!,#REF!,#REF!,#REF!,#REF!,#REF!,#REF!,#REF!,#REF!,#REF!,#REF!,#REF!,#REF!,#REF!) -> #REF! | J14: =I14/16 -> #REF!
H15: ="Total du mois" & " " & 'CRA J-H par mois'!V1 -> Total du mois | I15: =SUM(I2:I14) -> #REF! | J15: =J2+J3+J4+J6+J7+J8+J10+J11+J12+J13+J14 -> #REF!

Sheet Juin
A1: DATE | B1: ACTIVITES | C1: ='CRA J-H par mois'!V1 -> 0 | J1: j/h
A2: 43984 | B2: Demande d'habilitation ou de suppression de droits OSMA | H2: ="Total du mois demandes d'habilitation/suppresion" & " " & 'CRA J-H par mois'!V1 -> Total du mois demandes d'habilitation/suppresion | I2: =SUM(C2,C15,#REF!,#REF!,#REF!,#REF!,#REF!,#REF!,#REF!,#REF!,#REF!,#REF!,#REF!,#REF!,#REF!,#REF!,#REF!,#REF!,#REF!,#REF!,#REF!,#REF!) -> #REF! | J2: =I2/16 -> #REF!
B3: Gestion de nouveaux droits / Packages | H3: ="Total du mois gestion des nouveaux droits/packages" & " " & 'CRA J-H par mois'!V1 -> Total du mois gestion des nouveaux droits/packages | I3: =SUM(C3,C16,#REF!,#REF!,#REF!,#REF!,#REF!,#REF!,#REF!,#REF!,#REF!,#REF!,#REF!,#REF!,#REF!,#REF!,#REF!,#REF!,#REF!,#REF!,#REF!,#REF!) -> #REF! | J3: =I3/16 -> #REF!
B4: Réinitialisation de mot de passe (TSO,…) | H4: ="Total du mois réinitialisation de mot de passe" & " " & 'CRA J-H par mois'!V1 -> Total du mois réinitialisation de mot de passe | I4: =SUM(C4,C17,#REF!,#REF!,#REF!,#REF!,#REF!,#REF!,#REF!,#REF!,#REF!,#REF!,#REF!,#REF!,#REF!,#REF!,#REF!,#REF!,#REF!,#REF!,#REF!,#REF!) -> #REF! | J4: =I4/16 -> #REF!
B5: Assistance | H5: ="Total du mois assistance" & " " & 'CRA J-H par mois'!V1 -> Total du mois assistance
B6: Catégorie 1 | H6: Catégorie 1 | I6: =SUM(C6,C19,#REF!,#REF!,#REF!,#REF!,#REF!,#REF!,#REF!,#REF!,#REF!,#REF!,#REF!,#REF!,#REF!,#REF!,#REF!,#REF!,#REF!,#REF!,#REF!,#REF!) -> #REF! | J6: =I6/16 -> #REF!
B7: Catégorie 2 | H7: Catégorie 2 | I7: =SUM(C7,C20,#REF!,#REF!,#REF!,#REF!,#REF!,#REF!,#REF!,#REF!,#REF!,#REF!,#REF!,#REF!,#REF!,#REF!,#REF!,#REF!,#REF!,#REF!,#REF!,#REF!) -> #REF! | J7: =I7/16 -> #REF!
B8: Catégorie 3 | H8: Catégorie 3 | I8: =SUM(C8,C21,#REF!,#REF!,#REF!,#REF!,#REF!,#REF!,#REF!,#REF!,#REF!,#REF!,#REF!,#REF!,#REF!,#REF!,#REF!,#REF!,#REF!,#REF!,#REF!,#REF!) -> #REF! | J8: =I8/16 -> #REF!
B9: Autre (projet GHD…) | H9: ="Total du mois autre (à préciser)" & " " & 'CRA J-H par mois'!V1 -> Total du mois autre (à préciser)
B10: Chantier 1 | H10: Chantier 1 | I10: =SUM(C10,C23,#REF!,#REF!,#REF!,#REF!,#REF!,#REF!,#REF!,#REF!,#REF!,#REF!,#REF!,#REF!,#REF!,#REF!,#REF!,#REF!,#REF!,#REF!,#REF!,#REF!) -> #REF! | J10: =I10/16 -> #REF!
B11: Chantier 2 | H11: Chantier 2 | I11: =SUM(C11,C24,#REF!,#REF!,#REF!,#REF!,#REF!,#REF!,#REF!,#REF!,#REF!,#REF!,#REF!,#REF!,#REF!,#REF!,#REF!,#REF!,#REF!,#REF!,#REF!,#REF!) -> #REF! | J11: =I11/16 -> #REF!
B12: Absences (Congés, RTT, Maladie) | H12: ="Total du mois absences (congés, RTT, maladie)" & " " & 'CRA J-H par mois'!V1 -> Total du mois absences (congés, RTT, maladie) | I12: =SUM(C12,C25,#REF!,#REF!,#REF!,#REF!,#REF!,#REF!,#REF!,#REF!,#REF!,#REF!,#REF!,#REF!,#REF!,#REF!,#REF!,#REF!,#REF!,#REF!,#REF!,#REF!) -> #REF! | J12: =I12/16 -> #REF!
B13: Séminaire, Formation | H13: ="Total du mois séminaire/formation" & " " & 'CRA J-H par mois'!V1 -> Total du mois séminaire/formation | I13: =SUM(C13,C26,#REF!,#REF!,#REF!,#REF!,#REF!,#REF!,#REF!,#REF!,#REF!,#REF!,#REF!,#REF!,#REF!,#REF!,#REF!,#REF!,#REF!,#REF!,#REF!,#REF!) -> #REF! | J13: =I13/16 -> #REF!
B14: Temps partiel | E14: ="Total journée"&" "& 'CRA J-H par mois'!$V$1&" "&"du"&" "&TEXT(A2,"jj/mm/aaaa") -> Total journée du 02/06/2020 | F14: =SUM(C2:C4,C6,C7,C8,C10,C11,C12,C13,C14) -> 0 | H14: ="Total du mois temps partiel" & " " & 'CRA J-H par mois'!V1 -> Total du mois temps partiel | I14: =SUM(C14,C27,#REF!,#REF!,#REF!,#REF!,#REF!,#REF!,#REF!,#REF!,#REF!,#REF!,#REF!,#REF!,#REF!,#REF!,#REF!,#REF!,#REF!,#REF!,#REF!,#REF!) -> #REF! | J14: =I14/16 -> #REF!
H15: ="Total du mois" & " " & 'CRA J-H par mois'!V1 -> Total du mois | I15: =SUM(I2:I14) -> #REF! | J15: =J2+J3+J4+J6+J7+J8+J10+J11+J12+J13+J14 -> #REF!

Sheet Juillet
A1: DATE | B1: ACTIVITES | C1: ='CRA J-H par mois'!V1 -> 0 | J1: j/h
A2: 44014 | B2: Demande d'habilitation ou de suppression de droits OSMA | H2: ="Total du mois demandes d'habilitation/suppresion" & " " & 'CRA J-H par mois'!V1 -> Total du mois demandes d'habilitation/suppresion | I2: =SUM(C2,C15,#REF!,#REF!,#REF!,#REF!,#REF!,#REF!,#REF!,#REF!,#REF!,#REF!,#REF!,#REF!,#REF!,#REF!,#REF!,#REF!,#REF!,#REF!,#REF!,#REF!) -> #REF! | J2: =I2/16 -> #REF!
B3: Gestion de nouveaux droits / Packages | H3: ="Total du mois gestion des nouveaux droits/packages" & " " & 'CRA J-H par mois'!V1 -> Total du mois gestion des nouveaux droits/packages | I3: =SUM(C3,C16,#REF!,#REF!,#REF!,#REF!,#REF!,#REF!,#REF!,#REF!,#REF!,#REF!,#REF!,#REF!,#REF!,#REF!,#REF!,#REF!,#REF!,#REF!,#REF!,#REF!) -> #REF! | J3: =I3/16 -> #REF!
B4: Réinitialisation de mot de passe (TSO,…) | H4: ="Total du mois réinitialisation de mot de passe" & " " & 'CRA J-H par mois'!V1 -> Total du mois réinitialisation de mot de passe | I4: =SUM(C4,C17,#REF!,#REF!,#REF!,#REF!,#REF!,#REF!,#REF!,#REF!,#REF!,#REF!,#REF!,#REF!,#REF!,#REF!,#REF!,#REF!,#REF!,#REF!,#REF!,#REF!) -> #REF! | J4: =I4/16 -> #REF!
B5: Assistance | H5: ="Total du mois assistance" & " " & 'CRA J-H par mois'!V1 -> Total du mois assistance
B6: Catégorie 1 | H6: Catégorie 1 | I6: =SUM(C6,C19,#REF!,#REF!,#REF!,#REF!,#REF!,#REF!,#REF!,#REF!,#REF!,#REF!,#REF!,#REF!,#REF!,#REF!,#REF!,#REF!,#REF!,#REF!,#REF!,#REF!) -> #REF! | J6: =I6/16 -> #REF!
B7: Catégorie 2 | H7: Catégorie 2 | I7: =SUM(C7,C20,#REF!,#REF!,#REF!,#REF!,#REF!,#REF!,#REF!,#REF!,#REF!,#REF!,#REF!,#REF!,#REF!,#REF!,#REF!,#REF!,#REF!,#REF!,#REF!,#REF!) -> #REF! | J7: =I7/16 -> #REF!
B8: Catégorie 3 | H8: Catégorie 3 | I8: =SUM(C8,C21,#REF!,#REF!,#REF!,#REF!,#REF!,#REF!,#REF!,#REF!,#REF!,#REF!,#REF!,#REF!,#REF!,#REF!,#REF!,#REF!,#REF!,#REF!,#REF!,#REF!) -> #REF! | J8: =I8/16 -> #REF!
B9: Autre (projet GHD…) | H9: ="Total du mois autre (à préciser)" & " " & 'CRA J-H par mois'!V1 -> Total du mois autre (à préciser)
B10: Chantier 1 | H10: Chantier 1 | I10: =SUM(C10,C23,#REF!,#REF!,#REF!,#REF!,#REF!,#REF!,#REF!,#REF!,#REF!,#REF!,#REF!,#REF!,#REF!,#REF!,#REF!,#REF!,#REF!,#REF!,#REF!,#REF!) -> #REF! | J10: =I10/16 -> #REF!
B11: Chantier 2 | H11: Chantier 2 | I11: =SUM(C11,C24,#REF!,#REF!,#REF!,#REF!,#REF!,#REF!,#REF!,#REF!,#REF!,#REF!,#REF!,#REF!,#REF!,#REF!,#REF!,#REF!,#REF!,#REF!,#REF!,#REF!) -> #REF! | J11: =I11/16 -> #REF!
B12: Absences (Congés, RTT, Maladie) | H12: ="Total du mois absences (congés, RTT, maladie)" & " " & 'CRA J-H par mois'!V1 -> Total du mois absences (congés, RTT, maladie) | I12: =SUM(C12,C25,#REF!,#REF!,#REF!,#REF!,#REF!,#REF!,#REF!,#REF!,#REF!,#REF!,#REF!,#REF!,#REF!,#REF!,#REF!,#REF!,#REF!,#REF!,#REF!,#REF!) -> #REF! | J12: =I12/16 -> #REF!
B13: Séminaire, Formation | H13: ="Total du mois séminaire/formation" & " " & 'CRA J-H par mois'!V1 -> Total du mois séminaire/formation | I13: =SUM(C13,C26,#REF!,#REF!,#REF!,#REF!,#REF!,#REF!,#REF!,#REF!,#REF!,#REF!,#REF!,#REF!,#REF!,#REF!,#REF!,#REF!,#REF!,#REF!,#REF!,#REF!) -> #REF! | J13: =I13/16 -> #REF!
B14: Temps partiel | E14: ="Total journée"&" "& 'CRA J-H par mois'!$V$1&" "&"du"&" "&TEXT(A2,"jj/mm/aaaa") -> Total journée du 02/07/2020 | F14: =SUM(C2:C4,C6,C7,C8,C10,C11,C12,C13,C14) -> 0 | H14: ="Total du mois temps partiel" & " " & 'CRA J-H par mois'!V1 -> Total du mois temps partiel | I14: =SUM(C14,C27,#REF!,#REF!,#REF!,#REF!,#REF!,#REF!,#REF!,#REF!,#REF!,#REF!,#REF!,#REF!,#REF!,#REF!,#REF!,#REF!,#REF!,#REF!,#REF!,#REF!) -> #REF! | J14: =I14/16 -> #REF!
H15: ="Total du mois" & " " & 'CRA J-H par mois'!V1 -> Total du mois | I15: =SUM(I2:I14) -> #REF! | J15: =J2+J3+J4+J6+J7+J8+J10+J11+J12+J13+J14 -> #REF!

Sheet Août
A1: DATE | B1: ACTIVITES | C1: ='CRA J-H par mois'!V1 -> 0 | J1: j/h
A2: 44045 | B2: Demande d'habilitation ou de suppression de droits OSMA | H2: ="Total du mois demandes d'habilitation/suppresion" & " " & 'CRA J-H par mois'!V1 -> Total du mois demandes d'habilitation/suppresion | I2: =SUM(C2,C15,#REF!,#REF!,#REF!,#REF!,#REF!,#REF!,#REF!,#REF!,#REF!,#REF!,#REF!,#REF!,#REF!,#REF!,#REF!,#REF!,#REF!,#REF!,#REF!,#REF!) -> #REF! | J2: =I2/16 -> #REF!
B3: Gestion de nouveaux droits / Packages | H3: ="Total du mois gestion des nouveaux droits/packages" & " " & 'CRA J-H par mois'!V1 -> Total du mois gestion des nouveaux droits/packages | I3: =SUM(C3,C16,#REF!,#REF!,#REF!,#REF!,#REF!,#REF!,#REF!,#REF!,#REF!,#REF!,#REF!,#REF!,#REF!,#REF!,#REF!,#REF!,#REF!,#REF!,#REF!,#REF!) -> #REF! | J3: =I3/16 -> #REF!
B4: Réinitialisation de mot de passe (TSO,…) | H4: ="Total du mois réinitialisation de mot de passe" & " " & 'CRA J-H par mois'!V1 -> Total du mois réinitialisation de mot de passe | I4: =SUM(C4,C17,#REF!,#REF!,#REF!,#REF!,#REF!,#REF!,#REF!,#REF!,#REF!,#REF!,#REF!,#REF!,#REF!,#REF!,#REF!,#REF!,#REF!,#REF!,#REF!,#REF!) -> #REF! | J4: =I4/16 -> #REF!
B5: Assistance | H5: ="Total du mois assistance" & " " & 'CRA J-H par mois'!V1 -> Total du mois assistance
B6: Catégorie 1 | H6: Catégorie 1 | I6: =SUM(C6,C19,#REF!,#REF!,#REF!,#REF!,#REF!,#REF!,#REF!,#REF!,#REF!,#REF!,#REF!,#REF!,#REF!,#REF!,#REF!,#REF!,#REF!,#REF!,#REF!,#REF!) -> #REF! | J6: =I6/16 -> #REF!
B7: Catégorie 2 | H7: Catégorie 2 | I7: =SUM(C7,C20,#REF!,#REF!,#REF!,#REF!,#REF!,#REF!,#REF!,#REF!,#REF!,#REF!,#REF!,#REF!,#REF!,#REF!,#REF!,#REF!,#REF!,#REF!,#REF!,#REF!) -> #REF! | J7: =I7/16 -> #REF!
B8: Catégorie 3 | H8: Catégorie 3 | I8: =SUM(C8,C21,#REF!,#REF!,#REF!,#REF!,#REF!,#REF!,#REF!,#REF!,#REF!,#REF!,#REF!,#REF!,#REF!,#REF!,#REF!,#REF!,#REF!,#REF!,#REF!,#REF!) -> #REF! | J8: =I8/16 -> #REF!
B9: Autre (projet GHD…) | H9: ="Total du mois autre (à préciser)" & " " & 'CRA J-H par mois'!V1 -> Total du mois autre (à préciser)
B10: Chantier 1 | H10: Chantier 1 | I10: =SUM(C10,C23,#REF!,#REF!,#REF!,#REF!,#REF!,#REF!,#REF!,#REF!,#REF!,#REF!,#REF!,#REF!,#REF!,#REF!,#REF!,#REF!,#REF!,#REF!,#REF!,#REF!) -> #REF! | J10: =I10/16 -> #REF!
B11: Chantier 2 | H11: Chantier 2 | I11: =SUM(C11,C24,#REF!,#REF!,#REF!,#REF!,#REF!,#REF!,#REF!,#REF!,#REF!,#REF!,#REF!,#REF!,#REF!,#REF!,#REF!,#REF!,#REF!,#REF!,#REF!,#REF!) -> #REF! | J11: =I11/16 -> #REF!
B12: Absences (Congés, RTT, Maladie) | H12: ="Total du mois absences (congés, RTT, maladie)" & " " & 'CRA J-H par mois'!V1 -> Total du mois absences (congés, RTT, maladie) | I12: =SUM(C12,C25,#REF!,#REF!,#REF!,#REF!,#REF!,#REF!,#REF!,#REF!,#REF!,#REF!,#REF!,#REF!,#REF!,#REF!,#REF!,#REF!,#REF!,#REF!,#REF!,#REF!) -> #REF! | J12: =I12/16 -> #REF!
B13: Séminaire, Formation | H13: ="Total du mois séminaire/formation" & " " & 'CRA J-H par mois'!V1 -> Total du mois séminaire/formation | I13: =SUM(C13,C26,#REF!,#REF!,#REF!,#REF!,#REF!,#REF!,#REF!,#REF!,#REF!,#REF!,#REF!,#REF!,#REF!,#REF!,#REF!,#REF!,#REF!,#REF!,#REF!,#REF!) -> #REF! | J13: =I13/16 -> #REF!
B14: Temps partiel | E14: ="Total journée"&" "& 'CRA J-H par mois'!$V$1&" "&"du"&" "&TEXT(A2,"jj/mm/aaaa") -> Total journée du 02/08/2020 | F14: =SUM(C2:C4,C6,C7,C8,C10,C11,C12,C13,C14) -> 0 | H14: ="Total du mois temps partiel" & " " & 'CRA J-H par mois'!V1 -> Total du mois temps partiel | I14: =SUM(C14,C27,#REF!,#REF!,#REF!,#REF!,#REF!,#REF!,#REF!,#REF!,#REF!,#REF!,#REF!,#REF!,#REF!,#REF!,#REF!,#REF!,#REF!,#REF!,#REF!,#REF!) -> #REF! | J14: =I14/16 -> #REF!
H15: ="Total du mois" & " " & 'CRA J-H par mois'!V1 -> Total du mois | I15: =SUM(I2:I14) -> #REF! | J15: =J2+J3+J4+J6+J7+J8+J10+J11+J12+J13+J14 -> #REF!

Sheet Septembre
A1: DATE | B1: ACTIVITES | C1: ='CRA J-H par mois'!V1 -> 0 | J1: j/h
A2: 44076 | B2: Demande d'habilitation ou de suppression de droits OSMA | H2: ="Total du mois demandes d'habilitation/suppresion" & " " & 'CRA J-H par mois'!V1 -> Total du mois demandes d'habilitation/suppresion | I2: =SUM(C2,C15,#REF!,#REF!,#REF!,#REF!,#REF!,#REF!,#REF!,#REF!,#REF!,#REF!,#REF!,#REF!,#REF!,#REF!,#REF!,#REF!,#REF!,#REF!,#REF!,#REF!) -> #REF! | J2: =I2/16 -> #REF!
B3: Gestion de nouveaux droits / Packages | H3: ="Total du mois gestion des nouveaux droits/packages" & " " & 'CRA J-H par mois'!V1 -> Total du mois gestion des nouveaux droits/packages | I3: =SUM(C3,C16,#REF!,#REF!,#REF!,#REF!,#REF!,#REF!,#REF!,#REF!,#REF!,#REF!,#REF!,#REF!,#REF!,#REF!,#REF!,#REF!,#REF!,#REF!,#REF!,#REF!) -> #REF! | J3: =I3/16 -> #REF!
B4: Réinitialisation de mot de passe (TSO,…) | H4: ="Total du mois réinitialisation de mot de passe" & " " & 'CRA J-H par mois'!V1 -> Total du mois réinitialisation de mot de passe | I4: =SUM(C4,C17,#REF!,#REF!,#REF!,#REF!,#REF!,#REF!,#REF!,#REF!,#REF!,#REF!,#REF!,#REF!,#REF!,#REF!,#REF!,#REF!,#REF!,#REF!,#REF!,#REF!) -> #REF! | J4: =I4/16 -> #REF!
B5: Assistance | H5: ="Total du mois assistance" & " " & 'CRA J-H par mois'!V1 -> Total du mois assistance
B6: Catégorie 1 | H6: Catégorie 1 | I6: =SUM(C6,C19,#REF!,#REF!,#REF!,#REF!,#REF!,#REF!,#REF!,#REF!,#REF!,#REF!,#REF!,#REF!,#REF!,#REF!,#REF!,#REF!,#REF!,#REF!,#REF!,#REF!) -> #REF! | J6: =I6/16 -> #REF!
B7: Catégorie 2 | H7: Catégorie 2 | I7: =SUM(C7,C20,#REF!,#REF!,#REF!,#REF!,#REF!,#REF!,#REF!,#REF!,#REF!,#REF!,#REF!,#REF!,#REF!,#REF!,#REF!,#REF!,#REF!,#REF!,#REF!,#REF!) -> #REF! | J7: =I7/16 -> #REF!
B8: Catégorie 3 | H8: Catégorie 3 | I8: =SUM(C8,C21,#REF!,#REF!,#REF!,#REF!,#REF!,#REF!,#REF!,#REF!,#REF!,#REF!,#REF!,#REF!,#REF!,#REF!,#REF!,#REF!,#REF!,#REF!,#REF!,#REF!) -> #REF! | J8: =I8/16 -> #REF!
B9: Autre (projet GHD…) | H9: ="Total du mois autre (à préciser)" & " " & 'CRA J-H par mois'!V1 -> Total du mois autre (à préciser)
B10: Chantier 1 | H10: Chantier 1 | I10: =SUM(C10,C23,#REF!,#REF!,#REF!,#REF!,#REF!,#REF!,#REF!,#REF!,#REF!,#REF!,#REF!,#REF!,#REF!,#REF!,#REF!,#REF!,#REF!,#REF!,#REF!,#REF!) -> #REF! | J10: =I10/16 -> #REF!
B11: Chantier 2 | H11: Chantier 2 | I11: =SUM(C11,C24,#REF!,#REF!,#REF!,#REF!,#REF!,#REF!,#REF!,#REF!,#REF!,#REF!,#REF!,#REF!,#REF!,#REF!,#REF!,#REF!,#REF!,#REF!,#REF!,#REF!) -> #REF! | J11: =I11/16 -> #REF!
B12: Absences (Congés, RTT, Maladie) | H12: ="Total du mois absences (congés, RTT, maladie)" & " " & 'CRA J-H par mois'!V1 -> Total du mois absences (congés, RTT, maladie) | I12: =SUM(C12,C25,#REF!,#REF!,#REF!,#REF!,#REF!,#REF!,#REF!,#REF!,#REF!,#REF!,#REF!,#REF!,#REF!,#REF!,#REF!,#REF!,#REF!,#REF!,#REF!,#REF!) -> #REF! | J12: =I12/16 -> #REF!
B13: Séminaire, Formation | H13: ="Total du mois séminaire/formation" & " " & 'CRA J-H par mois'!V1 -> Total du mois séminaire/formation | I13: =SUM(C13,C26,#REF!,#REF!,#REF!,#REF!,#REF!,#REF!,#REF!,#REF!,#REF!,#REF!,#REF!,#REF!,#REF!,#REF!,#REF!,#REF!,#REF!,#REF!,#REF!,#REF!) -> #REF! | J13: =I13/16 -> #REF!
B14: Temps partiel | E14: ="Total journée"&" "& 'CRA J-H par mois'!$V$1&" "&"du"&" "&TEXT(A2,"jj/mm/aaaa") -> Total journée du 02/09/2020 | F14: =SUM(C2:C4,C6,C7,C8,C10,C11,C12,C13,C14) -> 0 | H14: ="Total du mois temps partiel" & " " & 'CRA J-H par mois'!V1 -> Total du mois temps partiel | I14: =SUM(C14,C27,#REF!,#REF!,#REF!,#REF!,#REF!,#REF!,#REF!,#REF!,#REF!,#REF!,#REF!,#REF!,#REF!,#REF!,#REF!,#REF!,#REF!,#REF!,#REF!,#REF!) -> #REF! | J14: =I14/16 -> #REF!
H15: ="Total du mois" & " " & 'CRA J-H par mois'!V1 -> Total du mois | I15: =SUM(I2:I14) -> #REF! | J15: =J2+J3+J4+J6+J7+J8+J10+J11+J12+J13+J14 -> #REF!

Sheet Octobre
A1: DATE | B1: ACTIVITES | C1: ='CRA J-H par mois'!V1 -> 0 | J1: j/h
A2: 44106 | B2: Demande d'habilitation ou de suppression de droits OSMA | H2: ="Total du mois demandes d'habilitation/suppresion" & " " & 'CRA J-H par mois'!V1 -> Total du mois demandes d'habilitation/suppresion | I2: =SUM(C2,C15,#REF!,#REF!,#REF!,#REF!,#REF!,#REF!,#REF!,#REF!,#REF!,#REF!,#REF!,#REF!,#REF!,#REF!,#REF!,#REF!,#REF!,#REF!,#REF!,#REF!) -> #REF! | J2: =I2/16 -> #REF!
B3: Gestion de nouveaux droits / Packages | H3: ="Total du mois gestion des nouveaux droits/packages" & " " & 'CRA J-H par mois'!V1 -> Total du mois gestion des nouveaux droits/packages | I3: =SUM(C3,C16,#REF!,#REF!,#REF!,#REF!,#REF!,#REF!,#REF!,#REF!,#REF!,#REF!,#REF!,#REF!,#REF!,#REF!,#REF!,#REF!,#REF!,#REF!,#REF!,#REF!) -> #REF! | J3: =I3/16 -> #REF!
B4: Réinitialisation de mot de passe (TSO,…) | H4: ="Total du mois réinitialisation de mot de passe" & " " & 'CRA J-H par mois'!V1 -> Total du mois réinitialisation de mot de passe | I4: =SUM(C4,C17,#REF!,#REF!,#REF!,#REF!,#REF!,#REF!,#REF!,#REF!,#REF!,#REF!,#REF!,#REF!,#REF!,#REF!,#REF!,#REF!,#REF!,#REF!,#REF!,#REF!) -> #REF! | J4: =I4/16 -> #REF!
B5: Assistance | H5: ="Total du mois assistance" & " " & 'CRA J-H par mois'!V1 -> Total du mois assistance
B6: Catégorie 1 | H6: Catégorie 1 | I6: =SUM(C6,C19,#REF!,#REF!,#REF!,#REF!,#REF!,#REF!,#REF!,#REF!,#REF!,#REF!,#REF!,#REF!,#REF!,#REF!,#REF!,#REF!,#REF!,#REF!,#REF!,#REF!) -> #REF! | J6: =I6/16 -> #REF!
B7: Catégorie 2 | H7: Catégorie 2 | I7: =SUM(C7,C20,#REF!,#REF!,#REF!,#REF!,#REF!,#REF!,#REF!,#REF!,#REF!,#REF!,#REF!,#REF!,#REF!,#REF!,#REF!,#REF!,#REF!,#REF!,#REF!,#REF!) -> #REF! | J7: =I7/16 -> #REF!
B8: Catégorie 3 | H8: Catégorie 3 | I8: =SUM(C8,C21,#REF!,#REF!,#REF!,#REF!,#REF!,#REF!,#REF!,#REF!,#REF!,#REF!,#REF!,#REF!,#REF!,#REF!,#REF!,#REF!,#REF!,#REF!,#REF!,#REF!) -> #REF! | J8: =I8/16 -> #REF!
B9: Autre (projet GHD…) | H9: ="Total du mois autre (à préciser)" & " " & 'CRA J-H par mois'!V1 -> Total du mois autre (à préciser)
B10: Chantier 1 | H10: Chantier 1 | I10: =SUM(C10,C23,#REF!,#REF!,#REF!,#REF!,#REF!,#REF!,#REF!,#REF!,#REF!,#REF!,#REF!,#REF!,#REF!,#REF!,#REF!,#REF!,#REF!,#REF!,#REF!,#REF!) -> #REF! | J10: =I10/16 -> #REF!
B11: Chantier 2 | H11: Chantier 2 | I11: =SUM(C11,C24,#REF!,#REF!,#REF!,#REF!,#REF!,#REF!,#REF!,#REF!,#REF!,#REF!,#REF!,#REF!,#REF!,#REF!,#REF!,#REF!,#REF!,#REF!,#REF!,#REF!) -> #REF! | J11: =I11/16 -> #REF!
B12: Absences (Congés, RTT, Maladie) | H12: ="Total du mois absences (congés, RTT, maladie)" & " " & 'CRA J-H par mois'!V1 -> Total du mois absences (congés, RTT, maladie) | I12: =SUM(C12,C25,#REF!,#REF!,#REF!,#REF!,#REF!,#REF!,#REF!,#REF!,#REF!,#REF!,#REF!,#REF!,#REF!,#REF!,#REF!,#REF!,#REF!,#REF!,#REF!,#REF!) -> #REF! | J12: =I12/16 -> #REF!
B13: Séminaire, Formation | H13: ="Total du mois séminaire/formation" & " " & 'CRA J-H par mois'!V1 -> Total du mois séminaire/formation | I13: =SUM(C13,C26,#REF!,#REF!,#REF!,#REF!,#REF!,#REF!,#REF!,#REF!,#REF!,#REF!,#REF!,#REF!,#REF!,#REF!,#REF!,#REF!,#REF!,#REF!,#REF!,#REF!) -> #REF! | J13: =I13/16 -> #REF!
B14: Temps partiel | E14: ="Total journée"&" "& 'CRA J-H par mois'!$V$1&" "&"du"&" "&TEXT(A2,"jj/mm/aaaa") -> Total journée du 02/10/2020 | F14: =SUM(C2:C4,C6,C7,C8,C10,C11,C12,C13,C14) -> 0 | H14: ="Total du mois temps partiel" & " " & 'CRA J-H par mois'!V1 -> Total du mois temps partiel | I14: =SUM(C14,C27,#REF!,#REF!,#REF!,#REF!,#REF!,#REF!,#REF!,#REF!,#REF!,#REF!,#REF!,#REF!,#REF!,#REF!,#REF!,#REF!,#REF!,#REF!,#REF!,#REF!) -> #REF! | J14: =I14/16 -> #REF!
H15: ="Total du mois" & " " & 'CRA J-H par mois'!V1 -> Total du mois | I15: =SUM(I2:I14) -> #REF! | J15: =J2+J3+J4+J6+J7+J8+J10+J11+J12+J13+J14 -> #REF!

Sheet Novembre
A1: DATE | B1: ACTIVITES | C1: ='CRA J-H par mois'!V1 -> 0 | J1: j/h
A2: 44137 | B2: Demande d'habilitation ou de suppression de droits OSMA | H2: ="Total du mois demandes d'habilitation/suppresion" & " " & 'CRA J-H par mois'!V1 -> Total du mois demandes d'habilitation/suppresion | I2: =SUM(C2,C15,#REF!,#REF!,#REF!,#REF!,#REF!,#REF!,#REF!,#REF!,#REF!,#REF!,#REF!,#REF!,#REF!,#REF!,#REF!,#REF!,#REF!,#REF!,#REF!,#REF!) -> #REF! | J2: =I2/16 -> #REF!
B3: Gestion de nouveaux droits / Packages | H3: ="Total du mois gestion des nouveaux droits/packages" & " " & 'CRA J-H par mois'!V1 -> Total du mois gestion des nouveaux droits/packages | I3: =SUM(C3,C16,#REF!,#REF!,#REF!,#REF!,#REF!,#REF!,#REF!,#REF!,#REF!,#REF!,#REF!,#REF!,#REF!,#REF!,#REF!,#REF!,#REF!,#REF!,#REF!,#REF!) -> #REF! | J3: =I3/16 -> #REF!
B4: Réinitialisation de mot de passe (TSO,…) | H4: ="Total du mois réinitialisation de mot de passe" & " " & 'CRA J-H par mois'!V1 -> Total du mois réinitialisation de mot de passe | I4: =SUM(C4,C17,#REF!,#REF!,#REF!,#REF!,#REF!,#REF!,#REF!,#REF!,#REF!,#REF!,#REF!,#REF!,#REF!,#REF!,#REF!,#REF!,#REF!,#REF!,#REF!,#REF!) -> #REF! | J4: =I4/16 -> #REF!
B5: Assistance | H5: ="Total du mois assistance" & " " & 'CRA J-H par mois'!V1 -> Total du mois assistance
B6: Catégorie 1 | H6: Catégorie 1 | I6: =SUM(C6,C19,#REF!,#REF!,#REF!,#REF!,#REF!,#REF!,#REF!,#REF!,#REF!,#REF!,#REF!,#REF!,#REF!,#REF!,#REF!,#REF!,#REF!,#REF!,#REF!,#REF!) -> #REF! | J6: =I6/16 -> #REF!
B7: Catégorie 2 | H7: Catégorie 2 | I7: =SUM(C7,C20,#REF!,#REF!,#REF!,#REF!,#REF!,#REF!,#REF!,#REF!,#REF!,#REF!,#REF!,#REF!,#REF!,#REF!,#REF!,#REF!,#REF!,#REF!,#REF!,#REF!) -> #REF! | J7: =I7/16 -> #REF!
B8: Catégorie 3 | H8: Catégorie 3 | I8: =SUM(C8,C21,#REF!,#REF!,#REF!,#REF!,#REF!,#REF!,#REF!,#REF!,#REF!,#REF!,#REF!,#REF!,#REF!,#REF!,#REF!,#REF!,#REF!,#REF!,#REF!,#REF!) -> #REF! | J8: =I8/16 -> #REF!
B9: Autre (projet GHD…) | H9: ="Total du mois autre (à préciser)" & " " & 'CRA J-H par mois'!V1 -> Total du mois autre (à préciser)
B10: Chantier 1 | H10: Chantier 1 | I10: =SUM(C10,C23,#REF!,#REF!,#REF!,#REF!,#REF!,#REF!,#REF!,#REF!,#REF!,#REF!,#REF!,#REF!,#REF!,#REF!,#REF!,#REF!,#REF!,#REF!,#REF!,#REF!) -> #REF! | J10: =I10/16 -> #REF!
B11: Chantier 2 | H11: Chantier 2 | I11: =SUM(C11,C24,#REF!,#REF!,#REF!,#REF!,#REF!,#REF!,#REF!,#REF!,#REF!,#REF!,#REF!,#REF!,#REF!,#REF!,#REF!,#REF!,#REF!,#REF!,#REF!,#REF!) -> #REF! | J11: =I11/16 -> #REF!
B12: Absences (Congés, RTT, Maladie) | H12: ="Total du mois absences (congés, RTT, maladie)" & " " & 'CRA J-H par mois'!V1 -> Total du mois absences (congés, RTT, maladie) | I12: =SUM(C12,C25,#REF!,#REF!,#REF!,#REF!,#REF!,#REF!,#REF!,#REF!,#REF!,#REF!,#REF!,#REF!,#REF!,#REF!,#REF!,#REF!,#REF!,#REF!,#REF!,#REF!) -> #REF! | J12: =I12/16 -> #REF!
B13: Séminaire, Formation | H13: ="Total du mois séminaire/formation" & " " & 'CRA J-H par mois'!V1 -> Total du mois séminaire/formation | I13: =SUM(C13,C26,#REF!,#REF!,#REF!,#REF!,#REF!,#REF!,#REF!,#REF!,#REF!,#REF!,#REF!,#REF!,#REF!,#REF!,#REF!,#REF!,#REF!,#REF!,#REF!,#REF!) -> #REF! | J13: =I13/16 -> #REF!
B14: Temps partiel | E14: ="Total journée"&" "& 'CRA J-H par mois'!$V$1&" "&"du"&" "&TEXT(A2,"jj/mm/aaaa") -> Total journée du 02/11/2020 | F14: =SUM(C2:C4,C6,C7,C8,C10,C11,C12,C13,C14) -> 0 | H14: ="Total du mois temps partiel" & " " & 'CRA J-H par mois'!V1 -> Total du mois temps partiel | I14: =SUM(C14,C27,#REF!,#REF!,#REF!,#REF!,#REF!,#REF!,#REF!,#REF!,#REF!,#REF!,#REF!,#REF!,#REF!,#REF!,#REF!,#REF!,#REF!,#REF!,#REF!,#REF!) -> #REF! | J14: =I14/16 -> #REF!
H15: ="Total du mois" & " " & 'CRA J-H par mois'!V1 -> Total du mois | I15: =SUM(I2:I14) -> #REF! | J15: =J2+J3+J4+J6+J7+J8+J10+J11+J12+J13+J14 -> #REF!

Sheet Décembre
A1: DATE | B1: ACTIVITES | C1: ='CRA J-H par mois'!V1 -> 0 | J1: j/h
A2: 44167 | B2: Demande d'habilitation ou de suppression de droits OSMA | H2: ="Total du mois demandes d'habilitation/suppresion" & " " & 'CRA J-H par mois'!V1 -> Total du mois demandes d'habilitation/suppresion | I2: =SUM(C2,C15,#REF!,#REF!,#REF!,#REF!,#REF!,#REF!,#REF!,#REF!,#REF!,#REF!,#REF!,#REF!,#REF!,#REF!,#REF!,#REF!,#REF!,#REF!,#REF!,#REF!) -> #REF! | J2: =I2/16 -> #REF!
B3: Gestion de nouveaux droits / Packages | H3: ="Total du mois gestion des nouveaux droits/packages" & " " & 'CRA J-H par mois'!V1 -> Total du mois gestion des nouveaux droits/packages | I3: =SUM(C3,C16,#REF!,#REF!,#REF!,#REF!,#REF!,#REF!,#REF!,#REF!,#REF!,#REF!,#REF!,#REF!,#REF!,#REF!,#REF!,#REF!,#REF!,#REF!,#REF!,#REF!) -> #REF! | J3: =I3/16 -> #REF!
B4: Réinitialisation de mot de passe (TSO,…) | H4: ="Total du mois réinitialisation de mot de passe" & " " & 'CRA J-H par mois'!V1 -> Total du mois réinitialisation de mot de passe | I4: =SUM(C4,C17,#REF!,#REF!,#REF!,#REF!,#REF!,#REF!,#REF!,#REF!,#REF!,#REF!,#REF!,#REF!,#REF!,#REF!,#REF!,#REF!,#REF!,#REF!,#REF!,#REF!) -> #REF! | J4: =I4/16 -> #REF!
B5: Assistance | H5: ="Total du mois assistance" & " " & 'CRA J-H par mois'!V1 -> Total du mois assistance
B6: Catégorie 1 | H6: Catégorie 1 | I6: =SUM(C6,C19,#REF!,#REF!,#REF!,#REF!,#REF!,#REF!,#REF!,#REF!,#REF!,#REF!,#REF!,#REF!,#REF!,#REF!,#REF!,#REF!,#REF!,#REF!,#REF!,#REF!) -> #REF! | J6: =I6/16 -> #REF!
B7: Catégorie 2 | H7: Catégorie 2 | I7: =SUM(C7,C20,#REF!,#REF!,#REF!,#REF!,#REF!,#REF!,#REF!,#REF!,#REF!,#REF!,#REF!,#REF!,#REF!,#REF!,#REF!,#REF!,#REF!,#REF!,#REF!,#REF!) -> #REF! | J7: =I7/16 -> #REF!
B8: Catégorie 3 | H8: Catégorie 3 | I8: =SUM(C8,C21,#REF!,#REF!,#REF!,#REF!,#REF!,#REF!,#REF!,#REF!,#REF!,#REF!,#REF!,#REF!,#REF!,#REF!,#REF!,#REF!,#REF!,#REF!,#REF!,#REF!) -> #REF! | J8: =I8/16 -> #REF!
B9: Autre (projet GHD…) | H9: ="Total du mois autre (à préciser)" & " " & 'CRA J-H par mois'!V1 -> Total du mois autre (à préciser)
B10: Chantier 1 | H10: Chantier 1 | I10: =SUM(C10,C23,#REF!,#REF!,#REF!,#REF!,#REF!,#REF!,#REF!,#REF!,#REF!,#REF!,#REF!,#REF!,#REF!,#REF!,#REF!,#REF!,#REF!,#REF!,#REF!,#REF!) -> #REF! | J10: =I10/16 -> #REF!
B11: Chantier 2 | H11: Chantier 2 | I11: =SUM(C11,C24,#REF!,#REF!,#REF!,#REF!,#REF!,#REF!,#REF!,#REF!,#REF!,#REF!,#REF!,#REF!,#REF!,#REF!,#REF!,#REF!,#REF!,#REF!,#REF!,#REF!) -> #REF! | J11: =I11/16 -> #REF!
B12: Absences (Congés, RTT, Maladie) | H12: ="Total du mois absences (congés, RTT, maladie)" & " " & 'CRA J-H par mois'!V1 -> Total du mois absences (congés, RTT, maladie) | I12: =SUM(C12,C25,#REF!,#REF!,#REF!,#REF!,#REF!,#REF!,#REF!,#REF!,#REF!,#REF!,#REF!,#REF!,#REF!,#REF!,#REF!,#REF!,#REF!,#REF!,#REF!,#REF!) -> #REF! | J12: =I12/16 -> #REF!
B13: Séminaire, Formation | H13: ="Total du mois séminaire/formation" & " " & 'CRA J-H par mois'!V1 -> Total du mois séminaire/formation | I13: =SUM(C13,C26,#REF!,#REF!,#REF!,#REF!,#REF!,#REF!,#REF!,#REF!,#REF!,#REF!,#REF!,#REF!,#REF!,#REF!,#REF!,#REF!,#REF!,#REF!,#REF!,#REF!) -> #REF! | J13: =I13/16 -> #REF!
B14: Temps partiel | E14: ="Total journée"&" "& 'CRA J-H par mois'!$V$1&" "&"du"&" "&TEXT(A2,"jj/mm/aaaa") -> Total journée du 02/12/2020 | F14: =SUM(C2:C4,C6,C7,C8,C10,C11,C12,C13,C14) -> 0 | H14: ="Total du mois temps partiel" & " " & 'CRA J-H par mois'!V1 -> Total du mois temps partiel | I14: =SUM(C14,C27,#REF!,#REF!,#REF!,#REF!,#REF!,#REF!,#REF!,#REF!,#REF!,#REF!,#REF!,#REF!,#REF!,#REF!,#REF!,#REF!,#REF!,#REF!,#REF!,#REF!) -> #REF! | J14: =I14/16 -> #REF!
H15: ="Total du mois" & " " & 'CRA J-H par mois'!V1 -> Total du mois | I15: =SUM(I2:I14) -> #REF! | J15: =J2+J3+J4+J6+J7+J8+J10+J11+J12+J13+J14 -> #REF!

Sheet CRA J-H par mois
U1: Initiales
B2: Janvier | C2: Février | D2: Mars | E2: Avril | F2: Mai | G2: Juin | H2: Juillet | I2: Août | J2: Septembre | K2: Octobre | L2: Novembre | M2: Décembre
A3: Année 2019 | B3: 22j | C3: 20j | D3: 22j | E3: 21j | F3: 18j | G3: 21j | H3: 22j | I3: 21j | J3: 22j | K3: 22j | L3: 20j | M3: 22j
A4: Créations / suppressions d'habilitations | B4: =Janvier!J2 -> #REF! | C4: =#REF! -> #REF! | D4: =#REF! -> #REF! | E4: =#REF! -> #REF! | F4: =#REF! -> #REF! | G4: =#REF! -> #REF! | H4: =#REF! -> #REF! | I4: =#REF! -> #REF! | J4: =#REF! -> #REF! | ... M4: =#REF! -> #REF!
A5: Gestion des référentiels habilitations | B5: =Janvier!J3 -> #REF! | C5: =#REF! -> #REF! | D5: =#REF! -> #REF! | E5: =#REF! -> #REF! | F5: =#REF! -> #REF! | G5: =#REF! -> #REF! | H5: =#REF! -> #REF! | I5: =#REF! -> #REF! | J5: =#REF! -> #REF! | ... M5: =#REF! -> #REF!
A6: MAJ habilitations | B6: =Janvier!J4 -> #REF! | C6: =#REF! -> #REF! | D6: =#REF! -> #REF! | E6: =#REF! -> #REF! | F6: =#REF! -> #REF! | G6: =#REF! -> #REF! | H6: =#REF! -> #REF! | I6: =#REF! -> #REF! | J6: =#REF! -> #REF! | ... M6: =#REF! -> #REF!
A7: Demandes d'assistances utilisateurs
A8: Catégorie 1 | B8: =Janvier!J6 -> #REF! | C8: =#REF! -> #REF! | D8: =#REF! -> #REF! | E8: =#REF! -> #REF! | F8: =#REF! -> #REF! | G8: =#REF! -> #REF! | H8: =#REF! -> #REF! | I8: =#REF! -> #REF! | J8: =#REF! -> #REF! | ... M8: =#REF! -> #REF!
A9: Catégorie 2 | B9: =Janvier!J7 -> #REF! | C9: =#REF! -> #REF! | D9: =#REF! -> #REF! | E9: =#REF! -> #REF! | F9: =#REF! -> #REF! | G9: =#REF! -> #REF! | H9: =#REF! -> #REF! | I9: =#REF! -> #REF! | J9: =#REF! -> #REF! | ... M9: =#REF! -> #REF!
A10: Catégorie 3 | B10: =Janvier!J8 -> #REF! | C10: =#REF! -> #REF! | D10: =#REF! -> #REF! | E10: =#REF! -> #REF! | F10: =#REF! -> #REF! | G10: =#REF! -> #REF! | H10: =#REF! -> #REF! | I10: =#REF! -> #REF! | J10: =#REF! -> #REF! | ... M10: =#REF! -> #REF!
A11: etc …
A12: Participation projets et évolutions
A13: Chantier 1 | B13: =Janvier!J10 -> #REF! | C13: =#REF! -> #REF! | D13: =#REF! -> #REF! | E13: =#REF! -> #REF! | F13: =#REF! -> #REF! | G13: =#REF! -> #REF! | H13: =#REF! -> #REF! | I13: =#REF! -> #REF! | J13: =#REF! -> #REF! | ... M13: =#REF! -> #REF!
A14: Chantier 2 | B14: =Janvier!J11 -> #REF! | C14: =#REF! -> #REF! | D14: =#REF! -> #REF! | E14: =#REF! -> #REF! | F14: =#REF! -> #REF! | G14: =#REF! -> #REF! | H14: =#REF! -> #REF! | I14: =#REF! -> #REF! | J14: =#REF! -> #REF! | ... M14: =#REF! -> #REF!
A15: Activités non imputables | B15: =Janvier!J13 -> #REF! | C15: =#REF! -> #REF! | D15: =#REF! -> #REF! | E15: =#REF! -> #REF! | F15: =#REF! -> #REF! | G15: =#REF! -> #REF! | H15: =#REF! -> #REF! | I15: =#REF! -> #REF! | J15: =#REF! -> #REF! | ... M15: =#REF! -> #REF!
A16: Absences | B16: =Janvier!J12 -> #REF! | C16: =#REF! -> #REF! | D16: =#REF! -> #REF! | E16: =#REF! -> #REF! | F16: =#REF! -> #REF! | G16: =#REF! -> #REF! | H16: =#REF! -> #REF! | I16: =#REF! -> #REF! | J16: =#REF! -> #REF! | ... M16: =#REF! -> #REF!
A17: Temps partiel | B17: =Janvier!J14 -> #REF! | C17: =#REF! -> #REF! | D17: =#REF! -> #REF! | E17: =#REF! -> #REF! | F17: =#REF! -> #REF! | G17: =#REF! -> #REF! | H17: =#REF! -> #REF! | I17: =#REF! -> #REF! | J17: =#REF! -> #REF! | ... M17: =#REF! -> #REF!
A18: Total | B18: =SUM(B4:B17) -> #REF! | C18: =SUM(C4:C17) -> #REF! | D18: =SUM(D4:D17) -> #REF! | E18: =SUM(E4:E17) -> #REF! | F18: =SUM(F4:F17) -> #REF! | G18: =SUM(G4:G17) -> #REF! | H18: =SUM(H4:H17) -> #REF! | I18: =SUM(I4:I17) -> #REF! | ... M18: =SUM(M4:M17) -> #REF!
