Workbook
Name _T1: Paramètres!$G$1:$I$12

Sheet Cuisine
A1: 43009 | N1: 43009
B2: LUNDI | D2: MARDI | F2: MERCREDI | H2: JEUDI | J2: VENDREDI | L2: SAMEDI | N2: DIMANCHE
A3: Cuisine
A4: OUHAMED Yesmila
B6: 43010 | D6: 43011 | F6: 43012 | H6: 43013 | J6: 43014 | L6: 43015 | N6: 43016
B7: LUNDI | D7: MARDI | F7: MERCREDI | H7: JEUDI | J7: VENDREDI | L7: SAMEDI | N7: DIMANCHE
L9: 8 | M9: 15.06 | N9: 8 | O9: 15.06
L10: =(M9-L9)-0.5 -> 6.56 | N10: =(O9-N9)-0.5 -> 6.56
B11: 43017 | D11: 43018 | F11: 43019 | H11: 43020 | J11: 43021 | L11: 43022 | N11: 43023
B12: LUNDI | D12: MARDI | F12: MERCREDI | H12: JEUDI | J12: VENDREDI | L12: SAMEDI | N12: DIMANCHE
D14: 8 | E14: 15.06 | F14: 8 | G14: 15.06 | H14: 8 | I14: 15.06 | J14: 8 | K14: 15.06
D15: =(E14-D14)-0.5 -> 6.56 | F15: =(G14-F14)-0.5 -> 6.56 | H15: =(I14-H14)-0.5 -> 6.56 | J15: =(K14-J14)-0.5 -> 6.56
B16: 43024 | D16: 43025 | F16: 43026 | H16: 43027 | J16: 43028 | L16: 43029 | N16: 43030
B17: LUNDI | D17: MARDI | F17: MERCREDI | H17: JEUDI | J17: VENDREDI | L17: SAMEDI | N17: DIMANCHE
L19: 8 | M19: 15.06 | N19: 8 | O19: 15.06
L20: =(M19-L19)-0.5 -> 6.56 | N20: =(O19-N19)-0.5 -> 6.56
B21: 43031 | D21: 43032 | F21: 43033 | H21: 43034 | J21: 43035 | L21: 43036 | N21: 43037
B22: LUNDI | D22: MARDI | F22: MERCREDI | H22: JEUDI | J22: VENDREDI | L22: SAMEDI | N22: DIMANCHE
D24: 8 | E24: 15.06 | J24: 8 | K24: 15.06
D25: =(E24-D24)-0.5 -> 6.56 | J25: =(K24-J24)-0.5 -> 6.56
B26: 43038 | D26: 43039
B27: LUNDI | D27: MARDI | F27: MERCREDI | H27: JEUDI | J27: VENDREDI | L27: SAMEDI | N27: DIMANCHE

Sheet H base novembre 2017
A1: Garde Direction
A2: Garde R.U.
B3: 43038 | D3: 43039 | F3: 43040 | H3: 43041 | J3: 43042 | L3: 43043 | N3: 43044 | P3: TOTAL SEMAINE | R3: 43045 | T3: 43046 | V3: 43047 | X3: 43048 | Z3: 43049 | AB3: 43050 | AD3: 43051 | AF3: TOTAL SEMAINE | AH3: 43052 | AJ3: 43053 | AL3: 43054 | AN3: 43055 | AP3: 43056 | AR3: 43057 | AT3: 43058 | AV3: TOTAL SEMAINE | AX3: 43059 | AZ3: 43060 | BB3: 43061 | BD3: 43062 | BF3: 43063 | BH3: 43064 | BJ3: 43065 | BL3: TOTAL SEMAINE | BN3: 43066 | BP3: 43067 | BR3: 43068 | BT3: 43069 | BV3: 43070 | BX3: 43071 | BZ3: 43072 | CB3: TOTAL SEMAINE | CD3: TOTAL mois de 22 plages 167,2h
A4: Equipe Educative | B4: LUNDI | D4: MARDI | F4: MERCREDI | H4: JEUDI | J4: VENDREDI | L4: SAMEDI | N4: DIMANCHE | R4: LUNDI | T4: MARDI | V4: MERCREDI | X4: JEUDI | Z4: VENDREDI | AB4: SAMEDI | AD4: DIMANCHE | AH4: LUNDI | AJ4: MARDI | AL4: MERCREDI | AN4: JEUDI | AP4: VENDREDI | AR4: SAMEDI | AT4: DIMANCHE | AX4: LUNDI | AZ4: MARDI | BB4: MERCREDI | BD4: JEUDI | BF4: VENDREDI | BH4: SAMEDI | BJ4: DIMANCHE | BN4: LUNDI | BP4: MARDI | BR4: MERCREDI | BT4: JEUDI | BV4: VENDREDI | BX4: SAMEDI | BZ4: DIMANCHE
A5: MINELLA Letizia | D5: 8 | E5: 19.2 | F5: 6 | G5: 13.15 | H5: 8 | I5: 19.2 | J5: 13 | K5: 20.15 | R5: 6 | S5: 10 | V5: 14 | W5: 21.15 | AB5: 13 | AC5: 20.15 | AD5: 8 | AE5: 19.2 | AH5: 8 | AI5: 19.2 | AJ5: 6 | AK5: 13.15 | AL5: 7 | AM5: 14.15 | AN5: 7 | AO5: 14.15 | AX5: 14 | AY5: 21.15 | BB5: 14 | BC5: 17 | BD5: 8 | BE5: 19.2 | BH5: 7 | BI5: 13.15 | BJ5: 7 | BK5: 14.15 | BP5: 8 | BQ5: 19.2 | BR5: 6 | BS5: 13.15 | BT5: 8 | BU5: 19.2 | BV5: 13 | BW5: 20.15
A6: Educ 1 | D6: =(E5-D5)-0.2 -> 11 | F6: =(G5-F5)-0.15 -> 7 | H6: =(I5-H5)-0.2 -> 11 | J6: =(K5-J5)-0.15 -> 7 | P6: =SUM(B6:O6) -> 36 | R6: =(S5-R5) -> 4 | V6: =(W5-V5)-0.15 -> 7 | AB6: =(AC5-AB5)-0.15 -> 7 | AD6: =(AE5-AD5)-0.2 -> 11 | AF6: =SUM(R6:AE6) -> 29 | AH6: =(AI5-AH5)-0.2 -> 11 | AJ6: =(AK5-AJ5)-0.15 -> 7 | AL6: =(AM5-AL5)-0.15 -> 7 | AN6: =(AO5-AN5)-0.15 -> 7 | AV6: =SUM(AH6:AU6) -> 32 | AX6: =(AY5-AX5)-0.15 -> 7 | BB6: =SUM(BC5-BB5) -> 3 | BD6: =(BE5-BD5)-0.2 -> 11 | BH6: =(BI5-BH5)-0.15 -> 6 | BJ6: =(BK5-BJ5)-0.15 -> 7 | BL6: =SUM(AX6:BK6) -> 34 | BP6: =(BQ5-BP5)-0.2 -> 11 | BR6: =(BS5-BR5)-0.15 -> 7 | BT6: =(BU5-BT5)-0.2 -> 11 | BV6: =(BW5-BV5)-0.15 -> 7 | CB6: =SUM(BN6:CA6) -> 36 | CD6: =SUM(BL6+AV6+AF6)+F6+H6+J6+L6+N6+BN6+BP6+BR6+BT6 -> 149
A7: VANDEN HOUDEN Jessyca | B7: 14 | C7: 21.15 | D7: 15 | E7: 22.15 | F7: 14 | G7: 21.15 | L7: 7 | M7: 14.15 | N7: 8 | O7: 19.2 | T7: 7 | U7: 14.15 | V7: 6 | W7: 17 | X7: 8 | Y7: 19.2 | Z7: 13 | AA7: 20.15 | AB7: Férié | AJ7: 7 | AK7: 14.15 | AL7: 7 | AM7: 13.15 | AN7: 7 | AO7: 14.15 | AP7: 15 | AQ7: 22.15 | AT7: 7 | AU7: 14.15 | AX7: 15 | AY7: 22.15 | AZ7: 13 | BA7: 20.15 | BB7: 14 | BC7: 22.15 | BF7: 7 | BG7: 13.15 | BN7: 14 | BO7: 21.15 | BP7: 15 | BQ7: 22.15 | BR7: 14 | BS7: 21.15 | BX7: 7 | BY7: 14.15 | BZ7: 8 | CA7: 19.2
A8: Educ 2 | B8: =(C7-B7)-0.15 -> 7 | D8: =(E7-D7)-0.15 -> 7 | F8: =(G7-F7)-0.15 -> 7 | L8: =(M7-L7)-0.15 -> 7 | N8: =(O7-N7)-0.2 -> 11 | P8: =SUM(B8:O8) -> 39 | T8: =(U7-T7)-0.15 -> 7 | V8: =(W7-V7)-0.15 -> 10.85 | X8: =(Y7-X7)-0.2 -> 11 | Z8: =(AA7-Z7)-0.15 -> 7 | AB8: 7.6 | AF8: =SUM(R8:AE8) -> 43.45 | AJ8: =(AK7-AJ7)-0.15 -> 7 | AL8: =(AM7-AL7)-0.15 -> 6 | AN8: =(AO7-AN7)-0.15 -> 7 | AP8: =(AQ7-AP7)-0.15 -> 7 | AT8: =(AU7-AT7)-0.15 -> 7 | AV8: =SUM(AH8:AU8) -> 34 | AX8: =(AY7-AX7)-0.15 -> 7 | AZ8: =(BA7-AZ7)-0.15 -> 7 | BB8: =(BC7-BB7)-0.15 -> 8 | BF8: =(BG7-BF7)-0.15 -> 6 | BL8: =SUM(AX8:BK8) -> 28 | BN8: =(BO7-BN7)-0.15 -> 7 | BP8: =(BQ7-BP7)-0.15 -> 7 | BR8: =(BS7-BR7)-0.15 -> 7 | BX8: =(BY7-BX7)-0.15 -> 7 | BZ8: =(CA7-BZ7)-0.2 -> 11 | CB8: =SUM(BN8:CA8) -> 39 | CD8: =SUM(BL8+AV8+AF8)+F8+H8+J8+L8+N8+BN8+BP8+BR8+BT8 -> 151.45
A9: KOURAOS Irena | AB9: Férié
A10: Educ 2 | P10: =SUM(B10:O10) -> 0 | AB10: 7.6 | AF10: =SUM(R10:AE10) -> 7.6 | AV10: =SUM(AH10:AU10) -> 0 | BL10: =SUM(AX10:BK10) -> 0 | CB10: =SUM(BN10:CA10) -> 0
A11: HERZET Nathalie | B11: 15 | C11: 22.15 | F11: 7 | G11: 14.15 | H11: 6 | I11: 10 | L11: 7 | M11: 14.15 | N11: 7 | O11: 14.15 | R11: 6 | S11: 13.15 | T11: 7 | U11: 13.15 | V11: 7 | W11: 17 | X11: 7 | Y11: 13.15 | Z11: 6 | AA11: 10 | AB11: Férié | AH11: 14 | AI11: 21.15 | AJ11: 15 | AK11: 22.15 | AN11: 14 | AO11: 21.15 | AR11: 7 | AS11: 13.15 | AT11: 7 | AU11: 14.15 | AX11: 6 | AY11: 13.15 | AZ11: 7 | BA11: 13.15 | BB11: 6 | BC11: 10 | BF11: 6 | BG11: 10 | BN11: 15 | BO11: 22.15 | BR11: 7 | BS11: 14.15 | BT11: 6 | BU11: 10 | BX11: 7 | BY11: 14.15 | BZ11: 7 | CA11: 14.15
A12: Educ 3 | B12: =(C11-B11)-0.15 -> 7 | F12: =(G11-F11)-0.15 -> 7 | H12: =(I11-H11) -> 4 | L12: =(M11-L11)-0.15 -> 7 | N12: =(O11-N11)-0.15 -> 7 | P12: =SUM(B12:O12) -> 32 | R12: =(S11-R11)-0.15 -> 7 | T12: =(U11-T11)-0.15 -> 6 | V12: =(W11-V11)-0.15 -> 9.85 | X12: =(Y11-X11)-0.15 -> 6 | Z12: =(AA11-Z11) -> 4 | AB12: 7.6 | AF12: =SUM(R12:AE12) -> 40.45 | AH12: =(AI11-AH11)-0.15 -> 7 | AJ12: =(AK11-AJ11)-0.15 -> 7 | AN12: =(AO11-AN11)-0.15 -> 7 | AR12: =(AS11-AR11)-0.15 -> 6 | AT12: =(AU11-AT11)-0.15 -> 7 | AV12: =SUM(AH12:AU12) -> 34 | AX12: =(AY11-AX11)-0.15 -> 7 | AZ12: =(BA11-AZ11)-0.15 -> 6 | BB12: =(BC11-BB11) -> 4 | BC12: 3 | BF12: =(BG11-BF11) -> 4 | BL12: =SUM(AX12:BK12) -> 24 | BN12: =(BO11-BN11)-0.15 -> 7 | BR12: =(BS11-BR11)-0.15 -> 7 | BT12: =(BU11-BT11) -> 4 | BX12: =(BY11-BX11)-0.15 -> 7 | BZ12: =(CA11-BZ11)-0.15 -> 7 | CB12: =SUM(BN12:CA12) -> 32 | CD12: =SUM(BL12+AV12+AF12)+F12+H12+J12+L12+N12+BN12+BP12+BR12+BT12 -> 141.45
A13: BENIT Véronique | D13: 7 | E13: 14.15 | F13: Férié | H13: 7 | I13: 13.15 | J13: 6 | K13: 10 | N13: 13 | O13: 20.15 | T13: 8 | U13: 19.2 | V13: 14 | W13: 22.15 | X13: 14 | Y13: 21.15 | AB13: Férié | AH13: 7 | AI13: 13.15 | AJ13: 7 | AK13: 14.15 | AL13: 8 | AM13: 19.2 | AT13: 8 | AU13: 19.2 | AX13: 7 | AY13: 13.15 | AZ13: 6 | BA13: 10 | BB13: 14 | BC13: 17 | BD13: 15 | BE13: 22.15 | BH13: 8 | BI13: 19.2 | BJ13: 13 | BK13: 20.15 | BP13: 7 | BQ13: 14.15 | BT13: 7 | BU13: 13.15 | BV13: 6 | BW13: 10 | BZ13: 13 | CA13: 20.15
A14: Educ 4 | D14: =(E13-D13)-0.15 -> 7 | F14: 7.6 | H14: =(I13-H13)-0.15 -> 6 | J14: =(K13-J13) -> 4 | N14: =(O13-N13)-0.15 -> 7 | P14: =SUM(B14:O14) -> 31.6 | T14: =(U13-T13)-0.2 -> 11 | V14: =(W13-V13)-0.15 -> 8 | X14: =(Y13-X13)-0.15 -> 7 | AB14: 7.6 | AF14: =SUM(R14:AE14) -> 33.6 | AH14: =(AI13-AH13)-0.15 -> 6 | AJ14: =(AK13-AJ13)-0.15 -> 7 | AL14: =(AM13-AL13)-0.2 -> 11 | AT14: =(AU13-AT13)-0.2 -> 11 | AV14: =SUM(AH14:AU14) -> 35 | AX14: =(AY13-AX13)-0.15 -> 6 | AZ14: =(BA13-AZ13) -> 4 | BB14: =SUM(BC13-BB13) -> 3 | BD14: =(BE13-BD13)-0.15 -> 7 | BH14: =(BI13-BH13)-0.2 -> 11 | BJ14: =(BK13-BJ13)-0.15 -> 7 | BL14: =SUM(AX14:BK14) -> 38 | BP14: =(BQ13-BP13)-0.15 -> 7 | BT14: =(BU13-BT13)-0.15 -> 6 | BV14: =(BW13-BV13) -> 4 | BZ14: =(CA13-BZ13)-0.15 -> 7 | CB14: =SUM(BN14:CA14) -> 24 | CD14: =SUM(BL14+AV14+AF14)+F14+H14+J14+L14+N14+BN14+BP14+BR14+BT14 -> 144.2
A15: COSTALONGA Lisa | B15: 7 | C15: 13.15 | D15: 6 | E15: 10 | F15: 7 | G15: 13.15 | H15: 15 | I15: 22.15 | N15: 7 | O15: 14.15 | R15: 14 | S15: 21.15 | V15: 6 | W15: 10 | X15: 7 | Y15: 14.15 | Z15: 7 | AA15: 13.15 | AB15: 7 | AC15: 14.15 | AD15: 6 | AE15: 10 | AJ15: 6 | AK15: 10 | AL15: 13 | AM15: 20.15 | AN15: 7 | AO15: 13.15 | AP15: 7 | AQ15: 13.15 | AX15: 13 | AY15: 20.15 | BB15: 7 | BC15: 17 | BF15: 6 | BG15: 13.15 | BH15: 7 | BI15: 14.15 | BJ15: 7 | BK15: 14.15 | BN15: 7 | BO15: 13.15 | BP15: 6 | BQ15: 10 | BR15: 7 | BS15: 13.15 | BT15: 15 | BU15: 22.15 | BZ15: 7 | CA15: 14.15
A16: Educ 5 | B16: =(C15-B15)-0.15 -> 6 | D16: =(E15-D15) -> 4 | F16: =(G15-F15)-0.15 -> 6 | H16: =(I15-H15)-0.15 -> 7 | N16: =(O15-N15)-0.15 -> 7 | P16: =SUM(B16:O16) -> 30 | R16: =(S15-R15)-0.15 -> 7 | V16: =(W15-V15) -> 4 | W16: 3 | X16: =(Y15-X15)-0.15 -> 7 | Z16: =(AA15-Z15)-0.15 -> 6 | AB16: =(AC15-AB15)-0.15 -> 7 | AD16: =(AE15-AD15) -> 4 | AF16: =SUM(R16:AE16) -> 38 | AJ16: =(AK15-AJ15) -> 4 | AL16: =(AM15-AL15)-0.15 -> 7 | AN16: =(AO15-AN15)-0.15 -> 6 | AP16: =(AQ15-AP15)-0.15 -> 6 | AV16: =SUM(AH16:AU16) -> 23 | AX16: =(AY15-AX15)-0.15 -> 7 | BB16: =(BC15-BB15)-0.15 -> 9.85 | BF16: =(BG15-BF15)-0.15 -> 7 | BH16: =(BI15-BH15)-0.15 -> 7 | BJ16: =(BK15-BJ15)-0.15 -> 7 | BL16: =SUM(AX16:BK16) -> 37.85 | BN16: =(BO15-BN15)-0.15 -> 6 | BP16: =(BQ15-BP15) -> 4 | BR16: =(BS15-BR15)-0.15 -> 6 | BT16: =(BU15-BT15)-0.15 -> 7 | BZ16: =(CA15-BZ15)-0.15 -> 7 | CB16: =SUM(BN16:CA16) -> 30 | CD16: =SUM(BL16+AV16+AF16)+F16+H16+J16+L16+N16+BN16+BP16+BR16+BT16 -> 141.85
A17: BOLEN Yves (27h/sem) | B17: 13 | C17: 20.15 | D17: 13 | E17: 20.15 | F17: 6 | G17: 10 | J17: 6 | K17: 13.15 | R17: 7 | S17: 13.15 | V17: 14 | W17: 17 | X17: 15 | Y17: 22.15 | Z17: 14 | AA17: 21.15 | AB17: 15 | AC17: 22.15 | AD17: 15 | AE17: 22.15 | AH17: 13 | AI17: 20.15 | AJ17: 7 | AK17: 13.15 | AN17: 6 | AO17: 10 | AP17: 6 | AQ17: 10 | AX17: 7 | AY17: 14.15 | AZ17: 14 | BA17: 21.15 | BD17: 6 | BE17: 10 | BF17: 7 | BG17: 14.15 | BJ17: 6 | BK17: 10 | BN17: 13 | BO17: 20.15 | BP17: 13 | BQ17: 20.15 | BR17: 6 | BS17: 10 | BV17: 6 | BW17: 13.15
A18: Educ 6 | B18: =(C17-B17)-0.15 -> 7 | D18: =(E17-D17)-0.15 -> 7 | F18: =(G17-F17) -> 4 | J18: =(K17-J17)-0.15 -> 7 | P18: =SUM(B18:O18) -> 25 | R18: =(S17-R17)-0.15 -> 6 | V18: =SUM(W17-V17) -> 3 | X18: =(Y17-X17)-0.15 -> 7 | Z18: =(AA17-Z17)-0.15 -> 7 | AB18: =(AC17-AB17)-0.15 -> 7 | AD18: =(AE17-AD17)-0.15 -> 7 | AF18: =SUM(R18:AE18) -> 37 | AH18: =(AI17-AH17)-0.15 -> 7 | AJ18: =(AK17-AJ17)-0.15 -> 6 | AN18: =(AO17-AN17) -> 4 | AP18: =(AQ17-AP17) -> 4 | AV18: =SUM(AH18:AU18) -> 21 | AX18: =(AY17-AX17)-0.15 -> 7 | AZ18: =(BA17-AZ17)-0.15 -> 7 | BD18: =(BE17-BD17) -> 4 | BF18: =(BG17-BF17)-0.15 -> 7 | BJ18: =(BK17-BJ17) -> 4 | BL18: =SUM(AX18:BK18) -> 29 | BN18: =(BO17-BN17)-0.15 -> 7 | BP18: =(BQ17-BP17)-0.15 -> 7 | BR18: =(BS17-BR17) -> 4 | BV18: =(BW17-BV17)-0.15 -> 7 | CB18: =SUM(BN18:CA18) -> 25 | CD18: =SUM(BL18+AV18+AF18)+F18+H18+J18+L18+N18+BN18+BP18+BR18+BT18 -> 116
A19: GLINEUR Audrey | B19: 6 | C19: 13.15 | D19: 7 | E19: 13.15 | F19: Férié | H19: 14 | I19: 21.15 | J19: 15 | K19: 22.15 | R19: 8 | S19: 19.2 | T19: 6 | U19: 13.15 | V19: 14 | W19: 17 | AB19: 7 | AC19: 13.15 | AD19: 7 | AE19: 14.15 | AH19: 7 | AI19: 17.15 | AL19: 6 | AM19: 10 | AN19: 8 | AO19: 19.2 | AP19: 8 | AQ19: 19.2 | AX19: 8 | AY19: 19.2 | BB19: 13 | BC19: 20.15 | BD19: 7 | BE19: 14.15 | BJ19: 8 | BK19: 19.2 | BN19: 6 | BO19: 13.15 | BP19: 7 | BQ19: 13.15 | BT19: 14 | BU19: 21.15 | BV19: 15 | BW19: 22.15
A20: Educ 7 | B20: =(C19-B19)-0.15 -> 7 | D20: =(E19-D19)-0.15 -> 6 | F20: 7.6 | H20: =(I19-H19)-0.15 -> 7 | J20: =(K19-J19)-0.15 -> 7 | P20: =SUM(B20:O20) -> 34.6 | R20: =(S19-R19)-0.2 -> 11 | T20: =(U19-T19)-0.15 -> 7 | V20: =SUM(W19-V19) -> 3 | AB20: =(AC19-AB19)-0.15 -> 6 | AD20: =(AE19-AD19)-0.15 -> 7 | AF20: =SUM(R20:AE20) -> 34 | AH20: =(AI19-AH19)-0.15 -> 10 | AL20: =(AM19-AL19) -> 4 | AN20: =(AO19-AN19)-0.2 -> 11 | AP20: =(AQ19-AP19)-0.2 -> 11 | AV20: =SUM(AH20:AU20) -> 36 | AX20: =(AY19-AX19)-0.2 -> 11 | BB20: =(BC19-BB19)-0.15 -> 7 | BD20: =(BE19-BD19)-0.15 -> 7 | BJ20: =(BK19-BJ19)-0.2 -> 11 | BL20: =SUM(AX20:BK20) -> 36 | BN20: =(BO19-BN19)-0.15 -> 7 | BP20: =(BQ19-BP19)-0.15 -> 6 | BT20: =(BU19-BT19)-0.15 -> 7 | BV20: =(BW19-BV19)-0.15 -> 7 | CB20: =SUM(BN20:CA20) -> 27 | CD20: =SUM(BL20+AV20+AF20)+F20+H20+J20+L20+N20+BN20+BP20+BR20+BT20 -> 147.6
A21: GODAUX Viorica | B21: 7 | C21: 14.15 | F21: 13 | G21: 20.15 | H21: 7 | I21: 14.15 | J21: 7 | K21: 14.15 | L21: 6 | M21: 10 | N21: 6 | O21: 10 | R21: 7 | S21: 14.15 | T21: 6 | U21: 10 | V21: 7 | W21: 17.15 | X21: 6 | Y21: 10 | Z21: 7 | AA21: 14.15 | AB21: Férié | AH21: 6 | AI21: 13.15 | AJ21: 13 | AK21: 20.15 | AL21: 14 | AM21: 21.15 | AP21: 6 | AQ21: 13.15 | AR21: 15 | AS21: 22.15 | AX21: 7 | AY21: 14.15 | AZ21: 7 | BA21: 14.15 | BB21: 7 | BC21: 17.15 | BD21: 6 | BE21: 13.15 | BF21: 14 | BG21: 21.15 | BN21: 7 | BO21: 14.15 | BR21: 13 | BS21: 20.15 | BT21: 7 | BU21: 14.15 | BV21: 7 | BW21: 14.15 | BX21: 6 | BY21: 10 | BZ21: 6 | CA21: 10
A22: Educ 8 | B22: =(C21-B21)-0.15 -> 7 | F22: =(G21-F21)-0.15 -> 7 | H22: =(I21-H21)-0.15 -> 7 | J22: =(K21-J21)-0.15 -> 7 | L22: =(M21-L21) -> 4 | N22: =(O21-N21) -> 4 | P22: =SUM(B22:O22) -> 36 | R22: =(S21-R21)-0.15 -> 7 | T22: =(U21-T21) -> 4 | V22: =(W21-V21)-0.15 -> 10 | X22: =(Y21-X21) -> 4 | Z22: =(AA21-Z21)-0.15 -> 7 | AB22: 7.6 | AF22: =SUM(R22:AE22) -> 39.6 | AH22: =(AI21-AH21)-0.15 -> 7 | AJ22: =(AK21-AJ21)-0.15 -> 7 | AL22: =(AM21-AL21)-0.15 -> 7 | AP22: =(AQ21-AP21)-0.15 -> 7 | AR22: =(AS21-AR21)-0.15 -> 7 | AV22: =SUM(AH22:AU22) -> 35 | AX22: =(AY21-AX21)-0.15 -> 7 | AZ22: =(BA21-AZ21)-0.15 -> 7 | BB22: =(BC21-BB21)-0.15 -> 10 | BD22: =(BE21-BD21)-0.15 -> 7 | BF22: =(BG21-BF21)-0.15 -> 7 | BL22: =SUM(AX22:BK22) -> 38 | BN22: =(BO21-BN21)-0.15 -> 7 | BR22: =(BS21-BR21)-0.15 -> 7 | BT22: =(BU21-BT21)-0.15 -> 7 | BV22: =(BW21-BV21)-0.15 -> 7 | BX22: =(BY21-BX21) -> 4 | BZ22: =(CA21-BZ21) -> 4 | CB22: =SUM(BN22:CA22) -> 36 | CD22: =SUM(BL22+AV22+AF22)+F22+H22+J22+L22+N22+BN22+BP22+BR22+BT22 -> 162.6
A23: SPELEERS Justine | B23: 6 | C23: 10 | D23: 7 | E23: 14.15 | F23: 7 | G23: 14.15 | H23: 6 | I23: 13.15 | J23: 14 | K23: 21.15 | R23: 7 | S23: 14.15 | T23: 14 | U23: 21.15 | V23: 13 | W23: 20.15 | X23: 13 | Y23: 20.15 | Z23: 15 | AA23: 22.15 | AB23: Férié | AJ23: 14 | AK23: 21.15 | AL23: 15 | AM23: 22.15 | AN23: 15 | AO23: 22.15 | AR23: 13 | AS23: 20.15 | AT23: 6 | AU23: 10 | AZ23: 15 | BA23: 22.15 | BB23: 14 | BC23: 17 | BD23: 13 | BE23: 20.15 | BF23: 7 | BG23: 14.15 | BH23: 6 | BI23: 10 | BN23: 6 | BO23: 10 | BP23: 7 | BQ23: 14.15 | BR23: 7 | BS23: 14.15 | BT23: 6 | BU23: 13.15 | BV23: 14 | BW23: 21.15
A24: Educ 9 | B24: =(C23-B23) -> 4 | D24: =(E23-D23)-0.15 -> 7 | F24: =(G23-F23)-0.15 -> 7 | H24: =(I23-H23)-0.15 -> 7 | J24: =(K23-J23)-0.15 -> 7 | P24: =SUM(B24:O24) -> 32 | R24: =(S23-R23)-0.15 -> 7 | T24: =(U23-T23)-0.15 -> 7 | V24: =(W23-V23)-0.15 -> 7 | X24: =(Y23-X23)-0.15 -> 7 | Z24: =(AA23-Z23)-0.15 -> 7 | AB24: 7.6 | AF24: =SUM(R24:AE24) -> 42.6 | AJ24: =(AK23-AJ23)-0.15 -> 7 | AL24: =(AM23-AL23)-0.15 -> 7 | AN24: =(AO23-AN23)-0.15 -> 7 | AR24: =(AS23-AR23)-0.15 -> 7 | AT24: =(AU23-AT23) -> 4 | AV24: =SUM(AH24:AU24) -> 32 | AZ24: =(BA23-AZ23)-0.15 -> 7 | BB24: =SUM(BC23-BB23) -> 3 | BD24: =(BE23-BD23)-0.15 -> 7 | BF24: =(BG23-BF23)-0.15 -> 7 | BH24: =(BI23-BH23) -> 4 | BL24: =SUM(AX24:BK24) -> 28 | BN24: =(BO23-BN23) -> 4 | BP24: =(BQ23-BP23)-0.15 -> 7 | BR24: =(BS23-BR23)-0.15 -> 7 | BT24: =(BU23-BT23)-0.15 -> 7 | BV24: =(BW23-BV23)-0.15 -> 7 | CB24: =SUM(BN24:CA24) -> 32 | CD24: =SUM(BL24+AV24+AF24)+F24+H24+J24+L24+N24+BN24+BP24+BR24+BT24 -> 148.6
A25: MOREELS Kevin | B25: 8 | C25: 19.2 | D25: 14 | E25: 21.15 | F25: Férié | J25: 7 | K25: 14.15 | L25: 8 | M25: 19.2 | T25: 7 | U25: 14.15 | V25: 8 | W25: 19.2 | X25: 6 | Y25: 13.15 | Z25: 6 | AA25: 13.15 | AB25: Férié | AH25: 6 | AI25: 10 | AN25: 6 | AO25: 13.15 | AP25: 7 | AQ25: 14.15 | AR25: 8 | AS25: 19.2 | AT25: 15 | AU25: 22.15 | AZ25: 8 | BA25: 19.2 | BB25: 7 | BC25: 17 | BF25: 8 | BG25: 19.2 | BN25: 8 | BO25: 19.2 | BP25: 14 | BQ25: 21.15 | BV25: 7 | BW25: 14.15 | BX25: 8 | BY25: 19.2
A26: Educ 10 | B26: =(C25-B25)-0.2 -> 11 | D26: =(E25-D25)-0.15 -> 7 | F26: 7.6 | J26: =(K25-J25)-0.15 -> 7 | L26: =(M25-L25)-0.2 -> 11 | P26: =SUM(B26:O26) -> 43.6 | T26: =(U25-T25)-0.15 -> 7 | V26: =(W25-V25)-0.2 -> 11 | X26: =(Y25-X25)-0.15 -> 7 | Z26: =(AA25-Z25)-0.15 -> 7 | AB26: 7.6 | AF26: =SUM(R26:AE26) -> 39.6 | AH26: =(AI25-AH25) -> 4 | AN26: =(AO25-AN25)-0.15 -> 7 | AP26: =(AQ25-AP25)-0.15 -> 7 | AR26: =(AS25-AR25)-0.2 -> 11 | AT26: =(AU25-AT25)-0.15 -> 7 | AV26: =SUM(AH26:AU26) -> 36 | AZ26: =(BA25-AZ25)-0.2 -> 11 | BB26: =(BC25-BB25)-0.15 -> 9.85 | BF26: =(BG25-BF25)-0.2 -> 11 | BL26: =SUM(AX26:BK26) -> 31.85 | BN26: =(BO25-BN25)-0.2 -> 11 | BP26: =(BQ25-BP25)-0.15 -> 7 | BV26: =(BW25-BV25)-0.15 -> 7 | BX26: =(BY25-BX25)-0.2 -> 11 | CB26: =SUM(BN26:CA26) -> 36 | CD26: =SUM(BL26+AV26+AF26)+F26+H26+J26+L26+N26+BN26+BP26+BR26+BT26 -> 151.05
A27: MARCHESE Gaelle | F27: Férié | H27: 13 | I27: 20.15 | J27: 8 | K27: 19.2 | V27: 14 | W27: 17 | Z27: 8 | AA27: 19.2 | AB27: 8 | AC27: 19.2 | AD27: 6 | AE27: 13.15 | AH27: 7 | AI27: 14.15 | AJ27: 8 | AK27: 19.2 | AL27: 6 | AM27: 13.15 | AP27: 14 | AQ27: 21.15 | AX27: 6 | AY27: 10 | BB27: 8 | BC27: 19.2 | BD27: 7 | BE27: 14.15 | BH27: 15 | BI27: 22.15 | BJ27: 15 | BK27: 22.15 | BT27: 13 | BU27: 20.15 | BV27: 8 | BW27: 19.2
A28: Educ 11 | F28: 7.6 | H28: =(I27-H27)-0.15 -> 7 | J28: =(K27-J27)-0.2 -> 11 | P28: =SUM(B28:O28) -> 25.6 | V28: =SUM(W27-V27) -> 3 | Z28: =(AA27-Z27)-0.2 -> 11 | AB28: =(AC27-AB27)-0.2 -> 11 | AD28: =(AE27-AD27)-0.15 -> 7 | AF28: =SUM(R28:AE28) -> 32 | AH28: =(AI27-AH27)-0.15 -> 7 | AJ28: =(AK27-AJ27)-0.2 -> 11 | AL28: =(AM27-AL27)-0.15 -> 7 | AP28: =(AQ27-AP27)-0.15 -> 7 | AV28: =SUM(AH28:AU28) -> 32 | AX28: =(AY27-AX27) -> 4 | BB28: =(BC27-BB27)-0.2 -> 11 | BD28: =(BE27-BD27)-0.15 -> 7 | BH28: =(BI27-BH27)-0.15 -> 7 | BJ28: =(BK27-BJ27)-0.15 -> 7 | BL28: =SUM(AX28:BK28) -> 36 | BT28: =(BU27-BT27)-0.15 -> 7 | BV28: =(BW27-BV27)-0.2 -> 11 | CB28: =SUM(BN28:CA28) -> 18 | CD28: =SUM(BL28+AV28+AF28)+F28+H28+J28+L28+N28+BN28+BP28+BR28+BT28 -> 132.6
A29: MOULART Marine | D29: 6 | E29: 13.15 | F29: 8 | G29: 19.2 | H29: 7 | I29: 14.15 | L29: 15 | M29: 22.15 | N29: 15 | O29: 22.15 | R29: 15 | S29: 22.15 | T29: 13 | U29: 20.15 | V29: 7 | W29: 17 | AB29: 6 | AC29: 10 | AD29: 13 | AE29: 20.15 | AH29: 15 | AI29: 22.15 | AN29: 13 | AO29: 20.15 | AP29: 7 | AQ29: 14.15 | AR29: 6 | AS29: 10 | AZ29: 7 | BA29: 14.15 | BB29: 14 | BC29: 21.15 | BD29: 14 | BE29: 21.15 | BF29: 15 | BG29: 22.15 | BP29: 6 | BQ29: 13.15 | BR29: 8 | BS29: 19.2 | BT29: 7 | BU29: 14.15 | BX29: 15 | BY29: 22.15 | BZ29: 15 | CA29: 22.15
A30: Educ 12 | D30: =(E29-D29)-0.15 -> 7 | F30: =(G29-F29)-0.2 -> 11 | H30: =(I29-H29)-0.15 -> 7 | L30: =(M29-L29)-0.15 -> 7 | N30: =(O29-N29)-0.15 -> 7 | P30: =SUM(B30:O30) -> 39 | R30: =(S29-R29)-0.15 -> 7 | T30: =(U29-T29)-0.15 -> 7 | V30: =(W29-V29)-0.15 -> 9.85 | AB30: =(AC29-AB29) -> 4 | AD30: =(AE29-AD29)-0.15 -> 7 | AF30: =SUM(R30:AE30) -> 34.85 | AH30: =(AI29-AH29)-0.15 -> 7 | AN30: =(AO29-AN29)-0.15 -> 7 | AP30: =(AQ29-AP29)-0.15 -> 7 | AR30: =(AS29-AR29) -> 4 | AV30: =SUM(AH30:AU30) -> 25 | AZ30: =(BA29-AZ29)-0.15 -> 7 | BB30: =(BC29-BB29)-0.15 -> 7 | BD30: =(BE29-BD29)-0.15 -> 7 | BF30: =(BG29-BF29)-0.15 -> 7 | BL30: =SUM(AX30:BK30) -> 28 | BP30: =(BQ29-BP29)-0.15 -> 7 | BR30: =(BS29-BR29)-0.2 -> 11 | BT30: =(BU29-BT29)-0.15 -> 7 | BX30: =(BY29-BX29)-0.15 -> 7 | BZ30: =(CA29-BZ29)-0.15 -> 7 | CB30: =SUM(BN30:CA30) -> 39 | CD30: =SUM(BL30+AV30+AF30)+F30+H30+J30+L30+N30+BN30+BP30+BR30+BT30 -> 144.85
A31: MONCOUSIN Quentin | B31: 7 | C31: 14.15 | F31: 15 | G31: 22.15 | J31: 7 | K31: 13.15 | L31: 13 | M31: 20.15 | R31: 13 | S31: 20.15 | T31: 15 | U31: 22.15 | V31: 14 | W31: 17 | X31: 7 | Y31: 14.15 | Z31: 7 | AA31: 14.15 | AB31: Férié | AH31: 7 | AI31: 14.15 | AL31: 7 | AM31: 14.15 | AP31: 13 | AQ31: 20.15 | AR31: 7 | AS31: 14.15 | AT31: 13 | AU31: 20.15 | AZ31: 6 | BA31: 13.15 | BB31: 6 | BC31: 17 | BD31: 7 | BE31: 13.15 | BF31: 13 | BG31: 20.15 | BH31: 13 | BI31: 20.15 | BN31: 7 | BO31: 14.15 | BR31: 15 | BS31: 22.15 | BV31: 7 | BW31: 13.15 | BX31: 13 | BY31: 20.15
A32: Educ 13 | B32: =(C31-B31)-0.15 -> 7 | F32: =(G31-F31)-0.15 -> 7 | J32: =(K31-J31)-0.15 -> 6 | L32: =(M31-L31)-0.15 -> 7 | P32: =SUM(B32:O32) -> 27 | R32: =(S31-R31)-0.15 -> 7 | T32: =(U31-T31)-0.15 -> 7 | V32: =SUM(W31-V31) -> 3 | X32: =(Y31-X31)-0.15 -> 7 | Z32: =(AA31-Z31)-0.15 -> 7 | AB32: 7.6 | AF32: =SUM(R32:AE32) -> 38.6 | AH32: =(AI31-AH31)-0.15 -> 7 | AL32: =(AM31-AL31)-0.15 -> 7 | AP32: =(AQ31-AP31)-0.15 -> 7 | AR32: =(AS31-AR31)-0.15 -> 7 | AT32: =(AU31-AT31)-0.15 -> 7 | AV32: =SUM(AH32:AU32) -> 35 | AZ32: =(BA31-AZ31)-0.15 -> 7 | BB32: =(BC31-BB31)-0.15 -> 10.85 | BD32: =(BE31-BD31)-0.15 -> 6 | BF32: =(BG31-BF31)-0.15 -> 7 | BH32: =(BI31-BH31)-0.15 -> 7 | BL32: =SUM(AX32:BK32) -> 37.85 | BN32: =(BO31-BN31)-0.15 -> 7 | BR32: =(BS31-BR31)-0.15 -> 7 | BV32: =(BW31-BV31)-0.15 -> 6 | BX32: =(BY31-BX31)-0.15 -> 7 | CB32: =SUM(BN32:CA32) -> 27 | CD32: =SUM(BL32+AV32+AF32)+F32+H32+J32+L32+N32+BN32+BP32+BR32+BT32 -> 145.45
A33: ETUDIANTS EDUC
A34: FALCONI Fiona | L34: 7 | M34: 13.15 | N34: 7 | O34: 13.15 | AB34: 6 | AC34: 13.15 | AD34: 6 | AE34: 13.15 | AR34: 14 | AS34: 21.15 | AT34: 14 | AU34: 21.15 | BH34: 14 | BI34: 21.15 | BJ34: 14 | BK34: 21.15 | BX34: 7 | BY34: 13.15 | BZ34: 7 | CA34: 13.15
A35: Etudiant 1 | L35: =(M34-L34)-0.15 -> 6 | N35: =(O34-N34)-0.15 -> 6 | P35: =SUM(B35:O35) -> 12 | AB35: =(AC34-AB34)-0.15 -> 7 | AD35: =(AE34-AD34)-0.15 -> 7 | AF35: =SUM(R35:AE35) -> 14 | AR35: =(AS34-AR34)-0.15 -> 7 | AT35: =(AU34-AT34)-0.15 -> 7 | AV35: =SUM(AH35:AU35) -> 14 | BH35: =(BI34-BH34)-0.15 -> 7 | BJ35: =(BK34-BJ34)-0.15 -> 7 | BL35: =SUM(AX35:BK35) -> 14 | BX35: =(BY34-BX34)-0.15 -> 6 | BZ35: =(CA34-BZ34)-0.15 -> 6 | CB35: =SUM(BN35:CA35) -> 12 | CD35: =SUM(BL35+AV35+AF35)+F35+H35+J35+L35+N35+BN35+BP35+BR35+BT35 -> 54
L36: 14 | M36: 21.15 | N36: 14 | O36: 21.15 | AB36: 7 | AC36: 14.15 | AD36: 7 | AE36: 14.15 | AR36: 6 | AS36: 13.15 | AT36: 6 | AU36: 13.15 | BH36: 6 | BI36: 13.15 | BJ36: 6 | BK36: 13.15 | BX36: 14 | BY36: 21.15 | BZ36: 14 | CA36: 21.15
A37: Etudiant 2 | L37: =(M36-L36)-0.15 -> 7 | N37: =(O36-N36)-0.15 -> 7 | P37: =SUM(B37:O37) -> 14 | AB37: =(AC36-AB36)-0.15 -> 7 | AD37: =(AE36-AD36)-0.15 -> 7 | AF37: =SUM(R37:AE37) -> 14 | AR37: =(AS36-AR36)-0.15 -> 7 | AT37: =(AU36-AT36)-0.15 -> 7 | AV37: =SUM(AH37:AU37) -> 14 | BH37: =(BI36-BH36)-0.15 -> 7 | BJ37: =(BK36-BJ36)-0.15 -> 7 | BL37: =SUM(AX37:BK37) -> 14 | BX37: =(BY36-BX36)-0.15 -> 7 | BZ37: =(CA36-BZ36)-0.15 -> 7 | CB37: =SUM(BN37:CA37) -> 14 | CD37: =SUM(BL37+AV37+AF37)+F37+H37+J37+L37+N37+BN37+BP37+BR37+BT37 -> 56
A38: EL HANKOURI Oimaya | L38: 6 | M38: 13.15 | N38: 6 | O38: 13.15 | AB38: 14 | AC38: 21.15 | AD38: 14 | AE38: 21.15 | AR38: 7 | AS38: 14.15 | AT38: 7 | AU38: 13.15 | BH38: 7 | BI38: 14.15 | BJ38: 7 | BK38: 13.05 | BX38: 6 | BY38: 13.15 | BZ38: 6 | CA38: 13.15
A39: Etudiant 3 | L39: =(M38-L38)-0.15 -> 7 | N39: =(O38-N38)-0.15 -> 7 | P39: =SUM(B39:O39) -> 14 | AB39: =(AC38-AB38)-0.15 -> 7 | AD39: =(AE38-AD38)-0.15 -> 7 | AF39: =SUM(R39:AE39) -> 14 | AR39: =(AS38-AR38)-0.15 -> 7 | AT39: =(AU38-AT38)-0.15 -> 6 | AV39: =SUM(AH39:AU39) -> 13 | BH39: =(BI38-BH38)-0.15 -> 7 | BJ39: =(BK38-BJ38)-0.15 -> 5.9 | BL39: =SUM(AX39:BK39) -> 12.9 | BX39: =(BY38-BX38)-0.15 -> 7 | BZ39: =(CA38-BZ38)-0.15 -> 7 | CB39: =SUM(BN39:CA39) -> 14 | CD39: =SUM(BL39+AV39+AF39)+F39+H39+J39+L39+N39+BN39+BP39+BR39+BT39 -> 53.9
A40: MEDICAL / PARAMEDICAL
...

Sheet Cuisine 2
A1: 43040 | B1: 43038 | D1: 43039 | F1: 43040 | H1: 43041 | J1: 43042 | L1: 43043 | N1: 43044
A2: sous réserve de prolongation | B2: LUNDI | D2: MARDI | F2: MERCREDI | H2: JEUDI | J2: VENDREDI | L2: SAMEDI | N2: DIMANCHE
A3: Cuisine
A4: OUHAMED Yesmila | F4: Férié | L4: 8 | M4: 15.06 | N4: 8 | O4: 15.06
A5: fin CDD le 14/11/2017 | F5: 7.6 | L5: =(M4-L4)-0.5 -> 6.56 | N5: =(O4-N4)-0.5 -> 6.56
B6: 43045 | D6: 43046 | F6: 43047 | H6: 43048 | J6: 43049 | L6: 43050 | N6: 43051
B7: LUNDI | D7: MARDI | F7: MERCREDI | H7: JEUDI | J7: VENDREDI | L7: SAMEDI | N7: DIMANCHE
D9: 8 | E9: 15.06 | J9: 8 | K9: 15.06 | L9: Férié
D10: =(E9-D9)-0.5 -> 6.56 | J10: =(K9-J9)-0.5 -> 6.56 | L10: 7.6
B11: 43052 | D11: 43053 | F11: 43054 | H11: 43055 | J11: 43056 | L11: 43057 | N11: 43058
B12: LUNDI | D12: MARDI | F12: MERCREDI | H12: JEUDI | J12: VENDREDI | L12: SAMEDI | N12: DIMANCHE
L14: 8 | M14: 15.06 | N14: 8 | O14: 15.06
L15: =(M14-L14)-0.5 -> 6.56 | N15: =(O14-N14)-0.5 -> 6.56
B16: 43059 | D16: 43060 | F16: 43061 | H16: 43062 | J16: 43063 | L16: 43064 | N16: 43065
B17: LUNDI | D17: MARDI | F17: MERCREDI | H17: JEUDI | J17: VENDREDI | L17: SAMEDI | N17: DIMANCHE
D19: 8 | E19: 15.06 | J19: 8 | K19: 15.06
D20: =(E19-D19)-0.5 -> 6.56 | J20: =(K19-J19)-0.5 -> 6.56
B21: 43066 | D21: 43067 | F21: 43068 | H21: 43069
B22: LUNDI | D22: MARDI | F22: MERCREDI | H22: JEUDI | J22: VENDREDI | L22: SAMEDI | N22: DIMANCHE

Sheet Horaire
CO1: 3.4791667 | CQ1: =CO1*24 -> 83.5
CJ2: Heures complètes du mois | CO2: 6.9666667 | CQ2: =CO2*24 -> 167.2
A4: GARDES
Q5: TOTAL SEMAINE | AF5: TOTAL SEMAINE | AU5: TOTAL SEMAINE | BJ5: TOTAL SEMAINE | BY5: TOTAL SEMAINE | CN5: TOTAL SEMAINE | CO5: TOTAL PlAGES | CR5: Différence mensuelle
A6: Dates
A8: Equipe Educative | B8: Régime | C8: LUNDI | E8: MARDI | G8: MERCREDI | I8: JEUDI | K8: VENDREDI | M8: SAMEDI | O8: DIMANCHE | R8: LUNDI | T8: MARDI | V8: MERCREDI | X8: JEUDI | Z8: VENDREDI | AB8: SAMEDI | AD8: DIMANCHE | AG8: LUNDI | AI8: MARDI | AK8: MERCREDI | AM8: JEUDI | AO8: VENDREDI | AQ8: SAMEDI | AS8: DIMANCHE | AV8: LUNDI | AX8: MARDI | AZ8: MERCREDI | BB8: JEUDI | BD8: VENDREDI | BF8: SAMEDI | BH8: DIMANCHE | BK8: LUNDI | BM8: MARDI | BO8: MERCREDI | BQ8: JEUDI | BS8: VENDREDI | BU8: SAMEDI | BW8: DIMANCHE | BZ8: LUNDI | CB8: MARDI | CD8: MERCREDI | CF8: JEUDI | CH8: VENDREDI | CJ8: SAMEDI | CL8: DIMANCHE
A9: STEELSON | Q9: =SUM(C10:P10) -> 0 | AF9: =SUM(R10:AE10) -> 0 | AU9: =SUM(AG10:AT10) -> 0 | BJ9: =SUM(AV10:BI10) -> 0 | BY9: =SUM(BK10:BX10) -> 0 | CN9: =SUM(BZ10:CM10) -> 0 | CO9: =SUM(Q9,AF9,AU9,BY9,CN9,BJ9) -> 0 | CR9: =$CO$2-CO9 -> 6.9666667
B10: 1 | C10: =IF(AND(C9="",D9=""),"",IFERROR(MATCH("*"&C9&"*",Paramètres!$A$2,0)*INDEX(Paramètres!$B$2:$F$2,MATCH(D9,Paramètres!$B$1:$F$1,0))*$B10,IFERROR(VLOOKUP(C9,_T1,2,0)*IF(VLOOKUP(C9,_T1,3,0),$B10,1),IF(AND(C9="23:59"*1,D9="07:59"*1),"08:00"*$B10,IF(AND(C9="20:00"*1,D9="05:00"*1),"09:00"*$B10,IF(AND(C9="21:00"*1,D9="07:00"*1),"10:00"*$B10,IF(AND(C9="21:00"*1,D9="08:00"*1),"11:00"*$B10,IF((D9*24)-(C9*24)>6,((((D9*24)-(C9*24))-0.25)/24)*$B10,(D9-C9)*$B10)))))))) | E10: =IF(AND(E9="",F9=""),"",IFERROR(MATCH("*"&E9&"*",Paramètres!$A$2,0)*INDEX(Paramètres!$B$2:$F$2,MATCH(F9,Paramètres!$B$1:$F$1,0))*$B10,IFERROR(VLOOKUP(E9,_T1,2,0)*IF(VLOOKUP(E9,_T1,3,0),$B10,1),IF(AND(E9="23:59"*1,F9="07:59"*1),"08:00"*$B10,IF(AND(E9="20:00"*1,F9="05:00"*1),"09:00"*$B10,IF(AND(E9="21:00"*1,F9="07:00"*1),"10:00"*$B10,IF(AND(E9="21:00"*1,F9="08:00"*1),"11:00"*$B10,IF((F9*24)-(E9*24)>6,((((F9*24)-(E9*24))-0.25)/24)*$B10,(F9-E9)*$B10)))))))) | G10: =IF(AND(G9="",H9=""),"",IFERROR(MATCH("*"&G9&"*",Paramètres!$A$2,0)*INDEX(Paramètres!$B$2:$F$2,MATCH(H9,Paramètres!$B$1:$F$1,0))*$B10,IFERROR(VLOOKUP(G9,_T1,2,0)*IF(VLOOKUP(G9,_T1,3,0),$B10,1),IF(AND(G9="23:59"*1,H9="07:59"*1),"08:00"*$B10,IF(AND(G9="20:00"*1,H9="05:00"*1),"09:00"*$B10,IF(AND(G9="21:00"*1,H9="07:00"*1),"10:00"*$B10,IF(AND(G9="21:00"*1,H9="08:00"*1),"11:00"*$B10,IF((H9*24)-(G9*24)>6,((((H9*24)-(G9*24))-0.25)/24)*$B10,(H9-G9)*$B10)))))))) | I10: =IF(AND(I9="",J9=""),"",IFERROR(MATCH("*"&I9&"*",Paramètres!$A$2,0)*INDEX(Paramètres!$B$2:$F$2,MATCH(J9,Paramètres!$B$1:$F$1,0))*$B10,IFERROR(VLOOKUP(I9,_T1,2,0)*IF(VLOOKUP(I9,_T1,3,0),$B10,1),IF(AND(I9="23:59"*1,J9="07:59"*1),"08:00"*$B10,IF(AND(I9="20:00"*1,J9="05:00"*1),"09:00"*$B10,IF(AND(I9="21:00"*1,J9="07:00"*1),"10:00"*$B10,IF(AND(I9="21:00"*1,J9="08:00"*1),"11:00"*$B10,IF((J9*24)-(I9*24)>6,((((J9*24)-(I9*24))-0.25)/24)*$B10,(J9-I9)*$B10)))))))) | K10: =IF(AND(K9="",L9=""),"",IFERROR(MATCH("*"&K9&"*",Paramètres!$A$2,0)*INDEX(Paramètres!$B$2:$F$2,MATCH(L9,Paramètres!$B$1:$F$1,0))*$B10,IFERROR(VLOOKUP(K9,_T1,2,0)*IF(VLOOKUP(K9,_T1,3,0),$B10,1),IF(AND(K9="23:59"*1,L9="07:59"*1),"08:00"*$B10,IF(AND(K9="20:00"*1,L9="05:00"*1),"09:00"*$B10,IF(AND(K9="21:00"*1,L9="07:00"*1),"10:00"*$B10,IF(AND(K9="21:00"*1,L9="08:00"*1),"11:00"*$B10,IF((L9*24)-(K9*24)>6,((((L9*24)-(K9*24))-0.25)/24)*$B10,(L9-K9)*$B10)))))))) | M10: =IF(AND(M9="",N9=""),"",IFERROR(MATCH("*"&M9&"*",Paramètres!$A$2,0)*INDEX(Paramètres!$B$2:$F$2,MATCH(N9,Paramètres!$B$1:$F$1,0))*$B10,IFERROR(VLOOKUP(M9,_T1,2,0)*IF(VLOOKUP(M9,_T1,3,0),$B10,1),IF(AND(M9="23:59"*1,N9="07:59"*1),"08:00"*$B10,IF(AND(M9="20:00"*1,N9="05:00"*1),"09:00"*$B10,IF(AND(M9="21:00"*1,N9="07:00"*1),"10:00"*$B10,IF(AND(M9="21:00"*1,N9="08:00"*1),"11:00"*$B10,IF((N9*24)-(M9*24)>6,((((N9*24)-(M9*24))-0.25)/24)*$B10,(N9-M9)*$B10)))))))) | O10: =IF(AND(O9="",P9=""),"",IFERROR(MATCH("*"&O9&"*",Paramètres!$A$2,0)*INDEX(Paramètres!$B$2:$F$2,MATCH(P9,Paramètres!$B$1:$F$1,0))*$B10,IFERROR(VLOOKUP(O9,_T1,2,0)*IF(VLOOKUP(O9,_T1,3,0),$B10,1),IF(AND(O9="23:59"*1,P9="07:59"*1),"08:00"*$B10,IF(AND(O9="20:00"*1,P9="05:00"*1),"09:00"*$B10,IF(AND(O9="21:00"*1,P9="07:00"*1),"10:00"*$B10,IF(AND(O9="21:00"*1,P9="08:00"*1),"11:00"*$B10,IF((P9*24)-(O9*24)>6,((((P9*24)-(O9*24))-0.25)/24)*$B10,(P9-O9)*$B10)))))))) | R10: =IF(AND(R9="",S9=""),"",IFERROR(MATCH("*"&R9&"*",Paramètres!$A$2,0)*INDEX(Paramètres!$B$2:$E$2,MATCH(#REF!,Paramètres!$B$1:$E$1,0))*$B10,IFERROR(VLOOKUP(R9,_T1,2,0)*IF(VLOOKUP(R9,_T1,3,0),$B10,1),IF(AND(R9="23:59"*1,S9="07:59"*1),"08:00"*$B10,IF(AND(R9="20:00"*1,S9="05:00"*1),"09:00"*$B10,IF(AND(R9="21:00"*1,S9="07:00"*1),"10:00"*$B10,IF(AND(R9="21:00"*1,S9="08:00"*1),"11:00"*$B10,IF((S9*24)-(R9*24)>6,((((S9*24)-(R9*24))-0.25)/24),(S9-R9))))))))) | T10: =IF(AND(T9="",U9=""),"",IFERROR(MATCH("*"&T9&"*",Paramètres!$A$2,0)*INDEX(Paramètres!$B$2:$E$2,MATCH(#REF!,Paramètres!$B$1:$E$1,0))*$B10,IFERROR(VLOOKUP(T9,_T1,2,0)*IF(VLOOKUP(T9,_T1,3,0),$B10,1),IF(AND(T9="23:59"*1,U9="07:59"*1),"08:00"*$B10,IF(AND(T9="20:00"*1,U9="05:00"*1),"09:00"*$B10,IF(AND(T9="21:00"*1,U9="07:00"*1),"10:00"*$B10,IF(AND(T9="21:00"*1,U9="08:00"*1),"11:00"*$B10,IF((U9*24)-(T9*24)>6,((((U9*24)-(T9*24))-0.25)/24),(U9-T9))))))))) | V10: =IF(AND(V9="",W9=""),"",IFERROR(MATCH("*"&V9&"*",Paramètres!$A$2,0)*INDEX(Paramètres!$B$2:$E$2,MATCH(#REF!,Paramètres!$B$1:$E$1,0))*$B10,IFERROR(VLOOKUP(V9,_T1,2,0)*IF(VLOOKUP(V9,_T1,3,0),$B10,1),IF(AND(V9="23:59"*1,W9="07:59"*1),"08:00"*$B10,IF(AND(V9="20:00"*1,W9="05:00"*1),"09:00"*$B10,IF(AND(V9="21:00"*1,W9="07:00"*1),"10:00"*$B10,IF(AND(V9="21:00"*1,W9="08:00"*1),"11:00"*$B10,IF((W9*24)-(V9*24)>6,((((W9*24)-(V9*24))-0.25)/24),(W9-V9))))))))) | X10: =IF(AND(X9="",Y9=""),"",IFERROR(MATCH("*"&X9&"*",Paramètres!$A$2,0)*INDEX(Paramètres!$B$2:$E$2,MATCH(#REF!,Paramètres!$B$1:$E$1,0))*$B10,IFERROR(VLOOKUP(X9,_T1,2,0)*IF(VLOOKUP(X9,_T1,3,0),$B10,1),IF(AND(X9="23:59"*1,Y9="07:59"*1),"08:00"*$B10,IF(AND(X9="20:00"*1,Y9="05:00"*1),"09:00"*$B10,IF(AND(X9="21:00"*1,Y9="07:00"*1),"10:00"*$B10,IF(AND(X9="21:00"*1,Y9="08:00"*1),"11:00"*$B10,IF((Y9*24)-(X9*24)>6,((((Y9*24)-(X9*24))-0.25)/24),(Y9-X9))))))))) | Z10: =IF(AND(Z9="",AA9=""),"",IFERROR(MATCH("*"&Z9&"*",Paramètres!$A$2,0)*INDEX(Paramètres!$B$2:$E$2,MATCH(#REF!,Paramètres!$B$1:$E$1,0))*$B10,IFERROR(VLOOKUP(Z9,_T1,2,0)*IF(VLOOKUP(Z9,_T1,3,0),$B10,1),IF(AND(Z9="23:59"*1,AA9="07:59"*1),"08:00"*$B10,IF(AND(Z9="20:00"*1,AA9="05:00"*1),"09:00"*$B10,IF(AND(Z9="21:00"*1,AA9="07:00"*1),"10:00"*$B10,IF(AND(Z9="21:00"*1,AA9="08:00"*1),"11:00"*$B10,IF((AA9*24)-(Z9*24)>6,((((AA9*24)-(Z9*24))-0.25)/24),(AA9-Z9))))))))) | AB10: =IF(AND(AB9="",AC9=""),"",IFERROR(MATCH("*"&AB9&"*",Paramètres!$A$2,0)*INDEX(Paramètres!$B$2:$E$2,MATCH(#REF!,Paramètres!$B$1:$E$1,0))*$B10,IFERROR(VLOOKUP(AB9,_T1,2,0)*IF(VLOOKUP(AB9,_T1,3,0),$B10,1),IF(AND(AB9="23:59"*1,AC9="07:59"*1),"08:00"*$B10,IF(AND(AB9="20:00"*1,AC9="05:00"*1),"09:00"*$B10,IF(AND(AB9="21:00"*1,AC9="07:00"*1),"10:00"*$B10,IF(AND(AB9="21:00"*1,AC9="08:00"*1),"11:00"*$B10,IF((AC9*24)-(AB9*24)>6,((((AC9*24)-(AB9*24))-0.25)/24),(AC9-AB9))))))))) | AD10: =IF(AND(AD9="",AE9=""),"",IFERROR(MATCH("*"&AD9&"*",Paramètres!$A$2,0)*INDEX(Paramètres!$B$2:$E$2,MATCH(#REF!,Paramètres!$B$1:$E$1,0))*$B10,IFERROR(VLOOKUP(AD9,_T1,2,0)*IF(VLOOKUP(AD9,_T1,3,0),$B10,1),IF(AND(AD9="23:59"*1,AE9="07:59"*1),"08:00"*$B10,IF(AND(AD9="20:00"*1,AE9="05:00"*1),"09:00"*$B10,IF(AND(AD9="21:00"*1,AE9="07:00"*1),"10:00"*$B10,IF(AND(AD9="21:00"*1,AE9="08:00"*1),"11:00"*$B10,IF((AE9*24)-(AD9*24)>6,((((AE9*24)-(AD9*24))-0.25)/24),(AE9-AD9))))))))) | AG10: =IF(AND(AG9="",AH9=""),"",IFERROR(MATCH("*"&AG9&"*",Paramètres!$A$2,0)*INDEX(Paramètres!$B$2:$E$2,MATCH(#REF!,Paramètres!$B$1:$E$1,0))*$B10,IFERROR(VLOOKUP(AG9,_T1,2,0)*IF(VLOOKUP(AG9,_T1,3,0),$B10,1),IF(AND(AG9="23:59"*1,AH9="07:59"*1),"08:00"*$B10,IF(AND(AG9="20:00"*1,AH9="05:00"*1),"09:00"*$B10,IF(AND(AG9="21:00"*1,AH9="07:00"*1),"10:00"*$B10,IF(AND(AG9="21:00"*1,AH9="08:00"*1),"11:00"*$B10,IF((AH9*24)-(AG9*24)>6,((((AH9*24)-(AG9*24))-0.25)/24),(AH9-AG9))))))))) | AI10: =IF(AND(AI9="",AJ9=""),"",IFERROR(MATCH("*"&AI9&"*",Paramètres!$A$2,0)*INDEX(Paramètres!$B$2:$E$2,MATCH(#REF!,Paramètres!$B$1:$E$1,0))*$B10,IFERROR(VLOOKUP(AI9,_T1,2,0)*IF(VLOOKUP(AI9,_T1,3,0),$B10,1),IF(AND(AI9="23:59"*1,AJ9="07:59"*1),"08:00"*$B10,IF(AND(AI9="20:00"*1,AJ9="05:00"*1),"09:00"*$B10,IF(AND(AI9="21:00"*1,AJ9="07:00"*1),"10:00"*$B10,IF(AND(AI9="21:00"*1,AJ9="08:00"*1),"11:00"*$B10,IF((AJ9*24)-(AI9*24)>6,((((AJ9*24)-(AI9*24))-0.25)/24),(AJ9-AI9))))))))) | AK10: =IF(AND(AK9="",AL9=""),"",IFERROR(MATCH("*"&AK9&"*",Paramètres!$A$2,0)*INDEX(Paramètres!$B$2:$E$2,MATCH(#REF!,Paramètres!$B$1:$E$1,0))*$B10,IFERROR(VLOOKUP(AK9,_T1,2,0)*IF(VLOOKUP(AK9,_T1,3,0),$B10,1),IF(AND(AK9="23:59"*1,AL9="07:59"*1),"08:00"*$B10,IF(AND(AK9="20:00"*1,AL9="05:00"*1),"09:00"*$B10,IF(AND(AK9="21:00"*1,AL9="07:00"*1),"10:00"*$B10,IF(AND(AK9="21:00"*1,AL9="08:00"*1),"11:00"*$B10,IF((AL9*24)-(AK9*24)>6,((((AL9*24)-(AK9*24))-0.25)/24),(AL9-AK9))))))))) | AM10: =IF(AND(AM9="",AN9=""),"",IFERROR(MATCH("*"&AM9&"*",Paramètres!$A$2,0)*INDEX(Paramètres!$B$2:$E$2,MATCH(#REF!,Paramètres!$B$1:$E$1,0))*$B10,IFERROR(VLOOKUP(AM9,_T1,2,0)*IF(VLOOKUP(AM9,_T1,3,0),$B10,1),IF(AND(AM9="23:59"*1,AN9="07:59"*1),"08:00"*$B10,IF(AND(AM9="20:00"*1,AN9="05:00"*1),"09:00"*$B10,IF(AND(AM9="21:00"*1,AN9="07:00"*1),"10:00"*$B10,IF(AND(AM9="21:00"*1,AN9="08:00"*1),"11:00"*$B10,IF((AN9*24)-(AM9*24)>6,((((AN9*24)-(AM9*24))-0.25)/24),(AN9-AM9))))))))) | AO10: =IF(AND(AO9="",AP9=""),"",IFERROR(MATCH("*"&AO9&"*",Paramètres!$A$2,0)*INDEX(Paramètres!$B$2:$E$2,MATCH(#REF!,Paramètres!$B$1:$E$1,0))*$B10,IFERROR(VLOOKUP(AO9,_T1,2,0)*IF(VLOOKUP(AO9,_T1,3,0),$B10,1),IF(AND(AO9="23:59"*1,AP9="07:59"*1),"08:00"*$B10,IF(AND(AO9="20:00"*1,AP9="05:00"*1),"09:00"*$B10,IF(AND(AO9="21:00"*1,AP9="07:00"*1),"10:00"*$B10,IF(AND(AO9="21:00"*1,AP9="08:00"*1),"11:00"*$B10,IF((AP9*24)-(AO9*24)>6,((((AP9*24)-(AO9*24))-0.25)/24),(AP9-AO9))))))))) | AQ10: =IF(AND(AQ9="",AR9=""),"",IFERROR(MATCH("*"&AQ9&"*",Paramètres!$A$2,0)*INDEX(Paramètres!$B$2:$E$2,MATCH(#REF!,Paramètres!$B$1:$E$1,0))*$B10,IFERROR(VLOOKUP(AQ9,_T1,2,0)*IF(VLOOKUP(AQ9,_T1,3,0),$B10,1),IF(AND(AQ9="23:59"*1,AR9="07:59"*1),"08:00"*$B10,IF(AND(AQ9="20:00"*1,AR9="05:00"*1),"09:00"*$B10,IF(AND(AQ9="21:00"*1,AR9="07:00"*1),"10:00"*$B10,IF(AND(AQ9="21:00"*1,AR9="08:00"*1),"11:00"*$B10,IF((AR9*24)-(AQ9*24)>6,((((AR9*24)-(AQ9*24))-0.25)/24),(AR9-AQ9))))))))) | AS10: =IF(AND(AS9="",AT9=""),"",IFERROR(MATCH("*"&AS9&"*",Paramètres!$A$2,0)*INDEX(Paramètres!$B$2:$E$2,MATCH(#REF!,Paramètres!$B$1:$E$1,0))*$B10,IFERROR(VLOOKUP(AS9,_T1,2,0)*IF(VLOOKUP(AS9,_T1,3,0),$B10,1),IF(AND(AS9="23:59"*1,AT9="07:59"*1),"08:00"*$B10,IF(AND(AS9="20:00"*1,AT9="05:00"*1),"09:00"*$B10,IF(AND(AS9="21:00"*1,AT9="07:00"*1),"10:00"*$B10,IF(AND(AS9="21:00"*1,AT9="08:00"*1),"11:00"*$B10,IF((AT9*24)-(AS9*24)>6,((((AT9*24)-(AS9*24))-0.25)/24),(AT9-AS9))))))))) | AV10: =IF(AND(AV9="",AW9=""),"",IFERROR(MATCH("*"&AV9&"*",Paramètres!$A$2,0)*INDEX(Paramètres!$B$2:$E$2,MATCH(#REF!,Paramètres!$B$1:$E$1,0))*$B10,IFERROR(VLOOKUP(AV9,_T1,2,0)*IF(VLOOKUP(AV9,_T1,3,0),$B10,1),IF(AND(AV9="23:59"*1,AW9="07:59"*1),"08:00"*$B10,IF(AND(AV9="20:00"*1,AW9="05:00"*1),"09:00"*$B10,IF(AND(AV9="21:00"*1,AW9="07:00"*1),"10:00"*$B10,IF(AND(AV9="21:00"*1,AW9="08:00"*1),"11:00"*$B10,IF((AW9*24)-(AV9*24)>6,((((AW9*24)-(AV9*24))-0.25)/24),(AW9-AV9))))))))) | AX10: =IF(AND(AX9="",AY9=""),"",IFERROR(MATCH("*"&AX9&"*",Paramètres!$A$2,0)*INDEX(Paramètres!$B$2:$E$2,MATCH(#REF!,Paramètres!$B$1:$E$1,0))*$B10,IFERROR(VLOOKUP(AX9,_T1,2,0)*IF(VLOOKUP(AX9,_T1,3,0),$B10,1),IF(AND(AX9="23:59"*1,AY9="07:59"*1),"08:00"*$B10,IF(AND(AX9="20:00"*1,AY9="05:00"*1),"09:00"*$B10,IF(AND(AX9="21:00"*1,AY9="07:00"*1),"10:00"*$B10,IF(AND(AX9="21:00"*1,AY9="08:00"*1),"11:00"*$B10,IF((AY9*24)-(AX9*24)>6,((((AY9*24)-(AX9*24))-0.25)/24),(AY9-AX9))))))))) | AZ10: =IF(AND(AZ9="",BA9=""),"",IFERROR(MATCH("*"&AZ9&"*",Paramètres!$A$2,0)*INDEX(Paramètres!$B$2:$E$2,MATCH(#REF!,Paramètres!$B$1:$E$1,0))*$B10,IFERROR(VLOOKUP(AZ9,_T1,2,0)*IF(VLOOKUP(AZ9,_T1,3,0),$B10,1),IF(AND(AZ9="23:59"*1,BA9="07:59"*1),"08:00"*$B10,IF(AND(AZ9="20:00"*1,BA9="05:00"*1),"09:00"*$B10,IF(AND(AZ9="21:00"*1,BA9="07:00"*1),"10:00"*$B10,IF(AND(AZ9="21:00"*1,BA9="08:00"*1),"11:00"*$B10,IF((BA9*24)-(AZ9*24)>6,((((BA9*24)-(AZ9*24))-0.25)/24),(BA9-AZ9))))))))) | BB10: =IF(AND(BB9="",BC9=""),"",IFERROR(MATCH("*"&BB9&"*",Paramètres!$A$2,0)*INDEX(Paramètres!$B$2:$E$2,MATCH(#REF!,Paramètres!$B$1:$E$1,0))*$B10,IFERROR(VLOOKUP(BB9,_T1,2,0)*IF(VLOOKUP(BB9,_T1,3,0),$B10,1),IF(AND(BB9="23:59"*1,BC9="07:59"*1),"08:00"*$B10,IF(AND(BB9="20:00"*1,BC9="05:00"*1),"09:00"*$B10,IF(AND(BB9="21:00"*1,BC9="07:00"*1),"10:00"*$B10,IF(AND(BB9="21:00"*1,BC9="08:00"*1),"11:00"*$B10,IF((BC9*24)-(BB9*24)>6,((((BC9*24)-(BB9*24))-0.25)/24),(BC9-BB9))))))))) | BD10: =IF(AND(BD9="",BE9=""),"",IFERROR(MATCH("*"&BD9&"*",Paramètres!$A$2,0)*INDEX(Paramètres!$B$2:$E$2,MATCH(#REF!,Paramètres!$B$1:$E$1,0))*$B10,IFERROR(VLOOKUP(BD9,_T1,2,0)*IF(VLOOKUP(BD9,_T1,3,0),$B10,1),IF(AND(BD9="23:59"*1,BE9="07:59"*1),"08:00"*$B10,IF(AND(BD9="20:00"*1,BE9="05:00"*1),"09:00"*$B10,IF(AND(BD9="21:00"*1,BE9="07:00"*1),"10:00"*$B10,IF(AND(BD9="21:00"*1,BE9="08:00"*1),"11:00"*$B10,IF((BE9*24)-(BD9*24)>6,((((BE9*24)-(BD9*24))-0.25)/24),(BE9-BD9))))))))) | BF10: =IF(AND(BF9="",BG9=""),"",IFERROR(MATCH("*"&BF9&"*",Paramètres!$A$2,0)*INDEX(Paramètres!$B$2:$E$2,MATCH(#REF!,Paramètres!$B$1:$E$1,0))*$B10,IFERROR(VLOOKUP(BF9,_T1,2,0)*IF(VLOOKUP(BF9,_T1,3,0),$B10,1),IF(AND(BF9="23:59"*1,BG9="07:59"*1),"08:00"*$B10,IF(AND(BF9="20:00"*1,BG9="05:00"*1),"09:00"*$B10,IF(AND(BF9="21:00"*1,BG9="07:00"*1),"10:00"*$B10,IF(AND(BF9="21:00"*1,BG9="08:00"*1),"11:00"*$B10,IF((BG9*24)-(BF9*24)>6,((((BG9*24)-(BF9*24))-0.25)/24),(BG9-BF9))))))))) | BH10: =IF(AND(BH9="",BI9=""),"",IFERROR(MATCH("*"&BH9&"*",Paramètres!$A$2,0)*INDEX(Paramètres!$B$2:$E$2,MATCH(#REF!,Paramètres!$B$1:$E$1,0))*$B10,IFERROR(VLOOKUP(BH9,_T1,2,0)*IF(VLOOKUP(BH9,_T1,3,0),$B10,1),IF(AND(BH9="23:59"*1,BI9="07:59"*1),"08:00"*$B10,IF(AND(BH9="20:00"*1,BI9="05:00"*1),"09:00"*$B10,IF(AND(BH9="21:00"*1,BI9="07:00"*1),"10:00"*$B10,IF(AND(BH9="21:00"*1,BI9="08:00"*1),"11:00"*$B10,IF((BI9*24)-(BH9*24)>6,((((BI9*24)-(BH9*24))-0.25)/24),(BI9-BH9))))))))) | BK10: =IF(AND(BK9="",BL9=""),"",IFERROR(MATCH("*"&BK9&"*",Paramètres!$A$2,0)*INDEX(Paramètres!$B$2:$E$2,MATCH(#REF!,Paramètres!$B$1:$E$1,0))*$B10,IFERROR(VLOOKUP(BK9,_T1,2,0)*IF(VLOOKUP(BK9,_T1,3,0),$B10,1),IF(AND(BK9="23:59"*1,BL9="07:59"*1),"08:00"*$B10,IF(AND(BK9="20:00"*1,BL9="05:00"*1),"09:00"*$B10,IF(AND(BK9="21:00"*1,BL9="07:00"*1),"10:00"*$B10,IF(AND(BK9="21:00"*1,BL9="08:00"*1),"11:00"*$B10,IF((BL9*24)-(BK9*24)>6,((((BL9*24)-(BK9*24))-0.25)/24),(BL9-BK9))))))))) | BM10: =IF(AND(BM9="",BN9=""),"",IFERROR(MATCH("*"&BM9&"*",Paramètres!$A$2,0)*INDEX(Paramètres!$B$2:$E$2,MATCH(#REF!,Paramètres!$B$1:$E$1,0))*$B10,IFERROR(VLOOKUP(BM9,_T1,2,0)*IF(VLOOKUP(BM9,_T1,3,0),$B10,1),IF(AND(BM9="23:59"*1,BN9="07:59"*1),"08:00"*$B10,IF(AND(BM9="20:00"*1,BN9="05:00"*1),"09:00"*$B10,IF(AND(BM9="21:00"*1,BN9="07:00"*1),"10:00"*$B10,IF(AND(BM9="21:00"*1,BN9="08:00"*1),"11:00"*$B10,IF((BN9*24)-(BM9*24)>6,((((BN9*24)-(BM9*24))-0.25)/24),(BN9-BM9))))))))) | BO10: =IF(AND(BO9="",BP9=""),"",IFERROR(MATCH("*"&BO9&"*",Paramètres!$A$2,0)*INDEX(Paramètres!$B$2:$E$2,MATCH(#REF!,Paramètres!$B$1:$E$1,0))*$B10,IFERROR(VLOOKUP(BO9,_T1,2,0)*IF(VLOOKUP(BO9,_T1,3,0),$B10,1),IF(AND(BO9="23:59"*1,BP9="07:59"*1),"08:00"*$B10,IF(AND(BO9="20:00"*1,BP9="05:00"*1),"09:00"*$B10,IF(AND(BO9="21:00"*1,BP9="07:00"*1),"10:00"*$B10,IF(AND(BO9="21:00"*1,BP9="08:00"*1),"11:00"*$B10,IF((BP9*24)-(BO9*24)>6,((((BP9*24)-(BO9*24))-0.25)/24),(BP9-BO9))))))))) | BQ10: =IF(AND(BQ9="",BR9=""),"",IFERROR(MATCH("*"&BQ9&"*",Paramètres!$A$2,0)*INDEX(Paramètres!$B$2:$E$2,MATCH(#REF!,Paramètres!$B$1:$E$1,0))*$B10,IFERROR(VLOOKUP(BQ9,_T1,2,0)*IF(VLOOKUP(BQ9,_T1,3,0),$B10,1),IF(AND(BQ9="23:59"*1,BR9="07:59"*1),"08:00"*$B10,IF(AND(BQ9="20:00"*1,BR9="05:00"*1),"09:00"*$B10,IF(AND(BQ9="21:00"*1,BR9="07:00"*1),"10:00"*$B10,IF(AND(BQ9="21:00"*1,BR9="08:00"*1),"11:00"*$B10,IF((BR9*24)-(BQ9*24)>6,((((BR9*24)-(BQ9*24))-0.25)/24),(BR9-BQ9))))))))) | BS10: =IF(AND(BS9="",BT9=""),"",IFERROR(MATCH("*"&BS9&"*",Paramètres!$A$2,0)*INDEX(Paramètres!$B$2:$E$2,MATCH(#REF!,Paramètres!$B$1:$E$1,0))*$B10,IFERROR(VLOOKUP(BS9,_T1,2,0)*IF(VLOOKUP(BS9,_T1,3,0),$B10,1),IF(AND(BS9="23:59"*1,BT9="07:59"*1),"08:00"*$B10,IF(AND(BS9="20:00"*1,BT9="05:00"*1),"09:00"*$B10,IF(AND(BS9="21:00"*1,BT9="07:00"*1),"10:00"*$B10,IF(AND(BS9="21:00"*1,BT9="08:00"*1),"11:00"*$B10,IF((BT9*24)-(BS9*24)>6,((((BT9*24)-(BS9*24))-0.25)/24),(BT9-BS9))))))))) | BU10: =IF(AND(BU9="",BV9=""),"",IFERROR(MATCH("*"&BU9&"*",Paramètres!$A$2,0)*INDEX(Paramètres!$B$2:$E$2,MATCH(#REF!,Paramètres!$B$1:$E$1,0))*$B10,IFERROR(VLOOKUP(BU9,_T1,2,0)*IF(VLOOKUP(BU9,_T1,3,0),$B10,1),IF(AND(BU9="23:59"*1,BV9="07:59"*1),"08:00"*$B10,IF(AND(BU9="20:00"*1,BV9="05:00"*1),"09:00"*$B10,IF(AND(BU9="21:00"*1,BV9="07:00"*1),"10:00"*$B10,IF(AND(BU9="21:00"*1,BV9="08:00"*1),"11:00"*$B10,IF((BV9*24)-(BU9*24)>6,((((BV9*24)-(BU9*24))-0.25)/24),(BV9-BU9))))))))) | BW10: =IF(AND(BW9="",BX9=""),"",IFERROR(MATCH("*"&BW9&"*",Paramètres!$A$2,0)*INDEX(Paramètres!$B$2:$E$2,MATCH(#REF!,Paramètres!$B$1:$E$1,0))*$B10,IFERROR(VLOOKUP(BW9,_T1,2,0)*IF(VLOOKUP(BW9,_T1,3,0),$B10,1),IF(AND(BW9="23:59"*1,BX9="07:59"*1),"08:00"*$B10,IF(AND(BW9="20:00"*1,BX9="05:00"*1),"09:00"*$B10,IF(AND(BW9="21:00"*1,BX9="07:00"*1),"10:00"*$B10,IF(AND(BW9="21:00"*1,BX9="08:00"*1),"11:00"*$B10,IF((BX9*24)-(BW9*24)>6,((((BX9*24)-(BW9*24))-0.25)/24),(BX9-BW9))))))))) | BZ10: =IF(AND(BZ9="",CA9=""),"",IFERROR(MATCH("*"&BZ9&"*",Paramètres!$A$2,0)*INDEX(Paramètres!$B$2:$E$2,MATCH(#REF!,Paramètres!$B$1:$E$1,0))*$B10,IFERROR(VLOOKUP(BZ9,_T1,2,0)*IF(VLOOKUP(BZ9,_T1,3,0),$B10,1),IF(AND(BZ9="23:59"*1,CA9="07:59"*1),"08:00"*$B10,IF(AND(BZ9="20:00"*1,CA9="05:00"*1),"09:00"*$B10,IF(AND(BZ9="21:00"*1,CA9="07:00"*1),"10:00"*$B10,IF(AND(BZ9="21:00"*1,CA9="08:00"*1),"11:00"*$B10,IF((CA9*24)-(BZ9*24)>6,((((CA9*24)-(BZ9*24))-0.25)/24),(CA9-BZ9))))))))) | CB10: =IF(AND(CB9="",CC9=""),"",IFERROR(MATCH("*"&CB9&"*",Paramètres!$A$2,0)*INDEX(Paramètres!$B$2:$E$2,MATCH(#REF!,Paramètres!$B$1:$E$1,0))*$B10,IFERROR(VLOOKUP(CB9,_T1,2,0)*IF(VLOOKUP(CB9,_T1,3,0),$B10,1),IF(AND(CB9="23:59"*1,CC9="07:59"*1),"08:00"*$B10,IF(AND(CB9="20:00"*1,CC9="05:00"*1),"09:00"*$B10,IF(AND(CB9="21:00"*1,CC9="07:00"*1),"10:00"*$B10,IF(AND(CB9="21:00"*1,CC9="08:00"*1),"11:00"*$B10,IF((CC9*24)-(CB9*24)>6,((((CC9*24)-(CB9*24))-0.25)/24),(CC9-CB9))))))))) | CD10: =IF(AND(CD9="",CE9=""),"",IFERROR(MATCH("*"&CD9&"*",Paramètres!$A$2,0)*INDEX(Paramètres!$B$2:$E$2,MATCH(#REF!,Paramètres!$B$1:$E$1,0))*$B10,IFERROR(VLOOKUP(CD9,_T1,2,0)*IF(VLOOKUP(CD9,_T1,3,0),$B10,1),IF(AND(CD9="23:59"*1,CE9="07:59"*1),"08:00"*$B10,IF(AND(CD9="20:00"*1,CE9="05:00"*1),"09:00"*$B10,IF(AND(CD9="21:00"*1,CE9="07:00"*1),"10:00"*$B10,IF(AND(CD9="21:00"*1,CE9="08:00"*1),"11:00"*$B10,IF((CE9*24)-(CD9*24)>6,((((CE9*24)-(CD9*24))-0.25)/24),(CE9-CD9))))))))) | CF10: =IF(AND(CF9="",CG9=""),"",IFERROR(MATCH("*"&CF9&"*",Paramètres!$A$2,0)*INDEX(Paramètres!$B$2:$E$2,MATCH(#REF!,Paramètres!$B$1:$E$1,0))*$B10,IFERROR(VLOOKUP(CF9,_T1,2,0)*IF(VLOOKUP(CF9,_T1,3,0),$B10,1),IF(AND(CF9="23:59"*1,CG9="07:59"*1),"08:00"*$B10,IF(AND(CF9="20:00"*1,CG9="05:00"*1),"09:00"*$B10,IF(AND(CF9="21:00"*1,CG9="07:00"*1),"10:00"*$B10,IF(AND(CF9="21:00"*1,CG9="08:00"*1),"11:00"*$B10,IF((CG9*24)-(CF9*24)>6,((((CG9*24)-(CF9*24))-0.25)/24),(CG9-CF9))))))))) | CH10: =IF(AND(CH9="",CI9=""),"",IFERROR(MATCH("*"&CH9&"*",Paramètres!$A$2,0)*INDEX(Paramètres!$B$2:$E$2,MATCH(#REF!,Paramètres!$B$1:$E$1,0))*$B10,IFERROR(VLOOKUP(CH9,_T1,2,0)*IF(VLOOKUP(CH9,_T1,3,0),$B10,1),IF(AND(CH9="23:59"*1,CI9="07:59"*1),"08:00"*$B10,IF(AND(CH9="20:00"*1,CI9="05:00"*1),"09:00"*$B10,IF(AND(CH9="21:00"*1,CI9="07:00"*1),"10:00"*$B10,IF(AND(CH9="21:00"*1,CI9="08:00"*1),"11:00"*$B10,IF((CI9*24)-(CH9*24)>6,((((CI9*24)-(CH9*24))-0.25)/24),(CI9-CH9))))))))) | CJ10: =IF(AND(CJ9="",CK9=""),"",IFERROR(MATCH("*"&CJ9&"*",Paramètres!$A$2,0)*INDEX(Paramètres!$B$2:$E$2,MATCH(#REF!,Paramètres!$B$1:$E$1,0))*$B10,IFERROR(VLOOKUP(CJ9,_T1,2,0)*IF(VLOOKUP(CJ9,_T1,3,0),$B10,1),IF(AND(CJ9="23:59"*1,CK9="07:59"*1),"08:00"*$B10,IF(AND(CJ9="20:00"*1,CK9="05:00"*1),"09:00"*$B10,IF(AND(CJ9="21:00"*1,CK9="07:00"*1),"10:00"*$B10,IF(AND(CJ9="21:00"*1,CK9="08:00"*1),"11:00"*$B10,IF((CK9*24)-(CJ9*24)>6,((((CK9*24)-(CJ9*24))-0.25)/24),(CK9-CJ9))))))))) | CL10: =IF(AND(CL9="",CM9=""),"",IFERROR(MATCH("*"&CL9&"*",Paramètres!$A$2,0)*INDEX(Paramètres!$B$2:$E$2,MATCH(#REF!,Paramètres!$B$1:$E$1,0))*$B10,IFERROR(VLOOKUP(CL9,_T1,2,0)*IF(VLOOKUP(CL9,_T1,3,0),$B10,1),IF(AND(CL9="23:59"*1,CM9="07:59"*1),"08:00"*$B10,IF(AND(CL9="20:00"*1,CM9="05:00"*1),"09:00"*$B10,IF(AND(CL9="21:00"*1,CM9="07:00"*1),"10:00"*$B10,IF(AND(CL9="21:00"*1,CM9="08:00"*1),"11:00"*$B10,IF((CM9*24)-(CL9*24)>6,((((CM9*24)-(CL9*24))-0.25)/24),(CM9-CL9)))))))))
C11: 0.33333333 | D11: 0.5 | E11: VA | G11: VAS | I11: 0.875 | J11: 0.33333333 | K11: VSS | Q11: =SUM(C12:P12) -> 0.62916667 | AF11: =SUM(R12:AE12) -> 0 | AU11: =SUM(AG12:AT12) -> 0 | BJ11: =SUM(AV12:BI12) -> 0 | BY11: =SUM(BK12:BX12) -> 0 | CN11: =SUM(BZ12:CM12) -> 0 | CO11: =SUM(Q11,AF11,AU11,BY11,CN11,BJ11) -> 0.62916667 | CR11: =$CO$2-CO11 -> 6.3375
