Workbook
Name _T1: Paramètres!$G$1:$I$12

Sheet Cuisine
A1: 43009 | N1: 43009
B2: LUNDI | D2: MARDI | F2: MERCREDI | H2: JEUDI | J2: VENDREDI | L2: SAMEDI | N2: DIMANCHE
A3: Cuisine
A4: OUHAMED Yesmila
B6: 43010 | D6: 43011 | F6: 43012 | H6: 43013 | J6: 43014 | L6: 43015 | N6: 43016
B7: LUNDI | D7: MARDI | F7: MERCREDI | H7: JEUDI | J7: VENDREDI | L7: SAMEDI | N7: DIMANCHE
L9: 8 | M9: 15.06 | N9: 8 | O9: 15.06
L10: =(M9-L9)-0.5 -> 6.56 | N10: =(O9-N9)-0.5 -> 6.56
B11: 43017 | D11: 43018 | F11: 43019 | H11: 43020 | J11: 43021 | L11: 43022 | N11: 43023
B12: LUNDI | D12: MARDI | F12: MERCREDI | H12: JEUDI | J12: VENDREDI | L12: SAMEDI | N12: DIMANCHE
D14: 8 | E14: 15.06 | F14: 8 | G14: 15.06 | H14: 8 | I14: 15.06 | J14: 8 | K14: 15.06
D15: =(E14-D14)-0.5 -> 6.56 | F15: =(G14-F14)-0.5 -> 6.56 | H15: =(I14-H14)-0.5 -> 6.56 | J15: =(K14-J14)-0.5 -> 6.56
B16: 43024 | D16: 43025 | F16: 43026 | H16: 43027 | J16: 43028 | L16: 43029 | N16: 43030
B17: LUNDI | D17: MARDI | F17: MERCREDI | H17: JEUDI | J17: VENDREDI | L17: SAMEDI | N17: DIMANCHE
L19: 8 | M19: 15.06 | N19: 8 | O19: 15.06
L20: =(M19-L19)-0.5 -> 6.56 | N20: =(O19-N19)-0.5 -> 6.56
B21: 43031 | D21: 43032 | F21: 43033 | H21: 43034 | J21: 43035 | L21: 43036 | N21: 43037
B22: LUNDI | D22: MARDI | F22: MERCREDI | H22: JEUDI | J22: VENDREDI | L22: SAMEDI | N22: DIMANCHE
D24: 8 | E24: 15.06 | J24: 8 | K24: 15.06
D25: =(E24-D24)-0.5 -> 6.56 | J25: =(K24-J24)-0.5 -> 6.56
B26: 43038 | D26: 43039
B27: LUNDI | D27: MARDI | F27: MERCREDI | H27: JEUDI | J27: VENDREDI | L27: SAMEDI | N27: DIMANCHE

Sheet H base novembre 2017
A1: Garde Direction
A2: Garde R.U.
B3: 43038 | D3: 43039 | F3: 43040 | H3: 43041 | J3: 43042 | L3: 43043 | N3: 43044 | P3: TOTAL SEMAINE | R3: 43045 | T3: 43046 | V3: 43047 | X3: 43048 | Z3: 43049 | AB3: 43050 | AD3: 43051 | AF3: TOTAL SEMAINE | AH3: 43052 | AJ3: 43053 | AL3: 43054 | AN3: 43055 | AP3: 43056 | AR3: 43057 | AT3: 43058 | AV3: TOTAL SEMAINE | AX3: 43059 | AZ3: 43060 | BB3: 43061 | BD3: 43062 | BF3: 43063 | BH3: 43064 | BJ3: 43065 | BL3: TOTAL SEMAINE | BN3: 43066 | BP3: 43067 | BR3: 43068 | BT3: 43069 | BV3: 43070 | BX3: 43071 | BZ3: 43072 | CB3: TOTAL SEMAINE | CD3: TOTAL mois de 22 plages 167,2h
A4: Equipe Educative | B4: LUNDI | D4: MARDI | F4: MERCREDI | H4: JEUDI | J4: VENDREDI | L4: SAMEDI | N4: DIMANCHE | R4: LUNDI | T4: MARDI | V4: MERCREDI | X4: JEUDI | Z4: VENDREDI | AB4: SAMEDI | AD4: DIMANCHE | AH4: LUNDI | AJ4: MARDI | AL4: MERCREDI | AN4: JEUDI | AP4: VENDREDI | AR4: SAMEDI | AT4: DIMANCHE | AX4: LUNDI | AZ4: MARDI | BB4: MERCREDI | BD4: JEUDI | BF4: VENDREDI | BH4: SAMEDI | BJ4: DIMANCHE | BN4: LUNDI | BP4: MARDI | BR4: MERCREDI | BT4: JEUDI | BV4: VENDREDI | BX4: SAMEDI | BZ4: DIMANCHE
A5: MINELLA Letizia | D5: 8 | E5: 19.2 | F5: 6 | G5: 13.15 | H5: 8 | I5: 19.2 | J5: 13 | K5: 20.15 | R5: 6 | S5: 10 | V5: 14 | W5: 21.15 | AB5: 13 | AC5: 20.15 | AD5: 8 | AE5: 19.2 | AH5: 8 | AI5: 19.2 | AJ5: 6 | AK5: 13.15 | AL5: 7 | AM5: 14.15 | AN5: 7 | AO5: 14.15 | AX5: 14 | AY5: 21.15 | BB5: 14 | BC5: 17 | BD5: 8 | BE5: 19.2 | BH5: 7 | BI5: 13.15 | BJ5: 7 | BK5: 14.15 | BP5: 8 | BQ5: 19.2 | BR5: 6 | BS5: 13.15 | BT5: 8 | BU5: 19.2 | BV5: 13 | BW5: 20.15
A6: Educ 1 | D6: =(E5-D5)-0.2 -> 11 | F6: =(G5-F5)-0.15 -> 7 | H6: =(I5-H5)-0.2 -> 11 | J6: =(K5-J5)-0.15 -> 7 | P6: =SUM(B6:O6) -> 36 | R6: =(S5-R5) -> 4 | V6: =(W5-V5)-0.15 -> 7 | AB6: =(AC5-AB5)-0.15 -> 7 | AD6: =(AE5-AD5)-0.2 -> 11 | AF6: =SUM(R6:AE6) -> 29 | AH6: =(AI5-AH5)-0.2 -> 11 | AJ6: =(AK5-AJ5)-0.15 -> 7 | AL6: =(AM5-AL5)-0.15 -> 7 | AN6: =(AO5-AN5)-0.15 -> 7 | AV6: =SUM(AH6:AU6) -> 32 | AX6: =(AY5-AX5)-0.15 -> 7 | BB6: =SUM(BC5-BB5) -> 3 | BD6: =(BE5-BD5)-0.2 -> 11 | BH6: =(BI5-BH5)-0.15 -> 6 | BJ6: =(BK5-BJ5)-0.15 -> 7 | BL6: =SUM(AX6:BK6) -> 34 | BP6: =(BQ5-BP5)-0.2 -> 11 | BR6: =(BS5-BR5)-0.15 -> 7 | BT6: =(BU5-BT5)-0.2 -> 11 | BV6: =(BW5-BV5)-0.15 -> 7 | CB6: =SUM(BN6:CA6) -> 36 | CD6: =SUM(BL6+AV6+AF6)+F6+H6+J6+L6+N6+BN6+BP6+BR6+BT6 -> 149
A7: VANDEN HOUDEN Jessyca | B7: 14 | C7: 21.15 | D7: 15 | E7: 22.15 | F7: 14 | G7: 21.15 | L7: 7 | M7: 14.15 | N7: 8 | O7: 19.2 | T7: 7 | U7: 14.15 | V7: 6 | W7: 17 | X7: 8 | Y7: 19.2 | Z7: 13 | AA7: 20.15 | AB7: Férié | AJ7: 7 | AK7: 14.15 | AL7: 7 | AM7: 13.15 | AN7: 7 | AO7: 14.15 | AP7: 15 | AQ7: 22.15 | AT7: 7 | AU7: 14.15 | AX7: 15 | AY7: 22.15 | AZ7: 13 | BA7: 20.15 | BB7: 14 | BC7: 22.15 | BF7: 7 | BG7: 13.15 | BN7: 14 | BO7: 21.15 | BP7: 15 | BQ7: 22.15 | BR7: 14 | BS7: 21.15 | BX7: 7 | BY7: 14.15 | BZ7: 8 | CA7: 19.2
A8: Educ 2 | B8: =(C7-B7)-0.15 -> 7 | D8: =(E7-D7)-0.15 -> 7 | F8: =(G7-F7)-0.15 -> 7 | L8: =(M7-L7)-0.15 -> 7 | N8: =(O7-N7)-0.2 -> 11 | P8: =SUM(B8:O8) -> 39 | T8: =(U7-T7)-0.15 -> 7 | V8: =(W7-V7)-0.15 -> 10.85 | X8: =(Y7-X7)-0.2 -> 11 | Z8: =(AA7-Z7)-0.15 -> 7 | AB8: 7.6 | AF8: =SUM(R8:AE8) -> 43.45 | AJ8: =(AK7-AJ7)-0.15 -> 7 | AL8: =(AM7-AL7)-0.15 -> 6 | AN8: =(AO7-AN7)-0.15 -> 7 | AP8: =(AQ7-AP7)-0.15 -> 7 | AT8: =(AU7-AT7)-0.15 -> 7 | AV8: =SUM(AH8:AU8) -> 34 | AX8: =(AY7-AX7)-0.15 -> 7 | AZ8: =(BA7-AZ7)-0.15 -> 7 | BB8: =(BC7-BB7)-0.15 -> 8 | BF8: =(BG7-BF7)-0.15 -> 6 | BL8: =SUM(AX8:BK8) -> 28 | BN8: =(BO7-BN7)-0.15 -> 7 | BP8: =(BQ7-BP7)-0.15 -> 7 | BR8: =(BS7-BR7)-0.15 -> 7 | BX8: =(BY7-BX7)-0.15 -> 7 | BZ8: =(CA7-BZ7)-0.2 -> 11 | CB8: =SUM(BN8:CA8) -> 39 | CD8: =SUM(BL8+AV8+AF8)+F8+H8+J8+L8+N8+BN8+BP8+BR8+BT8 -> 151.45
A9: KOURAOS Irena | AB9: Férié
A10: Educ 2 | P10: =SUM(B10:O10) -> 0 | AB10: 7.6 | AF10: =SUM(R10:AE10) -> 7.6 | AV10: =SUM(AH10:AU10) -> 0 | BL10: =SUM(AX10:BK10) -> 0 | CB10: =SUM(BN10:CA10) -> 0
A11: HERZET Nathalie | B11: 15 | C11: 22.15 | F11: 7 | G11: 14.15 | H11: 6 | I11: 10 | L11: 7 | M11: 14.15 | N11: 7 | O11: 14.15 | R11: 6 | S11: 13.15 | T11: 7 | U11: 13.15 | V11: 7 | W11: 17 | X11: 7 | Y11: 13.15 | Z11: 6 | AA11: 10 | AB11: Férié | AH11: 14 | AI11: 21.15 | AJ11: 15 | AK11: 22.15 | AN11: 14 | AO11: 21.15 | AR11: 7 | AS11: 13.15 | AT11: 7 | AU11: 14.15 | AX11: 6 | AY11: 13.15 | AZ11: 7 | BA11: 13.15 | BB11: 6 | BC11: 10 | BF11: 6 | BG11: 10 | BN11: 15 | BO11: 22.15 | BR11: 7 | BS11: 14.15 | BT11: 6 | BU11: 10 | BX11: 7 | BY11: 14.15 | BZ11: 7 | CA11: 14.15
A12: Educ 3 | B12: =(C11-B11)-0.15 -> 7 | F12: =(G11-F11)-0.15 -> 7 | H12: =(I11-H11) -> 4 | L12: =(M11-L11)-0.15 -> 7 | N12: =(O11-N11)-0.15 -> 7 | P12: =SUM(B12:O12) -> 32 | R12: =(S11-R11)-0.15 -> 7 | T12: =(U11-T11)-0.15 -> 6 | V12: =(W11-V11)-0.15 -> 9.85 | X12: =(Y11-X11)-0.15 -> 6 | Z12: =(AA11-Z11) -> 4 | AB12: 7.6 | AF12: =SUM(R12:AE12) -> 40.45 | AH12: =(AI11-AH11)-0.15 -> 7 | AJ12: =(AK11-AJ11)-0.15 -> 7 | AN12: =(AO11-AN11)-0.15 -> 7 | AR12: =(AS11-AR11)-0.15 -> 6 | AT12: =(AU11-AT11)-0.15 -> 7 | AV12: =SUM(AH12:AU12) -> 34 | AX12: =(AY11-AX11)-0.15 -> 7 | AZ12: =(BA11-AZ11)-0.15 -> 6 | BB12: =(BC11-BB11) -> 4 | BC12: 3 | BF12: =(BG11-BF11) -> 4 | BL12: =SUM(AX12:BK12) -> 24 | BN12: =(BO11-BN11)-0.15 -> 7 | BR12: =(BS11-BR11)-0.15 -> 7 | BT12: =(BU11-BT11) -> 4 | BX12: =(BY11-BX11)-0.15 -> 7 | BZ12: =(CA11-BZ11)-0.15 -> 7 | CB12: =SUM(BN12:CA12) -> 32 | CD12: =SUM(BL12+AV12+AF12)+F12+H12+J12+L12+N12+BN12+BP12+BR12+BT12 -> 141.45
A13: BENIT Véronique | D13: 7 | E13: 14.15 | F13: Férié | H13: 7 | I13: 13.15 | J13: 6 | K13: 10 | N13: 13 | O13: 20.15 | T13: 8 | U13: 19.2 | V13: 14 | W13: 22.15 | X13: 14 | Y13: 21.15 | AB13: Férié | AH13: 7 | AI13: 13.15 | AJ13: 7 | AK13: 14.15 | AL13: 8 | AM13: 19.2 | AT13: 8 | AU13: 19.2 | AX13: 7 | AY13: 13.15 | AZ13: 6 | BA13: 10 | BB13: 14 | BC13: 17 | BD13: 15 | BE13: 22.15 | BH13: 8 | BI13: 19.2 | BJ13: 13 | BK13: 20.15 | BP13: 7 | BQ13: 14.15 | BT13: 7 | BU13: 13.15 | BV13: 6 | BW13: 10 | BZ13: 13 | CA13: 20.15
A14: Educ 4 | D14: =(E13-D13)-0.15 -> 7 | F14: 7.6 | H14: =(I13-H13)-0.15 -> 6 | J14: =(K13-J13) -> 4 | N14: =(O13-N13)-0.15 -> 7 | P14: =SUM(B14:O14) -> 31.6 | T14: =(U13-T13)-0.2 -> 11 | V14: =(W13-V13)-0.15 -> 8 | X14: =(Y13-X13)-0.15 -> 7 | AB14: 7.6 | AF14: =SUM(R14:AE14) -> 33.6 | AH14: =(AI13-AH13)-0.15 -> 6 | AJ14: =(AK13-AJ13)-0.15 -> 7 | AL14: =(AM13-AL13)-0.2 -> 11 | AT14: =(AU13-AT13)-0.2 -> 11 | AV14: =SUM(AH14:AU14) -> 35 | AX14: =(AY13-AX13)-0.15 -> 6 | AZ14: =(BA13-AZ13) -> 4 | BB14: =SUM(BC13-BB13) -> 3 | BD14: =(BE13-BD13)-0.15 -> 7 | BH14: =(BI13-BH13)-0.2 -> 11 | BJ14: =(BK13-BJ13)-0.15 -> 7 | BL14: =SUM(AX14:BK14) -> 38 | BP14: =(BQ13-BP13)-0.15 -> 7 | BT14: =(BU13-BT13)-0.15 -> 6 | BV14: =(BW13-BV13) -> 4 | BZ14: =(CA13-BZ13)-0.15 -> 7 | CB14: =SUM(BN14:CA14) -> 24 | CD14: =SUM(BL14+AV14+AF14)+F14+H14+J14+L14+N14+BN14+BP14+BR14+BT14 -> 144.2
A15: COSTALONGA Lisa | B15: 7 | C15: 13.15 | D15: 6 | E15: 10 | F15: 7 | G15: 13.15 | H15: 15 | I15: 22.15 | N15: 7 | O15: 14.15 | R15: 14 | S15: 21.15 | V15: 6 | W15: 10 | X15: 7 | Y15: 14.15 | Z15: 7 | AA15: 13.15 | AB15: 7 | AC15: 14.15 | AD15: 6 | AE15: 10 | AJ15: 6 | AK15: 10 | AL15: 13 | AM15: 20.15 | AN15: 7 | AO15: 13.15 | AP15: 7 | AQ15: 13.15 | AX15: 13 | AY15: 20.15 | BB15: 7 | BC15: 17 | BF15: 6 | BG15: 13.15 | BH15: 7 | BI15: 14.15 | BJ15: 7 | BK15: 14.15 | BN15: 7 | BO15: 13.15 | BP15: 6 | BQ15: 10 | BR15: 7 | BS15: 13.15 | BT15: 15 | BU15: 22.15 | BZ15: 7 | CA15: 14.15
A16: Educ 5 | B16: =(C15-B15)-0.15 -> 6 | D16: =(E15-D15) -> 4 | F16: =(G15-F15)-0.15 -> 6 | H16: =(I15-H15)-0.15 -> 7 | N16: =(O15-N15)-0.15 -> 7 | P16: =SUM(B16:O16) -> 30 | R16: =(S15-R15)-0.15 -> 7 | V16: =(W15-V15) -> 4 | W16: 3 | X16: =(Y15-X15)-0.15 -> 7 | Z16: =(AA15-Z15)-0.15 -> 6 | AB16: =(AC15-AB15)-0.15 -> 7 | AD16: =(AE15-AD15) -> 4 | AF16: =SUM(R16:AE16) -> 38 | AJ16: =(AK15-AJ15) -> 4 | AL16: =(AM15-AL15)-0.15 -> 7 | AN16: =(AO15-AN15)-0.15 -> 6 | AP16: =(AQ15-AP15)-0.15 -> 6 | AV16: =SUM(AH16:AU16) -> 23 | AX16: =(AY15-AX15)-0.15 -> 7 | BB16: =(BC15-BB15)-0.15 -> 9.85 | BF16: =(BG15-BF15)-0.15 -> 7 | BH16: =(BI15-BH15)-0.15 -> 7 | BJ16: =(BK15-BJ15)-0.15 -> 7 | BL16: =SUM(AX16:BK16) -> 37.85 | BN16: =(BO15-BN15)-0.15 -> 6 | BP16: =(BQ15-BP15) -> 4 | BR16: =(BS15-BR15)-0.15 -> 6 | BT16: =(BU15-BT15)-0.15 -> 7 | BZ16: =(CA15-BZ15)-0.15 -> 7 | CB16: =SUM(BN16:CA16) -> 30 | CD16: =SUM(BL16+AV16+AF16)+F16+H16+J16+L16+N16+BN16+BP16+BR16+BT16 -> 141.85
A17: BOLEN Yves (27h/sem) | B17: 13 | C17: 20.15 | D17: 13 | E17: 20.15 | F17: 6 | G17: 10 | J17: 6 | K17: 13.15 | R17: 7 | S17: 13.15 | V17: 14 | W17: 17 | X17: 15 | Y17: 22.15 | Z17: 14 | AA17: 21.15 | AB17: 15 | AC17: 22.15 | AD17: 15 | AE17: 22.15 | AH17: 13 | AI17: 20.15 | AJ17: 7 | AK17: 13.15 | AN17: 6 | AO17: 10 | AP17: 6 | AQ17: 10 | AX17: 7 | AY17: 14.15 | AZ17: 14 | BA17: 21.15 | BD17: 6 | BE17: 10 | BF17: 7 | BG17: 14.15 | BJ17: 6 | BK17: 10 | BN17: 13 | BO17: 20.15 | BP17: 13 | BQ17: 20.15 | BR17: 6 | BS17: 10 | BV17: 6 | BW17: 13.15
A18: Educ 6 | B18: =(C17-B17)-0.15 -> 7 | D18: =(E17-D17)-0.15 -> 7 | F18: =(G17-F17) -> 4 | J18: =(K17-J17)-0.15 -> 7 | P18: =SUM(B18:O18) -> 25 | R18: =(S17-R17)-0.15 -> 6 | V18: =SUM(W17-V17) -> 3 | X18: =(Y17-X17)-0.15 -> 7 | Z18: =(AA17-Z17)-0.15 -> 7 | AB18: =(AC17-AB17)-0.15 -> 7 | AD18: =(AE17-AD17)-0.15 -> 7 | AF18: =SUM(R18:AE18) -> 37 | AH18: =(AI17-AH17)-0.15 -> 7 | AJ18: =(AK17-AJ17)-0.15 -> 6 | AN18: =(AO17-AN17) -> 4 | AP18: =(AQ17-AP17) -> 4 | AV18: =SUM(AH18:AU18) -> 21 | AX18: =(AY17-AX17)-0.15 -> 7 | AZ18: =(BA17-AZ17)-0.15 -> 7 | BD18: =(BE17-BD17) -> 4 | BF18: =(BG17-BF17)-0.15 -> 7 | BJ18: =(BK17-BJ17) -> 4 | BL18: =SUM(AX18:BK18) -> 29 | BN18: =(BO17-BN17)-0.15 -> 7 | BP18: =(BQ17-BP17)-0.15 -> 7 | BR18: =(BS17-BR17) -> 4 | BV18: =(BW17-BV17)-0.15 -> 7 | CB18: =SUM(BN18:CA18) -> 25 | CD18: =SUM(BL18+AV18+AF18)+F18+H18+J18+L18+N18+BN18+BP18+BR18+BT18 -> 116
A19: GLINEUR Audrey | B19: 6 | C19: 13.15 | D19: 7 | E19: 13.15 | F19: Férié | H19: 14 | I19: 21.15 | J19: 15 | K19: 22.15 | R19: 8 | S19: 19.2 | T19: 6 | U19: 13.15 | V19: 14 | W19: 17 | AB19: 7 | AC19: 13.15 | AD19: 7 | AE19: 14.15 | AH19: 7 | AI19: 17.15 | AL19: 6 | AM19: 10 | AN19: 8 | AO19: 19.2 | AP19: 8 | AQ19: 19.2 | AX19: 8 | AY19: 19.2 | BB19: 13 | BC19: 20.15 | BD19: 7 | BE19: 14.15 | BJ19: 8 | BK19: 19.2 | BN19: 6 | BO19: 13.15 | BP19: 7 | BQ19: 13.15 | BT19: 14 | BU19: 21.15 | BV19: 15 | BW19: 22.15
A20: Educ 7 | B20: =(C19-B19)-0.15 -> 7 | D20: =(E19-D19)-0.15 -> 6 | F20: 7.6 | H20: =(I19-H19)-0.15 -> 7 | J20: =(K19-J19)-0.15 -> 7 | P20: =SUM(B20:O20) -> 34.6 | R20: =(S19-R19)-0.2 -> 11 | T20: =(U19-T19)-0.15 -> 7 | V20: =SUM(W19-V19) -> 3 | AB20: =(AC19-AB19)-0.15 -> 6 | AD20: =(AE19-AD19)-0.15 -> 7 | AF20: =SUM(R20:AE20) -> 34 | AH20: =(AI19-AH19)-0.15 -> 10 | AL20: =(AM19-AL19) -> 4 | AN20: =(AO19-AN19)-0.2 -> 11 | AP20: =(AQ19-AP19)-0.2 -> 11 | AV20: =SUM(AH20:AU20) -> 36 | AX20: =(AY19-AX19)-0.2 -> 11 | BB20: =(BC19-BB19)-0.15 -> 7 | BD20: =(BE19-BD19)-0.15 -> 7 | BJ20: =(BK19-BJ19)-0.2 -> 11 | BL20: =SUM(AX20:BK20) -> 36 | BN20: =(BO19-BN19)-0.15 -> 7 | BP20: =(BQ19-BP19)-0.15 -> 6 | BT20: =(BU19-BT19)-0.15 -> 7 | BV20: =(BW19-BV19)-0.15 -> 7 | CB20: =SUM(BN20:CA20) -> 27 | CD20: =SUM(BL20+AV20+AF20)+F20+H20+J20+L20+N20+BN20+BP20+BR20+BT20 -> 147.6
A21: GODAUX Viorica | B21: 7 | C21: 14.15 | F21: 13 | G21: 20.15 | H21: 7 | I21: 14.15 | J21: 7 | K21: 14.15 | L21: 6 | M21: 10 | N21: 6 | O21: 10 | R21: 7 | S21: 14.15 | T21: 6 | U21: 10 | V21: 7 | W21: 17.15 | X21: 6 | Y21: 10 | Z21: 7 | AA21: 14.15 | AB21: Férié | AH21: 6 | AI21: 13.15 | AJ21: 13 | AK21: 20.15 | AL21: 14 | AM21: 21.15 | AP21: 6 | AQ21: 13.15 | AR21: 15 | AS21: 22.15 | AX21: 7 | AY21: 14.15 | AZ21: 7 | BA21: 14.15 | BB21: 7 | BC21: 17.15 | BD21: 6 | BE21: 13.15 | BF21: 14 | BG21: 21.15 | BN21: 7 | BO21: 14.15 | BR21: 13 | BS21: 20.15 | BT21: 7 | BU21: 14.15 | BV21: 7 | BW21: 14.15 | BX21: 6 | BY21: 10 | BZ21: 6 | CA21: 10
A22: Educ 8 | B22: =(C21-B21)-0.15 -> 7 | F22: =(G21-F21)-0.15 -> 7 | H22: =(I21-H21)-0.15 -> 7 | J22: =(K21-J21)-0.15 -> 7 | L22: =(M21-L21) -> 4 | N22: =(O21-N21) -> 4 | P22: =SUM(B22:O22) -> 36 | R22: =(S21-R21)-0.15 -> 7 | T22: =(U21-T21) -> 4 | V22: =(W21-V21)-0.15 -> 10 | X22: =(Y21-X21) -> 4 | Z22: =(AA21-Z21)-0.15 -> 7 | AB22: 7.6 | AF22: =SUM(R22:AE22) -> 39.6 | AH22: =(AI21-AH21)-0.15 -> 7 | AJ22: =(AK21-AJ21)-0.15 -> 7 | AL22: =(AM21-AL21)-0.15 -> 7 | AP22: =(AQ21-AP21)-0.15 -> 7 | AR22: =(AS21-AR21)-0.15 -> 7 | AV22: =SUM(AH22:AU22) -> 35 | AX22: =(AY21-AX21)-0.15 -> 7 | AZ22: =(BA21-AZ21)-0.15 -> 7 | BB22: =(BC21-BB21)-0.15 -> 10 | BD22: =(BE21-BD21)-0.15 -> 7 | BF22: =(BG21-BF21)-0.15 -> 7 | BL22: =SUM(AX22:BK22) -> 38 | BN22: =(BO21-BN21)-0.15 -> 7 | BR22: =(BS21-BR21)-0.15 -> 7 | BT22: =(BU21-BT21)-0.15 -> 7 | BV22: =(BW21-BV21)-0.15 -> 7 | BX22: =(BY21-BX21) -> 4 | BZ22: =(CA21-BZ21) -> 4 | CB22: =SUM(BN22:CA22) -> 36 | CD22: =SUM(BL22+AV22+AF22)+F22+H22+J22+L22+N22+BN22+BP22+BR22+BT22 -> 162.6
A23: SPELEERS Justine | B23: 6 | C23: 10 | D23: 7 | E23: 14.15 | F23: 7 | G23: 14.15 | H23: 6 | I23: 13.15 | J23: 14 | K23: 21.15 | R23: 7 | S23: 14.15 | T23: 14 | U23: 21.15 | V23: 13 | W23: 20.15 | X23: 13 | Y23: 20.15 | Z23: 15 | AA23: 22.15 | AB23: Férié | AJ23: 14 | AK23: 21.15 | AL23: 15 | AM23: 22.15 | AN23: 15 | AO23: 22.15 | AR23: 13 | AS23: 20.15 | AT23: 6 | AU23: 10 | AZ23: 15 | BA23: 22.15 | BB23: 14 | BC23: 17 | BD23: 13 | BE23: 20.15 | BF23: 7 | BG23: 14.15 | BH23: 6 | BI23: 10 | BN23: 6 | BO23: 10 | BP23: 7 | BQ23: 14.15 | BR23: 7 | BS23: 14.15 | BT23: 6 | BU23: 13.15 | BV23: 14 | BW23: 21.15
A24: Educ 9 | B24: =(C23-B23) -> 4 | D24: =(E23-D23)-0.15 -> 7 | F24: =(G23-F23)-0.15 -> 7 | H24: =(I23-H23)-0.15 -> 7 | J24: =(K23-J23)-0.15 -> 7 | P24: =SUM(B24:O24) -> 32 | R24: =(S23-R23)-0.15 -> 7 | T24: =(U23-T23)-0.15 -> 7 | V24: =(W23-V23)-0.15 -> 7 | X24: =(Y23-X23)-0.15 -> 7 | Z24: =(AA23-Z23)-0.15 -> 7 | AB24: 7.6 | AF24: =SUM(R24:AE24) -> 42.6 | AJ24: =(AK23-AJ23)-0.15 -> 7 | AL24: =(AM23-AL23)-0.15 -> 7 | AN24: =(AO23-AN23)-0.15 -> 7 | AR24: =(AS23-AR23)-0.15 -> 7 | AT24: =(AU23-AT23) -> 4 | AV24: =SUM(AH24:AU24) -> 32 | AZ24: =(BA23-AZ23)-0.15 -> 7 | BB24: =SUM(BC23-BB23) -> 3 | BD24: =(BE23-BD23)-0.15 -> 7 | BF24: =(BG23-BF23)-0.15 -> 7 | BH24: =(BI23-BH23) -> 4 | BL24: =SUM(AX24:BK24) -> 28 | BN24: =(BO23-BN23) -> 4 | BP24: =(BQ23-BP23)-0.15 -> 7 | BR24: =(BS23-BR23)-0.15 -> 7 | BT24: =(BU23-BT23)-0.15 -> 7 | BV24: =(BW23-BV23)-0.15 -> 7 | CB24: =SUM(BN24:CA24) -> 32 | CD24: =SUM(BL24+AV24+AF24)+F24+H24+J24+L24+N24+BN24+BP24+BR24+BT24 -> 148.6
A25: MOREELS Kevin | B25: 8 | C25: 19.2 | D25: 14 | E25: 21.15 | F25: Férié | J25: 7 | K25: 14.15 | L25: 8 | M25: 19.2 | T25: 7 | U25: 14.15 | V25: 8 | W25: 19.2 | X25: 6 | Y25: 13.15 | Z25: 6 | AA25: 13.15 | AB25: Férié | AH25: 6 | AI25: 10 | AN25: 6 | AO25: 13.15 | AP25: 7 | AQ25: 14.15 | AR25: 8 | AS25: 19.2 | AT25: 15 | AU25: 22.15 | AZ25: 8 | BA25: 19.2 | BB25: 7 | BC25: 17 | BF25: 8 | BG25: 19.2 | BN25: 8 | BO25: 19.2 | BP25: 14 | BQ25: 21.15 | BV25: 7 | BW25: 14.15 | BX25: 8 | BY25: 19.2
A26: Educ 10 | B26: =(C25-B25)-0.2 -> 11 | D26: =(E25-D25)-0.15 -> 7 | F26: 7.6 | J26: =(K25-J25)-0.15 -> 7 | L26: =(M25-L25)-0.2 -> 11 | P26: =SUM(B26:O26) -> 43.6 | T26: =(U25-T25)-0.15 -> 7 | V26: =(W25-V25)-0.2 -> 11 | X26: =(Y25-X25)-0.15 -> 7 | Z26: =(AA25-Z25)-0.15 -> 7 | AB26: 7.6 | AF26: =SUM(R26:AE26) -> 39.6 | AH26: =(AI25-AH25) -> 4 | AN26: =(AO25-AN25)-0.15 -> 7 | AP26: =(AQ25-AP25)-0.15 -> 7 | AR26: =(AS25-AR25)-0.2 -> 11 | AT26: =(AU25-AT25)-0.15 -> 7 | AV26: =SUM(AH26:AU26) -> 36 | AZ26: =(BA25-AZ25)-0.2 -> 11 | BB26: =(BC25-BB25)-0.15 -> 9.85 | BF26: =(BG25-BF25)-0.2 -> 11 | BL26: =SUM(AX26:BK26) -> 31.85 | BN26: =(BO25-BN25)-0.2 -> 11 | BP26: =(BQ25-BP25)-0.15 -> 7 | BV26: =(BW25-BV25)-0.15 -> 7 | BX26: =(BY25-BX25)-0.2 -> 11 | CB26: =SUM(BN26:CA26) -> 36 | CD26: =SUM(BL26+AV26+AF26)+F26+H26+J26+L26+N26+BN26+BP26+BR26+BT26 -> 151.05
A27: MARCHESE Gaelle | F27: Férié | H27: 13 | I27: 20.15 | J27: 8 | K27: 19.2 | V27: 14 | W27: 17 | Z27: 8 | AA27: 19.2 | AB27: 8 | AC27: 19.2 | AD27: 6 | AE27: 13.15 | AH27: 7 | AI27: 14.15 | AJ27: 8 | AK27: 19.2 | AL27: 6 | AM27: 13.15 | AP27: 14 | AQ27: 21.15 | AX27: 6 | AY27: 10 | BB27: 8 | BC27: 19.2 | BD27: 7 | BE27: 14.15 | BH27: 15 | BI27: 22.15 | BJ27: 15 | BK27: 22.15 | BT27: 13 | BU27: 20.15 | BV27: 8 | BW27: 19.2
A28: Educ 11 | F28: 7.6 | H28: =(I27-H27)-0.15 -> 7 | J28: =(K27-J27)-0.2 -> 11 | P28: =SUM(B28:O28) -> 25.6 | V28: =SUM(W27-V27) -> 3 | Z28: =(AA27-Z27)-0.2 -> 11 | AB28: =(AC27-AB27)-0.2 -> 11 | AD28: =(AE27-AD27)-0.15 -> 7 | AF28: =SUM(R28:AE28) -> 32 | AH28: =(AI27-AH27)-0.15 -> 7 | AJ28: =(AK27-AJ27)-0.2 -> 11 | AL28: =(AM27-AL27)-0.15 -> 7 | AP28: =(AQ27-AP27)-0.15 -> 7 | AV28: =SUM(AH28:AU28) -> 32 | AX28: =(AY27-AX27) -> 4 | BB28: =(BC27-BB27)-0.2 -> 11 | BD28: =(BE27-BD27)-0.15 -> 7 | BH28: =(BI27-BH27)-0.15 -> 7 | BJ28: =(BK27-BJ27)-0.15 -> 7 | BL28: =SUM(AX28:BK28) -> 36 | BT28: =(BU27-BT27)-0.15 -> 7 | BV28: =(BW27-BV27)-0.2 -> 11 | CB28: =SUM(BN28:CA28) -> 18 | CD28: =SUM(BL28+AV28+AF28)+F28+H28+J28+L28+N28+BN28+BP28+BR28+BT28 -> 132.6
A29: MOULART Marine | D29: 6 | E29: 13.15 | F29: 8 | G29: 19.2 | H29: 7 | I29: 14.15 | L29: 15 | M29: 22.15 | N29: 15 | O29: 22.15 | R29: 15 | S29: 22.15 | T29: 13 | U29: 20.15 | V29: 7 | W29: 17 | AB29: 6 | AC29: 10 | AD29: 13 | AE29: 20.15 | AH29: 15 | AI29: 22.15 | AN29: 13 | AO29: 20.15 | AP29: 7 | AQ29: 14.15 | AR29: 6 | AS29: 10 | AZ29: 7 | BA29: 14.15 | BB29: 14 | BC29: 21.15 | BD29: 14 | BE29: 21.15 | BF29: 15 | BG29: 22.15 | BP29: 6 | BQ29: 13.15 | BR29: 8 | BS29: 19.2 | BT29: 7 | BU29: 14.15 | BX29: 15 | BY29: 22.15 | BZ29: 15 | CA29: 22.15
A30: Educ 12 | D30: =(E29-D29)-0.15 -> 7 | F30: =(G29-F29)-0.2 -> 11 | H30: =(I29-H29)-0.15 -> 7 | L30: =(M29-L29)-0.15 -> 7 | N30: =(O29-N29)-0.15 -> 7 | P30: =SUM(B30:O30) -> 39 | R30: =(S29-R29)-0.15 -> 7 | T30: =(U29-T29)-0.15 -> 7 | V30: =(W29-V29)-0.15 -> 9.85 | AB30: =(AC29-AB29) -> 4 | AD30: =(AE29-AD29)-0.15 -> 7 | AF30: =SUM(R30:AE30) -> 34.85 | AH30: =(AI29-AH29)-0.15 -> 7 | AN30: =(AO29-AN29)-0.15 -> 7 | AP30: =(AQ29-AP29)-0.15 -> 7 | AR30: =(AS29-AR29) -> 4 | AV30: =SUM(AH30:AU30) -> 25 | AZ30: =(BA29-AZ29)-0.15 -> 7 | BB30: =(BC29-BB29)-0.15 -> 7 | BD30: =(BE29-BD29)-0.15 -> 7 | BF30: =(BG29-BF29)-0.15 -> 7 | BL30: =SUM(AX30:BK30) -> 28 | BP30: =(BQ29-BP29)-0.15 -> 7 | BR30: =(BS29-BR29)-0.2 -> 11 | BT30: =(BU29-BT29)-0.15 -> 7 | BX30: =(BY29-BX29)-0.15 -> 7 | BZ30: =(CA29-BZ29)-0.15 -> 7 | CB30: =SUM(BN30:CA30) -> 39 | CD30: =SUM(BL30+AV30+AF30)+F30+H30+J30+L30+N30+BN30+BP30+BR30+BT30 -> 144.85
A31: MONCOUSIN Quentin | B31: 7 | C31: 14.15 | F31: 15 | G31: 22.15 | J31: 7 | K31: 13.15 | L31: 13 | M31: 20.15 | R31: 13 | S31: 20.15 | T31: 15 | U31: 22.15 | V31: 14 | W31: 17 | X31: 7 | Y31: 14.15 | Z31: 7 | AA31: 14.15 | AB31: Férié | AH31: 7 | AI31: 14.15 | AL31: 7 | AM31: 14.15 | AP31: 13 | AQ31: 20.15 | AR31: 7 | AS31: 14.15 | AT31: 13 | AU31: 20.15 | AZ31: 6 | BA31: 13.15 | BB31: 6 | BC31: 17 | BD31: 7 | BE31: 13.15 | BF31: 13 | BG31: 20.15 | BH31: 13 | BI31: 20.15 | BN31: 7 | BO31: 14.15 | BR31: 15 | BS31: 22.15 | BV31: 7 | BW31: 13.15 | BX31: 13 | BY31: 20.15
A32: Educ 13 | B32: =(C31-B31)-0.15 -> 7 | F32: =(G31-F31)-0.15 -> 7 | J32: =(K31-J31)-0.15 -> 6 | L32: =(M31-L31)-0.15 -> 7 | P32: =SUM(B32:O32) -> 27 | R32: =(S31-R31)-0.15 -> 7 | T32: =(U31-T31)-0.15 -> 7 | V32: =SUM(W31-V31) -> 3 | X32: =(Y31-X31)-0.15 -> 7 | Z32: =(AA31-Z31)-0.15 -> 7 | AB32: 7.6 | AF32: =SUM(R32:AE32) -> 38.6 | AH32: =(AI31-AH31)-0.15 -> 7 | AL32: =(AM31-AL31)-0.15 -> 7 | AP32: =(AQ31-AP31)-0.15 -> 7 | AR32: =(AS31-AR31)-0.15 -> 7 | AT32: =(AU31-AT31)-0.15 -> 7 | AV32: =SUM(AH32:AU32) -> 35 | AZ32: =(BA31-AZ31)-0.15 -> 7 | BB32: =(BC31-BB31)-0.15 -> 10.85 | BD32: =(BE31-BD31)-0.15 -> 6 | BF32: =(BG31-BF31)-0.15 -> 7 | BH32: =(BI31-BH31)-0.15 -> 7 | BL32: =SUM(AX32:BK32) -> 37.85 | BN32: =(BO31-BN31)-0.15 -> 7 | BR32: =(BS31-BR31)-0.15 -> 7 | BV32: =(BW31-BV31)-0.15 -> 6 | BX32: =(BY31-BX31)-0.15 -> 7 | CB32: =SUM(BN32:CA32) -> 27 | CD32: =SUM(BL32+AV32+AF32)+F32+H32+J32+L32+N32+BN32+BP32+BR32+BT32 -> 145.45
A33: ETUDIANTS EDUC
A34: FALCONI Fiona | L34: 7 | M34: 13.15 | N34: 7 | O34: 13.15 | AB34: 6 | AC34: 13.15 | AD34: 6 | AE34: 13.15 | AR34: 14 | AS34: 21.15 | AT34: 14 | AU34: 21.15 | BH34: 14 | BI34: 21.15 | BJ34: 14 | BK34: 21.15 | BX34: 7 | BY34: 13.15 | BZ34: 7 | CA34: 13.15
A35: Etudiant 1 | L35: =(M34-L34)-0.15 -> 6 | N35: =(O34-N34)-0.15 -> 6 | P35: =SUM(B35:O35) -> 12 | AB35: =(AC34-AB34)-0.15 -> 7 | AD35: =(AE34-AD34)-0.15 -> 7 | AF35: =SUM(R35:AE35) -> 14 | AR35: =(AS34-AR34)-0.15 -> 7 | AT35: =(AU34-AT34)-0.15 -> 7 | AV35: =SUM(AH35:AU35) -> 14 | BH35: =(BI34-BH34)-0.15 -> 7 | BJ35: =(BK34-BJ34)-0.15 -> 7 | BL35: =SUM(AX35:BK35) -> 14 | BX35: =(BY34-BX34)-0.15 -> 6 | BZ35: =(CA34-BZ34)-0.15 -> 6 | CB35: =SUM(BN35:CA35) -> 12 | CD35: =SUM(BL35+AV35+AF35)+F35+H35+J35+L35+N35+BN35+BP35+BR35+BT35 -> 54
L36: 14 | M36: 21.15 | N36: 14 | O36: 21.15 | AB36: 7 | AC36: 14.15 | AD36: 7 | AE36: 14.15 | AR36: 6 | AS36: 13.15 | AT36: 6 | AU36: 13.15 | BH36: 6 | BI36: 13.15 | BJ36: 6 | BK36: 13.15 | BX36: 14 | BY36: 21.15 | BZ36: 14 | CA36: 21.15
A37: Etudiant 2 | L37: =(M36-L36)-0.15 -> 7 | N37: =(O36-N36)-0.15 -> 7 | P37: =SUM(B37:O37) -> 14 | AB37: =(AC36-AB36)-0.15 -> 7 | AD37: =(AE36-AD36)-0.15 -> 7 | AF37: =SUM(R37:AE37) -> 14 | AR37: =(AS36-AR36)-0.15 -> 7 | AT37: =(AU36-AT36)-0.15 -> 7 | AV37: =SUM(AH37:AU37) -> 14 | BH37: =(BI36-BH36)-0.15 -> 7 | BJ37: =(BK36-BJ36)-0.15 -> 7 | BL37: =SUM(AX37:BK37) -> 14 | BX37: =(BY36-BX36)-0.15 -> 7 | BZ37: =(CA36-BZ36)-0.15 -> 7 | CB37: =SUM(BN37:CA37) -> 14 | CD37: =SUM(BL37+AV37+AF37)+F37+H37+J37+L37+N37+BN37+BP37+BR37+BT37 -> 56
A38: EL HANKOURI Oimaya | L38: 6 | M38: 13.15 | N38: 6 | O38: 13.15 | AB38: 14 | AC38: 21.15 | AD38: 14 | AE38: 21.15 | AR38: 7 | AS38: 14.15 | AT38: 7 | AU38: 13.15 | BH38: 7 | BI38: 14.15 | BJ38: 7 | BK38: 13.05 | BX38: 6 | BY38: 13.15 | BZ38: 6 | CA38: 13.15
A39: Etudiant 3 | L39: =(M38-L38)-0.15 -> 7 | N39: =(O38-N38)-0.15 -> 7 | P39: =SUM(B39:O39) -> 14 | AB39: =(AC38-AB38)-0.15 -> 7 | AD39: =(AE38-AD38)-0.15 -> 7 | AF39: =SUM(R39:AE39) -> 14 | AR39: =(AS38-AR38)-0.15 -> 7 | AT39: =(AU38-AT38)-0.15 -> 6 | AV39: =SUM(AH39:AU39) -> 13 | BH39: =(BI38-BH38)-0.15 -> 7 | BJ39: =(BK38-BJ38)-0.15 -> 5.9 | BL39: =SUM(AX39:BK39) -> 12.9 | BX39: =(BY38-BX38)-0.15 -> 7 | BZ39: =(CA38-BZ38)-0.15 -> 7 | CB39: =SUM(BN39:CA39) -> 14 | CD39: =SUM(BL39+AV39+AF39)+F39+H39+J39+L39+N39+BN39+BP39+BR39+BT39 -> 53.9
A40: MEDICAL / PARAMEDICAL
A41: TOUZAYNI Naïma | B41: 7 | C41: 14.36 | D41: 7 | E41: 14.36 | F41: 7 | G41: 14.36 | H41: 7 | I41: 14.36 | J41: 7 | K41: 14.36 | L41: - | M41: - | N41: - | O41: - | R41: 7 | S41: 14.36 | T41: - | U41: - | V41: 7 | W41: 14.36 | X41: 7 | Y41: 14.36 | Z41: - | AA41: - | AB41: 7 | AC41: 14.36 | AD41: 7 | AE41: 14.36 | AH41: 7 | AI41: 14.36 | AJ41: 7 | AK41: 14.36 | AL41: 7 | AM41: 14.36 | AN41: 7 | AO41: 14.36 | AP41: 7 | AQ41: 14.36 | AR41: - | AS41: - | AT41: - | AU41: - | AX41: 7 | AY41: 14.36 | AZ41: - | BA41: - | BB41: 7 | BC41: 14.36 | BD41: 7 | BE41: 14.36 | BF41: - | BG41: - | BH41: 7 | BI41: 14.36 | BJ41: 7 | BK41: 14.36 | BN41: 7 | BO41: 14.36 | BP41: 7 | BQ41: 14.36 | BR41: 7 | BS41: 14.36 | BT41: 7 | BU41: 14.36 | BV41: 7 | BW41: 14.36 | BX41: - | BY41: - | BZ41: - | CA41: -
A42: Infirmière | B42: =(C41-B41) -> 7.36 | D42: =(E41-D41) -> 7.36 | F42: =(G41-F41) -> 7.36 | H42: =(I41-H41) -> 7.36 | J42: =(K41-J41) -> 7.36 | P42: =SUM(B42:O42) -> 36.8 | R42: =(S41-R41) -> 7.36 | V42: =(W41-V41) -> 7.36 | X42: =(Y41-X41) -> 7.36 | AB42: =(AC41-AB41) -> 7.36 | AD42: =(AE41-AD41) -> 7.36 | AF42: =SUM(R42:AE42) -> 36.8 | AH42: =(AI41-AH41) -> 7.36 | AJ42: =(AK41-AJ41) -> 7.36 | AL42: =(AM41-AL41) -> 7.36 | AN42: =(AO41-AN41) -> 7.36 | AP42: =(AQ41-AP41) -> 7.36 | AV42: =SUM(AH42:AU42) -> 36.8 | AX42: =(AY41-AX41) -> 7.36 | BB42: =(BC41-BB41) -> 7.36 | BD42: =(BE41-BD41) -> 7.36 | BH42: =(BI41-BH41) -> 7.36 | BJ42: =(BK41-BJ41) -> 7.36 | BL42: =SUM(AX42:BK42) -> 36.8 | BN42: =(BO41-BN41) -> 7.36 | BP42: =(BQ41-BP41) -> 7.36 | BR42: =(BS41-BR41) -> 7.36 | BT42: =(BU41-BT41) -> 7.36 | BV42: =(BW41-BV41) -> 7.36 | CB42: =SUM(BN42:CA42) -> 36.8 | CD42: =SUM(BL42+AV42+AF42)+F42+H42+J42+L42+N42+BN42+BP42+BR42+BT42 -> 161.92
A43: BIONDO Maria | B43: 7 | C43: 14.36 | D43: 7 | E43: 14.36 | F43: 7 | G43: 14.36 | L43: 7 | M43: 14.36 | N43: 7 | O43: 14.36 | R43: - | S43: - | T43: 7 | U43: 14.36 | V43: - | W43: - | X43: - | Y43: - | Z43: 7 | AA43: 14.36 | AB43: Férié | AD43: - | AE43: - | AH43: - | AI43: - | AJ43: - | AK43: - | AL43: - | AM43: - | AN43: - | AO43: - | AP43: - | AQ43: - | AR43: - | AS43: - | AT43: - | AU43: - | AX43: 7 | AY43: 14.36 | AZ43: - | BA43: - | BB43: 7 | BC43: 14.36 | BD43: 7 | BE43: 14.36 | BF43: - | BG43: - | BH43: 7 | BI43: 14.36 | BJ43: 7 | BK43: 14.36 | BN43: 7 | BO43: 14.36 | BP43: 7 | BQ43: 14.36 | BR43: 7 | BS43: 14.36 | BX43: 7 | BY43: 14.36 | BZ43: 7 | CA43: 14.36
A44: Infirmière | B44: =(C43-B43) -> 7.36 | D44: =(E43-D43) -> 7.36 | F44: =(G43-F43) -> 7.36 | L44: =(M43-L43) -> 7.36 | N44: =(O43-N43) -> 7.36 | P44: =SUM(B44:O44) -> 36.8 | T44: =(U43-T43) -> 7.36 | Z44: =(AA43-Z43) -> 7.36 | AB44: 7.6 | AF44: =SUM(R44:AE44) -> 22.32 | AV44: =SUM(AH44:AU44) -> 0 | AX44: =(AY43-AX43) -> 7.36 | BB44: =(BC43-BB43) -> 7.36 | BD44: =(BE43-BD43) -> 7.36 | BH44: =(BI43-BH43) -> 7.36 | BJ44: =(BK43-BJ43) -> 7.36 | BL44: =SUM(AX44:BK44) -> 36.8 | BN44: =(BO43-BN43) -> 7.36 | BP44: =(BQ43-BP43) -> 7.36 | BR44: =(BS43-BR43) -> 7.36 | BX44: =(BY43-BX43) -> 7.36 | BZ44: =(CA43-BZ43) -> 7.36 | CB44: =SUM(BN44:CA44) -> 36.8 | CD44: =SUM(BL44+AV44+AF44)+F44+H44+J44+L44+N44+BN44+BP44+BR44+BT44 -> 103.28
A45: PIANINI Déborah | B45: 8.3 | C45: 16.3 | D45: 8.3 | E45: 16.3 | F45: 8.3 | G45: 16.3 | H45: 8.3 | I45: 16.3 | J45: 8.3 | K45: 16.3 | L45: - | M45: - | N45: - | O45: - | R45: 8.3 | S45: 16.3 | T45: 8.3 | U45: 16.3 | V45: 8.3 | W45: 16.3 | X45: 8.3 | Y45: 16.3 | Z45: 8.3 | AA45: 16.3 | AB45: - | AC45: - | AD45: - | AE45: - | AH45: 8.3 | AI45: 16.3 | AJ45: 8.3 | AK45: 16.3 | AL45: 8.3 | AM45: 16.3 | AN45: 8.3 | AO45: 16.3 | AP45: 8.3 | AQ45: 16.3 | AR45: - | AS45: - | AT45: - | AU45: - | AX45: 8.3 | AY45: 16.3 | AZ45: 8.3 | BA45: 16.3 | BB45: 8.3 | BC45: 16.3 | BD45: 8.3 | BE45: 16.3 | BF45: 8.3 | BG45: 16.3 | BH45: - | BI45: - | BJ45: - | BK45: - | BN45: 8.3 | BO45: 16.3 | BP45: 8.3 | BQ45: 16.3 | BR45: 8.3 | BS45: 16.3 | BT45: 8.3 | BU45: 16.3 | BV45: 8.3 | BW45: 16.3 | BX45: - | BY45: - | BZ45: - | CA45: -
A46: Ergothérapeute | B46: =(C45-B45)-0.5 -> 7.5 | D46: =(E45-D45)-0.5 -> 7.5 | F46: =(G45-F45)-0.5 -> 7.5 | H46: =(I45-H45)-0.5 -> 7.5 | J46: =(K45-J45)-0.5 -> 7.5 | P46: =SUM(B46:O46) -> 37.5 | R46: =(S45-R45)-0.5 -> 7.5 | T46: =(U45-T45)-0.5 -> 7.5 | V46: =(W45-V45)-0.5 -> 7.5 | X46: =(Y45-X45)-0.5 -> 7.5 | Z46: =(AA45-Z45)-0.5 -> 7.5 | AF46: =SUM(R46:AE46) -> 37.5 | AH46: =(AI45-AH45)-0.5 -> 7.5 | AJ46: =(AK45-AJ45)-0.5 -> 7.5 | AL46: =(AM45-AL45)-0.5 -> 7.5 | AN46: =(AO45-AN45)-0.5 -> 7.5 | AP46: =(AQ45-AP45)-0.5 -> 7.5 | AV46: =SUM(AH46:AU46) -> 37.5 | AX46: =(AY45-AX45)-0.5 -> 7.5 | AZ46: =(BA45-AZ45)-0.5 -> 7.5 | BB46: =(BC45-BB45)-0.5 -> 7.5 | BD46: =(BE45-BD45)-0.5 -> 7.5 | BF46: =(BG45-BF45)-0.5 -> 7.5 | BL46: =SUM(AX46:BK46) -> 37.5 | BN46: =(BO45-BN45)-0.5 -> 7.5 | BP46: =(BQ45-BP45)-0.5 -> 7.5 | BR46: =(BS45-BR45)-0.5 -> 7.5 | BT46: =(BU45-BT45)-0.5 -> 7.5 | BV46: =(BW45-BV45)-0.5 -> 7.5 | CB46: =SUM(BN46:CA46) -> 37.5 | CD46: =SUM(BL46+AV46+AF46)+F46+H46+J46+L46+N46+BN46+BP46+BR46+BT46 -> 165
A47: NUIT
A48: ARNOULD Brieux | B48: 21 | C48: 7 | D48: 21 | E48: 7 | F48: Férié | V48: 21 | W48: 7 | X48: 21 | Y48: 7 | Z48: 21 | AA48: 7 | AB48: 21 | AC48: 7 | AD48: 21 | AE48: 7 | AH48: 21 | AI48: 7 | AJ48: 21 | AK48: 7 | BB48: 21 | BC48: 7 | BD48: 21 | BE48: 7 | BF48: 21 | BG48: 7 | BH48: 21 | BI48: 7 | BJ48: 21 | BK48: 7 | BN48: 21 | BO48: 7 | BP48: 21 | BQ48: 7
A49: Veilleur 1 | C49: =(C48-0)+(24-B48) -> 10 | E49: =(E48-0)+(24-D48) -> 10 | G49: 10 | P49: =SUM(B49:O49) -> 30 | W49: =(W48-0)+(24-V48) -> 10 | Y49: =(Y48-0)+(24-X48) -> 10 | AA49: =(AA48-0)+(24-Z48) -> 10 | AC49: =(AC48-0)+(24-AB48) -> 10 | AE49: =(AE48-0)+(24-AD48) -> 10 | AF49: =SUM(R49:AE49) -> 50 | AI49: =(AI48-0)+(24-AH48) -> 10 | AK49: =(AK48-0)+(24-AJ48) -> 10 | AV49: =SUM(AH49:AU49) -> 20 | BC49: =(BC48-0)+(24-BB48) -> 10 | BE49: =(BE48-0)+(24-BD48) -> 10 | BG49: =(BG48-0)+(24-BF48) -> 10 | BI49: =(BI48-0)+(24-BH48) -> 10 | BK49: 10 | BL49: =SUM(AX49:BK49) -> 50 | BO49: =(BO48-0)+(24-BN48) -> 10 | BQ49: =(BQ48-0)+(24-BP48) -> 10 | CB49: =SUM(BN49:CA49) -> 20 | CD49: =SUM(BL49+AV49+AF49)+G49+I49+K49+M49+O49+BO49+BQ49+BS49+BU49 -> 150
A50: BEAUTRY Stéphanie | F50: Férié | J50: 0 | K50: 5 | L50: 0 | M50: 5 | N50: 0 | O50: 5 | R50: 0 | S50: 5 | T50: 0 | U50: 5 | V50: 0 | W50: 5 | X50: 0 | Y50: 5 | AB50: Férié | AP50: 0 | AQ50: 5 | AR50: 0 | AS50: 5 | AT50: 0 | AU50: 5 | AX50: 0 | AY50: 5 | AZ50: 0 | BA50: 5 | BB50: 0 | BC50: 5 | BD50: 0 | BE50: 5 | BV50: 0 | BW50: 5 | BX50: 0 | BY50: 5 | BZ50: 0 | CA50: 5
A51: Veilleur 2 | G51: 5 | K51: 5 | M51: 5 | O51: 5 | P51: =SUM(B51:O51) -> 20 | S51: 5 | U51: 5 | W51: 5 | Y51: 5 | AB51: 5 | AF51: =SUM(R51:AE51) -> 25 | AQ51: 5 | AS51: 5 | AU51: 5 | AV51: =SUM(AH51:AU51) -> 15 | AY51: 5 | BA51: 5 | BC51: 5 | BE51: 5 | BL51: =SUM(AX51:BK51) -> 20 | BW51: 5 | BY51: 5 | CA51: 5 | CB51: =SUM(BN51:CA51) -> 15 | CD51: =SUM(BL51+AV51+AF51)+G51+I51+K51+M51+O51+BO51+BQ51+BS51+BU51 -> 80
A52: LEROY Aurore | B52: 0 | C52: 5 | F52: Férié | V52: 14 | W52: 17 | Z52: 0 | AA52: 5 | AB52: 0 | AC52: 5 | AD52: 0 | AE52: 5 | AH52: 0 | AI52: 5 | AJ52: 0 | AK52: 5 | AL52: rec Férié | BB52: 14 | BC52: 17 | BF52: 0 | BG52: 5 | BH52: 0 | BI52: 5 | BJ52: 0 | BK52: 5 | BN52: 0 | BO52: 5
A53: Veilleur 3 | C53: 5 | G53: 5 | P53: =SUM(B53:O53) -> 10 | V53: =SUM(W52-V52) -> 3 | AA53: 5 | AC53: 5 | AE53: 5 | AF53: =SUM(R53:AE53) -> 18 | AI53: 5 | AK53: 5 | AL53: 5 | AV53: =SUM(AH53:AU53) -> 15 | BB53: =SUM(BC52-BB52) -> 3 | BG53: 5 | BI53: 5 | BK53: 5 | BL53: =SUM(AX53:BK53) -> 18 | BO53: 5 | CB53: =SUM(BN53:CA53) -> 5 | CD53: =SUM(BL53+AV53+AF53)+G53+I53+K53+M53+O53+BO53+BQ53+BS53+BU53 -> 61
A54: AIELLO Mélanie | F54: 21 | G54: 7 | H54: 21 | I54: 7 | J54: 21 | K54: 7 | L54: 21 | M54: 7 | N54: 21 | O54: 7 | R54: 21 | S54: 7 | T54: 21 | U54: 7 | V54: 14 | W54: 17 | AB54: Férié | AL54: 21 | AM54: 7 | AN54: 21 | AO54: 7 | AP54: 21 | AQ54: 7 | AR54: 21 | AS54: 7 | AT54: 21 | AU54: 7 | AX54: 21 | AY54: 7 | AZ54: 21 | BA54: 7 | BB54: 14 | BC54: 17 | BR54: 21 | BS54: 7 | BT54: 21 | BU54: 7 | BV54: 21 | BW54: 7 | BX54: 21 | BY54: 7 | BZ54: 21 | CA54: 7
A55: Veilleur 4 | G55: =(G54-0)+(24-F54) -> 10 | I55: =(I54-0)+(24-H54) -> 10 | K55: =(K54-0)+(24-J54) -> 10 | M55: =(M54-0)+(24-L54) -> 10 | O55: =(O54-0)+(24-N54) -> 10 | P55: =SUM(B55:O55) -> 50 | S55: =(S54-0)+(24-R54) -> 10 | U55: =(U54-0)+(24-T54) -> 10 | V55: =SUM(W54-V54) -> 3 | AB55: 10 | AF55: =SUM(R55:AE55) -> 33 | AM55: =(AM54-0)+(24-AL54) -> 10 | AO55: =(AO54-0)+(24-AN54) -> 10 | AQ55: =(AQ54-0)+(24-AP54) -> 10 | AS55: =(AS54-0)+(24-AR54) -> 10 | AU55: =(AU54-0)+(24-AT54) -> 10 | AV55: =SUM(AH55:AU55) -> 50 | AY55: =(AY54-0)+(24-AX54) -> 10 | BA55: =(BA54-0)+(24-AZ54) -> 10 | BB55: =SUM(BC54-BB54) -> 3 | BL55: =SUM(AX55:BK55) -> 23 | BS55: =(BS54-0)+(24-BR54) -> 10 | BU55: =(BU54-0)+(24-BT54) -> 10 | BW55: =(BW54-0)+(24-BV54) -> 10 | BY55: =(BY54-0)+(24-BX54) -> 10 | CA55: =(CA54-0)+(24-BZ54) -> 10 | CB55: =SUM(BN55:CA55) -> 50 | CD55: =SUM(BL55+AV55+AF55)+G55+I55+K55+M55+O55+BO55+BQ55+BS55+BU55 -> 176
A56: Ouvrier / ENTRETIEN
A57: KARKO Marie-Jeanne | B57: 8 | C57: 16.06 | D57: 8 | E57: 16.06 | F57: Férié | L57: 7 | M57: 15.06 | N57: 7 | O57: 15.06 | R57: 8 | S57: 16.06 | T57: 8 | U57: 16.06 | V57: 8 | W57: 16.06 | X57: 8 | Y57: 16.06 | Z57: 8 | AA57: 16.06 | AB57: Férié | AH57: 8 | AI57: 16.06 | AJ57: 8 | AK57: 16.06 | AL57: 8 | AM57: 16.06 | AN57: 8 | AO57: 16.06 | AP57: 8 | AQ57: 16.06 | AX57: 8 | AY57: 16.06 | AZ57: 8 | BA57: 16.06 | BB57: 8 | BC57: 16.06 | BH57: 7 | BI57: 15.06 | BJ57: 7 | BK57: 15.06 | BN57: 8 | BO57: 16.06 | BP57: 8 | BQ57: 16.06 | BX57: 7 | BY57: 15.06 | BZ57: 7 | CA57: 15.06
B58: =(C57-B57)-0.5 -> 7.56 | D58: =(E57-D57)-0.5 -> 7.56 | F58: 7.6 | L58: =(M57-L57)-0.5 -> 7.56 | N58: =(O57-N57)-0.5 -> 7.56 | P58: =SUM(B58:O58) -> 37.84 | R58: =(S57-R57)-0.5 -> 7.56 | T58: =(U57-T57)-0.5 -> 7.56 | V58: =(W57-V57)-0.5 -> 7.56 | X58: =(Y57-X57)-0.5 -> 7.56 | Z58: =(AA57-Z57)-0.5 -> 7.56 | AB58: 7.6 | AF58: =SUM(R58:AE58) -> 45.4 | AH58: =(AI57-AH57)-0.5 -> 7.56 | AJ58: =(AK57-AJ57)-0.5 -> 7.56 | AL58: =(AM57-AL57)-0.5 -> 7.56 | AN58: =(AO57-AN57)-0.5 -> 7.56 | AP58: =(AQ57-AP57)-0.5 -> 7.56 | AV58: =SUM(AH58:AU58) -> 37.8 | AX58: =(AY57-AX57)-0.5 -> 7.56 | AZ58: =(BA57-AZ57)-0.5 -> 7.56 | BB58: =(BC57-BB57)-0.5 -> 7.56 | BH58: =(BI57-BH57)-0.5 -> 7.56 | BJ58: =(BK57-BJ57)-0.5 -> 7.56 | BL58: =SUM(AX58:BK58) -> 37.8 | BN58: =(BO57-BN57)-0.5 -> 7.56 | BP58: =(BQ57-BP57)-0.5 -> 7.56 | BX58: =(BY57-BX57)-0.5 -> 7.56 | BZ58: =(CA57-BZ57)-0.5 -> 7.56 | CB58: =SUM(BN58:CA58) -> 30.24 | CD58: =SUM(BL58+AV58+AF58)+F58+H58+J58+L58+N58+BN58+BP58+BR58+BT58 -> 158.84
A59: UFITAKA YOGA Jeanne | B59: 8 | C59: 16.06 | D59: 8 | E59: 16.06 | F59: 8 | G59: 16.06 | H59: 8 | I59: 16.06 | L59: 7 | M59: 15.06 | N59: 7 | O59: 15.06 | R59: 8 | S59: 16.06 | T59: 8 | U59: 16.06 | V59: 8 | W59: 16.06 | AB59: 7 | AC59: 15.06 | AD59: 7 | AE59: 15.06 | AH59: 8 | AI59: 16.06 | AJ59: 8 | AK59: 16.06 | AL59: 8 | AM59: 16.06 | AN59: 8 | AO59: 16.06 | AP59: 8 | AQ59: 16.06 | AX59: 8 | AY59: 16.06 | AZ59: 8 | BA59: 16.06 | BB59: 8 | BC59: 16.06 | BD59: 8 | BE59: 16.06 | BF59: 8 | BG59: 16.06 | BN59: 8 | BO59: 16.06 | BP59: 8 | BQ59: 16.06 | BR59: 8 | BS59: 16.06 | BT59: 8 | BU59: 16.06 | BX59: 7 | BY59: 15.06 | BZ59: 7 | CA59: 15.06
B60: =(C59-B59)-0.5 -> 7.56 | D60: =(E59-D59)-0.5 -> 7.56 | F60: =(G59-F59)-0.5 -> 7.56 | H60: =(I59-H59)-0.5 -> 7.56 | L60: =(M59-L59)-0.5 -> 7.56 | N60: =(O59-N59)-0.5 -> 7.56 | P60: =SUM(B60:O60) -> 45.36 | R60: =(S59-R59)-0.5 -> 7.56 | T60: =(U59-T59)-0.5 -> 7.56 | V60: =(W59-V59)-0.5 -> 7.56 | AB60: =(AC59-AB59)-0.5 -> 7.56 | AD60: =(AE59-AD59)-0.5 -> 7.56 | AF60: =SUM(R60:AE60) -> 37.8 | AH60: =(AI59-AH59)-0.5 -> 7.56 | AJ60: =(AK59-AJ59)-0.5 -> 7.56 | AL60: =(AM59-AL59)-0.5 -> 7.56 | AN60: =(AO59-AN59)-0.5 -> 7.56 | AP60: =(AQ59-AP59)-0.5 -> 7.56 | AV60: =SUM(AH60:AU60) -> 37.8 | AX60: =(AY59-AX59)-0.5 -> 7.56 | AZ60: =(BA59-AZ59)-0.5 -> 7.56 | BB60: =(BC59-BB59)-0.5 -> 7.56 | BD60: =(BE59-BD59)-0.5 -> 7.56 | BF60: =(BG59-BF59)-0.5 -> 7.56 | BL60: =SUM(AX60:BK60) -> 37.8 | BN60: =(BO59-BN59)-0.5 -> 7.56 | BP60: =(BQ59-BP59)-0.5 -> 7.56 | BR60: =(BS59-BR59)-0.5 -> 7.56 | BT60: =(BU59-BT59)-0.5 -> 7.56 | BX60: =(BY59-BX59)-0.5 -> 7.56 | BZ60: =(CA59-BZ59)-0.5 -> 7.56 | CB60: =SUM(BN60:CA60) -> 45.36 | CD60: =SUM(BL60+AV60+AF60)+F60+H60+J60+L60+N60+BN60+BP60+BR60+BT60 -> 173.88
A61: BOUSHABA Houria | B61: 8 | C61: 16.06 | D61: 8 | E61: 16.06 | F61: 8 | G61: 16.06 | H61: 8 | I61: 16.06 | J61: 8 | K61: 16.06 | R61: 8 | S61: 16.06 | T61: 8 | U61: 16.06 | V61: 8 | W61: 16.06 | X61: 8 | Y61: 16.06 | Z61: 8 | AA61: 16.06 | AB61: Férié | AH61: 8 | AI61: 16.06 | AJ61: 8 | AK61: 16.06 | AL61: 8 | AM61: 16.06 | AR61: 7 | AS61: 15.06 | AT61: 7 | AU61: 15.06 | AX61: 8 | AY61: 16.06 | AZ61: 8 | BA61: 16.06 | BB61: 8 | BC61: 16.06 | BD61: 8 | BE61: 16.06 | BF61: 8 | BG61: 16.06 | BN61: 8 | BO61: 16.06 | BP61: 8 | BQ61: 16.06 | BR61: 8 | BS61: 16.06 | BT61: 8 | BU61: 16.06 | BV61: 8 | BW61: 16.06
B62: =(C61-B61)-0.5 -> 7.56 | D62: =(E61-D61)-0.5 -> 7.56 | F62: =(G61-F61)-0.5 -> 7.56 | H62: =(I61-H61)-0.5 -> 7.56 | J62: =(K61-J61)-0.5 -> 7.56 | P62: =SUM(B62:O62) -> 37.8 | R62: =(S61-R61)-0.5 -> 7.56 | T62: =(U61-T61)-0.5 -> 7.56 | V62: =(W61-V61)-0.5 -> 7.56 | X62: =(Y61-X61)-0.5 -> 7.56 | Z62: =(AA61-Z61)-0.5 -> 7.56 | AB62: 7.6 | AF62: =SUM(R62:AE62) -> 45.4 | AH62: =(AI61-AH61)-0.5 -> 7.56 | AJ62: =(AK61-AJ61)-0.5 -> 7.56 | AL62: =(AM61-AL61)-0.5 -> 7.56 | AR62: =(AS61-AR61)-0.5 -> 7.56 | AT62: =(AU61-AT61)-0.5 -> 7.56 | AV62: =SUM(AH62:AU62) -> 37.8 | AX62: =(AY61-AX61)-0.5 -> 7.56 | AZ62: =(BA61-AZ61)-0.5 -> 7.56 | BB62: =(BC61-BB61)-0.5 -> 7.56 | BD62: =(BE61-BD61)-0.5 -> 7.56 | BF62: =(BG61-BF61)-0.5 -> 7.56 | BL62: =SUM(AX62:BK62) -> 37.8 | BN62: =(BO61-BN61)-0.5 -> 7.56 | BP62: =(BQ61-BP61)-0.5 -> 7.56 | BR62: =(BS61-BR61)-0.5 -> 7.56 | BT62: =(BU61-BT61)-0.5 -> 7.56 | BV62: =(BW61-BV61)-0.5 -> 7.56 | CB62: =SUM(BN62:CA62) -> 37.8 | CD62: =SUM(BL62+AV62+AF62)+F62+H62+J62+L62+N62+BN62+BP62+BR62+BT62 -> 173.92
A63: MATHOT Didier | B63: 8 | C63: 16.3 | D63: 8 | E63: 16.3 | F63: 8 | G63: 16.3 | H63: 8 | I63: 16.3 | J63: 8 | K63: 14.3 | R63: 8 | S63: 16.3 | T63: 8 | U63: 16.3 | V63: 8 | W63: 16.3 | X63: 8 | Y63: 16.3 | Z63: 8 | AA63: 14.3 | AH63: 8 | AI63: 16.3 | AJ63: 8 | AK63: 16.3 | AL63: 8 | AM63: 16.3 | AN63: 8 | AO63: 16.3 | AP63: 8 | AQ63: 14.3 | AX63: 8 | AY63: 16.3 | AZ63: 8 | BA63: 16.3 | BB63: 8 | BC63: 16.3 | BD63: 8 | BE63: 16.3 | BF63: 8 | BG63: 14.3 | BN63: 8 | BO63: 16.3 | BP63: 8 | BQ63: 16.3 | BR63: 8 | BS63: 16.3 | BT63: 8 | BU63: 16.3 | BV63: 8 | BW63: 14.3
B64: =(C63-B63)-0.3 -> 8 | D64: =(E63-D63)-0.3 -> 8 | F64: =(G63-F63)-0.3 -> 8 | H64: =(I63-H63)-0.3 -> 8 | J64: =(K63-J63)-0.3 -> 6 | P64: =SUM(B64:O64) -> 38 | R64: =(S63-R63)-0.3 -> 8 | T64: =(U63-T63)-0.3 -> 8 | V64: =(W63-V63)-0.3 -> 8 | X64: =(Y63-X63)-0.3 -> 8 | Z64: =(AA63-Z63)-0.3 -> 6 | AF64: =SUM(R64:AE64) -> 38 | AH64: =(AI63-AH63)-0.3 -> 8 | AJ64: =(AK63-AJ63)-0.3 -> 8 | AL64: =(AM63-AL63)-0.3 -> 8 | AN64: =(AO63-AN63)-0.3 -> 8 | AP64: =(AQ63-AP63)-0.3 -> 6 | AV64: =SUM(AH64:AU64) -> 38 | AX64: =(AY63-AX63)-0.3 -> 8 | AZ64: =(BA63-AZ63)-0.3 -> 8 | BB64: =(BC63-BB63)-0.3 -> 8 | BD64: =(BE63-BD63)-0.3 -> 8 | BF64: =(BG63-BF63)-0.3 -> 6 | BL64: =SUM(AX64:BK64) -> 38 | BN64: =(BO63-BN63)-0.3 -> 8 | BP64: =(BQ63-BP63)-0.3 -> 8 | BR64: =(BS63-BR63)-0.3 -> 8 | BT64: =(BU63-BT63)-0.3 -> 8 | BV64: =(BW63-BV63)-0.3 -> 6 | CB64: =SUM(BN64:CA64) -> 38 | CD64: =SUM(BL64+AV64+AF64)+F64+H64+J64+L64+N64+BN64+BP64+BR64+BT64 -> 168
A65: Cuisine
A66: PALASCINO Tina | B66: 8 | C66: 16.06 | D66: 8 | E66: 16.06 | F66: 8 | G66: 16.06 | H66: 8 | I66: 16.06 | J66: 8 | K66: 16.06 | R66: 8 | S66: 16.06 | V66: 8 | W66: 16.06 | X66: 8 | Y66: 16.06 | AB66: 8 | AC66: 16.06 | AD66: 8 | AE66: 16.06 | AH66: 8 | AI66: 16.06 | AJ66: 8 | AK66: 16.06 | AL66: 8 | AM66: 16.06 | AN66: 8 | AO66: 16.06 | AP66: 8 | AQ66: 16.06 | AX66: 8 | AY66: 16.06 | BB66: 8 | BC66: 16.06 | BD66: 8 | BE66: 16.06 | BH66: 8 | BI66: 16.06 | BJ66: 8 | BK66: 16.06 | BN66: 8 | BO66: 16.06 | BP66: 8 | BQ66: 16.06 | BR66: 8 | BS66: 16.06 | BT66: 8 | BU66: 16.06 | BV66: 8 | BW66: 16.06
B67: =(C66-B66)-0.5 -> 7.56 | D67: =(E66-D66)-0.5 -> 7.56 | F67: =(G66-F66)-0.5 -> 7.56 | H67: =(I66-H66)-0.5 -> 7.56 | J67: =(K66-J66)-0.5 -> 7.56 | P67: =SUM(B67:O67) -> 37.8 | R67: =(S66-R66)-0.5 -> 7.56 | V67: =(W66-V66)-0.5 -> 7.56 | X67: =(Y66-X66)-0.5 -> 7.56 | AB67: =(AC66-AB66)-0.5 -> 7.56 | AD67: =(AE66-AD66)-0.5 -> 7.56 | AF67: =SUM(R67:AE67) -> 37.8 | AH67: =(AI66-AH66)-0.5 -> 7.56 | AJ67: =(AK66-AJ66)-0.5 -> 7.56 | AL67: =(AM66-AL66)-0.5 -> 7.56 | AN67: =(AO66-AN66)-0.5 -> 7.56 | AP67: =(AQ66-AP66)-0.5 -> 7.56 | AV67: =SUM(AH67:AU67) -> 37.8 | AX67: =(AY66-AX66)-0.5 -> 7.56 | BB67: =(BC66-BB66)-0.5 -> 7.56 | BD67: =(BE66-BD66)-0.5 -> 7.56 | BH67: =(BI66-BH66)-0.5 -> 7.56 | BJ67: =(BK66-BJ66)-0.5 -> 7.56 | BL67: =SUM(AX67:BK67) -> 37.8 | BN67: =(BO66-BN66)-0.5 -> 7.56 | BP67: =(BQ66-BP66)-0.5 -> 7.56 | BR67: =(BS66-BR66)-0.5 -> 7.56 | BT67: =(BU66-BT66)-0.5 -> 7.56 | BV67: =(BW66-BV66)-0.5 -> 7.56 | CB67: =SUM(BN67:CA67) -> 37.8 | CD67: =SUM(BL67+AV67+AF67)+F67+H67+J67+L67+N67+BN67+BP67+BR67+BT67 -> 166.32
A68: OUHAMED Yesmila | F68: Férié | L68: 8 | M68: 15.06 | N68: 8 | O68: 15.06 | T68: 8 | U68: 15.06 | Z68: 8 | AA68: 15.06 | AB68: Férié | AR68: 8 | AS68: 15.06 | AT68: 8 | AU68: 15.06 | AZ68: 8 | BA68: 15.06 | BF68: 8 | BG68: 15.06 | BX68: 8 | BY68: 15.06 | BZ68: 8 | CA68: 15.06
F69: 7.6 | L69: =(M68-L68)-0.5 -> 6.56 | N69: =(O68-N68)-0.5 -> 6.56 | P69: =SUM(B69:O69) -> 20.72 | T69: =(U68-T68)-0.5 -> 6.56 | Z69: =(AA68-Z68)-0.5 -> 6.56 | AB69: 7.6 | AF69: =SUM(R69:AE69) -> 20.72 | AR69: =(AS68-AR68)-0.5 -> 6.56 | AT69: =(AU68-AT68)-0.5 -> 6.56 | AV69: =SUM(AH69:AU69) -> 13.12 | AZ69: =(BA68-AZ68)-0.5 -> 6.56 | BF69: =(BG68-BF68)-0.5 -> 6.56 | BL69: =SUM(AX69:BK69) -> 13.12 | BX69: =(BY68-BX68)-0.5 -> 6.56 | BZ69: =(CA68-BZ68)-0.5 -> 6.56 | CB69: =SUM(BN69:CA69) -> 13.12 | CD69: =SUM(BL69+AV69+AF69)+F69+H69+J69+L69+N69+BN69+BP69+BR69+BT69 -> 67.68
A71: Sous total | P71: =SUM(P5:Q70) -> 910.02 | AF71: =SUM(AF5:AG70) -> 980.09 | AV71: =SUM(AV5:AW70) -> 827.62 | BL71: =SUM(BL5:BM70) -> 891.87 | CB71: =SUM(CB5:CC70) -> 844.42 | CD71: =SUM(CD5:CE70) -> 3846.44
A73: Direction et sous direction | CD73: 334.4
CD75: =SUM(CD71:CE73) -> 4180.84

Sheet Cuisine 2
A1: 43040 | B1: 43038 | D1: 43039 | F1: 43040 | H1: 43041 | J1: 43042 | L1: 43043 | N1: 43044
A2: sous réserve de prolongation | B2: LUNDI | D2: MARDI | F2: MERCREDI | H2: JEUDI | J2: VENDREDI | L2: SAMEDI | N2: DIMANCHE
A3: Cuisine
A4: OUHAMED Yesmila | F4: Férié | L4: 8 | M4: 15.06 | N4: 8 | O4: 15.06
A5: fin CDD le 14/11/2017 | F5: 7.6 | L5: =(M4-L4)-0.5 -> 6.56 | N5: =(O4-N4)-0.5 -> 6.56
B6: 43045 | D6: 43046 | F6: 43047 | H6: 43048 | J6: 43049 | L6: 43050 | N6: 43051
B7: LUNDI | D7: MARDI | F7: MERCREDI | H7: JEUDI | J7: VENDREDI | L7: SAMEDI | N7: DIMANCHE
D9: 8 | E9: 15.06 | J9: 8 | K9: 15.06 | L9: Férié
D10: =(E9-D9)-0.5 -> 6.56 | J10: =(K9-J9)-0.5 -> 6.56 | L10: 7.6
B11: 43052 | D11: 43053 | F11: 43054 | H11: 43055 | J11: 43056 | L11: 43057 | N11: 43058
B12: LUNDI | D12: MARDI | F12: MERCREDI | H12: JEUDI | J12: VENDREDI | L12: SAMEDI | N12: DIMANCHE
L14: 8 | M14: 15.06 | N14: 8 | O14: 15.06
L15: =(M14-L14)-0.5 -> 6.56 | N15: =(O14-N14)-0.5 -> 6.56
B16: 43059 | D16: 43060 | F16: 43061 | H16: 43062 | J16: 43063 | L16: 43064 | N16: 43065
B17: LUNDI | D17: MARDI | F17: MERCREDI | H17: JEUDI | J17: VENDREDI | L17: SAMEDI | N17: DIMANCHE
D19: 8 | E19: 15.06 | J19: 8 | K19: 15.06
D20: =(E19-D19)-0.5 -> 6.56 | J20: =(K19-J19)-0.5 -> 6.56
B21: 43066 | D21: 43067 | F21: 43068 | H21: 43069
B22: LUNDI | D22: MARDI | F22: MERCREDI | H22: JEUDI | J22: VENDREDI | L22: SAMEDI | N22: DIMANCHE

Sheet Horaire
CO1: 3.4791667 | CQ1: =CO1*24 -> 83.5
CJ2: Heures complètes du mois | CO2: 6.9666667 | CQ2: =CO2*24 -> 167.2
A4: GARDES
Q5: TOTAL SEMAINE | AF5: TOTAL SEMAINE | AU5: TOTAL SEMAINE | BJ5: TOTAL SEMAINE | BY5: TOTAL SEMAINE | CN5: TOTAL SEMAINE | CO5: TOTAL PlAGES | CR5: Différence mensuelle
A6: Dates
A8: Equipe Educative | B8: Régime | C8: LUNDI | E8: MARDI | G8: MERCREDI | I8: JEUDI | K8: VENDREDI | M8: SAMEDI | O8: DIMANCHE | R8: LUNDI | T8: MARDI | V8: MERCREDI | X8: JEUDI | Z8: VENDREDI | AB8: SAMEDI | AD8: DIMANCHE | AG8: LUNDI | AI8: MARDI | AK8: MERCREDI | AM8: JEUDI | AO8: VENDREDI | AQ8: SAMEDI | AS8: DIMANCHE | AV8: LUNDI | AX8: MARDI | AZ8: MERCREDI | BB8: JEUDI | BD8: VENDREDI | BF8: SAMEDI | BH8: DIMANCHE | BK8: LUNDI | BM8: MARDI | BO8: MERCREDI | BQ8: JEUDI | BS8: VENDREDI | BU8: SAMEDI | BW8: DIMANCHE | BZ8: LUNDI | CB8: MARDI | CD8: MERCREDI | CF8: JEUDI | CH8: VENDREDI | CJ8: SAMEDI | CL8: DIMANCHE
A9: STEELSON | Q9: =SUM(C10:P10) -> 0 | AF9: =SUM(R10:AE10) -> 0 | AU9: =SUM(AG10:AT10) -> 0 | BJ9: =SUM(AV10:BI10) -> 0 | BY9: =SUM(BK10:BX10) -> 0 | CN9: =SUM(BZ10:CM10) -> 0 | CO9: =SUM(Q9,AF9,AU9,BY9,CN9,BJ9) -> 0 | CR9: =$CO$2-CO9 -> 6.9666667
B10: 1 | C10: =IF(AND(C9="",D9=""),"",IFERROR(MATCH("*"&C9&"*",Paramètres!$A$2,0)*INDEX(Paramètres!$B$2:$F$2,MATCH(D9,Paramètres!$B$1:$F$1,0))*$B10,IFERROR(VLOOKUP(C9,_T1,2,0)*IF(VLOOKUP(C9,_T1,3,0),$B10,1),IF(AND(C9="23:59"*1,D9="07:59"*1),"08:00"*$B10,IF(AND(C9="20:00"*1,D9="05:00"*1),"09:00"*$B10,IF(AND(C9="21:00"*1,D9="07:00"*1),"10:00"*$B10,IF(AND(C9="21:00"*1,D9="08:00"*1),"11:00"*$B10,IF((D9*24)-(C9*24)>6,((((D9*24)-(C9*24))-0.25)/24)*$B10,(D9-C9)*$B10)))))))) | E10: =IF(AND(E9="",F9=""),"",IFERROR(MATCH("*"&E9&"*",Paramètres!$A$2,0)*INDEX(Paramètres!$B$2:$F$2,MATCH(F9,Paramètres!$B$1:$F$1,0))*$B10,IFERROR(VLOOKUP(E9,_T1,2,0)*IF(VLOOKUP(E9,_T1,3,0),$B10,1),IF(AND(E9="23:59"*1,F9="07:59"*1),"08:00"*$B10,IF(AND(E9="20:00"*1,F9="05:00"*1),"09:00"*$B10,IF(AND(E9="21:00"*1,F9="07:00"*1),"10:00"*$B10,IF(AND(E9="21:00"*1,F9="08:00"*1),"11:00"*$B10,IF((F9*24)-(E9*24)>6,((((F9*24)-(E9*24))-0.25)/24)*$B10,(F9-E9)*$B10)))))))) | G10: =IF(AND(G9="",H9=""),"",IFERROR(MATCH("*"&G9&"*",Paramètres!$A$2,0)*INDEX(Paramètres!$B$2:$F$2,MATCH(H9,Paramètres!$B$1:$F$1,0))*$B10,IFERROR(VLOOKUP(G9,_T1,2,0)*IF(VLOOKUP(G9,_T1,3,0),$B10,1),IF(AND(G9="23:59"*1,H9="07:59"*1),"08:00"*$B10,IF(AND(G9="20:00"*1,H9="05:00"*1),"09:00"*$B10,IF(AND(G9="21:00"*1,H9="07:00"*1),"10:00"*$B10,IF(AND(G9="21:00"*1,H9="08:00"*1),"11:00"*$B10,IF((H9*24)-(G9*24)>6,((((H9*24)-(G9*24))-0.25)/24)*$B10,(H9-G9)*$B10)))))))) | I10: =IF(AND(I9="",J9=""),"",IFERROR(MATCH("*"&I9&"*",Paramètres!$A$2,0)*INDEX(Paramètres!$B$2:$F$2,MATCH(J9,Paramètres!$B$1:$F$1,0))*$B10,IFERROR(VLOOKUP(I9,_T1,2,0)*IF(VLOOKUP(I9,_T1,3,0),$B10,1),IF(AND(I9="23:59"*1,J9="07:59"*1),"08:00"*$B10,IF(AND(I9="20:00"*1,J9="05:00"*1),"09:00"*$B10,IF(AND(I9="21:00"*1,J9="07:00"*1),"10:00"*$B10,IF(AND(I9="21:00"*1,J9="08:00"*1),"11:00"*$B10,IF((J9*24)-(I9*24)>6,((((J9*24)-(I9*24))-0.25)/24)*$B10,(J9-I9)*$B10)))))))) | K10: =IF(AND(K9="",L9=""),"",IFERROR(MATCH("*"&K9&"*",Paramètres!$A$2,0)*INDEX(Paramètres!$B$2:$F$2,MATCH(L9,Paramètres!$B$1:$F$1,0))*$B10,IFERROR(VLOOKUP(K9,_T1,2,0)*IF(VLOOKUP(K9,_T1,3,0),$B10,1),IF(AND(K9="23:59"*1,L9="07:59"*1),"08:00"*$B10,IF(AND(K9="20:00"*1,L9="05:00"*1),"09:00"*$B10,IF(AND(K9="21:00"*1,L9="07:00"*1),"10:00"*$B10,IF(AND(K9="21:00"*1,L9="08:00"*1),"11:00"*$B10,IF((L9*24)-(K9*24)>6,((((L9*24)-(K9*24))-0.25)/24)*$B10,(L9-K9)*$B10)))))))) | M10: =IF(AND(M9="",N9=""),"",IFERROR(MATCH("*"&M9&"*",Paramètres!$A$2,0)*INDEX(Paramètres!$B$2:$F$2,MATCH(N9,Paramètres!$B$1:$F$1,0))*$B10,IFERROR(VLOOKUP(M9,_T1,2,0)*IF(VLOOKUP(M9,_T1,3,0),$B10,1),IF(AND(M9="23:59"*1,N9="07:59"*1),"08:00"*$B10,IF(AND(M9="20:00"*1,N9="05:00"*1),"09:00"*$B10,IF(AND(M9="21:00"*1,N9="07:00"*1),"10:00"*$B10,IF(AND(M9="21:00"*1,N9="08:00"*1),"11:00"*$B10,IF((N9*24)-(M9*24)>6,((((N9*24)-(M9*24))-0.25)/24)*$B10,(N9-M9)*$B10)))))))) | O10: =IF(AND(O9="",P9=""),"",IFERROR(MATCH("*"&O9&"*",Paramètres!$A$2,0)*INDEX(Paramètres!$B$2:$F$2,MATCH(P9,Paramètres!$B$1:$F$1,0))*$B10,IFERROR(VLOOKUP(O9,_T1,2,0)*IF(VLOOKUP(O9,_T1,3,0),$B10,1),IF(AND(O9="23:59"*1,P9="07:59"*1),"08:00"*$B10,IF(AND(O9="20:00"*1,P9="05:00"*1),"09:00"*$B10,IF(AND(O9="21:00"*1,P9="07:00"*1),"10:00"*$B10,IF(AND(O9="21:00"*1,P9="08:00"*1),"11:00"*$B10,IF((P9*24)-(O9*24)>6,((((P9*24)-(O9*24))-0.25)/24)*$B10,(P9-O9)*$B10)))))))) | R10: =IF(AND(R9="",S9=""),"",IFERROR(MATCH("*"&R9&"*",Paramètres!$A$2,0)*INDEX(Paramètres!$B$2:$E$2,MATCH(#REF!,Paramètres!$B$1:$E$1,0))*$B10,IFERROR(VLOOKUP(R9,_T1,2,0)*IF(VLOOKUP(R9,_T1,3,0),$B10,1),IF(AND(R9="23:59"*1,S9="07:59"*1),"08:00"*$B10,IF(AND(R9="20:00"*1,S9="05:00"*1),"09:00"*$B10,IF(AND(R9="21:00"*1,S9="07:00"*1),"10:00"*$B10,IF(AND(R9="21:00"*1,S9="08:00"*1),"11:00"*$B10,IF((S9*24)-(R9*24)>6,((((S9*24)-(R9*24))-0.25)/24),(S9-R9))))))))) | T10: =IF(AND(T9="",U9=""),"",IFERROR(MATCH("*"&T9&"*",Paramètres!$A$2,0)*INDEX(Paramètres!$B$2:$E$2,MATCH(#REF!,Paramètres!$B$1:$E$1,0))*$B10,IFERROR(VLOOKUP(T9,_T1,2,0)*IF(VLOOKUP(T9,_T1,3,0),$B10,1),IF(AND(T9="23:59"*1,U9="07:59"*1),"08:00"*$B10,IF(AND(T9="20:00"*1,U9="05:00"*1),"09:00"*$B10,IF(AND(T9="21:00"*1,U9="07:00"*1),"10:00"*$B10,IF(AND(T9="21:00"*1,U9="08:00"*1),"11:00"*$B10,IF((U9*24)-(T9*24)>6,((((U9*24)-(T9*24))-0.25)/24),(U9-T9))))))))) | V10: =IF(AND(V9="",W9=""),"",IFERROR(MATCH("*"&V9&"*",Paramètres!$A$2,0)*INDEX(Paramètres!$B$2:$E$2,MATCH(#REF!,Paramètres!$B$1:$E$1,0))*$B10,IFERROR(VLOOKUP(V9,_T1,2,0)*IF(VLOOKUP(V9,_T1,3,0),$B10,1),IF(AND(V9="23:59"*1,W9="07:59"*1),"08:00"*$B10,IF(AND(V9="20:00"*1,W9="05:00"*1),"09:00"*$B10,IF(AND(V9="21:00"*1,W9="07:00"*1),"10:00"*$B10,IF(AND(V9="21:00"*1,W9="08:00"*1),"11:00"*$B10,IF((W9*24)-(V9*24)>6,((((W9*24)-(V9*24))-0.25)/24),(W9-V9))))))))) | X10: =IF(AND(X9="",Y9=""),"",IFERROR(MATCH("*"&X9&"*",Paramètres!$A$2,0)*INDEX(Paramètres!$B$2:$E$2,MATCH(#REF!,Paramètres!$B$1:$E$1,0))*$B10,IFERROR(VLOOKUP(X9,_T1,2,0)*IF(VLOOKUP(X9,_T1,3,0),$B10,1),IF(AND(X9="23:59"*1,Y9="07:59"*1),"08:00"*$B10,IF(AND(X9="20:00"*1,Y9="05:00"*1),"09:00"*$B10,IF(AND(X9="21:00"*1,Y9="07:00"*1),"10:00"*$B10,IF(AND(X9="21:00"*1,Y9="08:00"*1),"11:00"*$B10,IF((Y9*24)-(X9*24)>6,((((Y9*24)-(X9*24))-0.25)/24),(Y9-X9))))))))) | Z10: =IF(AND(Z9="",AA9=""),"",IFERROR(MATCH("*"&Z9&"*",Paramètres!$A$2,0)*INDEX(Paramètres!$B$2:$E$2,MATCH(#REF!,Paramètres!$B$1:$E$1,0))*$B10,IFERROR(VLOOKUP(Z9,_T1,2,0)*IF(VLOOKUP(Z9,_T1,3,0),$B10,1),IF(AND(Z9="23:59"*1,AA9="07:59"*1),"08:00"*$B10,IF(AND(Z9="20:00"*1,AA9="05:00"*1),"09:00"*$B10,IF(AND(Z9="21:00"*1,AA9="07:00"*1),"10:00"*$B10,IF(AND(Z9="21:00"*1,AA9="08:00"*1),"11:00"*$B10,IF((AA9*24)-(Z9*24)>6,((((AA9*24)-(Z9*24))-0.25)/24),(AA9-Z9))))))))) | AB10: =IF(AND(AB9="",AC9=""),"",IFERROR(MATCH("*"&AB9&"*",Paramètres!$A$2,0)*INDEX(Paramètres!$B$2:$E$2,MATCH(#REF!,Paramètres!$B$1:$E$1,0))*$B10,IFERROR(VLOOKUP(AB9,_T1,2,0)*IF(VLOOKUP(AB9,_T1,3,0),$B10,1),IF(AND(AB9="23:59"*1,AC9="07:59"*1),"08:00"*$B10,IF(AND(AB9="20:00"*1,AC9="05:00"*1),"09:00"*$B10,IF(AND(AB9="21:00"*1,AC9="07:00"*1),"10:00"*$B10,IF(AND(AB9="21:00"*1,AC9="08:00"*1),"11:00"*$B10,IF((AC9*24)-(AB9*24)>6,((((AC9*24)-(AB9*24))-0.25)/24),(AC9-AB9))))))))) | AD10: =IF(AND(AD9="",AE9=""),"",IFERROR(MATCH("*"&AD9&"*",Paramètres!$A$2,0)*INDEX(Paramètres!$B$2:$E$2,MATCH(#REF!,Paramètres!$B$1:$E$1,0))*$B10,IFERROR(VLOOKUP(AD9,_T1,2,0)*IF(VLOOKUP(AD9,_T1,3,0),$B10,1),IF(AND(AD9="23:59"*1,AE9="07:59"*1),"08:00"*$B10,IF(AND(AD9="20:00"*1,AE9="05:00"*1),"09:00"*$B10,IF(AND(AD9="21:00"*1,AE9="07:00"*1),"10:00"*$B10,IF(AND(AD9="21:00"*1,AE9="08:00"*1),"11:00"*$B10,IF((AE9*24)-(AD9*24)>6,((((AE9*24)-(AD9*24))-0.25)/24),(AE9-AD9))))))))) | AG10: =IF(AND(AG9="",AH9=""),"",IFERROR(MATCH("*"&AG9&"*",Paramètres!$A$2,0)*INDEX(Paramètres!$B$2:$E$2,MATCH(#REF!,Paramètres!$B$1:$E$1,0))*$B10,IFERROR(VLOOKUP(AG9,_T1,2,0)*IF(VLOOKUP(AG9,_T1,3,0),$B10,1),IF(AND(AG9="23:59"*1,AH9="07:59"*1),"08:00"*$B10,IF(AND(AG9="20:00"*1,AH9="05:00"*1),"09:00"*$B10,IF(AND(AG9="21:00"*1,AH9="07:00"*1),"10:00"*$B10,IF(AND(AG9="21:00"*1,AH9="08:00"*1),"11:00"*$B10,IF((AH9*24)-(AG9*24)>6,((((AH9*24)-(AG9*24))-0.25)/24),(AH9-AG9))))))))) | AI10: =IF(AND(AI9="",AJ9=""),"",IFERROR(MATCH("*"&AI9&"*",Paramètres!$A$2,0)*INDEX(Paramètres!$B$2:$E$2,MATCH(#REF!,Paramètres!$B$1:$E$1,0))*$B10,IFERROR(VLOOKUP(AI9,_T1,2,0)*IF(VLOOKUP(AI9,_T1,3,0),$B10,1),IF(AND(AI9="23:59"*1,AJ9="07:59"*1),"08:00"*$B10,IF(AND(AI9="20:00"*1,AJ9="05:00"*1),"09:00"*$B10,IF(AND(AI9="21:00"*1,AJ9="07:00"*1),"10:00"*$B10,IF(AND(AI9="21:00"*1,AJ9="08:00"*1),"11:00"*$B10,IF((AJ9*24)-(AI9*24)>6,((((AJ9*24)-(AI9*24))-0.25)/24),(AJ9-AI9))))))))) | AK10: =IF(AND(AK9="",AL9=""),"",IFERROR(MATCH("*"&AK9&"*",Paramètres!$A$2,0)*INDEX(Paramètres!$B$2:$E$2,MATCH(#REF!,Paramètres!$B$1:$E$1,0))*$B10,IFERROR(VLOOKUP(AK9,_T1,2,0)*IF(VLOOKUP(AK9,_T1,3,0),$B10,1),IF(AND(AK9="23:59"*1,AL9="07:59"*1),"08:00"*$B10,IF(AND(AK9="20:00"*1,AL9="05:00"*1),"09:00"*$B10,IF(AND(AK9="21:00"*1,AL9="07:00"*1),"10:00"*$B10,IF(AND(AK9="21:00"*1,AL9="08:00"*1),"11:00"*$B10,IF((AL9*24)-(AK9*24)>6,((((AL9*24)-(AK9*24))-0.25)/24),(AL9-AK9))))))))) | AM10: =IF(AND(AM9="",AN9=""),"",IFERROR(MATCH("*"&AM9&"*",Paramètres!$A$2,0)*INDEX(Paramètres!$B$2:$E$2,MATCH(#REF!,Paramètres!$B$1:$E$1,0))*$B10,IFERROR(VLOOKUP(AM9,_T1,2,0)*IF(VLOOKUP(AM9,_T1,3,0),$B10,1),IF(AND(AM9="23:59"*1,AN9="07:59"*1),"08:00"*$B10,IF(AND(AM9="20:00"*1,AN9="05:00"*1),"09:00"*$B10,IF(AND(AM9="21:00"*1,AN9="07:00"*1),"10:00"*$B10,IF(AND(AM9="21:00"*1,AN9="08:00"*1),"11:00"*$B10,IF((AN9*24)-(AM9*24)>6,((((AN9*24)-(AM9*24))-0.25)/24),(AN9-AM9))))))))) | AO10: =IF(AND(AO9="",AP9=""),"",IFERROR(MATCH("*"&AO9&"*",Paramètres!$A$2,0)*INDEX(Paramètres!$B$2:$E$2,MATCH(#REF!,Paramètres!$B$1:$E$1,0))*$B10,IFERROR(VLOOKUP(AO9,_T1,2,0)*IF(VLOOKUP(AO9,_T1,3,0),$B10,1),IF(AND(AO9="23:59"*1,AP9="07:59"*1),"08:00"*$B10,IF(AND(AO9="20:00"*1,AP9="05:00"*1),"09:00"*$B10,IF(AND(AO9="21:00"*1,AP9="07:00"*1),"10:00"*$B10,IF(AND(AO9="21:00"*1,AP9="08:00"*1),"11:00"*$B10,IF((AP9*24)-(AO9*24)>6,((((AP9*24)-(AO9*24))-0.25)/24),(AP9-AO9))))))))) | AQ10: =IF(AND(AQ9="",AR9=""),"",IFERROR(MATCH("*"&AQ9&"*",Paramètres!$A$2,0)*INDEX(Paramètres!$B$2:$E$2,MATCH(#REF!,Paramètres!$B$1:$E$1,0))*$B10,IFERROR(VLOOKUP(AQ9,_T1,2,0)*IF(VLOOKUP(AQ9,_T1,3,0),$B10,1),IF(AND(AQ9="23:59"*1,AR9="07:59"*1),"08:00"*$B10,IF(AND(AQ9="20:00"*1,AR9="05:00"*1),"09:00"*$B10,IF(AND(AQ9="21:00"*1,AR9="07:00"*1),"10:00"*$B10,IF(AND(AQ9="21:00"*1,AR9="08:00"*1),"11:00"*$B10,IF((AR9*24)-(AQ9*24)>6,((((AR9*24)-(AQ9*24))-0.25)/24),(AR9-AQ9))))))))) | AS10: =IF(AND(AS9="",AT9=""),"",IFERROR(MATCH("*"&AS9&"*",Paramètres!$A$2,0)*INDEX(Paramètres!$B$2:$E$2,MATCH(#REF!,Paramètres!$B$1:$E$1,0))*$B10,IFERROR(VLOOKUP(AS9,_T1,2,0)*IF(VLOOKUP(AS9,_T1,3,0),$B10,1),IF(AND(AS9="23:59"*1,AT9="07:59"*1),"08:00"*$B10,IF(AND(AS9="20:00"*1,AT9="05:00"*1),"09:00"*$B10,IF(AND(AS9="21:00"*1,AT9="07:00"*1),"10:00"*$B10,IF(AND(AS9="21:00"*1,AT9="08:00"*1),"11:00"*$B10,IF((AT9*24)-(AS9*24)>6,((((AT9*24)-(AS9*24))-0.25)/24),(AT9-AS9))))))))) | AV10: =IF(AND(AV9="",AW9=""),"",IFERROR(MATCH("*"&AV9&"*",Paramètres!$A$2,0)*INDEX(Paramètres!$B$2:$E$2,MATCH(#REF!,Paramètres!$B$1:$E$1,0))*$B10,IFERROR(VLOOKUP(AV9,_T1,2,0)*IF(VLOOKUP(AV9,_T1,3,0),$B10,1),IF(AND(AV9="23:59"*1,AW9="07:59"*1),"08:00"*$B10,IF(AND(AV9="20:00"*1,AW9="05:00"*1),"09:00"*$B10,IF(AND(AV9="21:00"*1,AW9="07:00"*1),"10:00"*$B10,IF(AND(AV9="21:00"*1,AW9="08:00"*1),"11:00"*$B10,IF((AW9*24)-(AV9*24)>6,((((AW9*24)-(AV9*24))-0.25)/24),(AW9-AV9))))))))) | AX10: =IF(AND(AX9="",AY9=""),"",IFERROR(MATCH("*"&AX9&"*",Paramètres!$A$2,0)*INDEX(Paramètres!$B$2:$E$2,MATCH(#REF!,Paramètres!$B$1:$E$1,0))*$B10,IFERROR(VLOOKUP(AX9,_T1,2,0)*IF(VLOOKUP(AX9,_T1,3,0),$B10,1),IF(AND(AX9="23:59"*1,AY9="07:59"*1),"08:00"*$B10,IF(AND(AX9="20:00"*1,AY9="05:00"*1),"09:00"*$B10,IF(AND(AX9="21:00"*1,AY9="07:00"*1),"10:00"*$B10,IF(AND(AX9="21:00"*1,AY9="08:00"*1),"11:00"*$B10,IF((AY9*24)-(AX9*24)>6,((((AY9*24)-(AX9*24))-0.25)/24),(AY9-AX9))))))))) | AZ10: =IF(AND(AZ9="",BA9=""),"",IFERROR(MATCH("*"&AZ9&"*",Paramètres!$A$2,0)*INDEX(Paramètres!$B$2:$E$2,MATCH(#REF!,Paramètres!$B$1:$E$1,0))*$B10,IFERROR(VLOOKUP(AZ9,_T1,2,0)*IF(VLOOKUP(AZ9,_T1,3,0),$B10,1),IF(AND(AZ9="23:59"*1,BA9="07:59"*1),"08:00"*$B10,IF(AND(AZ9="20:00"*1,BA9="05:00"*1),"09:00"*$B10,IF(AND(AZ9="21:00"*1,BA9="07:00"*1),"10:00"*$B10,IF(AND(AZ9="21:00"*1,BA9="08:00"*1),"11:00"*$B10,IF((BA9*24)-(AZ9*24)>6,((((BA9*24)-(AZ9*24))-0.25)/24),(BA9-AZ9))))))))) | BB10: =IF(AND(BB9="",BC9=""),"",IFERROR(MATCH("*"&BB9&"*",Paramètres!$A$2,0)*INDEX(Paramètres!$B$2:$E$2,MATCH(#REF!,Paramètres!$B$1:$E$1,0))*$B10,IFERROR(VLOOKUP(BB9,_T1,2,0)*IF(VLOOKUP(BB9,_T1,3,0),$B10,1),IF(AND(BB9="23:59"*1,BC9="07:59"*1),"08:00"*$B10,IF(AND(BB9="20:00"*1,BC9="05:00"*1),"09:00"*$B10,IF(AND(BB9="21:00"*1,BC9="07:00"*1),"10:00"*$B10,IF(AND(BB9="21:00"*1,BC9="08:00"*1),"11:00"*$B10,IF((BC9*24)-(BB9*24)>6,((((BC9*24)-(BB9*24))-0.25)/24),(BC9-BB9))))))))) | BD10: =IF(AND(BD9="",BE9=""),"",IFERROR(MATCH("*"&BD9&"*",Paramètres!$A$2,0)*INDEX(Paramètres!$B$2:$E$2,MATCH(#REF!,Paramètres!$B$1:$E$1,0))*$B10,IFERROR(VLOOKUP(BD9,_T1,2,0)*IF(VLOOKUP(BD9,_T1,3,0),$B10,1),IF(AND(BD9="23:59"*1,BE9="07:59"*1),"08:00"*$B10,IF(AND(BD9="20:00"*1,BE9="05:00"*1),"09:00"*$B10,IF(AND(BD9="21:00"*1,BE9="07:00"*1),"10:00"*$B10,IF(AND(BD9="21:00"*1,BE9="08:00"*1),"11:00"*$B10,IF((BE9*24)-(BD9*24)>6,((((BE9*24)-(BD9*24))-0.25)/24),(BE9-BD9))))))))) | BF10: =IF(AND(BF9="",BG9=""),"",IFERROR(MATCH("*"&BF9&"*",Paramètres!$A$2,0)*INDEX(Paramètres!$B$2:$E$2,MATCH(#REF!,Paramètres!$B$1:$E$1,0))*$B10,IFERROR(VLOOKUP(BF9,_T1,2,0)*IF(VLOOKUP(BF9,_T1,3,0),$B10,1),IF(AND(BF9="23:59"*1,BG9="07:59"*1),"08:00"*$B10,IF(AND(BF9="20:00"*1,BG9="05:00"*1),"09:00"*$B10,IF(AND(BF9="21:00"*1,BG9="07:00"*1),"10:00"*$B10,IF(AND(BF9="21:00"*1,BG9="08:00"*1),"11:00"*$B10,IF((BG9*24)-(BF9*24)>6,((((BG9*24)-(BF9*24))-0.25)/24),(BG9-BF9))))))))) | BH10: =IF(AND(BH9="",BI9=""),"",IFERROR(MATCH("*"&BH9&"*",Paramètres!$A$2,0)*INDEX(Paramètres!$B$2:$E$2,MATCH(#REF!,Paramètres!$B$1:$E$1,0))*$B10,IFERROR(VLOOKUP(BH9,_T1,2,0)*IF(VLOOKUP(BH9,_T1,3,0),$B10,1),IF(AND(BH9="23:59"*1,BI9="07:59"*1),"08:00"*$B10,IF(AND(BH9="20:00"*1,BI9="05:00"*1),"09:00"*$B10,IF(AND(BH9="21:00"*1,BI9="07:00"*1),"10:00"*$B10,IF(AND(BH9="21:00"*1,BI9="08:00"*1),"11:00"*$B10,IF((BI9*24)-(BH9*24)>6,((((BI9*24)-(BH9*24))-0.25)/24),(BI9-BH9))))))))) | BK10: =IF(AND(BK9="",BL9=""),"",IFERROR(MATCH("*"&BK9&"*",Paramètres!$A$2,0)*INDEX(Paramètres!$B$2:$E$2,MATCH(#REF!,Paramètres!$B$1:$E$1,0))*$B10,IFERROR(VLOOKUP(BK9,_T1,2,0)*IF(VLOOKUP(BK9,_T1,3,0),$B10,1),IF(AND(BK9="23:59"*1,BL9="07:59"*1),"08:00"*$B10,IF(AND(BK9="20:00"*1,BL9="05:00"*1),"09:00"*$B10,IF(AND(BK9="21:00"*1,BL9="07:00"*1),"10:00"*$B10,IF(AND(BK9="21:00"*1,BL9="08:00"*1),"11:00"*$B10,IF((BL9*24)-(BK9*24)>6,((((BL9*24)-(BK9*24))-0.25)/24),(BL9-BK9))))))))) | BM10: =IF(AND(BM9="",BN9=""),"",IFERROR(MATCH("*"&BM9&"*",Paramètres!$A$2,0)*INDEX(Paramètres!$B$2:$E$2,MATCH(#REF!,Paramètres!$B$1:$E$1,0))*$B10,IFERROR(VLOOKUP(BM9,_T1,2,0)*IF(VLOOKUP(BM9,_T1,3,0),$B10,1),IF(AND(BM9="23:59"*1,BN9="07:59"*1),"08:00"*$B10,IF(AND(BM9="20:00"*1,BN9="05:00"*1),"09:00"*$B10,IF(AND(BM9="21:00"*1,BN9="07:00"*1),"10:00"*$B10,IF(AND(BM9="21:00"*1,BN9="08:00"*1),"11:00"*$B10,IF((BN9*24)-(BM9*24)>6,((((BN9*24)-(BM9*24))-0.25)/24),(BN9-BM9))))))))) | BO10: =IF(AND(BO9="",BP9=""),"",IFERROR(MATCH("*"&BO9&"*",Paramètres!$A$2,0)*INDEX(Paramètres!$B$2:$E$2,MATCH(#REF!,Paramètres!$B$1:$E$1,0))*$B10,IFERROR(VLOOKUP(BO9,_T1,2,0)*IF(VLOOKUP(BO9,_T1,3,0),$B10,1),IF(AND(BO9="23:59"*1,BP9="07:59"*1),"08:00"*$B10,IF(AND(BO9="20:00"*1,BP9="05:00"*1),"09:00"*$B10,IF(AND(BO9="21:00"*1,BP9="07:00"*1),"10:00"*$B10,IF(AND(BO9="21:00"*1,BP9="08:00"*1),"11:00"*$B10,IF((BP9*24)-(BO9*24)>6,((((BP9*24)-(BO9*24))-0.25)/24),(BP9-BO9))))))))) | BQ10: =IF(AND(BQ9="",BR9=""),"",IFERROR(MATCH("*"&BQ9&"*",Paramètres!$A$2,0)*INDEX(Paramètres!$B$2:$E$2,MATCH(#REF!,Paramètres!$B$1:$E$1,0))*$B10,IFERROR(VLOOKUP(BQ9,_T1,2,0)*IF(VLOOKUP(BQ9,_T1,3,0),$B10,1),IF(AND(BQ9="23:59"*1,BR9="07:59"*1),"08:00"*$B10,IF(AND(BQ9="20:00"*1,BR9="05:00"*1),"09:00"*$B10,IF(AND(BQ9="21:00"*1,BR9="07:00"*1),"10:00"*$B10,IF(AND(BQ9="21:00"*1,BR9="08:00"*1),"11:00"*$B10,IF((BR9*24)-(BQ9*24)>6,((((BR9*24)-(BQ9*24))-0.25)/24),(BR9-BQ9))))))))) | BS10: =IF(AND(BS9="",BT9=""),"",IFERROR(MATCH("*"&BS9&"*",Paramètres!$A$2,0)*INDEX(Paramètres!$B$2:$E$2,MATCH(#REF!,Paramètres!$B$1:$E$1,0))*$B10,IFERROR(VLOOKUP(BS9,_T1,2,0)*IF(VLOOKUP(BS9,_T1,3,0),$B10,1),IF(AND(BS9="23:59"*1,BT9="07:59"*1),"08:00"*$B10,IF(AND(BS9="20:00"*1,BT9="05:00"*1),"09:00"*$B10,IF(AND(BS9="21:00"*1,BT9="07:00"*1),"10:00"*$B10,IF(AND(BS9="21:00"*1,BT9="08:00"*1),"11:00"*$B10,IF((BT9*24)-(BS9*24)>6,((((BT9*24)-(BS9*24))-0.25)/24),(BT9-BS9))))))))) | BU10: =IF(AND(BU9="",BV9=""),"",IFERROR(MATCH("*"&BU9&"*",Paramètres!$A$2,0)*INDEX(Paramètres!$B$2:$E$2,MATCH(#REF!,Paramètres!$B$1:$E$1,0))*$B10,IFERROR(VLOOKUP(BU9,_T1,2,0)*IF(VLOOKUP(BU9,_T1,3,0),$B10,1),IF(AND(BU9="23:59"*1,BV9="07:59"*1),"08:00"*$B10,IF(AND(BU9="20:00"*1,BV9="05:00"*1),"09:00"*$B10,IF(AND(BU9="21:00"*1,BV9="07:00"*1),"10:00"*$B10,IF(AND(BU9="21:00"*1,BV9="08:00"*1),"11:00"*$B10,IF((BV9*24)-(BU9*24)>6,((((BV9*24)-(BU9*24))-0.25)/24),(BV9-BU9))))))))) | BW10: =IF(AND(BW9="",BX9=""),"",IFERROR(MATCH("*"&BW9&"*",Paramètres!$A$2,0)*INDEX(Paramètres!$B$2:$E$2,MATCH(#REF!,Paramètres!$B$1:$E$1,0))*$B10,IFERROR(VLOOKUP(BW9,_T1,2,0)*IF(VLOOKUP(BW9,_T1,3,0),$B10,1),IF(AND(BW9="23:59"*1,BX9="07:59"*1),"08:00"*$B10,IF(AND(BW9="20:00"*1,BX9="05:00"*1),"09:00"*$B10,IF(AND(BW9="21:00"*1,BX9="07:00"*1),"10:00"*$B10,IF(AND(BW9="21:00"*1,BX9="08:00"*1),"11:00"*$B10,IF((BX9*24)-(BW9*24)>6,((((BX9*24)-(BW9*24))-0.25)/24),(BX9-BW9))))))))) | BZ10: =IF(AND(BZ9="",CA9=""),"",IFERROR(MATCH("*"&BZ9&"*",Paramètres!$A$2,0)*INDEX(Paramètres!$B$2:$E$2,MATCH(#REF!,Paramètres!$B$1:$E$1,0))*$B10,IFERROR(VLOOKUP(BZ9,_T1,2,0)*IF(VLOOKUP(BZ9,_T1,3,0),$B10,1),IF(AND(BZ9="23:59"*1,CA9="07:59"*1),"08:00"*$B10,IF(AND(BZ9="20:00"*1,CA9="05:00"*1),"09:00"*$B10,IF(AND(BZ9="21:00"*1,CA9="07:00"*1),"10:00"*$B10,IF(AND(BZ9="21:00"*1,CA9="08:00"*1),"11:00"*$B10,IF((CA9*24)-(BZ9*24)>6,((((CA9*24)-(BZ9*24))-0.25)/24),(CA9-BZ9))))))))) | CB10: =IF(AND(CB9="",CC9=""),"",IFERROR(MATCH("*"&CB9&"*",Paramètres!$A$2,0)*INDEX(Paramètres!$B$2:$E$2,MATCH(#REF!,Paramètres!$B$1:$E$1,0))*$B10,IFERROR(VLOOKUP(CB9,_T1,2,0)*IF(VLOOKUP(CB9,_T1,3,0),$B10,1),IF(AND(CB9="23:59"*1,CC9="07:59"*1),"08:00"*$B10,IF(AND(CB9="20:00"*1,CC9="05:00"*1),"09:00"*$B10,IF(AND(CB9="21:00"*1,CC9="07:00"*1),"10:00"*$B10,IF(AND(CB9="21:00"*1,CC9="08:00"*1),"11:00"*$B10,IF((CC9*24)-(CB9*24)>6,((((CC9*24)-(CB9*24))-0.25)/24),(CC9-CB9))))))))) | CD10: =IF(AND(CD9="",CE9=""),"",IFERROR(MATCH("*"&CD9&"*",Paramètres!$A$2,0)*INDEX(Paramètres!$B$2:$E$2,MATCH(#REF!,Paramètres!$B$1:$E$1,0))*$B10,IFERROR(VLOOKUP(CD9,_T1,2,0)*IF(VLOOKUP(CD9,_T1,3,0),$B10,1),IF(AND(CD9="23:59"*1,CE9="07:59"*1),"08:00"*$B10,IF(AND(CD9="20:00"*1,CE9="05:00"*1),"09:00"*$B10,IF(AND(CD9="21:00"*1,CE9="07:00"*1),"10:00"*$B10,IF(AND(CD9="21:00"*1,CE9="08:00"*1),"11:00"*$B10,IF((CE9*24)-(CD9*24)>6,((((CE9*24)-(CD9*24))-0.25)/24),(CE9-CD9))))))))) | CF10: =IF(AND(CF9="",CG9=""),"",IFERROR(MATCH("*"&CF9&"*",Paramètres!$A$2,0)*INDEX(Paramètres!$B$2:$E$2,MATCH(#REF!,Paramètres!$B$1:$E$1,0))*$B10,IFERROR(VLOOKUP(CF9,_T1,2,0)*IF(VLOOKUP(CF9,_T1,3,0),$B10,1),IF(AND(CF9="23:59"*1,CG9="07:59"*1),"08:00"*$B10,IF(AND(CF9="20:00"*1,CG9="05:00"*1),"09:00"*$B10,IF(AND(CF9="21:00"*1,CG9="07:00"*1),"10:00"*$B10,IF(AND(CF9="21:00"*1,CG9="08:00"*1),"11:00"*$B10,IF((CG9*24)-(CF9*24)>6,((((CG9*24)-(CF9*24))-0.25)/24),(CG9-CF9))))))))) | CH10: =IF(AND(CH9="",CI9=""),"",IFERROR(MATCH("*"&CH9&"*",Paramètres!$A$2,0)*INDEX(Paramètres!$B$2:$E$2,MATCH(#REF!,Paramètres!$B$1:$E$1,0))*$B10,IFERROR(VLOOKUP(CH9,_T1,2,0)*IF(VLOOKUP(CH9,_T1,3,0),$B10,1),IF(AND(CH9="23:59"*1,CI9="07:59"*1),"08:00"*$B10,IF(AND(CH9="20:00"*1,CI9="05:00"*1),"09:00"*$B10,IF(AND(CH9="21:00"*1,CI9="07:00"*1),"10:00"*$B10,IF(AND(CH9="21:00"*1,CI9="08:00"*1),"11:00"*$B10,IF((CI9*24)-(CH9*24)>6,((((CI9*24)-(CH9*24))-0.25)/24),(CI9-CH9))))))))) | CJ10: =IF(AND(CJ9="",CK9=""),"",IFERROR(MATCH("*"&CJ9&"*",Paramètres!$A$2,0)*INDEX(Paramètres!$B$2:$E$2,MATCH(#REF!,Paramètres!$B$1:$E$1,0))*$B10,IFERROR(VLOOKUP(CJ9,_T1,2,0)*IF(VLOOKUP(CJ9,_T1,3,0),$B10,1),IF(AND(CJ9="23:59"*1,CK9="07:59"*1),"08:00"*$B10,IF(AND(CJ9="20:00"*1,CK9="05:00"*1),"09:00"*$B10,IF(AND(CJ9="21:00"*1,CK9="07:00"*1),"10:00"*$B10,IF(AND(CJ9="21:00"*1,CK9="08:00"*1),"11:00"*$B10,IF((CK9*24)-(CJ9*24)>6,((((CK9*24)-(CJ9*24))-0.25)/24),(CK9-CJ9))))))))) | CL10: =IF(AND(CL9="",CM9=""),"",IFERROR(MATCH("*"&CL9&"*",Paramètres!$A$2,0)*INDEX(Paramètres!$B$2:$E$2,MATCH(#REF!,Paramètres!$B$1:$E$1,0))*$B10,IFERROR(VLOOKUP(CL9,_T1,2,0)*IF(VLOOKUP(CL9,_T1,3,0),$B10,1),IF(AND(CL9="23:59"*1,CM9="07:59"*1),"08:00"*$B10,IF(AND(CL9="20:00"*1,CM9="05:00"*1),"09:00"*$B10,IF(AND(CL9="21:00"*1,CM9="07:00"*1),"10:00"*$B10,IF(AND(CL9="21:00"*1,CM9="08:00"*1),"11:00"*$B10,IF((CM9*24)-(CL9*24)>6,((((CM9*24)-(CL9*24))-0.25)/24),(CM9-CL9)))))))))
C11: 0.33333333 | D11: 0.5 | E11: VA | G11: VAS | I11: 0.875 | J11: 0.33333333 | K11: VSS | Q11: =SUM(C12:P12) -> 0.62916667 | AF11: =SUM(R12:AE12) -> 0 | AU11: =SUM(AG12:AT12) -> 0 | BJ11: =SUM(AV12:BI12) -> 0 | BY11: =SUM(BK12:BX12) -> 0 | CN11: =SUM(BZ12:CM12) -> 0 | CO11: =SUM(Q11,AF11,AU11,BY11,CN11,BJ11) -> 0.62916667 | CR11: =$CO$2-CO11 -> 6.3375
B12: 0.5 | C12: =IF(AND(C11="",D11=""),"",IFERROR(MATCH("*"&C11&"*",Paramètres!$A$2,0)*INDEX(Paramètres!$B$2:$F$2,MATCH(D11,Paramètres!$B$1:$F$1,0))*$B12,IFERROR(VLOOKUP(C11,_T1,2,0)*IF(VLOOKUP(C11,_T1,3,0),$B12,1),IF(AND(C11="23:59"*1,D11="07:59"*1),"08:00"*$B12,IF(AND(C11="20:00"*1,D11="05:00"*1),"09:00"*$B12,IF(AND(C11="21:00"*1,D11="07:00"*1),"10:00"*$B12,IF(AND(C11="21:00"*1,D11="08:00"*1),"11:00"*$B12,IF((D11*24)-(C11*24)>6,((((D11*24)-(C11*24))-0.25)/24)*$B12,(D11-C11)*$B12)))))))) -> 0.083333333 | E12: =IF(AND(E11="",F11=""),"",IFERROR(MATCH("*"&E11&"*",Paramètres!$A$2,0)*INDEX(Paramètres!$B$2:$F$2,MATCH(F11,Paramètres!$B$1:$F$1,0))*$B12,IFERROR(VLOOKUP(E11,_T1,2,0)*IF(VLOOKUP(E11,_T1,3,0),$B12,1),IF(AND(E11="23:59"*1,F11="07:59"*1),"08:00"*$B12,IF(AND(E11="20:00"*1,F11="05:00"*1),"09:00"*$B12,IF(AND(E11="21:00"*1,F11="07:00"*1),"10:00"*$B12,IF(AND(E11="21:00"*1,F11="08:00"*1),"11:00"*$B12,IF((F11*24)-(E11*24)>6,((((F11*24)-(E11*24))-0.25)/24)*$B12,(F11-E11)*$B12)))))))) -> 0.15833333 | G12: =IF(AND(G11="",H11=""),"",IFERROR(MATCH("*"&G11&"*",Paramètres!$A$2,0)*INDEX(Paramètres!$B$2:$F$2,MATCH(H11,Paramètres!$B$1:$F$1,0))*$B12,IFERROR(VLOOKUP(G11,_T1,2,0)*IF(VLOOKUP(G11,_T1,3,0),$B12,1),IF(AND(G11="23:59"*1,H11="07:59"*1),"08:00"*$B12,IF(AND(G11="20:00"*1,H11="05:00"*1),"09:00"*$B12,IF(AND(G11="21:00"*1,H11="07:00"*1),"10:00"*$B12,IF(AND(G11="21:00"*1,H11="08:00"*1),"11:00"*$B12,IF((H11*24)-(G11*24)>6,((((H11*24)-(G11*24))-0.25)/24)*$B12,(H11-G11)*$B12)))))))) -> 0.15833333 | I12: =IF(AND(I11="",J11=""),"",IFERROR(MATCH("*"&I11&"*",Paramètres!$A$2,0)*INDEX(Paramètres!$B$2:$F$2,MATCH(J11,Paramètres!$B$1:$F$1,0))*$B12,IFERROR(VLOOKUP(I11,_T1,2,0)*IF(VLOOKUP(I11,_T1,3,0),$B12,1),IF(AND(I11="23:59"*1,J11="07:59"*1),"08:00"*$B12,IF(AND(I11="20:00"*1,J11="05:00"*1),"09:00"*$B12,IF(AND(I11="21:00"*1,J11="07:00"*1),"10:00"*$B12,IF(AND(I11="21:00"*1,J11="08:00"*1),"11:00"*$B12,IF((J11*24)-(I11*24)>6,((((J11*24)-(I11*24))-0.25)/24)*$B12,(J11-I11)*$B12)))))))) -> 0.22916667 | K12: =IF(AND(K11="",L11=""),"",IFERROR(MATCH("*"&K11&"*",Paramètres!$A$2,0)*INDEX(Paramètres!$B$2:$F$2,MATCH(L11,Paramètres!$B$1:$F$1,0))*$B12,IFERROR(VLOOKUP(K11,_T1,2,0)*IF(VLOOKUP(K11,_T1,3,0),$B12,1),IF(AND(K11="23:59"*1,L11="07:59"*1),"08:00"*$B12,IF(AND(K11="20:00"*1,L11="05:00"*1),"09:00"*$B12,IF(AND(K11="21:00"*1,L11="07:00"*1),"10:00"*$B12,IF(AND(K11="21:00"*1,L11="08:00"*1),"11:00"*$B12,IF((L11*24)-(K11*24)>6,((((L11*24)-(K11*24))-0.25)/24)*$B12,(L11-K11)*$B12)))))))) -> 0 | M12: =IF(AND(M11="",N11=""),"",IFERROR(MATCH("*"&M11&"*",Paramètres!$A$2,0)*INDEX(Paramètres!$B$2:$F$2,MATCH(N11,Paramètres!$B$1:$F$1,0))*$B12,IFERROR(VLOOKUP(M11,_T1,2,0)*IF(VLOOKUP(M11,_T1,3,0),$B12,1),IF(AND(M11="23:59"*1,N11="07:59"*1),"08:00"*$B12,IF(AND(M11="20:00"*1,N11="05:00"*1),"09:00"*$B12,IF(AND(M11="21:00"*1,N11="07:00"*1),"10:00"*$B12,IF(AND(M11="21:00"*1,N11="08:00"*1),"11:00"*$B12,IF((N11*24)-(M11*24)>6,((((N11*24)-(M11*24))-0.25)/24)*$B12,(N11-M11)*$B12)))))))) | O12: =IF(AND(O11="",P11=""),"",IFERROR(MATCH("*"&O11&"*",Paramètres!$A$2,0)*INDEX(Paramètres!$B$2:$F$2,MATCH(P11,Paramètres!$B$1:$F$1,0))*$B12,IFERROR(VLOOKUP(O11,_T1,2,0)*IF(VLOOKUP(O11,_T1,3,0),$B12,1),IF(AND(O11="23:59"*1,P11="07:59"*1),"08:00"*$B12,IF(AND(O11="20:00"*1,P11="05:00"*1),"09:00"*$B12,IF(AND(O11="21:00"*1,P11="07:00"*1),"10:00"*$B12,IF(AND(O11="21:00"*1,P11="08:00"*1),"11:00"*$B12,IF((P11*24)-(O11*24)>6,((((P11*24)-(O11*24))-0.25)/24)*$B12,(P11-O11)*$B12)))))))) | R12: =IF(AND(R11="",S11=""),"",IFERROR(MATCH("*"&R11&"*",Paramètres!$A$2,0)*INDEX(Paramètres!$B$2:$E$2,MATCH(#REF!,Paramètres!$B$1:$E$1,0))*$B12,IFERROR(VLOOKUP(R11,_T1,2,0)*IF(VLOOKUP(R11,_T1,3,0),$B12,1),IF(AND(R11="23:59"*1,S11="07:59"*1),"08:00"*$B12,IF(AND(R11="20:00"*1,S11="05:00"*1),"09:00"*$B12,IF(AND(R11="21:00"*1,S11="07:00"*1),"10:00"*$B12,IF(AND(R11="21:00"*1,S11="08:00"*1),"11:00"*$B12,IF((S11*24)-(R11*24)>6,((((S11*24)-(R11*24))-0.25)/24),(S11-R11))))))))) | T12: =IF(AND(T11="",U11=""),"",IFERROR(MATCH("*"&T11&"*",Paramètres!$A$2,0)*INDEX(Paramètres!$B$2:$E$2,MATCH(#REF!,Paramètres!$B$1:$E$1,0))*$B12,IFERROR(VLOOKUP(T11,_T1,2,0)*IF(VLOOKUP(T11,_T1,3,0),$B12,1),IF(AND(T11="23:59"*1,U11="07:59"*1),"08:00"*$B12,IF(AND(T11="20:00"*1,U11="05:00"*1),"09:00"*$B12,IF(AND(T11="21:00"*1,U11="07:00"*1),"10:00"*$B12,IF(AND(T11="21:00"*1,U11="08:00"*1),"11:00"*$B12,IF((U11*24)-(T11*24)>6,((((U11*24)-(T11*24))-0.25)/24),(U11-T11))))))))) | V12: =IF(AND(V11="",W11=""),"",IFERROR(MATCH("*"&V11&"*",Paramètres!$A$2,0)*INDEX(Paramètres!$B$2:$E$2,MATCH(#REF!,Paramètres!$B$1:$E$1,0))*$B12,IFERROR(VLOOKUP(V11,_T1,2,0)*IF(VLOOKUP(V11,_T1,3,0),$B12,1),IF(AND(V11="23:59"*1,W11="07:59"*1),"08:00"*$B12,IF(AND(V11="20:00"*1,W11="05:00"*1),"09:00"*$B12,IF(AND(V11="21:00"*1,W11="07:00"*1),"10:00"*$B12,IF(AND(V11="21:00"*1,W11="08:00"*1),"11:00"*$B12,IF((W11*24)-(V11*24)>6,((((W11*24)-(V11*24))-0.25)/24),(W11-V11))))))))) | X12: =IF(AND(X11="",Y11=""),"",IFERROR(MATCH("*"&X11&"*",Paramètres!$A$2,0)*INDEX(Paramètres!$B$2:$E$2,MATCH(#REF!,Paramètres!$B$1:$E$1,0))*$B12,IFERROR(VLOOKUP(X11,_T1,2,0)*IF(VLOOKUP(X11,_T1,3,0),$B12,1),IF(AND(X11="23:59"*1,Y11="07:59"*1),"08:00"*$B12,IF(AND(X11="20:00"*1,Y11="05:00"*1),"09:00"*$B12,IF(AND(X11="21:00"*1,Y11="07:00"*1),"10:00"*$B12,IF(AND(X11="21:00"*1,Y11="08:00"*1),"11:00"*$B12,IF((Y11*24)-(X11*24)>6,((((Y11*24)-(X11*24))-0.25)/24),(Y11-X11))))))))) | Z12: =IF(AND(Z11="",AA11=""),"",IFERROR(MATCH("*"&Z11&"*",Paramètres!$A$2,0)*INDEX(Paramètres!$B$2:$E$2,MATCH(#REF!,Paramètres!$B$1:$E$1,0))*$B12,IFERROR(VLOOKUP(Z11,_T1,2,0)*IF(VLOOKUP(Z11,_T1,3,0),$B12,1),IF(AND(Z11="23:59"*1,AA11="07:59"*1),"08:00"*$B12,IF(AND(Z11="20:00"*1,AA11="05:00"*1),"09:00"*$B12,IF(AND(Z11="21:00"*1,AA11="07:00"*1),"10:00"*$B12,IF(AND(Z11="21:00"*1,AA11="08:00"*1),"11:00"*$B12,IF((AA11*24)-(Z11*24)>6,((((AA11*24)-(Z11*24))-0.25)/24),(AA11-Z11))))))))) | AB12: =IF(AND(AB11="",AC11=""),"",IFERROR(MATCH("*"&AB11&"*",Paramètres!$A$2,0)*INDEX(Paramètres!$B$2:$E$2,MATCH(#REF!,Paramètres!$B$1:$E$1,0))*$B12,IFERROR(VLOOKUP(AB11,_T1,2,0)*IF(VLOOKUP(AB11,_T1,3,0),$B12,1),IF(AND(AB11="23:59"*1,AC11="07:59"*1),"08:00"*$B12,IF(AND(AB11="20:00"*1,AC11="05:00"*1),"09:00"*$B12,IF(AND(AB11="21:00"*1,AC11="07:00"*1),"10:00"*$B12,IF(AND(AB11="21:00"*1,AC11="08:00"*1),"11:00"*$B12,IF((AC11*24)-(AB11*24)>6,((((AC11*24)-(AB11*24))-0.25)/24),(AC11-AB11))))))))) | AD12: =IF(AND(AD11="",AE11=""),"",IFERROR(MATCH("*"&AD11&"*",Paramètres!$A$2,0)*INDEX(Paramètres!$B$2:$E$2,MATCH(#REF!,Paramètres!$B$1:$E$1,0))*$B12,IFERROR(VLOOKUP(AD11,_T1,2,0)*IF(VLOOKUP(AD11,_T1,3,0),$B12,1),IF(AND(AD11="23:59"*1,AE11="07:59"*1),"08:00"*$B12,IF(AND(AD11="20:00"*1,AE11="05:00"*1),"09:00"*$B12,IF(AND(AD11="21:00"*1,AE11="07:00"*1),"10:00"*$B12,IF(AND(AD11="21:00"*1,AE11="08:00"*1),"11:00"*$B12,IF((AE11*24)-(AD11*24)>6,((((AE11*24)-(AD11*24))-0.25)/24),(AE11-AD11))))))))) | AG12: =IF(AND(AG11="",AH11=""),"",IFERROR(MATCH("*"&AG11&"*",Paramètres!$A$2,0)*INDEX(Paramètres!$B$2:$E$2,MATCH(#REF!,Paramètres!$B$1:$E$1,0))*$B12,IFERROR(VLOOKUP(AG11,_T1,2,0)*IF(VLOOKUP(AG11,_T1,3,0),$B12,1),IF(AND(AG11="23:59"*1,AH11="07:59"*1),"08:00"*$B12,IF(AND(AG11="20:00"*1,AH11="05:00"*1),"09:00"*$B12,IF(AND(AG11="21:00"*1,AH11="07:00"*1),"10:00"*$B12,IF(AND(AG11="21:00"*1,AH11="08:00"*1),"11:00"*$B12,IF((AH11*24)-(AG11*24)>6,((((AH11*24)-(AG11*24))-0.25)/24),(AH11-AG11))))))))) | AI12: =IF(AND(AI11="",AJ11=""),"",IFERROR(MATCH("*"&AI11&"*",Paramètres!$A$2,0)*INDEX(Paramètres!$B$2:$E$2,MATCH(#REF!,Paramètres!$B$1:$E$1,0))*$B12,IFERROR(VLOOKUP(AI11,_T1,2,0)*IF(VLOOKUP(AI11,_T1,3,0),$B12,1),IF(AND(AI11="23:59"*1,AJ11="07:59"*1),"08:00"*$B12,IF(AND(AI11="20:00"*1,AJ11="05:00"*1),"09:00"*$B12,IF(AND(AI11="21:00"*1,AJ11="07:00"*1),"10:00"*$B12,IF(AND(AI11="21:00"*1,AJ11="08:00"*1),"11:00"*$B12,IF((AJ11*24)-(AI11*24)>6,((((AJ11*24)-(AI11*24))-0.25)/24),(AJ11-AI11))))))))) | AK12: =IF(AND(AK11="",AL11=""),"",IFERROR(MATCH("*"&AK11&"*",Paramètres!$A$2,0)*INDEX(Paramètres!$B$2:$E$2,MATCH(#REF!,Paramètres!$B$1:$E$1,0))*$B12,IFERROR(VLOOKUP(AK11,_T1,2,0)*IF(VLOOKUP(AK11,_T1,3,0),$B12,1),IF(AND(AK11="23:59"*1,AL11="07:59"*1),"08:00"*$B12,IF(AND(AK11="20:00"*1,AL11="05:00"*1),"09:00"*$B12,IF(AND(AK11="21:00"*1,AL11="07:00"*1),"10:00"*$B12,IF(AND(AK11="21:00"*1,AL11="08:00"*1),"11:00"*$B12,IF((AL11*24)-(AK11*24)>6,((((AL11*24)-(AK11*24))-0.25)/24),(AL11-AK11))))))))) | AM12: =IF(AND(AM11="",AN11=""),"",IFERROR(MATCH("*"&AM11&"*",Paramètres!$A$2,0)*INDEX(Paramètres!$B$2:$E$2,MATCH(#REF!,Paramètres!$B$1:$E$1,0))*$B12,IFERROR(VLOOKUP(AM11,_T1,2,0)*IF(VLOOKUP(AM11,_T1,3,0),$B12,1),IF(AND(AM11="23:59"*1,AN11="07:59"*1),"08:00"*$B12,IF(AND(AM11="20:00"*1,AN11="05:00"*1),"09:00"*$B12,IF(AND(AM11="21:00"*1,AN11="07:00"*1),"10:00"*$B12,IF(AND(AM11="21:00"*1,AN11="08:00"*1),"11:00"*$B12,IF((AN11*24)-(AM11*24)>6,((((AN11*24)-(AM11*24))-0.25)/24),(AN11-AM11))))))))) | AO12: =IF(AND(AO11="",AP11=""),"",IFERROR(MATCH("*"&AO11&"*",Paramètres!$A$2,0)*INDEX(Paramètres!$B$2:$E$2,MATCH(#REF!,Paramètres!$B$1:$E$1,0))*$B12,IFERROR(VLOOKUP(AO11,_T1,2,0)*IF(VLOOKUP(AO11,_T1,3,0),$B12,1),IF(AND(AO11="23:59"*1,AP11="07:59"*1),"08:00"*$B12,IF(AND(AO11="20:00"*1,AP11="05:00"*1),"09:00"*$B12,IF(AND(AO11="21:00"*1,AP11="07:00"*1),"10:00"*$B12,IF(AND(AO11="21:00"*1,AP11="08:00"*1),"11:00"*$B12,IF((AP11*24)-(AO11*24)>6,((((AP11*24)-(AO11*24))-0.25)/24),(AP11-AO11))))))))) | AQ12: =IF(AND(AQ11="",AR11=""),"",IFERROR(MATCH("*"&AQ11&"*",Paramètres!$A$2,0)*INDEX(Paramètres!$B$2:$E$2,MATCH(#REF!,Paramètres!$B$1:$E$1,0))*$B12,IFERROR(VLOOKUP(AQ11,_T1,2,0)*IF(VLOOKUP(AQ11,_T1,3,0),$B12,1),IF(AND(AQ11="23:59"*1,AR11="07:59"*1),"08:00"*$B12,IF(AND(AQ11="20:00"*1,AR11="05:00"*1),"09:00"*$B12,IF(AND(AQ11="21:00"*1,AR11="07:00"*1),"10:00"*$B12,IF(AND(AQ11="21:00"*1,AR11="08:00"*1),"11:00"*$B12,IF((AR11*24)-(AQ11*24)>6,((((AR11*24)-(AQ11*24))-0.25)/24),(AR11-AQ11))))))))) | AS12: =IF(AND(AS11="",AT11=""),"",IFERROR(MATCH("*"&AS11&"*",Paramètres!$A$2,0)*INDEX(Paramètres!$B$2:$E$2,MATCH(#REF!,Paramètres!$B$1:$E$1,0))*$B12,IFERROR(VLOOKUP(AS11,_T1,2,0)*IF(VLOOKUP(AS11,_T1,3,0),$B12,1),IF(AND(AS11="23:59"*1,AT11="07:59"*1),"08:00"*$B12,IF(AND(AS11="20:00"*1,AT11="05:00"*1),"09:00"*$B12,IF(AND(AS11="21:00"*1,AT11="07:00"*1),"10:00"*$B12,IF(AND(AS11="21:00"*1,AT11="08:00"*1),"11:00"*$B12,IF((AT11*24)-(AS11*24)>6,((((AT11*24)-(AS11*24))-0.25)/24),(AT11-AS11))))))))) | AV12: =IF(AND(AV11="",AW11=""),"",IFERROR(MATCH("*"&AV11&"*",Paramètres!$A$2,0)*INDEX(Paramètres!$B$2:$E$2,MATCH(#REF!,Paramètres!$B$1:$E$1,0))*$B12,IFERROR(VLOOKUP(AV11,_T1,2,0)*IF(VLOOKUP(AV11,_T1,3,0),$B12,1),IF(AND(AV11="23:59"*1,AW11="07:59"*1),"08:00"*$B12,IF(AND(AV11="20:00"*1,AW11="05:00"*1),"09:00"*$B12,IF(AND(AV11="21:00"*1,AW11="07:00"*1),"10:00"*$B12,IF(AND(AV11="21:00"*1,AW11="08:00"*1),"11:00"*$B12,IF((AW11*24)-(AV11*24)>6,((((AW11*24)-(AV11*24))-0.25)/24),(AW11-AV11))))))))) | AX12: =IF(AND(AX11="",AY11=""),"",IFERROR(MATCH("*"&AX11&"*",Paramètres!$A$2,0)*INDEX(Paramètres!$B$2:$E$2,MATCH(#REF!,Paramètres!$B$1:$E$1,0))*$B12,IFERROR(VLOOKUP(AX11,_T1,2,0)*IF(VLOOKUP(AX11,_T1,3,0),$B12,1),IF(AND(AX11="23:59"*1,AY11="07:59"*1),"08:00"*$B12,IF(AND(AX11="20:00"*1,AY11="05:00"*1),"09:00"*$B12,IF(AND(AX11="21:00"*1,AY11="07:00"*1),"10:00"*$B12,IF(AND(AX11="21:00"*1,AY11="08:00"*1),"11:00"*$B12,IF((AY11*24)-(AX11*24)>6,((((AY11*24)-(AX11*24))-0.25)/24),(AY11-AX11))))))))) | AZ12: =IF(AND(AZ11="",BA11=""),"",IFERROR(MATCH("*"&AZ11&"*",Paramètres!$A$2,0)*INDEX(Paramètres!$B$2:$E$2,MATCH(#REF!,Paramètres!$B$1:$E$1,0))*$B12,IFERROR(VLOOKUP(AZ11,_T1,2,0)*IF(VLOOKUP(AZ11,_T1,3,0),$B12,1),IF(AND(AZ11="23:59"*1,BA11="07:59"*1),"08:00"*$B12,IF(AND(AZ11="20:00"*1,BA11="05:00"*1),"09:00"*$B12,IF(AND(AZ11="21:00"*1,BA11="07:00"*1),"10:00"*$B12,IF(AND(AZ11="21:00"*1,BA11="08:00"*1),"11:00"*$B12,IF((BA11*24)-(AZ11*24)>6,((((BA11*24)-(AZ11*24))-0.25)/24),(BA11-AZ11))))))))) | BB12: =IF(AND(BB11="",BC11=""),"",IFERROR(MATCH("*"&BB11&"*",Paramètres!$A$2,0)*INDEX(Paramètres!$B$2:$E$2,MATCH(#REF!,Paramètres!$B$1:$E$1,0))*$B12,IFERROR(VLOOKUP(BB11,_T1,2,0)*IF(VLOOKUP(BB11,_T1,3,0),$B12,1),IF(AND(BB11="23:59"*1,BC11="07:59"*1),"08:00"*$B12,IF(AND(BB11="20:00"*1,BC11="05:00"*1),"09:00"*$B12,IF(AND(BB11="21:00"*1,BC11="07:00"*1),"10:00"*$B12,IF(AND(BB11="21:00"*1,BC11="08:00"*1),"11:00"*$B12,IF((BC11*24)-(BB11*24)>6,((((BC11*24)-(BB11*24))-0.25)/24),(BC11-BB11))))))))) | BD12: =IF(AND(BD11="",BE11=""),"",IFERROR(MATCH("*"&BD11&"*",Paramètres!$A$2,0)*INDEX(Paramètres!$B$2:$E$2,MATCH(#REF!,Paramètres!$B$1:$E$1,0))*$B12,IFERROR(VLOOKUP(BD11,_T1,2,0)*IF(VLOOKUP(BD11,_T1,3,0),$B12,1),IF(AND(BD11="23:59"*1,BE11="07:59"*1),"08:00"*$B12,IF(AND(BD11="20:00"*1,BE11="05:00"*1),"09:00"*$B12,IF(AND(BD11="21:00"*1,BE11="07:00"*1),"10:00"*$B12,IF(AND(BD11="21:00"*1,BE11="08:00"*1),"11:00"*$B12,IF((BE11*24)-(BD11*24)>6,((((BE11*24)-(BD11*24))-0.25)/24),(BE11-BD11))))))))) | BF12: =IF(AND(BF11="",BG11=""),"",IFERROR(MATCH("*"&BF11&"*",Paramètres!$A$2,0)*INDEX(Paramètres!$B$2:$E$2,MATCH(#REF!,Paramètres!$B$1:$E$1,0))*$B12,IFERROR(VLOOKUP(BF11,_T1,2,0)*IF(VLOOKUP(BF11,_T1,3,0),$B12,1),IF(AND(BF11="23:59"*1,BG11="07:59"*1),"08:00"*$B12,IF(AND(BF11="20:00"*1,BG11="05:00"*1),"09:00"*$B12,IF(AND(BF11="21:00"*1,BG11="07:00"*1),"10:00"*$B12,IF(AND(BF11="21:00"*1,BG11="08:00"*1),"11:00"*$B12,IF((BG11*24)-(BF11*24)>6,((((BG11*24)-(BF11*24))-0.25)/24),(BG11-BF11))))))))) | BH12: =IF(AND(BH11="",BI11=""),"",IFERROR(MATCH("*"&BH11&"*",Paramètres!$A$2,0)*INDEX(Paramètres!$B$2:$E$2,MATCH(#REF!,Paramètres!$B$1:$E$1,0))*$B12,IFERROR(VLOOKUP(BH11,_T1,2,0)*IF(VLOOKUP(BH11,_T1,3,0),$B12,1),IF(AND(BH11="23:59"*1,BI11="07:59"*1),"08:00"*$B12,IF(AND(BH11="20:00"*1,BI11="05:00"*1),"09:00"*$B12,IF(AND(BH11="21:00"*1,BI11="07:00"*1),"10:00"*$B12,IF(AND(BH11="21:00"*1,BI11="08:00"*1),"11:00"*$B12,IF((BI11*24)-(BH11*24)>6,((((BI11*24)-(BH11*24))-0.25)/24),(BI11-BH11))))))))) | BK12: =IF(AND(BK11="",BL11=""),"",IFERROR(MATCH("*"&BK11&"*",Paramètres!$A$2,0)*INDEX(Paramètres!$B$2:$E$2,MATCH(#REF!,Paramètres!$B$1:$E$1,0))*$B12,IFERROR(VLOOKUP(BK11,_T1,2,0)*IF(VLOOKUP(BK11,_T1,3,0),$B12,1),IF(AND(BK11="23:59"*1,BL11="07:59"*1),"08:00"*$B12,IF(AND(BK11="20:00"*1,BL11="05:00"*1),"09:00"*$B12,IF(AND(BK11="21:00"*1,BL11="07:00"*1),"10:00"*$B12,IF(AND(BK11="21:00"*1,BL11="08:00"*1),"11:00"*$B12,IF((BL11*24)-(BK11*24)>6,((((BL11*24)-(BK11*24))-0.25)/24),(BL11-BK11))))))))) | BM12: =IF(AND(BM11="",BN11=""),"",IFERROR(MATCH("*"&BM11&"*",Paramètres!$A$2,0)*INDEX(Paramètres!$B$2:$E$2,MATCH(#REF!,Paramètres!$B$1:$E$1,0))*$B12,IFERROR(VLOOKUP(BM11,_T1,2,0)*IF(VLOOKUP(BM11,_T1,3,0),$B12,1),IF(AND(BM11="23:59"*1,BN11="07:59"*1),"08:00"*$B12,IF(AND(BM11="20:00"*1,BN11="05:00"*1),"09:00"*$B12,IF(AND(BM11="21:00"*1,BN11="07:00"*1),"10:00"*$B12,IF(AND(BM11="21:00"*1,BN11="08:00"*1),"11:00"*$B12,IF((BN11*24)-(BM11*24)>6,((((BN11*24)-(BM11*24))-0.25)/24),(BN11-BM11))))))))) | BO12: =IF(AND(BO11="",BP11=""),"",IFERROR(MATCH("*"&BO11&"*",Paramètres!$A$2,0)*INDEX(Paramètres!$B$2:$E$2,MATCH(#REF!,Paramètres!$B$1:$E$1,0))*$B12,IFERROR(VLOOKUP(BO11,_T1,2,0)*IF(VLOOKUP(BO11,_T1,3,0),$B12,1),IF(AND(BO11="23:59"*1,BP11="07:59"*1),"08:00"*$B12,IF(AND(BO11="20:00"*1,BP11="05:00"*1),"09:00"*$B12,IF(AND(BO11="21:00"*1,BP11="07:00"*1),"10:00"*$B12,IF(AND(BO11="21:00"*1,BP11="08:00"*1),"11:00"*$B12,IF((BP11*24)-(BO11*24)>6,((((BP11*24)-(BO11*24))-0.25)/24),(BP11-BO11))))))))) | BQ12: =IF(AND(BQ11="",BR11=""),"",IFERROR(MATCH("*"&BQ11&"*",Paramètres!$A$2,0)*INDEX(Paramètres!$B$2:$E$2,MATCH(#REF!,Paramètres!$B$1:$E$1,0))*$B12,IFERROR(VLOOKUP(BQ11,_T1,2,0)*IF(VLOOKUP(BQ11,_T1,3,0),$B12,1),IF(AND(BQ11="23:59"*1,BR11="07:59"*1),"08:00"*$B12,IF(AND(BQ11="20:00"*1,BR11="05:00"*1),"09:00"*$B12,IF(AND(BQ11="21:00"*1,BR11="07:00"*1),"10:00"*$B12,IF(AND(BQ11="21:00"*1,BR11="08:00"*1),"11:00"*$B12,IF((BR11*24)-(BQ11*24)>6,((((BR11*24)-(BQ11*24))-0.25)/24),(BR11-BQ11))))))))) | BS12: =IF(AND(BS11="",BT11=""),"",IFERROR(MATCH("*"&BS11&"*",Paramètres!$A$2,0)*INDEX(Paramètres!$B$2:$E$2,MATCH(#REF!,Paramètres!$B$1:$E$1,0))*$B12,IFERROR(VLOOKUP(BS11,_T1,2,0)*IF(VLOOKUP(BS11,_T1,3,0),$B12,1),IF(AND(BS11="23:59"*1,BT11="07:59"*1),"08:00"*$B12,IF(AND(BS11="20:00"*1,BT11="05:00"*1),"09:00"*$B12,IF(AND(BS11="21:00"*1,BT11="07:00"*1),"10:00"*$B12,IF(AND(BS11="21:00"*1,BT11="08:00"*1),"11:00"*$B12,IF((BT11*24)-(BS11*24)>6,((((BT11*24)-(BS11*24))-0.25)/24),(BT11-BS11))))))))) | BU12: =IF(AND(BU11="",BV11=""),"",IFERROR(MATCH("*"&BU11&"*",Paramètres!$A$2,0)*INDEX(Paramètres!$B$2:$E$2,MATCH(#REF!,Paramètres!$B$1:$E$1,0))*$B12,IFERROR(VLOOKUP(BU11,_T1,2,0)*IF(VLOOKUP(BU11,_T1,3,0),$B12,1),IF(AND(BU11="23:59"*1,BV11="07:59"*1),"08:00"*$B12,IF(AND(BU11="20:00"*1,BV11="05:00"*1),"09:00"*$B12,IF(AND(BU11="21:00"*1,BV11="07:00"*1),"10:00"*$B12,IF(AND(BU11="21:00"*1,BV11="08:00"*1),"11:00"*$B12,IF((BV11*24)-(BU11*24)>6,((((BV11*24)-(BU11*24))-0.25)/24),(BV11-BU11))))))))) | BW12: =IF(AND(BW11="",BX11=""),"",IFERROR(MATCH("*"&BW11&"*",Paramètres!$A$2,0)*INDEX(Paramètres!$B$2:$E$2,MATCH(#REF!,Paramètres!$B$1:$E$1,0))*$B12,IFERROR(VLOOKUP(BW11,_T1,2,0)*IF(VLOOKUP(BW11,_T1,3,0),$B12,1),IF(AND(BW11="23:59"*1,BX11="07:59"*1),"08:00"*$B12,IF(AND(BW11="20:00"*1,BX11="05:00"*1),"09:00"*$B12,IF(AND(BW11="21:00"*1,BX11="07:00"*1),"10:00"*$B12,IF(AND(BW11="21:00"*1,BX11="08:00"*1),"11:00"*$B12,IF((BX11*24)-(BW11*24)>6,((((BX11*24)-(BW11*24))-0.25)/24),(BX11-BW11))))))))) | BZ12: =IF(AND(BZ11="",CA11=""),"",IFERROR(MATCH("*"&BZ11&"*",Paramètres!$A$2,0)*INDEX(Paramètres!$B$2:$E$2,MATCH(#REF!,Paramètres!$B$1:$E$1,0))*$B12,IFERROR(VLOOKUP(BZ11,_T1,2,0)*IF(VLOOKUP(BZ11,_T1,3,0),$B12,1),IF(AND(BZ11="23:59"*1,CA11="07:59"*1),"08:00"*$B12,IF(AND(BZ11="20:00"*1,CA11="05:00"*1),"09:00"*$B12,IF(AND(BZ11="21:00"*1,CA11="07:00"*1),"10:00"*$B12,IF(AND(BZ11="21:00"*1,CA11="08:00"*1),"11:00"*$B12,IF((CA11*24)-(BZ11*24)>6,((((CA11*24)-(BZ11*24))-0.25)/24),(CA11-BZ11))))))))) | CB12: =IF(AND(CB11="",CC11=""),"",IFERROR(MATCH("*"&CB11&"*",Paramètres!$A$2,0)*INDEX(Paramètres!$B$2:$E$2,MATCH(#REF!,Paramètres!$B$1:$E$1,0))*$B12,IFERROR(VLOOKUP(CB11,_T1,2,0)*IF(VLOOKUP(CB11,_T1,3,0),$B12,1),IF(AND(CB11="23:59"*1,CC11="07:59"*1),"08:00"*$B12,IF(AND(CB11="20:00"*1,CC11="05:00"*1),"09:00"*$B12,IF(AND(CB11="21:00"*1,CC11="07:00"*1),"10:00"*$B12,IF(AND(CB11="21:00"*1,CC11="08:00"*1),"11:00"*$B12,IF((CC11*24)-(CB11*24)>6,((((CC11*24)-(CB11*24))-0.25)/24),(CC11-CB11))))))))) | CD12: =IF(AND(CD11="",CE11=""),"",IFERROR(MATCH("*"&CD11&"*",Paramètres!$A$2,0)*INDEX(Paramètres!$B$2:$E$2,MATCH(#REF!,Paramètres!$B$1:$E$1,0))*$B12,IFERROR(VLOOKUP(CD11,_T1,2,0)*IF(VLOOKUP(CD11,_T1,3,0),$B12,1),IF(AND(CD11="23:59"*1,CE11="07:59"*1),"08:00"*$B12,IF(AND(CD11="20:00"*1,CE11="05:00"*1),"09:00"*$B12,IF(AND(CD11="21:00"*1,CE11="07:00"*1),"10:00"*$B12,IF(AND(CD11="21:00"*1,CE11="08:00"*1),"11:00"*$B12,IF((CE11*24)-(CD11*24)>6,((((CE11*24)-(CD11*24))-0.25)/24),(CE11-CD11))))))))) | CF12: =IF(AND(CF11="",CG11=""),"",IFERROR(MATCH("*"&CF11&"*",Paramètres!$A$2,0)*INDEX(Paramètres!$B$2:$E$2,MATCH(#REF!,Paramètres!$B$1:$E$1,0))*$B12,IFERROR(VLOOKUP(CF11,_T1,2,0)*IF(VLOOKUP(CF11,_T1,3,0),$B12,1),IF(AND(CF11="23:59"*1,CG11="07:59"*1),"08:00"*$B12,IF(AND(CF11="20:00"*1,CG11="05:00"*1),"09:00"*$B12,IF(AND(CF11="21:00"*1,CG11="07:00"*1),"10:00"*$B12,IF(AND(CF11="21:00"*1,CG11="08:00"*1),"11:00"*$B12,IF((CG11*24)-(CF11*24)>6,((((CG11*24)-(CF11*24))-0.25)/24),(CG11-CF11))))))))) | CH12: =IF(AND(CH11="",CI11=""),"",IFERROR(MATCH("*"&CH11&"*",Paramètres!$A$2,0)*INDEX(Paramètres!$B$2:$E$2,MATCH(#REF!,Paramètres!$B$1:$E$1,0))*$B12,IFERROR(VLOOKUP(CH11,_T1,2,0)*IF(VLOOKUP(CH11,_T1,3,0),$B12,1),IF(AND(CH11="23:59"*1,CI11="07:59"*1),"08:00"*$B12,IF(AND(CH11="20:00"*1,CI11="05:00"*1),"09:00"*$B12,IF(AND(CH11="21:00"*1,CI11="07:00"*1),"10:00"*$B12,IF(AND(CH11="21:00"*1,CI11="08:00"*1),"11:00"*$B12,IF((CI11*24)-(CH11*24)>6,((((CI11*24)-(CH11*24))-0.25)/24),(CI11-CH11))))))))) | CJ12: =IF(AND(CJ11="",CK11=""),"",IFERROR(MATCH("*"&CJ11&"*",Paramètres!$A$2,0)*INDEX(Paramètres!$B$2:$E$2,MATCH(#REF!,Paramètres!$B$1:$E$1,0))*$B12,IFERROR(VLOOKUP(CJ11,_T1,2,0)*IF(VLOOKUP(CJ11,_T1,3,0),$B12,1),IF(AND(CJ11="23:59"*1,CK11="07:59"*1),"08:00"*$B12,IF(AND(CJ11="20:00"*1,CK11="05:00"*1),"09:00"*$B12,IF(AND(CJ11="21:00"*1,CK11="07:00"*1),"10:00"*$B12,IF(AND(CJ11="21:00"*1,CK11="08:00"*1),"11:00"*$B12,IF((CK11*24)-(CJ11*24)>6,((((CK11*24)-(CJ11*24))-0.25)/24),(CK11-CJ11))))))))) | CL12: =IF(AND(CL11="",CM11=""),"",IFERROR(MATCH("*"&CL11&"*",Paramètres!$A$2,0)*INDEX(Paramètres!$B$2:$E$2,MATCH(#REF!,Paramètres!$B$1:$E$1,0))*$B12,IFERROR(VLOOKUP(CL11,_T1,2,0)*IF(VLOOKUP(CL11,_T1,3,0),$B12,1),IF(AND(CL11="23:59"*1,CM11="07:59"*1),"08:00"*$B12,IF(AND(CL11="20:00"*1,CM11="05:00"*1),"09:00"*$B12,IF(AND(CL11="21:00"*1,CM11="07:00"*1),"10:00"*$B12,IF(AND(CL11="21:00"*1,CM11="08:00"*1),"11:00"*$B12,IF((CM11*24)-(CL11*24)>6,((((CM11*24)-(CL11*24))-0.25)/24),(CM11-CL11)))))))))
A13: ACTIVITÉS
A14: BABOUTZ | C14: 0.33333333 | D14: 0.5 | E14: 0.875 | F14: 0.33333333 | G14: VA | Q14: =SUM(C15:P15) -> 0.74791667 | AF14: =SUM(R15:AE15) -> 0 | AU14: =SUM(AG15:AT15) -> 0 | BJ14: =SUM(AV15:BI15) -> 0 | BY14: =SUM(BK15:BX15) -> 0 | CN14: =SUM(BZ15:CM15) -> 0 | CO14: =SUM(Q14,AF15,AU15,BY15,CN15,BJ15) -> 0.74791667 | CR14: =$CO$2-CO14 -> 6.21875
B15: 0.75 | C15: =IF(AND(C14="",D14=""),"",IFERROR(MATCH("*"&C14&"*",Paramètres!$A$2,0)*INDEX(Paramètres!$B$2:$E$2,MATCH(#REF!,Paramètres!$B$1:$E$1,0))*$B15,IFERROR(VLOOKUP(C14,_T1,2,0)*IF(VLOOKUP(C14,_T1,3,0),$B15,1),IF(AND(C14="23:59"*1,D14="07:59"*1),"08:00"*$B15,IF(AND(C14="20:00"*1,D14="05:00"*1),"09:00"*$B15,IF(AND(C14="21:00"*1,D14="07:00"*1),"10:00"*$B15,IF(AND(C14="21:00"*1,D14="08:00"*1),"11:00"*$B15,IF((D14*24)-(C14*24)>6,((((D14*24)-(C14*24))-0.25)/24),(D14-C14))))))))) -> 0.16666667 | E15: =IF(AND(E14="",F14=""),"",IFERROR(MATCH("*"&E14&"*",Paramètres!$A$2,0)*INDEX(Paramètres!$B$2:$E$2,MATCH(#REF!,Paramètres!$B$1:$E$1,0))*$B15,IFERROR(VLOOKUP(E14,_T1,2,0)*IF(VLOOKUP(E14,_T1,3,0),$B15,1),IF(AND(E14="23:59"*1,F14="07:59"*1),"08:00"*$B15,IF(AND(E14="20:00"*1,F14="05:00"*1),"09:00"*$B15,IF(AND(E14="21:00"*1,F14="07:00"*1),"10:00"*$B15,IF(AND(E14="21:00"*1,F14="08:00"*1),"11:00"*$B15,IF((F14*24)-(E14*24)>6,((((F14*24)-(E14*24))-0.25)/24),(F14-E14))))))))) -> 0.34375 | G15: =IF(AND(G14="",H14=""),"",IFERROR(MATCH("*"&G14&"*",Paramètres!$A$2,0)*INDEX(Paramètres!$B$2:$E$2,MATCH(#REF!,Paramètres!$B$1:$E$1,0))*$B15,IFERROR(VLOOKUP(G14,_T1,2,0)*IF(VLOOKUP(G14,_T1,3,0),$B15,1),IF(AND(G14="23:59"*1,H14="07:59"*1),"08:00"*$B15,IF(AND(G14="20:00"*1,H14="05:00"*1),"09:00"*$B15,IF(AND(G14="21:00"*1,H14="07:00"*1),"10:00"*$B15,IF(AND(G14="21:00"*1,H14="08:00"*1),"11:00"*$B15,IF((H14*24)-(G14*24)>6,((((H14*24)-(G14*24))-0.25)/24),(H14-G14))))))))) -> 0.2375 | I15: =IF(AND(I14="",J14=""),"",IFERROR(MATCH("*"&I14&"*",Paramètres!$A$2,0)*INDEX(Paramètres!$B$2:$E$2,MATCH(#REF!,Paramètres!$B$1:$E$1,0))*$B15,IFERROR(VLOOKUP(I14,_T1,2,0)*IF(VLOOKUP(I14,_T1,3,0),$B15,1),IF(AND(I14="23:59"*1,J14="07:59"*1),"08:00"*$B15,IF(AND(I14="20:00"*1,J14="05:00"*1),"09:00"*$B15,IF(AND(I14="21:00"*1,J14="07:00"*1),"10:00"*$B15,IF(AND(I14="21:00"*1,J14="08:00"*1),"11:00"*$B15,IF((J14*24)-(I14*24)>6,((((J14*24)-(I14*24))-0.25)/24),(J14-I14))))))))) | K15: =IF(AND(K14="",L14=""),"",IFERROR(MATCH("*"&K14&"*",Paramètres!$A$2,0)*INDEX(Paramètres!$B$2:$E$2,MATCH(#REF!,Paramètres!$B$1:$E$1,0))*$B15,IFERROR(VLOOKUP(K14,_T1,2,0)*IF(VLOOKUP(K14,_T1,3,0),$B15,1),IF(AND(K14="23:59"*1,L14="07:59"*1),"08:00"*$B15,IF(AND(K14="20:00"*1,L14="05:00"*1),"09:00"*$B15,IF(AND(K14="21:00"*1,L14="07:00"*1),"10:00"*$B15,IF(AND(K14="21:00"*1,L14="08:00"*1),"11:00"*$B15,IF((L14*24)-(K14*24)>6,((((L14*24)-(K14*24))-0.25)/24),(L14-K14))))))))) | M15: =IF(AND(M14="",N14=""),"",IFERROR(MATCH("*"&M14&"*",Paramètres!$A$2,0)*INDEX(Paramètres!$B$2:$E$2,MATCH(#REF!,Paramètres!$B$1:$E$1,0))*$B15,IFERROR(VLOOKUP(M14,_T1,2,0)*IF(VLOOKUP(M14,_T1,3,0),$B15,1),IF(AND(M14="23:59"*1,N14="07:59"*1),"08:00"*$B15,IF(AND(M14="20:00"*1,N14="05:00"*1),"09:00"*$B15,IF(AND(M14="21:00"*1,N14="07:00"*1),"10:00"*$B15,IF(AND(M14="21:00"*1,N14="08:00"*1),"11:00"*$B15,IF((N14*24)-(M14*24)>6,((((N14*24)-(M14*24))-0.25)/24),(N14-M14))))))))) | O15: =IF(AND(O14="",P14=""),"",IFERROR(MATCH("*"&O14&"*",Paramètres!$A$2,0)*INDEX(Paramètres!$B$2:$E$2,MATCH(#REF!,Paramètres!$B$1:$E$1,0))*$B15,IFERROR(VLOOKUP(O14,_T1,2,0)*IF(VLOOKUP(O14,_T1,3,0),$B15,1),IF(AND(O14="23:59"*1,P14="07:59"*1),"08:00"*$B15,IF(AND(O14="20:00"*1,P14="05:00"*1),"09:00"*$B15,IF(AND(O14="21:00"*1,P14="07:00"*1),"10:00"*$B15,IF(AND(O14="21:00"*1,P14="08:00"*1),"11:00"*$B15,IF((P14*24)-(O14*24)>6,((((P14*24)-(O14*24))-0.25)/24),(P14-O14))))))))) | R15: =IF(AND(R14="",S14=""),"",IFERROR(MATCH("*"&R14&"*",Paramètres!$A$2,0)*INDEX(Paramètres!$B$2:$E$2,MATCH(#REF!,Paramètres!$B$1:$E$1,0))*$B15,IFERROR(VLOOKUP(R14,_T1,2,0)*IF(VLOOKUP(R14,_T1,3,0),$B15,1),IF(AND(R14="23:59"*1,S14="07:59"*1),"08:00"*$B15,IF(AND(R14="20:00"*1,S14="05:00"*1),"09:00"*$B15,IF(AND(R14="21:00"*1,S14="07:00"*1),"10:00"*$B15,IF(AND(R14="21:00"*1,S14="08:00"*1),"11:00"*$B15,IF((S14*24)-(R14*24)>6,((((S14*24)-(R14*24))-0.25)/24),(S14-R14))))))))) | T15: =IF(AND(T14="",U14=""),"",IFERROR(MATCH("*"&T14&"*",Paramètres!$A$2,0)*INDEX(Paramètres!$B$2:$E$2,MATCH(#REF!,Paramètres!$B$1:$E$1,0))*$B15,IFERROR(VLOOKUP(T14,_T1,2,0)*IF(VLOOKUP(T14,_T1,3,0),$B15,1),IF(AND(T14="23:59"*1,U14="07:59"*1),"08:00"*$B15,IF(AND(T14="20:00"*1,U14="05:00"*1),"09:00"*$B15,IF(AND(T14="21:00"*1,U14="07:00"*1),"10:00"*$B15,IF(AND(T14="21:00"*1,U14="08:00"*1),"11:00"*$B15,IF((U14*24)-(T14*24)>6,((((U14*24)-(T14*24))-0.25)/24),(U14-T14))))))))) | V15: =IF(AND(V14="",W14=""),"",IFERROR(MATCH("*"&V14&"*",Paramètres!$A$2,0)*INDEX(Paramètres!$B$2:$E$2,MATCH(#REF!,Paramètres!$B$1:$E$1,0))*$B15,IFERROR(VLOOKUP(V14,_T1,2,0)*IF(VLOOKUP(V14,_T1,3,0),$B15,1),IF(AND(V14="23:59"*1,W14="07:59"*1),"08:00"*$B15,IF(AND(V14="20:00"*1,W14="05:00"*1),"09:00"*$B15,IF(AND(V14="21:00"*1,W14="07:00"*1),"10:00"*$B15,IF(AND(V14="21:00"*1,W14="08:00"*1),"11:00"*$B15,IF((W14*24)-(V14*24)>6,((((W14*24)-(V14*24))-0.25)/24),(W14-V14))))))))) | X15: =IF(AND(X14="",Y14=""),"",IFERROR(MATCH("*"&X14&"*",Paramètres!$A$2,0)*INDEX(Paramètres!$B$2:$E$2,MATCH(#REF!,Paramètres!$B$1:$E$1,0))*$B15,IFERROR(VLOOKUP(X14,_T1,2,0)*IF(VLOOKUP(X14,_T1,3,0),$B15,1),IF(AND(X14="23:59"*1,Y14="07:59"*1),"08:00"*$B15,IF(AND(X14="20:00"*1,Y14="05:00"*1),"09:00"*$B15,IF(AND(X14="21:00"*1,Y14="07:00"*1),"10:00"*$B15,IF(AND(X14="21:00"*1,Y14="08:00"*1),"11:00"*$B15,IF((Y14*24)-(X14*24)>6,((((Y14*24)-(X14*24))-0.25)/24),(Y14-X14))))))))) | Z15: =IF(AND(Z14="",AA14=""),"",IFERROR(MATCH("*"&Z14&"*",Paramètres!$A$2,0)*INDEX(Paramètres!$B$2:$E$2,MATCH(#REF!,Paramètres!$B$1:$E$1,0))*$B15,IFERROR(VLOOKUP(Z14,_T1,2,0)*IF(VLOOKUP(Z14,_T1,3,0),$B15,1),IF(AND(Z14="23:59"*1,AA14="07:59"*1),"08:00"*$B15,IF(AND(Z14="20:00"*1,AA14="05:00"*1),"09:00"*$B15,IF(AND(Z14="21:00"*1,AA14="07:00"*1),"10:00"*$B15,IF(AND(Z14="21:00"*1,AA14="08:00"*1),"11:00"*$B15,IF((AA14*24)-(Z14*24)>6,((((AA14*24)-(Z14*24))-0.25)/24),(AA14-Z14))))))))) | AB15: =IF(AND(AB14="",AC14=""),"",IFERROR(MATCH("*"&AB14&"*",Paramètres!$A$2,0)*INDEX(Paramètres!$B$2:$E$2,MATCH(#REF!,Paramètres!$B$1:$E$1,0))*$B15,IFERROR(VLOOKUP(AB14,_T1,2,0)*IF(VLOOKUP(AB14,_T1,3,0),$B15,1),IF(AND(AB14="23:59"*1,AC14="07:59"*1),"08:00"*$B15,IF(AND(AB14="20:00"*1,AC14="05:00"*1),"09:00"*$B15,IF(AND(AB14="21:00"*1,AC14="07:00"*1),"10:00"*$B15,IF(AND(AB14="21:00"*1,AC14="08:00"*1),"11:00"*$B15,IF((AC14*24)-(AB14*24)>6,((((AC14*24)-(AB14*24))-0.25)/24),(AC14-AB14))))))))) | AD15: =IF(AND(AD14="",AE14=""),"",IFERROR(MATCH("*"&AD14&"*",Paramètres!$A$2,0)*INDEX(Paramètres!$B$2:$E$2,MATCH(#REF!,Paramètres!$B$1:$E$1,0))*$B15,IFERROR(VLOOKUP(AD14,_T1,2,0)*IF(VLOOKUP(AD14,_T1,3,0),$B15,1),IF(AND(AD14="23:59"*1,AE14="07:59"*1),"08:00"*$B15,IF(AND(AD14="20:00"*1,AE14="05:00"*1),"09:00"*$B15,IF(AND(AD14="21:00"*1,AE14="07:00"*1),"10:00"*$B15,IF(AND(AD14="21:00"*1,AE14="08:00"*1),"11:00"*$B15,IF((AE14*24)-(AD14*24)>6,((((AE14*24)-(AD14*24))-0.25)/24),(AE14-AD14))))))))) | AG15: =IF(AND(AG14="",AH14=""),"",IFERROR(MATCH("*"&AG14&"*",Paramètres!$A$2,0)*INDEX(Paramètres!$B$2:$E$2,MATCH(#REF!,Paramètres!$B$1:$E$1,0))*$B15,IFERROR(VLOOKUP(AG14,_T1,2,0)*IF(VLOOKUP(AG14,_T1,3,0),$B15,1),IF(AND(AG14="23:59"*1,AH14="07:59"*1),"08:00"*$B15,IF(AND(AG14="20:00"*1,AH14="05:00"*1),"09:00"*$B15,IF(AND(AG14="21:00"*1,AH14="07:00"*1),"10:00"*$B15,IF(AND(AG14="21:00"*1,AH14="08:00"*1),"11:00"*$B15,IF((AH14*24)-(AG14*24)>6,((((AH14*24)-(AG14*24))-0.25)/24),(AH14-AG14))))))))) | AI15: =IF(AND(AI14="",AJ14=""),"",IFERROR(MATCH("*"&AI14&"*",Paramètres!$A$2,0)*INDEX(Paramètres!$B$2:$E$2,MATCH(#REF!,Paramètres!$B$1:$E$1,0))*$B15,IFERROR(VLOOKUP(AI14,_T1,2,0)*IF(VLOOKUP(AI14,_T1,3,0),$B15,1),IF(AND(AI14="23:59"*1,AJ14="07:59"*1),"08:00"*$B15,IF(AND(AI14="20:00"*1,AJ14="05:00"*1),"09:00"*$B15,IF(AND(AI14="21:00"*1,AJ14="07:00"*1),"10:00"*$B15,IF(AND(AI14="21:00"*1,AJ14="08:00"*1),"11:00"*$B15,IF((AJ14*24)-(AI14*24)>6,((((AJ14*24)-(AI14*24))-0.25)/24),(AJ14-AI14))))))))) | AK15: =IF(AND(AK14="",AL14=""),"",IFERROR(MATCH("*"&AK14&"*",Paramètres!$A$2,0)*INDEX(Paramètres!$B$2:$E$2,MATCH(#REF!,Paramètres!$B$1:$E$1,0))*$B15,IFERROR(VLOOKUP(AK14,_T1,2,0)*IF(VLOOKUP(AK14,_T1,3,0),$B15,1),IF(AND(AK14="23:59"*1,AL14="07:59"*1),"08:00"*$B15,IF(AND(AK14="20:00"*1,AL14="05:00"*1),"09:00"*$B15,IF(AND(AK14="21:00"*1,AL14="07:00"*1),"10:00"*$B15,IF(AND(AK14="21:00"*1,AL14="08:00"*1),"11:00"*$B15,IF((AL14*24)-(AK14*24)>6,((((AL14*24)-(AK14*24))-0.25)/24),(AL14-AK14))))))))) | AM15: =IF(AND(AM14="",AN14=""),"",IFERROR(MATCH("*"&AM14&"*",Paramètres!$A$2,0)*INDEX(Paramètres!$B$2:$E$2,MATCH(#REF!,Paramètres!$B$1:$E$1,0))*$B15,IFERROR(VLOOKUP(AM14,_T1,2,0)*IF(VLOOKUP(AM14,_T1,3,0),$B15,1),IF(AND(AM14="23:59"*1,AN14="07:59"*1),"08:00"*$B15,IF(AND(AM14="20:00"*1,AN14="05:00"*1),"09:00"*$B15,IF(AND(AM14="21:00"*1,AN14="07:00"*1),"10:00"*$B15,IF(AND(AM14="21:00"*1,AN14="08:00"*1),"11:00"*$B15,IF((AN14*24)-(AM14*24)>6,((((AN14*24)-(AM14*24))-0.25)/24),(AN14-AM14))))))))) | AO15: =IF(AND(AO14="",AP14=""),"",IFERROR(MATCH("*"&AO14&"*",Paramètres!$A$2,0)*INDEX(Paramètres!$B$2:$E$2,MATCH(#REF!,Paramètres!$B$1:$E$1,0))*$B15,IFERROR(VLOOKUP(AO14,_T1,2,0)*IF(VLOOKUP(AO14,_T1,3,0),$B15,1),IF(AND(AO14="23:59"*1,AP14="07:59"*1),"08:00"*$B15,IF(AND(AO14="20:00"*1,AP14="05:00"*1),"09:00"*$B15,IF(AND(AO14="21:00"*1,AP14="07:00"*1),"10:00"*$B15,IF(AND(AO14="21:00"*1,AP14="08:00"*1),"11:00"*$B15,IF((AP14*24)-(AO14*24)>6,((((AP14*24)-(AO14*24))-0.25)/24),(AP14-AO14))))))))) | AQ15: =IF(AND(AQ14="",AR14=""),"",IFERROR(MATCH("*"&AQ14&"*",Paramètres!$A$2,0)*INDEX(Paramètres!$B$2:$E$2,MATCH(#REF!,Paramètres!$B$1:$E$1,0))*$B15,IFERROR(VLOOKUP(AQ14,_T1,2,0)*IF(VLOOKUP(AQ14,_T1,3,0),$B15,1),IF(AND(AQ14="23:59"*1,AR14="07:59"*1),"08:00"*$B15,IF(AND(AQ14="20:00"*1,AR14="05:00"*1),"09:00"*$B15,IF(AND(AQ14="21:00"*1,AR14="07:00"*1),"10:00"*$B15,IF(AND(AQ14="21:00"*1,AR14="08:00"*1),"11:00"*$B15,IF((AR14*24)-(AQ14*24)>6,((((AR14*24)-(AQ14*24))-0.25)/24),(AR14-AQ14))))))))) | AS15: =IF(AND(AS14="",AT14=""),"",IFERROR(MATCH("*"&AS14&"*",Paramètres!$A$2,0)*INDEX(Paramètres!$B$2:$E$2,MATCH(#REF!,Paramètres!$B$1:$E$1,0))*$B15,IFERROR(VLOOKUP(AS14,_T1,2,0)*IF(VLOOKUP(AS14,_T1,3,0),$B15,1),IF(AND(AS14="23:59"*1,AT14="07:59"*1),"08:00"*$B15,IF(AND(AS14="20:00"*1,AT14="05:00"*1),"09:00"*$B15,IF(AND(AS14="21:00"*1,AT14="07:00"*1),"10:00"*$B15,IF(AND(AS14="21:00"*1,AT14="08:00"*1),"11:00"*$B15,IF((AT14*24)-(AS14*24)>6,((((AT14*24)-(AS14*24))-0.25)/24),(AT14-AS14))))))))) | AV15: =IF(AND(AV14="",AW14=""),"",IFERROR(MATCH("*"&AV14&"*",Paramètres!$A$2,0)*INDEX(Paramètres!$B$2:$E$2,MATCH(#REF!,Paramètres!$B$1:$E$1,0))*$B15,IFERROR(VLOOKUP(AV14,_T1,2,0)*IF(VLOOKUP(AV14,_T1,3,0),$B15,1),IF(AND(AV14="23:59"*1,AW14="07:59"*1),"08:00"*$B15,IF(AND(AV14="20:00"*1,AW14="05:00"*1),"09:00"*$B15,IF(AND(AV14="21:00"*1,AW14="07:00"*1),"10:00"*$B15,IF(AND(AV14="21:00"*1,AW14="08:00"*1),"11:00"*$B15,IF((AW14*24)-(AV14*24)>6,((((AW14*24)-(AV14*24))-0.25)/24),(AW14-AV14))))))))) | AX15: =IF(AND(AX14="",AY14=""),"",IFERROR(MATCH("*"&AX14&"*",Paramètres!$A$2,0)*INDEX(Paramètres!$B$2:$E$2,MATCH(#REF!,Paramètres!$B$1:$E$1,0))*$B15,IFERROR(VLOOKUP(AX14,_T1,2,0)*IF(VLOOKUP(AX14,_T1,3,0),$B15,1),IF(AND(AX14="23:59"*1,AY14="07:59"*1),"08:00"*$B15,IF(AND(AX14="20:00"*1,AY14="05:00"*1),"09:00"*$B15,IF(AND(AX14="21:00"*1,AY14="07:00"*1),"10:00"*$B15,IF(AND(AX14="21:00"*1,AY14="08:00"*1),"11:00"*$B15,IF((AY14*24)-(AX14*24)>6,((((AY14*24)-(AX14*24))-0.25)/24),(AY14-AX14))))))))) | AZ15: =IF(AND(AZ14="",BA14=""),"",IFERROR(MATCH("*"&AZ14&"*",Paramètres!$A$2,0)*INDEX(Paramètres!$B$2:$E$2,MATCH(#REF!,Paramètres!$B$1:$E$1,0))*$B15,IFERROR(VLOOKUP(AZ14,_T1,2,0)*IF(VLOOKUP(AZ14,_T1,3,0),$B15,1),IF(AND(AZ14="23:59"*1,BA14="07:59"*1),"08:00"*$B15,IF(AND(AZ14="20:00"*1,BA14="05:00"*1),"09:00"*$B15,IF(AND(AZ14="21:00"*1,BA14="07:00"*1),"10:00"*$B15,IF(AND(AZ14="21:00"*1,BA14="08:00"*1),"11:00"*$B15,IF((BA14*24)-(AZ14*24)>6,((((BA14*24)-(AZ14*24))-0.25)/24),(BA14-AZ14))))))))) | BB15: =IF(AND(BB14="",BC14=""),"",IFERROR(MATCH("*"&BB14&"*",Paramètres!$A$2,0)*INDEX(Paramètres!$B$2:$E$2,MATCH(#REF!,Paramètres!$B$1:$E$1,0))*$B15,IFERROR(VLOOKUP(BB14,_T1,2,0)*IF(VLOOKUP(BB14,_T1,3,0),$B15,1),IF(AND(BB14="23:59"*1,BC14="07:59"*1),"08:00"*$B15,IF(AND(BB14="20:00"*1,BC14="05:00"*1),"09:00"*$B15,IF(AND(BB14="21:00"*1,BC14="07:00"*1),"10:00"*$B15,IF(AND(BB14="21:00"*1,BC14="08:00"*1),"11:00"*$B15,IF((BC14*24)-(BB14*24)>6,((((BC14*24)-(BB14*24))-0.25)/24),(BC14-BB14))))))))) | BD15: =IF(AND(BD14="",BE14=""),"",IFERROR(MATCH("*"&BD14&"*",Paramètres!$A$2,0)*INDEX(Paramètres!$B$2:$E$2,MATCH(#REF!,Paramètres!$B$1:$E$1,0))*$B15,IFERROR(VLOOKUP(BD14,_T1,2,0)*IF(VLOOKUP(BD14,_T1,3,0),$B15,1),IF(AND(BD14="23:59"*1,BE14="07:59"*1),"08:00"*$B15,IF(AND(BD14="20:00"*1,BE14="05:00"*1),"09:00"*$B15,IF(AND(BD14="21:00"*1,BE14="07:00"*1),"10:00"*$B15,IF(AND(BD14="21:00"*1,BE14="08:00"*1),"11:00"*$B15,IF((BE14*24)-(BD14*24)>6,((((BE14*24)-(BD14*24))-0.25)/24),(BE14-BD14))))))))) | BF15: =IF(AND(BF14="",BG14=""),"",IFERROR(MATCH("*"&BF14&"*",Paramètres!$A$2,0)*INDEX(Paramètres!$B$2:$E$2,MATCH(#REF!,Paramètres!$B$1:$E$1,0))*$B15,IFERROR(VLOOKUP(BF14,_T1,2,0)*IF(VLOOKUP(BF14,_T1,3,0),$B15,1),IF(AND(BF14="23:59"*1,BG14="07:59"*1),"08:00"*$B15,IF(AND(BF14="20:00"*1,BG14="05:00"*1),"09:00"*$B15,IF(AND(BF14="21:00"*1,BG14="07:00"*1),"10:00"*$B15,IF(AND(BF14="21:00"*1,BG14="08:00"*1),"11:00"*$B15,IF((BG14*24)-(BF14*24)>6,((((BG14*24)-(BF14*24))-0.25)/24),(BG14-BF14))))))))) | BH15: =IF(AND(BH14="",BI14=""),"",IFERROR(MATCH("*"&BH14&"*",Paramètres!$A$2,0)*INDEX(Paramètres!$B$2:$E$2,MATCH(#REF!,Paramètres!$B$1:$E$1,0))*$B15,IFERROR(VLOOKUP(BH14,_T1,2,0)*IF(VLOOKUP(BH14,_T1,3,0),$B15,1),IF(AND(BH14="23:59"*1,BI14="07:59"*1),"08:00"*$B15,IF(AND(BH14="20:00"*1,BI14="05:00"*1),"09:00"*$B15,IF(AND(BH14="21:00"*1,BI14="07:00"*1),"10:00"*$B15,IF(AND(BH14="21:00"*1,BI14="08:00"*1),"11:00"*$B15,IF((BI14*24)-(BH14*24)>6,((((BI14*24)-(BH14*24))-0.25)/24),(BI14-BH14))))))))) | BK15: =IF(AND(BK14="",BL14=""),"",IFERROR(MATCH("*"&BK14&"*",Paramètres!$A$2,0)*INDEX(Paramètres!$B$2:$E$2,MATCH(#REF!,Paramètres!$B$1:$E$1,0))*$B15,IFERROR(VLOOKUP(BK14,_T1,2,0)*IF(VLOOKUP(BK14,_T1,3,0),$B15,1),IF(AND(BK14="23:59"*1,BL14="07:59"*1),"08:00"*$B15,IF(AND(BK14="20:00"*1,BL14="05:00"*1),"09:00"*$B15,IF(AND(BK14="21:00"*1,BL14="07:00"*1),"10:00"*$B15,IF(AND(BK14="21:00"*1,BL14="08:00"*1),"11:00"*$B15,IF((BL14*24)-(BK14*24)>6,((((BL14*24)-(BK14*24))-0.25)/24),(BL14-BK14))))))))) | BM15: =IF(AND(BM14="",BN14=""),"",IFERROR(MATCH("*"&BM14&"*",Paramètres!$A$2,0)*INDEX(Paramètres!$B$2:$E$2,MATCH(#REF!,Paramètres!$B$1:$E$1,0))*$B15,IFERROR(VLOOKUP(BM14,_T1,2,0)*IF(VLOOKUP(BM14,_T1,3,0),$B15,1),IF(AND(BM14="23:59"*1,BN14="07:59"*1),"08:00"*$B15,IF(AND(BM14="20:00"*1,BN14="05:00"*1),"09:00"*$B15,IF(AND(BM14="21:00"*1,BN14="07:00"*1),"10:00"*$B15,IF(AND(BM14="21:00"*1,BN14="08:00"*1),"11:00"*$B15,IF((BN14*24)-(BM14*24)>6,((((BN14*24)-(BM14*24))-0.25)/24),(BN14-BM14))))))))) | BO15: =IF(AND(BO14="",BP14=""),"",IFERROR(MATCH("*"&BO14&"*",Paramètres!$A$2,0)*INDEX(Paramètres!$B$2:$E$2,MATCH(#REF!,Paramètres!$B$1:$E$1,0))*$B15,IFERROR(VLOOKUP(BO14,_T1,2,0)*IF(VLOOKUP(BO14,_T1,3,0),$B15,1),IF(AND(BO14="23:59"*1,BP14="07:59"*1),"08:00"*$B15,IF(AND(BO14="20:00"*1,BP14="05:00"*1),"09:00"*$B15,IF(AND(BO14="21:00"*1,BP14="07:00"*1),"10:00"*$B15,IF(AND(BO14="21:00"*1,BP14="08:00"*1),"11:00"*$B15,IF((BP14*24)-(BO14*24)>6,((((BP14*24)-(BO14*24))-0.25)/24),(BP14-BO14))))))))) | BQ15: =IF(AND(BQ14="",BR14=""),"",IFERROR(MATCH("*"&BQ14&"*",Paramètres!$A$2,0)*INDEX(Paramètres!$B$2:$E$2,MATCH(#REF!,Paramètres!$B$1:$E$1,0))*$B15,IFERROR(VLOOKUP(BQ14,_T1,2,0)*IF(VLOOKUP(BQ14,_T1,3,0),$B15,1),IF(AND(BQ14="23:59"*1,BR14="07:59"*1),"08:00"*$B15,IF(AND(BQ14="20:00"*1,BR14="05:00"*1),"09:00"*$B15,IF(AND(BQ14="21:00"*1,BR14="07:00"*1),"10:00"*$B15,IF(AND(BQ14="21:00"*1,BR14="08:00"*1),"11:00"*$B15,IF((BR14*24)-(BQ14*24)>6,((((BR14*24)-(BQ14*24))-0.25)/24),(BR14-BQ14))))))))) | BS15: =IF(AND(BS14="",BT14=""),"",IFERROR(MATCH("*"&BS14&"*",Paramètres!$A$2,0)*INDEX(Paramètres!$B$2:$E$2,MATCH(#REF!,Paramètres!$B$1:$E$1,0))*$B15,IFERROR(VLOOKUP(BS14,_T1,2,0)*IF(VLOOKUP(BS14,_T1,3,0),$B15,1),IF(AND(BS14="23:59"*1,BT14="07:59"*1),"08:00"*$B15,IF(AND(BS14="20:00"*1,BT14="05:00"*1),"09:00"*$B15,IF(AND(BS14="21:00"*1,BT14="07:00"*1),"10:00"*$B15,IF(AND(BS14="21:00"*1,BT14="08:00"*1),"11:00"*$B15,IF((BT14*24)-(BS14*24)>6,((((BT14*24)-(BS14*24))-0.25)/24),(BT14-BS14))))))))) | BU15: =IF(AND(BU14="",BV14=""),"",IFERROR(MATCH("*"&BU14&"*",Paramètres!$A$2,0)*INDEX(Paramètres!$B$2:$E$2,MATCH(#REF!,Paramètres!$B$1:$E$1,0))*$B15,IFERROR(VLOOKUP(BU14,_T1,2,0)*IF(VLOOKUP(BU14,_T1,3,0),$B15,1),IF(AND(BU14="23:59"*1,BV14="07:59"*1),"08:00"*$B15,IF(AND(BU14="20:00"*1,BV14="05:00"*1),"09:00"*$B15,IF(AND(BU14="21:00"*1,BV14="07:00"*1),"10:00"*$B15,IF(AND(BU14="21:00"*1,BV14="08:00"*1),"11:00"*$B15,IF((BV14*24)-(BU14*24)>6,((((BV14*24)-(BU14*24))-0.25)/24),(BV14-BU14))))))))) | BW15: =IF(AND(BW14="",BX14=""),"",IFERROR(MATCH("*"&BW14&"*",Paramètres!$A$2,0)*INDEX(Paramètres!$B$2:$E$2,MATCH(#REF!,Paramètres!$B$1:$E$1,0))*$B15,IFERROR(VLOOKUP(BW14,_T1,2,0)*IF(VLOOKUP(BW14,_T1,3,0),$B15,1),IF(AND(BW14="23:59"*1,BX14="07:59"*1),"08:00"*$B15,IF(AND(BW14="20:00"*1,BX14="05:00"*1),"09:00"*$B15,IF(AND(BW14="21:00"*1,BX14="07:00"*1),"10:00"*$B15,IF(AND(BW14="21:00"*1,BX14="08:00"*1),"11:00"*$B15,IF((BX14*24)-(BW14*24)>6,((((BX14*24)-(BW14*24))-0.25)/24),(BX14-BW14))))))))) | BZ15: =IF(AND(BZ14="",CA14=""),"",IFERROR(MATCH("*"&BZ14&"*",Paramètres!$A$2,0)*INDEX(Paramètres!$B$2:$E$2,MATCH(#REF!,Paramètres!$B$1:$E$1,0))*$B15,IFERROR(VLOOKUP(BZ14,_T1,2,0)*IF(VLOOKUP(BZ14,_T1,3,0),$B15,1),IF(AND(BZ14="23:59"*1,CA14="07:59"*1),"08:00"*$B15,IF(AND(BZ14="20:00"*1,CA14="05:00"*1),"09:00"*$B15,IF(AND(BZ14="21:00"*1,CA14="07:00"*1),"10:00"*$B15,IF(AND(BZ14="21:00"*1,CA14="08:00"*1),"11:00"*$B15,IF((CA14*24)-(BZ14*24)>6,((((CA14*24)-(BZ14*24))-0.25)/24),(CA14-BZ14))))))))) | CB15: =IF(AND(CB14="",CC14=""),"",IFERROR(MATCH("*"&CB14&"*",Paramètres!$A$2,0)*INDEX(Paramètres!$B$2:$E$2,MATCH(#REF!,Paramètres!$B$1:$E$1,0))*$B15,IFERROR(VLOOKUP(CB14,_T1,2,0)*IF(VLOOKUP(CB14,_T1,3,0),$B15,1),IF(AND(CB14="23:59"*1,CC14="07:59"*1),"08:00"*$B15,IF(AND(CB14="20:00"*1,CC14="05:00"*1),"09:00"*$B15,IF(AND(CB14="21:00"*1,CC14="07:00"*1),"10:00"*$B15,IF(AND(CB14="21:00"*1,CC14="08:00"*1),"11:00"*$B15,IF((CC14*24)-(CB14*24)>6,((((CC14*24)-(CB14*24))-0.25)/24),(CC14-CB14))))))))) | CD15: =IF(AND(CD14="",CE14=""),"",IFERROR(MATCH("*"&CD14&"*",Paramètres!$A$2,0)*INDEX(Paramètres!$B$2:$E$2,MATCH(#REF!,Paramètres!$B$1:$E$1,0))*$B15,IFERROR(VLOOKUP(CD14,_T1,2,0)*IF(VLOOKUP(CD14,_T1,3,0),$B15,1),IF(AND(CD14="23:59"*1,CE14="07:59"*1),"08:00"*$B15,IF(AND(CD14="20:00"*1,CE14="05:00"*1),"09:00"*$B15,IF(AND(CD14="21:00"*1,CE14="07:00"*1),"10:00"*$B15,IF(AND(CD14="21:00"*1,CE14="08:00"*1),"11:00"*$B15,IF((CE14*24)-(CD14*24)>6,((((CE14*24)-(CD14*24))-0.25)/24),(CE14-CD14))))))))) | CF15: =IF(AND(CF14="",CG14=""),"",IFERROR(MATCH("*"&CF14&"*",Paramètres!$A$2,0)*INDEX(Paramètres!$B$2:$E$2,MATCH(#REF!,Paramètres!$B$1:$E$1,0))*$B15,IFERROR(VLOOKUP(CF14,_T1,2,0)*IF(VLOOKUP(CF14,_T1,3,0),$B15,1),IF(AND(CF14="23:59"*1,CG14="07:59"*1),"08:00"*$B15,IF(AND(CF14="20:00"*1,CG14="05:00"*1),"09:00"*$B15,IF(AND(CF14="21:00"*1,CG14="07:00"*1),"10:00"*$B15,IF(AND(CF14="21:00"*1,CG14="08:00"*1),"11:00"*$B15,IF((CG14*24)-(CF14*24)>6,((((CG14*24)-(CF14*24))-0.25)/24),(CG14-CF14))))))))) | CH15: =IF(AND(CH14="",CI14=""),"",IFERROR(MATCH("*"&CH14&"*",Paramètres!$A$2,0)*INDEX(Paramètres!$B$2:$E$2,MATCH(#REF!,Paramètres!$B$1:$E$1,0))*$B15,IFERROR(VLOOKUP(CH14,_T1,2,0)*IF(VLOOKUP(CH14,_T1,3,0),$B15,1),IF(AND(CH14="23:59"*1,CI14="07:59"*1),"08:00"*$B15,IF(AND(CH14="20:00"*1,CI14="05:00"*1),"09:00"*$B15,IF(AND(CH14="21:00"*1,CI14="07:00"*1),"10:00"*$B15,IF(AND(CH14="21:00"*1,CI14="08:00"*1),"11:00"*$B15,IF((CI14*24)-(CH14*24)>6,((((CI14*24)-(CH14*24))-0.25)/24),(CI14-CH14))))))))) | CJ15: =IF(AND(CJ14="",CK14=""),"",IFERROR(MATCH("*"&CJ14&"*",Paramètres!$A$2,0)*INDEX(Paramètres!$B$2:$E$2,MATCH(#REF!,Paramètres!$B$1:$E$1,0))*$B15,IFERROR(VLOOKUP(CJ14,_T1,2,0)*IF(VLOOKUP(CJ14,_T1,3,0),$B15,1),IF(AND(CJ14="23:59"*1,CK14="07:59"*1),"08:00"*$B15,IF(AND(CJ14="20:00"*1,CK14="05:00"*1),"09:00"*$B15,IF(AND(CJ14="21:00"*1,CK14="07:00"*1),"10:00"*$B15,IF(AND(CJ14="21:00"*1,CK14="08:00"*1),"11:00"*$B15,IF((CK14*24)-(CJ14*24)>6,((((CK14*24)-(CJ14*24))-0.25)/24),(CK14-CJ14))))))))) | CL15: =IF(AND(CL14="",CM14=""),"",IFERROR(MATCH("*"&CL14&"*",Paramètres!$A$2,0)*INDEX(Paramètres!$B$2:$E$2,MATCH(#REF!,Paramètres!$B$1:$E$1,0))*$B15,IFERROR(VLOOKUP(CL14,_T1,2,0)*IF(VLOOKUP(CL14,_T1,3,0),$B15,1),IF(AND(CL14="23:59"*1,CM14="07:59"*1),"08:00"*$B15,IF(AND(CL14="20:00"*1,CM14="05:00"*1),"09:00"*$B15,IF(AND(CL14="21:00"*1,CM14="07:00"*1),"10:00"*$B15,IF(AND(CL14="21:00"*1,CM14="08:00"*1),"11:00"*$B15,IF((CM14*24)-(CL14*24)>6,((((CM14*24)-(CL14*24))-0.25)/24),(CM14-CL14)))))))))
C16: 0.33333333 | D16: 0.5 | E16: 0.99930556 | F16: 0.33263889 | Q16: =SUM(C17:P17) -> 0.33333333 | AF16: =SUM(R17:AE17) -> 0 | AU16: =SUM(AG17:AT17) -> 0 | BJ16: =SUM(AV17:BI17) -> 0 | BY16: =SUM(BK17:BX17) -> 0 | CN16: =SUM(BZ17:CM17) -> 0 | CO16: =SUM(Q16,AF17,AU17,BY17,CN17,BJ17) -> 0.33333333 | CR16: =$CO$2-CO16 -> 6.6333333
B17: 0.5 | C17: =IF(AND(C16="",D16=""),"",IFERROR(MATCH("*"&C16&"*",Paramètres!$A$2,0)*INDEX(Paramètres!$B$2:$E$2,MATCH(#REF!,Paramètres!$B$1:$E$1,0))*$B17,IFERROR(VLOOKUP(C16,_T1,2,0)*IF(VLOOKUP(C16,_T1,3,0),$B17,1),IF(AND(C16="23:59"*1,D16="07:59"*1),"08:00"*$B17,IF(AND(C16="20:00"*1,D16="05:00"*1),"09:00"*$B17,IF(AND(C16="21:00"*1,D16="07:00"*1),"10:00"*$B17,IF(AND(C16="21:00"*1,D16="08:00"*1),"11:00"*$B17,IF((D16*24)-(C16*24)>6,((((D16*24)-(C16*24))-0.25)/24),(D16-C16))))))))) -> 0.16666667 | E17: =IF(AND(E16="",F16=""),"",IFERROR(MATCH("*"&E16&"*",Paramètres!$A$2,0)*INDEX(Paramètres!$B$2:$E$2,MATCH(#REF!,Paramètres!$B$1:$E$1,0))*$B17,IFERROR(VLOOKUP(E16,_T1,2,0)*IF(VLOOKUP(E16,_T1,3,0),$B17,1),IF(AND(E16="23:59"*1,F16="07:59"*1),"08:00"*$B17,IF(AND(E16="20:00"*1,F16="05:00"*1),"09:00"*$B17,IF(AND(E16="21:00"*1,F16="07:00"*1),"10:00"*$B17,IF(AND(E16="21:00"*1,F16="08:00"*1),"11:00"*$B17,IF((F16*24)-(E16*24)>6,((((F16*24)-(E16*24))-0.25)/24),(F16-E16))))))))) -> 0.16666667 | G17: =IF(AND(G16="",H16=""),"",IFERROR(MATCH("*"&G16&"*",Paramètres!$A$2,0)*INDEX(Paramètres!$B$2:$E$2,MATCH(#REF!,Paramètres!$B$1:$E$1,0))*$B17,IFERROR(VLOOKUP(G16,_T1,2,0)*IF(VLOOKUP(G16,_T1,3,0),$B17,1),IF(AND(G16="23:59"*1,H16="07:59"*1),"08:00"*$B17,IF(AND(G16="20:00"*1,H16="05:00"*1),"09:00"*$B17,IF(AND(G16="21:00"*1,H16="07:00"*1),"10:00"*$B17,IF(AND(G16="21:00"*1,H16="08:00"*1),"11:00"*$B17,IF((H16*24)-(G16*24)>6,((((H16*24)-(G16*24))-0.25)/24),(H16-G16))))))))) | I17: =IF(AND(I16="",J16=""),"",IFERROR(MATCH("*"&I16&"*",Paramètres!$A$2,0)*INDEX(Paramètres!$B$2:$E$2,MATCH(#REF!,Paramètres!$B$1:$E$1,0))*$B17,IFERROR(VLOOKUP(I16,_T1,2,0)*IF(VLOOKUP(I16,_T1,3,0),$B17,1),IF(AND(I16="23:59"*1,J16="07:59"*1),"08:00"*$B17,IF(AND(I16="20:00"*1,J16="05:00"*1),"09:00"*$B17,IF(AND(I16="21:00"*1,J16="07:00"*1),"10:00"*$B17,IF(AND(I16="21:00"*1,J16="08:00"*1),"11:00"*$B17,IF((J16*24)-(I16*24)>6,((((J16*24)-(I16*24))-0.25)/24),(J16-I16))))))))) | K17: =IF(AND(K16="",L16=""),"",IFERROR(MATCH("*"&K16&"*",Paramètres!$A$2,0)*INDEX(Paramètres!$B$2:$E$2,MATCH(#REF!,Paramètres!$B$1:$E$1,0))*$B17,IFERROR(VLOOKUP(K16,_T1,2,0)*IF(VLOOKUP(K16,_T1,3,0),$B17,1),IF(AND(K16="23:59"*1,L16="07:59"*1),"08:00"*$B17,IF(AND(K16="20:00"*1,L16="05:00"*1),"09:00"*$B17,IF(AND(K16="21:00"*1,L16="07:00"*1),"10:00"*$B17,IF(AND(K16="21:00"*1,L16="08:00"*1),"11:00"*$B17,IF((L16*24)-(K16*24)>6,((((L16*24)-(K16*24))-0.25)/24),(L16-K16))))))))) | M17: =IF(AND(M16="",N16=""),"",IFERROR(MATCH("*"&M16&"*",Paramètres!$A$2,0)*INDEX(Paramètres!$B$2:$E$2,MATCH(#REF!,Paramètres!$B$1:$E$1,0))*$B17,IFERROR(VLOOKUP(M16,_T1,2,0)*IF(VLOOKUP(M16,_T1,3,0),$B17,1),IF(AND(M16="23:59"*1,N16="07:59"*1),"08:00"*$B17,IF(AND(M16="20:00"*1,N16="05:00"*1),"09:00"*$B17,IF(AND(M16="21:00"*1,N16="07:00"*1),"10:00"*$B17,IF(AND(M16="21:00"*1,N16="08:00"*1),"11:00"*$B17,IF((N16*24)-(M16*24)>6,((((N16*24)-(M16*24))-0.25)/24),(N16-M16))))))))) | O17: =IF(AND(O16="",P16=""),"",IFERROR(MATCH("*"&O16&"*",Paramètres!$A$2,0)*INDEX(Paramètres!$B$2:$E$2,MATCH(#REF!,Paramètres!$B$1:$E$1,0))*$B17,IFERROR(VLOOKUP(O16,_T1,2,0)*IF(VLOOKUP(O16,_T1,3,0),$B17,1),IF(AND(O16="23:59"*1,P16="07:59"*1),"08:00"*$B17,IF(AND(O16="20:00"*1,P16="05:00"*1),"09:00"*$B17,IF(AND(O16="21:00"*1,P16="07:00"*1),"10:00"*$B17,IF(AND(O16="21:00"*1,P16="08:00"*1),"11:00"*$B17,IF((P16*24)-(O16*24)>6,((((P16*24)-(O16*24))-0.25)/24),(P16-O16))))))))) | R17: =IF(AND(R16="",S16=""),"",IFERROR(MATCH("*"&R16&"*",Paramètres!$A$2,0)*INDEX(Paramètres!$B$2:$E$2,MATCH(#REF!,Paramètres!$B$1:$E$1,0))*$B17,IFERROR(VLOOKUP(R16,_T1,2,0)*IF(VLOOKUP(R16,_T1,3,0),$B17,1),IF(AND(R16="23:59"*1,S16="07:59"*1),"08:00"*$B17,IF(AND(R16="20:00"*1,S16="05:00"*1),"09:00"*$B17,IF(AND(R16="21:00"*1,S16="07:00"*1),"10:00"*$B17,IF(AND(R16="21:00"*1,S16="08:00"*1),"11:00"*$B17,IF((S16*24)-(R16*24)>6,((((S16*24)-(R16*24))-0.25)/24),(S16-R16))))))))) | T17: =IF(AND(T16="",U16=""),"",IFERROR(MATCH("*"&T16&"*",Paramètres!$A$2,0)*INDEX(Paramètres!$B$2:$E$2,MATCH(#REF!,Paramètres!$B$1:$E$1,0))*$B17,IFERROR(VLOOKUP(T16,_T1,2,0)*IF(VLOOKUP(T16,_T1,3,0),$B17,1),IF(AND(T16="23:59"*1,U16="07:59"*1),"08:00"*$B17,IF(AND(T16="20:00"*1,U16="05:00"*1),"09:00"*$B17,IF(AND(T16="21:00"*1,U16="07:00"*1),"10:00"*$B17,IF(AND(T16="21:00"*1,U16="08:00"*1),"11:00"*$B17,IF((U16*24)-(T16*24)>6,((((U16*24)-(T16*24))-0.25)/24),(U16-T16))))))))) | V17: =IF(AND(V16="",W16=""),"",IFERROR(MATCH("*"&V16&"*",Paramètres!$A$2,0)*INDEX(Paramètres!$B$2:$E$2,MATCH(#REF!,Paramètres!$B$1:$E$1,0))*$B17,IFERROR(VLOOKUP(V16,_T1,2,0)*IF(VLOOKUP(V16,_T1,3,0),$B17,1),IF(AND(V16="23:59"*1,W16="07:59"*1),"08:00"*$B17,IF(AND(V16="20:00"*1,W16="05:00"*1),"09:00"*$B17,IF(AND(V16="21:00"*1,W16="07:00"*1),"10:00"*$B17,IF(AND(V16="21:00"*1,W16="08:00"*1),"11:00"*$B17,IF((W16*24)-(V16*24)>6,((((W16*24)-(V16*24))-0.25)/24),(W16-V16))))))))) | X17: =IF(AND(X16="",Y16=""),"",IFERROR(MATCH("*"&X16&"*",Paramètres!$A$2,0)*INDEX(Paramètres!$B$2:$E$2,MATCH(#REF!,Paramètres!$B$1:$E$1,0))*$B17,IFERROR(VLOOKUP(X16,_T1,2,0)*IF(VLOOKUP(X16,_T1,3,0),$B17,1),IF(AND(X16="23:59"*1,Y16="07:59"*1),"08:00"*$B17,IF(AND(X16="20:00"*1,Y16="05:00"*1),"09:00"*$B17,IF(AND(X16="21:00"*1,Y16="07:00"*1),"10:00"*$B17,IF(AND(X16="21:00"*1,Y16="08:00"*1),"11:00"*$B17,IF((Y16*24)-(X16*24)>6,((((Y16*24)-(X16*24))-0.25)/24),(Y16-X16))))))))) | Z17: =IF(AND(Z16="",AA16=""),"",IFERROR(MATCH("*"&Z16&"*",Paramètres!$A$2,0)*INDEX(Paramètres!$B$2:$E$2,MATCH(#REF!,Paramètres!$B$1:$E$1,0))*$B17,IFERROR(VLOOKUP(Z16,_T1,2,0)*IF(VLOOKUP(Z16,_T1,3,0),$B17,1),IF(AND(Z16="23:59"*1,AA16="07:59"*1),"08:00"*$B17,IF(AND(Z16="20:00"*1,AA16="05:00"*1),"09:00"*$B17,IF(AND(Z16="21:00"*1,AA16="07:00"*1),"10:00"*$B17,IF(AND(Z16="21:00"*1,AA16="08:00"*1),"11:00"*$B17,IF((AA16*24)-(Z16*24)>6,((((AA16*24)-(Z16*24))-0.25)/24),(AA16-Z16))))))))) | AB17: =IF(AND(AB16="",AC16=""),"",IFERROR(MATCH("*"&AB16&"*",Paramètres!$A$2,0)*INDEX(Paramètres!$B$2:$E$2,MATCH(#REF!,Paramètres!$B$1:$E$1,0))*$B17,IFERROR(VLOOKUP(AB16,_T1,2,0)*IF(VLOOKUP(AB16,_T1,3,0),$B17,1),IF(AND(AB16="23:59"*1,AC16="07:59"*1),"08:00"*$B17,IF(AND(AB16="20:00"*1,AC16="05:00"*1),"09:00"*$B17,IF(AND(AB16="21:00"*1,AC16="07:00"*1),"10:00"*$B17,IF(AND(AB16="21:00"*1,AC16="08:00"*1),"11:00"*$B17,IF((AC16*24)-(AB16*24)>6,((((AC16*24)-(AB16*24))-0.25)/24),(AC16-AB16))))))))) | AD17: =IF(AND(AD16="",AE16=""),"",IFERROR(MATCH("*"&AD16&"*",Paramètres!$A$2,0)*INDEX(Paramètres!$B$2:$E$2,MATCH(#REF!,Paramètres!$B$1:$E$1,0))*$B17,IFERROR(VLOOKUP(AD16,_T1,2,0)*IF(VLOOKUP(AD16,_T1,3,0),$B17,1),IF(AND(AD16="23:59"*1,AE16="07:59"*1),"08:00"*$B17,IF(AND(AD16="20:00"*1,AE16="05:00"*1),"09:00"*$B17,IF(AND(AD16="21:00"*1,AE16="07:00"*1),"10:00"*$B17,IF(AND(AD16="21:00"*1,AE16="08:00"*1),"11:00"*$B17,IF((AE16*24)-(AD16*24)>6,((((AE16*24)-(AD16*24))-0.25)/24),(AE16-AD16))))))))) | AG17: =IF(AND(AG16="",AH16=""),"",IFERROR(MATCH("*"&AG16&"*",Paramètres!$A$2,0)*INDEX(Paramètres!$B$2:$E$2,MATCH(#REF!,Paramètres!$B$1:$E$1,0))*$B17,IFERROR(VLOOKUP(AG16,_T1,2,0)*IF(VLOOKUP(AG16,_T1,3,0),$B17,1),IF(AND(AG16="23:59"*1,AH16="07:59"*1),"08:00"*$B17,IF(AND(AG16="20:00"*1,AH16="05:00"*1),"09:00"*$B17,IF(AND(AG16="21:00"*1,AH16="07:00"*1),"10:00"*$B17,IF(AND(AG16="21:00"*1,AH16="08:00"*1),"11:00"*$B17,IF((AH16*24)-(AG16*24)>6,((((AH16*24)-(AG16*24))-0.25)/24),(AH16-AG16))))))))) | AI17: =IF(AND(AI16="",AJ16=""),"",IFERROR(MATCH("*"&AI16&"*",Paramètres!$A$2,0)*INDEX(Paramètres!$B$2:$E$2,MATCH(#REF!,Paramètres!$B$1:$E$1,0))*$B17,IFERROR(VLOOKUP(AI16,_T1,2,0)*IF(VLOOKUP(AI16,_T1,3,0),$B17,1),IF(AND(AI16="23:59"*1,AJ16="07:59"*1),"08:00"*$B17,IF(AND(AI16="20:00"*1,AJ16="05:00"*1),"09:00"*$B17,IF(AND(AI16="21:00"*1,AJ16="07:00"*1),"10:00"*$B17,IF(AND(AI16="21:00"*1,AJ16="08:00"*1),"11:00"*$B17,IF((AJ16*24)-(AI16*24)>6,((((AJ16*24)-(AI16*24))-0.25)/24),(AJ16-AI16))))))))) | AK17: =IF(AND(AK16="",AL16=""),"",IFERROR(MATCH("*"&AK16&"*",Paramètres!$A$2,0)*INDEX(Paramètres!$B$2:$E$2,MATCH(#REF!,Paramètres!$B$1:$E$1,0))*$B17,IFERROR(VLOOKUP(AK16,_T1,2,0)*IF(VLOOKUP(AK16,_T1,3,0),$B17,1),IF(AND(AK16="23:59"*1,AL16="07:59"*1),"08:00"*$B17,IF(AND(AK16="20:00"*1,AL16="05:00"*1),"09:00"*$B17,IF(AND(AK16="21:00"*1,AL16="07:00"*1),"10:00"*$B17,IF(AND(AK16="21:00"*1,AL16="08:00"*1),"11:00"*$B17,IF((AL16*24)-(AK16*24)>6,((((AL16*24)-(AK16*24))-0.25)/24),(AL16-AK16))))))))) | AM17: =IF(AND(AM16="",AN16=""),"",IFERROR(MATCH("*"&AM16&"*",Paramètres!$A$2,0)*INDEX(Paramètres!$B$2:$E$2,MATCH(#REF!,Paramètres!$B$1:$E$1,0))*$B17,IFERROR(VLOOKUP(AM16,_T1,2,0)*IF(VLOOKUP(AM16,_T1,3,0),$B17,1),IF(AND(AM16="23:59"*1,AN16="07:59"*1),"08:00"*$B17,IF(AND(AM16="20:00"*1,AN16="05:00"*1),"09:00"*$B17,IF(AND(AM16="21:00"*1,AN16="07:00"*1),"10:00"*$B17,IF(AND(AM16="21:00"*1,AN16="08:00"*1),"11:00"*$B17,IF((AN16*24)-(AM16*24)>6,((((AN16*24)-(AM16*24))-0.25)/24),(AN16-AM16))))))))) | AO17: =IF(AND(AO16="",AP16=""),"",IFERROR(MATCH("*"&AO16&"*",Paramètres!$A$2,0)*INDEX(Paramètres!$B$2:$E$2,MATCH(#REF!,Paramètres!$B$1:$E$1,0))*$B17,IFERROR(VLOOKUP(AO16,_T1,2,0)*IF(VLOOKUP(AO16,_T1,3,0),$B17,1),IF(AND(AO16="23:59"*1,AP16="07:59"*1),"08:00"*$B17,IF(AND(AO16="20:00"*1,AP16="05:00"*1),"09:00"*$B17,IF(AND(AO16="21:00"*1,AP16="07:00"*1),"10:00"*$B17,IF(AND(AO16="21:00"*1,AP16="08:00"*1),"11:00"*$B17,IF((AP16*24)-(AO16*24)>6,((((AP16*24)-(AO16*24))-0.25)/24),(AP16-AO16))))))))) | AQ17: =IF(AND(AQ16="",AR16=""),"",IFERROR(MATCH("*"&AQ16&"*",Paramètres!$A$2,0)*INDEX(Paramètres!$B$2:$E$2,MATCH(#REF!,Paramètres!$B$1:$E$1,0))*$B17,IFERROR(VLOOKUP(AQ16,_T1,2,0)*IF(VLOOKUP(AQ16,_T1,3,0),$B17,1),IF(AND(AQ16="23:59"*1,AR16="07:59"*1),"08:00"*$B17,IF(AND(AQ16="20:00"*1,AR16="05:00"*1),"09:00"*$B17,IF(AND(AQ16="21:00"*1,AR16="07:00"*1),"10:00"*$B17,IF(AND(AQ16="21:00"*1,AR16="08:00"*1),"11:00"*$B17,IF((AR16*24)-(AQ16*24)>6,((((AR16*24)-(AQ16*24))-0.25)/24),(AR16-AQ16))))))))) | AS17: =IF(AND(AS16="",AT16=""),"",IFERROR(MATCH("*"&AS16&"*",Paramètres!$A$2,0)*INDEX(Paramètres!$B$2:$E$2,MATCH(#REF!,Paramètres!$B$1:$E$1,0))*$B17,IFERROR(VLOOKUP(AS16,_T1,2,0)*IF(VLOOKUP(AS16,_T1,3,0),$B17,1),IF(AND(AS16="23:59"*1,AT16="07:59"*1),"08:00"*$B17,IF(AND(AS16="20:00"*1,AT16="05:00"*1),"09:00"*$B17,IF(AND(AS16="21:00"*1,AT16="07:00"*1),"10:00"*$B17,IF(AND(AS16="21:00"*1,AT16="08:00"*1),"11:00"*$B17,IF((AT16*24)-(AS16*24)>6,((((AT16*24)-(AS16*24))-0.25)/24),(AT16-AS16))))))))) | AV17: =IF(AND(AV16="",AW16=""),"",IFERROR(MATCH("*"&AV16&"*",Paramètres!$A$2,0)*INDEX(Paramètres!$B$2:$E$2,MATCH(#REF!,Paramètres!$B$1:$E$1,0))*$B17,IFERROR(VLOOKUP(AV16,_T1,2,0)*IF(VLOOKUP(AV16,_T1,3,0),$B17,1),IF(AND(AV16="23:59"*1,AW16="07:59"*1),"08:00"*$B17,IF(AND(AV16="20:00"*1,AW16="05:00"*1),"09:00"*$B17,IF(AND(AV16="21:00"*1,AW16="07:00"*1),"10:00"*$B17,IF(AND(AV16="21:00"*1,AW16="08:00"*1),"11:00"*$B17,IF((AW16*24)-(AV16*24)>6,((((AW16*24)-(AV16*24))-0.25)/24),(AW16-AV16))))))))) | AX17: =IF(AND(AX16="",AY16=""),"",IFERROR(MATCH("*"&AX16&"*",Paramètres!$A$2,0)*INDEX(Paramètres!$B$2:$E$2,MATCH(#REF!,Paramètres!$B$1:$E$1,0))*$B17,IFERROR(VLOOKUP(AX16,_T1,2,0)*IF(VLOOKUP(AX16,_T1,3,0),$B17,1),IF(AND(AX16="23:59"*1,AY16="07:59"*1),"08:00"*$B17,IF(AND(AX16="20:00"*1,AY16="05:00"*1),"09:00"*$B17,IF(AND(AX16="21:00"*1,AY16="07:00"*1),"10:00"*$B17,IF(AND(AX16="21:00"*1,AY16="08:00"*1),"11:00"*$B17,IF((AY16*24)-(AX16*24)>6,((((AY16*24)-(AX16*24))-0.25)/24),(AY16-AX16))))))))) | AZ17: =IF(AND(AZ16="",BA16=""),"",IFERROR(MATCH("*"&AZ16&"*",Paramètres!$A$2,0)*INDEX(Paramètres!$B$2:$E$2,MATCH(#REF!,Paramètres!$B$1:$E$1,0))*$B17,IFERROR(VLOOKUP(AZ16,_T1,2,0)*IF(VLOOKUP(AZ16,_T1,3,0),$B17,1),IF(AND(AZ16="23:59"*1,BA16="07:59"*1),"08:00"*$B17,IF(AND(AZ16="20:00"*1,BA16="05:00"*1),"09:00"*$B17,IF(AND(AZ16="21:00"*1,BA16="07:00"*1),"10:00"*$B17,IF(AND(AZ16="21:00"*1,BA16="08:00"*1),"11:00"*$B17,IF((BA16*24)-(AZ16*24)>6,((((BA16*24)-(AZ16*24))-0.25)/24),(BA16-AZ16))))))))) | BB17: =IF(AND(BB16="",BC16=""),"",IFERROR(MATCH("*"&BB16&"*",Paramètres!$A$2,0)*INDEX(Paramètres!$B$2:$E$2,MATCH(#REF!,Paramètres!$B$1:$E$1,0))*$B17,IFERROR(VLOOKUP(BB16,_T1,2,0)*IF(VLOOKUP(BB16,_T1,3,0),$B17,1),IF(AND(BB16="23:59"*1,BC16="07:59"*1),"08:00"*$B17,IF(AND(BB16="20:00"*1,BC16="05:00"*1),"09:00"*$B17,IF(AND(BB16="21:00"*1,BC16="07:00"*1),"10:00"*$B17,IF(AND(BB16="21:00"*1,BC16="08:00"*1),"11:00"*$B17,IF((BC16*24)-(BB16*24)>6,((((BC16*24)-(BB16*24))-0.25)/24),(BC16-BB16))))))))) | BD17: =IF(AND(BD16="",BE16=""),"",IFERROR(MATCH("*"&BD16&"*",Paramètres!$A$2,0)*INDEX(Paramètres!$B$2:$E$2,MATCH(#REF!,Paramètres!$B$1:$E$1,0))*$B17,IFERROR(VLOOKUP(BD16,_T1,2,0)*IF(VLOOKUP(BD16,_T1,3,0),$B17,1),IF(AND(BD16="23:59"*1,BE16="07:59"*1),"08:00"*$B17,IF(AND(BD16="20:00"*1,BE16="05:00"*1),"09:00"*$B17,IF(AND(BD16="21:00"*1,BE16="07:00"*1),"10:00"*$B17,IF(AND(BD16="21:00"*1,BE16="08:00"*1),"11:00"*$B17,IF((BE16*24)-(BD16*24)>6,((((BE16*24)-(BD16*24))-0.25)/24),(BE16-BD16))))))))) | BF17: =IF(AND(BF16="",BG16=""),"",IFERROR(MATCH("*"&BF16&"*",Paramètres!$A$2,0)*INDEX(Paramètres!$B$2:$E$2,MATCH(#REF!,Paramètres!$B$1:$E$1,0))*$B17,IFERROR(VLOOKUP(BF16,_T1,2,0)*IF(VLOOKUP(BF16,_T1,3,0),$B17,1),IF(AND(BF16="23:59"*1,BG16="07:59"*1),"08:00"*$B17,IF(AND(BF16="20:00"*1,BG16="05:00"*1),"09:00"*$B17,IF(AND(BF16="21:00"*1,BG16="07:00"*1),"10:00"*$B17,IF(AND(BF16="21:00"*1,BG16="08:00"*1),"11:00"*$B17,IF((BG16*24)-(BF16*24)>6,((((BG16*24)-(BF16*24))-0.25)/24),(BG16-BF16))))))))) | BH17: =IF(AND(BH16="",BI16=""),"",IFERROR(MATCH("*"&BH16&"*",Paramètres!$A$2,0)*INDEX(Paramètres!$B$2:$E$2,MATCH(#REF!,Paramètres!$B$1:$E$1,0))*$B17,IFERROR(VLOOKUP(BH16,_T1,2,0)*IF(VLOOKUP(BH16,_T1,3,0),$B17,1),IF(AND(BH16="23:59"*1,BI16="07:59"*1),"08:00"*$B17,IF(AND(BH16="20:00"*1,BI16="05:00"*1),"09:00"*$B17,IF(AND(BH16="21:00"*1,BI16="07:00"*1),"10:00"*$B17,IF(AND(BH16="21:00"*1,BI16="08:00"*1),"11:00"*$B17,IF((BI16*24)-(BH16*24)>6,((((BI16*24)-(BH16*24))-0.25)/24),(BI16-BH16))))))))) | BK17: =IF(AND(BK16="",BL16=""),"",IFERROR(MATCH("*"&BK16&"*",Paramètres!$A$2,0)*INDEX(Paramètres!$B$2:$E$2,MATCH(#REF!,Paramètres!$B$1:$E$1,0))*$B17,IFERROR(VLOOKUP(BK16,_T1,2,0)*IF(VLOOKUP(BK16,_T1,3,0),$B17,1),IF(AND(BK16="23:59"*1,BL16="07:59"*1),"08:00"*$B17,IF(AND(BK16="20:00"*1,BL16="05:00"*1),"09:00"*$B17,IF(AND(BK16="21:00"*1,BL16="07:00"*1),"10:00"*$B17,IF(AND(BK16="21:00"*1,BL16="08:00"*1),"11:00"*$B17,IF((BL16*24)-(BK16*24)>6,((((BL16*24)-(BK16*24))-0.25)/24),(BL16-BK16))))))))) | BM17: =IF(AND(BM16="",BN16=""),"",IFERROR(MATCH("*"&BM16&"*",Paramètres!$A$2,0)*INDEX(Paramètres!$B$2:$E$2,MATCH(#REF!,Paramètres!$B$1:$E$1,0))*$B17,IFERROR(VLOOKUP(BM16,_T1,2,0)*IF(VLOOKUP(BM16,_T1,3,0),$B17,1),IF(AND(BM16="23:59"*1,BN16="07:59"*1),"08:00"*$B17,IF(AND(BM16="20:00"*1,BN16="05:00"*1),"09:00"*$B17,IF(AND(BM16="21:00"*1,BN16="07:00"*1),"10:00"*$B17,IF(AND(BM16="21:00"*1,BN16="08:00"*1),"11:00"*$B17,IF((BN16*24)-(BM16*24)>6,((((BN16*24)-(BM16*24))-0.25)/24),(BN16-BM16))))))))) | BO17: =IF(AND(BO16="",BP16=""),"",IFERROR(MATCH("*"&BO16&"*",Paramètres!$A$2,0)*INDEX(Paramètres!$B$2:$E$2,MATCH(#REF!,Paramètres!$B$1:$E$1,0))*$B17,IFERROR(VLOOKUP(BO16,_T1,2,0)*IF(VLOOKUP(BO16,_T1,3,0),$B17,1),IF(AND(BO16="23:59"*1,BP16="07:59"*1),"08:00"*$B17,IF(AND(BO16="20:00"*1,BP16="05:00"*1),"09:00"*$B17,IF(AND(BO16="21:00"*1,BP16="07:00"*1),"10:00"*$B17,IF(AND(BO16="21:00"*1,BP16="08:00"*1),"11:00"*$B17,IF((BP16*24)-(BO16*24)>6,((((BP16*24)-(BO16*24))-0.25)/24),(BP16-BO16))))))))) | BQ17: =IF(AND(BQ16="",BR16=""),"",IFERROR(MATCH("*"&BQ16&"*",Paramètres!$A$2,0)*INDEX(Paramètres!$B$2:$E$2,MATCH(#REF!,Paramètres!$B$1:$E$1,0))*$B17,IFERROR(VLOOKUP(BQ16,_T1,2,0)*IF(VLOOKUP(BQ16,_T1,3,0),$B17,1),IF(AND(BQ16="23:59"*1,BR16="07:59"*1),"08:00"*$B17,IF(AND(BQ16="20:00"*1,BR16="05:00"*1),"09:00"*$B17,IF(AND(BQ16="21:00"*1,BR16="07:00"*1),"10:00"*$B17,IF(AND(BQ16="21:00"*1,BR16="08:00"*1),"11:00"*$B17,IF((BR16*24)-(BQ16*24)>6,((((BR16*24)-(BQ16*24))-0.25)/24),(BR16-BQ16))))))))) | BS17: =IF(AND(BS16="",BT16=""),"",IFERROR(MATCH("*"&BS16&"*",Paramètres!$A$2,0)*INDEX(Paramètres!$B$2:$E$2,MATCH(#REF!,Paramètres!$B$1:$E$1,0))*$B17,IFERROR(VLOOKUP(BS16,_T1,2,0)*IF(VLOOKUP(BS16,_T1,3,0),$B17,1),IF(AND(BS16="23:59"*1,BT16="07:59"*1),"08:00"*$B17,IF(AND(BS16="20:00"*1,BT16="05:00"*1),"09:00"*$B17,IF(AND(BS16="21:00"*1,BT16="07:00"*1),"10:00"*$B17,IF(AND(BS16="21:00"*1,BT16="08:00"*1),"11:00"*$B17,IF((BT16*24)-(BS16*24)>6,((((BT16*24)-(BS16*24))-0.25)/24),(BT16-BS16))))))))) | BU17: =IF(AND(BU16="",BV16=""),"",IFERROR(MATCH("*"&BU16&"*",Paramètres!$A$2,0)*INDEX(Paramètres!$B$2:$E$2,MATCH(#REF!,Paramètres!$B$1:$E$1,0))*$B17,IFERROR(VLOOKUP(BU16,_T1,2,0)*IF(VLOOKUP(BU16,_T1,3,0),$B17,1),IF(AND(BU16="23:59"*1,BV16="07:59"*1),"08:00"*$B17,IF(AND(BU16="20:00"*1,BV16="05:00"*1),"09:00"*$B17,IF(AND(BU16="21:00"*1,BV16="07:00"*1),"10:00"*$B17,IF(AND(BU16="21:00"*1,BV16="08:00"*1),"11:00"*$B17,IF((BV16*24)-(BU16*24)>6,((((BV16*24)-(BU16*24))-0.25)/24),(BV16-BU16))))))))) | BW17: =IF(AND(BW16="",BX16=""),"",IFERROR(MATCH("*"&BW16&"*",Paramètres!$A$2,0)*INDEX(Paramètres!$B$2:$E$2,MATCH(#REF!,Paramètres!$B$1:$E$1,0))*$B17,IFERROR(VLOOKUP(BW16,_T1,2,0)*IF(VLOOKUP(BW16,_T1,3,0),$B17,1),IF(AND(BW16="23:59"*1,BX16="07:59"*1),"08:00"*$B17,IF(AND(BW16="20:00"*1,BX16="05:00"*1),"09:00"*$B17,IF(AND(BW16="21:00"*1,BX16="07:00"*1),"10:00"*$B17,IF(AND(BW16="21:00"*1,BX16="08:00"*1),"11:00"*$B17,IF((BX16*24)-(BW16*24)>6,((((BX16*24)-(BW16*24))-0.25)/24),(BX16-BW16))))))))) | BZ17: =IF(AND(BZ16="",CA16=""),"",IFERROR(MATCH("*"&BZ16&"*",Paramètres!$A$2,0)*INDEX(Paramètres!$B$2:$E$2,MATCH(#REF!,Paramètres!$B$1:$E$1,0))*$B17,IFERROR(VLOOKUP(BZ16,_T1,2,0)*IF(VLOOKUP(BZ16,_T1,3,0),$B17,1),IF(AND(BZ16="23:59"*1,CA16="07:59"*1),"08:00"*$B17,IF(AND(BZ16="20:00"*1,CA16="05:00"*1),"09:00"*$B17,IF(AND(BZ16="21:00"*1,CA16="07:00"*1),"10:00"*$B17,IF(AND(BZ16="21:00"*1,CA16="08:00"*1),"11:00"*$B17,IF((CA16*24)-(BZ16*24)>6,((((CA16*24)-(BZ16*24))-0.25)/24),(CA16-BZ16))))))))) | CB17: =IF(AND(CB16="",CC16=""),"",IFERROR(MATCH("*"&CB16&"*",Paramètres!$A$2,0)*INDEX(Paramètres!$B$2:$E$2,MATCH(#REF!,Paramètres!$B$1:$E$1,0))*$B17,IFERROR(VLOOKUP(CB16,_T1,2,0)*IF(VLOOKUP(CB16,_T1,3,0),$B17,1),IF(AND(CB16="23:59"*1,CC16="07:59"*1),"08:00"*$B17,IF(AND(CB16="20:00"*1,CC16="05:00"*1),"09:00"*$B17,IF(AND(CB16="21:00"*1,CC16="07:00"*1),"10:00"*$B17,IF(AND(CB16="21:00"*1,CC16="08:00"*1),"11:00"*$B17,IF((CC16*24)-(CB16*24)>6,((((CC16*24)-(CB16*24))-0.25)/24),(CC16-CB16))))))))) | CD17: =IF(AND(CD16="",CE16=""),"",IFERROR(MATCH("*"&CD16&"*",Paramètres!$A$2,0)*INDEX(Paramètres!$B$2:$E$2,MATCH(#REF!,Paramètres!$B$1:$E$1,0))*$B17,IFERROR(VLOOKUP(CD16,_T1,2,0)*IF(VLOOKUP(CD16,_T1,3,0),$B17,1),IF(AND(CD16="23:59"*1,CE16="07:59"*1),"08:00"*$B17,IF(AND(CD16="20:00"*1,CE16="05:00"*1),"09:00"*$B17,IF(AND(CD16="21:00"*1,CE16="07:00"*1),"10:00"*$B17,IF(AND(CD16="21:00"*1,CE16="08:00"*1),"11:00"*$B17,IF((CE16*24)-(CD16*24)>6,((((CE16*24)-(CD16*24))-0.25)/24),(CE16-CD16))))))))) | CF17: =IF(AND(CF16="",CG16=""),"",IFERROR(MATCH("*"&CF16&"*",Paramètres!$A$2,0)*INDEX(Paramètres!$B$2:$E$2,MATCH(#REF!,Paramètres!$B$1:$E$1,0))*$B17,IFERROR(VLOOKUP(CF16,_T1,2,0)*IF(VLOOKUP(CF16,_T1,3,0),$B17,1),IF(AND(CF16="23:59"*1,CG16="07:59"*1),"08:00"*$B17,IF(AND(CF16="20:00"*1,CG16="05:00"*1),"09:00"*$B17,IF(AND(CF16="21:00"*1,CG16="07:00"*1),"10:00"*$B17,IF(AND(CF16="21:00"*1,CG16="08:00"*1),"11:00"*$B17,IF((CG16*24)-(CF16*24)>6,((((CG16*24)-(CF16*24))-0.25)/24),(CG16-CF16))))))))) | CH17: =IF(AND(CH16="",CI16=""),"",IFERROR(MATCH("*"&CH16&"*",Paramètres!$A$2,0)*INDEX(Paramètres!$B$2:$E$2,MATCH(#REF!,Paramètres!$B$1:$E$1,0))*$B17,IFERROR(VLOOKUP(CH16,_T1,2,0)*IF(VLOOKUP(CH16,_T1,3,0),$B17,1),IF(AND(CH16="23:59"*1,CI16="07:59"*1),"08:00"*$B17,IF(AND(CH16="20:00"*1,CI16="05:00"*1),"09:00"*$B17,IF(AND(CH16="21:00"*1,CI16="07:00"*1),"10:00"*$B17,IF(AND(CH16="21:00"*1,CI16="08:00"*1),"11:00"*$B17,IF((CI16*24)-(CH16*24)>6,((((CI16*24)-(CH16*24))-0.25)/24),(CI16-CH16))))))))) | CJ17: =IF(AND(CJ16="",CK16=""),"",IFERROR(MATCH("*"&CJ16&"*",Paramètres!$A$2,0)*INDEX(Paramètres!$B$2:$E$2,MATCH(#REF!,Paramètres!$B$1:$E$1,0))*$B17,IFERROR(VLOOKUP(CJ16,_T1,2,0)*IF(VLOOKUP(CJ16,_T1,3,0),$B17,1),IF(AND(CJ16="23:59"*1,CK16="07:59"*1),"08:00"*$B17,IF(AND(CJ16="20:00"*1,CK16="05:00"*1),"09:00"*$B17,IF(AND(CJ16="21:00"*1,CK16="07:00"*1),"10:00"*$B17,IF(AND(CJ16="21:00"*1,CK16="08:00"*1),"11:00"*$B17,IF((CK16*24)-(CJ16*24)>6,((((CK16*24)-(CJ16*24))-0.25)/24),(CK16-CJ16))))))))) | CL17: =IF(AND(CL16="",CM16=""),"",IFERROR(MATCH("*"&CL16&"*",Paramètres!$A$2,0)*INDEX(Paramètres!$B$2:$E$2,MATCH(#REF!,Paramètres!$B$1:$E$1,0))*$B17,IFERROR(VLOOKUP(CL16,_T1,2,0)*IF(VLOOKUP(CL16,_T1,3,0),$B17,1),IF(AND(CL16="23:59"*1,CM16="07:59"*1),"08:00"*$B17,IF(AND(CL16="20:00"*1,CM16="05:00"*1),"09:00"*$B17,IF(AND(CL16="21:00"*1,CM16="07:00"*1),"10:00"*$B17,IF(AND(CL16="21:00"*1,CM16="08:00"*1),"11:00"*$B17,IF((CM16*24)-(CL16*24)>6,((((CM16*24)-(CL16*24))-0.25)/24),(CM16-CL16)))))))))
Q18: =SUM(C19:P19) -> 0 | AF18: =SUM(R19:AE19) -> 0 | AU18: =SUM(AG19:AT19) -> 0 | BJ18: =SUM(AV19:BI19) -> 0 | BY18: =SUM(BK19:BX19) -> 0 | CN18: =SUM(BZ19:CM19) -> 0 | CO18: =SUM(Q18,AF19,AU19,BY19,CN19,BJ19) -> 0 | CR18: =$CO$2-CO18 -> 6.9666667
A19: Éducateur 3 | B19: 0.75 | C19: =IF(AND(C18="",D18=""),"",IFERROR(MATCH("*"&C18&"*",Paramètres!$A$2,0)*INDEX(Paramètres!$B$2:$E$2,MATCH(#REF!,Paramètres!$B$1:$E$1,0))*$B19,IFERROR(VLOOKUP(C18,_T1,2,0)*IF(VLOOKUP(C18,_T1,3,0),$B19,1),IF(AND(C18="23:59"*1,D18="07:59"*1),"08:00"*$B19,IF(AND(C18="20:00"*1,D18="05:00"*1),"09:00"*$B19,IF(AND(C18="21:00"*1,D18="07:00"*1),"10:00"*$B19,IF(AND(C18="21:00"*1,D18="08:00"*1),"11:00"*$B19,IF((D18*24)-(C18*24)>6,((((D18*24)-(C18*24))-0.25)/24),(D18-C18))))))))) | E19: =IF(AND(E18="",F18=""),"",IFERROR(MATCH("*"&E18&"*",Paramètres!$A$2,0)*INDEX(Paramètres!$B$2:$E$2,MATCH(#REF!,Paramètres!$B$1:$E$1,0))*$B19,IFERROR(VLOOKUP(E18,_T1,2,0)*IF(VLOOKUP(E18,_T1,3,0),$B19,1),IF(AND(E18="23:59"*1,F18="07:59"*1),"08:00"*$B19,IF(AND(E18="20:00"*1,F18="05:00"*1),"09:00"*$B19,IF(AND(E18="21:00"*1,F18="07:00"*1),"10:00"*$B19,IF(AND(E18="21:00"*1,F18="08:00"*1),"11:00"*$B19,IF((F18*24)-(E18*24)>6,((((F18*24)-(E18*24))-0.25)/24),(F18-E18))))))))) | G19: =IF(AND(G18="",H18=""),"",IFERROR(MATCH("*"&G18&"*",Paramètres!$A$2,0)*INDEX(Paramètres!$B$2:$E$2,MATCH(#REF!,Paramètres!$B$1:$E$1,0))*$B19,IFERROR(VLOOKUP(G18,_T1,2,0)*IF(VLOOKUP(G18,_T1,3,0),$B19,1),IF(AND(G18="23:59"*1,H18="07:59"*1),"08:00"*$B19,IF(AND(G18="20:00"*1,H18="05:00"*1),"09:00"*$B19,IF(AND(G18="21:00"*1,H18="07:00"*1),"10:00"*$B19,IF(AND(G18="21:00"*1,H18="08:00"*1),"11:00"*$B19,IF((H18*24)-(G18*24)>6,((((H18*24)-(G18*24))-0.25)/24),(H18-G18))))))))) | I19: =IF(AND(I18="",J18=""),"",IFERROR(MATCH("*"&I18&"*",Paramètres!$A$2,0)*INDEX(Paramètres!$B$2:$E$2,MATCH(#REF!,Paramètres!$B$1:$E$1,0))*$B19,IFERROR(VLOOKUP(I18,_T1,2,0)*IF(VLOOKUP(I18,_T1,3,0),$B19,1),IF(AND(I18="23:59"*1,J18="07:59"*1),"08:00"*$B19,IF(AND(I18="20:00"*1,J18="05:00"*1),"09:00"*$B19,IF(AND(I18="21:00"*1,J18="07:00"*1),"10:00"*$B19,IF(AND(I18="21:00"*1,J18="08:00"*1),"11:00"*$B19,IF((J18*24)-(I18*24)>6,((((J18*24)-(I18*24))-0.25)/24),(J18-I18))))))))) | K19: =IF(AND(K18="",L18=""),"",IFERROR(MATCH("*"&K18&"*",Paramètres!$A$2,0)*INDEX(Paramètres!$B$2:$E$2,MATCH(#REF!,Paramètres!$B$1:$E$1,0))*$B19,IFERROR(VLOOKUP(K18,_T1,2,0)*IF(VLOOKUP(K18,_T1,3,0),$B19,1),IF(AND(K18="23:59"*1,L18="07:59"*1),"08:00"*$B19,IF(AND(K18="20:00"*1,L18="05:00"*1),"09:00"*$B19,IF(AND(K18="21:00"*1,L18="07:00"*1),"10:00"*$B19,IF(AND(K18="21:00"*1,L18="08:00"*1),"11:00"*$B19,IF((L18*24)-(K18*24)>6,((((L18*24)-(K18*24))-0.25)/24),(L18-K18))))))))) | M19: =IF(AND(M18="",N18=""),"",IFERROR(MATCH("*"&M18&"*",Paramètres!$A$2,0)*INDEX(Paramètres!$B$2:$E$2,MATCH(#REF!,Paramètres!$B$1:$E$1,0))*$B19,IFERROR(VLOOKUP(M18,_T1,2,0)*IF(VLOOKUP(M18,_T1,3,0),$B19,1),IF(AND(M18="23:59"*1,N18="07:59"*1),"08:00"*$B19,IF(AND(M18="20:00"*1,N18="05:00"*1),"09:00"*$B19,IF(AND(M18="21:00"*1,N18="07:00"*1),"10:00"*$B19,IF(AND(M18="21:00"*1,N18="08:00"*1),"11:00"*$B19,IF((N18*24)-(M18*24)>6,((((N18*24)-(M18*24))-0.25)/24),(N18-M18))))))))) | O19: =IF(AND(O18="",P18=""),"",IFERROR(MATCH("*"&O18&"*",Paramètres!$A$2,0)*INDEX(Paramètres!$B$2:$E$2,MATCH(#REF!,Paramètres!$B$1:$E$1,0))*$B19,IFERROR(VLOOKUP(O18,_T1,2,0)*IF(VLOOKUP(O18,_T1,3,0),$B19,1),IF(AND(O18="23:59"*1,P18="07:59"*1),"08:00"*$B19,IF(AND(O18="20:00"*1,P18="05:00"*1),"09:00"*$B19,IF(AND(O18="21:00"*1,P18="07:00"*1),"10:00"*$B19,IF(AND(O18="21:00"*1,P18="08:00"*1),"11:00"*$B19,IF((P18*24)-(O18*24)>6,((((P18*24)-(O18*24))-0.25)/24),(P18-O18))))))))) | R19: =IF(AND(R18="",S18=""),"",IFERROR(MATCH("*"&R18&"*",Paramètres!$A$2,0)*INDEX(Paramètres!$B$2:$E$2,MATCH(#REF!,Paramètres!$B$1:$E$1,0))*$B19,IFERROR(VLOOKUP(R18,_T1,2,0)*IF(VLOOKUP(R18,_T1,3,0),$B19,1),IF(AND(R18="23:59"*1,S18="07:59"*1),"08:00"*$B19,IF(AND(R18="20:00"*1,S18="05:00"*1),"09:00"*$B19,IF(AND(R18="21:00"*1,S18="07:00"*1),"10:00"*$B19,IF(AND(R18="21:00"*1,S18="08:00"*1),"11:00"*$B19,IF((S18*24)-(R18*24)>6,((((S18*24)-(R18*24))-0.25)/24),(S18-R18))))))))) | T19: =IF(AND(T18="",U18=""),"",IFERROR(MATCH("*"&T18&"*",Paramètres!$A$2,0)*INDEX(Paramètres!$B$2:$E$2,MATCH(#REF!,Paramètres!$B$1:$E$1,0))*$B19,IFERROR(VLOOKUP(T18,_T1,2,0)*IF(VLOOKUP(T18,_T1,3,0),$B19,1),IF(AND(T18="23:59"*1,U18="07:59"*1),"08:00"*$B19,IF(AND(T18="20:00"*1,U18="05:00"*1),"09:00"*$B19,IF(AND(T18="21:00"*1,U18="07:00"*1),"10:00"*$B19,IF(AND(T18="21:00"*1,U18="08:00"*1),"11:00"*$B19,IF((U18*24)-(T18*24)>6,((((U18*24)-(T18*24))-0.25)/24),(U18-T18))))))))) | V19: =IF(AND(V18="",W18=""),"",IFERROR(MATCH("*"&V18&"*",Paramètres!$A$2,0)*INDEX(Paramètres!$B$2:$E$2,MATCH(#REF!,Paramètres!$B$1:$E$1,0))*$B19,IFERROR(VLOOKUP(V18,_T1,2,0)*IF(VLOOKUP(V18,_T1,3,0),$B19,1),IF(AND(V18="23:59"*1,W18="07:59"*1),"08:00"*$B19,IF(AND(V18="20:00"*1,W18="05:00"*1),"09:00"*$B19,IF(AND(V18="21:00"*1,W18="07:00"*1),"10:00"*$B19,IF(AND(V18="21:00"*1,W18="08:00"*1),"11:00"*$B19,IF((W18*24)-(V18*24)>6,((((W18*24)-(V18*24))-0.25)/24),(W18-V18))))))))) | X19: =IF(AND(X18="",Y18=""),"",IFERROR(MATCH("*"&X18&"*",Paramètres!$A$2,0)*INDEX(Paramètres!$B$2:$E$2,MATCH(#REF!,Paramètres!$B$1:$E$1,0))*$B19,IFERROR(VLOOKUP(X18,_T1,2,0)*IF(VLOOKUP(X18,_T1,3,0),$B19,1),IF(AND(X18="23:59"*1,Y18="07:59"*1),"08:00"*$B19,IF(AND(X18="20:00"*1,Y18="05:00"*1),"09:00"*$B19,IF(AND(X18="21:00"*1,Y18="07:00"*1),"10:00"*$B19,IF(AND(X18="21:00"*1,Y18="08:00"*1),"11:00"*$B19,IF((Y18*24)-(X18*24)>6,((((Y18*24)-(X18*24))-0.25)/24),(Y18-X18))))))))) | Z19: =IF(AND(Z18="",AA18=""),"",IFERROR(MATCH("*"&Z18&"*",Paramètres!$A$2,0)*INDEX(Paramètres!$B$2:$E$2,MATCH(#REF!,Paramètres!$B$1:$E$1,0))*$B19,IFERROR(VLOOKUP(Z18,_T1,2,0)*IF(VLOOKUP(Z18,_T1,3,0),$B19,1),IF(AND(Z18="23:59"*1,AA18="07:59"*1),"08:00"*$B19,IF(AND(Z18="20:00"*1,AA18="05:00"*1),"09:00"*$B19,IF(AND(Z18="21:00"*1,AA18="07:00"*1),"10:00"*$B19,IF(AND(Z18="21:00"*1,AA18="08:00"*1),"11:00"*$B19,IF((AA18*24)-(Z18*24)>6,((((AA18*24)-(Z18*24))-0.25)/24),(AA18-Z18))))))))) | AB19: =IF(AND(AB18="",AC18=""),"",IFERROR(MATCH("*"&AB18&"*",Paramètres!$A$2,0)*INDEX(Paramètres!$B$2:$E$2,MATCH(#REF!,Paramètres!$B$1:$E$1,0))*$B19,IFERROR(VLOOKUP(AB18,_T1,2,0)*IF(VLOOKUP(AB18,_T1,3,0),$B19,1),IF(AND(AB18="23:59"*1,AC18="07:59"*1),"08:00"*$B19,IF(AND(AB18="20:00"*1,AC18="05:00"*1),"09:00"*$B19,IF(AND(AB18="21:00"*1,AC18="07:00"*1),"10:00"*$B19,IF(AND(AB18="21:00"*1,AC18="08:00"*1),"11:00"*$B19,IF((AC18*24)-(AB18*24)>6,((((AC18*24)-(AB18*24))-0.25)/24),(AC18-AB18))))))))) | AD19: =IF(AND(AD18="",AE18=""),"",IFERROR(MATCH("*"&AD18&"*",Paramètres!$A$2,0)*INDEX(Paramètres!$B$2:$E$2,MATCH(#REF!,Paramètres!$B$1:$E$1,0))*$B19,IFERROR(VLOOKUP(AD18,_T1,2,0)*IF(VLOOKUP(AD18,_T1,3,0),$B19,1),IF(AND(AD18="23:59"*1,AE18="07:59"*1),"08:00"*$B19,IF(AND(AD18="20:00"*1,AE18="05:00"*1),"09:00"*$B19,IF(AND(AD18="21:00"*1,AE18="07:00"*1),"10:00"*$B19,IF(AND(AD18="21:00"*1,AE18="08:00"*1),"11:00"*$B19,IF((AE18*24)-(AD18*24)>6,((((AE18*24)-(AD18*24))-0.25)/24),(AE18-AD18))))))))) | AG19: =IF(AND(AG18="",AH18=""),"",IFERROR(MATCH("*"&AG18&"*",Paramètres!$A$2,0)*INDEX(Paramètres!$B$2:$E$2,MATCH(#REF!,Paramètres!$B$1:$E$1,0))*$B19,IFERROR(VLOOKUP(AG18,_T1,2,0)*IF(VLOOKUP(AG18,_T1,3,0),$B19,1),IF(AND(AG18="23:59"*1,AH18="07:59"*1),"08:00"*$B19,IF(AND(AG18="20:00"*1,AH18="05:00"*1),"09:00"*$B19,IF(AND(AG18="21:00"*1,AH18="07:00"*1),"10:00"*$B19,IF(AND(AG18="21:00"*1,AH18="08:00"*1),"11:00"*$B19,IF((AH18*24)-(AG18*24)>6,((((AH18*24)-(AG18*24))-0.25)/24),(AH18-AG18))))))))) | AI19: =IF(AND(AI18="",AJ18=""),"",IFERROR(MATCH("*"&AI18&"*",Paramètres!$A$2,0)*INDEX(Paramètres!$B$2:$E$2,MATCH(#REF!,Paramètres!$B$1:$E$1,0))*$B19,IFERROR(VLOOKUP(AI18,_T1,2,0)*IF(VLOOKUP(AI18,_T1,3,0),$B19,1),IF(AND(AI18="23:59"*1,AJ18="07:59"*1),"08:00"*$B19,IF(AND(AI18="20:00"*1,AJ18="05:00"*1),"09:00"*$B19,IF(AND(AI18="21:00"*1,AJ18="07:00"*1),"10:00"*$B19,IF(AND(AI18="21:00"*1,AJ18="08:00"*1),"11:00"*$B19,IF((AJ18*24)-(AI18*24)>6,((((AJ18*24)-(AI18*24))-0.25)/24),(AJ18-AI18))))))))) | AK19: =IF(AND(AK18="",AL18=""),"",IFERROR(MATCH("*"&AK18&"*",Paramètres!$A$2,0)*INDEX(Paramètres!$B$2:$E$2,MATCH(#REF!,Paramètres!$B$1:$E$1,0))*$B19,IFERROR(VLOOKUP(AK18,_T1,2,0)*IF(VLOOKUP(AK18,_T1,3,0),$B19,1),IF(AND(AK18="23:59"*1,AL18="07:59"*1),"08:00"*$B19,IF(AND(AK18="20:00"*1,AL18="05:00"*1),"09:00"*$B19,IF(AND(AK18="21:00"*1,AL18="07:00"*1),"10:00"*$B19,IF(AND(AK18="21:00"*1,AL18="08:00"*1),"11:00"*$B19,IF((AL18*24)-(AK18*24)>6,((((AL18*24)-(AK18*24))-0.25)/24),(AL18-AK18))))))))) | AM19: =IF(AND(AM18="",AN18=""),"",IFERROR(MATCH("*"&AM18&"*",Paramètres!$A$2,0)*INDEX(Paramètres!$B$2:$E$2,MATCH(#REF!,Paramètres!$B$1:$E$1,0))*$B19,IFERROR(VLOOKUP(AM18,_T1,2,0)*IF(VLOOKUP(AM18,_T1,3,0),$B19,1),IF(AND(AM18="23:59"*1,AN18="07:59"*1),"08:00"*$B19,IF(AND(AM18="20:00"*1,AN18="05:00"*1),"09:00"*$B19,IF(AND(AM18="21:00"*1,AN18="07:00"*1),"10:00"*$B19,IF(AND(AM18="21:00"*1,AN18="08:00"*1),"11:00"*$B19,IF((AN18*24)-(AM18*24)>6,((((AN18*24)-(AM18*24))-0.25)/24),(AN18-AM18))))))))) | AO19: =IF(AND(AO18="",AP18=""),"",IFERROR(MATCH("*"&AO18&"*",Paramètres!$A$2,0)*INDEX(Paramètres!$B$2:$E$2,MATCH(#REF!,Paramètres!$B$1:$E$1,0))*$B19,IFERROR(VLOOKUP(AO18,_T1,2,0)*IF(VLOOKUP(AO18,_T1,3,0),$B19,1),IF(AND(AO18="23:59"*1,AP18="07:59"*1),"08:00"*$B19,IF(AND(AO18="20:00"*1,AP18="05:00"*1),"09:00"*$B19,IF(AND(AO18="21:00"*1,AP18="07:00"*1),"10:00"*$B19,IF(AND(AO18="21:00"*1,AP18="08:00"*1),"11:00"*$B19,IF((AP18*24)-(AO18*24)>6,((((AP18*24)-(AO18*24))-0.25)/24),(AP18-AO18))))))))) | AQ19: =IF(AND(AQ18="",AR18=""),"",IFERROR(MATCH("*"&AQ18&"*",Paramètres!$A$2,0)*INDEX(Paramètres!$B$2:$E$2,MATCH(#REF!,Paramètres!$B$1:$E$1,0))*$B19,IFERROR(VLOOKUP(AQ18,_T1,2,0)*IF(VLOOKUP(AQ18,_T1,3,0),$B19,1),IF(AND(AQ18="23:59"*1,AR18="07:59"*1),"08:00"*$B19,IF(AND(AQ18="20:00"*1,AR18="05:00"*1),"09:00"*$B19,IF(AND(AQ18="21:00"*1,AR18="07:00"*1),"10:00"*$B19,IF(AND(AQ18="21:00"*1,AR18="08:00"*1),"11:00"*$B19,IF((AR18*24)-(AQ18*24)>6,((((AR18*24)-(AQ18*24))-0.25)/24),(AR18-AQ18))))))))) | AS19: =IF(AND(AS18="",AT18=""),"",IFERROR(MATCH("*"&AS18&"*",Paramètres!$A$2,0)*INDEX(Paramètres!$B$2:$E$2,MATCH(#REF!,Paramètres!$B$1:$E$1,0))*$B19,IFERROR(VLOOKUP(AS18,_T1,2,0)*IF(VLOOKUP(AS18,_T1,3,0),$B19,1),IF(AND(AS18="23:59"*1,AT18="07:59"*1),"08:00"*$B19,IF(AND(AS18="20:00"*1,AT18="05:00"*1),"09:00"*$B19,IF(AND(AS18="21:00"*1,AT18="07:00"*1),"10:00"*$B19,IF(AND(AS18="21:00"*1,AT18="08:00"*1),"11:00"*$B19,IF((AT18*24)-(AS18*24)>6,((((AT18*24)-(AS18*24))-0.25)/24),(AT18-AS18))))))))) | AV19: =IF(AND(AV18="",AW18=""),"",IFERROR(MATCH("*"&AV18&"*",Paramètres!$A$2,0)*INDEX(Paramètres!$B$2:$E$2,MATCH(#REF!,Paramètres!$B$1:$E$1,0))*$B19,IFERROR(VLOOKUP(AV18,_T1,2,0)*IF(VLOOKUP(AV18,_T1,3,0),$B19,1),IF(AND(AV18="23:59"*1,AW18="07:59"*1),"08:00"*$B19,IF(AND(AV18="20:00"*1,AW18="05:00"*1),"09:00"*$B19,IF(AND(AV18="21:00"*1,AW18="07:00"*1),"10:00"*$B19,IF(AND(AV18="21:00"*1,AW18="08:00"*1),"11:00"*$B19,IF((AW18*24)-(AV18*24)>6,((((AW18*24)-(AV18*24))-0.25)/24),(AW18-AV18))))))))) | AX19: =IF(AND(AX18="",AY18=""),"",IFERROR(MATCH("*"&AX18&"*",Paramètres!$A$2,0)*INDEX(Paramètres!$B$2:$E$2,MATCH(#REF!,Paramètres!$B$1:$E$1,0))*$B19,IFERROR(VLOOKUP(AX18,_T1,2,0)*IF(VLOOKUP(AX18,_T1,3,0),$B19,1),IF(AND(AX18="23:59"*1,AY18="07:59"*1),"08:00"*$B19,IF(AND(AX18="20:00"*1,AY18="05:00"*1),"09:00"*$B19,IF(AND(AX18="21:00"*1,AY18="07:00"*1),"10:00"*$B19,IF(AND(AX18="21:00"*1,AY18="08:00"*1),"11:00"*$B19,IF((AY18*24)-(AX18*24)>6,((((AY18*24)-(AX18*24))-0.25)/24),(AY18-AX18))))))))) | AZ19: =IF(AND(AZ18="",BA18=""),"",IFERROR(MATCH("*"&AZ18&"*",Paramètres!$A$2,0)*INDEX(Paramètres!$B$2:$E$2,MATCH(#REF!,Paramètres!$B$1:$E$1,0))*$B19,IFERROR(VLOOKUP(AZ18,_T1,2,0)*IF(VLOOKUP(AZ18,_T1,3,0),$B19,1),IF(AND(AZ18="23:59"*1,BA18="07:59"*1),"08:00"*$B19,IF(AND(AZ18="20:00"*1,BA18="05:00"*1),"09:00"*$B19,IF(AND(AZ18="21:00"*1,BA18="07:00"*1),"10:00"*$B19,IF(AND(AZ18="21:00"*1,BA18="08:00"*1),"11:00"*$B19,IF((BA18*24)-(AZ18*24)>6,((((BA18*24)-(AZ18*24))-0.25)/24),(BA18-AZ18))))))))) | BB19: =IF(AND(BB18="",BC18=""),"",IFERROR(MATCH("*"&BB18&"*",Paramètres!$A$2,0)*INDEX(Paramètres!$B$2:$E$2,MATCH(#REF!,Paramètres!$B$1:$E$1,0))*$B19,IFERROR(VLOOKUP(BB18,_T1,2,0)*IF(VLOOKUP(BB18,_T1,3,0),$B19,1),IF(AND(BB18="23:59"*1,BC18="07:59"*1),"08:00"*$B19,IF(AND(BB18="20:00"*1,BC18="05:00"*1),"09:00"*$B19,IF(AND(BB18="21:00"*1,BC18="07:00"*1),"10:00"*$B19,IF(AND(BB18="21:00"*1,BC18="08:00"*1),"11:00"*$B19,IF((BC18*24)-(BB18*24)>6,((((BC18*24)-(BB18*24))-0.25)/24),(BC18-BB18))))))))) | BD19: =IF(AND(BD18="",BE18=""),"",IFERROR(MATCH("*"&BD18&"*",Paramètres!$A$2,0)*INDEX(Paramètres!$B$2:$E$2,MATCH(#REF!,Paramètres!$B$1:$E$1,0))*$B19,IFERROR(VLOOKUP(BD18,_T1,2,0)*IF(VLOOKUP(BD18,_T1,3,0),$B19,1),IF(AND(BD18="23:59"*1,BE18="07:59"*1),"08:00"*$B19,IF(AND(BD18="20:00"*1,BE18="05:00"*1),"09:00"*$B19,IF(AND(BD18="21:00"*1,BE18="07:00"*1),"10:00"*$B19,IF(AND(BD18="21:00"*1,BE18="08:00"*1),"11:00"*$B19,IF((BE18*24)-(BD18*24)>6,((((BE18*24)-(BD18*24))-0.25)/24),(BE18-BD18))))))))) | BF19: =IF(AND(BF18="",BG18=""),"",IFERROR(MATCH("*"&BF18&"*",Paramètres!$A$2,0)*INDEX(Paramètres!$B$2:$E$2,MATCH(#REF!,Paramètres!$B$1:$E$1,0))*$B19,IFERROR(VLOOKUP(BF18,_T1,2,0)*IF(VLOOKUP(BF18,_T1,3,0),$B19,1),IF(AND(BF18="23:59"*1,BG18="07:59"*1),"08:00"*$B19,IF(AND(BF18="20:00"*1,BG18="05:00"*1),"09:00"*$B19,IF(AND(BF18="21:00"*1,BG18="07:00"*1),"10:00"*$B19,IF(AND(BF18="21:00"*1,BG18="08:00"*1),"11:00"*$B19,IF((BG18*24)-(BF18*24)>6,((((BG18*24)-(BF18*24))-0.25)/24),(BG18-BF18))))))))) | BH19: =IF(AND(BH18="",BI18=""),"",IFERROR(MATCH("*"&BH18&"*",Paramètres!$A$2,0)*INDEX(Paramètres!$B$2:$E$2,MATCH(#REF!,Paramètres!$B$1:$E$1,0))*$B19,IFERROR(VLOOKUP(BH18,_T1,2,0)*IF(VLOOKUP(BH18,_T1,3,0),$B19,1),IF(AND(BH18="23:59"*1,BI18="07:59"*1),"08:00"*$B19,IF(AND(BH18="20:00"*1,BI18="05:00"*1),"09:00"*$B19,IF(AND(BH18="21:00"*1,BI18="07:00"*1),"10:00"*$B19,IF(AND(BH18="21:00"*1,BI18="08:00"*1),"11:00"*$B19,IF((BI18*24)-(BH18*24)>6,((((BI18*24)-(BH18*24))-0.25)/24),(BI18-BH18))))))))) | BK19: =IF(AND(BK18="",BL18=""),"",IFERROR(MATCH("*"&BK18&"*",Paramètres!$A$2,0)*INDEX(Paramètres!$B$2:$E$2,MATCH(#REF!,Paramètres!$B$1:$E$1,0))*$B19,IFERROR(VLOOKUP(BK18,_T1,2,0)*IF(VLOOKUP(BK18,_T1,3,0),$B19,1),IF(AND(BK18="23:59"*1,BL18="07:59"*1),"08:00"*$B19,IF(AND(BK18="20:00"*1,BL18="05:00"*1),"09:00"*$B19,IF(AND(BK18="21:00"*1,BL18="07:00"*1),"10:00"*$B19,IF(AND(BK18="21:00"*1,BL18="08:00"*1),"11:00"*$B19,IF((BL18*24)-(BK18*24)>6,((((BL18*24)-(BK18*24))-0.25)/24),(BL18-BK18))))))))) | BM19: =IF(AND(BM18="",BN18=""),"",IFERROR(MATCH("*"&BM18&"*",Paramètres!$A$2,0)*INDEX(Paramètres!$B$2:$E$2,MATCH(#REF!,Paramètres!$B$1:$E$1,0))*$B19,IFERROR(VLOOKUP(BM18,_T1,2,0)*IF(VLOOKUP(BM18,_T1,3,0),$B19,1),IF(AND(BM18="23:59"*1,BN18="07:59"*1),"08:00"*$B19,IF(AND(BM18="20:00"*1,BN18="05:00"*1),"09:00"*$B19,IF(AND(BM18="21:00"*1,BN18="07:00"*1),"10:00"*$B19,IF(AND(BM18="21:00"*1,BN18="08:00"*1),"11:00"*$B19,IF((BN18*24)-(BM18*24)>6,((((BN18*24)-(BM18*24))-0.25)/24),(BN18-BM18))))))))) | BO19: =IF(AND(BO18="",BP18=""),"",IFERROR(MATCH("*"&BO18&"*",Paramètres!$A$2,0)*INDEX(Paramètres!$B$2:$E$2,MATCH(#REF!,Paramètres!$B$1:$E$1,0))*$B19,IFERROR(VLOOKUP(BO18,_T1,2,0)*IF(VLOOKUP(BO18,_T1,3,0),$B19,1),IF(AND(BO18="23:59"*1,BP18="07:59"*1),"08:00"*$B19,IF(AND(BO18="20:00"*1,BP18="05:00"*1),"09:00"*$B19,IF(AND(BO18="21:00"*1,BP18="07:00"*1),"10:00"*$B19,IF(AND(BO18="21:00"*1,BP18="08:00"*1),"11:00"*$B19,IF((BP18*24)-(BO18*24)>6,((((BP18*24)-(BO18*24))-0.25)/24),(BP18-BO18))))))))) | BQ19: =IF(AND(BQ18="",BR18=""),"",IFERROR(MATCH("*"&BQ18&"*",Paramètres!$A$2,0)*INDEX(Paramètres!$B$2:$E$2,MATCH(#REF!,Paramètres!$B$1:$E$1,0))*$B19,IFERROR(VLOOKUP(BQ18,_T1,2,0)*IF(VLOOKUP(BQ18,_T1,3,0),$B19,1),IF(AND(BQ18="23:59"*1,BR18="07:59"*1),"08:00"*$B19,IF(AND(BQ18="20:00"*1,BR18="05:00"*1),"09:00"*$B19,IF(AND(BQ18="21:00"*1,BR18="07:00"*1),"10:00"*$B19,IF(AND(BQ18="21:00"*1,BR18="08:00"*1),"11:00"*$B19,IF((BR18*24)-(BQ18*24)>6,((((BR18*24)-(BQ18*24))-0.25)/24),(BR18-BQ18))))))))) | BS19: =IF(AND(BS18="",BT18=""),"",IFERROR(MATCH("*"&BS18&"*",Paramètres!$A$2,0)*INDEX(Paramètres!$B$2:$E$2,MATCH(#REF!,Paramètres!$B$1:$E$1,0))*$B19,IFERROR(VLOOKUP(BS18,_T1,2,0)*IF(VLOOKUP(BS18,_T1,3,0),$B19,1),IF(AND(BS18="23:59"*1,BT18="07:59"*1),"08:00"*$B19,IF(AND(BS18="20:00"*1,BT18="05:00"*1),"09:00"*$B19,IF(AND(BS18="21:00"*1,BT18="07:00"*1),"10:00"*$B19,IF(AND(BS18="21:00"*1,BT18="08:00"*1),"11:00"*$B19,IF((BT18*24)-(BS18*24)>6,((((BT18*24)-(BS18*24))-0.25)/24),(BT18-BS18))))))))) | BU19: =IF(AND(BU18="",BV18=""),"",IFERROR(MATCH("*"&BU18&"*",Paramètres!$A$2,0)*INDEX(Paramètres!$B$2:$E$2,MATCH(#REF!,Paramètres!$B$1:$E$1,0))*$B19,IFERROR(VLOOKUP(BU18,_T1,2,0)*IF(VLOOKUP(BU18,_T1,3,0),$B19,1),IF(AND(BU18="23:59"*1,BV18="07:59"*1),"08:00"*$B19,IF(AND(BU18="20:00"*1,BV18="05:00"*1),"09:00"*$B19,IF(AND(BU18="21:00"*1,BV18="07:00"*1),"10:00"*$B19,IF(AND(BU18="21:00"*1,BV18="08:00"*1),"11:00"*$B19,IF((BV18*24)-(BU18*24)>6,((((BV18*24)-(BU18*24))-0.25)/24),(BV18-BU18))))))))) | BW19: =IF(AND(BW18="",BX18=""),"",IFERROR(MATCH("*"&BW18&"*",Paramètres!$A$2,0)*INDEX(Paramètres!$B$2:$E$2,MATCH(#REF!,Paramètres!$B$1:$E$1,0))*$B19,IFERROR(VLOOKUP(BW18,_T1,2,0)*IF(VLOOKUP(BW18,_T1,3,0),$B19,1),IF(AND(BW18="23:59"*1,BX18="07:59"*1),"08:00"*$B19,IF(AND(BW18="20:00"*1,BX18="05:00"*1),"09:00"*$B19,IF(AND(BW18="21:00"*1,BX18="07:00"*1),"10:00"*$B19,IF(AND(BW18="21:00"*1,BX18="08:00"*1),"11:00"*$B19,IF((BX18*24)-(BW18*24)>6,((((BX18*24)-(BW18*24))-0.25)/24),(BX18-BW18))))))))) | BZ19: =IF(AND(BZ18="",CA18=""),"",IFERROR(MATCH("*"&BZ18&"*",Paramètres!$A$2,0)*INDEX(Paramètres!$B$2:$E$2,MATCH(#REF!,Paramètres!$B$1:$E$1,0))*$B19,IFERROR(VLOOKUP(BZ18,_T1,2,0)*IF(VLOOKUP(BZ18,_T1,3,0),$B19,1),IF(AND(BZ18="23:59"*1,CA18="07:59"*1),"08:00"*$B19,IF(AND(BZ18="20:00"*1,CA18="05:00"*1),"09:00"*$B19,IF(AND(BZ18="21:00"*1,CA18="07:00"*1),"10:00"*$B19,IF(AND(BZ18="21:00"*1,CA18="08:00"*1),"11:00"*$B19,IF((CA18*24)-(BZ18*24)>6,((((CA18*24)-(BZ18*24))-0.25)/24),(CA18-BZ18))))))))) | CB19: =IF(AND(CB18="",CC18=""),"",IFERROR(MATCH("*"&CB18&"*",Paramètres!$A$2,0)*INDEX(Paramètres!$B$2:$E$2,MATCH(#REF!,Paramètres!$B$1:$E$1,0))*$B19,IFERROR(VLOOKUP(CB18,_T1,2,0)*IF(VLOOKUP(CB18,_T1,3,0),$B19,1),IF(AND(CB18="23:59"*1,CC18="07:59"*1),"08:00"*$B19,IF(AND(CB18="20:00"*1,CC18="05:00"*1),"09:00"*$B19,IF(AND(CB18="21:00"*1,CC18="07:00"*1),"10:00"*$B19,IF(AND(CB18="21:00"*1,CC18="08:00"*1),"11:00"*$B19,IF((CC18*24)-(CB18*24)>6,((((CC18*24)-(CB18*24))-0.25)/24),(CC18-CB18))))))))) | CD19: =IF(AND(CD18="",CE18=""),"",IFERROR(MATCH("*"&CD18&"*",Paramètres!$A$2,0)*INDEX(Paramètres!$B$2:$E$2,MATCH(#REF!,Paramètres!$B$1:$E$1,0))*$B19,IFERROR(VLOOKUP(CD18,_T1,2,0)*IF(VLOOKUP(CD18,_T1,3,0),$B19,1),IF(AND(CD18="23:59"*1,CE18="07:59"*1),"08:00"*$B19,IF(AND(CD18="20:00"*1,CE18="05:00"*1),"09:00"*$B19,IF(AND(CD18="21:00"*1,CE18="07:00"*1),"10:00"*$B19,IF(AND(CD18="21:00"*1,CE18="08:00"*1),"11:00"*$B19,IF((CE18*24)-(CD18*24)>6,((((CE18*24)-(CD18*24))-0.25)/24),(CE18-CD18))))))))) | CF19: =IF(AND(CF18="",CG18=""),"",IFERROR(MATCH("*"&CF18&"*",Paramètres!$A$2,0)*INDEX(Paramètres!$B$2:$E$2,MATCH(#REF!,Paramètres!$B$1:$E$1,0))*$B19,IFERROR(VLOOKUP(CF18,_T1,2,0)*IF(VLOOKUP(CF18,_T1,3,0),$B19,1),IF(AND(CF18="23:59"*1,CG18="07:59"*1),"08:00"*$B19,IF(AND(CF18="20:00"*1,CG18="05:00"*1),"09:00"*$B19,IF(AND(CF18="21:00"*1,CG18="07:00"*1),"10:00"*$B19,IF(AND(CF18="21:00"*1,CG18="08:00"*1),"11:00"*$B19,IF((CG18*24)-(CF18*24)>6,((((CG18*24)-(CF18*24))-0.25)/24),(CG18-CF18))))))))) | CH19: =IF(AND(CH18="",CI18=""),"",IFERROR(MATCH("*"&CH18&"*",Paramètres!$A$2,0)*INDEX(Paramètres!$B$2:$E$2,MATCH(#REF!,Paramètres!$B$1:$E$1,0))*$B19,IFERROR(VLOOKUP(CH18,_T1,2,0)*IF(VLOOKUP(CH18,_T1,3,0),$B19,1),IF(AND(CH18="23:59"*1,CI18="07:59"*1),"08:00"*$B19,IF(AND(CH18="20:00"*1,CI18="05:00"*1),"09:00"*$B19,IF(AND(CH18="21:00"*1,CI18="07:00"*1),"10:00"*$B19,IF(AND(CH18="21:00"*1,CI18="08:00"*1),"11:00"*$B19,IF((CI18*24)-(CH18*24)>6,((((CI18*24)-(CH18*24))-0.25)/24),(CI18-CH18))))))))) | CJ19: =IF(AND(CJ18="",CK18=""),"",IFERROR(MATCH("*"&CJ18&"*",Paramètres!$A$2,0)*INDEX(Paramètres!$B$2:$E$2,MATCH(#REF!,Paramètres!$B$1:$E$1,0))*$B19,IFERROR(VLOOKUP(CJ18,_T1,2,0)*IF(VLOOKUP(CJ18,_T1,3,0),$B19,1),IF(AND(CJ18="23:59"*1,CK18="07:59"*1),"08:00"*$B19,IF(AND(CJ18="20:00"*1,CK18="05:00"*1),"09:00"*$B19,IF(AND(CJ18="21:00"*1,CK18="07:00"*1),"10:00"*$B19,IF(AND(CJ18="21:00"*1,CK18="08:00"*1),"11:00"*$B19,IF((CK18*24)-(CJ18*24)>6,((((CK18*24)-(CJ18*24))-0.25)/24),(CK18-CJ18))))))))) | CL19: =IF(AND(CL18="",CM18=""),"",IFERROR(MATCH("*"&CL18&"*",Paramètres!$A$2,0)*INDEX(Paramètres!$B$2:$E$2,MATCH(#REF!,Paramètres!$B$1:$E$1,0))*$B19,IFERROR(VLOOKUP(CL18,_T1,2,0)*IF(VLOOKUP(CL18,_T1,3,0),$B19,1),IF(AND(CL18="23:59"*1,CM18="07:59"*1),"08:00"*$B19,IF(AND(CL18="20:00"*1,CM18="05:00"*1),"09:00"*$B19,IF(AND(CL18="21:00"*1,CM18="07:00"*1),"10:00"*$B19,IF(AND(CL18="21:00"*1,CM18="08:00"*1),"11:00"*$B19,IF((CM18*24)-(CL18*24)>6,((((CM18*24)-(CL18*24))-0.25)/24),(CM18-CL18)))))))))
Q20: =SUM(C21:P21) -> 0 | AF20: =SUM(R21:AE21) -> 0 | AU20: =SUM(AG21:AT21) -> 0 | BJ20: =SUM(AV21:BI21) -> 0 | BY20: =SUM(BK21:BX21) -> 0 | CN20: =SUM(BZ21:CM21) -> 0 | CO20: =SUM(Q20,AF21,AU21,BY21,CN21,BJ21) -> 0 | CR20: =$CO$2-CO20 -> 6.9666667
A21: Éducateur 4 | B21: =15/38 -> 0.39473684 | C21: =IF(AND(C20="",D20=""),"",IFERROR(MATCH("*"&C20&"*",Paramètres!$A$2,0)*INDEX(Paramètres!$B$2:$E$2,MATCH(#REF!,Paramètres!$B$1:$E$1,0))*$B21,IFERROR(VLOOKUP(C20,_T1,2,0)*IF(VLOOKUP(C20,_T1,3,0),$B21,1),IF(AND(C20="23:59"*1,D20="07:59"*1),"08:00"*$B21,IF(AND(C20="20:00"*1,D20="05:00"*1),"09:00"*$B21,IF(AND(C20="21:00"*1,D20="07:00"*1),"10:00"*$B21,IF(AND(C20="21:00"*1,D20="08:00"*1),"11:00"*$B21,IF((D20*24)-(C20*24)>6,((((D20*24)-(C20*24))-0.25)/24),(D20-C20))))))))) | E21: =IF(AND(E20="",F20=""),"",IFERROR(MATCH("*"&E20&"*",Paramètres!$A$2,0)*INDEX(Paramètres!$B$2:$E$2,MATCH(#REF!,Paramètres!$B$1:$E$1,0))*$B21,IFERROR(VLOOKUP(E20,_T1,2,0)*IF(VLOOKUP(E20,_T1,3,0),$B21,1),IF(AND(E20="23:59"*1,F20="07:59"*1),"08:00"*$B21,IF(AND(E20="20:00"*1,F20="05:00"*1),"09:00"*$B21,IF(AND(E20="21:00"*1,F20="07:00"*1),"10:00"*$B21,IF(AND(E20="21:00"*1,F20="08:00"*1),"11:00"*$B21,IF((F20*24)-(E20*24)>6,((((F20*24)-(E20*24))-0.25)/24),(F20-E20))))))))) | G21: =IF(AND(G20="",H20=""),"",IFERROR(MATCH("*"&G20&"*",Paramètres!$A$2,0)*INDEX(Paramètres!$B$2:$E$2,MATCH(#REF!,Paramètres!$B$1:$E$1,0))*$B21,IFERROR(VLOOKUP(G20,_T1,2,0)*IF(VLOOKUP(G20,_T1,3,0),$B21,1),IF(AND(G20="23:59"*1,H20="07:59"*1),"08:00"*$B21,IF(AND(G20="20:00"*1,H20="05:00"*1),"09:00"*$B21,IF(AND(G20="21:00"*1,H20="07:00"*1),"10:00"*$B21,IF(AND(G20="21:00"*1,H20="08:00"*1),"11:00"*$B21,IF((H20*24)-(G20*24)>6,((((H20*24)-(G20*24))-0.25)/24),(H20-G20))))))))) | I21: =IF(AND(I20="",J20=""),"",IFERROR(MATCH("*"&I20&"*",Paramètres!$A$2,0)*INDEX(Paramètres!$B$2:$E$2,MATCH(#REF!,Paramètres!$B$1:$E$1,0))*$B21,IFERROR(VLOOKUP(I20,_T1,2,0)*IF(VLOOKUP(I20,_T1,3,0),$B21,1),IF(AND(I20="23:59"*1,J20="07:59"*1),"08:00"*$B21,IF(AND(I20="20:00"*1,J20="05:00"*1),"09:00"*$B21,IF(AND(I20="21:00"*1,J20="07:00"*1),"10:00"*$B21,IF(AND(I20="21:00"*1,J20="08:00"*1),"11:00"*$B21,IF((J20*24)-(I20*24)>6,((((J20*24)-(I20*24))-0.25)/24),(J20-I20))))))))) | K21: =IF(AND(K20="",L20=""),"",IFERROR(MATCH("*"&K20&"*",Paramètres!$A$2,0)*INDEX(Paramètres!$B$2:$E$2,MATCH(#REF!,Paramètres!$B$1:$E$1,0))*$B21,IFERROR(VLOOKUP(K20,_T1,2,0)*IF(VLOOKUP(K20,_T1,3,0),$B21,1),IF(AND(K20="23:59"*1,L20="07:59"*1),"08:00"*$B21,IF(AND(K20="20:00"*1,L20="05:00"*1),"09:00"*$B21,IF(AND(K20="21:00"*1,L20="07:00"*1),"10:00"*$B21,IF(AND(K20="21:00"*1,L20="08:00"*1),"11:00"*$B21,IF((L20*24)-(K20*24)>6,((((L20*24)-(K20*24))-0.25)/24),(L20-K20))))))))) | M21: =IF(AND(M20="",N20=""),"",IFERROR(MATCH("*"&M20&"*",Paramètres!$A$2,0)*INDEX(Paramètres!$B$2:$E$2,MATCH(#REF!,Paramètres!$B$1:$E$1,0))*$B21,IFERROR(VLOOKUP(M20,_T1,2,0)*IF(VLOOKUP(M20,_T1,3,0),$B21,1),IF(AND(M20="23:59"*1,N20="07:59"*1),"08:00"*$B21,IF(AND(M20="20:00"*1,N20="05:00"*1),"09:00"*$B21,IF(AND(M20="21:00"*1,N20="07:00"*1),"10:00"*$B21,IF(AND(M20="21:00"*1,N20="08:00"*1),"11:00"*$B21,IF((N20*24)-(M20*24)>6,((((N20*24)-(M20*24))-0.25)/24),(N20-M20))))))))) | O21: =IF(AND(O20="",P20=""),"",IFERROR(MATCH("*"&O20&"*",Paramètres!$A$2,0)*INDEX(Paramètres!$B$2:$E$2,MATCH(#REF!,Paramètres!$B$1:$E$1,0))*$B21,IFERROR(VLOOKUP(O20,_T1,2,0)*IF(VLOOKUP(O20,_T1,3,0),$B21,1),IF(AND(O20="23:59"*1,P20="07:59"*1),"08:00"*$B21,IF(AND(O20="20:00"*1,P20="05:00"*1),"09:00"*$B21,IF(AND(O20="21:00"*1,P20="07:00"*1),"10:00"*$B21,IF(AND(O20="21:00"*1,P20="08:00"*1),"11:00"*$B21,IF((P20*24)-(O20*24)>6,((((P20*24)-(O20*24))-0.25)/24),(P20-O20))))))))) | R21: =IF(AND(R20="",S20=""),"",IFERROR(MATCH("*"&R20&"*",Paramètres!$A$2,0)*INDEX(Paramètres!$B$2:$E$2,MATCH(#REF!,Paramètres!$B$1:$E$1,0))*$B21,IFERROR(VLOOKUP(R20,_T1,2,0)*IF(VLOOKUP(R20,_T1,3,0),$B21,1),IF(AND(R20="23:59"*1,S20="07:59"*1),"08:00"*$B21,IF(AND(R20="20:00"*1,S20="05:00"*1),"09:00"*$B21,IF(AND(R20="21:00"*1,S20="07:00"*1),"10:00"*$B21,IF(AND(R20="21:00"*1,S20="08:00"*1),"11:00"*$B21,IF((S20*24)-(R20*24)>6,((((S20*24)-(R20*24))-0.25)/24),(S20-R20))))))))) | T21: =IF(AND(T20="",U20=""),"",IFERROR(MATCH("*"&T20&"*",Paramètres!$A$2,0)*INDEX(Paramètres!$B$2:$E$2,MATCH(#REF!,Paramètres!$B$1:$E$1,0))*$B21,IFERROR(VLOOKUP(T20,_T1,2,0)*IF(VLOOKUP(T20,_T1,3,0),$B21,1),IF(AND(T20="23:59"*1,U20="07:59"*1),"08:00"*$B21,IF(AND(T20="20:00"*1,U20="05:00"*1),"09:00"*$B21,IF(AND(T20="21:00"*1,U20="07:00"*1),"10:00"*$B21,IF(AND(T20="21:00"*1,U20="08:00"*1),"11:00"*$B21,IF((U20*24)-(T20*24)>6,((((U20*24)-(T20*24))-0.25)/24),(U20-T20))))))))) | V21: =IF(AND(V20="",W20=""),"",IFERROR(MATCH("*"&V20&"*",Paramètres!$A$2,0)*INDEX(Paramètres!$B$2:$E$2,MATCH(#REF!,Paramètres!$B$1:$E$1,0))*$B21,IFERROR(VLOOKUP(V20,_T1,2,0)*IF(VLOOKUP(V20,_T1,3,0),$B21,1),IF(AND(V20="23:59"*1,W20="07:59"*1),"08:00"*$B21,IF(AND(V20="20:00"*1,W20="05:00"*1),"09:00"*$B21,IF(AND(V20="21:00"*1,W20="07:00"*1),"10:00"*$B21,IF(AND(V20="21:00"*1,W20="08:00"*1),"11:00"*$B21,IF((W20*24)-(V20*24)>6,((((W20*24)-(V20*24))-0.25)/24),(W20-V20))))))))) | X21: =IF(AND(X20="",Y20=""),"",IFERROR(MATCH("*"&X20&"*",Paramètres!$A$2,0)*INDEX(Paramètres!$B$2:$E$2,MATCH(#REF!,Paramètres!$B$1:$E$1,0))*$B21,IFERROR(VLOOKUP(X20,_T1,2,0)*IF(VLOOKUP(X20,_T1,3,0),$B21,1),IF(AND(X20="23:59"*1,Y20="07:59"*1),"08:00"*$B21,IF(AND(X20="20:00"*1,Y20="05:00"*1),"09:00"*$B21,IF(AND(X20="21:00"*1,Y20="07:00"*1),"10:00"*$B21,IF(AND(X20="21:00"*1,Y20="08:00"*1),"11:00"*$B21,IF((Y20*24)-(X20*24)>6,((((Y20*24)-(X20*24))-0.25)/24),(Y20-X20))))))))) | Z21: =IF(AND(Z20="",AA20=""),"",IFERROR(MATCH("*"&Z20&"*",Paramètres!$A$2,0)*INDEX(Paramètres!$B$2:$E$2,MATCH(#REF!,Paramètres!$B$1:$E$1,0))*$B21,IFERROR(VLOOKUP(Z20,_T1,2,0)*IF(VLOOKUP(Z20,_T1,3,0),$B21,1),IF(AND(Z20="23:59"*1,AA20="07:59"*1),"08:00"*$B21,IF(AND(Z20="20:00"*1,AA20="05:00"*1),"09:00"*$B21,IF(AND(Z20="21:00"*1,AA20="07:00"*1),"10:00"*$B21,IF(AND(Z20="21:00"*1,AA20="08:00"*1),"11:00"*$B21,IF((AA20*24)-(Z20*24)>6,((((AA20*24)-(Z20*24))-0.25)/24),(AA20-Z20))))))))) | AB21: =IF(AND(AB20="",AC20=""),"",IFERROR(MATCH("*"&AB20&"*",Paramètres!$A$2,0)*INDEX(Paramètres!$B$2:$E$2,MATCH(#REF!,Paramètres!$B$1:$E$1,0))*$B21,IFERROR(VLOOKUP(AB20,_T1,2,0)*IF(VLOOKUP(AB20,_T1,3,0),$B21,1),IF(AND(AB20="23:59"*1,AC20="07:59"*1),"08:00"*$B21,IF(AND(AB20="20:00"*1,AC20="05:00"*1),"09:00"*$B21,IF(AND(AB20="21:00"*1,AC20="07:00"*1),"10:00"*$B21,IF(AND(AB20="21:00"*1,AC20="08:00"*1),"11:00"*$B21,IF((AC20*24)-(AB20*24)>6,((((AC20*24)-(AB20*24))-0.25)/24),(AC20-AB20))))))))) | AD21: =IF(AND(AD20="",AE20=""),"",IFERROR(MATCH("*"&AD20&"*",Paramètres!$A$2,0)*INDEX(Paramètres!$B$2:$E$2,MATCH(#REF!,Paramètres!$B$1:$E$1,0))*$B21,IFERROR(VLOOKUP(AD20,_T1,2,0)*IF(VLOOKUP(AD20,_T1,3,0),$B21,1),IF(AND(AD20="23:59"*1,AE20="07:59"*1),"08:00"*$B21,IF(AND(AD20="20:00"*1,AE20="05:00"*1),"09:00"*$B21,IF(AND(AD20="21:00"*1,AE20="07:00"*1),"10:00"*$B21,IF(AND(AD20="21:00"*1,AE20="08:00"*1),"11:00"*$B21,IF((AE20*24)-(AD20*24)>6,((((AE20*24)-(AD20*24))-0.25)/24),(AE20-AD20))))))))) | AG21: =IF(AND(AG20="",AH20=""),"",IFERROR(MATCH("*"&AG20&"*",Paramètres!$A$2,0)*INDEX(Paramètres!$B$2:$E$2,MATCH(#REF!,Paramètres!$B$1:$E$1,0))*$B21,IFERROR(VLOOKUP(AG20,_T1,2,0)*IF(VLOOKUP(AG20,_T1,3,0),$B21,1),IF(AND(AG20="23:59"*1,AH20="07:59"*1),"08:00"*$B21,IF(AND(AG20="20:00"*1,AH20="05:00"*1),"09:00"*$B21,IF(AND(AG20="21:00"*1,AH20="07:00"*1),"10:00"*$B21,IF(AND(AG20="21:00"*1,AH20="08:00"*1),"11:00"*$B21,IF((AH20*24)-(AG20*24)>6,((((AH20*24)-(AG20*24))-0.25)/24),(AH20-AG20))))))))) | AI21: =IF(AND(AI20="",AJ20=""),"",IFERROR(MATCH("*"&AI20&"*",Paramètres!$A$2,0)*INDEX(Paramètres!$B$2:$E$2,MATCH(#REF!,Paramètres!$B$1:$E$1,0))*$B21,IFERROR(VLOOKUP(AI20,_T1,2,0)*IF(VLOOKUP(AI20,_T1,3,0),$B21,1),IF(AND(AI20="23:59"*1,AJ20="07:59"*1),"08:00"*$B21,IF(AND(AI20="20:00"*1,AJ20="05:00"*1),"09:00"*$B21,IF(AND(AI20="21:00"*1,AJ20="07:00"*1),"10:00"*$B21,IF(AND(AI20="21:00"*1,AJ20="08:00"*1),"11:00"*$B21,IF((AJ20*24)-(AI20*24)>6,((((AJ20*24)-(AI20*24))-0.25)/24),(AJ20-AI20))))))))) | AK21: =IF(AND(AK20="",AL20=""),"",IFERROR(MATCH("*"&AK20&"*",Paramètres!$A$2,0)*INDEX(Paramètres!$B$2:$E$2,MATCH(#REF!,Paramètres!$B$1:$E$1,0))*$B21,IFERROR(VLOOKUP(AK20,_T1,2,0)*IF(VLOOKUP(AK20,_T1,3,0),$B21,1),IF(AND(AK20="23:59"*1,AL20="07:59"*1),"08:00"*$B21,IF(AND(AK20="20:00"*1,AL20="05:00"*1),"09:00"*$B21,IF(AND(AK20="21:00"*1,AL20="07:00"*1),"10:00"*$B21,IF(AND(AK20="21:00"*1,AL20="08:00"*1),"11:00"*$B21,IF((AL20*24)-(AK20*24)>6,((((AL20*24)-(AK20*24))-0.25)/24),(AL20-AK20))))))))) | AM21: =IF(AND(AM20="",AN20=""),"",IFERROR(MATCH("*"&AM20&"*",Paramètres!$A$2,0)*INDEX(Paramètres!$B$2:$E$2,MATCH(#REF!,Paramètres!$B$1:$E$1,0))*$B21,IFERROR(VLOOKUP(AM20,_T1,2,0)*IF(VLOOKUP(AM20,_T1,3,0),$B21,1),IF(AND(AM20="23:59"*1,AN20="07:59"*1),"08:00"*$B21,IF(AND(AM20="20:00"*1,AN20="05:00"*1),"09:00"*$B21,IF(AND(AM20="21:00"*1,AN20="07:00"*1),"10:00"*$B21,IF(AND(AM20="21:00"*1,AN20="08:00"*1),"11:00"*$B21,IF((AN20*24)-(AM20*24)>6,((((AN20*24)-(AM20*24))-0.25)/24),(AN20-AM20))))))))) | AO21: =IF(AND(AO20="",AP20=""),"",IFERROR(MATCH("*"&AO20&"*",Paramètres!$A$2,0)*INDEX(Paramètres!$B$2:$E$2,MATCH(#REF!,Paramètres!$B$1:$E$1,0))*$B21,IFERROR(VLOOKUP(AO20,_T1,2,0)*IF(VLOOKUP(AO20,_T1,3,0),$B21,1),IF(AND(AO20="23:59"*1,AP20="07:59"*1),"08:00"*$B21,IF(AND(AO20="20:00"*1,AP20="05:00"*1),"09:00"*$B21,IF(AND(AO20="21:00"*1,AP20="07:00"*1),"10:00"*$B21,IF(AND(AO20="21:00"*1,AP20="08:00"*1),"11:00"*$B21,IF((AP20*24)-(AO20*24)>6,((((AP20*24)-(AO20*24))-0.25)/24),(AP20-AO20))))))))) | AQ21: =IF(AND(AQ20="",AR20=""),"",IFERROR(MATCH("*"&AQ20&"*",Paramètres!$A$2,0)*INDEX(Paramètres!$B$2:$E$2,MATCH(#REF!,Paramètres!$B$1:$E$1,0))*$B21,IFERROR(VLOOKUP(AQ20,_T1,2,0)*IF(VLOOKUP(AQ20,_T1,3,0),$B21,1),IF(AND(AQ20="23:59"*1,AR20="07:59"*1),"08:00"*$B21,IF(AND(AQ20="20:00"*1,AR20="05:00"*1),"09:00"*$B21,IF(AND(AQ20="21:00"*1,AR20="07:00"*1),"10:00"*$B21,IF(AND(AQ20="21:00"*1,AR20="08:00"*1),"11:00"*$B21,IF((AR20*24)-(AQ20*24)>6,((((AR20*24)-(AQ20*24))-0.25)/24),(AR20-AQ20))))))))) | AS21: =IF(AND(AS20="",AT20=""),"",IFERROR(MATCH("*"&AS20&"*",Paramètres!$A$2,0)*INDEX(Paramètres!$B$2:$E$2,MATCH(#REF!,Paramètres!$B$1:$E$1,0))*$B21,IFERROR(VLOOKUP(AS20,_T1,2,0)*IF(VLOOKUP(AS20,_T1,3,0),$B21,1),IF(AND(AS20="23:59"*1,AT20="07:59"*1),"08:00"*$B21,IF(AND(AS20="20:00"*1,AT20="05:00"*1),"09:00"*$B21,IF(AND(AS20="21:00"*1,AT20="07:00"*1),"10:00"*$B21,IF(AND(AS20="21:00"*1,AT20="08:00"*1),"11:00"*$B21,IF((AT20*24)-(AS20*24)>6,((((AT20*24)-(AS20*24))-0.25)/24),(AT20-AS20))))))))) | AV21: =IF(AND(AV20="",AW20=""),"",IFERROR(MATCH("*"&AV20&"*",Paramètres!$A$2,0)*INDEX(Paramètres!$B$2:$E$2,MATCH(#REF!,Paramètres!$B$1:$E$1,0))*$B21,IFERROR(VLOOKUP(AV20,_T1,2,0)*IF(VLOOKUP(AV20,_T1,3,0),$B21,1),IF(AND(AV20="23:59"*1,AW20="07:59"*1),"08:00"*$B21,IF(AND(AV20="20:00"*1,AW20="05:00"*1),"09:00"*$B21,IF(AND(AV20="21:00"*1,AW20="07:00"*1),"10:00"*$B21,IF(AND(AV20="21:00"*1,AW20="08:00"*1),"11:00"*$B21,IF((AW20*24)-(AV20*24)>6,((((AW20*24)-(AV20*24))-0.25)/24),(AW20-AV20))))))))) | AX21: =IF(AND(AX20="",AY20=""),"",IFERROR(MATCH("*"&AX20&"*",Paramètres!$A$2,0)*INDEX(Paramètres!$B$2:$E$2,MATCH(#REF!,Paramètres!$B$1:$E$1,0))*$B21,IFERROR(VLOOKUP(AX20,_T1,2,0)*IF(VLOOKUP(AX20,_T1,3,0),$B21,1),IF(AND(AX20="23:59"*1,AY20="07:59"*1),"08:00"*$B21,IF(AND(AX20="20:00"*1,AY20="05:00"*1),"09:00"*$B21,IF(AND(AX20="21:00"*1,AY20="07:00"*1),"10:00"*$B21,IF(AND(AX20="21:00"*1,AY20="08:00"*1),"11:00"*$B21,IF((AY20*24)-(AX20*24)>6,((((AY20*24)-(AX20*24))-0.25)/24),(AY20-AX20))))))))) | AZ21: =IF(AND(AZ20="",BA20=""),"",IFERROR(MATCH("*"&AZ20&"*",Paramètres!$A$2,0)*INDEX(Paramètres!$B$2:$E$2,MATCH(#REF!,Paramètres!$B$1:$E$1,0))*$B21,IFERROR(VLOOKUP(AZ20,_T1,2,0)*IF(VLOOKUP(AZ20,_T1,3,0),$B21,1),IF(AND(AZ20="23:59"*1,BA20="07:59"*1),"08:00"*$B21,IF(AND(AZ20="20:00"*1,BA20="05:00"*1),"09:00"*$B21,IF(AND(AZ20="21:00"*1,BA20="07:00"*1),"10:00"*$B21,IF(AND(AZ20="21:00"*1,BA20="08:00"*1),"11:00"*$B21,IF((BA20*24)-(AZ20*24)>6,((((BA20*24)-(AZ20*24))-0.25)/24),(BA20-AZ20))))))))) | BB21: =IF(AND(BB20="",BC20=""),"",IFERROR(MATCH("*"&BB20&"*",Paramètres!$A$2,0)*INDEX(Paramètres!$B$2:$E$2,MATCH(#REF!,Paramètres!$B$1:$E$1,0))*$B21,IFERROR(VLOOKUP(BB20,_T1,2,0)*IF(VLOOKUP(BB20,_T1,3,0),$B21,1),IF(AND(BB20="23:59"*1,BC20="07:59"*1),"08:00"*$B21,IF(AND(BB20="20:00"*1,BC20="05:00"*1),"09:00"*$B21,IF(AND(BB20="21:00"*1,BC20="07:00"*1),"10:00"*$B21,IF(AND(BB20="21:00"*1,BC20="08:00"*1),"11:00"*$B21,IF((BC20*24)-(BB20*24)>6,((((BC20*24)-(BB20*24))-0.25)/24),(BC20-BB20))))))))) | BD21: =IF(AND(BD20="",BE20=""),"",IFERROR(MATCH("*"&BD20&"*",Paramètres!$A$2,0)*INDEX(Paramètres!$B$2:$E$2,MATCH(#REF!,Paramètres!$B$1:$E$1,0))*$B21,IFERROR(VLOOKUP(BD20,_T1,2,0)*IF(VLOOKUP(BD20,_T1,3,0),$B21,1),IF(AND(BD20="23:59"*1,BE20="07:59"*1),"08:00"*$B21,IF(AND(BD20="20:00"*1,BE20="05:00"*1),"09:00"*$B21,IF(AND(BD20="21:00"*1,BE20="07:00"*1),"10:00"*$B21,IF(AND(BD20="21:00"*1,BE20="08:00"*1),"11:00"*$B21,IF((BE20*24)-(BD20*24)>6,((((BE20*24)-(BD20*24))-0.25)/24),(BE20-BD20))))))))) | BF21: =IF(AND(BF20="",BG20=""),"",IFERROR(MATCH("*"&BF20&"*",Paramètres!$A$2,0)*INDEX(Paramètres!$B$2:$E$2,MATCH(#REF!,Paramètres!$B$1:$E$1,0))*$B21,IFERROR(VLOOKUP(BF20,_T1,2,0)*IF(VLOOKUP(BF20,_T1,3,0),$B21,1),IF(AND(BF20="23:59"*1,BG20="07:59"*1),"08:00"*$B21,IF(AND(BF20="20:00"*1,BG20="05:00"*1),"09:00"*$B21,IF(AND(BF20="21:00"*1,BG20="07:00"*1),"10:00"*$B21,IF(AND(BF20="21:00"*1,BG20="08:00"*1),"11:00"*$B21,IF((BG20*24)-(BF20*24)>6,((((BG20*24)-(BF20*24))-0.25)/24),(BG20-BF20))))))))) | BH21: =IF(AND(BH20="",BI20=""),"",IFERROR(MATCH("*"&BH20&"*",Paramètres!$A$2,0)*INDEX(Paramètres!$B$2:$E$2,MATCH(#REF!,Paramètres!$B$1:$E$1,0))*$B21,IFERROR(VLOOKUP(BH20,_T1,2,0)*IF(VLOOKUP(BH20,_T1,3,0),$B21,1),IF(AND(BH20="23:59"*1,BI20="07:59"*1),"08:00"*$B21,IF(AND(BH20="20:00"*1,BI20="05:00"*1),"09:00"*$B21,IF(AND(BH20="21:00"*1,BI20="07:00"*1),"10:00"*$B21,IF(AND(BH20="21:00"*1,BI20="08:00"*1),"11:00"*$B21,IF((BI20*24)-(BH20*24)>6,((((BI20*24)-(BH20*24))-0.25)/24),(BI20-BH20))))))))) | BK21: =IF(AND(BK20="",BL20=""),"",IFERROR(MATCH("*"&BK20&"*",Paramètres!$A$2,0)*INDEX(Paramètres!$B$2:$E$2,MATCH(#REF!,Paramètres!$B$1:$E$1,0))*$B21,IFERROR(VLOOKUP(BK20,_T1,2,0)*IF(VLOOKUP(BK20,_T1,3,0),$B21,1),IF(AND(BK20="23:59"*1,BL20="07:59"*1),"08:00"*$B21,IF(AND(BK20="20:00"*1,BL20="05:00"*1),"09:00"*$B21,IF(AND(BK20="21:00"*1,BL20="07:00"*1),"10:00"*$B21,IF(AND(BK20="21:00"*1,BL20="08:00"*1),"11:00"*$B21,IF((BL20*24)-(BK20*24)>6,((((BL20*24)-(BK20*24))-0.25)/24),(BL20-BK20))))))))) | BM21: =IF(AND(BM20="",BN20=""),"",IFERROR(MATCH("*"&BM20&"*",Paramètres!$A$2,0)*INDEX(Paramètres!$B$2:$E$2,MATCH(#REF!,Paramètres!$B$1:$E$1,0))*$B21,IFERROR(VLOOKUP(BM20,_T1,2,0)*IF(VLOOKUP(BM20,_T1,3,0),$B21,1),IF(AND(BM20="23:59"*1,BN20="07:59"*1),"08:00"*$B21,IF(AND(BM20="20:00"*1,BN20="05:00"*1),"09:00"*$B21,IF(AND(BM20="21:00"*1,BN20="07:00"*1),"10:00"*$B21,IF(AND(BM20="21:00"*1,BN20="08:00"*1),"11:00"*$B21,IF((BN20*24)-(BM20*24)>6,((((BN20*24)-(BM20*24))-0.25)/24),(BN20-BM20))))))))) | BO21: =IF(AND(BO20="",BP20=""),"",IFERROR(MATCH("*"&BO20&"*",Paramètres!$A$2,0)*INDEX(Paramètres!$B$2:$E$2,MATCH(#REF!,Paramètres!$B$1:$E$1,0))*$B21,IFERROR(VLOOKUP(BO20,_T1,2,0)*IF(VLOOKUP(BO20,_T1,3,0),$B21,1),IF(AND(BO20="23:59"*1,BP20="07:59"*1),"08:00"*$B21,IF(AND(BO20="20:00"*1,BP20="05:00"*1),"09:00"*$B21,IF(AND(BO20="21:00"*1,BP20="07:00"*1),"10:00"*$B21,IF(AND(BO20="21:00"*1,BP20="08:00"*1),"11:00"*$B21,IF((BP20*24)-(BO20*24)>6,((((BP20*24)-(BO20*24))-0.25)/24),(BP20-BO20))))))))) | BQ21: =IF(AND(BQ20="",BR20=""),"",IFERROR(MATCH("*"&BQ20&"*",Paramètres!$A$2,0)*INDEX(Paramètres!$B$2:$E$2,MATCH(#REF!,Paramètres!$B$1:$E$1,0))*$B21,IFERROR(VLOOKUP(BQ20,_T1,2,0)*IF(VLOOKUP(BQ20,_T1,3,0),$B21,1),IF(AND(BQ20="23:59"*1,BR20="07:59"*1),"08:00"*$B21,IF(AND(BQ20="20:00"*1,BR20="05:00"*1),"09:00"*$B21,IF(AND(BQ20="21:00"*1,BR20="07:00"*1),"10:00"*$B21,IF(AND(BQ20="21:00"*1,BR20="08:00"*1),"11:00"*$B21,IF((BR20*24)-(BQ20*24)>6,((((BR20*24)-(BQ20*24))-0.25)/24),(BR20-BQ20))))))))) | BS21: =IF(AND(BS20="",BT20=""),"",IFERROR(MATCH("*"&BS20&"*",Paramètres!$A$2,0)*INDEX(Paramètres!$B$2:$E$2,MATCH(#REF!,Paramètres!$B$1:$E$1,0))*$B21,IFERROR(VLOOKUP(BS20,_T1,2,0)*IF(VLOOKUP(BS20,_T1,3,0),$B21,1),IF(AND(BS20="23:59"*1,BT20="07:59"*1),"08:00"*$B21,IF(AND(BS20="20:00"*1,BT20="05:00"*1),"09:00"*$B21,IF(AND(BS20="21:00"*1,BT20="07:00"*1),"10:00"*$B21,IF(AND(BS20="21:00"*1,BT20="08:00"*1),"11:00"*$B21,IF((BT20*24)-(BS20*24)>6,((((BT20*24)-(BS20*24))-0.25)/24),(BT20-BS20))))))))) | BU21: =IF(AND(BU20="",BV20=""),"",IFERROR(MATCH("*"&BU20&"*",Paramètres!$A$2,0)*INDEX(Paramètres!$B$2:$E$2,MATCH(#REF!,Paramètres!$B$1:$E$1,0))*$B21,IFERROR(VLOOKUP(BU20,_T1,2,0)*IF(VLOOKUP(BU20,_T1,3,0),$B21,1),IF(AND(BU20="23:59"*1,BV20="07:59"*1),"08:00"*$B21,IF(AND(BU20="20:00"*1,BV20="05:00"*1),"09:00"*$B21,IF(AND(BU20="21:00"*1,BV20="07:00"*1),"10:00"*$B21,IF(AND(BU20="21:00"*1,BV20="08:00"*1),"11:00"*$B21,IF((BV20*24)-(BU20*24)>6,((((BV20*24)-(BU20*24))-0.25)/24),(BV20-BU20))))))))) | BW21: =IF(AND(BW20="",BX20=""),"",IFERROR(MATCH("*"&BW20&"*",Paramètres!$A$2,0)*INDEX(Paramètres!$B$2:$E$2,MATCH(#REF!,Paramètres!$B$1:$E$1,0))*$B21,IFERROR(VLOOKUP(BW20,_T1,2,0)*IF(VLOOKUP(BW20,_T1,3,0),$B21,1),IF(AND(BW20="23:59"*1,BX20="07:59"*1),"08:00"*$B21,IF(AND(BW20="20:00"*1,BX20="05:00"*1),"09:00"*$B21,IF(AND(BW20="21:00"*1,BX20="07:00"*1),"10:00"*$B21,IF(AND(BW20="21:00"*1,BX20="08:00"*1),"11:00"*$B21,IF((BX20*24)-(BW20*24)>6,((((BX20*24)-(BW20*24))-0.25)/24),(BX20-BW20))))))))) | BZ21: =IF(AND(BZ20="",CA20=""),"",IFERROR(MATCH("*"&BZ20&"*",Paramètres!$A$2,0)*INDEX(Paramètres!$B$2:$E$2,MATCH(#REF!,Paramètres!$B$1:$E$1,0))*$B21,IFERROR(VLOOKUP(BZ20,_T1,2,0)*IF(VLOOKUP(BZ20,_T1,3,0),$B21,1),IF(AND(BZ20="23:59"*1,CA20="07:59"*1),"08:00"*$B21,IF(AND(BZ20="20:00"*1,CA20="05:00"*1),"09:00"*$B21,IF(AND(BZ20="21:00"*1,CA20="07:00"*1),"10:00"*$B21,IF(AND(BZ20="21:00"*1,CA20="08:00"*1),"11:00"*$B21,IF((CA20*24)-(BZ20*24)>6,((((CA20*24)-(BZ20*24))-0.25)/24),(CA20-BZ20))))))))) | CB21: =IF(AND(CB20="",CC20=""),"",IFERROR(MATCH("*"&CB20&"*",Paramètres!$A$2,0)*INDEX(Paramètres!$B$2:$E$2,MATCH(#REF!,Paramètres!$B$1:$E$1,0))*$B21,IFERROR(VLOOKUP(CB20,_T1,2,0)*IF(VLOOKUP(CB20,_T1,3,0),$B21,1),IF(AND(CB20="23:59"*1,CC20="07:59"*1),"08:00"*$B21,IF(AND(CB20="20:00"*1,CC20="05:00"*1),"09:00"*$B21,IF(AND(CB20="21:00"*1,CC20="07:00"*1),"10:00"*$B21,IF(AND(CB20="21:00"*1,CC20="08:00"*1),"11:00"*$B21,IF((CC20*24)-(CB20*24)>6,((((CC20*24)-(CB20*24))-0.25)/24),(CC20-CB20))))))))) | CD21: =IF(AND(CD20="",CE20=""),"",IFERROR(MATCH("*"&CD20&"*",Paramètres!$A$2,0)*INDEX(Paramètres!$B$2:$E$2,MATCH(#REF!,Paramètres!$B$1:$E$1,0))*$B21,IFERROR(VLOOKUP(CD20,_T1,2,0)*IF(VLOOKUP(CD20,_T1,3,0),$B21,1),IF(AND(CD20="23:59"*1,CE20="07:59"*1),"08:00"*$B21,IF(AND(CD20="20:00"*1,CE20="05:00"*1),"09:00"*$B21,IF(AND(CD20="21:00"*1,CE20="07:00"*1),"10:00"*$B21,IF(AND(CD20="21:00"*1,CE20="08:00"*1),"11:00"*$B21,IF((CE20*24)-(CD20*24)>6,((((CE20*24)-(CD20*24))-0.25)/24),(CE20-CD20))))))))) | CF21: =IF(AND(CF20="",CG20=""),"",IFERROR(MATCH("*"&CF20&"*",Paramètres!$A$2,0)*INDEX(Paramètres!$B$2:$E$2,MATCH(#REF!,Paramètres!$B$1:$E$1,0))*$B21,IFERROR(VLOOKUP(CF20,_T1,2,0)*IF(VLOOKUP(CF20,_T1,3,0),$B21,1),IF(AND(CF20="23:59"*1,CG20="07:59"*1),"08:00"*$B21,IF(AND(CF20="20:00"*1,CG20="05:00"*1),"09:00"*$B21,IF(AND(CF20="21:00"*1,CG20="07:00"*1),"10:00"*$B21,IF(AND(CF20="21:00"*1,CG20="08:00"*1),"11:00"*$B21,IF((CG20*24)-(CF20*24)>6,((((CG20*24)-(CF20*24))-0.25)/24),(CG20-CF20))))))))) | CH21: =IF(AND(CH20="",CI20=""),"",IFERROR(MATCH("*"&CH20&"*",Paramètres!$A$2,0)*INDEX(Paramètres!$B$2:$E$2,MATCH(#REF!,Paramètres!$B$1:$E$1,0))*$B21,IFERROR(VLOOKUP(CH20,_T1,2,0)*IF(VLOOKUP(CH20,_T1,3,0),$B21,1),IF(AND(CH20="23:59"*1,CI20="07:59"*1),"08:00"*$B21,IF(AND(CH20="20:00"*1,CI20="05:00"*1),"09:00"*$B21,IF(AND(CH20="21:00"*1,CI20="07:00"*1),"10:00"*$B21,IF(AND(CH20="21:00"*1,CI20="08:00"*1),"11:00"*$B21,IF((CI20*24)-(CH20*24)>6,((((CI20*24)-(CH20*24))-0.25)/24),(CI20-CH20))))))))) | CJ21: =IF(AND(CJ20="",CK20=""),"",IFERROR(MATCH("*"&CJ20&"*",Paramètres!$A$2,0)*INDEX(Paramètres!$B$2:$E$2,MATCH(#REF!,Paramètres!$B$1:$E$1,0))*$B21,IFERROR(VLOOKUP(CJ20,_T1,2,0)*IF(VLOOKUP(CJ20,_T1,3,0),$B21,1),IF(AND(CJ20="23:59"*1,CK20="07:59"*1),"08:00"*$B21,IF(AND(CJ20="20:00"*1,CK20="05:00"*1),"09:00"*$B21,IF(AND(CJ20="21:00"*1,CK20="07:00"*1),"10:00"*$B21,IF(AND(CJ20="21:00"*1,CK20="08:00"*1),"11:00"*$B21,IF((CK20*24)-(CJ20*24)>6,((((CK20*24)-(CJ20*24))-0.25)/24),(CK20-CJ20))))))))) | CL21: =IF(AND(CL20="",CM20=""),"",IFERROR(MATCH("*"&CL20&"*",Paramètres!$A$2,0)*INDEX(Paramètres!$B$2:$E$2,MATCH(#REF!,Paramètres!$B$1:$E$1,0))*$B21,IFERROR(VLOOKUP(CL20,_T1,2,0)*IF(VLOOKUP(CL20,_T1,3,0),$B21,1),IF(AND(CL20="23:59"*1,CM20="07:59"*1),"08:00"*$B21,IF(AND(CL20="20:00"*1,CM20="05:00"*1),"09:00"*$B21,IF(AND(CL20="21:00"*1,CM20="07:00"*1),"10:00"*$B21,IF(AND(CL20="21:00"*1,CM20="08:00"*1),"11:00"*$B21,IF((CM20*24)-(CL20*24)>6,((((CM20*24)-(CL20*24))-0.25)/24),(CM20-CL20)))))))))
A22: HÉBERGEMENT
Q23: =SUM(C24:P24) -> 0 | AF23: =SUM(R24:AE24) -> 0 | AU23: =SUM(AG24:AT24) -> 0 | BJ23: =SUM(AV24:BI24) -> 0 | BY23: =SUM(BK24:BX24) -> 0 | CN23: =SUM(BZ24:CM24) -> 0 | CO23: =SUM(Q23,AF24,AU24,BY24,CN24,BJ24) -> 0 | CR23: =$CO$2-CO23 -> 6.9666667
B24: 1 | C24: =IF(AND(C23="",D23=""),"",IFERROR(MATCH("*"&C23&"*",Paramètres!$A$2,0)*INDEX(Paramètres!$B$2:$E$2,MATCH(#REF!,Paramètres!$B$1:$E$1,0))*$B24,IFERROR(VLOOKUP(C23,_T1,2,0)*IF(VLOOKUP(C23,_T1,3,0),$B24,1),IF(AND(C23="23:59"*1,D23="07:59"*1),"08:00"*$B24,IF(AND(C23="20:00"*1,D23="05:00"*1),"09:00"*$B24,IF(AND(C23="21:00"*1,D23="07:00"*1),"10:00"*$B24,IF(AND(C23="21:00"*1,D23="08:00"*1),"11:00"*$B24,IF((D23*24)-(C23*24)>6,((((D23*24)-(C23*24))-0.25)/24),(D23-C23))))))))) | E24: =IF(AND(E23="",F23=""),"",IFERROR(MATCH("*"&E23&"*",Paramètres!$A$2,0)*INDEX(Paramètres!$B$2:$E$2,MATCH(#REF!,Paramètres!$B$1:$E$1,0))*$B24,IFERROR(VLOOKUP(E23,_T1,2,0)*IF(VLOOKUP(E23,_T1,3,0),$B24,1),IF(AND(E23="23:59"*1,F23="07:59"*1),"08:00"*$B24,IF(AND(E23="20:00"*1,F23="05:00"*1),"09:00"*$B24,IF(AND(E23="21:00"*1,F23="07:00"*1),"10:00"*$B24,IF(AND(E23="21:00"*1,F23="08:00"*1),"11:00"*$B24,IF((F23*24)-(E23*24)>6,((((F23*24)-(E23*24))-0.25)/24),(F23-E23))))))))) | G24: =IF(AND(G23="",H23=""),"",IFERROR(MATCH("*"&G23&"*",Paramètres!$A$2,0)*INDEX(Paramètres!$B$2:$E$2,MATCH(#REF!,Paramètres!$B$1:$E$1,0))*$B24,IFERROR(VLOOKUP(G23,_T1,2,0)*IF(VLOOKUP(G23,_T1,3,0),$B24,1),IF(AND(G23="23:59"*1,H23="07:59"*1),"08:00"*$B24,IF(AND(G23="20:00"*1,H23="05:00"*1),"09:00"*$B24,IF(AND(G23="21:00"*1,H23="07:00"*1),"10:00"*$B24,IF(AND(G23="21:00"*1,H23="08:00"*1),"11:00"*$B24,IF((H23*24)-(G23*24)>6,((((H23*24)-(G23*24))-0.25)/24),(H23-G23))))))))) | I24: =IF(AND(I23="",J23=""),"",IFERROR(MATCH("*"&I23&"*",Paramètres!$A$2,0)*INDEX(Paramètres!$B$2:$E$2,MATCH(#REF!,Paramètres!$B$1:$E$1,0))*$B24,IFERROR(VLOOKUP(I23,_T1,2,0)*IF(VLOOKUP(I23,_T1,3,0),$B24,1),IF(AND(I23="23:59"*1,J23="07:59"*1),"08:00"*$B24,IF(AND(I23="20:00"*1,J23="05:00"*1),"09:00"*$B24,IF(AND(I23="21:00"*1,J23="07:00"*1),"10:00"*$B24,IF(AND(I23="21:00"*1,J23="08:00"*1),"11:00"*$B24,IF((J23*24)-(I23*24)>6,((((J23*24)-(I23*24))-0.25)/24),(J23-I23))))))))) | K24: =IF(AND(K23="",L23=""),"",IFERROR(MATCH("*"&K23&"*",Paramètres!$A$2,0)*INDEX(Paramètres!$B$2:$E$2,MATCH(#REF!,Paramètres!$B$1:$E$1,0))*$B24,IFERROR(VLOOKUP(K23,_T1,2,0)*IF(VLOOKUP(K23,_T1,3,0),$B24,1),IF(AND(K23="23:59"*1,L23="07:59"*1),"08:00"*$B24,IF(AND(K23="20:00"*1,L23="05:00"*1),"09:00"*$B24,IF(AND(K23="21:00"*1,L23="07:00"*1),"10:00"*$B24,IF(AND(K23="21:00"*1,L23="08:00"*1),"11:00"*$B24,IF((L23*24)-(K23*24)>6,((((L23*24)-(K23*24))-0.25)/24),(L23-K23))))))))) | M24: =IF(AND(M23="",N23=""),"",IFERROR(MATCH("*"&M23&"*",Paramètres!$A$2,0)*INDEX(Paramètres!$B$2:$E$2,MATCH(#REF!,Paramètres!$B$1:$E$1,0))*$B24,IFERROR(VLOOKUP(M23,_T1,2,0)*IF(VLOOKUP(M23,_T1,3,0),$B24,1),IF(AND(M23="23:59"*1,N23="07:59"*1),"08:00"*$B24,IF(AND(M23="20:00"*1,N23="05:00"*1),"09:00"*$B24,IF(AND(M23="21:00"*1,N23="07:00"*1),"10:00"*$B24,IF(AND(M23="21:00"*1,N23="08:00"*1),"11:00"*$B24,IF((N23*24)-(M23*24)>6,((((N23*24)-(M23*24))-0.25)/24),(N23-M23))))))))) | O24: =IF(AND(O23="",P23=""),"",IFERROR(MATCH("*"&O23&"*",Paramètres!$A$2,0)*INDEX(Paramètres!$B$2:$E$2,MATCH(#REF!,Paramètres!$B$1:$E$1,0))*$B24,IFERROR(VLOOKUP(O23,_T1,2,0)*IF(VLOOKUP(O23,_T1,3,0),$B24,1),IF(AND(O23="23:59"*1,P23="07:59"*1),"08:00"*$B24,IF(AND(O23="20:00"*1,P23="05:00"*1),"09:00"*$B24,IF(AND(O23="21:00"*1,P23="07:00"*1),"10:00"*$B24,IF(AND(O23="21:00"*1,P23="08:00"*1),"11:00"*$B24,IF((P23*24)-(O23*24)>6,((((P23*24)-(O23*24))-0.25)/24),(P23-O23))))))))) | R24: =IF(AND(R23="",S23=""),"",IFERROR(MATCH("*"&R23&"*",Paramètres!$A$2,0)*INDEX(Paramètres!$B$2:$E$2,MATCH(#REF!,Paramètres!$B$1:$E$1,0))*$B24,IFERROR(VLOOKUP(R23,_T1,2,0)*IF(VLOOKUP(R23,_T1,3,0),$B24,1),IF(AND(R23="23:59"*1,S23="07:59"*1),"08:00"*$B24,IF(AND(R23="20:00"*1,S23="05:00"*1),"09:00"*$B24,IF(AND(R23="21:00"*1,S23="07:00"*1),"10:00"*$B24,IF(AND(R23="21:00"*1,S23="08:00"*1),"11:00"*$B24,IF((S23*24)-(R23*24)>6,((((S23*24)-(R23*24))-0.25)/24),(S23-R23))))))))) | T24: =IF(AND(T23="",U23=""),"",IFERROR(MATCH("*"&T23&"*",Paramètres!$A$2,0)*INDEX(Paramètres!$B$2:$E$2,MATCH(#REF!,Paramètres!$B$1:$E$1,0))*$B24,IFERROR(VLOOKUP(T23,_T1,2,0)*IF(VLOOKUP(T23,_T1,3,0),$B24,1),IF(AND(T23="23:59"*1,U23="07:59"*1),"08:00"*$B24,IF(AND(T23="20:00"*1,U23="05:00"*1),"09:00"*$B24,IF(AND(T23="21:00"*1,U23="07:00"*1),"10:00"*$B24,IF(AND(T23="21:00"*1,U23="08:00"*1),"11:00"*$B24,IF((U23*24)-(T23*24)>6,((((U23*24)-(T23*24))-0.25)/24),(U23-T23))))))))) | V24: =IF(AND(V23="",W23=""),"",IFERROR(MATCH("*"&V23&"*",Paramètres!$A$2,0)*INDEX(Paramètres!$B$2:$E$2,MATCH(#REF!,Paramètres!$B$1:$E$1,0))*$B24,IFERROR(VLOOKUP(V23,_T1,2,0)*IF(VLOOKUP(V23,_T1,3,0),$B24,1),IF(AND(V23="23:59"*1,W23="07:59"*1),"08:00"*$B24,IF(AND(V23="20:00"*1,W23="05:00"*1),"09:00"*$B24,IF(AND(V23="21:00"*1,W23="07:00"*1),"10:00"*$B24,IF(AND(V23="21:00"*1,W23="08:00"*1),"11:00"*$B24,IF((W23*24)-(V23*24)>6,((((W23*24)-(V23*24))-0.25)/24),(W23-V23))))))))) | X24: =IF(AND(X23="",Y23=""),"",IFERROR(MATCH("*"&X23&"*",Paramètres!$A$2,0)*INDEX(Paramètres!$B$2:$E$2,MATCH(#REF!,Paramètres!$B$1:$E$1,0))*$B24,IFERROR(VLOOKUP(X23,_T1,2,0)*IF(VLOOKUP(X23,_T1,3,0),$B24,1),IF(AND(X23="23:59"*1,Y23="07:59"*1),"08:00"*$B24,IF(AND(X23="20:00"*1,Y23="05:00"*1),"09:00"*$B24,IF(AND(X23="21:00"*1,Y23="07:00"*1),"10:00"*$B24,IF(AND(X23="21:00"*1,Y23="08:00"*1),"11:00"*$B24,IF((Y23*24)-(X23*24)>6,((((Y23*24)-(X23*24))-0.25)/24),(Y23-X23))))))))) | Z24: =IF(AND(Z23="",AA23=""),"",IFERROR(MATCH("*"&Z23&"*",Paramètres!$A$2,0)*INDEX(Paramètres!$B$2:$E$2,MATCH(#REF!,Paramètres!$B$1:$E$1,0))*$B24,IFERROR(VLOOKUP(Z23,_T1,2,0)*IF(VLOOKUP(Z23,_T1,3,0),$B24,1),IF(AND(Z23="23:59"*1,AA23="07:59"*1),"08:00"*$B24,IF(AND(Z23="20:00"*1,AA23="05:00"*1),"09:00"*$B24,IF(AND(Z23="21:00"*1,AA23="07:00"*1),"10:00"*$B24,IF(AND(Z23="21:00"*1,AA23="08:00"*1),"11:00"*$B24,IF((AA23*24)-(Z23*24)>6,((((AA23*24)-(Z23*24))-0.25)/24),(AA23-Z23))))))))) | AB24: =IF(AND(AB23="",AC23=""),"",IFERROR(MATCH("*"&AB23&"*",Paramètres!$A$2,0)*INDEX(Paramètres!$B$2:$E$2,MATCH(#REF!,Paramètres!$B$1:$E$1,0))*$B24,IFERROR(VLOOKUP(AB23,_T1,2,0)*IF(VLOOKUP(AB23,_T1,3,0),$B24,1),IF(AND(AB23="23:59"*1,AC23="07:59"*1),"08:00"*$B24,IF(AND(AB23="20:00"*1,AC23="05:00"*1),"09:00"*$B24,IF(AND(AB23="21:00"*1,AC23="07:00"*1),"10:00"*$B24,IF(AND(AB23="21:00"*1,AC23="08:00"*1),"11:00"*$B24,IF((AC23*24)-(AB23*24)>6,((((AC23*24)-(AB23*24))-0.25)/24),(AC23-AB23))))))))) | AD24: =IF(AND(AD23="",AE23=""),"",IFERROR(MATCH("*"&AD23&"*",Paramètres!$A$2,0)*INDEX(Paramètres!$B$2:$E$2,MATCH(#REF!,Paramètres!$B$1:$E$1,0))*$B24,IFERROR(VLOOKUP(AD23,_T1,2,0)*IF(VLOOKUP(AD23,_T1,3,0),$B24,1),IF(AND(AD23="23:59"*1,AE23="07:59"*1),"08:00"*$B24,IF(AND(AD23="20:00"*1,AE23="05:00"*1),"09:00"*$B24,IF(AND(AD23="21:00"*1,AE23="07:00"*1),"10:00"*$B24,IF(AND(AD23="21:00"*1,AE23="08:00"*1),"11:00"*$B24,IF((AE23*24)-(AD23*24)>6,((((AE23*24)-(AD23*24))-0.25)/24),(AE23-AD23))))))))) | AG24: =IF(AND(AG23="",AH23=""),"",IFERROR(MATCH("*"&AG23&"*",Paramètres!$A$2,0)*INDEX(Paramètres!$B$2:$E$2,MATCH(#REF!,Paramètres!$B$1:$E$1,0))*$B24,IFERROR(VLOOKUP(AG23,_T1,2,0)*IF(VLOOKUP(AG23,_T1,3,0),$B24,1),IF(AND(AG23="23:59"*1,AH23="07:59"*1),"08:00"*$B24,IF(AND(AG23="20:00"*1,AH23="05:00"*1),"09:00"*$B24,IF(AND(AG23="21:00"*1,AH23="07:00"*1),"10:00"*$B24,IF(AND(AG23="21:00"*1,AH23="08:00"*1),"11:00"*$B24,IF((AH23*24)-(AG23*24)>6,((((AH23*24)-(AG23*24))-0.25)/24),(AH23-AG23))))))))) | AI24: =IF(AND(AI23="",AJ23=""),"",IFERROR(MATCH("*"&AI23&"*",Paramètres!$A$2,0)*INDEX(Paramètres!$B$2:$E$2,MATCH(#REF!,Paramètres!$B$1:$E$1,0))*$B24,IFERROR(VLOOKUP(AI23,_T1,2,0)*IF(VLOOKUP(AI23,_T1,3,0),$B24,1),IF(AND(AI23="23:59"*1,AJ23="07:59"*1),"08:00"*$B24,IF(AND(AI23="20:00"*1,AJ23="05:00"*1),"09:00"*$B24,IF(AND(AI23="21:00"*1,AJ23="07:00"*1),"10:00"*$B24,IF(AND(AI23="21:00"*1,AJ23="08:00"*1),"11:00"*$B24,IF((AJ23*24)-(AI23*24)>6,((((AJ23*24)-(AI23*24))-0.25)/24),(AJ23-AI23))))))))) | AK24: =IF(AND(AK23="",AL23=""),"",IFERROR(MATCH("*"&AK23&"*",Paramètres!$A$2,0)*INDEX(Paramètres!$B$2:$E$2,MATCH(#REF!,Paramètres!$B$1:$E$1,0))*$B24,IFERROR(VLOOKUP(AK23,_T1,2,0)*IF(VLOOKUP(AK23,_T1,3,0),$B24,1),IF(AND(AK23="23:59"*1,AL23="07:59"*1),"08:00"*$B24,IF(AND(AK23="20:00"*1,AL23="05:00"*1),"09:00"*$B24,IF(AND(AK23="21:00"*1,AL23="07:00"*1),"10:00"*$B24,IF(AND(AK23="21:00"*1,AL23="08:00"*1),"11:00"*$B24,IF((AL23*24)-(AK23*24)>6,((((AL23*24)-(AK23*24))-0.25)/24),(AL23-AK23))))))))) | AM24: =IF(AND(AM23="",AN23=""),"",IFERROR(MATCH("*"&AM23&"*",Paramètres!$A$2,0)*INDEX(Paramètres!$B$2:$E$2,MATCH(#REF!,Paramètres!$B$1:$E$1,0))*$B24,IFERROR(VLOOKUP(AM23,_T1,2,0)*IF(VLOOKUP(AM23,_T1,3,0),$B24,1),IF(AND(AM23="23:59"*1,AN23="07:59"*1),"08:00"*$B24,IF(AND(AM23="20:00"*1,AN23="05:00"*1),"09:00"*$B24,IF(AND(AM23="21:00"*1,AN23="07:00"*1),"10:00"*$B24,IF(AND(AM23="21:00"*1,AN23="08:00"*1),"11:00"*$B24,IF((AN23*24)-(AM23*24)>6,((((AN23*24)-(AM23*24))-0.25)/24),(AN23-AM23))))))))) | AO24: =IF(AND(AO23="",AP23=""),"",IFERROR(MATCH("*"&AO23&"*",Paramètres!$A$2,0)*INDEX(Paramètres!$B$2:$E$2,MATCH(#REF!,Paramètres!$B$1:$E$1,0))*$B24,IFERROR(VLOOKUP(AO23,_T1,2,0)*IF(VLOOKUP(AO23,_T1,3,0),$B24,1),IF(AND(AO23="23:59"*1,AP23="07:59"*1),"08:00"*$B24,IF(AND(AO23="20:00"*1,AP23="05:00"*1),"09:00"*$B24,IF(AND(AO23="21:00"*1,AP23="07:00"*1),"10:00"*$B24,IF(AND(AO23="21:00"*1,AP23="08:00"*1),"11:00"*$B24,IF((AP23*24)-(AO23*24)>6,((((AP23*24)-(AO23*24))-0.25)/24),(AP23-AO23))))))))) | AQ24: =IF(AND(AQ23="",AR23=""),"",IFERROR(MATCH("*"&AQ23&"*",Paramètres!$A$2,0)*INDEX(Paramètres!$B$2:$E$2,MATCH(#REF!,Paramètres!$B$1:$E$1,0))*$B24,IFERROR(VLOOKUP(AQ23,_T1,2,0)*IF(VLOOKUP(AQ23,_T1,3,0),$B24,1),IF(AND(AQ23="23:59"*1,AR23="07:59"*1),"08:00"*$B24,IF(AND(AQ23="20:00"*1,AR23="05:00"*1),"09:00"*$B24,IF(AND(AQ23="21:00"*1,AR23="07:00"*1),"10:00"*$B24,IF(AND(AQ23="21:00"*1,AR23="08:00"*1),"11:00"*$B24,IF((AR23*24)-(AQ23*24)>6,((((AR23*24)-(AQ23*24))-0.25)/24),(AR23-AQ23))))))))) | AS24: =IF(AND(AS23="",AT23=""),"",IFERROR(MATCH("*"&AS23&"*",Paramètres!$A$2,0)*INDEX(Paramètres!$B$2:$E$2,MATCH(#REF!,Paramètres!$B$1:$E$1,0))*$B24,IFERROR(VLOOKUP(AS23,_T1,2,0)*IF(VLOOKUP(AS23,_T1,3,0),$B24,1),IF(AND(AS23="23:59"*1,AT23="07:59"*1),"08:00"*$B24,IF(AND(AS23="20:00"*1,AT23="05:00"*1),"09:00"*$B24,IF(AND(AS23="21:00"*1,AT23="07:00"*1),"10:00"*$B24,IF(AND(AS23="21:00"*1,AT23="08:00"*1),"11:00"*$B24,IF((AT23*24)-(AS23*24)>6,((((AT23*24)-(AS23*24))-0.25)/24),(AT23-AS23))))))))) | AV24: =IF(AND(AV23="",AW23=""),"",IFERROR(MATCH("*"&AV23&"*",Paramètres!$A$2,0)*INDEX(Paramètres!$B$2:$E$2,MATCH(#REF!,Paramètres!$B$1:$E$1,0))*$B24,IFERROR(VLOOKUP(AV23,_T1,2,0)*IF(VLOOKUP(AV23,_T1,3,0),$B24,1),IF(AND(AV23="23:59"*1,AW23="07:59"*1),"08:00"*$B24,IF(AND(AV23="20:00"*1,AW23="05:00"*1),"09:00"*$B24,IF(AND(AV23="21:00"*1,AW23="07:00"*1),"10:00"*$B24,IF(AND(AV23="21:00"*1,AW23="08:00"*1),"11:00"*$B24,IF((AW23*24)-(AV23*24)>6,((((AW23*24)-(AV23*24))-0.25)/24),(AW23-AV23))))))))) | AX24: =IF(AND(AX23="",AY23=""),"",IFERROR(MATCH("*"&AX23&"*",Paramètres!$A$2,0)*INDEX(Paramètres!$B$2:$E$2,MATCH(#REF!,Paramètres!$B$1:$E$1,0))*$B24,IFERROR(VLOOKUP(AX23,_T1,2,0)*IF(VLOOKUP(AX23,_T1,3,0),$B24,1),IF(AND(AX23="23:59"*1,AY23="07:59"*1),"08:00"*$B24,IF(AND(AX23="20:00"*1,AY23="05:00"*1),"09:00"*$B24,IF(AND(AX23="21:00"*1,AY23="07:00"*1),"10:00"*$B24,IF(AND(AX23="21:00"*1,AY23="08:00"*1),"11:00"*$B24,IF((AY23*24)-(AX23*24)>6,((((AY23*24)-(AX23*24))-0.25)/24),(AY23-AX23))))))))) | AZ24: =IF(AND(AZ23="",BA23=""),"",IFERROR(MATCH("*"&AZ23&"*",Paramètres!$A$2,0)*INDEX(Paramètres!$B$2:$E$2,MATCH(#REF!,Paramètres!$B$1:$E$1,0))*$B24,IFERROR(VLOOKUP(AZ23,_T1,2,0)*IF(VLOOKUP(AZ23,_T1,3,0),$B24,1),IF(AND(AZ23="23:59"*1,BA23="07:59"*1),"08:00"*$B24,IF(AND(AZ23="20:00"*1,BA23="05:00"*1),"09:00"*$B24,IF(AND(AZ23="21:00"*1,BA23="07:00"*1),"10:00"*$B24,IF(AND(AZ23="21:00"*1,BA23="08:00"*1),"11:00"*$B24,IF((BA23*24)-(AZ23*24)>6,((((BA23*24)-(AZ23*24))-0.25)/24),(BA23-AZ23))))))))) | BB24: =IF(AND(BB23="",BC23=""),"",IFERROR(MATCH("*"&BB23&"*",Paramètres!$A$2,0)*INDEX(Paramètres!$B$2:$E$2,MATCH(#REF!,Paramètres!$B$1:$E$1,0))*$B24,IFERROR(VLOOKUP(BB23,_T1,2,0)*IF(VLOOKUP(BB23,_T1,3,0),$B24,1),IF(AND(BB23="23:59"*1,BC23="07:59"*1),"08:00"*$B24,IF(AND(BB23="20:00"*1,BC23="05:00"*1),"09:00"*$B24,IF(AND(BB23="21:00"*1,BC23="07:00"*1),"10:00"*$B24,IF(AND(BB23="21:00"*1,BC23="08:00"*1),"11:00"*$B24,IF((BC23*24)-(BB23*24)>6,((((BC23*24)-(BB23*24))-0.25)/24),(BC23-BB23))))))))) | BD24: =IF(AND(BD23="",BE23=""),"",IFERROR(MATCH("*"&BD23&"*",Paramètres!$A$2,0)*INDEX(Paramètres!$B$2:$E$2,MATCH(#REF!,Paramètres!$B$1:$E$1,0))*$B24,IFERROR(VLOOKUP(BD23,_T1,2,0)*IF(VLOOKUP(BD23,_T1,3,0),$B24,1),IF(AND(BD23="23:59"*1,BE23="07:59"*1),"08:00"*$B24,IF(AND(BD23="20:00"*1,BE23="05:00"*1),"09:00"*$B24,IF(AND(BD23="21:00"*1,BE23="07:00"*1),"10:00"*$B24,IF(AND(BD23="21:00"*1,BE23="08:00"*1),"11:00"*$B24,IF((BE23*24)-(BD23*24)>6,((((BE23*24)-(BD23*24))-0.25)/24),(BE23-BD23))))))))) | BF24: =IF(AND(BF23="",BG23=""),"",IFERROR(MATCH("*"&BF23&"*",Paramètres!$A$2,0)*INDEX(Paramètres!$B$2:$E$2,MATCH(#REF!,Paramètres!$B$1:$E$1,0))*$B24,IFERROR(VLOOKUP(BF23,_T1,2,0)*IF(VLOOKUP(BF23,_T1,3,0),$B24,1),IF(AND(BF23="23:59"*1,BG23="07:59"*1),"08:00"*$B24,IF(AND(BF23="20:00"*1,BG23="05:00"*1),"09:00"*$B24,IF(AND(BF23="21:00"*1,BG23="07:00"*1),"10:00"*$B24,IF(AND(BF23="21:00"*1,BG23="08:00"*1),"11:00"*$B24,IF((BG23*24)-(BF23*24)>6,((((BG23*24)-(BF23*24))-0.25)/24),(BG23-BF23))))))))) | BH24: =IF(AND(BH23="",BI23=""),"",IFERROR(MATCH("*"&BH23&"*",Paramètres!$A$2,0)*INDEX(Paramètres!$B$2:$E$2,MATCH(#REF!,Paramètres!$B$1:$E$1,0))*$B24,IFERROR(VLOOKUP(BH23,_T1,2,0)*IF(VLOOKUP(BH23,_T1,3,0),$B24,1),IF(AND(BH23="23:59"*1,BI23="07:59"*1),"08:00"*$B24,IF(AND(BH23="20:00"*1,BI23="05:00"*1),"09:00"*$B24,IF(AND(BH23="21:00"*1,BI23="07:00"*1),"10:00"*$B24,IF(AND(BH23="21:00"*1,BI23="08:00"*1),"11:00"*$B24,IF((BI23*24)-(BH23*24)>6,((((BI23*24)-(BH23*24))-0.25)/24),(BI23-BH23))))))))) | BK24: =IF(AND(BK23="",BL23=""),"",IFERROR(MATCH("*"&BK23&"*",Paramètres!$A$2,0)*INDEX(Paramètres!$B$2:$E$2,MATCH(#REF!,Paramètres!$B$1:$E$1,0))*$B24,IFERROR(VLOOKUP(BK23,_T1,2,0)*IF(VLOOKUP(BK23,_T1,3,0),$B24,1),IF(AND(BK23="23:59"*1,BL23="07:59"*1),"08:00"*$B24,IF(AND(BK23="20:00"*1,BL23="05:00"*1),"09:00"*$B24,IF(AND(BK23="21:00"*1,BL23="07:00"*1),"10:00"*$B24,IF(AND(BK23="21:00"*1,BL23="08:00"*1),"11:00"*$B24,IF((BL23*24)-(BK23*24)>6,((((BL23*24)-(BK23*24))-0.25)/24),(BL23-BK23))))))))) | BM24: =IF(AND(BM23="",BN23=""),"",IFERROR(MATCH("*"&BM23&"*",Paramètres!$A$2,0)*INDEX(Paramètres!$B$2:$E$2,MATCH(#REF!,Paramètres!$B$1:$E$1,0))*$B24,IFERROR(VLOOKUP(BM23,_T1,2,0)*IF(VLOOKUP(BM23,_T1,3,0),$B24,1),IF(AND(BM23="23:59"*1,BN23="07:59"*1),"08:00"*$B24,IF(AND(BM23="20:00"*1,BN23="05:00"*1),"09:00"*$B24,IF(AND(BM23="21:00"*1,BN23="07:00"*1),"10:00"*$B24,IF(AND(BM23="21:00"*1,BN23="08:00"*1),"11:00"*$B24,IF((BN23*24)-(BM23*24)>6,((((BN23*24)-(BM23*24))-0.25)/24),(BN23-BM23))))))))) | BO24: =IF(AND(BO23="",BP23=""),"",IFERROR(MATCH("*"&BO23&"*",Paramètres!$A$2,0)*INDEX(Paramètres!$B$2:$E$2,MATCH(#REF!,Paramètres!$B$1:$E$1,0))*$B24,IFERROR(VLOOKUP(BO23,_T1,2,0)*IF(VLOOKUP(BO23,_T1,3,0),$B24,1),IF(AND(BO23="23:59"*1,BP23="07:59"*1),"08:00"*$B24,IF(AND(BO23="20:00"*1,BP23="05:00"*1),"09:00"*$B24,IF(AND(BO23="21:00"*1,BP23="07:00"*1),"10:00"*$B24,IF(AND(BO23="21:00"*1,BP23="08:00"*1),"11:00"*$B24,IF((BP23*24)-(BO23*24)>6,((((BP23*24)-(BO23*24))-0.25)/24),(BP23-BO23))))))))) | BQ24: =IF(AND(BQ23="",BR23=""),"",IFERROR(MATCH("*"&BQ23&"*",Paramètres!$A$2,0)*INDEX(Paramètres!$B$2:$E$2,MATCH(#REF!,Paramètres!$B$1:$E$1,0))*$B24,IFERROR(VLOOKUP(BQ23,_T1,2,0)*IF(VLOOKUP(BQ23,_T1,3,0),$B24,1),IF(AND(BQ23="23:59"*1,BR23="07:59"*1),"08:00"*$B24,IF(AND(BQ23="20:00"*1,BR23="05:00"*1),"09:00"*$B24,IF(AND(BQ23="21:00"*1,BR23="07:00"*1),"10:00"*$B24,IF(AND(BQ23="21:00"*1,BR23="08:00"*1),"11:00"*$B24,IF((BR23*24)-(BQ23*24)>6,((((BR23*24)-(BQ23*24))-0.25)/24),(BR23-BQ23))))))))) | BS24: =IF(AND(BS23="",BT23=""),"",IFERROR(MATCH("*"&BS23&"*",Paramètres!$A$2,0)*INDEX(Paramètres!$B$2:$E$2,MATCH(#REF!,Paramètres!$B$1:$E$1,0))*$B24,IFERROR(VLOOKUP(BS23,_T1,2,0)*IF(VLOOKUP(BS23,_T1,3,0),$B24,1),IF(AND(BS23="23:59"*1,BT23="07:59"*1),"08:00"*$B24,IF(AND(BS23="20:00"*1,BT23="05:00"*1),"09:00"*$B24,IF(AND(BS23="21:00"*1,BT23="07:00"*1),"10:00"*$B24,IF(AND(BS23="21:00"*1,BT23="08:00"*1),"11:00"*$B24,IF((BT23*24)-(BS23*24)>6,((((BT23*24)-(BS23*24))-0.25)/24),(BT23-BS23))))))))) | BU24: =IF(AND(BU23="",BV23=""),"",IFERROR(MATCH("*"&BU23&"*",Paramètres!$A$2,0)*INDEX(Paramètres!$B$2:$E$2,MATCH(#REF!,Paramètres!$B$1:$E$1,0))*$B24,IFERROR(VLOOKUP(BU23,_T1,2,0)*IF(VLOOKUP(BU23,_T1,3,0),$B24,1),IF(AND(BU23="23:59"*1,BV23="07:59"*1),"08:00"*$B24,IF(AND(BU23="20:00"*1,BV23="05:00"*1),"09:00"*$B24,IF(AND(BU23="21:00"*1,BV23="07:00"*1),"10:00"*$B24,IF(AND(BU23="21:00"*1,BV23="08:00"*1),"11:00"*$B24,IF((BV23*24)-(BU23*24)>6,((((BV23*24)-(BU23*24))-0.25)/24),(BV23-BU23))))))))) | BW24: =IF(AND(BW23="",BX23=""),"",IFERROR(MATCH("*"&BW23&"*",Paramètres!$A$2,0)*INDEX(Paramètres!$B$2:$E$2,MATCH(#REF!,Paramètres!$B$1:$E$1,0))*$B24,IFERROR(VLOOKUP(BW23,_T1,2,0)*IF(VLOOKUP(BW23,_T1,3,0),$B24,1),IF(AND(BW23="23:59"*1,BX23="07:59"*1),"08:00"*$B24,IF(AND(BW23="20:00"*1,BX23="05:00"*1),"09:00"*$B24,IF(AND(BW23="21:00"*1,BX23="07:00"*1),"10:00"*$B24,IF(AND(BW23="21:00"*1,BX23="08:00"*1),"11:00"*$B24,IF((BX23*24)-(BW23*24)>6,((((BX23*24)-(BW23*24))-0.25)/24),(BX23-BW23))))))))) | BZ24: =IF(AND(BZ23="",CA23=""),"",IFERROR(MATCH("*"&BZ23&"*",Paramètres!$A$2,0)*INDEX(Paramètres!$B$2:$E$2,MATCH(#REF!,Paramètres!$B$1:$E$1,0))*$B24,IFERROR(VLOOKUP(BZ23,_T1,2,0)*IF(VLOOKUP(BZ23,_T1,3,0),$B24,1),IF(AND(BZ23="23:59"*1,CA23="07:59"*1),"08:00"*$B24,IF(AND(BZ23="20:00"*1,CA23="05:00"*1),"09:00"*$B24,IF(AND(BZ23="21:00"*1,CA23="07:00"*1),"10:00"*$B24,IF(AND(BZ23="21:00"*1,CA23="08:00"*1),"11:00"*$B24,IF((CA23*24)-(BZ23*24)>6,((((CA23*24)-(BZ23*24))-0.25)/24),(CA23-BZ23))))))))) | CB24: =IF(AND(CB23="",CC23=""),"",IFERROR(MATCH("*"&CB23&"*",Paramètres!$A$2,0)*INDEX(Paramètres!$B$2:$E$2,MATCH(#REF!,Paramètres!$B$1:$E$1,0))*$B24,IFERROR(VLOOKUP(CB23,_T1,2,0)*IF(VLOOKUP(CB23,_T1,3,0),$B24,1),IF(AND(CB23="23:59"*1,CC23="07:59"*1),"08:00"*$B24,IF(AND(CB23="20:00"*1,CC23="05:00"*1),"09:00"*$B24,IF(AND(CB23="21:00"*1,CC23="07:00"*1),"10:00"*$B24,IF(AND(CB23="21:00"*1,CC23="08:00"*1),"11:00"*$B24,IF((CC23*24)-(CB23*24)>6,((((CC23*24)-(CB23*24))-0.25)/24),(CC23-CB23))))))))) | CD24: =IF(AND(CD23="",CE23=""),"",IFERROR(MATCH("*"&CD23&"*",Paramètres!$A$2,0)*INDEX(Paramètres!$B$2:$E$2,MATCH(#REF!,Paramètres!$B$1:$E$1,0))*$B24,IFERROR(VLOOKUP(CD23,_T1,2,0)*IF(VLOOKUP(CD23,_T1,3,0),$B24,1),IF(AND(CD23="23:59"*1,CE23="07:59"*1),"08:00"*$B24,IF(AND(CD23="20:00"*1,CE23="05:00"*1),"09:00"*$B24,IF(AND(CD23="21:00"*1,CE23="07:00"*1),"10:00"*$B24,IF(AND(CD23="21:00"*1,CE23="08:00"*1),"11:00"*$B24,IF((CE23*24)-(CD23*24)>6,((((CE23*24)-(CD23*24))-0.25)/24),(CE23-CD23))))))))) | CF24: =IF(AND(CF23="",CG23=""),"",IFERROR(MATCH("*"&CF23&"*",Paramètres!$A$2,0)*INDEX(Paramètres!$B$2:$E$2,MATCH(#REF!,Paramètres!$B$1:$E$1,0))*$B24,IFERROR(VLOOKUP(CF23,_T1,2,0)*IF(VLOOKUP(CF23,_T1,3,0),$B24,1),IF(AND(CF23="23:59"*1,CG23="07:59"*1),"08:00"*$B24,IF(AND(CF23="20:00"*1,CG23="05:00"*1),"09:00"*$B24,IF(AND(CF23="21:00"*1,CG23="07:00"*1),"10:00"*$B24,IF(AND(CF23="21:00"*1,CG23="08:00"*1),"11:00"*$B24,IF((CG23*24)-(CF23*24)>6,((((CG23*24)-(CF23*24))-0.25)/24),(CG23-CF23))))))))) | CH24: =IF(AND(CH23="",CI23=""),"",IFERROR(MATCH("*"&CH23&"*",Paramètres!$A$2,0)*INDEX(Paramètres!$B$2:$E$2,MATCH(#REF!,Paramètres!$B$1:$E$1,0))*$B24,IFERROR(VLOOKUP(CH23,_T1,2,0)*IF(VLOOKUP(CH23,_T1,3,0),$B24,1),IF(AND(CH23="23:59"*1,CI23="07:59"*1),"08:00"*$B24,IF(AND(CH23="20:00"*1,CI23="05:00"*1),"09:00"*$B24,IF(AND(CH23="21:00"*1,CI23="07:00"*1),"10:00"*$B24,IF(AND(CH23="21:00"*1,CI23="08:00"*1),"11:00"*$B24,IF((CI23*24)-(CH23*24)>6,((((CI23*24)-(CH23*24))-0.25)/24),(CI23-CH23))))))))) | CJ24: =IF(AND(CJ23="",CK23=""),"",IFERROR(MATCH("*"&CJ23&"*",Paramètres!$A$2,0)*INDEX(Paramètres!$B$2:$E$2,MATCH(#REF!,Paramètres!$B$1:$E$1,0))*$B24,IFERROR(VLOOKUP(CJ23,_T1,2,0)*IF(VLOOKUP(CJ23,_T1,3,0),$B24,1),IF(AND(CJ23="23:59"*1,CK23="07:59"*1),"08:00"*$B24,IF(AND(CJ23="20:00"*1,CK23="05:00"*1),"09:00"*$B24,IF(AND(CJ23="21:00"*1,CK23="07:00"*1),"10:00"*$B24,IF(AND(CJ23="21:00"*1,CK23="08:00"*1),"11:00"*$B24,IF((CK23*24)-(CJ23*24)>6,((((CK23*24)-(CJ23*24))-0.25)/24),(CK23-CJ23))))))))) | CL24: =IF(AND(CL23="",CM23=""),"",IFERROR(MATCH("*"&CL23&"*",Paramètres!$A$2,0)*INDEX(Paramètres!$B$2:$E$2,MATCH(#REF!,Paramètres!$B$1:$E$1,0))*$B24,IFERROR(VLOOKUP(CL23,_T1,2,0)*IF(VLOOKUP(CL23,_T1,3,0),$B24,1),IF(AND(CL23="23:59"*1,CM23="07:59"*1),"08:00"*$B24,IF(AND(CL23="20:00"*1,CM23="05:00"*1),"09:00"*$B24,IF(AND(CL23="21:00"*1,CM23="07:00"*1),"10:00"*$B24,IF(AND(CL23="21:00"*1,CM23="08:00"*1),"11:00"*$B24,IF((CM23*24)-(CL23*24)>6,((((CM23*24)-(CL23*24))-0.25)/24),(CM23-CL23)))))))))
Q25: =SUM(C26:P26) -> 0 | AF25: =SUM(R26:AE26) -> 0 | AU25: =SUM(AG26:AT26) -> 0 | BJ25: =SUM(AV26:BI26) -> 0 | BY25: =SUM(BK26:BX26) -> 0 | CN25: =SUM(BZ26:CM26) -> 0 | CO25: =SUM(Q25,AF26,AU26,BY26,CN26,BJ26) -> 0 | CR25: =$CO$2-CO25 -> 6.9666667
