Workbook
Name DonnéesExternes_1: Listes!$D$2:$E$1383
Name Op.condit.: Listes!$H$2:$H$8
Name Pause: Listes!$I$2:$I$5
Name PF: Listes!$D$2:$E$1383

Sheet Synthèse
A1: SYNTHESE - Année 2018
A3: Recettes | B3: kg/mn mini | C3: kg/mn max | D3: Rend moyen | E3: Nb pesées | F3: Efficacité | G3: Top opérat. | H3: Flop opérat.
A4: / | F4: =IFERROR(((C4-B4)/B4),"")
A5: 4020 / REC. - BOUILLON AROMATIQUE | B5: 5.89 | C5: 13.34 | D5: 8.1425 | E5: 4 | F5: =IFERROR(((C5-B5)/B5),"") -> 1.2648557
A6: 4118 / REC. - VELOUTE D'ASPERGES | B6: 14.29 | C6: 14.29 | D6: 14.29 | E6: 1 | F6: =IFERROR(((C6-B6)/B6),"") -> 0
A7: 4353 / REC. - BOUILLON DE LEGUMES | B7: 4.1 | C7: 4.1 | D7: 4.1 | E7: 1 | F7: =IFERROR(((C7-B7)/B7),"") -> 0
A8: 4370 / REC. - BOUILLON DE CREVETTE | B8: 2.28 | C8: 2.28 | D8: 2.28 | E8: 1 | F8: =IFERROR(((C8-B8)/B8),"") -> 0
A9: 4403 / REC. - JUS DE VEAU LIE | B9: 4.17 | C9: 20 | D9: 9.6275 | E9: 4 | F9: =IFERROR(((C9-B9)/B9),"") -> 3.7961631
A10: 4702 / REC. - BOUILLON DE VOLAILLE HYPO | B10: 3.25 | C10: 14.17 | D10: 6.92 | E10: 3 | F10: =IFERROR(((C10-B10)/B10),"") -> 3.36
A11: 4703 / REC. - BOUILLON DE BOEUF sans MSG (NR) | B11: 5.22 | C11: 9.24 | D11: 7.23 | E11: 2 | F11: =IFERROR(((C11-B11)/B11),"") -> 0.77011494
A12: 4783 / REC. SILL BIO - MOULINE AUX 8 LEGUMES | B12: 6.67 | C12: 8.75 | D12: 7.71 | E12: 2 | F12: =IFERROR(((C12-B12)/B12),"") -> 0.31184408
A13: (vide) | F13: =IFERROR(((C13-B13)/B13),"")
A14: 4902 / REC. - CHORBA VERM (OU A L'ALGERIENNE) | B14: 5.56 | C14: 5.56 | D14: 5.56 | E14: 1 | F14: =IFERROR(((C14-B14)/B14),"") -> 0

Sheet Pesée
A1: PESÉE Date de saisie | B1: Code recette | C1: Désignation | D1: Recette | E1: Opérateur pesée | F1: Poids OF kg | G1: Temps début | H1: Temps fin | I1: Pause | J1: En hh:mm | K1: Temps pesée hh:mn | L1: soit en nb en minutes | M1: Rend. kg/mn
A2: 43340 | B2: 4403 | C2: =IF(B2="","",IFERROR(VLOOKUP(B2,Listes!$A$1:$B$390,2,FALSE),"recette inexistante")) -> REC. - JUS DE VEAU LIE | D2: =B2&" / "&C2 -> 4403 / REC. - JUS DE VEAU LIE | E2: HUG Jonathan | F2: 600 | G2: 0.36458333 | H2: 0.44791667 | I2: Matin (20 mn) | J2: =IF(I2="Matin (20 mn)","00:20",IF(I2="Déjeuner (40 mn)","00:40",IF(I2="Nuit (15h30)","15:30",IF(I2="","00:00")))) -> 00:20 | K2: =IF(I2="Nuit (15h30)","A renseigner manuellement",(H2-G2-J2)) -> 0.069444444 | L2: =(K2*24)*60 -> 100 | M2: =IFERROR(ROUNDUP(F2/L2,2),0) -> 6
A3: =IF(B3="","",A2) -> 43340 | B3: 4703 | C3: =IF(B3="","",IFERROR(VLOOKUP(B3,Listes!$A$1:$B$390,2,FALSE),"recette inexistante")) -> REC. - BOUILLON DE BOEUF sans MSG (NR) | D3: =B3&" / "&C3 -> 4703 / REC. - BOUILLON DE BOEUF sans MSG (NR) | E3: VALDENAIRE Alain | F3: 600 | G3: 0.64236111 | H3: 0.33333333 | I3: Nuit (15h30) | J3: =IF(I3="Matin (20 mn)","00:20",IF(I3="Déjeuner (40 mn)","00:40",IF(I3="Nuit (15h30)","15:30",IF(I3="","00:00")))) -> 15:30 | K3: 0.045138889 | L3: =(K3*24)*60 -> 65 | M3: =IFERROR(ROUNDUP(F3/L3,2),0) -> 9.24
A4: =IF(B4="","",A3) -> 43340 | B4: 4370 | C4: =IF(B4="","",IFERROR(VLOOKUP(B4,Listes!$A$1:$B$390,2,FALSE),"recette inexistante")) -> REC. - BOUILLON DE CREVETTE | D4: =B4&" / "&C4 -> 4370 / REC. - BOUILLON DE CREVETTE | E4: VALDENAIRE Alain | F4: 250 | G4: 0.35763889 | H4: 0.43402778 | J4: =IF(I4="Matin (20 mn)","00:20",IF(I4="Déjeuner (40 mn)","00:40",IF(I4="Nuit (15h30)","15:30",IF(I4="","00:00")))) -> 00:00 | K4: =IF(I4="Nuit (15h30)","A renseigner manuellement",(H4-G4-J4)) -> 0.076388889 | L4: =(K4*24)*60 -> 110 | M4: =IFERROR(ROUNDUP(F4/L4,2),0) -> 2.28
A5: =IF(B5="","",A4) -> 43340 | B5: 4353 | C5: =IF(B5="","",IFERROR(VLOOKUP(B5,Listes!$A$1:$B$390,2,FALSE),"recette inexistante")) -> REC. - BOUILLON DE LEGUMES | D5: =B5&" / "&C5 -> 4353 / REC. - BOUILLON DE LEGUMES | E5: Franck | F5: 450 | G5: 0.47916667 | H5: 0.58333333 | I5: Déjeuner (40 mn) | J5: =IF(I5="Matin (20 mn)","00:20",IF(I5="Déjeuner (40 mn)","00:40",IF(I5="Nuit (15h30)","15:30",IF(I5="","00:00")))) -> 00:40 | K5: =IF(I5="Nuit (15h30)","A renseigner manuellement",(H5-G5-J5)) -> 0.076388889 | L5: =(K5*24)*60 -> 110 | M5: =IFERROR(ROUNDUP(F5/L5,2),0) -> 4.1
A6: =IF(B6="","",A5) -> 43340 | B6: 4118 | C6: =IF(B6="","",IFERROR(VLOOKUP(B6,Listes!$A$1:$B$390,2,FALSE),"recette inexistante")) -> REC. - VELOUTE D'ASPERGES | D6: =B6&" / "&C6 -> 4118 / REC. - VELOUTE D'ASPERGES | E6: HUG Jonathan | F6: 500 | G6: 0.58333333 | H6: 0.60763889 | J6: =IF(I6="Matin (20 mn)","00:20",IF(I6="Déjeuner (40 mn)","00:40",IF(I6="Nuit (15h30)","15:30",IF(I6="","00:00")))) -> 00:00 | K6: =IF(I6="Nuit (15h30)","A renseigner manuellement",(H6-G6-J6)) -> 0.024305556 | L6: =(K6*24)*60 -> 35 | M6: =IFERROR(ROUNDUP(F6/L6,2),0) -> 14.29
A7: 43341 | B7: 4403 | C7: =IF(B7="","",IFERROR(VLOOKUP(B7,Listes!$A$1:$B$390,2,FALSE),"recette inexistante")) -> REC. - JUS DE VEAU LIE | D7: =B7&" / "&C7 -> 4403 / REC. - JUS DE VEAU LIE | E7: VALDENAIRE Alain | F7: 250 | G7: 0.58333333 | H7: 0.625 | J7: =IF(I7="Matin (20 mn)","00:20",IF(I7="Déjeuner (40 mn)","00:40",IF(I7="Nuit (15h30)","15:30",IF(I7="","00:00")))) -> 00:00 | K7: =IF(I7="Nuit (15h30)","A renseigner manuellement",(H7-G7-J7)) -> 0.041666667 | L7: =(K7*24)*60 -> 60 | M7: =IFERROR(ROUNDUP(F7/L7,2),0) -> 4.17
A8: =IF(B8="","",A7) -> 43341 | B8: 4702 | C8: =IF(B8="","",IFERROR(VLOOKUP(B8,Listes!$A$1:$B$390,2,FALSE),"recette inexistante")) -> REC. - BOUILLON DE VOLAILLE HYPO | D8: =B8&" / "&C8 -> 4702 / REC. - BOUILLON DE VOLAILLE HYPO | E8: HUG Jonathan | F8: 200 | G8: 0.625 | H8: 0.66666667 | J8: =IF(I8="Matin (20 mn)","00:20",IF(I8="Déjeuner (40 mn)","00:40",IF(I8="Nuit (15h30)","15:30",IF(I8="","00:00")))) -> 00:00 | K8: =IF(I8="Nuit (15h30)","A renseigner manuellement",(H8-G8-J8)) -> 0.041666667 | L8: =(K8*24)*60 -> 60 | M8: =IFERROR(ROUNDUP(F8/L8,2),0) -> 3.34
A9: 43342 | B9: 4783 | C9: =IF(B9="","",IFERROR(VLOOKUP(B9,Listes!$A$1:$B$390,2,FALSE),"recette inexistante")) -> REC. SILL BIO - MOULINE AUX 8 LEGUMES | D9: =B9&" / "&C9 -> 4783 / REC. SILL BIO - MOULINE AUX 8 LEGUMES | E9: VALDENAIRE Alain | F9: 350 | G9: 0.36458333 | H9: 0.40625 | I9: Matin (20 mn) | J9: =IF(I9="Matin (20 mn)","00:20",IF(I9="Déjeuner (40 mn)","00:40",IF(I9="Nuit (15h30)","15:30",IF(I9="","00:00")))) -> 00:20 | K9: =IF(I9="Nuit (15h30)","A renseigner manuellement",(H9-G9-J9)) -> 0.027777778 | L9: =(K9*24)*60 -> 40 | M9: =IFERROR(ROUNDUP(F9/L9,2),0) -> 8.75
A10: =IF(B10="","",A9) -> 43342 | B10: 4703 | C10: =IF(B10="","",IFERROR(VLOOKUP(B10,Listes!$A$1:$B$390,2,FALSE),"recette inexistante")) -> REC. - BOUILLON DE BOEUF sans MSG (NR) | D10: =B10&" / "&C10 -> 4703 / REC. - BOUILLON DE BOEUF sans MSG (NR) | E10: Franck | F10: 600 | G10: 0.33333333 | H10: 0.42708333 | I10: Matin (20 mn) | J10: =IF(I10="Matin (20 mn)","00:20",IF(I10="Déjeuner (40 mn)","00:40",IF(I10="Nuit (15h30)","15:30",IF(I10="","00:00")))) -> 00:20 | K10: =IF(I10="Nuit (15h30)","A renseigner manuellement",(H10-G10-J10)) -> 0.079861111 | L10: =(K10*24)*60 -> 115 | M10: =IFERROR(ROUNDUP(F10/L10,2),0) -> 5.22
A11: 43343 | B11: 4702 | C11: =IF(B11="","",IFERROR(VLOOKUP(B11,Listes!$A$1:$B$390,2,FALSE),"recette inexistante")) -> REC. - BOUILLON DE VOLAILLE HYPO | D11: =B11&" / "&C11 -> 4702 / REC. - BOUILLON DE VOLAILLE HYPO | E11: VALDENAIRE Alain | F11: 850 | G11: 0.60416667 | H11: 0.64583333 | J11: =IF(I11="Matin (20 mn)","00:20",IF(I11="Déjeuner (40 mn)","00:40",IF(I11="Nuit (15h30)","15:30",IF(I11="","00:00")))) -> 00:00 | K11: =IF(I11="Nuit (15h30)","A renseigner manuellement",(H11-G11-J11)) -> 0.041666667 | L11: =(K11*24)*60 -> 60 | M11: =IFERROR(ROUNDUP(F11/L11,2),0) -> 14.17
A12: 43343 | B12: 4020 | C12: =IF(B12="","",IFERROR(VLOOKUP(B12,Listes!$A$1:$B$390,2,FALSE),"recette inexistante")) -> REC. - BOUILLON AROMATIQUE | D12: =B12&" / "&C12 -> 4020 / REC. - BOUILLON AROMATIQUE | E12: HUG Jonathan | F12: 1200 | G12: 0.29166667 | H12: 0.35416667 | J12: =IF(I12="Matin (20 mn)","00:20",IF(I12="Déjeuner (40 mn)","00:40",IF(I12="Nuit (15h30)","15:30",IF(I12="","00:00")))) -> 00:00 | K12: =IF(I12="Nuit (15h30)","A renseigner manuellement",(H12-G12-J12)) -> 0.0625 | L12: =(K12*24)*60 -> 90 | M12: =IFERROR(ROUNDUP(F12/L12,2),0) -> 13.34
A13: 43343 | B13: 4403 | C13: =IF(B13="","",IFERROR(VLOOKUP(B13,Listes!$A$1:$B$390,2,FALSE),"recette inexistante")) -> REC. - JUS DE VEAU LIE | D13: =B13&" / "&C13 -> 4403 / REC. - JUS DE VEAU LIE | E13: VALDENAIRE Alain | F13: 500 | G13: 0.33333333 | H13: 0.375 | J13: =IF(I13="Matin (20 mn)","00:20",IF(I13="Déjeuner (40 mn)","00:40",IF(I13="Nuit (15h30)","15:30",IF(I13="","00:00")))) -> 00:00 | K13: =IF(I13="Nuit (15h30)","A renseigner manuellement",(H13-G13-J13)) -> 0.041666667 | L13: =(K13*24)*60 -> 60 | M13: =IFERROR(ROUNDUP(F13/L13,2),0) -> 8.34
A14: 43343 | B14: 4020 | C14: =IF(B14="","",IFERROR(VLOOKUP(B14,Listes!$A$1:$B$390,2,FALSE),"recette inexistante")) -> REC. - BOUILLON AROMATIQUE | D14: =B14&" / "&C14 -> 4020 / REC. - BOUILLON AROMATIQUE | E14: HUG Jonathan | F14: 1200 | G14: 0.3125 | H14: 0.4375 | J14: =IF(I14="Matin (20 mn)","00:20",IF(I14="Déjeuner (40 mn)","00:40",IF(I14="Nuit (15h30)","15:30",IF(I14="","00:00")))) -> 00:00 | K14: =IF(I14="Nuit (15h30)","A renseigner manuellement",(H14-G14-J14)) -> 0.125 | L14: =(K14*24)*60 -> 180 | M14: =IFERROR(ROUNDUP(F14/L14,2),0) -> 6.67
A15: 43347 | B15: 4702 | C15: =IF(B15="","",IFERROR(VLOOKUP(B15,Listes!$A$1:$B$390,2,FALSE),"recette inexistante")) -> REC. - BOUILLON DE VOLAILLE HYPO | D15: =B15&" / "&C15 -> 4702 / REC. - BOUILLON DE VOLAILLE HYPO | E15: HUG Jonathan | F15: 650 | G15: 0.41666667 | H15: 0.58333333 | I15: Déjeuner (40 mn) | J15: =IF(I15="Matin (20 mn)","00:20",IF(I15="Déjeuner (40 mn)","00:40",IF(I15="Nuit (15h30)","15:30",IF(I15="","00:00")))) -> 00:40 | K15: =IF(I15="Nuit (15h30)","A renseigner manuellement",(H15-G15-J15)) -> 0.13888889 | L15: =(K15*24)*60 -> 200 | M15: =IFERROR(ROUNDUP(F15/L15,2),0) -> 3.25
A16: 43347 | B16: 4020 | C16: =IF(B16="","",IFERROR(VLOOKUP(B16,Listes!$A$1:$B$390,2,FALSE),"recette inexistante")) -> REC. - BOUILLON AROMATIQUE | D16: =IFERROR(B16&" / "&C16,"") -> 4020 / REC. - BOUILLON AROMATIQUE | E16: VALDENAIRE Alain | F16: 1000 | G16: 0.41666667 | H16: 0.5625 | I16: Déjeuner (40 mn) | J16: =IF(I16="Matin (20 mn)","00:20",IF(I16="Déjeuner (40 mn)","00:40",IF(I16="Nuit (15h30)","15:30",IF(I16="","00:00")))) -> 00:40 | K16: =IF(I16="Nuit (15h30)","A renseigner manuellement",(H16-G16-J16)) -> 0.11805556 | L16: =(K16*24)*60 -> 170 | M16: =IFERROR(ROUNDUP(F16/L16,2),0) -> 5.89
A17: 43349 | B17: 4783 | C17: =IF(B17="","",IFERROR(VLOOKUP(B17,Listes!$A$1:$B$390,2,FALSE),"recette inexistante")) -> REC. SILL BIO - MOULINE AUX 8 LEGUMES | D17: =B17&" / "&C17 -> 4783 / REC. SILL BIO - MOULINE AUX 8 LEGUMES | E17: HUG Jonathan | F17: 500 | G17: 0.29166667 | H17: 0.34375 | J17: =IF(I17="Matin (20 mn)","00:20",IF(I17="Déjeuner (40 mn)","00:40",IF(I17="Nuit (15h30)","15:30",IF(I17="","00:00")))) -> 00:00 | K17: =IF(I17="Nuit (15h30)","A renseigner manuellement",(H17-G17-J17)) -> 0.052083333 | L17: =(K17*24)*60 -> 75 | M17: =IFERROR(ROUNDUP(F17/L17,2),0) -> 6.67
A18: 43350 | B18: 4020 | C18: =IF(B18="","",IFERROR(VLOOKUP(B18,Listes!$A$1:$B$390,2,FALSE),"recette inexistante")) -> REC. - BOUILLON AROMATIQUE | D18: =B18&" / "&C18 -> 4020 / REC. - BOUILLON AROMATIQUE | E18: VALDENAIRE Alain | F18: 600 | G18: 0.29166667 | H18: 0.35416667 | J18: =IF(I18="Matin (20 mn)","00:20",IF(I18="Déjeuner (40 mn)","00:40",IF(I18="Nuit (15h30)","15:30",IF(I18="","00:00")))) -> 00:00 | K18: =IF(I18="Nuit (15h30)","A renseigner manuellement",(H18-G18-J18)) -> 0.0625 | L18: =(K18*24)*60 -> 90 | M18: =IFERROR(ROUNDUP(F18/L18,2),0) -> 6.67
A19: 43361 | B19: 4403 | C19: =IF(B19="","",IFERROR(VLOOKUP(B19,Listes!$A$1:$B$390,2,FALSE),"recette inexistante")) -> REC. - JUS DE VEAU LIE | D19: =B19&" / "&C19 -> 4403 / REC. - JUS DE VEAU LIE | E19: HUG Jonathan | F19: 500 | G19: 0.30555556 | H19: 0.32291667 | J19: =IF(I19="Matin (20 mn)","00:20",IF(I19="Déjeuner (40 mn)","00:40",IF(I19="Nuit (15h30)","15:30",IF(I19="","00:00")))) -> 00:00 | K19: =IF(I19="Nuit (15h30)","A renseigner manuellement",(H19-G19-J19)) -> 0.017361111 | L19: =(K19*24)*60 -> 25 | M19: =IFERROR(ROUNDUP(F19/L19,2),0) -> 20
A20: =IF(B20="","",A19) -> 43361 | B20: 4902 | C20: =IF(B20="","",IFERROR(VLOOKUP(B20,Listes!$A$1:$B$390,2,FALSE),"recette inexistante")) -> REC. - CHORBA VERM (OU A L'ALGERIENNE) | D20: =B20&" / "&C20 -> 4902 / REC. - CHORBA VERM (OU A L'ALGERIENNE) | E20: VALDENAIRE Alain | F20: 250 | G20: 0.41666667 | H20: 0.44791667 | J20: =IF(I20="Matin (20 mn)","00:20",IF(I20="Déjeuner (40 mn)","00:40",IF(I20="Nuit (15h30)","15:30",IF(I20="","00:00")))) -> 00:00 | K20: =IF(I20="Nuit (15h30)","A renseigner manuellement",(H20-G20-J20)) -> 0.03125 | L20: =(K20*24)*60 -> 45 | M20: =IFERROR(ROUNDUP(F20/L20,2),0) -> 5.56
A21: =IF(B21="","",A20) | C21: =IF(B21="","",IFERROR(VLOOKUP(B21,Listes!$A$1:$B$390,2,FALSE),"recette inexistante")) | D21: =B21&" / "&C21 -> / | J21: =IF(I21="Matin (20 mn)","00:20",IF(I21="Déjeuner (40 mn)","00:40",IF(I21="Nuit (15h30)","15:30",IF(I21="","00:00")))) -> 00:00 | K21: =IF(I21="Nuit (15h30)","A renseigner manuellement",(H21-G21-J21)) -> 0 | L21: =(K21*24)*60 -> 0 | M21: =IFERROR(ROUNDUP(F21/L21,2),0) -> 0
A22: =IF(B22="","",A21) | C22: =IF(B22="","",IFERROR(VLOOKUP(B22,Listes!$A$1:$B$390,2,FALSE),"recette inexistante")) | D22: =B22&" / "&C22 -> / | J22: =IF(I22="Matin (20 mn)","00:20",IF(I22="Déjeuner (40 mn)","00:40",IF(I22="Nuit (15h30)","15:30",IF(I22="","00:00")))) -> 00:00 | K22: =IF(I22="Nuit (15h30)","A renseigner manuellement",(H22-G22-J22)) -> 0 | L22: =(K22*24)*60 -> 0 | M22: =IFERROR(ROUNDUP(F22/L22,2),0) -> 0
A23: =IF(B23="","",A22) | C23: =IF(B23="","",IFERROR(VLOOKUP(B23,Listes!$A$1:$B$390,2,FALSE),"recette inexistante")) | D23: =B23&" / "&C23 -> / | J23: =IF(I23="Matin (20 mn)","00:20",IF(I23="Déjeuner (40 mn)","00:40",IF(I23="Nuit (15h30)","15:30",IF(I23="","00:00")))) -> 00:00 | K23: =IF(I23="Nuit (15h30)","A renseigner manuellement",(H23-G23-J23)) -> 0 | L23: =(K23*24)*60 -> 0 | M23: =IFERROR(ROUNDUP(F23/L23,2),0) -> 0
A24: =IF(B24="","",A23) | C24: =IF(B24="","",IFERROR(VLOOKUP(B24,Listes!$A$1:$B$390,2,FALSE),"recette inexistante")) | D24: =B24&" / "&C24 -> / | J24: =IF(I24="Matin (20 mn)","00:20",IF(I24="Déjeuner (40 mn)","00:40",IF(I24="Nuit (15h30)","15:30",IF(I24="","00:00")))) -> 00:00 | K24: =IF(I24="Nuit (15h30)","A renseigner manuellement",(H24-G24-J24)) -> 0 | L24: =(K24*24)*60 -> 0 | M24: =IFERROR(ROUNDUP(F24/L24,2),0) -> 0
A25: =IF(B25="","",A24) | C25: =IF(B25="","",IFERROR(VLOOKUP(B25,Listes!$A$1:$B$390,2,FALSE),"recette inexistante")) | D25: =B25&" / "&C25 -> / | J25: =IF(I25="Matin (20 mn)","00:20",IF(I25="Déjeuner (40 mn)","00:40",IF(I25="Nuit (15h30)","15:30",IF(I25="","00:00")))) -> 00:00 | K25: =IF(I25="Nuit (15h30)","A renseigner manuellement",(H25-G25-J25)) -> 0 | L25: =(K25*24)*60 -> 0 | M25: =IFERROR(ROUNDUP(F25/L25,2),0) -> 0
A26: =IF(B26="","",A25) | C26: =IF(B26="","",IFERROR(VLOOKUP(B26,Listes!$A$1:$B$390,2,FALSE),"recette inexistante")) | D26: =B26&" / "&C26 -> / | J26: =IF(I26="Matin (20 mn)","00:20",IF(I26="Déjeuner (40 mn)","00:40",IF(I26="Nuit (15h30)","15:30",IF(I26="","00:00")))) -> 00:00 | K26: =IF(I26="Nuit (15h30)","A renseigner manuellement",(H26-G26-J26)) -> 0 | L26: =(K26*24)*60 -> 0 | M26: =IFERROR(ROUNDUP(F26/L26,2),0) -> 0
A27: =IF(B27="","",A26) | C27: =IF(B27="","",IFERROR(VLOOKUP(B27,Listes!$A$1:$B$390,2,FALSE),"recette inexistante")) | D27: =B27&" / "&C27 -> / | J27: =IF(I27="Matin (20 mn)","00:20",IF(I27="Déjeuner (40 mn)","00:40",IF(I27="Nuit (15h30)","15:30",IF(I27="","00:00")))) -> 00:00 | K27: =IF(I27="Nuit (15h30)","A renseigner manuellement",(H27-G27-J27)) -> 0 | L27: =(K27*24)*60 -> 0 | M27: =IFERROR(ROUNDUP(F27/L27,2),0) -> 0
A28: =IF(B28="","",A27) | C28: =IF(B28="","",IFERROR(VLOOKUP(B28,Listes!$A$1:$B$390,2,FALSE),"recette inexistante")) | D28: =B28&" / "&C28 -> / | J28: =IF(I28="Matin (20 mn)","00:20",IF(I28="Déjeuner (40 mn)","00:40",IF(I28="Nuit (15h30)","15:30",IF(I28="","00:00")))) -> 00:00 | K28: =IF(I28="Nuit (15h30)","A renseigner manuellement",(H28-G28-J28)) -> 0 | L28: =(K28*24)*60 -> 0 | M28: =IFERROR(ROUNDUP(F28/L28,2),0) -> 0
A29: =IF(B29="","",A28) | C29: =IF(B29="","",IFERROR(VLOOKUP(B29,Listes!$A$1:$B$390,2,FALSE),"recette inexistante")) | D29: =B29&" / "&C29 -> / | J29: =IF(I29="Matin (20 mn)","00:20",IF(I29="Déjeuner (40 mn)","00:40",IF(I29="Nuit (15h30)","15:30",IF(I29="","00:00")))) -> 00:00 | K29: =IF(I29="Nuit (15h30)","A renseigner manuellement",(H29-G29-J29)) -> 0 | L29: =(K29*24)*60 -> 0 | M29: =IFERROR(ROUNDUP(F29/L29,2),0) -> 0
A30: =IF(B30="","",A29) | C30: =IF(B30="","",IFERROR(VLOOKUP(B30,Listes!$A$1:$B$390,2,FALSE),"recette inexistante")) | D30: =B30&" / "&C30 -> / | J30: =IF(I30="Matin (20 mn)","00:20",IF(I30="Déjeuner (40 mn)","00:40",IF(I30="Nuit (15h30)","15:30",IF(I30="","00:00")))) -> 00:00 | K30: =IF(I30="Nuit (15h30)","A renseigner manuellement",(H30-G30-J30)) -> 0 | L30: =(K30*24)*60 -> 0 | M30: =IFERROR(ROUNDUP(F30/L30,2),0) -> 0
A31: =IF(B31="","",A30) | C31: =IF(B31="","",IFERROR(VLOOKUP(B31,Listes!$A$1:$B$390,2,FALSE),"recette inexistante")) | D31: =B31&" / "&C31 -> / | J31: =IF(I31="Matin (20 mn)","00:20",IF(I31="Déjeuner (40 mn)","00:40",IF(I31="Nuit (15h30)","15:30",IF(I31="","00:00")))) -> 00:00 | K31: =IF(I31="Nuit (15h30)","A renseigner manuellement",(H31-G31-J31)) -> 0 | L31: =(K31*24)*60 -> 0 | M31: =IFERROR(ROUNDUP(F31/L31,2),0) -> 0
A32: =IF(B32="","",A31) | C32: =IF(B32="","",IFERROR(VLOOKUP(B32,Listes!$A$1:$B$390,2,FALSE),"recette inexistante")) | D32: =B32&" / "&C32 -> / | J32: =IF(I32="Matin (20 mn)","00:20",IF(I32="Déjeuner (40 mn)","00:40",IF(I32="Nuit (15h30)","15:30",IF(I32="","00:00")))) -> 00:00 | K32: =IF(I32="Nuit (15h30)","A renseigner manuellement",(H32-G32-J32)) -> 0 | L32: =(K32*24)*60 -> 0 | M32: =IFERROR(ROUNDUP(F32/L32,2),0) -> 0
... A184: =IF(B184="","",A183) | C184: =IF(B184="","",IFERROR(VLOOKUP(B184,Listes!$A$1:$B$390,2,FALSE),"recette inexistante")) | D184: =B184&" / "&C184 -> / | J184: =IF(I184="Matin (20 mn)","00:20",IF(I184="Déjeuner (40 mn)","00:40",IF(I184="Nuit (15h30)","15:30",IF(I184="","00:00")))) -> 00:00 | K184: =IF(I184="Nuit (15h30)","A renseigner manuellement",(H184-G184-J184)) -> 0 | L184: =(K184*24)*60 -> 0 | M184: =IFERROR(ROUNDUP(F184/L184,2),0) -> 0
A185: =IF(B185="","",A184) | C185: =IF(B185="","",IFERROR(VLOOKUP(B185,Listes!$A$1:$B$390,2,FALSE),"recette inexistante")) | J185: =IF(I185="Matin (20 mn)","00:20",IF(I185="Déjeuner (40 mn)","00:40",IF(I185="Nuit (15h30)","15:30",IF(I185="","00:00")))) -> 00:00 | K185: =IF(I185="Nuit (15h30)","A renseigner manuellement",(H185-G185-J185)) -> 0 | L185: =(K185*24)*60 -> 0 | M185: =IFERROR(ROUNDUP(F185/L185,2),0) -> 0
A186: =IF(B186="","",A185) | C186: =IF(B186="","",IFERROR(VLOOKUP(B186,Listes!$A$1:$B$390,2,FALSE),"recette inexistante")) | J186: =IF(I186="Matin (20 mn)","00:20",IF(I186="Déjeuner (40 mn)","00:40",IF(I186="Nuit (15h30)","15:30",IF(I186="","00:00")))) -> 00:00 | K186: =IF(I186="Nuit (15h30)","A renseigner manuellement",(H186-G186-J186)) -> 0 | L186: =(K186*24)*60 -> 0 | M186: =IFERROR(ROUNDUP(F186/L186,2),0) -> 0
A187: =IF(B187="","",A186) | C187: =IF(B187="","",IFERROR(VLOOKUP(B187,Listes!$A$1:$B$390,2,FALSE),"recette inexistante")) | J187: =IF(I187="Matin (20 mn)","00:20",IF(I187="Déjeuner (40 mn)","00:40",IF(I187="Nuit (15h30)","15:30",IF(I187="","00:00")))) -> 00:00 | K187: =IF(I187="Nuit (15h30)","A renseigner manuellement",(H187-G187-J187)) -> 0 | L187: =(K187*24)*60 -> 0 | M187: =IFERROR(ROUNDUP(F187/L187,2),0) -> 0
A188: =IF(B188="","",A187) | C188: =IF(B188="","",IFERROR(VLOOKUP(B188,Listes!$A$1:$B$390,2,FALSE),"recette inexistante")) | J188: =IF(I188="Matin (20 mn)","00:20",IF(I188="Déjeuner (40 mn)","00:40",IF(I188="Nuit (15h30)","15:30",IF(I188="","00:00")))) -> 00:00 | K188: =IF(I188="Nuit (15h30)","A renseigner manuellement",(H188-G188-J188)) -> 0 | L188: =(K188*24)*60 -> 0 | M188: =IFERROR(ROUNDUP(F188/L188,2),0) -> 0
A189: =IF(B189="","",A188) | C189: =IF(B189="","",IFERROR(VLOOKUP(B189,Listes!$A$1:$B$390,2,FALSE),"recette inexistante")) | J189: =IF(I189="Matin (20 mn)","00:20",IF(I189="Déjeuner (40 mn)","00:40",IF(I189="Nuit (15h30)","15:30",IF(I189="","00:00")))) -> 00:00 | K189: =IF(I189="Nuit (15h30)","A renseigner manuellement",(H189-G189-J189)) -> 0 | L189: =(K189*24)*60 -> 0 | M189: =IFERROR(ROUNDUP(F189/L189,2),0) -> 0
A190: =IF(B190="","",A189) | C190: =IF(B190="","",IFERROR(VLOOKUP(B190,Listes!$A$1:$B$390,2,FALSE),"recette inexistante")) | J190: =IF(I190="Matin (20 mn)","00:20",IF(I190="Déjeuner (40 mn)","00:40",IF(I190="Nuit (15h30)","15:30",IF(I190="","00:00")))) -> 00:00 | K190: =IF(I190="Nuit (15h30)","A renseigner manuellement",(H190-G190-J190)) -> 0 | L190: =(K190*24)*60 -> 0 | M190: =IFERROR(ROUNDUP(F190/L190,2),0) -> 0
A191: =IF(B191="","",A190) | C191: =IF(B191="","",IFERROR(VLOOKUP(B191,Listes!$A$1:$B$390,2,FALSE),"recette inexistante")) | J191: =IF(I191="Matin (20 mn)","00:20",IF(I191="Déjeuner (40 mn)","00:40",IF(I191="Nuit (15h30)","15:30",IF(I191="","00:00")))) -> 00:00 | K191: =IF(I191="Nuit (15h30)","A renseigner manuellement",(H191-G191-J191)) -> 0 | L191: =(K191*24)*60 -> 0 | M191: =IFERROR(ROUNDUP(F191/L191,2),0) -> 0
A192: =IF(B192="","",A191) | C192: =IF(B192="","",IFERROR(VLOOKUP(B192,Listes!$A$1:$B$390,2,FALSE),"recette inexistante")) | J192: =IF(I192="Matin (20 mn)","00:20",IF(I192="Déjeuner (40 mn)","00:40",IF(I192="Nuit (15h30)","15:30",IF(I192="","00:00")))) -> 00:00 | K192: =IF(I192="Nuit (15h30)","A renseigner manuellement",(H192-G192-J192)) -> 0 | L192: =(K192*24)*60 -> 0 | M192: =IFERROR(ROUNDUP(F192/L192,2),0) -> 0
A193: =IF(B193="","",A192) | C193: =IF(B193="","",IFERROR(VLOOKUP(B193,Listes!$A$1:$B$390,2,FALSE),"recette inexistante")) | J193: =IF(I193="Matin (20 mn)","00:20",IF(I193="Déjeuner (40 mn)","00:40",IF(I193="Nuit (15h30)","15:30",IF(I193="","00:00")))) -> 00:00 | K193: =IF(I193="Nuit (15h30)","A renseigner manuellement",(H193-G193-J193)) -> 0 | L193: =(K193*24)*60 -> 0 | M193: =IFERROR(ROUNDUP(F193/L193,2),0) -> 0
A194: =IF(B194="","",A193) | C194: =IF(B194="","",IFERROR(VLOOKUP(B194,Listes!$A$1:$B$390,2,FALSE),"recette inexistante")) | J194: =IF(I194="Matin (20 mn)","00:20",IF(I194="Déjeuner (40 mn)","00:40",IF(I194="Nuit (15h30)","15:30",IF(I194="","00:00")))) -> 00:00 | K194: =IF(I194="Nuit (15h30)","A renseigner manuellement",(H194-G194-J194)) -> 0 | L194: =(K194*24)*60 -> 0 | M194: =IFERROR(ROUNDUP(F194/L194,2),0) -> 0
A195: =IF(B195="","",A194) | C195: =IF(B195="","",IFERROR(VLOOKUP(B195,Listes!$A$1:$B$390,2,FALSE),"recette inexistante")) | J195: =IF(I195="Matin (20 mn)","00:20",IF(I195="Déjeuner (40 mn)","00:40",IF(I195="Nuit (15h30)","15:30",IF(I195="","00:00")))) -> 00:00 | K195: =IF(I195="Nuit (15h30)","A renseigner manuellement",(H195-G195-J195)) -> 0 | L195: =(K195*24)*60 -> 0 | M195: =IFERROR(ROUNDUP(F195/L195,2),0) -> 0
A196: =IF(B196="","",A195) | C196: =IF(B196="","",IFERROR(VLOOKUP(B196,Listes!$A$1:$B$390,2,FALSE),"recette inexistante")) | J196: =IF(I196="Matin (20 mn)","00:20",IF(I196="Déjeuner (40 mn)","00:40",IF(I196="Nuit (15h30)","15:30",IF(I196="","00:00")))) -> 00:00 | K196: =IF(I196="Nuit (15h30)","A renseigner manuellement",(H196-G196-J196)) -> 0 | L196: =(K196*24)*60 -> 0 | M196: =IFERROR(ROUNDUP(F196/L196,2),0) -> 0
... A200: =IF(B200="","",A199) | C200: =IF(B200="","",IFERROR(VLOOKUP(B200,Listes!$A$1:$B$390,2,FALSE),"recette inexistante")) | J200: =IF(I200="Matin (20 mn)","00:20",IF(I200="Déjeuner (40 mn)","00:40",IF(I200="Nuit (15h30)","15:30",IF(I200="","00:00")))) -> 00:00 | K200: =IF(I200="Nuit (15h30)","A renseigner manuellement",(H200-G200-J200)) -> 0 | L200: =(K200*24)*60 -> 0 | M200: =IFERROR(ROUNDUP(F200/L200,2),0) -> 0

Sheet Cond.
A1: CONDIT. Date de saisie | B1: Code PF | C1: Désignation | D1: Ligne | E1: Opérateur Conditionnement | F1: Poids en kg conditionné | G1: Temps début | H1: Temps fin | I1: Pause | J1: En hh:mm | K1: Temps Conditionnement | L1: En centièmes
A2: 43340 | B2: 5100 | C2: =IF(B2="","",IFERROR(VLOOKUP(B2,Listes!$D$1:$E$1400,2,FALSE),"Référence inexistante")) -> JUS DE VEAU LIE Boite de 1 kg pour 16 L | E2: BERJANO Dylan | F2: 300 | G2: 0.45138889 | H2: 0.5 | J2: =IF(I2="Matin (20 mn)","00:20",IF(I2="Déjeuner (40 mn)","00:40",IF(I2="Nuit (15h30)","15:30",IF(I2="","00:00")))) -> 00:00 | K2: =IF(I2="Nuit (15h30)","A renseigner manuellement",(H2-G2-J2)) -> 0.048611111 | L2: =IFERROR(K2*24,"") -> 1.1666667
A3: =IF(B3="","",A2) -> 43340 | B3: 6295 | C3: =IF(B3="","",IFERROR(VLOOKUP(B3,Listes!$D$1:$E$1400,2,FALSE),"Référence inexistante")) -> JUS DE VEAU LIE Poche de 1 kg pour 16 L | E3: CLAUDEL Marina | F3: 300 | G3: 0.39583333 | H3: 0.4375 | J3: =IF(I3="Matin (20 mn)","00:20",IF(I3="Déjeuner (40 mn)","00:40",IF(I3="Nuit (15h30)","15:30",IF(I3="","00:00")))) -> 00:00 | K3: =IF(I3="Nuit (15h30)","A renseigner manuellement",(H3-G3-J3)) -> 0.041666667 | L3: =IFERROR(K3*24,"") -> 1
A4: =IF(B4="","",A3) -> 43340 | B4: 6927 | C4: =IF(B4="","",IFERROR(VLOOKUP(B4,Listes!$D$1:$E$1400,2,FALSE),"Référence inexistante")) -> BOUILLON DE POT AU FEU Boite de 1 kg pour 66 L | E4: BERJANO Dylan | F4: 600 | G4: 0.42013889 | H4: 0.45833333 | J4: =IF(I4="Matin (20 mn)","00:20",IF(I4="Déjeuner (40 mn)","00:40",IF(I4="Nuit (15h30)","15:30",IF(I4="","00:00")))) -> 00:00 | K4: =IF(I4="Nuit (15h30)","A renseigner manuellement",(H4-G4-J4)) -> 0.038194444 | L4: =IFERROR(K4*24,"") -> 0.91666667
A5: =IF(B5="","",A4) -> 43340 | B5: 6368 | C5: =IF(B5="","",IFERROR(VLOOKUP(B5,Listes!$D$1:$E$1400,2,FALSE),"Référence inexistante")) -> Guillaume - BOUILLON CREVETTE Seau rouge 500g / Cart.12 | E5: MAERKY Sandrine | F5: 250 | G5: 0.36111111 | H5: 0.41666667 | I5: Matin (20 mn) | J5: =IF(I5="Matin (20 mn)","00:20",IF(I5="Déjeuner (40 mn)","00:40",IF(I5="Nuit (15h30)","15:30",IF(I5="","00:00")))) -> 00:20 | K5: =IF(I5="Nuit (15h30)","A renseigner manuellement",(H5-G5-J5)) -> 0.041666667 | L5: =IFERROR(K5*24,"") -> 1
A6: =IF(B6="","",A5) -> 43340 | B6: 9091 | C6: =IF(B6="","",IFERROR(VLOOKUP(B6,Listes!$D$1:$E$1400,2,FALSE),"Référence inexistante")) -> BOUILLON DE LEGUMES Sachet ind. (5 g) | E6: MAERKY Sandrine | F6: 450 | G6: 0.29166667 | H6: 0.39583333 | I6: Matin (20 mn) | J6: =IF(I6="Matin (20 mn)","00:20",IF(I6="Déjeuner (40 mn)","00:40",IF(I6="Nuit (15h30)","15:30",IF(I6="","00:00")))) -> 00:20 | K6: =IF(I6="Nuit (15h30)","A renseigner manuellement",(H6-G6-J6)) -> 0.090277778 | L6: =IFERROR(K6*24,"") -> 2.1666667
A7: =IF(B7="","",A6) -> 43340 | B7: 5574 | C7: =IF(B7="","",IFERROR(VLOOKUP(B7,Listes!$D$1:$E$1400,2,FALSE),"Référence inexistante")) -> VELOUTE D'ASPERGES Sac de 50 rations (800 g) | E7: CLAUDEL Marina | F7: 500 | G7: 0.29166667 | H7: 0.41666667 | I7: Matin (20 mn) | J7: =IF(I7="Matin (20 mn)","00:20",IF(I7="Déjeuner (40 mn)","00:40",IF(I7="Nuit (15h30)","15:30",IF(I7="","00:00")))) -> 00:20 | K7: =IF(I7="Nuit (15h30)","A renseigner manuellement",(H7-G7-J7)) -> 0.11111111 | L7: =IFERROR(K7*24,"") -> 2.6666667
A8: =IF(B8="","",A7) | C8: =IF(B8="","",IFERROR(VLOOKUP(B8,Listes!$D$1:$E$1400,2,FALSE),"Référence inexistante")) | J8: =IF(I8="Matin (20 mn)","00:20",IF(I8="Déjeuner (40 mn)","00:40",IF(I8="Nuit (15h30)","15:30",IF(I8="","00:00")))) -> 00:00 | K8: =IF(I8="Nuit (15h30)","A renseigner manuellement",(H8-G8-J8)) -> 0 | L8: =IFERROR(K8*24,"") -> 0
A9: =IF(B9="","",A8) | C9: =IF(B9="","",IFERROR(VLOOKUP(B9,Listes!$D$1:$E$1400,2,FALSE),"Référence inexistante")) | J9: =IF(I9="Matin (20 mn)","00:20",IF(I9="Déjeuner (40 mn)","00:40",IF(I9="Nuit (15h30)","15:30",IF(I9="","00:00")))) -> 00:00 | K9: =IF(I9="Nuit (15h30)","A renseigner manuellement",(H9-G9-J9)) -> 0 | L9: =IFERROR(K9*24,"") -> 0
A10: =IF(B10="","",A9) | C10: =IF(B10="","",IFERROR(VLOOKUP(B10,Listes!$D$1:$E$1400,2,FALSE),"Référence inexistante")) | J10: =IF(I10="Matin (20 mn)","00:20",IF(I10="Déjeuner (40 mn)","00:40",IF(I10="Nuit (15h30)","15:30",IF(I10="","00:00")))) -> 00:00 | K10: =IF(I10="Nuit (15h30)","A renseigner manuellement",(H10-G10-J10)) -> 0 | L10: =IFERROR(K10*24,"") -> 0
A11: =IF(B11="","",A10) | C11: =IF(B11="","",IFERROR(VLOOKUP(B11,Listes!$D$1:$E$1400,2,FALSE),"Référence inexistante")) | J11: =IF(I11="Matin (20 mn)","00:20",IF(I11="Déjeuner (40 mn)","00:40",IF(I11="Nuit (15h30)","15:30",IF(I11="","00:00")))) -> 00:00 | K11: =IF(I11="Nuit (15h30)","A renseigner manuellement",(H11-G11-J11)) -> 0 | L11: =IFERROR(K11*24,"") -> 0
A12: =IF(B12="","",A11) | C12: =IF(B12="","",IFERROR(VLOOKUP(B12,Listes!$D$1:$E$1400,2,FALSE),"Référence inexistante")) | J12: =IF(I12="Matin (20 mn)","00:20",IF(I12="Déjeuner (40 mn)","00:40",IF(I12="Nuit (15h30)","15:30",IF(I12="","00:00")))) -> 00:00 | K12: =IF(I12="Nuit (15h30)","A renseigner manuellement",(H12-G12-J12)) -> 0 | L12: =IFERROR(K12*24,"") -> 0
A13: =IF(B13="","",A12) | C13: =IF(B13="","",IFERROR(VLOOKUP(B13,Listes!$D$1:$E$1400,2,FALSE),"Référence inexistante")) | J13: =IF(I13="Matin (20 mn)","00:20",IF(I13="Déjeuner (40 mn)","00:40",IF(I13="Nuit (15h30)","15:30",IF(I13="","00:00")))) -> 00:00 | K13: =IF(I13="Nuit (15h30)","A renseigner manuellement",(H13-G13-J13)) -> 0 | L13: =IFERROR(K13*24,"") -> 0
A14: =IF(B14="","",A13) | C14: =IF(B14="","",IFERROR(VLOOKUP(B14,Listes!$D$1:$E$1400,2,FALSE),"Référence inexistante")) | J14: =IF(I14="Matin (20 mn)","00:20",IF(I14="Déjeuner (40 mn)","00:40",IF(I14="Nuit (15h30)","15:30",IF(I14="","00:00")))) -> 00:00 | K14: =IF(I14="Nuit (15h30)","A renseigner manuellement",(H14-G14-J14)) -> 0 | L14: =IFERROR(K14*24,"") -> 0
A15: =IF(B15="","",A14) | C15: =IF(B15="","",IFERROR(VLOOKUP(B15,Listes!$D$1:$E$1400,2,FALSE),"Référence inexistante")) | J15: =IF(I15="Matin (20 mn)","00:20",IF(I15="Déjeuner (40 mn)","00:40",IF(I15="Nuit (15h30)","15:30",IF(I15="","00:00")))) -> 00:00 | K15: =IF(I15="Nuit (15h30)","A renseigner manuellement",(H15-G15-J15)) -> 0 | L15: =IFERROR(K15*24,"") -> 0
A16: =IF(B16="","",A15) | C16: =IF(B16="","",IFERROR(VLOOKUP(B16,Listes!$D$1:$E$1400,2,FALSE),"Référence inexistante")) | J16: =IF(I16="Matin (20 mn)","00:20",IF(I16="Déjeuner (40 mn)","00:40",IF(I16="Nuit (15h30)","15:30",IF(I16="","00:00")))) -> 00:00 | K16: =IF(I16="Nuit (15h30)","A renseigner manuellement",(H16-G16-J16)) -> 0 | L16: =IFERROR(K16*24,"") -> 0
A17: =IF(B17="","",A16) | C17: =IF(B17="","",IFERROR(VLOOKUP(B17,Listes!$D$1:$E$1400,2,FALSE),"Référence inexistante")) | J17: =IF(I17="Matin (20 mn)","00:20",IF(I17="Déjeuner (40 mn)","00:40",IF(I17="Nuit (15h30)","15:30",IF(I17="","00:00")))) -> 00:00 | K17: =IF(I17="Nuit (15h30)","A renseigner manuellement",(H17-G17-J17)) -> 0 | L17: =IFERROR(K17*24,"") -> 0
A18: =IF(B18="","",A17) | C18: =IF(B18="","",IFERROR(VLOOKUP(B18,Listes!$D$1:$E$1400,2,FALSE),"Référence inexistante")) | J18: =IF(I18="Matin (20 mn)","00:20",IF(I18="Déjeuner (40 mn)","00:40",IF(I18="Nuit (15h30)","15:30",IF(I18="","00:00")))) -> 00:00 | K18: =IF(I18="Nuit (15h30)","A renseigner manuellement",(H18-G18-J18)) -> 0 | L18: =IFERROR(K18*24,"") -> 0
A19: =IF(B19="","",A18) | C19: =IF(B19="","",IFERROR(VLOOKUP(B19,Listes!$D$1:$E$1400,2,FALSE),"Référence inexistante")) | J19: =IF(I19="Matin (20 mn)","00:20",IF(I19="Déjeuner (40 mn)","00:40",IF(I19="Nuit (15h30)","15:30",IF(I19="","00:00")))) -> 00:00 | K19: =IF(I19="Nuit (15h30)","A renseigner manuellement",(H19-G19-J19)) -> 0 | L19: =IFERROR(K19*24,"") -> 0
... A400: =IF(B400="","",A399) | C400: =IF(B400="","",IFERROR(VLOOKUP(B400,Listes!$D$1:$E$1400,2,FALSE),"Référence inexistante")) | J400: =IF(I400="Matin (20 mn)","00:20",IF(I400="Déjeuner (40 mn)","00:40",IF(I400="Nuit (15h30)","15:30",IF(I400="","00:00")))) -> 00:00 | K400: =IF(I400="Nuit (15h30)","A renseigner manuellement",(H400-G400-J400)) -> 0 | L400: =IFERROR(K400*24,"") -> 0

Sheet Listes
A1: Article | B1: Désignation recettes | D1: Article | E1: Désignation produits finis (utiliser fonction SUPPRESPACE) | F1: Opérateur pesée | G1: Opérateur mélange | H1: Opérateur condit. | I1: Pause | J1: Mois
A2: 4842 | B2: REC - BOUILLON BOUQUET GARNI | D2: 1040 | E2: CIBOULETTE RONDELLES Sac 1 kg | F2: HUG Jonathan | G2: HUG Jonathan | H2: BERJANO Dylan | J2: Janv
A3: 5022 | B3: REC - FOND BRUN LIE BIO | D3: 1041 | E3: PUREE POMMES DE TERRE NATURE hyposodée Sac 1 kg | F3: VALDENAIRE Alain | G3: VALDENAIRE Alain | H3: BRAUN Philippe | I3: Matin (20 mn) | J3: Fév
A4: 5006 | B4: REC - FOND DE VOLAILLE LIE BIO | D4: 1042 | E4: PUREE POMMES DE TERRE NATURE hyposodée Sac 10 kg | F4: Intérim (préciser le nom) | G4: Intérim (préciser le nom) | H4: CLAUDEL Marina | I4: Déjeuner (40 mn) | J4: Mars
A5: 5007 | B5: REC - FUMET DE POISSON BIO | D5: 1043 | E5: PUREE POMMES DE TERRE NATURE hyposodée Sac 5 kg | H5: DIBY-RUFFIO M-Christine | I5: Nuit (15h30) | J5: Avril
A6: 5005 | B6: REC - JUS DE VEAU LIE BIO | D6: 1044 | E6: PUREE POMMES DE TERRE NATURE hyposodée Sac 20 kg | H6: MAERKY Sandrine | J6: Mai
A7: 5004 | B7: REC - Prép pour SAUCE BEURRE BLANC CITRONNEE HYPO | D7: 1050 | E7: EXTRAIT NATUREL DE VIN ROUGE POUDRE Sac 1 kg | H7: SCHIRCH Nicolas | J7: Juin
A8: 5024 | B8: REC - SAUCE AUX 3 POIVRES BIO | D8: 1051 | E8: EXTRAIT NATUREL DE VIN ROUGE POUDRE Sac 5 kg | H8: Intérim (préciser le nom) | J8: Juil
A9: 5025 | B9: REC - SAUCE BECHAMEL BIO | D9: 1060 | E9: EXTRAIT NATUREL DE VIN BLANC POUDRE Sac 1 kg | J9: Août
A10: 5023 | B10: REC - SAUCE TOMATE BIO | D10: 1061 | E10: EXTRAIT NATUREL DE VIN BLANC POUDRE Sac 5 kg | J10: Sept
A11: 4980 | B11: REC - SOUPE DE LENTILLES GASTRONOMIQUE | D11: 1080 | E11: POIREAUX BLANCS VERTS Carton de 12,5 kg | J11: Oct
A12: 4983 | B12: REC - SOUPE DE POISSON GASTRONOMIQUE | D12: 1100 | E12: JULIENNE MINESTRONE Sac de 10 kg | J12: Nov
A13: 4979 | B13: REC - SOUPE PISTOU GASTRONOMIQUE | D13: 1176 | E13: BOUILLON TYPE BOUQUET GARNI Boite 1 kg pour 40 L | J13: Déc
A14: 4981 | B14: REC - SOUPE TOMATE BASILIC HUILE OLIVE GASTRO. | D14: 1190 | E14: CAROTTES DSH 10x10x2 Sac 5 kg
A15: 4624 | B15: REC - TABOULE | D15: 1220 | E15: PERSIL FLOCONS Sac 1 kg
A16: 4982 | B16: REC - VELOUTE DE BOLETS GASTRONOMIQUE | D16: 1550 | E16: FLOCONS DE POIREAUX S/SEL AJOUTE Sac 1 kg
A17: 4978 | B17: REC - VELOUTE DE POTIRON GASTRONOMIQUE | D17: 1560 | E17: FLOCONS DE CELERI BRANCHE S/SEL AJOUTE Sac 1 kg
A18: 4647 | B18: REC - VELOUTE DE POULE PATES CAROTTES INST | D18: 1570 | E18: FLOCONS DE CAROTTES S/SEL AJOUTE Sac 1 kg
A19: 4992 | B19: REC - VELOUTE POIREAUX PDT ET CHEVRE | D19: 1580 | E19: FLOCONS DE NAVETS S/SEL AJOUTE Sac 1 kg
A20: 4952 | B20: REC SILL - MOULINE DE LEGUMES VARIES | D20: 1590 | E20: FLOCONS DE TOMATES S/SEL AJOUTE Sac 1 kg
A21: 4899 | B21: REC. - BASE ROUX BLANC SANS PALME | D21: 1600 | E21: FLOCONS DE HARICOTS VERTS S/SEL AJOUTE Sac 1 kg
A22: 4549 | B22: REC. - BOUIL. DE BOEUF VERM. INST. HYPO | D22: 1610 | E22: FLOCONS D'EPINARDS S/SEL AJOUTE Sac 1 kg
A23: 4551 | B23: REC. - BOUIL. DE BOEUF VERMICELLES INST. NR | D23: 1620 | E23: FLOCONS DE PETITS POIS S/SEL AJOUTE Sac 1 kg
A24: 4972 | B24: REC. - BOUILLON A L'AIL | D24: 1622 | E24: FLOCONS DE PETITS POIS S/SEL AJOUTE Sac 20 kg
A25: 5017 | B25: REC. - BOUILLON A LA TOMATE GUILLAUME | D25: 1630 | E25: FLOCONS DE CHOUX-FLEURS S/SEL AJOUTE Sac 1 kg
... A390: 4907 | B390: REC. UBERTI-JUVENTIS - P'TIT DEJ EXTRA | D390: 5428 | E390: FOND BRUN LIE DEMI GLACE Seau de 5 kg pour 83 L
D391: 5441 | E391: SAUCE FORESTIERE Boite de 800 g pour 10 L
D392: 5445 | E392: AIL SEMOULE Boite 1 kg
D393: 5446 | E393: SAUCE BEARNAISE HYPO. Poche 1kg/8L
D394: 5452 | E394: Prép. SAUCE BEURRE BLANC CITRONNEE HYPO. Bte 800 g
D395: 5459 | E395: JUS DE VEAU LIE Seau de 5 kg pour 83 L
D396: 5467 | E396: FOND BRUN LIE DEMI GLACE Seau de 3 kg pour 50 L
D397: 5469 | E397: FOND BRUN LIE DEMI GLACE Seau de 8 kg
D398: 5471 | E398: FOND BRUN LIE DEMI GLACE Sac 20 kg
D399: 5472 | E399: VELOUTE DE TOMATE INST. Sachet ind.
D400: 5475 | E400: POTAGE AUX 9 LEGUMES INST. Sachet ind.
D401: 5476 | E401: VELOUTE POIREAUX PDT INST. Sachet ind.
D402: 5478 | E402: CREME DE CHAMPIGNONS INST. Sachet ind.
... D1383: 9999 | E1383: R&D - A adapter en fonction de la dde
