Workbook
Name Affecta_classe_ense: AFFECTATION!$H$2:$S$27
Name Classes: AFFECTATION!$H$1:$H$54
Name CodEnse: AFFECTATION!$A$1:$C$71
Name codEnseignant: AFFECTATION!$A$2:$A$71
Name PLGNLE: PLGNLE!$A$1:$AB$51

Sheet PLGNLE
A1: Heure | B1: Jour | C1: 6e M1 | D1: 6e M2 | E1: 6e M3 | F1: 6e M4 | G1: 6e M5 | H1: 6e M6 | I1: 6e M7 | J1: 6e M8 | K1: 5e M1 | L1: 5e M2 | M1: 5e M3 | N1: 5e M4 | O1: 5e M5 | P1: 5e M6 | Q1: 5e M7 | R1: 5e M8 | S1: 4e M1 | T1: 4e M2 | U1: 4e M3 | V1: 4e M4 | W1: 4e M5 | X1: 4e M6 | Y1: 3e M1 | Z1: 3e M2 | AA1: 3e M3 | AB1: 3e M4 | AG1: Français | AI1: Maths | AK1: Phys | AM1: SVT | AO1: HG | AQ1: Anglais | AS1: Espagnol | AU1: Educ Art | AW1: EPS | AZ1: 6eme | BA1: 5eme | BB1: 4eme | BC1: 3eme
A2: 1 | B2: Lundi | D2: M2 | E2: P4 | F2: F7 | G2: P3 | H2: M7 | I2: M8 | K2: P1 | L2: M3 | N2: M5 | O2: C4 | R2: P2 | S2: H2(6M3) | T2: F1(5M3) | U2: A2(5M1) | V2: S5(6M5) | W2: F9(6M1) | Y2: M1 | Z2: F5 | AA2: E1 | AB2: A4 | AF2: F1 | AG2: 4M1 | AH2: M1 | AI2: 3M1 | AJ2: P1 | AK2: 3M2 | AL2: SV1 | AM2: 3M1 | AN2: HG1 | AO2: 3M1 | AP2: A1 | AQ2: 3M1 | AR2: E1 | AS2: 3M2 | AT2: EA1 | AU2: 3M3 | AV2: S1 | AW2: 3M1 | AY2: Français | AZ2: 6 | BA2: 6 | BB2: 6 | BC2: 6
A3: 2 | D3: M2 | E3: P4 | F3: F7 | G3: P3 | H3: M7 | I3: M8 | K3: P1 | L3: M3 | N3: M5 | O3: C4 | R3: P2 | S3: H2(6M3) | T3: F1(5M3) | U3: A2(5M1) | V3: S5(6M5) | W3: F9(6M1) | Y3: M1 | Z3: F5 | AA3: E1 | AB3: A4 | AG3: 4M3 | AI3: 4M4 | AK3: 4M1 | AM3: 5M4 | AO3: 4M1 | AQ3: 4M3 | AS3: 3M3 | AU3: 4M1 | AW3: 4M1 | AY3: Mathématiques | AZ3: 6 | BA3: 6 | BB3: 6 | BC3: 6
A4: 3 | D4: A2 | E4: C3 | F4: P2 | G4: H4 | H4: A4 | I4: F8 | K4: M2 | L4: P1 | N4: P4 | O4: M5 | R4: S5(5M2) | S4: M1(6M1) | T4: A1(5M3) | U4: F9(5M4) | V4: F5(6M4) | W4: M4(3M3) | Y4: F1 | Z4: M3 | AA4: P3 | AB4: E1 | AG4: 3M1 | AI4: 6M4 | AK4: 5M2 | AM4: 6M1 | AO4: 4M2 | AQ4: 4M4 | AS4: 4M1 | AU4: 4M3 | AW4: 5M4 | AY4: SVT | AZ4: 3 | BA4: 3 | BB4: 3 | BC4: 3
A5: 4 | D5: A2 | E5: C3 | F5: P2 | G5: H4 | H5: A4 | I5: F8 | K5: M2 | L5: P1 | N5: P4 | O5: M5 | R5: S5(5M2) | S5: M1(6M1) | T5: A1(5M3) | U5: F9(5M4) | V5: F5(6M4) | W5: M4(3M3) | Y5: F1 | Z5: M3 | AA5: P3 | AB5: E1 | AK5: 5M3 | AM5: 6M4 | AO5: 6M2 | AQ5: 5M5 | AS5: 4M3 | AU5: 6M1 | AW5: 5M5 | AY5: Physiques | AZ5: 2 | BA5: 2 | BB5: 2 | BC5: 3
A6: 5 | D6: F4 | E6: F7 | F6: A2 | G6: M7 | H6: C5 | I6: H5 | M6: M3 | N6: F3 | P6: M6(5M1) | R6: H6(5M5) | S6: E1(3M2) | T6: M1(5M2) | U6: M5(3M1) | V6: M4(6M1) | W6: A4(3M3) | X6: F5(3M4) | AF6: F2 | AG6: 3M2 | AH6: M2 | AI6: 4M2 | AK6: 5M4 | AM6: 6M5 | AQ6: 6M1 | AR6: E2 | AS6: 3M1 | AU6: 6M2 | AY6: HG | AZ6: 3 | BA6: 3 | BB6: 3 | BC6: 3
A7: 6 | D7: F4 | E7: F7 | F7: A2 | G7: M7 | H7: C5 | I7: H5 | M7: M3 | N7: F3 | P7: M6(5M1) | S7: E1(3M2) | T7: M1(5M2) | U7: M5(3M1) | V7: M4(6M1) | W7: A4(3M3) | X7: F5(3M4) | AG7: 6M1 | AI7: 6M1 | AK7: 6M6 | AM7: 6M6 | AN7: HG2 | AO7: 3M2 | AQ7: 6M2 | AS7: 4M2 | AU7: 5M5 | AV7: S2 | AW7: 4M2 | AY7: Anglais | AZ7: 2 | BA7: 2 | BB7: 2 | BC7: 3
A8: 7 | K8: F2 | L8: C1 | M8: C2 | Q8: M9(6M2) | R8: F8(6M1) | X8: H6 | Y8: D1 | Z8: A2 | AA8: F3 | AB8: H4 | AG8: 6M2 | AI8: 6M5 | AO8: 6M5 | AS8: 4M4 | AW8: 5M3 | AY8: EPS | AZ8: 2 | BA8: 2 | BB8: 2 | BC8: 2
A9: 8 | K9: F2 | L9: C1 | M9: C2 | O9: F7 | Q9: M9(6M2) | R9: F8(6M1) | X9: H6 | Y9: D1 | AA9: F3 | AB9: H4 | AJ9: P2 | AK9: 6M1 | AL9: SV2 | AM9: 3M2 | AO9: 6M6 | AP9: A2 | AQ9: 3M2 | AT9: EA2 | AU9: 3M1 | AW9: 6M1 | AY9: Espagnol | BB9: 2 | BC9: 3
A10: 9 | K10: C1 | L10: F2 | M10: F3 | O10: F7 | P10: C2(5M4) | R10: M7(6M1) | W10: H6 | X10: M9 | Y10: A1 | Z10: D1 | AA10: C3 | AB10: M4 | AF10: F3 | AG10: 4M2 | AH10: M3 | AI10: 3M2 | AK10: 6M2 | AM10: 3M3 | AO10: 4M3 | AQ10: 4M2 | AU10: 6M3 | AW10: 6M6 | AY10: E.Art | BB10: 2 | BC10: 2
A11: 10 | K11: C1 | L11: F2 | M11: F3 | P11: C2(5M4) | R11: M7(6M1) | W11: H6 | X11: M9 | Z11: D1 | AA11: C3 | AB11: M4 | AG11: 5M1 | AI11: 4M1 | AK11: 6M3 | AM11: 5M5 | AN11: HG3 | AO11: 3M3 | AQ11: 5M1 | AU11: 6M4 | AY11: Total | AZ11: =SUM(AZ2:AZ10) -> 24 | BA11: =SUM(BA2:BA10) -> 24 | BB11: =SUM(BB2:BB10) -> 28 | BC11: =SUM(BC2:BC10) -> 31
A12: 1 | B12: Mardi | C12: P2 | E12: A4 | F12: M6 | H12: F6 | J12: P3 | K12: S1 | L12: H3 | M12: P1 | O12: P4 | P12: F4(6M5) | Q12: H6(6M2) | R12: A3(6M7) | T12: S4(6M1) | U12: F9(5M5) | W12: C2(5M4) | X12: C3(5M3) | Y12: H2 | Z12: M3 | AA12: S2 | AB12: F2 | AG12: 5M2 | AI12: 6M2 | AK12: 6M4 | AM12: 5M1 | AO12: 5M3 | AQ12: 5M4 | AU12: 5M3
A13: 2 | C13: P2 | E13: A4 | F13: M6 | H13: F6 | J13: P3 | K13: H3 | L13: S1 | M13: P1 | O13: P4 | P13: F4(6M5) | Q13: H6(6M2) | R13: A3(6M7) | T13: S4(6M1) | U13: F9(5M5) | W13: C2(5M4) | X13: C3(5M3) | Y13: H2 | Z13: M3 | AA13: S2 | AB13: F2 | AF13: F4 | AG13: 4M4 | AI13: 6M6 | AK13: 6M5 | AM13: 6M2 | AO13: 5M4 | AQ13: 6M3 | AU13: 5M4 | AV13: S3 | AW13: 3M2
A14: 3 | C14: A2 | E14: M6 | F14: H4 | H14: P2 | J14: C5(6M5) | K14: F2 | L14: M3 | M14: S1 | O14: S2 | P14: P4 | Q14: F6(6M2) | R14: H6(6M7) | W14: F9(5M4) | X14: S5(6M6) | Y14: M1 | Z14: H1 | AA14: H3 | AB14: M4 | AG14: 5M3 | AH14: M4 | AI14: 3M3 | AM14: 6M3 | AO14: 5M5 | AQ14: 6M6 | AU14: 4M2 | AW14: 4M3
A15: 4 | C15: A2 | E15: M6 | F15: H4 | H15: P2 | J15: C5(6M5) | K15: F2 | L15: M3 | M15: H3 | O15: S2 | P15: P4 | Q15: F6(6M2) | R15: H6(6M7) | W15: F9(5M4) | X15: S5(6M6) | Y15: M1 | Z15: S1 | AA15: C3 | AB15: M4 | AI15: 4M3 | AN15: HG4 | AO15: 6M1 | AP15: A3 | AQ15: 3M3 | AT15: EA3 | AU15: 3M2 | AW15: 5M2
A16: 5 | C16: H1 | E16: S1 | F16: C4 | H16: H4 | J16: S3(6M5) | M16: M3 | P16: S2(5M1) | Q16: S4(6M2) | T16: M1(5M5) | U16: H2(5M2) | W16: M4(5M4) | Y16: S5 | Z16: C2 | AA16: E1 | AB16: A4 | AI16: 6M3 | AJ16: P3 | AK16: 3M1 | AL16: SV3 | AM16: 4M1 | AO16: 6M4 | AQ16: 4M1 | AU16: 6M5 | AW16: 6M2
A17: 6 | C17: H1 | E17: S1 | F17: C4 | H17: H4 | J17: S3(6M5) | M17: M3 | P17: S2(5M1) | Q17: S4(6M2) | T17: M1(5M5) | U17: H2(5M2) | W17: M4(5M4) | Y17: S5 | Z17: E1 | AF17: F5 | AG17: 3M3 | AK17: 4M2 | AM17: 4M2 | AO17: 5M2 | AQ17: 5M2 | AU17: 6M6 | AW17: 6M5
A18: 7 | N18: M5 | O18: A3 | S18: D1 | T18: F1 | U18: S4 | V18: C5 | X18: F5 | AG18: 6M6 | AH18: M5 | AI18: 5M1 | AK18: 5M1 | AM18: 4M3 | AQ18: 5M3 | AU18: 5M1 | AV18: S4 | AW18: 3M3
A19: 8 | N19: M5 | O19: A3 | S19: D1 | T19: F1 | U19: S4 | V19: C5 | X19: F5 | AB19: C4 | AG19: 6M5 | AI19: 5M2 | AK19: 5M5 | AM19: 4M4 | AN19: HG5 | AO19: 5M1 | AQ19: 6M4 | AU19: 5M2 | AW19: 4M4
A20: 9 | N20: A3 | P20: M6 | S20: F1 | T20: C2 | U20: M5 | V20: F5 | X20: D1 | Y20: E1 | AF20: F6 | AG20: 5M4 | AI20: 5M3 | AM20: 5M2 | AO20: 6M3 | AQ20: 6M5 | AU20: 4M4 | AW20: 5M1
A21: 10 | N21: A3 | P21: M6 | S21: F1 | T21: C2 | U21: M5 | V21: F5 | X21: D1 | Y21: E1 | AG21: 5M5 | AJ21: P4 | AK21: 3M3 | AM21: 5M3 | AO21: 4M4 | AW21: 6M3
A22: 1 | B22: Mercredi | C22: M2 | D22: P3 | F22: F7 | G22: M7 | I22: F8 | J22: A4(6M6) | K22: H3 | M22: F3 | N22: S2 | Q22: P4 | S22: P1 | T22: E1(6M2) | U22: P2 | V22: H6(5M5) | W22: S5(5M2) | X22: A3(6M3) | Y22: C1 | Z22: F5 | AA22: M8 | AB22: S4 | AK22: 4M3 | AW22: 6M4
A23: 2 | C23: M2 | D23: P3 | F23: F7 | G23: M7 | I23: F8 | J23: A4(6M6) | K23: H3 | M23: F3 | N23: S2 | Q23: P4 | S23: P1 | T23: E1(6M2) | U23: P2 | V23: S5(5M5) | W23: H6(5M2) | X23: A3(6M3) | Y23: C1 | Z23: F5 | AA23: M8 | AB23: S4 | AF23: F7 | AG23: 6M3 | AK23: 4M4
A24: 3 | C24: F4 | D24: H1 | F24: S3 | G24: F6 | I24: P3 | J24: F8(6M6) | K24: M2 | M24: A3 | N24: F3 | Q24: M9(5M2) | S24: S4(6M7) | T24: P1 | U24: E1(3M2) | V24: F5(5M5) | W24: P2 | X24: S5(6M3) | Y24: A1 | Z24: P4 | AA24: H3 | AB24: C4 | AG24: 6M4 | AK24: 5M4
A25: 4 | C25: F4 | D25: H1 | F25: S3 | G25: F6 | I25: P3 | J25: F8(6M6) | K25: M2 | M25: A3 | N25: F3 | Q25: M9(5M2) | S25: S4(6M7) | T25: P1 | U25: E1(3M2) | V25: F5(5M5) | W25: P2 | X25: H6(6M3) | Y25: A1 | Z25: P4 | AA25: H3 | AB25: C4
A26: 5 | C26: H1 | D26: S2 | F26: M6 | G26: A4 | I26: S3 | J26: M8(6M6) | K26: S1 | M26: H3 | P26: A3(3M2) | Q26: H6(5M2) | R26: F8(5M4) | U26: H2(3M1) | V26: M4(5M5) | X26: M9(6M3) | AA26: F3 | AB26: H4
A27: 6 | C27: S3 | D27: S2 | F27: M6 | G27: A4 | I27: H5 | J27: M8(6M6) | K27: S1 | M27: H3 | P27: A3(3M2) | Q27: S4(5M2) | R27: F8(5M4) | V27: M4(5M5) | X27: M9(6M3) | Y27: S5 | AA27: F3
A28: 7 | L28: S1 | P28: F4 | S28: M1 | T28: H2 | U28: D1 | W28: F9
A29: 8 | L29: S1 | P29: F4 | S29: M1 | T29: H2 | U29: D1 | W29: F9
A30: 9 | K30: A1 | M30: S1 | P30: H5 | Q30: F6 | S30: H2 | T30: M1 | U30: F9 | V30: D1
A31: 10 | K31: A1 | M31: S1 | Q31: F6 | T31: M1 | U31: F9 | V31: D1
A32: 1 | B32: Jeudi | C32: S3 | D32: F4 | E32: F7 | G32: C4 | H32: M7 | I32: M8 | J32: F8(6M4) | N32: M5 | O32: H5 | Q32: F6(5M3) | R32: C5(5M2) | V32: P3 | W32: S5(5M1) | Y32: M1 | Z32: H1 | AA32: D1 | AB32: F2
A33: 2 | C33: S3 | D33: F4 | E33: F7 | G33: C4 | H33: M7 | I33: M8 | J33: F8(6M4) | N33: M5 | O33: S2 | Q33: F6(5M3) | R33: C5(5M2) | V33: P3 | W33: S5(5M1) | Y33: M1 | Z33: H1 | AA33: D1 | AB33: F2
A34: 3 | C34: F4 | D34: M2 | E34: H1 | G34: S3 | H34: F6 | I34: F8 | J34: M8(6M4) | L34: F2 | N34: H5 | O34: M5 | Q34: A1(5M3) | S34: M1(5M1) | Y34: F1 | Z34: M3 | AA34: A3 | AB34: D1
A35: 4 | C35: F4 | D35: M2 | E35: S1 | G35: S3 | H35: F6 | I35: F8 | J35: M8(6M4) | L35: F2 | N35: H5 | O35: M5 | Q35: A1(5M3) | S35: M1(5M1) | Y35: F1 | Z35: M3 | AA35: A3 | AB35: D1
A36: 5 | C36: M2 | D36: S2 | E36: M6 | G36: F6 | H36: S3 | I36: C4 | J36: H5(6M4) | K36: F2 | L36: A1 | N36: C1 | O36: F7 | P36: F4(3M4) | R36: M7(5M3) | S36: F1(3M1) | Z36: S1 | AA36: M8
A37: 6 | C37: M2 | D37: H1 | E37: M6 | G37: F6 | H37: S3 | I37: C4 | J37: H5(6M4) | K37: F2 | L37: A1 | N37: C1 | O37: F7 | P37: F4(3M4) | R37: M7(5M3) | S37: F1(3M1) | Z37: S1 | AA37: M8
A38: 7
A39: 8
A40: 9
...

Sheet EMPCLAS
A1: CESP Edoard EKOGHA MENGUE Oyem | I1: Année scolaire : | J1: 2018-2019
B2: EMPLOI DU TEMPS CLASSE
C4: Classe : | D4: 3e M2
A5: Horaire | B5: Lundi | C5: Mardi | D5: Mercredi | E5: Jeudi | F5: Vendredi | G5: Samedi | H5: code | I5: Equipe classe
A6: 7h30-8h20 | B6: =HLOOKUP($D$4,PLGNLE,2,FALSE) -> F5 | C6: =HLOOKUP($D$4,PLGNLE,12,FALSE) -> M3 | D6: =HLOOKUP($D$4,PLGNLE,22,FALSE) -> F5 | E6: =HLOOKUP($D$4,PLGNLE,32,FALSE) -> H1 | F6: =HLOOKUP($D$4,PLGNLE,42,FALSE) -> E1 | H6: =VLOOKUP($D$4,Affecta_classe_ense,2,FALSE) -> F5 | I6: =IF($H6=0,"",VLOOKUP($H6,CodEnse,2,FALSE)) -> français | J6: =IF($H6=0," ",VLOOKUP($H6,CodEnse,3,FALSE)) -> 0
A7: 8h25-9h15 | B7: =HLOOKUP($D$4,PLGNLE,3,FALSE) -> F5 | C7: =HLOOKUP($D$4,PLGNLE,13,FALSE) -> M3 | D7: =HLOOKUP($D$4,PLGNLE,23,FALSE) -> F5 | E7: =HLOOKUP($D$4,PLGNLE,33,FALSE) -> H1 | F7: =HLOOKUP($D$4,PLGNLE,43,FALSE) -> E1 | H7: =VLOOKUP($D$4,Affecta_classe_ense,3,FALSE) -> M3 | I7: =IF($H7=0,"",VLOOKUP($H7,CodEnse,2,FALSE)) -> Mathématiques | J7: =IF($H7=0," ",VLOOKUP($H7,CodEnse,3,FALSE)) -> 0
A8: RECREATION-RECREATION-RECREATION | H8: =VLOOKUP($D$4,Affecta_classe_ense,4,FALSE) -> A2 | I8: =IF($H8=0,"",VLOOKUP($H8,CodEnse,2,FALSE)) -> Anglais | J8: =IF($H8=0," ",VLOOKUP($H8,CodEnse,3,FALSE)) -> 0
A9: 9h25-10h15 | B9: =HLOOKUP($D$4,PLGNLE,4,FALSE) -> M3 | C9: =HLOOKUP($D$4,PLGNLE,14,FALSE) -> H1 | D9: =HLOOKUP($D$4,PLGNLE,24,FALSE) -> P4 | E9: =HLOOKUP($D$4,PLGNLE,34,FALSE) -> M3 | F9: =HLOOKUP($D$4,PLGNLE,44,FALSE) -> A2 | H9: =VLOOKUP($D$4,Affecta_classe_ense,5,FALSE) -> H1 | I9: =IF($H9=0,"",VLOOKUP($H9,CodEnse,2,FALSE)) -> Hist-Géo/I.C | J9: =IF($H9=0," ",VLOOKUP($H9,CodEnse,3,FALSE)) -> 0
A10: 10h20-11h05 | B10: =HLOOKUP($D$4,PLGNLE,5,FALSE) -> M3 | C10: =HLOOKUP($D$4,PLGNLE,15,FALSE) -> S1 | D10: =HLOOKUP($D$4,PLGNLE,25,FALSE) -> P4 | E10: =HLOOKUP($D$4,PLGNLE,35,FALSE) -> M3 | F10: =HLOOKUP($D$4,PLGNLE,45,FALSE) -> A2 | H10: =VLOOKUP($D$4,Affecta_classe_ense,6,FALSE) -> S1 | I10: =IF($H10=0,"",VLOOKUP($H10,CodEnse,2,FALSE)) -> S.V.T. | J10: =IF($H10=0," ",VLOOKUP($H10,CodEnse,3,FALSE)) -> 0
A11: RECREATION-RECREATION-RECREATION | H11: =VLOOKUP($D$4,Affecta_classe_ense,7,FALSE) -> C2 | I11: =IF($H11=0,"",VLOOKUP($H11,CodEnse,2,FALSE)) -> SC. Physiques | J11: =IF($H11=0," ",VLOOKUP($H11,CodEnse,3,FALSE)) -> 0
A12: 11h20-12h10 | B12: =HLOOKUP($D$4,PLGNLE,6,FALSE) -> 0 | C12: =HLOOKUP($D$4,PLGNLE,16,FALSE) -> C2 | D12: =HLOOKUP($D$4,PLGNLE,26,FALSE) -> 0 | E12: =HLOOKUP($D$4,PLGNLE,36,FALSE) -> S1 | F12: =HLOOKUP($D$4,PLGNLE,46,FALSE) -> C2 | H12: =VLOOKUP($D$4,Affecta_classe_ense,8,FALSE) -> P4 | I12: =IF($H12=0,"",VLOOKUP($H12,CodEnse,2,FALSE)) -> E.P.S. | J12: =IF($H12=0," ",VLOOKUP($H12,CodEnse,3,FALSE)) -> 0
A13: 12h15-13h05 | B13: =HLOOKUP($D$4,PLGNLE,7,FALSE) -> 0 | C13: =HLOOKUP($D$4,PLGNLE,17,FALSE) -> E1 | D13: =HLOOKUP($D$4,PLGNLE,27,FALSE) -> 0 | E13: =HLOOKUP($D$4,PLGNLE,37,FALSE) -> S1 | F13: =HLOOKUP($D$4,PLGNLE,47,FALSE) -> C2 | H13: =VLOOKUP($D$4,Affecta_classe_ense,9,FALSE) -> E1 | I13: =IF($H13=0,"",VLOOKUP($H13,CodEnse,2,FALSE)) -> Espagnol | J13: =IF($H13=0," ",VLOOKUP($H13,CodEnse,3,FALSE)) -> 0
A14: RECREATION-RECREATION-RECREATION | H14: =VLOOKUP($D$4,Affecta_classe_ense,10,FALSE) -> D1 | I14: =IF($H14=0,"",VLOOKUP($H14,CodEnse,2,FALSE)) -> Art | J14: =IF($H14=0," ",VLOOKUP($H14,CodEnse,3,FALSE)) -> 0
A15: 14h00-14h45 | B15: =HLOOKUP($D$4,PLGNLE,8,FALSE) -> A2 | C15: =HLOOKUP($D$4,PLGNLE,18,FALSE) -> 0 | D15: =HLOOKUP($D$4,PLGNLE,28,FALSE) -> 0 | E15: =HLOOKUP($D$4,PLGNLE,38,FALSE) -> 0 | F15: =HLOOKUP($D$4,PLGNLE,48,FALSE) -> 0 | H15: =VLOOKUP($D$4,Affecta_classe_ense,11,FALSE) -> 0 | I15: =IF($H15=0,"",VLOOKUP($H15,CodEnse,2,FALSE)) | J15: =IF($H15=0," ",VLOOKUP($H15,CodEnse,3,FALSE))
A16: 14h50-15h40 | B16: =HLOOKUP($D$4,PLGNLE,9,FALSE) -> 0 | C16: =HLOOKUP($D$4,PLGNLE,19,FALSE) -> 0 | D16: =HLOOKUP($D$4,PLGNLE,29,FALSE) -> 0 | E16: =HLOOKUP($D$4,PLGNLE,39,FALSE) -> 0 | F16: =HLOOKUP($D$4,PLGNLE,49,FALSE) -> 0
A17: RECREATION-RECREATION-RECREATION
A18: 15h55-16h45 | B18: =HLOOKUP($D$4,PLGNLE,10,FALSE) -> D1 | C18: =HLOOKUP($D$4,PLGNLE,20,FALSE) -> 0 | D18: =HLOOKUP($D$4,PLGNLE,30,FALSE) -> 0 | E18: =HLOOKUP($D$4,PLGNLE,40,FALSE) -> 0 | F18: =HLOOKUP($D$4,PLGNLE,50,FALSE) -> F5
A19: 16h50-17h40 | B19: =HLOOKUP($D$4,PLGNLE,11,FALSE) -> D1 | C19: =HLOOKUP($D$4,PLGNLE,21,FALSE) -> 0 | D19: =HLOOKUP($D$4,PLGNLE,31,FALSE) -> 0 | E19: =HLOOKUP($D$4,PLGNLE,41,FALSE) -> 0 | F19: =HLOOKUP($D$4,PLGNLE,51,FALSE) -> F5
I20: LA DIRECTION

Sheet EMPROF
B1: CESP Edoard EKOGHA MENGUE Oyem | G1: Année scolaire : | H1: 2018-2019 | N1: 6m5 | O1: 6m6
C2: EMPLOI DU TEMPS PROFESSEUR | N2: L | O2: N
N3: L | O3: N
B4: Matière : | C4: =VLOOKUP($C$5,CodEnse,2,FALSE) -> Mathématiques
B5: code | C5: M8
B8: Horaire | C8: Lundi | D8: Mardi | E8: Mercredi | F8: Jeudi | G8: Vendredi | H8: Samedi
B9: 7h30-8h20 | C9: =IFERROR(INDEX(PLGNLE!$C$1:$AB$1,MATCH($C$5,PLGNLE!$C2:$AB2,0)),0) -> 6e M7 | D9: =IFERROR(INDEX(PLGNLE!$C$1:$AB$1,MATCH($C$5,PLGNLE!$C12:$AB12,0)),0) -> 0 | E9: =IFERROR(INDEX(PLGNLE!$C$1:$AB$1,MATCH($C$5,PLGNLE!$C22:$AB22,0)),0) -> 3e M3 | F9: =IFERROR(INDEX(PLGNLE!$C$1:$AB$1,MATCH($C$5,PLGNLE!$C32:$AB32,0)),0) -> 6e M7 | G9: =IFERROR(INDEX(PLGNLE!$C$1:$AB$1,MATCH($C$5,PLGNLE!$C42:$AB42,0)),0) -> 6e M7
B10: 8h25-9h15 | C10: =IFERROR(INDEX(PLGNLE!$C$1:$AB$1,MATCH($C$5,PLGNLE!$C3:$AB3,0)),0) -> 6e M7 | D10: =IFERROR(INDEX(PLGNLE!$C$1:$AB$1,MATCH($C$5,PLGNLE!$C13:$AB13,0)),0) -> 0 | E10: =IFERROR(INDEX(PLGNLE!$C$1:$AB$1,MATCH($C$5,PLGNLE!$C23:$AB23,0)),0) -> 3e M3 | F10: =IFERROR(INDEX(PLGNLE!$C$1:$AB$1,MATCH($C$5,PLGNLE!$C3:$AB33,0)),0) -> 0 | G10: =IFERROR(INDEX(PLGNLE!$C$1:$AB$1,MATCH($C$5,PLGNLE!$C43:$AB43,0)),0) -> 6e M7
B11: RECREATION-RECREATION-RECREATION
B12: 9h25-10h15 | C12: =IFERROR(NDEX(PLGNLE!$C$1:$AB$1,MATCH($C$5,PLGNLE!$C4:$AB4,0)),0) -> 0 | D12: =IFERROR(NDEX(PLGNLE!$C$1:$AB$1,MATCH($C$5,PLGNLE!$C14:$AB14,0)),0) -> 0 | E12: =IFERROR(NDEX(PLGNLE!$C$1:$AB$1,MATCH($C$5,PLGNLE!$C24:$AB24,0)),0) -> 0 | F12: =IFERROR(NDEX(PLGNLE!$C$1:$AB$1,MATCH($C$5,PLGNLE!$C34:$AB34,0)),0) -> 0 | G12: =IFERROR(NDEX(PLGNLE!$C$1:$AB$1,MATCH($C$5,PLGNLE!$C44:$AB44,0)),0) -> 0
B13: 10h20-11h05 | C13: =IFERROR(NDEX(PLGNLE!$C$1:$AB$1,MATCH($C$5,PLGNLE!$C5:$AB5,0)),0) -> 0 | D13: =IFERROR(NDEX(PLGNLE!$C$1:$AB$1,MATCH($C$5,PLGNLE!$C15:$AB15,0)),0) -> 0 | E13: =IFERROR(NDEX(PLGNLE!$C$1:$AB$1,MATCH($C$5,PLGNLE!$C25:$AB25,0)),0) -> 0 | F13: =IFERROR(NDEX(PLGNLE!$C$1:$AB$1,MATCH($C$5,PLGNLE!$C35:$AB35,0)),0) -> 0 | G13: =IFERROR(NDEX(PLGNLE!$C$1:$AB$1,MATCH($C$5,PLGNLE!$C45:$AB45,0)),0) -> 0
B14: RECREATION-RECREATION-RECREATION
B15: 11h20-12h10 | C15: =IFERROR(NDEX(PLGNLE!$C$1:$AB$1,MATCH($C$5,PLGNLE!$C6:$AB6,0)),0) -> 0 | D15: =IFERROR(NDEX(PLGNLE!$C$1:$AB$1,MATCH($C$5,PLGNLE!$C16:$AB16,0)),0) -> 0 | E15: =IFERROR(NDEX(PLGNLE!$C$1:$AB$1,MATCH($C$5,PLGNLE!$C26:$AB26,0)),0) -> 0 | F15: =IFERROR(NDEX(PLGNLE!$C$1:$AB$1,MATCH($C$5,PLGNLE!$C36:$AB36,0)),0) -> 0 | G15: =IFERROR(NDEX(PLGNLE!$C$1:$AB$1,MATCH($C$5,PLGNLE!$C46:$AB46,0)),0) -> 0
B16: 12h15-13h05 | C16: =IFERROR(NDEX(PLGNLE!$C$1:$AB$1,MATCH($C$5,PLGNLE!$C7:$AB7,0)),0) -> 0 | D16: =IFERROR(NDEX(PLGNLE!$C$1:$AB$1,MATCH($C$5,PLGNLE!$C17:$AB17,0)),0) -> 0 | E16: =IFERROR(NDEX(PLGNLE!$C$1:$AB$1,MATCH($C$5,PLGNLE!$C27:$AB27,0)),0) -> 0 | F16: =IFERROR(NDEX(PLGNLE!$C$1:$AB$1,MATCH($C$5,PLGNLE!$C37:$AB37,0)),0) -> 0 | G16: =IFERROR(NDEX(PLGNLE!$C$1:$AB$1,MATCH($C$5,PLGNLE!$C47:$AB47,0)),0) -> 0
B17: APRES MIDI - APRES MIDI - APRES MIDI
B18: 14h00-14h45 | C18: =IFERROR(NDEX(PLGNLE!$C$1:$AB$1,MATCH($C$5,PLGNLE!$C8:$AB8,0)),0) -> 0 | D18: =IFERROR(NDEX(PLGNLE!$C$1:$AB$1,MATCH($C$5,PLGNLE!$C18:$AB18,0)),0) -> 0 | E18: =IFERROR(NDEX(PLGNLE!$C$1:$AB$1,MATCH($C$5,PLGNLE!$C28:$AB28,0)),0) -> 0 | F18: =IFERROR(NDEX(PLGNLE!$C$1:$AB$1,MATCH($C$5,PLGNLE!$C38:$AB38,0)),0) -> 0 | G18: =IFERROR(NDEX(PLGNLE!$C$1:$AB$1,MATCH($C$5,PLGNLE!$C48:$AB48,0)),0) -> 0
B19: 14h50-15h40 | C19: =IFERROR(NDEX(PLGNLE!$C$1:$AB$1,MATCH($C$5,PLGNLE!$C9:$AB9,0)),0) -> 0 | D19: =IFERROR(NDEX(PLGNLE!$C$1:$AB$1,MATCH($C$5,PLGNLE!$C19:$AB19,0)),0) -> 0 | E19: =IFERROR(NDEX(PLGNLE!$C$1:$AB$1,MATCH($C$5,PLGNLE!$C29:$AB29,0)),0) -> 0 | F19: =IFERROR(NDEX(PLGNLE!$C$1:$AB$1,MATCH($C$5,PLGNLE!$C39:$AB39,0)),0) -> 0 | G19: =IFERROR(NDEX(PLGNLE!$C$1:$AB$1,MATCH($C$5,PLGNLE!$C49:$AB49,0)),0) -> 0
B20: RECREATION-RECREATION-RECREATION
B21: 15h55-16h45 | C21: =IFERROR(NDEX(PLGNLE!$C$1:$AB$1,MATCH($C$5,PLGNLE!$C10:$AB10,0)),0) -> 0 | D21: =IFERROR(NDEX(PLGNLE!$C$1:$AB$1,MATCH($C$5,PLGNLE!$C20:$AB20,0)),0) -> 0 | E21: =IFERROR(NDEX(PLGNLE!$C$1:$AB$1,MATCH($C$5,PLGNLE!$C30:$AB30,0)),0) -> 0 | F21: =IFERROR(NDEX(PLGNLE!$C$1:$AB$1,MATCH($C$5,PLGNLE!$C40:$AB40,0)),0) -> 0 | G21: =IFERROR(NDEX(PLGNLE!$C$1:$AB$1,MATCH($C$5,PLGNLE!$C50:$AB50,0)),0) -> 0
B22: 16h50-17h40 | C22: =IFERROR(NDEX(PLGNLE!$C$1:$AB$1,MATCH($C$5,PLGNLE!$C11:$AB11,0)),0) -> 0 | D22: =IFERROR(NDEX(PLGNLE!$C$1:$AB$1,MATCH($C$5,PLGNLE!$C21:$AB21,0)),0) -> 0 | E22: =IFERROR(NDEX(PLGNLE!$C$1:$AB$1,MATCH($C$5,PLGNLE!$C31:$AB31,0)),0) -> 0 | F22: =IFERROR(NDEX(PLGNLE!$C$1:$AB$1,MATCH($C$5,PLGNLE!$C41:$AB41,0)),0) -> 0 | G22: =IFERROR(NDEX(PLGNLE!$C$1:$AB$1,MATCH($C$5,PLGNLE!$C51:$AB51,0)),0) -> 0
D23: Nombre d'heures : | F23: =COUNTA($C$9:H10,$C$12:$H$13,$C$15:$H$16,$C$18:$G$19,$C$21:$G$22)&" "&"heure(s)" -> 50 heure(s)

Sheet AFFECTATION
A1: CodEnse | B1: Mathières | C1: Noms | H1: Classes | I1: MATIERES
A2: F5 | B2: français | H2: 6e M1 | I2: F4 | J2: M2 | K2: A2 | L2: H1 | M2: S3 | N2: C3 | O2: P2
A3: F8 | B3: français | H3: 6e M2 | I3: F4 | J3: M2 | K3: A2 | L3: H1 | M3: S2 | N3: C3 | O3: P3
A4: F6 | B4: français | H4: 6e M3 | I4: F7 | J4: M6 | K4: A4 | L4: H1 | M4: S1 | N4: C3 | O4: P4
A5: F1 | B5: français | H5: 6e M4 | I5: F7 | J5: M6 | K5: A2 | L5: H4 | M5: S3 | N5: C4 | O5: P2
A6: F2 | B6: français | H6: 6e M5 | I6: F6 | J6: M7 | K6: A4 | L6: H4 | M6: S3 | N6: C4 | O6: P3
A7: F7 | B7: français | H7: 6e M6 | I7: F6 | J7: M7 | K7: A4 | L7: H4 | M7: S3 | N7: C5 | O7: P2
A8: F4 | B8: français | H8: 6e M7 | I8: F8 | J8: M8 | K8: A4 | L8: H5 | M8: S3 | N8: C4 | O8: P3
A9: F3 | B9: français | H9: 6e M8 | I9: F8 | J9: M8 | K9: A4 | L9: H5 | M9: S3 | N9: C5 | O9: P3
A10: F9 | B10: français | H10: 5e M1 | I10: F2 | J10: M2 | K10: A1 | L10: H3 | M10: S1 | N10: C1 | O10: P1 | Q10: D2
A11: M4 | B11: Mathématiques | H11: 5e M2 | I11: F2 | J11: M3 | K11: A1 | L11: H3 | M11: S1 | N11: C1 | O11: P1 | Q11: D2
A12: M5 | B12: Mathématiques | H12: 5e M3 | I12: F3 | J12: M3 | K12: A3 | L12: H3 | M12: S1 | N12: C2 | O12: P1 | Q12: D2
A13: M7 | B13: Mathématiques | H13: 5e M4 | I13: F3 | J13: M5 | K13: A3 | L13: H5 | M13: S2 | N13: C1 | O13: P4 | Q13: D2
A14: M2 | B14: Mathématiques | H14: 5e M5 | I14: F7 | J14: M5 | K14: A3 | L14: H5 | M14: S2 | N14: C4 | O14: P4 | Q14: D2
A15: M3 | B15: Mathématiques | H15: 5e M6 | I15: F4 | J15: M6 | K15: A3 | L15: H5 | M15: S2 | N15: C2 | O15: P4 | Q15: D2
A16: M8 | B16: Mathématiques | H16: 5e M7 | I16: F6 | J16: M9 | K16: A1 | L16: H6 | M16: S4 | N16: C5 | O16: P4 | Q16: D2
A17: M6 | B17: Mathématiques | H17: 5e M8 | I17: F8 | J17: M7 | K17: A3 | L17: H6 | M17: S5 | N17: C5 | O17: P2 | Q17: D2
A18: M1 | B18: Mathématiques | H18: 4e M1 | I18: F1 | J18: M1 | K18: A1 | L18: H2 | M18: S4 | N18: C1 | O18: P1 | P18: E1 | Q18: D1
A19: M9 | B19: Mathématiques | H19: 4e M2 | I19: F1 | J19: M1 | K19: A1 | L19: H2 | M19: S4 | N19: C2 | O19: P1 | P19: E1 | Q19: D1
A20: S1 | B20: S.V.T. | H20: 4e M3 | I20: F9 | J20: M5 | K20: A2 | L20: H2 | M20: S4 | N20: C5 | O20: P2 | P20: E1 | Q20: D1
A21: S2 | B21: S.V.T. | H21: 4e M4 | I21: F5 | J21: M4 | K21: A2 | L21: H6 | M21: S5 | N21: C5 | O21: P3 | Q21: D1
A22: S5 | B22: S.V.T. | H22: 4e M5 | I22: F9 | J22: M4 | K22: A4 | L22: H6 | M22: S5 | N22: C2 | O22: P2 | Q22: D1
A23: S4 | B23: S.V.T. | H23: 4e M6 | I23: F5 | J23: M9 | K23: A3 | L23: H6 | M23: S5 | N23: C3 | O23: P2 | Q23: D2
A24: S3 | B24: S.V.T. | H24: 3e M1 | I24: F1 | J24: M1 | K24: A1 | L24: H2 | M24: S5 | N24: C1 | O24: P1 | P24: E1 | Q24: D1
A25: C1 | B25: SC. Physiques | H25: 3e M2 | I25: F5 | J25: M3 | K25: A2 | L25: H1 | M25: S1 | N25: C2 | O25: P4 | P25: E1 | Q25: D1
A26: C2 | B26: SC. Physiques | H26: 3e M3 | I26: F3 | J26: M8 | K26: A3 | L26: H3 | M26: S2 | N26: C3 | O26: P3 | P26: E1 | Q26: D1
A27: C3 | B27: SC. Physiques | H27: 3e M4 | I27: F2 | J27: M4 | K27: A4 | L27: H4 | M27: S4 | N27: C4 | O27: P2 | P27: E1 | Q27: D1
A28: C4 | B28: SC. Physiques
A29: C5 | B29: SC. Physiques
A30: H1 | B30: Hist-Géo/I.C
A31: H2 | B31: Hist-Géo/I.C
A32: H3 | B32: Hist-Géo/I.C
A33: H4 | B33: Hist-Géo/I.C
A34: H6 | B34: Hist-Géo/I.C
A35: H5 | B35: Hist-Géo/I.C
A36: P1 | B36: E.P.S.
A37: P2 | B37: E.P.S.
A38: P3 | B38: E.P.S.
A39: P4 | B39: E.P.S.
... A46: A4 | B46: Anglais
