Workbook
Name Articles: Listing!$A$1:$A$299
Name Size: Listing!$B$1:$C$2

Sheet Commande
A1: Designation | B1: Size | C1: Quantity | D1: Reseller price | E1: Selling price | F1: Total
A2: Mangala HighWaisted Mixed Leggings - Mahe | C2: 10 | D2: =VLOOKUP(A2,Listing!A:F,4,0) -> 1 | E2: =VLOOKUP(D2,Listing!D:E,2,0) -> 2 | F2: =C2*D2 -> 10
A3: CRESUS short - Black | D3: =VLOOKUP(A3,Listing!A:F,4,0) -> 1 | E3: =VLOOKUP(D3,Listing!D:E,2,0) -> 2 | F3: =C3*D3 -> 0
D4: =VLOOKUP(A4,Listing!A:F,4,0) -> #N/A | E4: =VLOOKUP(D4,Listing!D:E,2,0) -> #N/A | F4: =C4*D4 -> #N/A
D5: =VLOOKUP(A5,Listing!A:F,4,0) -> #N/A | E5: =VLOOKUP(D5,Listing!D:E,2,0) -> #N/A | F5: =C5*D5 -> #N/A
D6: =VLOOKUP(A6,Listing!A:F,4,0) -> #N/A | E6: =VLOOKUP(D6,Listing!D:E,2,0) -> #N/A | F6: =C6*D6 -> #N/A
D7: =VLOOKUP(A7,Listing!A:F,4,0) -> #N/A | E7: =VLOOKUP(D7,Listing!D:E,2,0) -> #N/A | F7: =C7*D7 -> #N/A
D8: =VLOOKUP(A8,Listing!A:F,4,0) -> #N/A | E8: =VLOOKUP(D8,Listing!D:E,2,0) -> #N/A | F8: =C8*D8 -> #N/A
D9: =VLOOKUP(A9,Listing!A:F,4,0) -> #N/A | E9: =VLOOKUP(D9,Listing!D:E,2,0) -> #N/A | F9: =C9*D9 -> #N/A
D10: =VLOOKUP(A10,Listing!A:F,4,0) -> #N/A | E10: =VLOOKUP(D10,Listing!D:E,2,0) -> #N/A | F10: =C10*D10 -> #N/A
D11: =VLOOKUP(A11,Listing!A:F,4,0) -> #N/A | E11: =VLOOKUP(D11,Listing!D:E,2,0) -> #N/A | F11: =C11*D11 -> #N/A
D12: =VLOOKUP(A12,Listing!A:F,4,0) -> #N/A | E12: =VLOOKUP(D12,Listing!D:E,2,0) -> #N/A | F12: =C12*D12 -> #N/A
D13: =VLOOKUP(A13,Listing!A:F,4,0) -> #N/A | E13: =VLOOKUP(D13,Listing!D:E,2,0) -> #N/A | F13: =C13*D13 -> #N/A
D14: =VLOOKUP(A14,Listing!A:F,4,0) -> #N/A | E14: =VLOOKUP(D14,Listing!D:E,2,0) -> #N/A | F14: =C14*D14 -> #N/A
D15: =VLOOKUP(A15,Listing!A:F,4,0) -> #N/A | E15: =VLOOKUP(D15,Listing!D:E,2,0) -> #N/A | F15: =C15*D15 -> #N/A
... D27: =VLOOKUP(A27,Listing!A:F,4,0) -> #N/A | E27: =VLOOKUP(D27,Listing!D:E,2,0) -> #N/A | F27: =C27*D27 -> #N/A
C34: Red
C35: Green

Sheet Listing
A1: Mangala HighWaisted Mixed Leggings - Maui | B1: S | C1: M | D1: 1 | E1: 2 | F1: Maui
A2: Mangala HighWaisted Mixed Leggings - Mahe | B2: X | C2: L | D2: 1 | E2: 2 | F2: Mahe
A3: Mangala HighWaisted Mixed Leggings - Malta | D3: 1 | E3: 2 | F3: Malta
A4: Mangala HighWaisted Mixed Leggings - Maldives | D4: 1 | E4: 2 | F4: Maldives
A5: Surya HighWaisted Capri Leggings - Black | D5: 1 | E5: 2 | F5: Black
A6: Surya HighWaisted Capri Leggings - Green | D6: 1 | E6: 2 | F6: Green
A7: Surya HighWaisted Capri Leggings - White | D7: 1 | E7: 2 | F7: White
A8: Shani HighWaisted 7/8 Leggings - Army Green | D8: 1 | E8: 2 | F8: Army Green
A9: Shani HighWaisted 7/8 Leggings - French Blue | D9: 1 | E9: 2 | F9: French blue
A10: Chandra HighWaisted Long Leggings - Purple | D10: 1 | E10: 2 | F10: Purple
A11: Chandra HighWaisted Long Leggings - Grey | D11: 1 | E11: 2 | F11: Grey
A12: Era Bra - Black | D12: 1 | E12: 2 | F12: Black
A13: Era Bra - White | D13: 1 | E13: 2 | F13: White
A14: Era Bra - Pik | D14: 1 | E14: 2 | F14: Pink
... A31: TAURUS compression t-shirt - Red | D31: 1 | E31: 2 | F31: Red
