Workbook
Name Articles: Listing!$A$1:$A$284
Name Colors: Commande!$C$2:$C$17
Name Reseller_price: Commande!$E:$E
Name Selling_price: Commande!$F:$F
Name Size: Listing!$B$1:$C$1

Sheet Commande
A1: Designation | B1: Size | C1: Colors | D1: Quantity | E1: Reseller price | F1: Selling price | G1: Total
E2: =VLOOKUP(A2,Listing!$A$1:$K$16,11,0) -> #N/A | F2: =VLOOKUP(A2,Listing!$A$1:$J$16,10,0) -> #N/A | G2: =D2*E2 -> #N/A
E3: =VLOOKUP(A3,Listing!$A$1:$K$16,11,0) -> #N/A | F3: =VLOOKUP(A3,Listing!$A$1:$J$16,10,0) -> #N/A | G3: =D3*E3 -> #N/A
E4: =VLOOKUP(A4,Listing!$A$1:$K$16,11,0) -> #N/A | F4: =VLOOKUP(A4,Listing!$A$1:$J$16,10,0) -> #N/A | G4: =D4*E4 -> #N/A
E5: =VLOOKUP(A5,Listing!$A$1:$K$16,11,0) -> #N/A | F5: =VLOOKUP(A5,Listing!$A$1:$J$16,10,0) -> #N/A | G5: =D5*E5 -> #N/A
E6: =VLOOKUP(A6,Listing!$A$1:$K$16,11,0) -> #N/A | F6: =VLOOKUP(A6,Listing!$A$1:$J$16,10,0) -> #N/A | G6: =D6*E6 -> #N/A
E7: =VLOOKUP(A7,Listing!$A$1:$K$16,11,0) -> #N/A | F7: =VLOOKUP(A7,Listing!$A$1:$J$16,10,0) -> #N/A | G7: =D7*E7 -> #N/A
E8: =VLOOKUP(A8,Listing!$A$1:$K$16,11,0) -> #N/A | F8: =VLOOKUP(A8,Listing!$A$1:$J$16,10,0) -> #N/A | G8: =D8*E8 -> #N/A
E9: =VLOOKUP(A9,Listing!$A$1:$K$16,11,0) -> #N/A | F9: =VLOOKUP(A9,Listing!$A$1:$J$16,10,0) -> #N/A | G9: =D9*E9 -> #N/A
E10: =VLOOKUP(A10,Listing!$A$1:$K$16,11,0) -> #N/A | F10: =VLOOKUP(A10,Listing!$A$1:$J$16,10,0) -> #N/A | G10: =D10*E10 -> #N/A
E11: =VLOOKUP(A11,Listing!$A$1:$K$16,11,0) -> #N/A | F11: =VLOOKUP(A11,Listing!$A$1:$J$16,10,0) -> #N/A | G11: =D11*E11 -> #N/A
E12: =VLOOKUP(A12,Listing!$A$1:$K$16,11,0) -> #N/A | F12: =VLOOKUP(A12,Listing!$A$1:$J$16,10,0) -> #N/A | G12: =D12*E12 -> #N/A
E13: =VLOOKUP(A13,Listing!$A$1:$K$16,11,0) -> #N/A | F13: =VLOOKUP(A13,Listing!$A$1:$J$16,10,0) -> #N/A | G13: =D13*E13 -> #N/A
... E17: =VLOOKUP(A17,Listing!$A$1:$K$16,11,0) -> #N/A | F17: =VLOOKUP(A17,Listing!$A$1:$J$16,10,0) -> #N/A | G17: =D17*E17 -> #N/A

Sheet Listing
A1: Mangala HighWaisted Mixed Leggings | B1: XS | C1: S | D1: M | F1: Maui | G1: Mahe | H1: Malta | I1: Maldive | J1: 2 | K1: 1
A2: Surya HighWaisted Capri Leggings | B2: S | C2: M | D2: L | F2: Black | G2: White | H2: Green | J2: 2 | K2: 1
A3: Shani HighWaisted 7/8 Leggings | B3: XS | C3: S | D3: M | E3: L | F3: Army Green | G3: French Blue | J3: 2 | K3: 1
A4: Chandra HighWaisted Long Leggings | B4: XS | C4: S | D4: M | E4: L | F4: Purple | G4: Grey | J4: 2 | K4: 1
A5: Era Bra | B5: S | C5: M | F5: Black | G5: White | H5: Pink | J5: 2 | K5: 1
A6: Drita Bra | B6: S | C6: M | D6: L | F6: Black | G6: Pink | J6: 2 | K6: 1
A7: Ora Bra | B7: S | C7: M | D7: L | F7: Black | J7: 2 | K7: 1
A8: Bra Cosmos | B8: S | C8: M | D8: L | F8: Black | G8: White | J8: 2 | K8: 1
A9: Bra Sunflower | B9: S | C9: M | D9: L | F9: Black | G9: White | J9: 2 | K9: 1
A10: Drop Bra | B10: S | C10: M | D10: L | F10: Black | G10: White | J10: 2 | K10: 1
A11: Besa Faith or To Keep the Promise | B11: S | C11: M | D11: L | F11: White | G11: Green | H11: Pink | J11: 2 | K11: 1
A12: CRESUS short | B12: L | C12: XL | D12: XXL | F12: Black | J12: 2 | K12: 1
A13: Ulysse short pant | B13: L | C13: XL | D13: XXL | F13: Grey | J13: 2 | K13: 1
A14: SHADOW compression T-shirt | B14: M | C14: L | D14: XL | E14: XXL | F14: Black | J14: 2 | K14: 1
A15: TAURUS compression t-shirt | B15: M | C15: L | D15: XL | E15: XXL | F15: Black | G15: Red | J15: 2 | K15: 1
A16: TAURUS compression t-shirt | B16: M | C16: L | D16: XL | E16: XXL | J16: 2 | K16: 1
