Workbook

Sheet PLANNING
A1: date | B1: rencontres | E1: heure rdv | F1: heure match | G1: adresse | H1: arbitre 1 | I1: arbitre 2 | J1: emarque | K1: chrono | L1: salle | M1: bar
G2: =VLOOKUP(B2:B30,Feuil3!A$1:C$85,2,0) -> #N/A
G3: =VLOOKUP(B3:B31,Feuil3!A$1:C$85,2,0) -> #N/A
G4: =VLOOKUP(B4:B32,Feuil3!A$1:C$85,2,0) -> #N/A
G5: =VLOOKUP(B5:B33,Feuil3!A$1:C$85,2,0) -> #N/A
G6: =VLOOKUP(B6:B34,Feuil3!A$1:C$85,2,0) -> #N/A
G7: =VLOOKUP(B7:B35,Feuil3!A$1:C$85,2,0) -> #N/A
G8: =VLOOKUP(B8:B36,Feuil3!A$1:C$85,2,0) -> #N/A
G9: =VLOOKUP(B9:B37,Feuil3!A$1:C$85,2,0) -> #N/A
G10: =VLOOKUP(B10:B38,Feuil3!A$1:C$85,2,0) -> #N/A
G11: =VLOOKUP(B11:B39,Feuil3!A$1:C$85,2,0) -> #N/A
G12: =VLOOKUP(B12:B40,Feuil3!A$1:C$85,2,0) -> #N/A
G13: =VLOOKUP(B13:B41,Feuil3!A$1:C$85,2,0) -> #N/A
... G30: =VLOOKUP(B30:B58,Feuil3!A$1:C$85,2,0) -> #N/A

Sheet BDD
A1: 43358 | B1: 09H00
A2: 43359 | B2: 09H15
A3: 43360 | B3: 09H30
A4: 43361 | B4: 09H45
A5: 43362 | B5: 10H00
A6: 43363 | B6: 10H15
A7: 43364 | B7: 10H30
A8: 43365 | B8: 10H45
A9: 43366 | B9: 11H00
A10: 43367 | B10: 11H15
A11: 43368 | B11: 11H30
A12: 43369 | B12: 11H45
... A30: 43387 | B30: 16H15
A31: 43388 | B31: 16H30 | D31: u13
A32: 43389 | B32: 16H45 | D32: emarque
A33: 43390 | B33: 17H00 | D33: present | E33: absent
A34: 43391 | B34: 17H15
A35: 43392 | B35: 17H30
A36: 43393 | B36: 17H45
A37: 43394 | B37: 18H00
A38: 43395 | B38: 18H15
A39: 43396 | B39: 18H30
A40: 43397 | B40: 18H45
A41: 43398 | B41: 19H00
A42: 43399 | B42: 19H15
A43: 43400 | B43: 19H30
A44: 43401 | B44: 19H45
A45: 43402 | B45: 20H00
... A51: 43408 | B51: 21H30
A52: 43409
A53: 43410
A54: 43411
A55: 43412
A56: 43413
A57: 43414
A58: 43415
A59: 43416
A60: 43417
A61: 43418
A62: 43419
A63: 43420
... A320: 43677

Sheet Feuil3
A1: EQUIPE | B1: ADRESSE
A2: AL CHAUVINIERE U11 | B2: GYMNASE LUCIEN DAVID 4 RUE DES RENARDS 44300 NANTES | C2: VS
A3: AL_CHAUVINIERE_U_13_Filles | B3: GYMNASE LUCIEN DAVID 4 RUE DES RENARDS 44300 NANTES | C3: VS
A4: AL CHAUVINIERE U 13 Garcons | B4: GYMNASE LUCIEN DAVID 4 RUE DES RENARDS 44300 NANTES | C4: VS
A5: AL CHAUVINIERE U15 | B5: GYMNASE LUCIEN DAVID 4 RUE DES RENARDS 44300 NANTES | C5: VS
A6: AL CHAUVINIERE U17 | B6: GYMNASE LUCIEN DAVID 4 RUE DES RENARDS 44300 NANTES | C6: VS
A7: AL CHAUVINIERE U20 | B7: GYMNASE LUCIEN DAVID 4 RUE DES RENARDS 44300 NANTES | C7: VS
A8: AL CHAUVINIERE SENIORS Filles | B8: GYMNASE LUCIEN DAVID 4 RUE DES RENARDS 44300 NANTES | C8: VS
A9: AL CHAUVINIERE SENIORS M | B9: GYMNASE LUCIEN DAVID 4 RUE DES RENARDS 44300 NANTES | C9: VS
A10: ASC ST MEDARD DE DOULON NANTES - 1 | B10: GYMNASE DE DOULON Rue de la Basse Chênaie 44300 NANTES | C10: VS
A11: NANTES BREIL BASKET | B11: SALLE JOEL PAON Rue des Hauts Pavés 44000 NANTES | C11: VS
A12: I.B.C. - Indre Basket Club - 2 | B12: GRAND VOILE - COMPLEXE TABARLY Rue de l'Allier 44610 INDRE | C12: VS
A13: BEAUJOIRE BASKET CLUB | B13: SALLE JEAN VINCENT Rue Marcel et Marie Michel 44300 NANTES | C13: VS
... A57: BASKET CLUB BASSE GOULAINE - 2 | B57: SALLE DE GOULAINE Square de Theley 44115 BASSE BOULAINE | C57: VS
C58: VS
C59: VS
C60: VS
C61: VS
C62: VS
C63: VS
C64: VS
C65: VS
C66: VS
C67: VS
C68: VS
C69: VS
... C130: VS

Sheet Feuil1
A1: U11 | B1: U13 M | C1: U13 F | D1: U15 | E1: U17 | F1: U20 | G1: SENIORS GARCON | H1: SENIORS FILLE | I1: DIRIGEANT
A2: BOUAFIA Amine | B2: AMEUR Haris | C2: LEBRUN Justine | D2: JOUAULT Lancelot | E2: CHABOT Arthur | F2: BOURGEOIS Arthur | G2: BLOYER Gregory | H2: BERTHELOT Pamela | I2: DAVID Charlotte
A3: SAINTIER Mickael | B3: MARTIN Joseph | C3: ORAIN Tristan | D3: BOURGEOIS Matheo | E3: OUFELLA Marouane | F3: LE GOFF Jordan | G3: BOUCHAUD Florian | H3: BOURCIER Noemie | I3: DAVID Daniel
B4: GIRARDEAU Maxime | D4: GUIHENEUF Jude | E4: JOUTARD Yannis | G4: CHEMINEAU Florian | H4: DENECHERE Pauline
B5: CHATELLIER Nael | D5: SOULE Mael | E5: AERE-OVEL Elias | G5: FERRAN Julien | H5: DESRUES Lisa | I5: DAVID Yoann
B6: MINIER Malo | D6: GIRAUDET Johan | E6: BLAIS Timothee | G6: GRATEDOUX Florent | H6: LECRIVAIN Sandrine
B7: PINTO Joao | D7: OUAJJOD Julien | E7: DANSOKO DIALY Bachir | G7: LAGADEC Thomas | H7: LOGEAIS Pauline | I7: ORAIN Tristan
B8: COULANDON Mark | D8: SAINTIER Keyzyan | E8: BARANGER Fabio | G8: RENOU Baptiste | H8: OSSEYI Zeline
B9: BOUCHAUD Florian | D9: MOLET Amaury | E9: BAH Amadou | G9: LE GOFF Jordan | H9: LUMIERE Clementine
D10: DAVID Yoann | E10: AERE Joel | G10: ROYER Paul | H10: LE GUEN Camille
G11: DAVID Yoann | H11: CHEVALIER Julie | I11: BOURGEOIS Benoit
H12: MARTINEZ RIVERA Silvia
H13: MANDIGNY Lise | I13: SAINTIER Mickael
H14: SERRERO Lea | I14: PINTO Manuel
H15: GOUFFIER Florence | I15: MOLET Patrice
H16: BRUHAIS-ERTAS Charlotte | I16: AERE Joel
H17: GUINGOULOU Ophelie | I17: GIRARDEAU Fabien
I18: MINIER Vincent
