Workbook
Name MaFonction: LAMBDA(FERIES!XEZ1048565,ROUND(DATE(Année,4,MOD(234-11*MOD(Année,19),30))/7,0)*7-6)

Sheet 2022
A1: Tableau KM & Repas | H1: Total des kilomètres parcourus | Q1: Total du montant des repas
H3: Km | J3: Prix | L3: Total | Q3: Nombres | S3: Prix | U3: Total
A4: Année | B4: 2022 | D4: Feriés | E4: Vscolaire | H4: =SUM(Q4*69) -> 0 | L4: =SUM(H4*J4) -> 0 | Q4: =SUM(AC10:AC76) -> 0 | S4: 4.95 | U4: =SUM(Q4*S4) -> 0
D5: M | E5: Maladie
A7: JANVIER
A8: Sem | B8: =WEEKNUM(B22,21) -> 52 | C8: =WEEKNUM(C9,21) -> 1 | D8: =WEEKNUM(D9,21) -> 1 | E8: =WEEKNUM(E9,21) -> 1 | F8: =WEEKNUM(F9,21) -> 1 | G8: =WEEKNUM(G9,21) -> 1 | H8: =WEEKNUM(H9,21) -> 1 | I8: =WEEKNUM(I9,21) -> 2 | J8: =WEEKNUM(J9,21) -> 2 | ... AA8: =WEEKNUM(AA9,21) -> 5
A9: Jour | B9: =IF(WEEKDAY(DATE($B$4,1,1),2)=7,DATE($B$4,1,1)+1,DATE($B$4,1,1)) -> 44562 | C9: =IF(WEEKDAY(B9,2)=6,B9+2,B9+1) -> 44564 | D9: =IF(WEEKDAY(C9,2)=6,C9+2,C9+1) -> 44565 | E9: =IF(WEEKDAY(D9,2)=6,D9+2,D9+1) -> 44566 | F9: =IF(WEEKDAY(E9,2)=6,E9+2,E9+1) -> 44567 | G9: =IF(WEEKDAY(F9,2)=6,F9+2,F9+1) -> 44568 | H9: =IF(WEEKDAY(G9,2)=6,G9+2,G9+1) -> 44569 | I9: =IF(WEEKDAY(H9,2)=6,H9+2,H9+1) -> 44571 | J9: =IF(WEEKDAY(I9,2)=6,I9+2,I9+1) -> 44572 | ... AA9: =IF(WEEKDAY(Z9,2)=6,Z9+2,Z9+1) -> 44592
A10: Jeanne | AC10: =COUNTIF(B10:AA10,"x") -> 0
B11: =IF(COUNTIF(B10:B10,"CP")>=2,"X","") | C11: =IF(COUNTIF(C10:C10,"CP")>=2,"X","") | D11: =IF(COUNTIF(D10:D10,"CP")>=2,"X","") | E11: =IF(COUNTIF(E10:E10,"CP")>=2,"X","") | F11: =IF(COUNTIF(F10:F10,"CP")>=2,"X","") | G11: =IF(COUNTIF(G10:G10,"CP")>=2,"X","") | H11: =IF(COUNTIF(H10:H10,"CP")>=2,"X","") | I11: =IF(COUNTIF(I10:I10,"CP")>=2,"X","") | K11: =IF(COUNTIF(K10:K10,"CP")>=2,"X","") | L11: =IF(COUNTIF(L10:L10,"CP")>=2,"X","") | M11: =IF(COUNTIF(M10:M10,"CP")>=2,"X","") | N11: =IF(COUNTIF(N10:N10,"CP")>=2,"X","") | O11: =IF(COUNTIF(O10:O10,"CP")>=2,"X","") | P11: =IF(COUNTIF(P10:P10,"CP")>=2,"X","") | Q11: =IF(COUNTIF(Q10:Q10,"CP")>=2,"X","") | R11: =IF(COUNTIF(R10:R10,"CP")>=2,"X","") | ... AA11: =IF(COUNTIF(AA10:AA10,"CP")>=2,"X","")
A13: FEVRIER
A14: Sem | B14: =WEEKNUM(B15,21) -> 5 | C14: =WEEKNUM(C15,21) -> 5 | D14: =WEEKNUM(D15,21) -> 5 | E14: =WEEKNUM(E15,21) -> 5 | F14: =WEEKNUM(F15,21) -> 5 | G14: =WEEKNUM(G15,21) -> 6 | H14: =WEEKNUM(H15,21) -> 6 | I14: =WEEKNUM(I15,21) -> 6 | ... Y14: =WEEKNUM(Y15,21) -> 9
A15: Jour | B15: =IF(WEEKDAY(DATE($B$4,2,1),2)=7,DATE($B$4,2,1)+1,DATE($B$4,2,1)) -> 44593 | C15: =IF(WEEKDAY(B15,2)=6,B15+2,B15+1) -> 44594 | D15: =IF(WEEKDAY(C15,2)=6,C15+2,C15+1) -> 44595 | E15: =IF(WEEKDAY(D15,2)=6,D15+2,D15+1) -> 44596 | F15: =IF(WEEKDAY(E15,2)=6,E15+2,E15+1) -> 44597 | G15: =IF(WEEKDAY(F15,2)=6,F15+2,F15+1) -> 44599 | H15: =IF(WEEKDAY(G15,2)=6,G15+2,G15+1) -> 44600 | I15: =IF(WEEKDAY(H15,2)=6,H15+2,H15+1) -> 44601 | J15: =IF(WEEKDAY(I15,2)=6,I15+2,I15+1) -> 44602 | ... Y15: =IF(WEEKDAY(X15,2)=6,X15+2,X15+1) -> 44620
A16: Jeanne | AC16: =COUNTIF(B16:Y16,"x") -> 0
B17: =IF(COUNTIF(B16:B16,"CP")>=2,"X","") | C17: =IF(COUNTIF(C16:C16,"CP")>=2,"X","") | D17: =IF(COUNTIF(D16:D16,"CP")>=2,"X","") | E17: =IF(COUNTIF(E16:E16,"CP")>=2,"X","") | F17: =IF(COUNTIF(F16:F16,"CP")>=2,"X","") | G17: =IF(COUNTIF(G16:G16,"CP")>=2,"X","") | H17: =IF(COUNTIF(H16:H16,"CP")>=2,"X","") | I17: =IF(COUNTIF(I16:I16,"CP")>=2,"X","") | ... AA17: =IF(COUNTIF(AA16:AA16,"CP")>=2,"X","")
A19: MARS
A20: Sem | B20: =WEEKNUM(B21,21) -> 9 | C20: =WEEKNUM(C21,21) -> 9 | D20: =WEEKNUM(D21,21) -> 9 | E20: =WEEKNUM(E21,21) -> 9 | F20: =WEEKNUM(F21,21) -> 9 | G20: =WEEKNUM(G21,21) -> 10 | H20: =WEEKNUM(H21,21) -> 10 | I20: =WEEKNUM(I21,21) -> 10 | ... AA20: =WEEKNUM(AA21,21) -> 13
A21: Jour | B21: =IF(WEEKDAY(DATE($B$4,3,1),2)=7,DATE($B$4,3,1)+1,DATE($B$4,3,1)) -> 44621 | C21: =IF(WEEKDAY(B21,2)=6,B21+2,B21+1) -> 44622 | D21: =IF(WEEKDAY(C21,2)=6,C21+2,C21+1) -> 44623 | E21: =IF(WEEKDAY(D21,2)=6,D21+2,D21+1) -> 44624 | F21: =IF(WEEKDAY(E21,2)=6,E21+2,E21+1) -> 44625 | G21: =IF(WEEKDAY(F21,2)=6,F21+2,F21+1) -> 44627 | H21: =IF(WEEKDAY(G21,2)=6,G21+2,G21+1) -> 44628 | I21: =IF(WEEKDAY(H21,2)=6,H21+2,H21+1) -> 44629 | J21: =IF(WEEKDAY(I21,2)=6,I21+2,I21+1) -> 44630 | ... AA21: =IF(WEEKDAY(Z21,2)=6,Z21+2,Z21+1) -> 44650
A22: Jeanne | AC22: =COUNTIF(B22:AA22,"x") -> 0
B23: =IF(COUNTIF(B22:B22,"CP")>=2,"X","") | C23: =IF(COUNTIF(C22:C22,"CP")>=2,"X","") | D23: =IF(COUNTIF(D22:D22,"CP")>=2,"X","") | E23: =IF(COUNTIF(E22:E22,"CP")>=2,"X","") | F23: =IF(COUNTIF(F22:F22,"CP")>=2,"X","") | G23: =IF(COUNTIF(G22:G22,"CP")>=2,"X","") | H23: =IF(COUNTIF(H22:H22,"CP")>=2,"X","") | I23: =IF(COUNTIF(I22:I22,"CP")>=2,"X","") | ... AA23: =IF(COUNTIF(AA22:AA22,"CP")>=2,"X","")
B24: =COUNTIF(FERIES!$B$17:$B$27,'2022'!B27) -> 0 | C24: =COUNTIF(FERIES!$B$17:$B$27,'2022'!C27) -> 0 | D24: =COUNTIF(FERIES!$B$17:$B$27,'2022'!D27) -> 0 | E24: =COUNTIF(FERIES!$B$17:$B$27,'2022'!E27) -> 0 | F24: =COUNTIF(FERIES!$B$17:$B$27,'2022'!F27) -> 0 | G24: =COUNTIF(FERIES!$B$17:$B$27,'2022'!G27) -> 0 | H24: =COUNTIF(FERIES!$B$17:$B$27,'2022'!H27) -> 0 | I24: =COUNTIF(FERIES!$B$17:$B$27,'2022'!I27) -> 0 | ... AA24: =COUNTIF(FERIES!$B$17:$B$27,'2022'!AA27) -> 0
A25: AVRIL
A26: Sem | B26: =WEEKNUM(B27,21) -> 13 | C26: =WEEKNUM(C27,21) -> 13 | D26: =WEEKNUM(D27,21) -> 14 | E26: =WEEKNUM(E27,21) -> 14 | F26: =WEEKNUM(F27,21) -> 14 | G26: =WEEKNUM(G27,21) -> 14 | H26: =WEEKNUM(H27,21) -> 14 | I26: =WEEKNUM(I27,21) -> 14 | ... AA26: =WEEKNUM(AA27,21) -> 17
A27: Jour | B27: =IF(WEEKDAY(DATE($B$4,4,1),2)=7,DATE($B$4,4,1)+1,DATE($B$4,4,1)) -> 44652 | C27: =IF(WEEKDAY(B27,2)=6,B27+2,B27+1) -> 44653 | D27: =IF(WEEKDAY(C27,2)=6,C27+2,C27+1) -> 44655 | E27: =IF(WEEKDAY(D27,2)=6,D27+2,D27+1) -> 44656 | F27: =IF(WEEKDAY(E27,2)=6,E27+2,E27+1) -> 44657 | G27: =IF(WEEKDAY(F27,2)=6,F27+2,F27+1) -> 44658 | H27: =IF(WEEKDAY(G27,2)=6,G27+2,G27+1) -> 44659 | I27: =IF(WEEKDAY(H27,2)=6,H27+2,H27+1) -> 44660 | J27: =IF(WEEKDAY(I27,2)=6,I27+2,I27+1) -> 44662 | ... AA27: =IF(WEEKDAY(Z27,2)=6,Z27+2,Z27+1) -> 44681
A28: Jeanne | AC28: =COUNTIF(B28:AA28,"x") -> 0
B29: =IF(COUNTIF(B28:B28,"CP")>=2,"X","") | C29: =IF(COUNTIF(C28:C28,"CP")>=2,"X","") | D29: =IF(COUNTIF(D28:D28,"CP")>=2,"X","") | E29: =IF(COUNTIF(E28:E28,"CP")>=2,"X","") | F29: =IF(COUNTIF(F28:F28,"CP")>=2,"X","") | G29: =IF(COUNTIF(G28:G28,"CP")>=2,"X","") | H29: =IF(COUNTIF(H28:H28,"CP")>=2,"X","") | I29: =IF(COUNTIF(I28:I28,"CP")>=2,"X","") | ... P29: =IF(COUNTIF(P28:P28,"CP")>=2,"X","") | R29: =IF(COUNTIF(R28:R28,"CP")>=2,"X","") | S29: =IF(COUNTIF(S28:S28,"CP")>=2,"X","") | T29: =IF(COUNTIF(T28:T28,"CP")>=2,"X","") | U29: =IF(COUNTIF(U28:U28,"CP")>=2,"X","") | V29: =IF(COUNTIF(V28:V28,"CP")>=2,"X","") | W29: =IF(COUNTIF(W28:W28,"CP")>=2,"X","") | X29: =IF(COUNTIF(X28:X28,"CP")>=2,"X","") | Y29: =IF(COUNTIF(Y28:Y28,"CP")>=2,"X","") | ... AA29: =IF(COUNTIF(AA28:AA28,"CP")>=2,"X","")
B30: =COUNTIF(FERIES!$B$17:$B$27,'2022'!B33) -> 0 | C30: =COUNTIF(FERIES!$B$17:$B$27,'2022'!C33) -> 0 | D30: =COUNTIF(FERIES!$B$17:$B$27,'2022'!D33) -> 0 | E30: =COUNTIF(FERIES!$B$17:$B$27,'2022'!E33) -> 0 | F30: =COUNTIF(FERIES!$B$17:$B$27,'2022'!F33) -> 0 | G30: =COUNTIF(FERIES!$B$17:$B$27,'2022'!G33) -> 0 | H30: =COUNTIF(FERIES!$B$17:$B$27,'2022'!H33) -> 0 | I30: =COUNTIF(FERIES!$B$17:$B$27,'2022'!I33) -> 0 | ... AA30: =COUNTIF(FERIES!$B$17:$B$27,'2022'!AA33) -> 0
A31: MAI
A32: Sem | B32: =WEEKNUM(B33,21) -> 18 | C32: =WEEKNUM(C33,21) -> 18 | D32: =WEEKNUM(D33,21) -> 18 | E32: =WEEKNUM(E33,21) -> 18 | F32: =WEEKNUM(F33,21) -> 18 | G32: =WEEKNUM(G33,21) -> 18 | H32: =WEEKNUM(H33,21) -> 19 | I32: =WEEKNUM(I33,21) -> 19 | ... AA32: =WEEKNUM(AA33,21) -> 22
A33: Jour | B33: =IF(WEEKDAY(DATE($B$4,5,1),2)=7,DATE($B$4,5,1)+1,DATE($B$4,5,1)) -> 44683 | C33: =IF(WEEKDAY(B33,2)=6,B33+2,B33+1) -> 44684 | D33: =IF(WEEKDAY(C33,2)=6,C33+2,C33+1) -> 44685 | E33: =IF(WEEKDAY(D33,2)=6,D33+2,D33+1) -> 44686 | F33: =IF(WEEKDAY(E33,2)=6,E33+2,E33+1) -> 44687 | G33: =IF(WEEKDAY(F33,2)=6,F33+2,F33+1) -> 44688 | H33: =IF(WEEKDAY(G33,2)=6,G33+2,G33+1) -> 44690 | I33: =IF(WEEKDAY(H33,2)=6,H33+2,H33+1) -> 44691 | J33: =IF(WEEKDAY(I33,2)=6,I33+2,I33+1) -> 44692 | ... AA33: =IF(WEEKDAY(Z33,2)=6,Z33+2,Z33+1) -> 44712
A34: Jeanne | AC34: =COUNTIF(B34:AA34,"x") -> 0
B35: =IF(COUNTIF(B34:B34,"CP")>=2,"X","") | C35: =IF(COUNTIF(C34:C34,"CP")>=2,"X","") | D35: =IF(COUNTIF(D34:D34,"CP")>=2,"X","") | E35: =IF(COUNTIF(E34:E34,"CP")>=2,"X","") | F35: =IF(COUNTIF(F34:F34,"CP")>=2,"X","") | G35: =IF(COUNTIF(G34:G34,"CP")>=2,"X","") | H35: =IF(COUNTIF(H34:H34,"CP")>=2,"X","") | I35: =IF(COUNTIF(I34:I34,"CP")>=2,"X","") | ... AA35: =IF(COUNTIF(AA34:AA34,"CP")>=2,"X","")
A37: JUIN
A38: Sem | B38: =WEEKNUM(B39,21) -> 22 | C38: =WEEKNUM(C39,21) -> 22 | D38: =WEEKNUM(D39,21) -> 22 | E38: =WEEKNUM(E39,21) -> 22 | F38: =WEEKNUM(F39,21) -> 23 | G38: =WEEKNUM(G39,21) -> 23 | H38: =WEEKNUM(H39,21) -> 23 | I38: =WEEKNUM(I39,21) -> 23 | ... AA38: =WEEKNUM(AA39,21) -> 26
A39: Jour | B39: =IF(WEEKDAY(DATE($B$4,6,1),2)=7,DATE($B$4,6,1)+1,DATE($B$4,6,1)) -> 44713 | C39: =IF(WEEKDAY(B39,2)=6,B39+2,B39+1) -> 44714 | D39: =IF(WEEKDAY(C39,2)=6,C39+2,C39+1) -> 44715 | E39: =IF(WEEKDAY(D39,2)=6,D39+2,D39+1) -> 44716 | F39: =IF(WEEKDAY(E39,2)=6,E39+2,E39+1) -> 44718 | G39: =IF(WEEKDAY(F39,2)=6,F39+2,F39+1) -> 44719 | H39: =IF(WEEKDAY(G39,2)=6,G39+2,G39+1) -> 44720 | I39: =IF(WEEKDAY(H39,2)=6,H39+2,H39+1) -> 44721 | J39: =IF(WEEKDAY(I39,2)=6,I39+2,I39+1) -> 44722 | ... AA39: =IF(WEEKDAY(Z39,2)=6,Z39+2,Z39+1) -> 44742
A40: Jeanne | AC40: =COUNTIF(B40:AA40,"x") -> 0
B41: =IF(COUNTIF(B40:B40,"CP")>=2,"X","") | C41: =IF(COUNTIF(C40:C40,"CP")>=2,"X","") | D41: =IF(COUNTIF(D40:D40,"CP")>=2,"X","") | E41: =IF(COUNTIF(E40:E40,"CP")>=2,"X","") | F41: =IF(COUNTIF(F40:F40,"CP")>=2,"X","") | G41: =IF(COUNTIF(G40:G40,"CP")>=2,"X","") | H41: =IF(COUNTIF(H40:H40,"CP")>=2,"X","") | I41: =IF(COUNTIF(I40:I40,"CP")>=2,"X","") | ... AA41: =IF(COUNTIF(AA40:AA40,"CP")>=2,"X","")
B42: =COUNTIF(FERIES!$B$17:$B$27,#REF!) -> 0 | C42: =COUNTIF(FERIES!$B$17:$B$27,#REF!) -> 0 | D42: =COUNTIF(FERIES!$B$17:$B$27,#REF!) -> 0 | E42: =COUNTIF(FERIES!$B$17:$B$27,#REF!) -> 0 | F42: =COUNTIF(FERIES!$B$17:$B$27,#REF!) -> 0 | G42: =COUNTIF(FERIES!$B$17:$B$27,#REF!) -> 0 | H42: =COUNTIF(FERIES!$B$17:$B$27,#REF!) -> 0 | I42: =COUNTIF(FERIES!$B$17:$B$27,#REF!) -> 0 | ... AB42: =COUNTIF(FERIES!$B$17:$B$27,#REF!) -> 0
A43: JUILLET
A44: Sem | B44: =WEEKNUM(B45,21) -> 26 | C44: =WEEKNUM(C45,21) -> 26 | D44: =WEEKNUM(D45,21) -> 27 | E44: =WEEKNUM(E45,21) -> 27 | F44: =WEEKNUM(F45,21) -> 27 | G44: =WEEKNUM(G45,21) -> 27 | H44: =WEEKNUM(H45,21) -> 27 | I44: =WEEKNUM(I45,21) -> 27 | ... AB44: =WEEKNUM(AB45,21) -> 31
A45: Jour | B45: =IF(WEEKDAY(DATE(B4,7,1),2)=7,DATE(B4,7,1)+1,DATE(B4,7,1)) -> 44743 | C45: =IF(WEEKDAY(B45,2)=6,B45+2,B45+1) -> 44744 | D45: =IF(WEEKDAY(C45,2)=6,C45+2,C45+1) -> 44746 | E45: =IF(WEEKDAY(D45,2)=6,D45+2,D45+1) -> 44747 | F45: =IF(WEEKDAY(E45,2)=6,E45+2,E45+1) -> 44748 | G45: =IF(WEEKDAY(F45,2)=6,F45+2,F45+1) -> 44749 | H45: =IF(WEEKDAY(G45,2)=6,G45+2,G45+1) -> 44750 | I45: =IF(WEEKDAY(H45,2)=6,H45+2,H45+1) -> 44751 | J45: =IF(WEEKDAY(I45,2)=6,I45+2,I45+1) -> 44753 | ... AB45: =IF(WEEKDAY(AA45,2)=6,AA45+2,AA45+1) -> 44774
A46: Jeanne | AC46: =COUNTIF(B46:AB46,"x") -> 0
B47: =IF(COUNTIF(B46:B46,"CP")>=2,"X","") | C47: =IF(COUNTIF(C46:C46,"CP")>=2,"X","") | D47: =IF(COUNTIF(D46:D46,"CP")>=2,"X","") | E47: =IF(COUNTIF(E46:E46,"CP")>=2,"X","") | F47: =IF(COUNTIF(F46:F46,"CP")>=2,"X","") | G47: =IF(COUNTIF(G46:G46,"CP")>=2,"X","") | H47: =IF(COUNTIF(H46:H46,"CP")>=2,"X","") | I47: =IF(COUNTIF(I46:I46,"CP")>=2,"X","") | ... AB47: =IF(COUNTIF(AB46:AB46,"CP")>=2,"X","")
B48: =COUNTIF(FERIES!$B$17:$B$27,#REF!) -> 0 | C48: =COUNTIF(FERIES!$B$17:$B$27,#REF!) -> 0 | D48: =COUNTIF(FERIES!$B$17:$B$27,#REF!) -> 0 | E48: =COUNTIF(FERIES!$B$17:$B$27,#REF!) -> 0 | F48: =COUNTIF(FERIES!$B$17:$B$27,#REF!) -> 0 | G48: =COUNTIF(FERIES!$B$17:$B$27,#REF!) -> 0 | H48: =COUNTIF(FERIES!$B$17:$B$27,#REF!) -> 0 | I48: =COUNTIF(FERIES!$B$17:$B$27,#REF!) -> 0 | ... AB48: =COUNTIF(FERIES!$B$17:$B$27,#REF!) -> 0
A49: AOUT
A50: Sem | B50: =WEEKNUM(B51,21) -> 31 | C50: =WEEKNUM(C51,21) -> 31 | D50: =WEEKNUM(D51,21) -> 31 | E50: =WEEKNUM(E51,21) -> 31 | F50: =WEEKNUM(F51,21) -> 31 | G50: =WEEKNUM(G51,21) -> 31 | H50: =WEEKNUM(H51,21) -> 32 | I50: =WEEKNUM(I51,21) -> 32 | ... AA50: =WEEKNUM(AA51,21) -> 35
A51: Jour | B51: =IF(WEEKDAY(DATE($B$4,8,1),2)=7,DATE($B$4,8,1)+1,DATE($B$4,8,1)) -> 44774 | C51: =IF(WEEKDAY(B51,2)=6,B51+2,B51+1) -> 44775 | D51: =IF(WEEKDAY(C51,2)=6,C51+2,C51+1) -> 44776 | E51: =IF(WEEKDAY(D51,2)=6,D51+2,D51+1) -> 44777 | F51: =IF(WEEKDAY(E51,2)=6,E51+2,E51+1) -> 44778 | G51: =IF(WEEKDAY(F51,2)=6,F51+2,F51+1) -> 44779 | H51: =IF(WEEKDAY(G51,2)=6,G51+2,G51+1) -> 44781 | I51: =IF(WEEKDAY(H51,2)=6,H51+2,H51+1) -> 44782 | J51: =IF(WEEKDAY(I51,2)=6,I51+2,I51+1) -> 44783 | ... AA51: =IF(WEEKDAY(Z51,2)=6,Z51+2,Z51+1) -> 44803
A52: Jeanne | AC52: =COUNTIF(B52:AA52,"x") -> 0
B53: =IF(COUNTIF(B52:B52,"CP")>=2,"X","") | C53: =IF(COUNTIF(C52:C52,"CP")>=2,"X","") | D53: =IF(COUNTIF(D52:D52,"CP")>=2,"X","") | E53: =IF(COUNTIF(E52:E52,"CP")>=2,"X","") | F53: =IF(COUNTIF(F52:F52,"CP")>=2,"X","") | G53: =IF(COUNTIF(G52:G52,"CP")>=2,"X","") | H53: =IF(COUNTIF(H52:H52,"CP")>=2,"X","") | I53: =IF(COUNTIF(I52:I52,"CP")>=2,"X","") | ... AA53: =IF(COUNTIF(AA52:AA52,"CP")>=2,"X","")
B54: =COUNTIF(FERIES!$B$3:$B$13,#REF!) -> 0 | C54: =COUNTIF(FERIES!$B$3:$B$13,#REF!) -> 0 | D54: =COUNTIF(FERIES!$B$3:$B$13,#REF!) -> 0 | E54: =COUNTIF(FERIES!$B$3:$B$13,#REF!) -> 0 | F54: =COUNTIF(FERIES!$B$3:$B$13,#REF!) -> 0 | G54: =COUNTIF(FERIES!$B$3:$B$13,#REF!) -> 0 | H54: =COUNTIF(FERIES!$B$3:$B$13,#REF!) -> 0 | I54: =COUNTIF(FERIES!$B$3:$B$13,#REF!) -> 0 | ... AB54: =COUNTIF(FERIES!$B$3:$B$13,#REF!) -> 0
A55: SEPTEMBRE
A56: Sem | B56: =WEEKNUM(B57,21) -> 35 | C56: =WEEKNUM(C57,21) -> 35 | D56: =WEEKNUM(D57,21) -> 35 | E56: =WEEKNUM(E57,21) -> 36 | F56: =WEEKNUM(F57,21) -> 36 | G56: =WEEKNUM(G57,21) -> 36 | H56: =WEEKNUM(H57,21) -> 36 | I56: =WEEKNUM(I57,21) -> 36 | ... AA56: =WEEKNUM(AA57,21) -> 39
A57: Jour | B57: =IF(WEEKDAY(DATE(B4,9,1),2)=7,DATE(B4,9,1)+1,DATE(B4,9,1)) -> 44805 | C57: =IF(WEEKDAY(B57,2)=6,B57+2,B57+1) -> 44806 | D57: =IF(WEEKDAY(C57,2)=6,C57+2,C57+1) -> 44807 | E57: =IF(WEEKDAY(D57,2)=6,D57+2,D57+1) -> 44809 | F57: =IF(WEEKDAY(E57,2)=6,E57+2,E57+1) -> 44810 | G57: =IF(WEEKDAY(F57,2)=6,F57+2,F57+1) -> 44811 | H57: =IF(WEEKDAY(G57,2)=6,G57+2,G57+1) -> 44812 | I57: =IF(WEEKDAY(H57,2)=6,H57+2,H57+1) -> 44813 | J57: =IF(WEEKDAY(I57,2)=6,I57+2,I57+1) -> 44814 | ... AA57: =IF(WEEKDAY(Z57,2)=6,Z57+2,Z57+1) -> 44834
A58: Jeanne | AC58: =COUNTIF(B58:AA58,"x") -> 0
B59: =IF(COUNTIF(B58:B58,"CP")>=2,"X","") | C59: =IF(COUNTIF(C58:C58,"CP")>=2,"X","") | D59: =IF(COUNTIF(D58:D58,"CP")>=2,"X","") | E59: =IF(COUNTIF(E58:E58,"CP")>=2,"X","") | F59: =IF(COUNTIF(F58:F58,"CP")>=2,"X","") | G59: =IF(COUNTIF(G58:G58,"CP")>=2,"X","") | H59: =IF(COUNTIF(H58:H58,"CP")>=2,"X","") | I59: =IF(COUNTIF(I58:I58,"CP")>=2,"X","") | ... AA59: =IF(COUNTIF(AA58:AA58,"CP")>=2,"X","")
A61: OCTOBRE
A62: Sem | B62: =WEEKNUM(B63,21) -> 39 | C62: =WEEKNUM(C63,21) -> 40 | D62: =WEEKNUM(D63,21) -> 40 | E62: =WEEKNUM(E63,21) -> 40 | F62: =WEEKNUM(F63,21) -> 40 | G62: =WEEKNUM(G63,21) -> 40 | H62: =WEEKNUM(H63,21) -> 40 | I62: =WEEKNUM(I63,21) -> 41 | ... AA62: =WEEKNUM(AA63,21) -> 44
A63: Jour | B63: =IF(WEEKDAY(DATE(B4,10,1),2)=7,DATE(B4,10,1)+1,DATE(B4,10,1)) -> 44835 | C63: =IF(WEEKDAY(B63,2)=6,B63+2,B63+1) -> 44837 | D63: =IF(WEEKDAY(C63,2)=6,C63+2,C63+1) -> 44838 | E63: =IF(WEEKDAY(D63,2)=6,D63+2,D63+1) -> 44839 | F63: =IF(WEEKDAY(E63,2)=6,E63+2,E63+1) -> 44840 | G63: =IF(WEEKDAY(F63,2)=6,F63+2,F63+1) -> 44841 | H63: =IF(WEEKDAY(G63,2)=6,G63+2,G63+1) -> 44842 | I63: =IF(WEEKDAY(H63,2)=6,H63+2,H63+1) -> 44844 | J63: =IF(WEEKDAY(I63,2)=6,I63+2,I63+1) -> 44845 | ... AA63: =IF(WEEKDAY(Z63,2)=6,Z63+2,Z63+1) -> 44865
A64: Jeanne | AC64: =COUNTIF(B64:AA64,"x") -> 0
B65: =IF(COUNTIF(B64:B64,"CP")>=2,"X","") | C65: =IF(COUNTIF(C64:C64,"CP")>=2,"X","") | D65: =IF(COUNTIF(D64:D64,"CP")>=2,"X","") | E65: =IF(COUNTIF(E64:E64,"CP")>=2,"X","") | F65: =IF(COUNTIF(F64:F64,"CP")>=2,"X","") | G65: =IF(COUNTIF(G64:G64,"CP")>=2,"X","") | H65: =IF(COUNTIF(H64:H64,"CP")>=2,"X","") | I65: =IF(COUNTIF(I64:I64,"CP")>=2,"X","") | ... AA65: =IF(COUNTIF(AA64:AA64,"CP")>=2,"X","")
B66: =COUNTIF(FERIES!$B$17:$B$27,#REF!) -> 0 | C66: =COUNTIF(FERIES!$B$17:$B$27,#REF!) -> 0 | D66: =COUNTIF(FERIES!$B$17:$B$27,#REF!) -> 0 | E66: =COUNTIF(FERIES!$B$17:$B$27,#REF!) -> 0 | F66: =COUNTIF(FERIES!$B$17:$B$27,#REF!) -> 0 | G66: =COUNTIF(FERIES!$B$17:$B$27,#REF!) -> 0 | H66: =COUNTIF(FERIES!$B$17:$B$27,#REF!) -> 0 | I66: =COUNTIF(FERIES!$B$17:$B$27,#REF!) -> 0 | ... AA66: =COUNTIF(FERIES!$B$17:$B$27,#REF!) -> 0
A67: NOVEMBRE
A68: Sem | B68: =WEEKNUM(B69,21) -> 44 | C68: =WEEKNUM(C69,21) -> 44 | D68: =WEEKNUM(D69,21) -> 44 | E68: =WEEKNUM(E69,21) -> 44 | F68: =WEEKNUM(F69,21) -> 44 | G68: =WEEKNUM(G69,21) -> 45 | H68: =WEEKNUM(H69,21) -> 45 | I68: =WEEKNUM(I69,21) -> 45 | ... AA68: =WEEKNUM(AA69,21) -> 48
A69: Jour | B69: =IF(WEEKDAY(DATE(B4,11,1),2)=7,DATE(B4,11,1)+1,DATE(B4,11,1)) -> 44866 | C69: =IF(WEEKDAY(B69,2)=6,B69+2,B69+1) -> 44867 | D69: =IF(WEEKDAY(C69,2)=6,C69+2,C69+1) -> 44868 | E69: =IF(WEEKDAY(D69,2)=6,D69+2,D69+1) -> 44869 | F69: =IF(WEEKDAY(E69,2)=6,E69+2,E69+1) -> 44870 | G69: =IF(WEEKDAY(F69,2)=6,F69+2,F69+1) -> 44872 | H69: =IF(WEEKDAY(G69,2)=6,G69+2,G69+1) -> 44873 | I69: =IF(WEEKDAY(H69,2)=6,H69+2,H69+1) -> 44874 | J69: =IF(WEEKDAY(I69,2)=6,I69+2,I69+1) -> 44875 | ... AA69: =IF(WEEKDAY(Z69,2)=6,Z69+2,Z69+1) -> 44895
A70: Jeanne | AC70: =COUNTIF(B70:AA70,"x") -> 0
B71: =IF(COUNTIF(B70:B70,"CP")>=2,"X","") | C71: =IF(COUNTIF(C70:C70,"CP")>=2,"X","") | D71: =IF(COUNTIF(D70:D70,"CP")>=2,"X","") | E71: =IF(COUNTIF(E70:E70,"CP")>=2,"X","") | F71: =IF(COUNTIF(F70:F70,"CP")>=2,"X","") | G71: =IF(COUNTIF(G70:G70,"CP")>=2,"X","") | H71: =IF(COUNTIF(H70:H70,"CP")>=2,"X","") | I71: =IF(COUNTIF(I70:I70,"CP")>=2,"X","") | ... AA71: =IF(COUNTIF(AA70:AA70,"CP")>=2,"X","")
B72: =COUNTIF(FERIES!$B$3:$B$13,#REF!) -> 0 | C72: =COUNTIF(FERIES!$B$3:$B$13,#REF!) -> 0 | D72: =COUNTIF(FERIES!$B$3:$B$13,#REF!) -> 0 | E72: =COUNTIF(FERIES!$B$3:$B$13,#REF!) -> 0 | F72: =COUNTIF(FERIES!$B$3:$B$13,#REF!) -> 0 | G72: =COUNTIF(FERIES!$B$3:$B$13,#REF!) -> 0 | H72: =COUNTIF(FERIES!$B$3:$B$13,#REF!) -> 0 | I72: =COUNTIF(FERIES!$B$3:$B$13,#REF!) -> 0 | ... AA72: =COUNTIF(FERIES!$B$3:$B$13,#REF!) -> 0
A73: DECEMBRE
A74: Sem | B74: =WEEKNUM(B75,21) -> 48 | C74: =WEEKNUM(C75,21) -> 48 | D74: =WEEKNUM(D75,21) -> 48 | E74: =WEEKNUM(E75,21) -> 49 | F74: =WEEKNUM(F75,21) -> 49 | G74: =WEEKNUM(G75,21) -> 49 | H74: =WEEKNUM(H75,21) -> 49 | I74: =WEEKNUM(I75,21) -> 49 | ... AB74: =WEEKNUM(AB75,21) -> 52
A75: Jour | B75: =IF(WEEKDAY(DATE(B4,12,1),2)=7,DATE(B4,12,1)+1,DATE(B4,12,1)) -> 44896 | C75: =IF(WEEKDAY(B75,2)=6,B75+2,B75+1) -> 44897 | D75: =IF(WEEKDAY(C75,2)=6,C75+2,C75+1) -> 44898 | E75: =IF(WEEKDAY(D75,2)=6,D75+2,D75+1) -> 44900 | F75: =IF(WEEKDAY(E75,2)=6,E75+2,E75+1) -> 44901 | G75: =IF(WEEKDAY(F75,2)=6,F75+2,F75+1) -> 44902 | H75: =IF(WEEKDAY(G75,2)=6,G75+2,G75+1) -> 44903 | I75: =IF(WEEKDAY(H75,2)=6,H75+2,H75+1) -> 44904 | J75: =IF(WEEKDAY(I75,2)=6,I75+2,I75+1) -> 44905 | ... AB75: =IF(WEEKDAY(AA75,2)=6,AA75+2,AA75+1) -> 44926
A76: Jeanne | AC76: =COUNTIF(B76:AB76,"x") -> 0

Sheet FERIES
B2: 2021 | D2: Pâques | F2: 2020 | H2: Pâques
B3: =DATE($B$2,1,1) -> 44197 | D3: =ROUND(DATE(B2, 4, MOD(234-11*MOD(B2, 19), 30))/7, 0)*7-6 -> 44290 | F3: =DATE($F$2,1,1) -> 43831 | H3: =ROUND(DATE(F2, 4, MOD(234-11*MOD(F2, 19), 30))/7, 0)*7-6 -> 43933
B4: =DATE($B$2,5,1) -> 44317 | F4: =DATE($F$2,5,1) -> 43952
B5: =DATE($B$2,5,8) -> 44324 | F5: =DATE($F$2,5,8) -> 43959
B6: =DATE($B$2,7,14) -> 44391 | F6: =DATE($F$2,7,14) -> 44026
B7: =DATE($B$2,8,15) -> 44423 | F7: =DATE($F$2,8,15) -> 44058
B8: =DATE($B$2,11,1) -> 44501 | F8: =DATE($F$2,11,1) -> 44136
B9: =DATE($B$2,11,11) -> 44511 | F9: =DATE($F$2,11,11) -> 44146
B10: =DATE($B$2,12,25) -> 44555 | F10: =DATE($F$2,12,25) -> 44190
B11: =D3+1 -> 44291 | F11: =H3+1 -> 43934
B12: =D3+39 -> 44329 | F12: =H3+39 -> 43972
B13: =D3+50 -> 44340 | F13: =H3+50 -> 43983
B16: 2022 | D16: Pâques
B17: =DATE($B$16,1,1) -> 44562 | D17: =ROUND(DATE(B16, 4, MOD(234-11*MOD(B16, 19), 30))/7, 0)*7-6 -> 44668
B18: =DATE(B16,5,1) -> 44682
B19: =DATE($B$16,5,8) -> 44689
B20: =DATE($B$16,7,14) -> 44756
B21: =DATE($B$16,8,15) -> 44788
B22: =DATE($B$16,11,1) -> 44866
B23: =DATE($B$16,11,11) -> 44876
B24: =DATE($B$16,12,25) -> 44920
B25: =D17+1 -> 44669
B26: =D17+39 -> 44707
B27: =D17+50 -> 44718
B30: 2023 | D30: Pâques
B31: =DATE($B$30,1,1) -> 44927 | D31: =ROUND(DATE(B30, 4, MOD(234-11*MOD(B30, 19), 30))/7, 0)*7-6 -> 45025
B32: =DATE($B$30,5,1) -> 45047
B33: =DATE($B$30,5,8) -> 45054
B34: =DATE($B$30,7,14) -> 45121
B35: =DATE($B$30,8,15) -> 45153
B36: =DATE($B$30,11,1) -> 45231
B37: =DATE($B$30,11,11) -> 45241
B38: =DATE($B$30,12,25) -> 45285
B39: =D31+1 -> 45026
B40: =D31+39 -> 45064
B41: =D31+50 -> 45075
B44: 2024 | D44: Pâques
B45: =DATE($B$44,1,1) -> 45292 | D45: =ROUND(DATE(B44, 4, MOD(234-11*MOD(B44, 19), 30))/7, 0)*7-6 -> 45382
B46: =DATE($B$44,5,1) -> 45413
B47: =DATE($B$44,5,8) -> 45420
B48: =DATE($B$44,7,14) -> 45487
B49: =DATE($B$44,8,15) -> 45519
B50: =DATE($B$44,11,1) -> 45597
B51: =DATE($B$44,11,11) -> 45607
B52: =DATE($B$44,12,25) -> 45651
B53: =D45+1 -> 45383
B54: =D45+39 -> 45421
B55: =D45+50 -> 45432
B58: 2025 | D58: Pâques
B59: =DATE($B$58,1,1) -> 45658 | D59: =ROUND(DATE(B58, 4, MOD(234-11*MOD(B58, 19), 30))/7, 0)*7-6 -> 45767
B60: =DATE($B$58,5,1) -> 45778
B61: =DATE($B$58,5,8) -> 45785
B62: =DATE($B$58,7,14) -> 45852
B63: =DATE($B$58,8,15) -> 45884
B64: =DATE($B$58,11,1) -> 45962
B65: =DATE($B$58,11,11) -> 45972
B66: =DATE($B$58,12,25) -> 46016
B67: =D59+1 -> 45768
B68: =D59+39 -> 45806
B69: =D59+50 -> 45817
B72: 2026 | D72: Pâques
B73: =DATE($B$72,1,1) -> 46023 | D73: =ROUND(DATE(B72, 4, MOD(234-11*MOD(B72, 19), 30))/7, 0)*7-6 -> 46117
B74: =DATE($B$72,5,1) -> 46143
B75: =DATE($B$72,5,8) -> 46150
B76: =DATE($B$72,7,14) -> 46217
B77: =DATE($B$72,8,15) -> 46249
B78: =DATE($B$72,11,1) -> 46327
B79: =DATE($B$72,11,11) -> 46337
B80: =DATE($B$72,12,25) -> 46381
B81: =D73+1 -> 46118
B82: =D73+39 -> 46156
B83: =D73+50 -> 46167
B86: 2027 | D86: Pâques
B87: =DATE($B$86,1,1) -> 46388 | D87: =ROUND(DATE(B86, 4, MOD(234-11*MOD(B86, 19), 30))/7, 0)*7-6 -> 46474
B88: =DATE($B$86,5,1) -> 46508
B89: =DATE($B$86,5,8) -> 46515
B90: =DATE($B$86,7,14) -> 46582
B91: =DATE($B$86,8,15) -> 46614
B92: =DATE($B$86,11,1) -> 46692
B93: =DATE($B$86,11,11) -> 46702
B94: =DATE($B$86,12,25) -> 46746
B95: =D87+1 -> 46475
B96: =D87+39 -> 46513
B97: =D87+50 -> 46524
B100: 2028 | D100: Pâques
B101: =DATE($B$100,1,1) -> 46753 | D101: =ROUND(DATE(B100, 4, MOD(234-11*MOD(B100, 19), 30))/7, 0)*7-6 -> 46859
B102: =DATE($B$100,5,1) -> 46874
B103: =DATE($B$100,5,8) -> 46881
B104: =DATE($B$100,7,14) -> 46948
B105: =DATE($B$100,8,15) -> 46980
B106: =DATE($B$100,11,1) -> 47058
B107: =DATE($B$100,11,11) -> 47068
B108: =DATE($B$100,12,25) -> 47112
B109: =D101+1 -> 46860
B110: =D101+39 -> 46898
B111: =D101+50 -> 46909
B114: 2029 | D114: Pâques
B115: =DATE($B$114,1,1) -> 47119 | D115: =ROUND(DATE(B114, 4, MOD(234-11*MOD(B114, 19), 30))/7, 0)*7-6 -> 47209
B116: =DATE($B$114,5,1) -> 47239
B117: =DATE($B$114,5,8) -> 47246
...

Sheet 2021
A1: Planning | H1: Total Congés sur l'année | M1: Total Maladie sur l'année
H3: Charlotte | I3: Alex | J3: Liza | K3: Mélanie | M3: Charlotte | N3: Alex | O3: Liza | P3: Mélanie
E4: Année | F4: 2021 | H4: =COUNTIF(C6:C1048576,"CP") -> 2 | I4: =COUNTIF(D6:D1048576,"CP") -> 1 | J4: =COUNTIF(E6:E1048576,"CP") -> 0 | K4: =COUNTIF(F6:F1048576,"CP") -> 0 | M4: =COUNTIF(C6:C1048576,"M") -> 0 | N4: =COUNTIF(D6:D1048576,"M") -> 0 | O4: =COUNTIF(E6:E1048576,"M") -> 1 | P4: =COUNTIF(F6:F1048576,"M") -> 0
A6: Sem | B6: Jour | C6: Charlotte | D6: Alex | E6: Liza | F6: Mélanie
A7: =WEEKNUM(B7,21) -> 53 | B7: =IF(WEEKDAY(DATE(F4,1,1),2)=7,DATE(F4,1,1)+1,DATE(F4,1,1)) -> 44197 | G7: =IF(COUNTIF(C7:F7,"CP")>=2,"X","")
A8: =WEEKNUM(B8,21) -> 53 | B8: =IF(WEEKDAY(B7,2)=6,B7+2,B7+1) -> 44198 | C8: CP | G8: =IF(COUNTIF(C8:F8,"CP")>=2,"X","")
A9: =WEEKNUM(B9,21) -> 1 | B9: =IF(WEEKDAY(B8,2)=6,B8+2,B8+1) -> 44200 | C9: CP | D9: CP | E9: M | G9: =IF(COUNTIF(C9:F9,"CP")>=2,"X","") -> X
A10: =WEEKNUM(B10,21) -> 1 | B10: =IF(WEEKDAY(B9,2)=6,B9+2,B9+1) -> 44201 | G10: =IF(COUNTIF(C10:F10,"CP")>=2,"X","")
A11: =WEEKNUM(B11,21) -> 1 | B11: =IF(WEEKDAY(B10,2)=6,B10+2,B10+1) -> 44202 | G11: =IF(COUNTIF(C11:F11,"CP")>=2,"X","")
A12: =WEEKNUM(B12,21) -> 1 | B12: =IF(WEEKDAY(B11,2)=6,B11+2,B11+1) -> 44203 | G12: =IF(COUNTIF(C12:F12,"CP")>=2,"X","")
A13: =WEEKNUM(B13,21) -> 1 | B13: =IF(WEEKDAY(B12,2)=6,B12+2,B12+1) -> 44204 | G13: =IF(COUNTIF(C13:F13,"CP")>=2,"X","")
A14: =WEEKNUM(B14,21) -> 1 | B14: =IF(WEEKDAY(B13,2)=6,B13+2,B13+1) -> 44205 | G14: =IF(COUNTIF(C14:F14,"CP")>=2,"X","")
A15: =WEEKNUM(B15,21) -> 2 | B15: =IF(WEEKDAY(B14,2)=6,B14+2,B14+1) -> 44207 | G15: =IF(COUNTIF(C15:F15,"CP")>=2,"X","")
A16: =WEEKNUM(B16,21) -> 2 | B16: =IF(WEEKDAY(B15,2)=6,B15+2,B15+1) -> 44208 | G16: =IF(COUNTIF(C16:F16,"CP")>=2,"X","")
A17: =WEEKNUM(B17,21) -> 2 | B17: =IF(WEEKDAY(B16,2)=6,B16+2,B16+1) -> 44209 | G17: =IF(COUNTIF(C17:F17,"CP")>=2,"X","")
A18: =WEEKNUM(B18,21) -> 2 | B18: =IF(WEEKDAY(B17,2)=6,B17+2,B17+1) -> 44210 | G18: =IF(COUNTIF(C18:F18,"CP")>=2,"X","")
A19: =WEEKNUM(B19,21) -> 2 | B19: =IF(WEEKDAY(B18,2)=6,B18+2,B18+1) -> 44211 | G19: =IF(COUNTIF(C19:F19,"CP")>=2,"X","")
A20: =WEEKNUM(B20,21) -> 2 | B20: =IF(WEEKDAY(B19,2)=6,B19+2,B19+1) -> 44212 | G20: =IF(COUNTIF(C20:F20,"CP")>=2,"X","")
A21: =WEEKNUM(B21,21) -> 3 | B21: =IF(WEEKDAY(B20,2)=6,B20+2,B20+1) -> 44214 | G21: =IF(COUNTIF(C21:F21,"CP")>=2,"X","")
... A319: =WEEKNUM(B319,21) -> 52 | B319: =IF(WEEKDAY(B318,2)=6,B318+2,B318+1) -> 44561 | G319: =IF(COUNTIF(C319:F319,"CP")>=2,"X","")
