Workbook
Name MaFonction: LAMBDA(FERIES!XEZ1048565,ROUND(DATE(Année,4,MOD(234-11*MOD(Année,19),30))/7,0)*7-6)

Sheet 2022
A1: Tableau KM & Repas | H1: Total des kilomètres parcourus | Q1: Total du montant des repas
H3: Km | J3: Prix | L3: Total | Q3: Nombres | S3: Prix | U3: Total
A4: Année | B4: 2022 | D4: Feriés | E4: Vscolaire | H4: =SUM(Q4*69) -> 0 | L4: =SUM(H4*J4) -> 0 | Q4: =SUM(AC10:AC76) -> 0 | S4: 4.95 | U4: =SUM(Q4*S4) -> 0
D5: M | E5: Maladie
A7: JANVIER
A8: Sem | B8: =WEEKNUM(B22,21) -> 52 | C8: =WEEKNUM(C9,21) -> 1 | D8: =WEEKNUM(D9,21) -> 1 | E8: =WEEKNUM(E9,21) -> 1 | F8: =WEEKNUM(F9,21) -> 1 | G8: =WEEKNUM(G9,21) -> 1 | H8: =WEEKNUM(H9,21) -> 1 | I8: =WEEKNUM(I9,21) -> 2 | J8: =WEEKNUM(J9,21) -> 2 | ... AA8: =WEEKNUM(AA9,21) -> 5
A9: Jour | B9: =IF(WEEKDAY(DATE($B$4,1,1),2)=7,DATE($B$4,1,1)+1,DATE($B$4,1,1)) -> 44562 | C9: =IF(WEEKDAY(B9,2)=6,B9+2,B9+1) -> 44564 | D9: =IF(WEEKDAY(C9,2)=6,C9+2,C9+1) -> 44565 | E9: =IF(WEEKDAY(D9,2)=6,D9+2,D9+1) -> 44566 | F9: =IF(WEEKDAY(E9,2)=6,E9+2,E9+1) -> 44567 | G9: =IF(WEEKDAY(F9,2)=6,F9+2,F9+1) -> 44568 | H9: =IF(WEEKDAY(G9,2)=6,G9+2,G9+1) -> 44569 | I9: =IF(WEEKDAY(H9,2)=6,H9+2,H9+1) -> 44571 | J9: =IF(WEEKDAY(I9,2)=6,I9+2,I9+1) -> 44572 | ... AA9: =IF(WEEKDAY(Z9,2)=6,Z9+2,Z9+1) -> 44592
A10: Jeanne | AC10: =COUNTIF(B10:AA10,"x") -> 0
B11: =IF(COUNTIF(B10:B10,"CP")>=2,"X","") | C11: =IF(COUNTIF(C10:C10,"CP")>=2,"X","") | D11: =IF(COUNTIF(D10:D10,"CP")>=2,"X","") | E11: =IF(COUNTIF(E10:E10,"CP")>=2,"X","") | F11: =IF(COUNTIF(F10:F10,"CP")>=2,"X","") | G11: =IF(COUNTIF(G10:G10,"CP")>=2,"X","") | H11: =IF(COUNTIF(H10:H10,"CP")>=2,"X","") | I11: =IF(COUNTIF(I10:I10,"CP")>=2,"X","") | K11: =IF(COUNTIF(K10:K10,"CP")>=2,"X","") | L11: =IF(COUNTIF(L10:L10,"CP")>=2,"X","") | M11: =IF(COUNTIF(M10:M10,"CP")>=2,"X","") | N11: =IF(COUNTIF(N10:N10,"CP")>=2,"X","") | O11: =IF(COUNTIF(O10:O10,"CP")>=2,"X","") | P11: =IF(COUNTIF(P10:P10,"CP")>=2,"X","") | Q11: =IF(COUNTIF(Q10:Q10,"CP")>=2,"X","") | R11: =IF(COUNTIF(R10:R10,"CP")>=2,"X","") | ... AA11: =IF(COUNTIF(AA10:AA10,"CP")>=2,"X","")
A13: FEVRIER
A14: Sem | B14: =WEEKNUM(B15,21) -> 5 | C14: =WEEKNUM(C15,21) -> 5 | D14: =WEEKNUM(D15,21) -> 5 | E14: =WEEKNUM(E15,21) -> 5 | F14: =WEEKNUM(F15,21) -> 5 | G14: =WEEKNUM(G15,21) -> 6 | H14: =WEEKNUM(H15,21) -> 6 | I14: =WEEKNUM(I15,21) -> 6 | ... Y14: =WEEKNUM(Y15,21) -> 9
A15: Jour | B15: =IF(WEEKDAY(DATE($B$4,2,1),2)=7,DATE($B$4,2,1)+1,DATE($B$4,2,1)) -> 44593 | C15: =IF(WEEKDAY(B15,2)=6,B15+2,B15+1) -> 44594 | D15: =IF(WEEKDAY(C15,2)=6,C15+2,C15+1) -> 44595 | E15: =IF(WEEKDAY(D15,2)=6,D15+2,D15+1) -> 44596 | F15: =IF(WEEKDAY(E15,2)=6,E15+2,E15+1) -> 44597 | G15: =IF(WEEKDAY(F15,2)=6,F15+2,F15+1) -> 44599 | H15: =IF(WEEKDAY(G15,2)=6,G15+2,G15+1) -> 44600 | I15: =IF(WEEKDAY(H15,2)=6,H15+2,H15+1) -> 44601 | J15: =IF(WEEKDAY(I15,2)=6,I15+2,I15+1) -> 44602 | ... Y15: =IF(WEEKDAY(X15,2)=6,X15+2,X15+1) -> 44620
A16: Jeanne | AC16: =COUNTIF(B16:Y16,"x") -> 0
B17: =IF(COUNTIF(B16:B16,"CP")>=2,"X","") | C17: =IF(COUNTIF(C16:C16,"CP")>=2,"X","") | D17: =IF(COUNTIF(D16:D16,"CP")>=2,"X","") | E17: =IF(COUNTIF(E16:E16,"CP")>=2,"X","") | F17: =IF(COUNTIF(F16:F16,"CP")>=2,"X","") | G17: =IF(COUNTIF(G16:G16,"CP")>=2,"X","") | H17: =IF(COUNTIF(H16:H16,"CP")>=2,"X","") | I17: =IF(COUNTIF(I16:I16,"CP")>=2,"X","") | ... AA17: =IF(COUNTIF(AA16:AA16,"CP")>=2,"X","")
A19: MARS
A20: Sem | B20: =WEEKNUM(B21,21) -> 9 | C20: =WEEKNUM(C21,21) -> 9 | D20: =WEEKNUM(D21,21) -> 9 | E20: =WEEKNUM(E21,21) -> 9 | F20: =WEEKNUM(F21,21) -> 9 | G20: =WEEKNUM(G21,21) -> 10 | H20: =WEEKNUM(H21,21) -> 10 | I20: =WEEKNUM(I21,21) -> 10 | ... AA20: =WEEKNUM(AA21,21) -> 13
A21: Jour | B21: =IF(WEEKDAY(DATE($B$4,3,1),2)=7,DATE($B$4,3,1)+1,DATE($B$4,3,1)) -> 44621 | C21: =IF(WEEKDAY(B21,2)=6,B21+2,B21+1) -> 44622 | D21: =IF(WEEKDAY(C21,2)=6,C21+2,C21+1) -> 44623 | E21: =IF(WEEKDAY(D21,2)=6,D21+2,D21+1) -> 44624 | F21: =IF(WEEKDAY(E21,2)=6,E21+2,E21+1) -> 44625 | G21: =IF(WEEKDAY(F21,2)=6,F21+2,F21+1) -> 44627 | H21: =IF(WEEKDAY(G21,2)=6,G21+2,G21+1) -> 44628 | I21: =IF(WEEKDAY(H21,2)=6,H21+2,H21+1) -> 44629 | J21: =IF(WEEKDAY(I21,2)=6,I21+2,I21+1) -> 44630 | ... AA21: =IF(WEEKDAY(Z21,2)=6,Z21+2,Z21+1) -> 44650
A22: Jeanne | AC22: =COUNTIF(B22:AA22,"x") -> 0
B23: =IF(COUNTIF(B22:B22,"CP")>=2,"X","") | C23: =IF(COUNTIF(C22:C22,"CP")>=2,"X","") | D23: =IF(COUNTIF(D22:D22,"CP")>=2,"X","") | E23: =IF(COUNTIF(E22:E22,"CP")>=2,"X","") | F23: =IF(COUNTIF(F22:F22,"CP")>=2,"X","") | G23: =IF(COUNTIF(G22:G22,"CP")>=2,"X","") | H23: =IF(COUNTIF(H22:H22,"CP")>=2,"X","") | I23: =IF(COUNTIF(I22:I22,"CP")>=2,"X","") | ... AA23: =IF(COUNTIF(AA22:AA22,"CP")>=2,"X","")
B24: =COUNTIF(FERIES!$B$17:$B$27,'2022'!B27) -> 0 | C24: =COUNTIF(FERIES!$B$17:$B$27,'2022'!C27) -> 0 | D24: =COUNTIF(FERIES!$B$17:$B$27,'2022'!D27) -> 0 | E24: =COUNTIF(FERIES!$B$17:$B$27,'2022'!E27) -> 0 | F24: =COUNTIF(FERIES!$B$17:$B$27,'2022'!F27) -> 0 | G24: =COUNTIF(FERIES!$B$17:$B$27,'2022'!G27) -> 0 | H24: =COUNTIF(FERIES!$B$17:$B$27,'2022'!H27) -> 0 | I24: =COUNTIF(FERIES!$B$17:$B$27,'2022'!I27) -> 0 | ... AA24: =COUNTIF(FERIES!$B$17:$B$27,'2022'!AA27) -> 0
A25: AVRIL
A26: Sem | B26: =WEEKNUM(B27,21) -> 13 | C26: =WEEKNUM(C27,21) -> 13 | D26: =WEEKNUM(D27,21) -> 14 | E26: =WEEKNUM(E27,21) -> 14 | F26: =WEEKNUM(F27,21) -> 14 | G26: =WEEKNUM(G27,21) -> 14 | H26: =WEEKNUM(H27,21) -> 14 | I26: =WEEKNUM(I27,21) -> 14 | ... AA26: =WEEKNUM(AA27,21) -> 17
A27: Jour | B27: =IF(WEEKDAY(DATE($B$4,4,1),2)=7,DATE($B$4,4,1)+1,DATE($B$4,4,1)) -> 44652 | C27: =IF(WEEKDAY(B27,2)=6,B27+2,B27+1) -> 44653 | D27: =IF(WEEKDAY(C27,2)=6,C27+2,C27+1) -> 44655 | E27: =IF(WEEKDAY(D27,2)=6,D27+2,D27+1) -> 44656 | F27: =IF(WEEKDAY(E27,2)=6,E27+2,E27+1) -> 44657 | G27: =IF(WEEKDAY(F27,2)=6,F27+2,F27+1) -> 44658 | H27: =IF(WEEKDAY(G27,2)=6,G27+2,G27+1) -> 44659 | I27: =IF(WEEKDAY(H27,2)=6,H27+2,H27+1) -> 44660 | J27: =IF(WEEKDAY(I27,2)=6,I27+2,I27+1) -> 44662 | ... AA27: =IF(WEEKDAY(Z27,2)=6,Z27+2,Z27+1) -> 44681
A28: Jeanne | AC28: =COUNTIF(B28:AA28,"x") -> 0
B29: =IF(COUNTIF(B28:B28,"CP")>=2,"X","") | C29: =IF(COUNTIF(C28:C28,"CP")>=2,"X","") | D29: =IF(COUNTIF(D28:D28,"CP")>=2,"X","") | E29: =IF(COUNTIF(E28:E28,"CP")>=2,"X","") | F29: =IF(COUNTIF(F28:F28,"CP")>=2,"X","") | G29: =IF(COUNTIF(G28:G28,"CP")>=2,"X","") | H29: =IF(COUNTIF(H28:H28,"CP")>=2,"X","") | I29: =IF(COUNTIF(I28:I28,"CP")>=2,"X","") | ... P29: =IF(COUNTIF(P28:P28,"CP")>=2,"X","") | R29: =IF(COUNTIF(R28:R28,"CP")>=2,"X","") | S29: =IF(COUNTIF(S28:S28,"CP")>=2,"X","") | T29: =IF(COUNTIF(T28:T28,"CP")>=2,"X","") | U29: =IF(COUNTIF(U28:U28,"CP")>=2,"X","") | V29: =IF(COUNTIF(V28:V28,"CP")>=2,"X","") | W29: =IF(COUNTIF(W28:W28,"CP")>=2,"X","") | X29: =IF(COUNTIF(X28:X28,"CP")>=2,"X","") | Y29: =IF(COUNTIF(Y28:Y28,"CP")>=2,"X","") | ... AA29: =IF(COUNTIF(AA28:AA28,"CP")>=2,"X","")
B30: =COUNTIF(FERIES!$B$17:$B$27,'2022'!B33) -> 0 | C30: =COUNTIF(FERIES!$B$17:$B$27,'2022'!C33) -> 0 | D30: =COUNTIF(FERIES!$B$17:$B$27,'2022'!D33) -> 0 | E30: =COUNTIF(FERIES!$B$17:$B$27,'2022'!E33) -> 0 | F30: =COUNTIF(FERIES!$B$17:$B$27,'2022'!F33) -> 0 | G30: =COUNTIF(FERIES!$B$17:$B$27,'2022'!G33) -> 0 | H30: =COUNTIF(FERIES!$B$17:$B$27,'2022'!H33) -> 0 | I30: =COUNTIF(FERIES!$B$17:$B$27,'2022'!I33) -> 0 | ... AA30: =COUNTIF(FERIES!$B$17:$B$27,'2022'!AA33) -> 0
A31: MAI
A32: Sem | B32: =WEEKNUM(B33,21) -> 18 | C32: =WEEKNUM(C33,21) -> 18 | D32: =WEEKNUM(D33,21) -> 18 | E32: =WEEKNUM(E33,21) -> 18 | F32: =WEEKNUM(F33,21) -> 18 | G32: =WEEKNUM(G33,21) -> 18 | H32: =WEEKNUM(H33,21) -> 19 | I32: =WEEKNUM(I33,21) -> 19 | ... AA32: =WEEKNUM(AA33,21) -> 22
A33: Jour | B33: =IF(WEEKDAY(DATE($B$4,5,1),2)=7,DATE($B$4,5,1)+1,DATE($B$4,5,1)) -> 44683 | C33: =IF(WEEKDAY(B33,2)=6,B33+2,B33+1) -> 44684 | D33: =IF(WEEKDAY(C33,2)=6,C33+2,C33+1) -> 44685 | E33: =IF(WEEKDAY(D33,2)=6,D33+2,D33+1) -> 44686 | F33: =IF(WEEKDAY(E33,2)=6,E33+2,E33+1) -> 44687 | G33: =IF(WEEKDAY(F33,2)=6,F33+2,F33+1) -> 44688 | H33: =IF(WEEKDAY(G33,2)=6,G33+2,G33+1) -> 44690 | I33: =IF(WEEKDAY(H33,2)=6,H33+2,H33+1) -> 44691 | J33: =IF(WEEKDAY(I33,2)=6,I33+2,I33+1) -> 44692 | ... AA33: =IF(WEEKDAY(Z33,2)=6,Z33+2,Z33+1) -> 44712
A34: Jeanne | AC34: =COUNTIF(B34:AA34,"x") -> 0
B35: =IF(COUNTIF(B34:B34,"CP")>=2,"X","") | C35: =IF(COUNTIF(C34:C34,"CP")>=2,"X","") | D35: =IF(COUNTIF(D34:D34,"CP")>=2,"X","") | E35: =IF(COUNTIF(E34:E34,"CP")>=2,"X","") | F35: =IF(COUNTIF(F34:F34,"CP")>=2,"X","") | G35: =IF(COUNTIF(G34:G34,"CP")>=2,"X","") | H35: =IF(COUNTIF(H34:H34,"CP")>=2,"X","") | I35: =IF(COUNTIF(I34:I34,"CP")>=2,"X","") | ... AA35: =IF(COUNTIF(AA34:AA34,"CP")>=2,"X","")
A37: JUIN
A38: Sem | B38: =WEEKNUM(B39,21) -> 22 | C38: =WEEKNUM(C39,21) -> 22 | D38: =WEEKNUM(D39,21) -> 22 | E38: =WEEKNUM(E39,21) -> 22 | F38: =WEEKNUM(F39,21) -> 23 | G38: =WEEKNUM(G39,21) -> 23 | H38: =WEEKNUM(H39,21) -> 23 | I38: =WEEKNUM(I39,21) -> 23 | ... AA38: =WEEKNUM(AA39,21) -> 26
A39: Jour | B39: =IF(WEEKDAY(DATE($B$4,6,1),2)=7,DATE($B$4,6,1)+1,DATE($B$4,6,1)) -> 44713 | C39: =IF(WEEKDAY(B39,2)=6,B39+2,B39+1) -> 44714 | D39: =IF(WEEKDAY(C39,2)=6,C39+2,C39+1) -> 44715 | E39: =IF(WEEKDAY(D39,2)=6,D39+2,D39+1) -> 44716 | F39: =IF(WEEKDAY(E39,2)=6,E39+2,E39+1) -> 44718 | G39: =IF(WEEKDAY(F39,2)=6,F39+2,F39+1) -> 44719 | H39: =IF(WEEKDAY(G39,2)=6,G39+2,G39+1) -> 44720 | I39: =IF(WEEKDAY(H39,2)=6,H39+2,H39+1) -> 44721 | J39: =IF(WEEKDAY(I39,2)=6,I39+2,I39+1) -> 44722 | ... AA39: =IF(WEEKDAY(Z39,2)=6,Z39+2,Z39+1) -> 44742
A40: Jeanne | AC40: =COUNTIF(B40:AA40,"x") -> 0
B41: =IF(COUNTIF(B40:B40,"CP")>=2,"X","") | C41: =IF(COUNTIF(C40:C40,"CP")>=2,"X","") | D41: =IF(COUNTIF(D40:D40,"CP")>=2,"X","") | E41: =IF(COUNTIF(E40:E40,"CP")>=2,"X","") | F41: =IF(COUNTIF(F40:F40,"CP")>=2,"X","") | G41: =IF(COUNTIF(G40:G40,"CP")>=2,"X","") | H41: =IF(COUNTIF(H40:H40,"CP")>=2,"X","") | I41: =IF(COUNTIF(I40:I40,"CP")>=2,"X","") | ... AA41: =IF(COUNTIF(AA40:AA40,"CP")>=2,"X","")
B42: =COUNTIF(FERIES!$B$17:$B$27,#REF!) -> 0 | C42: =COUNTIF(FERIES!$B$17:$B$27,#REF!) -> 0 | D42: =COUNTIF(FERIES!$B$17:$B$27,#REF!) -> 0 | E42: =COUNTIF(FERIES!$B$17:$B$27,#REF!) -> 0 | F42: =COUNTIF(FERIES!$B$17:$B$27,#REF!) -> 0 | G42: =COUNTIF(FERIES!$B$17:$B$27,#REF!) -> 0 | H42: =COUNTIF(FERIES!$B$17:$B$27,#REF!) -> 0 | I42: =COUNTIF(FERIES!$B$17:$B$27,#REF!) -> 0 | ... AB42: =COUNTIF(FERIES!$B$17:$B$27,#REF!) -> 0
A43: JUILLET
A44: Sem | B44: =WEEKNUM(B45,21) -> 26 | C44: =WEEKNUM(C45,21) -> 26 | D44: =WEEKNUM(D45,21) -> 27 | E44: =WEEKNUM(E45,21) -> 27 | F44: =WEEKNUM(F45,21) -> 27 | G44: =WEEKNUM(G45,21) -> 27 | H44: =WEEKNUM(H45,21) -> 27 | I44: =WEEKNUM(I45,21) -> 27 | ... AB44: =WEEKNUM(AB45,21) -> 31
A45: Jour | B45: =IF(WEEKDAY(DATE(B4,7,1),2)=7,DATE(B4,7,1)+1,DATE(B4,7,1)) -> 44743 | C45: =IF(WEEKDAY(B45,2)=6,B45+2,B45+1) -> 44744 | D45: =IF(WEEKDAY(C45,2)=6,C45+2,C45+1) -> 44746 | E45: =IF(WEEKDAY(D45,2)=6,D45+2,D45+1) -> 44747 | F45: =IF(WEEKDAY(E45,2)=6,E45+2,E45+1) -> 44748 | G45: =IF(WEEKDAY(F45,2)=6,F45+2,F45+1) -> 44749 | H45: =IF(WEEKDAY(G45,2)=6,G45+2,G45+1) -> 44750 | I45: =IF(WEEKDAY(H45,2)=6,H45+2,H45+1) -> 44751 | J45: =IF(WEEKDAY(I45,2)=6,I45+2,I45+1) -> 44753 | ... AB45: =IF(WEEKDAY(AA45,2)=6,AA45+2,AA45+1) -> 44774
...

Sheet FERIES
B2: 2021 | D2: Pâques | F2: 2020 | H2: Pâques
B3: =DATE($B$2,1,1) -> 44197 | D3: =ROUND(DATE(B2, 4, MOD(234-11*MOD(B2, 19), 30))/7, 0)*7-6 -> 44290 | F3: =DATE($F$2,1,1) -> 43831 | H3: =ROUND(DATE(F2, 4, MOD(234-11*MOD(F2, 19), 30))/7, 0)*7-6 -> 43933
B4: =DATE($B$2,5,1) -> 44317 | F4: =DATE($F$2,5,1) -> 43952
B5: =DATE($B$2,5,8) -> 44324 | F5: =DATE($F$2,5,8) -> 43959
B6: =DATE($B$2,7,14) -> 44391 | F6: =DATE($F$2,7,14) -> 44026
B7: =DATE($B$2,8,15) -> 44423 | F7: =DATE($F$2,8,15) -> 44058
B8: =DATE($B$2,11,1) -> 44501 | F8: =DATE($F$2,11,1) -> 44136
B9: =DATE($B$2,11,11) -> 44511 | F9: =DATE($F$2,11,11) -> 44146
B10: =DATE($B$2,12,25) -> 44555 | F10: =DATE($F$2,12,25) -> 44190
B11: =D3+1 -> 44291 | F11: =H3+1 -> 43934
B12: =D3+39 -> 44329 | F12: =H3+39 -> 43972
B13: =D3+50 -> 44340 | F13: =H3+50 -> 43983
B16: 2022 | D16: Pâques
B17: =DATE($B$16,1,1) -> 44562 | D17: =ROUND(DATE(B16, 4, MOD(234-11*MOD(B16, 19), 30))/7, 0)*7-6 -> 44668
B18: =DATE(B16,5,1) -> 44682
B19: =DATE($B$16,5,8) -> 44689
B20: =DATE($B$16,7,14) -> 44756
B21: =DATE($B$16,8,15) -> 44788
B22: =DATE($B$16,11,1) -> 44866
B23: =DATE($B$16,11,11) -> 44876
B24: =DATE($B$16,12,25) -> 44920
B25: =D17+1 -> 44669
B26: =D17+39 -> 44707
B27: =D17+50 -> 44718
B30: 2023 | D30: Pâques
B31: =DATE($B$30,1,1) -> 44927 | D31: =ROUND(DATE(B30, 4, MOD(234-11*MOD(B30, 19), 30))/7, 0)*7-6 -> 45025
B32: =DATE($B$30,5,1) -> 45047
B33: =DATE($B$30,5,8) -> 45054
B34: =DATE($B$30,7,14) -> 45121
B35: =DATE($B$30,8,15) -> 45153
B36: =DATE($B$30,11,1) -> 45231
B37: =DATE($B$30,11,11) -> 45241
B38: =DATE($B$30,12,25) -> 45285
B39: =D31+1 -> 45026
B40: =D31+39 -> 45064
B41: =D31+50 -> 45075
B44: 2024 | D44: Pâques
B45: =DATE($B$44,1,1) -> 45292 | D45: =ROUND(DATE(B44, 4, MOD(234-11*MOD(B44, 19), 30))/7, 0)*7-6 -> 45382
B46: =DATE($B$44,5,1) -> 45413
B47: =DATE($B$44,5,8) -> 45420
...

Sheet 2021
A1: Planning | H1: Total Congés sur l'année | M1: Total Maladie sur l'année
H3: Charlotte | I3: Alex | J3: Liza | K3: Mélanie | M3: Charlotte | N3: Alex | O3: Liza | P3: Mélanie
E4: Année | F4: 2021 | H4: =COUNTIF(C6:C1048576,"CP") -> 2 | I4: =COUNTIF(D6:D1048576,"CP") -> 1 | J4: =COUNTIF(E6:E1048576,"CP") -> 0 | K4: =COUNTIF(F6:F1048576,"CP") -> 0 | M4: =COUNTIF(C6:C1048576,"M") -> 0 | N4: =COUNTIF(D6:D1048576,"M") -> 0 | O4: =COUNTIF(E6:E1048576,"M") -> 1 | P4: =COUNTIF(F6:F1048576,"M") -> 0
A6: Sem | B6: Jour | C6: Charlotte | D6: Alex | E6: Liza | F6: Mélanie
A7: =WEEKNUM(B7,21) -> 53 | B7: =IF(WEEKDAY(DATE(F4,1,1),2)=7,DATE(F4,1,1)+1,DATE(F4,1,1)) -> 44197 | G7: =IF(COUNTIF(C7:F7,"CP")>=2,"X","")
A8: =WEEKNUM(B8,21) -> 53 | B8: =IF(WEEKDAY(B7,2)=6,B7+2,B7+1) -> 44198 | C8: CP | G8: =IF(COUNTIF(C8:F8,"CP")>=2,"X","")
A9: =WEEKNUM(B9,21) -> 1 | B9: =IF(WEEKDAY(B8,2)=6,B8+2,B8+1) -> 44200 | C9: CP | D9: CP | E9: M | G9: =IF(COUNTIF(C9:F9,"CP")>=2,"X","") -> X
A10: =WEEKNUM(B10,21) -> 1 | B10: =IF(WEEKDAY(B9,2)=6,B9+2,B9+1) -> 44201 | G10: =IF(COUNTIF(C10:F10,"CP")>=2,"X","")
A11: =WEEKNUM(B11,21) -> 1 | B11: =IF(WEEKDAY(B10,2)=6,B10+2,B10+1) -> 44202 | G11: =IF(COUNTIF(C11:F11,"CP")>=2,"X","")
A12: =WEEKNUM(B12,21) -> 1 | B12: =IF(WEEKDAY(B11,2)=6,B11+2,B11+1) -> 44203 | G12: =IF(COUNTIF(C12:F12,"CP")>=2,"X","")
A13: =WEEKNUM(B13,21) -> 1 | B13: =IF(WEEKDAY(B12,2)=6,B12+2,B12+1) -> 44204 | G13: =IF(COUNTIF(C13:F13,"CP")>=2,"X","")
A14: =WEEKNUM(B14,21) -> 1 | B14: =IF(WEEKDAY(B13,2)=6,B13+2,B13+1) -> 44205 | G14: =IF(COUNTIF(C14:F14,"CP")>=2,"X","")
A15: =WEEKNUM(B15,21) -> 2 | B15: =IF(WEEKDAY(B14,2)=6,B14+2,B14+1) -> 44207 | G15: =IF(COUNTIF(C15:F15,"CP")>=2,"X","")
A16: =WEEKNUM(B16,21) -> 2 | B16: =IF(WEEKDAY(B15,2)=6,B15+2,B15+1) -> 44208 | G16: =IF(COUNTIF(C16:F16,"CP")>=2,"X","")
A17: =WEEKNUM(B17,21) -> 2 | B17: =IF(WEEKDAY(B16,2)=6,B16+2,B16+1) -> 44209 | G17: =IF(COUNTIF(C17:F17,"CP")>=2,"X","")
A18: =WEEKNUM(B18,21) -> 2 | B18: =IF(WEEKDAY(B17,2)=6,B17+2,B17+1) -> 44210 | G18: =IF(COUNTIF(C18:F18,"CP")>=2,"X","")
A19: =WEEKNUM(B19,21) -> 2 | B19: =IF(WEEKDAY(B18,2)=6,B18+2,B18+1) -> 44211 | G19: =IF(COUNTIF(C19:F19,"CP")>=2,"X","")
A20: =WEEKNUM(B20,21) -> 2 | B20: =IF(WEEKDAY(B19,2)=6,B19+2,B19+1) -> 44212 | G20: =IF(COUNTIF(C20:F20,"CP")>=2,"X","")
A21: =WEEKNUM(B21,21) -> 3 | B21: =IF(WEEKDAY(B20,2)=6,B20+2,B20+1) -> 44214 | G21: =IF(COUNTIF(C21:F21,"CP")>=2,"X","")
... A319: =WEEKNUM(B319,21) -> 52 | B319: =IF(WEEKDAY(B318,2)=6,B318+2,B318+1) -> 44561 | G319: =IF(COUNTIF(C319:F319,"CP")>=2,"X","")
